Workbook
Name 二类: #REF!
Name 三类: #REF!
Name 四类: #REF!
Name 一类: #REF!

Sheet 速算报价书
B6: 保 险 方 案 报 价 书
G22: =D48 -> 测试保单
G24: =TODAY() -> 46188
B38: 本保障方案由 国泰财产保险有限责任公司 承保并提供理赔服务
B46: 产品名称： | D46: 泰燕飞天建工意外险
B48: 客户名称： | D48: 测试保单
B51: 保障方案 | G51: 工程信息
B52: 主险必选保障项目 | L52: 费率取值 | M52: 调整系数
B54: 建筑施工人员意外身故/伤残 | D54: 100 | F54: 万元 | G54: 工程类型 | I54: 室内装修工程（无室外） | L54: =IF(AND(D54>70,M54>0.9),"不支持",INDEX(费率表!A2:E11,MATCH(D54,费率表!A2:A11,0),MATCH(费率表!H2,费率表!A2:E2,0))) -> 0.0061 | M54: =VLOOKUP(I54,费率表!A34:B36,2,FALSE) -> 0.9
B56: 附加可选保障项目 | G56: 分包类型 | I56: 总承包、专业承包 | M56: =VLOOKUP(I56,费率表!A40:B41,2,FALSE) -> 1
B58: 附加建筑工程施工人员意外伤害医疗 （100元免赔，100%赔付） | D58: 10 | F58: 万元 | G58: 工程造价（元） 造价范围：10万（不含）-1亿（含） | I58: 110000 | L58: =IF(OR(AND(D58>7,M54>0.9),D58>0.1*D54),"不支持",INDEX(费率表!A14:E24,MATCH(D58,费率表!A14:A24,0),MATCH(费率表!H2,费率表!A14:E14,0))) -> 0.0061
B60: 意外住院津贴 （免赔3天，每次最长30天，累计最长180天 ） | D60: 0 | F60: 元/天 | G60: 保险期限 不承保工期超过24个月的工程项目 | I60: 1个月（含）以下 | L60: =VLOOKUP(D60,费率表!A27:B29,2,FALSE) -> 0 | M60: =VLOOKUP(I60,费率表!A45:B48,2,FALSE) -> 0.8
G62: 施工地区 | I62: 其他省份 （不含四川） | M62: =VLOOKUP(I62,费率表!A52:B54,2,FALSE) -> 1
B64: 总保费： | D64: =MAX(I64,500) -> 966.24 | I64: =IFERROR(I58*(L54+L58)*(1+L60)*M56*M60*M62*M54,"条件不符") -> 966.24
B66: 特别约定
B67: 1.本方案仅承保工程造价在10万-1亿之间的工程。 2.投保人即工程承包人不得为个人；且施工单位必须具备三级及三级以上相关施工资质。 3.本方案被保险人年龄为16-65周岁，身体健康、能正常工作或劳动的、从事建筑管理或作业、并与施工企业建立劳动关系的人员，不符合地方政府有关年龄规定的人员不承担保险责任。 4.每张保单最低收费500元。 5.本保单仅承保保单中列明的工程，包括民用建筑工程或室内装修（包括住宅、医院、老年建筑、幼儿园、学校教室、办公楼、厂房、商店、旅馆、文化娱乐场所、书店、图书馆、展览馆、体育馆、公共交通等候室、餐厅、理发店等建造和室内装修工程），不承保高架、桥梁、隧道、涵洞、水利工程建设、强压电/高压电工程、拆除工程、旧房改造、私人建房、铁路架设、公路建设、核电站建造、地下（矿/井下）施工、海上/码头施工项目，同时不承接玻璃，金属等光滑表面的幕墙工程。 6.根据《特种作业人员安全技术培训考核管理规定》（国家安全生产监督管理总局第30号令）被保险人从事高处作业时，必须按照相关行业安全管理规定（包括但不限于必须佩带安全绳、安全带或安装防护网架等安全设施设备）开展作业活动。高处作业以《高处作业分级标准》（中华人民共和国国家标准GB/T3608－2008）中的定义为准。对于违反上述规定的，本保险公司对可能发生的人身伤亡及医疗费用不承担赔偿责任。除高处作业外，其他未取得对应的特种作业证书进行特种作业操作引起的意外事故，保险公司不承担保险责任，特种作业定义以《特种作业人员安全技术培训考核管理规定》为准。 7.高空作业30米及以上或10层以上作业不予承保。距着落点7米以上高空作业为除外责任。 8.本保险仅承保被保险人从事建筑施工及与建筑施工相关的工作，或在施工现场或施工指定的生活区域内发生的保险事故，否则保险公司不承担保险责任。施工区域和生活区域以承保时投保人提供的施工合同和（或）施工图样说明为准。 9.工程如存在转分包，理赔时应提供正式的转分包合同，非法转分包引起的保险事故属除外责任。总包合同造价需包含工程所涉及的所有材料造价。 10.保险期间自施工工程项目被批准正式开工，并且投保人已交付保险费的次日(或约定保险期间开始之日)零时起至施工合同规定的工程竣工之日止。若施工合同未注明工程竣工日，保险止期以保单上载明的保险期间为准。 11.本保单为不记名承保，理赔时以出险当月企业工资银行转账表（需员工签字）或劳动合同记载的人员为准 12.本方案约定的意外伤害事故索赔时，在同一事故当中： （1）发生两人或两人以上死亡或残疾的，申请理赔时需提供安全监督管理部门的事故证明文件； （2）发生一人身故或残疾，投保人需在24小时内报案，在可以确认保险事故原因和性质的情况下，理赔时可以不再出具安全监督管理部门的事故证明文件，但需提供理赔要求的其他合法有效资料； （3）非身故及残疾的案件，理赔时可以不再出具安全监督管理部门的事故证明文件。 13.意外伤害残疾赔付标准：按照《人身保险伤残评定标准（行业标准）（中保协发〔2013〕88号）》中意外伤害残疾一至十级对应给付比例分别为意外伤害保额的100%，90%，80%，70%，60%，50%，40%，30%，20%，10%。 14.如保障方案中选择意外医疗责任，意外医疗按照所支出的符合本保险单签发地的社会基本医疗保险范围的必需且合理的的实际医疗费用免赔100元后按100%比例给付，意外医疗保额最高不超过意外身故、意外残疾保额的10%。 15.如保障方案中选择意外住院津贴责任，意外住院津贴免赔3天，每次事故给付限30天，保险期间内累计给付限180天。 16.投保时须上传盖有发包人及承包人双方公章的建工合同/建筑工程中标书、施工资质证书和营业执照扫描件（如投保时无法提供完整资料，可在投保后补录，但理赔申请前必须补录完毕）；建工合同或中标通知书的内容包含但不限于投保单位、工程项目名称、工程地址、工程类型、工程造价、工程面积、工程期限等。 17.本保单不承保任何以劳务分包形式的作业的工程项目。 18.如投保录入项和上传扫描件与实际工程情况不符，则保险公司有权以投保人未如实告知重大事项为由解除保险合同并不承担任何保险责任。若投保人投保工程造价低于实际工程造价，发生意外伤害事故时保险人按投保工程造价与实际造价的比例进行赔付。 19.本保险方案不承保工期超过24个月的工程项目。 20.投保身故、残疾保额80万（含）以上的方案时，在涉及死亡或伤残的索赔时，需要提供相关的进场证明文件、安全监督管理部门的事故证明文件和盖有发包人及承包人双方公章的施工合同。
P130: 医疗
P131: 0
P132: 1
P133: =IF(D54*0.1<2,"",2) -> 2
P134: =IF(D54*0.1<3,"",3) -> 3
P135: =IF(D54*0.1<4,"",4) -> 4
P136: =IF(D54*0.1<5,"",5) -> 5
P137: =IF(D54*0.1<6,"",6) -> 6
P138: =IF(D54*0.1<7,"",7) -> 7
O139: 意外津贴 | P139: =IF(D54*0.1<8,"",8) -> 8
O140: 0 | P140: =IF(D54*0.1<9,"",9) -> 9
O141: 50 | P141: =IF(D54*0.1<10,"",10) -> 10
O142: 100

Sheet 费率表
A1: 必选 | B1: 工程造价
A2: 身故残疾 | B2: 10万（不含）-100万（含） | C2: 100万（不含）-500万（含） | D2: 500万（不含）-1000万（含） | E2: 1000万（不含）-1亿（含） | H2: =IF(速算报价书!I58>10000000,E2,IF(速算报价书!I58>5000000,D2,IF(速算报价书!I58>1000000,C2,B2))) -> 10万（不含）-100万（含）
A3: 10 | B3: 0.0009 | C3: 0.0007 | D3: 0.0005 | E3: 0.0003
A4: 20 | B4: 0.001 | C4: 0.0009 | D4: 0.0007 | E4: 0.0005
A5: 30 | B5: 0.0015 | C5: 0.001 | D5: 0.0009 | E5: 0.0007
A6: 40 | B6: 0.0025 | C6: 0.0015 | D6: 0.001 | E6: 0.0009
A7: 50 | B7: 0.003 | C7: 0.0021 | D7: 0.0013 | E7: 0.001
A8: 60 | B8: 0.0038 | C8: 0.0022 | D8: 0.0017 | E8: 0.0013
A9: 70 | B9: 0.0045 | C9: 0.0024 | D9: 0.0019 | E9: 不支持
A10: 80 | B10: 0.0052 | C10: 0.0027 | D10: 0.0021 | E10: 不支持
A11: 100 | B11: 0.0061 | C11: 0.0033 | D11: 0.0026 | E11: 不支持
A13: 可选 | B13: 工程造价
A14: 意外医疗 | B14: 10万（不含）-100万（含） | C14: 100万（不含）-500万（含） | D14: 500万（不含）-1000万（含） | E14: 1000万（不含）-1亿（含）
A15: 0 | B15: 0 | C15: 0 | D15: 0 | E15: 0
A16: 1 | B16: 0.0006 | C16: 0.0004 | D16: 0.0003 | E16: 0.0002
A17: 2 | B17: 0.0007 | C17: 0.0006 | D17: 0.0004 | E17: 0.0003
A18: 3 | B18: 0.001 | C18: 0.0007 | D18: 0.0006 | E18: 0.0004
A19: 4 | B19: 0.0025 | C19: 0.001 | D19: 0.0007 | E19: 0.0005
A20: 5 | B20: 0.0035 | C20: 0.0025 | D20: 0.001 | E20: 0.0007
A21: 6 | B21: 0.004 | C21: 0.003 | D21: 0.0025 | E21: 0.002
A22: 7 | B22: 0.0045 | C22: 0.0035 | D22: 0.003 | E22: 不支持
A23: 8 | B23: 0.005 | C23: 0.004 | D23: 0.0035 | E23: 不支持
A24: 10 | B24: 0.0061 | C24: 0.0047 | D24: 0.004 | E24: 不支持
A26: 意外住院津贴
A27: 0 | B27: 0
A28: 50 | B28: 0.1
A29: 100 | B29: 0.2
A32: A、工程类型调整系数：
A33: 工程类型 | B33: 调整系数
A34: 室内装修工程（无室外） | B34: 0.9
A35: 室外装修工程（幕墙除外） | B35: 1.8
A36: 楼宇等其他工程 | B36: 1
A38: B、承保范围调整系数：
A39: 承保范围类型 | B39: 调整系数
A40: 专业分包 | B40: 1.5
A41: 总承包、专业承包 | B41: 1
A43: C、工期调整系数：（工期以施工合同为准）
A44: 工程期限 | B44: 调整系数
A45: 1个月（含）以下 | B45: 0.8
A46: 1个月以上至6个月（含） | B46: 0.9
A47: 6个月以上至12个月（含） | B47: 1
A48: 12个月以上至24个月（含） | B48: 1.3
A50: D、地区调整系数：
A51: 地区 | B51: 调整系数
A52: 东北三省 | B52: 1.2
A53: 云南、贵州、四川 | B53: 1.8
A54: 其他省份 （不含四川） | B54: 1
