{"text_format":"1","workbook":"xlsx","n_sheets":6,"sheets":["填写页面","利益演示","计划书","展示表","封底","sh1"],"not_rendered":{"charts":0,"images":4,"macros":1,"external_links":0,"defined_names":2,"comments":0,"pivot_tables":0},"unopened":[],"bounds":{"document_bytes":16777216,"sheet_cells":100000,"rows_first":2000,"rows_last":500,"rows_between":2000,"halvings":0,"cell_chars":16384,"cell_head_chars":4096},"cells_cut":0,"cells_raw":0,"read":"whole","date_system":"1900"}

{"sheet":"填写页面","index":0,"n_rows":25,"n_cols":19,"rows_kept":25,"cut":false,"hidden":false,"merged":[[4,1,4,5],[15,1,15,15],[16,1,16,2],[16,3,16,5],[16,6,16,7],[16,8,16,10],[16,11,16,12],[16,13,16,15],[17,1,17,15],[18,1,18,2],[18,3,18,15],[19,1,19,2],[19,3,19,5],[19,6,19,7],[19,8,19,10],[19,11,19,12],[19,13,19,15],[20,1,20,15],[21,1,21,5],[21,6,21,7],[21,8,21,10],[21,11,21,12],[21,13,21,15],[22,1,22,5],[22,6,22,7],[22,8,22,10],[22,11,22,12],[22,13,22,15],[23,1,23,5],[23,6,23,10],[23,11,23,12],[23,13,23,15],[24,1,24,5],[24,6,24,10],[24,11,24,12],[24,13,24,15],[12,1,13,5],[0,1,1,15],[5,1,7,5],[8,1,9,5],[10,1,11,5]]}
[null,"永鑫年年+智胜宝保险计划书生成器"]
[]
[]
[null,"计划书生成器使用说明："]
[null,"1、请在下列黄色单元格中填写代理人、客户和投保险种的相关信息"]
[null,"2、信息填写完成后，后续利益演示表中的内容会通过计算自动生成（计算时间会根据您所使用电脑的性能而定，每次计算约5-20秒，计算期间电脑会出现卡顿的情况，请耐心等候）"]
[]
[]
[null,"3、计算完毕，您可查看后续利益演示表中的内容，如果觉得合适则可点击旁边的“点击生成PDF计划书按钮”来生成PDF计划书"]
[]
[null,"4、已生成的计划书会放在电脑D盘的根目录中，文件名命名规则为：投保人姓名-永鑫年年年金保险计划-生成时间"]
[]
[null,"5、为避免在生成PDF文件时可能出现的格式兼容问题，建议使用Excel2013或其后续版本来生成PDF计划书"]
[]
[]
[null,"代理人基本信息"]
[null,"代理公司名称",null,"永鑫",null,null,"代理人姓名",null,"金先生",null,null,"联系电话",null,"13900000000"]
[null,"客户基本信息"]
[null,"投保人姓名",null,"金先生"]
[null,"被保人姓名",null,"金先生",null,null,"被保人年龄",null,15,null,null,"被保人性别",null,"男",null,null,null,null,"男"]
[null,"投保险种信息",null,null,null,null,null,null,null,null,null,null,null,null,null,null,null,null,"女"]
[null,"险种名称",null,null,null,null,"保险期间",null,"基本保额",null,null,"交费年期",null,"年交保费"]
[null,"珠江永鑫年年年金保险",null,null,null,null,"10年",null,{"$f":"利益演示!F11","v":158704.2},null,null,5,null,180000]
[null,"险种名称",null,null,null,null,"保险期间",null,null,null,null,"交费年期",null,"一次性保费"]
[null,"珠江智胜宝终身寿险（万能型）",null,null,null,null,"终身",null,null,null,null,"趸交",null,1000]

{"sheet":"利益演示","index":1,"n_rows":116,"n_cols":50,"rows_kept":116,"cut":false,"hidden":false,"merged":[[2,0,2,4],[3,0,3,4],[4,0,4,4],[7,3,7,14],[7,15,7,48],[8,21,8,23],[8,31,8,36],[8,37,8,42],[8,43,8,48],[7,0,9,0],[7,1,9,1],[7,2,9,2],[8,3,9,3],[8,4,9,4],[8,5,9,5],[8,6,9,6],[8,7,9,7],[8,8,9,8],[8,9,9,9],[8,10,9,10],[8,11,9,11],[8,12,9,12],[8,13,9,13],[8,14,9,14],[8,15,9,15],[8,16,9,16],[8,17,9,17],[8,18,9,18],[8,19,9,19],[8,20,9,20],[8,24,9,24],[8,25,9,25],[8,26,9,26],[8,27,9,27],[8,28,9,28],[8,29,9,29],[8,30,9,30]]}
[]
[]
["被保人信息",null,null,null,null,"年龄",{"$f":"填写页面!I20","v":15},"被保人性别",{"$f":"填写页面!N20","v":"男"},null,{"$f":"MATCH($AX$11,'sh1'!$K$2:$K$4061,0)","v":1521},null,null,null,{"$f":"$F$11/SUM($D$11:$D$20)","v":0.176338}]
["珠江永鑫年年年金保险",null,null,null,null,"交费年期",{"$f":"填写页面!L23","v":5},"年交保费",{"$f":"填写页面!N23","v":180000}]
["珠江智胜宝终身寿险（万能型）",null,null,null,null,"交费年期","趸交","一次性保费",{"$f":"填写页面!N25","v":1000}]
[]
[]
["保单年度","年龄","年末年龄","年金利益演示区域",null,null,null,null,null,null,null,null,null,null,null,"万能利益演示区域"]
[null,null,null,"年度保险费","累计保险费","基本保额","保单年度末现金价值","身故保险金","特别生存保险金（保单年度末）","生存保险金（保单年度末）","减保要求领取的现金价值","减保后的现价","领取现金价值对应减少的保额","减保后的基本保额","减少保额后的对应的原保费","一次性交纳的保险费","追加保险费","转入保险费","累计保险费","初始费用","进入万能账户价值（期初）","风险保险费（期初）",null,null,"持续奖金\n（期初）","部分领取实到金额","部分领取实际扣除账户价值","部分领取累计实际扣除账户价值","累计保费-累计部分领取账户价值","基本保险金额（初）","基本保险金额（末）","低档（最低保证利率3%）",null,null,null,null,null,"中档（4.5%）",null,null,null,null,null,"高档（6%）"]
[null,null,null,null,null,null,null,null,null,null,null,null,null,null,null,null,null,null,null,null,null,"低","中","高",null,null,null,null,null,null,null,"万能险账户价值（初）","保单年度末\n账户价值","保单年度末\n现金价值","万能险身故保额（初）","保单年度末\n身故保险金","风险保额（初）","万能险账户价值（初）","保单年度末\n账户价值","保单年度末\n现金价值","万能险身故保额（初）","保单年度末\n身故保险金","风险保额（初）","万能险账户价值（初）","保单年度末\n账户价值","保单年度末\n现金价值","万能险身故保额（初）","保单年度末\n身故保险金","风险保额（初）"]
[1,{"$f":"$G$3+A11-1","v":15},{"$f":"$G$3+A11","v":16},{"$f":"IF(A11<=$G$4,$I$4,\"\")","v":180000},{"$f":"SUM($D$11:D11)","v":180000},{"$f":"SUM(($G$3='sh1'!$D$2:$D$4061)*(IF($I$3=\"男\",0,1)='sh1'!$C$2:$C$4061)*($G$4='sh1'!$B$2:$B$4061)*(A11='sh1'!$F$2:$F$4061)*('sh1'!$G$2:$G$4061))*($I$4/1000)","v":158704.2},{"$f":"SUM(($AX11='sh1'!$K$2:$K$4061)*('sh1'!$H$2:$H$4061))*($I$4/1000)","v":102778.2},{"$f":"IF($A11>10,0,IF($G11<$E11,$E11,$G11))","v":180000},{"$f":"IF(OR($A11=5,$A11=6),VLOOKUP($G$4,'sh1'!$N$2:$O$4,2,0)*$O11,0)","v":0},{"$f":"IF(AND($A11>=7,$A11<=10),$N11,0)","v":0},null,{"$f":"SUM(($AX11='sh1'!$K$2:$K$4061)*('sh1'!$H$2:$H$4061))*($I$4/1000)","v":102778.2},null,{"$f":"INDEX('sh1'!$J$2:$J$4061,$K$3+$A11-1)*$L11","v":158704.2},{"$f":"$N11/$O$3/COUNTIF($D$11:$D$20,\">0\")","v":180000},{"$f":"$I$5","v":1000},null,0,{"$f":"SUM($R$11:R11,$P$11:P11,$Q$11:Q11)","v":1000},{"$f":"-($P11+$Q11)*2%-$R11*1%","v":-20},{"$f":"$R11+$P11+$Q11+$T11","v":980},{"$f":"SUM(($B11='sh1'!$R$3:$R$214)*(IF($I$3=\"男\",0,1)='sh1'!$Q$3:$Q$214)*('sh1'!$S$3:$S$214))/1000*AK11","v":0.0616},{"$f":"SUM(($B11='sh1'!$R$3:$R$214)*(IF($I$3=\"男\",0,1)='sh1'!$Q$3:$Q$214)*('sh1'!$S$3:$S$214))/1000*AQ11","v":0.0616},{"$f":"SUM(($B11='sh1'!$R$3:$R$214)*(IF($I$3=\"男\",0,1)='sh1'!$Q$3:$Q$214)*('sh1'!$S$3:$S$214))/1000*AW11","v":0.0616},{"$f":"IF($A11=7,(SUM(#REF!)+SUM(#REF!))*1%,IF($A11>=8,($I9+$J9)*1%,0))","v":0},null,{"$f":"-$Z11/VLOOKUP($A11,'sh1'!$N$7:$O$12,2,1)","v":0},{"$f":"SUM($AA$11:AA11)","v":0},{"$f":"$S11+$AB11","v":1000},{"$f":"$S11+$AB10","v":1000},{"$f":"$S11+$AB11","v":1000},{"$f":"$U11","v":980},{"$f":"($AF11-V11)*(1+3%)-$Z11/VLOOKUP($A11,'sh1'!$N$7:$O$12,2,1)","v":1009.336552},{"$f":"IF($A11=1,95%*$AG11,IF($A11=2,97%*$AG11,IF($A11=3,98%*$AG11,IF(OR($A11=4,$A11=5),$AG11*99%,$AG11))))","v":958.8697244},{"$f":"IF($AF11<VLOOKUP($B11,'sh1'!$N$16:$O$19,2,1)*$AD11,VLOOKUP($B11,'sh1'!$N$16:$O$19,2,1)*$AD11,$AF11)","v":1200},{"$f":"IF($AG11<VLOOKUP($B11,'sh1'!$N$16:$O$19,2,1)*$AE11,VLOOKUP($B11,'sh1'!$N$16:$O$19,2,1)*$AE11,$AG11)","v":1200},{"$f":"AI11-AF11","v":220},{"$f":"$U11","v":980},{"$f":"($AL11-W11)*(1+4.5%)-$Z11/VLOOKUP($A11,'sh1'!$N$7:$O$12,2,1)","v":1024.035628},{"$f":"IF($A11=1,95%*$AM11,IF($A11=2,97%*$AM11,IF($A11=3,98%*$AM11,IF(OR($A11=4,$A11=5),$AM11*99%,$AM11))))","v":972.8338466},{"$f":"IF($AL11<VLOOKUP($B11,'sh1'!$N$16:$O$19,2,1)*$AD11,VLOOKUP($B11,'sh1'!$N$16:$O$19,2,1)*$AD11,$AL11)","v":1200},{"$f":"IF($AM11<VLOOKUP($B11,'sh1'!$N$16:$O$19,2,1)*$AE11,VLOOKUP($B11,'sh1'!$N$16:$O$19,2,1)*$AE11,$AM11)","v":1200},{"$f":"AO11-AL11","v":220},{"$f":"$U11","v":980},{"$f":"($AR11-X11)*(1+6%)-$Z11/VLOOKUP($A11,'sh1'!$N$7:$O$12,2,1)","v":1038.734704},{"$f":"IF($A11=1,95%*$AS11,IF($A11=2,97%*$AS11,IF($A11=3,98%*$AS11,IF(OR($A11=4,$A11=5),$AS11*99%,$AS11))))","v":986.7979688},{"$f":"IF($AR11<VLOOKUP($B11,'sh1'!$N$16:$O$19,2,1)*$AD11,VLOOKUP($B11,'sh1'!$N$16:$O$19,2,1)*$AD11,$AR11)","v":1200},{"$f":"IF($AS11<VLOOKUP($B11,'sh1'!$N$16:$O$19,2,1)*$AE11,VLOOKUP($B11,'sh1'!$N$16:$O$19,2,1)*$AE11,$AS11)","v":1200},{"$f":"AU11-AR11","v":220},{"$f":"$G$4&\"|\"&(IF($I$3=\"男\",0,1))&\"|\"&$G$3&\"|\"&A11","v":"5|0|15|1"}]
[2,{"$f":"$G$3+A12-1","v":16},{"$f":"$G$3+A12","v":17},{"$f":"IF(A12<=$G$4,$I$4,\"\")","v":180000},{"$f":"SUM($D$11:D12)","v":360000},{"$f":"SUM(($G$3='sh1'!$D$2:$D$4061)*(IF($I$3=\"男\",0,1)='sh1'!$C$2:$C$4061)*($G$4='sh1'!$B$2:$B$4061)*(A12='sh1'!$F$2:$F$4061)*('sh1'!$G$2:$G$4061))*($I$4/1000)","v":158704.2},{"$f":"SUM(($AX12='sh1'!$K$2:$K$4061)*('sh1'!$H$2:$H$4061))*($I$4/1000)","v":267505.2},{"$f":"IF($A12>10,0,IF($G12<$E12,$E12,$G12))","v":360000},{"$f":"IF(OR($A12=5,$A12=6),VLOOKUP($G$4,'sh1'!$N$2:$O$4,2,0)*$O12,0)","v":0},{"$f":"IF(AND($A12>=7,$A12<=10),$N12,0)","v":0},null,{"$f":"SUM(($AX12='sh1'!$K$2:$K$4061)*('sh1'!$H$2:$H$4061))*($I$4/1000)","v":267505.2},null,{"$f":"INDEX('sh1'!$J$2:$J$4061,$K$3+$A12-1)*$L12","v":158704.2},{"$f":"$N12/$O$3/COUNTIF($D$11:$D$20,\">0\")","v":180000},null,null,{"$f":"$I11+$J11","v":0},{"$f":"SUM($R$11:R12,$P$11:P12,$Q$11:Q12)","v":1000},{"$f":"-($P12+$Q12)*2%-$R12*1%","v":0},0,{"$f":"SUM(($B12='sh1'!$R$3:$R$214)*(IF($I$3=\"男\",0,1)='sh1'!$Q$3:$Q$214)*('sh1'!$S$3:$S$214))/1000*AK12","v":0.0571990344},{"$f":"SUM(($B12='sh1'!$R$3:$R$214)*(IF($I$3=\"男\",0,1)='sh1'!$Q$3:$Q$214)*('sh1'!$S$3:$S$214))/1000*AQ12","v":0.0527893116},{"$f":"SUM(($B12='sh1'!$R$3:$R$214)*(IF($I$3=\"男\",0,1)='sh1'!$Q$3:$Q$214)*('sh1'!$S$3:$S$214))/1000*AW12","v":0.0483795888},{"$f":"IF($A12=7,(SUM($I1:$I10)+SUM($J1:$J10))*1%,IF($A12>=8,($I10+$J10)*1%,0))","v":0},null,{"$f":"-$Z12/VLOOKUP($A12,'sh1'!$N$7:$O$12,2,1)","v":0},{"$f":"SUM($AA$11:AA12)","v":0},{"$f":"$S12+$AB12","v":1000},{"$f":"$S12+$AB11","v":1000},{"$f":"$S12+$AB12","v":1000},{"$f":"$AG11+$U12+$Y12","v":1009.336552},{"$f":"($AF12-$V12)*(1+3%)-$Z12/VLOOKUP($A12,'sh1'!$N$7:$O$12,2,1)","v":1039.55773355457},{"$f":"IF($A12=1,95%*$AG12,IF($A12=2,97%*$AG12,IF($A12=3,98%*$AG12,IF(OR($A12=4,$A12=5),$AG12*99%,$AG12))))","v":1008.37100154793},{"$f":"IF($AG11<VLOOKUP($B12,'sh1'!$N$16:$O$19,2,1)*$AD12,VLOOKUP($B12,'sh1'!$N$16:$O$19,2,1)*$AD12,$AG11)","v":1200},{"$f":"IF($AG12<VLOOKUP($B12,'sh1'!$N$16:$O$19,2,1)*$AE12,VLOOKUP($B12,'sh1'!$N$16:$O$19,2,1)*$AE12,$AG12)","v":1200},{"$f":"IF(AI12-AG11-U12<0,0,AI12-AG11-U12)","v":190.663448},{"$f":"$AM11+$U12+$Y12","v":1024.035628},{"$f":"($AL12-W12)*(1+4.5%)-$Z12/VLOOKUP($A12,'sh1'!$N$7:$O$12,2,1)","v":1070.06206642938},{"$f":"IF($A12=1,95%*$AM12,IF($A12=2,97%*$AM12,IF($A12=3,98%*$AM12,IF(OR($A12=4,$A12=5),$AM12*99%,$AM12))))","v":1037.9602044365},{"$f":"IF($AM11<VLOOKUP($B12,'sh1'!$N$16:$O$19,2,1)*$AD12,VLOOKUP($B12,'sh1'!$N$16:$O$19,2,1)*$AD12,$AM11)","v":1200},{"$f":"IF($AM12<VLOOKUP($B12,'sh1'!$N$16:$O$19,2,1)*$AE12,VLOOKUP($B12,'sh1'!$N$16:$O$19,2,1)*$AE12,$AM12)","v":1200},{"$f":"IF(AO12-AM11-U12<0,0,AO12-AM11-U12)","v":175.964372},{"$f":"$AS11+$U12+$Y12","v":1038.734704},{"$f":"($AR12-X12)*(1+6%)-$Z12/VLOOKUP($A12,'sh1'!$N$7:$O$12,2,1)","v":1101.00750387587},{"$f":"IF($A12=1,95%*$AS12,IF($A12=2,97%*$AS12,IF($A12=3,98%*$AS12,IF(OR($A12=4,$A12=5),$AS12*99%,$AS12))))","v":1067.9772787596},{"$f":"IF($AS11<VLOOKUP($B12,'sh1'!$N$16:$O$19,2,1)*$AD12,VLOOKUP($B12,'sh1'!$N$16:$O$19,2,1)*$AD12,$AS11)","v":1200},{"$f":"IF($AS12<VLOOKUP($B12,'sh1'!$N$16:$O$19,2,1)*$AE12,VLOOKUP($B12,'sh1'!$N$16:$O$19,2,1)*$AE12,$AS12)","v":1200},{"$f":"IF(AU12-AS11-U12<0,0,AU12-AS11-U12)","v":161.265296},{"$f":"$G$4&\"|\"&(IF($I$3=\"男\",0,1))&\"|\"&$G$3&\"|\"&A12","v":"5|0|15|2"}]
[3,{"$f":"$G$3+A13-1","v":17},{"$f":"$G$3+A13","v":18},{"$f":"IF(A13<=$G$4,$I$4,\"\")","v":180000},{"$f":"SUM($D$11:D13)","v":540000},{"$f":"SUM(($G$3='sh1'!$D$2:$D$4061)*(IF($I$3=\"男\",0,1)='sh1'!$C$2:$C$4061)*($G$4='sh1'!$B$2:$B$4061)*(A13='sh1'!$F$2:$F$4061)*('sh1'!$G$2:$G$4061))*($I$4/1000)","v":158704.2},{"$f":"SUM(($AX13='sh1'!$K$2:$K$4061)*('sh1'!$H$2:$H$4061))*($I$4/1000)","v":453223.8},{"$f":"IF($A13>10,0,IF($G13<$E13,$E13,$G13))","v":540000},{"$f":"IF(OR($A13=5,$A13=6),VLOOKUP($G$4,'sh1'!$N$2:$O$4,2,0)*$O13,0)","v":0},{"$f":"IF(AND($A13>=7,$A13<=10),$N13,0)","v":0},null,{"$f":"INDEX('sh1'!$I$2:$I$4061,$K$3+$A13-1)*$L12-$K13","v":453223.800000001},{"$f":"IF($K13<>0,$N12-$N13,0)","v":0},{"$f":"INDEX('sh1'!$J$2:$J$4061,$K$3+$A13-1)*$L13","v":158704.200000001},{"$f":"$N13/$O$3/COUNTIF($D$11:$D$20,\">0\")","v":180000.000000001},null,null,0,{"$f":"SUM($R$11:R13,$P$11:P13,$Q$11:Q13)","v":1000},{"$f":"-($P13+$Q13)*2%-$R13*1%","v":0},0,{"$f":"SUM(($B13='sh1'!$R$3:$R$214)*(IF($I$3=\"男\",0,1)='sh1'!$Q$3:$Q$214)*('sh1'!$S$3:$S$214))/1000*AK13","v":0.0513415252625383},{"$f":"SUM(($B13='sh1'!$R$3:$R$214)*(IF($I$3=\"男\",0,1)='sh1'!$Q$3:$Q$214)*('sh1'!$S$3:$S$214))/1000*AQ13","v":0.0415801387425991},{"$f":"SUM(($B13='sh1'!$R$3:$R$214)*(IF($I$3=\"男\",0,1)='sh1'!$Q$3:$Q$214)*('sh1'!$S$3:$S$214))/1000*AW13","v":0.0316775987597209},0,null,{"$f":"-$Z13/VLOOKUP($A13,'sh1'!$N$7:$O$12,2,1)","v":0},{"$f":"SUM($AA$11:AA13)","v":0},{"$f":"$S13+$AB13","v":1000},{"$f":"$S13+$AB12","v":1000},{"$f":"$S13+$AB13","v":1000},{"$f":"$AG12+$U13+$Y13","v":1039.55773355457},{"$f":"($AF13-$V13)*(1+3%)-$Z13/VLOOKUP($A13,'sh1'!$N$7:$O$12,2,1)","v":1070.69158379018},{"$f":"IF($A13=1,95%*$AG13,IF($A13=2,97%*$AG13,IF($A13=3,98%*$AG13,IF(OR($A13=4,$A13=5),$AG13*99%,$AG13))))","v":1049.27775211438},{"$f":"IF($AG12<VLOOKUP($B13,'sh1'!$N$16:$O$19,2,1)*$AD13,VLOOKUP($B13,'sh1'!$N$16:$O$19,2,1)*$AD13,$AG12)","v":1200},{"$f":"IF($AG13<VLOOKUP($B13,'sh1'!$N$16:$O$19,2,1)*$AE13,VLOOKUP($B13,'sh1'!$N$16:$O$19,2,1)*$AE13,$AG13)","v":1200},{"$f":"IF(AI13-AG12-U13<0,0,AI13-AG12-U13)","v":160.442266445432},{"$f":"$AM12+$U13+$Y13","v":1070.06206642938},{"$f":"($AL13-W13)*(1+4.5%)-$Z13/VLOOKUP($A13,'sh1'!$N$7:$O$12,2,1)","v":1118.17140817371},{"$f":"IF($A13=1,95%*$AM13,IF($A13=2,97%*$AM13,IF($A13=3,98%*$AM13,IF(OR($A13=4,$A13=5),$AM13*99%,$AM13))))","v":1095.80798001024},{"$f":"IF($AM12<VLOOKUP($B13,'sh1'!$N$16:$O$19,2,1)*$AD13,VLOOKUP($B13,'sh1'!$N$16:$O$19,2,1)*$AD13,$AM12)","v":1200},{"$f":"IF($AM13<VLOOKUP($B13,'sh1'!$N$16:$O$19,2,1)*$AE13,VLOOKUP($B13,'sh1'!$N$16:$O$19,2,1)*$AE13,$AM13)","v":1200},{"$f":"IF(AO13-AM12-U13<0,0,AO13-AM12-U13)","v":129.937933570622},{"$f":"$AS12+$U13+$Y13","v":1101.00750387587},{"$f":"($AR13-X13)*(1+6%)-$Z13/VLOOKUP($A13,'sh1'!$N$7:$O$12,2,1)","v":1167.03437585374},{"$f":"IF($A13=1,95%*$AS13,IF($A13=2,97%*$AS13,IF($A13=3,98%*$AS13,IF(OR($A13=4,$A13=5),$AS13*99%,$AS13))))","v":1143.69368833666},{"$f":"IF($AS12<VLOOKUP($B13,'sh1'!$N$16:$O$19,2,1)*$AD13,VLOOKUP($B13,'sh1'!$N$16:$O$19,2,1)*$AD13,$AS12)","v":1200},{"$f":"IF($AS13<VLOOKUP($B13,'sh1'!$N$16:$O$19,2,1)*$AE13,VLOOKUP($B13,'sh1'!$N$16:$O$19,2,1)*$AE13,$AS13)","v":1200},{"$f":"IF(AU13-AS12-U13<0,0,AU13-AS12-U13)","v":98.9924961241279},{"$f":"$G$4&\"|\"&(IF($I$3=\"男\",0,1))&\"|\"&$G$3&\"|\"&A13","v":"5|0|15|3"}]
[4,{"$f":"$G$3+A14-1","v":18},{"$f":"$G$3+A14","v":19},180000,{"$f":"SUM($D$11:D14)","v":720000},{"$f":"SUM(($G$3='sh1'!$D$2:$D$4061)*(IF($I$3=\"男\",0,1)='sh1'!$C$2:$C$4061)*($G$4='sh1'!$B$2:$B$4061)*(A14='sh1'!$F$2:$F$4061)*('sh1'!$G$2:$G$4061))*($I$4/1000)","v":158704.2},{"$f":"SUM(($AX14='sh1'!$K$2:$K$4061)*('sh1'!$H$2:$H$4061))*($I$4/1000)","v":656553.6},720000,{"$f":"IF(OR($A14=5,$A14=6),VLOOKUP($G$4,'sh1'!$N$2:$O$4,2,0)*$O14,0)","v":0},0,null,{"$f":"INDEX('sh1'!$I$2:$I$4061,$K$3+$A14-1)*$L13-$K14","v":656553.600000001},{"$f":"IF($K14<>0,$N13-$N14,0)","v":0},{"$f":"INDEX('sh1'!$J$2:$J$4061,$K$3+$A14-1)*$L14","v":158704.2},180000,null,null,0,{"$f":"SUM($R$11:R14,$P$11:P14,$Q$11:Q14)","v":1000},{"$f":"-($P14+$Q14)*2%-$R14*1%","v":0},0,{"$f":"SUM(($B14='sh1'!$R$3:$R$214)*(IF($I$3=\"男\",0,1)='sh1'!$Q$3:$Q$214)*('sh1'!$S$3:$S$214))/1000*AK14","v":0.174671777349239},{"$f":"SUM(($B14='sh1'!$R$3:$R$214)*(IF($I$3=\"男\",0,1)='sh1'!$Q$3:$Q$214)*('sh1'!$S$3:$S$214))/1000*AQ14","v":0.159003435302674},{"$f":"SUM(($B14='sh1'!$R$3:$R$214)*(IF($I$3=\"男\",0,1)='sh1'!$Q$3:$Q$214)*('sh1'!$S$3:$S$214))/1000*AW14","v":0.142878655968266},0,null,{"$f":"-$Z14/VLOOKUP($A14,'sh1'!$N$7:$O$12,2,1)","v":0},{"$f":"SUM($AA$11:AA14)","v":0},{"$f":"$S14+$AB14","v":1000},1000,1000,{"$f":"$AG13+$U14+$Y14","v":1070.69158379018},{"$f":"($AF14-$V14)*(1+3%)-$Z14/VLOOKUP($A14,'sh1'!$N$7:$O$12,2,1)","v":1102.63241937322},1091.60609517949,{"$f":"IF($AG13<VLOOKUP($B14,'sh1'!$N$16:$O$19,2,1)*$AD14,VLOOKUP($B14,'sh1'!$N$16:$O$19,2,1)*$AD14,$AG13)","v":1600},{"$f":"IF($AG14<VLOOKUP($B14,'sh1'!$N$16:$O$19,2,1)*$AE14,VLOOKUP($B14,'sh1'!$N$16:$O$19,2,1)*$AE14,$AG14)","v":1600},{"$f":"IF(AI14-AG13-U14<0,0,AI14-AG13-U14)","v":529.308416209816},{"$f":"$AM13+$U14+$Y14","v":1118.17140817371},{"$f":"($AL14-W14)*(1+4.5%)-$Z14/VLOOKUP($A14,'sh1'!$N$7:$O$12,2,1)","v":1168.32296295164},1156.63973332212,{"$f":"IF($AM13<VLOOKUP($B14,'sh1'!$N$16:$O$19,2,1)*$AD14,VLOOKUP($B14,'sh1'!$N$16:$O$19,2,1)*$AD14,$AM13)","v":1600},{"$f":"IF($AM14<VLOOKUP($B14,'sh1'!$N$16:$O$19,2,1)*$AE14,VLOOKUP($B14,'sh1'!$N$16:$O$19,2,1)*$AE14,$AM14)","v":1600},{"$f":"IF(AO14-AM13-U14<0,0,AO14-AM13-U14)","v":481.828591826286},{"$f":"$AS13+$U14+$Y14","v":1167.03437585374},{"$f":"($AR14-X14)*(1+6%)-$Z14/VLOOKUP($A14,'sh1'!$N$7:$O$12,2,1)","v":1236.90498702964},1224.53593715934,{"$f":"IF($AS13<VLOOKUP($B14,'sh1'!$N$16:$O$19,2,1)*$AD14,VLOOKUP($B14,'sh1'!$N$16:$O$19,2,1)*$AD14,$AS13)","v":1600},{"$f":"IF($AS14<VLOOKUP($B14,'sh1'!$N$16:$O$19,2,1)*$AE14,VLOOKUP($B14,'sh1'!$N$16:$O$19,2,1)*$AE14,$AS14)","v":1600},{"$f":"IF(AU14-AS13-U14<0,0,AU14-AS13-U14)","v":432.965624146261},"5|0|15|4"]
[5,19,20,180000,{"$f":"SUM($D$11:D15)","v":900000},{"$f":"SUM(($G$3='sh1'!$D$2:$D$4061)*(IF($I$3=\"男\",0,1)='sh1'!$C$2:$C$4061)*($G$4='sh1'!$B$2:$B$4061)*(A15='sh1'!$F$2:$F$4061)*('sh1'!$G$2:$G$4061))*($I$4/1000)","v":158704.2},{"$f":"SUM(($AX15='sh1'!$K$2:$K$4061)*('sh1'!$H$2:$H$4061))*($I$4/1000)","v":698686.2},900000,{"$f":"IF(OR($A15=5,$A15=6),VLOOKUP($G$4,'sh1'!$N$2:$O$4,2,0)*$O15,0)","v":180000},0,null,{"$f":"INDEX('sh1'!$I$2:$I$4061,$K$3+$A15-1)*$L14-$K15","v":698686.2},0,{"$f":"INDEX('sh1'!$J$2:$J$4061,$K$3+$A15-1)*$L15","v":158704.2},180000,null,null,0,{"$f":"SUM($R$11:R15,$P$11:P15,$Q$11:Q15)","v":1000},0,0,{"$f":"SUM(($B15='sh1'!$R$3:$R$214)*(IF($I$3=\"男\",0,1)='sh1'!$Q$3:$Q$214)*('sh1'!$S$3:$S$214))/1000*AK15","v":0.174078653219373},{"$f":"SUM(($B15='sh1'!$R$3:$R$214)*(IF($I$3=\"男\",0,1)='sh1'!$Q$3:$Q$214)*('sh1'!$S$3:$S$214))/1000*AQ15","v":0.151086962966926},{"$f":"SUM(($B15='sh1'!$R$3:$R$214)*(IF($I$3=\"男\",0,1)='sh1'!$Q$3:$Q$214)*('sh1'!$S$3:$S$214))/1000*AW15","v":0.127083254539627},0,null,{"$f":"-$Z15/VLOOKUP($A15,'sh1'!$N$7:$O$12,2,1)","v":0},{"$f":"SUM($AA$11:AA15)","v":0},1000,1000,1000,1102.63241937322,{"$f":"($AF15-$V15)*(1+3%)-$Z15/VLOOKUP($A15,'sh1'!$N$7:$O$12,2,1)","v":1135.5320909416},1124.17677003219,{"$f":"IF($AG14<VLOOKUP($B15,'sh1'!$N$16:$O$19,2,1)*$AD15,VLOOKUP($B15,'sh1'!$N$16:$O$19,2,1)*$AD15,$AG14)","v":1600},{"$f":"IF($AG15<VLOOKUP($B15,'sh1'!$N$16:$O$19,2,1)*$AE15,VLOOKUP($B15,'sh1'!$N$16:$O$19,2,1)*$AE15,$AG15)","v":1600},{"$f":"IF(AI15-AG14-U15<0,0,AI15-AG14-U15)","v":497.36758062678},1168.32296295164,{"$f":"($AL15-W15)*(1+4.5%)-$Z15/VLOOKUP($A15,'sh1'!$N$7:$O$12,2,1)","v":1220.73961040816},1208.53221430408,{"$f":"IF($AM14<VLOOKUP($B15,'sh1'!$N$16:$O$19,2,1)*$AD15,VLOOKUP($B15,'sh1'!$N$16:$O$19,2,1)*$AD15,$AM14)","v":1600},{"$f":"IF($AM15<VLOOKUP($B15,'sh1'!$N$16:$O$19,2,1)*$AE15,VLOOKUP($B15,'sh1'!$N$16:$O$19,2,1)*$AE15,$AM15)","v":1600},{"$f":"IF(AO15-AM14-U15<0,0,AO15-AM14-U15)","v":431.67703704836},1236.90498702964,{"$f":"($AR15-X15)*(1+6%)-$Z15/VLOOKUP($A15,'sh1'!$N$7:$O$12,2,1)","v":1310.9845780016},1297.87473222159,{"$f":"IF($AS14<VLOOKUP($B15,'sh1'!$N$16:$O$19,2,1)*$AD15,VLOOKUP($B15,'sh1'!$N$16:$O$19,2,1)*$AD15,$AS14)","v":1600},{"$f":"IF($AS15<VLOOKUP($B15,'sh1'!$N$16:$O$19,2,1)*$AE15,VLOOKUP($B15,'sh1'!$N$16:$O$19,2,1)*$AE15,$AS15)","v":1600},{"$f":"IF(AU15-AS14-U15<0,0,AU15-AS14-U15)","v":363.095012970363},"5|0|15|5"]
[6,20,21,"",{"$f":"SUM($D$11:D16)","v":900000},{"$f":"SUM(($G$3='sh1'!$D$2:$D$4061)*(IF($I$3=\"男\",0,1)='sh1'!$C$2:$C$4061)*($G$4='sh1'!$B$2:$B$4061)*(A16='sh1'!$F$2:$F$4061)*('sh1'!$G$2:$G$4061))*($I$4/1000)","v":158704.2},{"$f":"SUM(($AX16='sh1'!$K$2:$K$4061)*('sh1'!$H$2:$H$4061))*($I$4/1000)","v":557046},900000,{"$f":"IF(OR($A16=5,$A16=6),VLOOKUP($G$4,'sh1'!$N$2:$O$4,2,0)*$O16,0)","v":180000},0,null,{"$f":"INDEX('sh1'!$I$2:$I$4061,$K$3+$A16-1)*$L15-$K16","v":557046},0,{"$f":"INDEX('sh1'!$J$2:$J$4061,$K$3+$A16-1)*$L16","v":158704.2},180000,null,null,{"$f":"$I15+$J15","v":180000},{"$f":"SUM($R$11:R16,$P$11:P16,$Q$11:Q16)","v":181000},-1800,178200,{"$f":"SUM(($B16='sh1'!$R$3:$R$214)*(IF($I$3=\"男\",0,1)='sh1'!$Q$3:$Q$214)*('sh1'!$S$3:$S$214))/1000*AK16","v":39.695208447261},{"$f":"SUM(($B16='sh1'!$R$3:$R$214)*(IF($I$3=\"男\",0,1)='sh1'!$Q$3:$Q$214)*('sh1'!$S$3:$S$214))/1000*AQ16","v":39.664533740253},{"$f":"SUM(($B16='sh1'!$R$3:$R$214)*(IF($I$3=\"男\",0,1)='sh1'!$Q$3:$Q$214)*('sh1'!$S$3:$S$214))/1000*AW16","v":39.6320455519194},0,null,{"$f":"-$Z16/VLOOKUP($A16,'sh1'!$N$7:$O$12,2,1)","v":0},{"$f":"SUM($AA$11:AA16)","v":0},181000,181000,181000,179335.532090941,{"$f":"($AF16-$V16)*(1+3%)-$Z16/VLOOKUP($A16,'sh1'!$N$7:$O$12,2,1)","v":184674.711988969},184674.711988969,{"$f":"IF($AG15<VLOOKUP($B16,'sh1'!$N$16:$O$19,2,1)*$AD16,VLOOKUP($B16,'sh1'!$N$16:$O$19,2,1)*$AD16,$AG15)","v":289600},{"$f":"IF($AG16<VLOOKUP($B16,'sh1'!$N$16:$O$19,2,1)*$AE16,VLOOKUP($B16,'sh1'!$N$16:$O$19,2,1)*$AE16,$AG16)","v":289600},110264.467909058,179420.739610408,{"$f":"($AL16-W16)*(1+4.5%)-$Z16/VLOOKUP($A16,'sh1'!$N$7:$O$12,2,1)","v":187453.223455118},187453.223455118,{"$f":"IF($AM15<VLOOKUP($B16,'sh1'!$N$16:$O$19,2,1)*$AD16,VLOOKUP($B16,'sh1'!$N$16:$O$19,2,1)*$AD16,$AM15)","v":289600},{"$f":"IF($AM16<VLOOKUP($B16,'sh1'!$N$16:$O$19,2,1)*$AE16,VLOOKUP($B16,'sh1'!$N$16:$O$19,2,1)*$AE16,$AM16)","v":289600},110179.260389592,179510.984578001,{"$f":"($AR16-X16)*(1+6%)-$Z16/VLOOKUP($A16,'sh1'!$N$7:$O$12,2,1)","v":190239.633684396},190239.633684396,{"$f":"IF($AS15<VLOOKUP($B16,'sh1'!$N$16:$O$19,2,1)*$AD16,VLOOKUP($B16,'sh1'!$N$16:$O$19,2,1)*$AD16,$AS15)","v":289600},{"$f":"IF($AS16<VLOOKUP($B16,'sh1'!$N$16:$O$19,2,1)*$AE16,VLOOKUP($B16,'sh1'!$N$16:$O$19,2,1)*$AE16,$AS16)","v":289600},110089.015421998,"5|0|15|6"]
[7,21,22,"",{"$f":"SUM($D$11:D17)","v":900000},{"$f":"SUM(($G$3='sh1'!$D$2:$D$4061)*(IF($I$3=\"男\",0,1)='sh1'!$C$2:$C$4061)*($G$4='sh1'!$B$2:$B$4061)*(A17='sh1'!$F$2:$F$4061)*('sh1'!$G$2:$G$4061))*($I$4/1000)","v":158704.2},{"$f":"SUM(($AX17='sh1'!$K$2:$K$4061)*('sh1'!$H$2:$H$4061))*($I$4/1000)","v":428853.6},900000,{"$f":"IF(OR($A17=5,$A17=6),VLOOKUP($G$4,'sh1'!$N$2:$O$4,2,0)*$O17,0)","v":0},158704.2,null,{"$f":"INDEX('sh1'!$I$2:$I$4061,$K$3+$A17-1)*$L16-$K17","v":428853.6},0,{"$f":"INDEX('sh1'!$J$2:$J$4061,$K$3+$A17-1)*$L17","v":158704.2},180000,null,null,{"$f":"$I16+$J16","v":180000},{"$f":"SUM($R$11:R17,$P$11:P17,$Q$11:Q17)","v":361000},-1800,{"$f":"$R17+$P17+$Q17+$T17","v":178200},{"$f":"SUM(($B17='sh1'!$R$3:$R$214)*(IF($I$3=\"男\",0,1)='sh1'!$Q$3:$Q$214)*('sh1'!$S$3:$S$214))/1000*AK17","v":81.5956094441916},{"$f":"SUM(($B17='sh1'!$R$3:$R$214)*(IF($I$3=\"男\",0,1)='sh1'!$Q$3:$Q$214)*('sh1'!$S$3:$S$214))/1000*AQ17","v":80.5397750870551},{"$f":"SUM(($B17='sh1'!$R$3:$R$214)*(IF($I$3=\"男\",0,1)='sh1'!$Q$3:$Q$214)*('sh1'!$S$3:$S$214))/1000*AW17","v":79.4809391999292},1800,null,{"$f":"-$Z17/VLOOKUP($A17,'sh1'!$N$7:$O$12,2,1)","v":0},{"$f":"SUM($AA$11:AA17)","v":0},361000,361000,361000,364674.711988969,{"$f":"($AF17-$V17)*(1+3%)-$Z17/VLOOKUP($A17,'sh1'!$N$7:$O$12,2,1)","v":375530.90987091},375530.90987091,{"$f":"IF($AG16<VLOOKUP($B17,'sh1'!$N$16:$O$19,2,1)*$AD17,VLOOKUP($B17,'sh1'!$N$16:$O$19,2,1)*$AD17,$AG16)","v":577599.999999999},{"$f":"IF($AG17<VLOOKUP($B17,'sh1'!$N$16:$O$19,2,1)*$AE17,VLOOKUP($B17,'sh1'!$N$16:$O$19,2,1)*$AE17,$AG17)","v":577599.999999999},214725.288011031,367453.223455118,{"$f":"($AL17-W17)*(1+4.5%)-$Z17/VLOOKUP($A17,'sh1'!$N$7:$O$12,2,1)","v":383904.454445632},383904.454445632,{"$f":"IF($AM16<VLOOKUP($B17,'sh1'!$N$16:$O$19,2,1)*$AD17,VLOOKUP($B17,'sh1'!$N$16:$O$19,2,1)*$AD17,$AM16)","v":577599.999999999},{"$f":"IF($AM17<VLOOKUP($B17,'sh1'!$N$16:$O$19,2,1)*$AE17,VLOOKUP($B17,'sh1'!$N$16:$O$19,2,1)*$AE17,$AM17)","v":577599.999999999},211946.776544882,370239.633684396,{"$f":"($AR17-X17)*(1+6%)-$Z17/VLOOKUP($A17,'sh1'!$N$7:$O$12,2,1)","v":392369.761909908},392369.761909908,{"$f":"IF($AS16<VLOOKUP($B17,'sh1'!$N$16:$O$19,2,1)*$AD17,VLOOKUP($B17,'sh1'!$N$16:$O$19,2,1)*$AD17,$AS16)","v":577599.999999999},{"$f":"IF($AS17<VLOOKUP($B17,'sh1'!$N$16:$O$19,2,1)*$AE17,VLOOKUP($B17,'sh1'!$N$16:$O$19,2,1)*$AE17,$AS17)","v":577599.999999999},209160.366315603,"5|0|15|7"]
[8,22,23,"",{"$f":"SUM($D$11:D18)","v":900000},{"$f":"SUM(($G$3='sh1'!$D$2:$D$4061)*(IF($I$3=\"男\",0,1)='sh1'!$C$2:$C$4061)*($G$4='sh1'!$B$2:$B$4061)*(A18='sh1'!$F$2:$F$4061)*('sh1'!$G$2:$G$4061))*($I$4/1000)","v":158704.2},{"$f":"SUM(($AX18='sh1'!$K$2:$K$4061)*('sh1'!$H$2:$H$4061))*($I$4/1000)","v":293551.2},900000,{"$f":"IF(OR($A18=5,$A18=6),VLOOKUP($G$4,'sh1'!$N$2:$O$4,2,0)*$O18,0)","v":0},158704.2,null,{"$f":"INDEX('sh1'!$I$2:$I$4061,$K$3+$A18-1)*$L17-$K18","v":293551.2},0,{"$f":"INDEX('sh1'!$J$2:$J$4061,$K$3+$A18-1)*$L18","v":158704.2},180000,null,null,158704.2,{"$f":"SUM($R$11:R18,$P$11:P18,$Q$11:Q18)","v":519704.2},-1587.042,{"$f":"$R18+$P18+$Q18+$T18","v":157117.158},{"$f":"SUM(($B18='sh1'!$R$3:$R$214)*(IF($I$3=\"男\",0,1)='sh1'!$Q$3:$Q$214)*('sh1'!$S$3:$S$214))/1000*AK18","v":116.562674330345},{"$f":"SUM(($B18='sh1'!$R$3:$R$214)*(IF($I$3=\"男\",0,1)='sh1'!$Q$3:$Q$214)*('sh1'!$S$3:$S$214))/1000*AQ18","v":113.296991946203},{"$f":"SUM(($B18='sh1'!$R$3:$R$214)*(IF($I$3=\"男\",0,1)='sh1'!$Q$3:$Q$214)*('sh1'!$S$3:$S$214))/1000*AW18","v":109.995522035136},{"$f":"IF($A18=7,(SUM($I7:$I16)+SUM($J7:$J16))*1%,IF($A18>=8,($I16+$J16)*1%,0))","v":1800},null,{"$f":"-$Z18/VLOOKUP($A18,'sh1'!$N$7:$O$12,2,1)","v":0},{"$f":"SUM($AA$11:AA18)","v":0},519704.2,519704.2,519704.2,534448.067870911,{"$f":"($AF18-$V18)*(1+3%)-$Z18/VLOOKUP($A18,'sh1'!$N$7:$O$12,2,1)","v":550361.450352478},550361.450352478,{"$f":"IF($AG17<VLOOKUP($B18,'sh1'!$N$16:$O$19,2,1)*$AD18,VLOOKUP($B18,'sh1'!$N$16:$O$19,2,1)*$AD18,$AG17)","v":831526.72},{"$f":"IF($AG18<VLOOKUP($B18,'sh1'!$N$16:$O$19,2,1)*$AE18,VLOOKUP($B18,'sh1'!$N$16:$O$19,2,1)*$AE18,$AG18)","v":831526.72},298878.652129089,542821.612445632,{"$f":"($AL18-W18)*(1+4.5%)-$Z18/VLOOKUP($A18,'sh1'!$N$7:$O$12,2,1)","v":567130.189649102},567130.189649102,{"$f":"IF($AM17<VLOOKUP($B18,'sh1'!$N$16:$O$19,2,1)*$AD18,VLOOKUP($B18,'sh1'!$N$16:$O$19,2,1)*$AD18,$AM17)","v":831526.72},{"$f":"IF($AM18<VLOOKUP($B18,'sh1'!$N$16:$O$19,2,1)*$AE18,VLOOKUP($B18,'sh1'!$N$16:$O$19,2,1)*$AE18,$AM18)","v":831526.72},290505.107554368,551286.919909908,{"$f":"($AR18-X18)*(1+6%)-$Z18/VLOOKUP($A18,'sh1'!$N$7:$O$12,2,1)","v":584247.539851146},584247.539851146,{"$f":"IF($AS17<VLOOKUP($B18,'sh1'!$N$16:$O$19,2,1)*$AD18,VLOOKUP($B18,'sh1'!$N$16:$O$19,2,1)*$AD18,$AS17)","v":831526.72},{"$f":"IF($AS18<VLOOKUP($B18,'sh1'!$N$16:$O$19,2,1)*$AE18,VLOOKUP($B18,'sh1'!$N$16:$O$19,2,1)*$AE18,$AS18)","v":831526.72},282039.800090091,"5|0|15|8"]
[9,23,24,"",{"$f":"SUM($D$11:D19)","v":900000},{"$f":"SUM(($G$3='sh1'!$D$2:$D$4061)*(IF($I$3=\"男\",0,1)='sh1'!$C$2:$C$4061)*($G$4='sh1'!$B$2:$B$4061)*(A19='sh1'!$F$2:$F$4061)*('sh1'!$G$2:$G$4061))*($I$4/1000)","v":158704.2},{"$f":"SUM(($AX19='sh1'!$K$2:$K$4061)*('sh1'!$H$2:$H$4061))*($I$4/1000)","v":150741},900000,{"$f":"IF(OR($A19=5,$A19=6),VLOOKUP($G$4,'sh1'!$N$2:$O$4,2,0)*$O19,0)","v":0},158704.2,null,{"$f":"INDEX('sh1'!$I$2:$I$4061,$K$3+$A19-1)*$L18-$K19","v":150741},0,{"$f":"INDEX('sh1'!$J$2:$J$4061,$K$3+$A19-1)*$L19","v":158704.2},180000,null,null,158704.2,{"$f":"SUM($R$11:R19,$P$11:P19,$Q$11:Q19)","v":678408.4},-1587.042,{"$f":"$R19+$P19+$Q19+$T19","v":157117.158},{"$f":"SUM(($B19='sh1'!$R$3:$R$214)*(IF($I$3=\"男\",0,1)='sh1'!$Q$3:$Q$214)*('sh1'!$S$3:$S$214))/1000*AK19","v":154.969680975484},{"$f":"SUM(($B19='sh1'!$R$3:$R$214)*(IF($I$3=\"男\",0,1)='sh1'!$Q$3:$Q$214)*('sh1'!$S$3:$S$214))/1000*AQ19","v":148.094497863868},{"$f":"SUM(($B19='sh1'!$R$3:$R$214)*(IF($I$3=\"男\",0,1)='sh1'!$Q$3:$Q$214)*('sh1'!$S$3:$S$214))/1000*AW19","v":141.07638428103},{"$f":"IF($A19=7,(SUM($I8:$I17)+SUM($J8:$J17))*1%,IF($A19>=8,($I17+$J17)*1%,0))","v":1587.042},null,{"$f":"-$Z19/VLOOKUP($A19,'sh1'!$N$7:$O$12,2,1)","v":0},{"$f":"SUM($AA$11:AA19)","v":0},678408.4,678408.4,678408.4,709065.650352478,{"$f":"($AF19-$V19)*(1+3%)-$Z19/VLOOKUP($A19,'sh1'!$N$7:$O$12,2,1)","v":730178.001091647},730178.001091647,{"$f":"IF($AG18<VLOOKUP($B19,'sh1'!$N$16:$O$19,2,1)*$AD19,VLOOKUP($B19,'sh1'!$N$16:$O$19,2,1)*$AD19,$AG18)","v":1085453.44},{"$f":"IF($AG19<VLOOKUP($B19,'sh1'!$N$16:$O$19,2,1)*$AE19,VLOOKUP($B19,'sh1'!$N$16:$O$19,2,1)*$AE19,$AG19)","v":1085453.44},377974.831647522,725834.389649102,{"$f":"($AL19-W19)*(1+4.5%)-$Z19/VLOOKUP($A19,'sh1'!$N$7:$O$12,2,1)","v":758342.178433044},758342.178433044,{"$f":"IF($AM18<VLOOKUP($B19,'sh1'!$N$16:$O$19,2,1)*$AD19,VLOOKUP($B19,'sh1'!$N$16:$O$19,2,1)*$AD19,$AM18)","v":1085453.44},{"$f":"IF($AM19<VLOOKUP($B19,'sh1'!$N$16:$O$19,2,1)*$AE19,VLOOKUP($B19,'sh1'!$N$16:$O$19,2,1)*$AE19,$AM19)","v":1085453.44},361206.092350898,742951.739851146,{"$f":"($AR19-X19)*(1+6%)-$Z19/VLOOKUP($A19,'sh1'!$N$7:$O$12,2,1)","v":787379.303274877},787379.303274877,{"$f":"IF($AS18<VLOOKUP($B19,'sh1'!$N$16:$O$19,2,1)*$AD19,VLOOKUP($B19,'sh1'!$N$16:$O$19,2,1)*$AD19,$AS18)","v":1085453.44},{"$f":"IF($AS19<VLOOKUP($B19,'sh1'!$N$16:$O$19,2,1)*$AE19,VLOOKUP($B19,'sh1'!$N$16:$O$19,2,1)*$AE19,$AS19)","v":1085453.44},344088.742148854,"5|0|15|9"]
[10,24,25,"",{"$f":"SUM($D$11:D20)","v":900000},{"$f":"SUM(($G$3='sh1'!$D$2:$D$4061)*(IF($I$3=\"男\",0,1)='sh1'!$C$2:$C$4061)*($G$4='sh1'!$B$2:$B$4061)*(A20='sh1'!$F$2:$F$4061)*('sh1'!$G$2:$G$4061))*($I$4/1000)","v":158704.2},{"$f":"SUM(($AX20='sh1'!$K$2:$K$4061)*('sh1'!$H$2:$H$4061))*($I$4/1000)","v":0},900000,{"$f":"IF(OR($A20=5,$A20=6),VLOOKUP($G$4,'sh1'!$N$2:$O$4,2,0)*$O20,0)","v":0},{"$f":"$N$19","v":158704.2},null,{"$f":"INDEX('sh1'!$I$2:$I$4061,$K$3+$A20-1)*$L19-$K20","v":0},null,{"$f":"INDEX('sh1'!$J$2:$J$4061,$K$3+$A20-1)*$L20","v":0},{"$f":"$N20/$O$3/COUNTIF($D$11:$D$20,\">0\")","v":0},null,null,158704.2,{"$f":"SUM($R$11:R20,$P$11:P20,$Q$11:Q20)","v":837112.6},-1587.042,157117.158,{"$f":"SUM(($B20='sh1'!$R$3:$R$214)*(IF($I$3=\"男\",0,1)='sh1'!$Q$3:$Q$214)*('sh1'!$S$3:$S$214))/1000*AK20","v":194.396550390592},{"$f":"SUM(($B20='sh1'!$R$3:$R$214)*(IF($I$3=\"男\",0,1)='sh1'!$Q$3:$Q$214)*('sh1'!$S$3:$S$214))/1000*AQ20","v":182.285954133791},{"$f":"SUM(($B20='sh1'!$R$3:$R$214)*(IF($I$3=\"男\",0,1)='sh1'!$Q$3:$Q$214)*('sh1'!$S$3:$S$214))/1000*AW20","v":169.799990451803},{"$f":"IF($A20=7,(SUM($I9:$I18)+SUM($J9:$J18))*1%,IF($A20>=8,($I18+$J18)*1%,0))","v":1587.042},null,{"$f":"-$Z20/VLOOKUP($A20,'sh1'!$N$7:$O$12,2,1)","v":0},{"$f":"SUM($AA$11:AA20)","v":0},837112.6,837112.6,837112.6,888882.201091648,{"$f":"($AF20-$V20)*(1+3%)-$Z20/VLOOKUP($A20,'sh1'!$N$7:$O$12,2,1)","v":915348.438677495},915348.438677495,{"$f":"IF($AG19<VLOOKUP($B20,'sh1'!$N$16:$O$19,2,1)*$AD20,VLOOKUP($B20,'sh1'!$N$16:$O$19,2,1)*$AD20,$AG19)","v":1339380.16},{"$f":"IF($AG20<VLOOKUP($B20,'sh1'!$N$16:$O$19,2,1)*$AE20,VLOOKUP($B20,'sh1'!$N$16:$O$19,2,1)*$AE20,$AG20)","v":1339380.16},452085.000908353,917046.378433044,{"$f":"($AL20-W20)*(1+4.5%)-$Z20/VLOOKUP($A20,'sh1'!$N$7:$O$12,2,1)","v":958122.976640461},958122.976640461,{"$f":"IF($AM19<VLOOKUP($B20,'sh1'!$N$16:$O$19,2,1)*$AD20,VLOOKUP($B20,'sh1'!$N$16:$O$19,2,1)*$AD20,$AM19)","v":1339380.16},{"$f":"IF($AM20<VLOOKUP($B20,'sh1'!$N$16:$O$19,2,1)*$AE20,VLOOKUP($B20,'sh1'!$N$16:$O$19,2,1)*$AE20,$AM20)","v":1339380.16},423920.823566956,946083.503274877,{"$f":"($AR20-X20)*(1+6%)-$Z20/VLOOKUP($A20,'sh1'!$N$7:$O$12,2,1)","v":1002668.52548149},1002668.52548149,{"$f":"IF($AS19<VLOOKUP($B20,'sh1'!$N$16:$O$19,2,1)*$AD20,VLOOKUP($B20,'sh1'!$N$16:$O$19,2,1)*$AD20,$AS19)","v":1339380.16},{"$f":"IF($AS20<VLOOKUP($B20,'sh1'!$N$16:$O$19,2,1)*$AE20,VLOOKUP($B20,'sh1'!$N$16:$O$19,2,1)*$AE20,$AS20)","v":1339380.16},394883.698725123,"5|0|15|10"]
[11,25,26,null,null,null,null,null,null,null,null,null,null,null,0,null,null,158704.2,{"$f":"SUM($R$11:R21,$P$11:P21,$Q$11:Q21)","v":995816.800000001},-1587.042,157117.158,{"$f":"SUM(($B21='sh1'!$R$3:$R$214)*(IF($I$3=\"男\",0,1)='sh1'!$Q$3:$Q$214)*('sh1'!$S$3:$S$214))/1000*AK21","v":234.378577495128},{"$f":"SUM(($B21='sh1'!$R$3:$R$214)*(IF($I$3=\"男\",0,1)='sh1'!$Q$3:$Q$214)*('sh1'!$S$3:$S$214))/1000*AQ21","v":215.130035411793},{"$f":"SUM(($B21='sh1'!$R$3:$R$214)*(IF($I$3=\"男\",0,1)='sh1'!$Q$3:$Q$214)*('sh1'!$S$3:$S$214))/1000*AW21","v":195.084538433329},1587.042,null,{"$f":"-$Z21/VLOOKUP($A21,'sh1'!$N$7:$O$12,2,1)","v":0},{"$f":"SUM($AA$11:AA21)","v":0},995816.800000001,995816.800000001,995816.800000001,1074052.6386775,{"$f":"($AF21-$V21)*(1+3%)-$Z21/VLOOKUP($A21,'sh1'!$N$7:$O$12,2,1)","v":1106032.807903},1106032.807903,{"$f":"IF($AG20<VLOOKUP($B21,'sh1'!$N$16:$O$19,2,1)*$AD21,VLOOKUP($B21,'sh1'!$N$16:$O$19,2,1)*$AD21,$AG20)","v":1593306.88},{"$f":"IF($AG21<VLOOKUP($B21,'sh1'!$N$16:$O$19,2,1)*$AE21,VLOOKUP($B21,'sh1'!$N$16:$O$19,2,1)*$AE21,$AG21)","v":1593306.88},520841.283322506,1116827.17664046,{"$f":"($AL21-W21)*(1+4.5%)-$Z21/VLOOKUP($A21,'sh1'!$N$7:$O$12,2,1)","v":1166859.58870228},1166859.58870228,{"$f":"IF($AM20<VLOOKUP($B21,'sh1'!$N$16:$O$19,2,1)*$AD21,VLOOKUP($B21,'sh1'!$N$16:$O$19,2,1)*$AD21,$AM20)","v":1593306.88},{"$f":"IF($AM21<VLOOKUP($B21,'sh1'!$N$16:$O$19,2,1)*$AE21,VLOOKUP($B21,'sh1'!$N$16:$O$19,2,1)*$AE21,$AM21)","v":1593306.88},478066.745359539,1161372.72548149,{"$f":"($AR21-X21)*(1+6%)-$Z21/VLOOKUP($A21,'sh1'!$N$7:$O$12,2,1)","v":1230848.29939964},1230848.29939964,{"$f":"IF($AS20<VLOOKUP($B21,'sh1'!$N$16:$O$19,2,1)*$AD21,VLOOKUP($B21,'sh1'!$N$16:$O$19,2,1)*$AD21,$AS20)","v":1593306.88},{"$f":"IF($AS21<VLOOKUP($B21,'sh1'!$N$16:$O$19,2,1)*$AE21,VLOOKUP($B21,'sh1'!$N$16:$O$19,2,1)*$AE21,$AS21)","v":1593306.88},433521.19651851,"5|0|15|11"]
[12,26,{"$f":"$G$3+A22","v":27},null,null,null,null,null,null,null,null,null,null,null,null,null,null,{"$f":"$I21+$J21","v":0},{"$f":"SUM($R$11:R22,$P$11:P22,$Q$11:Q22)","v":995816.800000001},0,0,{"$f":"SUM(($B22='sh1'!$R$3:$R$214)*(IF($I$3=\"男\",0,1)='sh1'!$Q$3:$Q$214)*('sh1'!$S$3:$S$214))/1000*AK22","v":229.01881388559},{"$f":"SUM(($B22='sh1'!$R$3:$R$214)*(IF($I$3=\"男\",0,1)='sh1'!$Q$3:$Q$214)*('sh1'!$S$3:$S$214))/1000*AQ22","v":200.43022690993},{"$f":"SUM(($B22='sh1'!$R$3:$R$214)*(IF($I$3=\"男\",0,1)='sh1'!$Q$3:$Q$214)*('sh1'!$S$3:$S$214))/1000*AW22","v":170.355532882169},1587.042,null,{"$f":"-$Z22/VLOOKUP($A22,'sh1'!$N$7:$O$12,2,1)","v":0},{"$f":"SUM($AA$11:AA22)","v":0},995816.800000001,{"$f":"$S22+$AB21","v":995816.800000001},995816.800000001,{"$f":"$AG21+$U22+$Y22","v":1107619.849903},{"$f":"($AF22-$V22)*(1+3%)-$Z22/VLOOKUP($A22,'sh1'!$N$7:$O$12,2,1)","v":1140612.55602179},1140612.55602179,{"$f":"IF($AG21<VLOOKUP($B22,'sh1'!$N$16:$O$19,2,1)*$AD22,VLOOKUP($B22,'sh1'!$N$16:$O$19,2,1)*$AD22,$AG21)","v":1593306.88},{"$f":"IF($AG22<VLOOKUP($B22,'sh1'!$N$16:$O$19,2,1)*$AE22,VLOOKUP($B22,'sh1'!$N$16:$O$19,2,1)*$AE22,$AG22)","v":1593306.88},{"$f":"IF(AI22-AG21-U22<0,0,AI22-AG21-U22)","v":487274.072097001},{"$f":"$AM21+$U22+$Y22","v":1168446.63070228},{"$f":"($AL22-W22)*(1+4.5%)-$Z22/VLOOKUP($A22,'sh1'!$N$7:$O$12,2,1)","v":1220817.27949676},1220817.27949676,{"$f":"IF($AM21<VLOOKUP($B22,'sh1'!$N$16:$O$19,2,1)*$AD22,VLOOKUP($B22,'sh1'!$N$16:$O$19,2,1)*$AD22,$AM21)","v":1593306.88},{"$f":"IF($AM22<VLOOKUP($B22,'sh1'!$N$16:$O$19,2,1)*$AE22,VLOOKUP($B22,'sh1'!$N$16:$O$19,2,1)*$AE22,$AM22)","v":1593306.88},{"$f":"IF(AO22-AM21-U22<0,0,AO22-AM21-U22)","v":426447.291297724},{"$f":"$AS21+$U22+$Y22","v":1232435.34139964},{"$f":"($AR22-X22)*(1+6%)-$Z22/VLOOKUP($A22,'sh1'!$N$7:$O$12,2,1)","v":1306200.88501876},1306200.88501876,{"$f":"IF($AS21<VLOOKUP($B22,'sh1'!$N$16:$O$19,2,1)*$AD22,VLOOKUP($B22,'sh1'!$N$16:$O$19,2,1)*$AD22,$AS21)","v":1593306.88},{"$f":"IF($AS22<VLOOKUP($B22,'sh1'!$N$16:$O$19,2,1)*$AE22,VLOOKUP($B22,'sh1'!$N$16:$O$19,2,1)*$AE22,$AS22)","v":1593306.88},{"$f":"IF(AU22-AS21-U22<0,0,AU22-AS21-U22)","v":362458.580600359},"5|0|15|12"]
[13,27,{"$f":"$G$3+A23","v":28},null,null,null,null,null,null,null,null,null,null,null,null,null,null,{"$f":"$I22+$J22","v":0},{"$f":"SUM($R$11:R23,$P$11:P23,$Q$11:Q23)","v":995816.800000001},0,0,{"$f":"SUM(($B23='sh1'!$R$3:$R$214)*(IF($I$3=\"男\",0,1)='sh1'!$Q$3:$Q$214)*('sh1'!$S$3:$S$214))/1000*AK23","v":226.347161989107},{"$f":"SUM(($B23='sh1'!$R$3:$R$214)*(IF($I$3=\"男\",0,1)='sh1'!$Q$3:$Q$214)*('sh1'!$S$3:$S$214))/1000*AQ23","v":186.244800251621},{"$f":"SUM(($B23='sh1'!$R$3:$R$214)*(IF($I$3=\"男\",0,1)='sh1'!$Q$3:$Q$214)*('sh1'!$S$3:$S$214))/1000*AW23","v":143.552997490618},0,null,{"$f":"-$Z23/VLOOKUP($A23,'sh1'!$N$7:$O$12,2,1)","v":0},{"$f":"SUM($AA$11:AA23)","v":0},995816.800000001,{"$f":"$S23+$AB22","v":995816.800000001},995816.800000001,{"$f":"$AG22+$U23+$Y23","v":1140612.55602179},{"$f":"($AF23-$V23)*(1+3%)-$Z23/VLOOKUP($A23,'sh1'!$N$7:$O$12,2,1)","v":1174597.79512559},1174597.79512559,{"$f":"IF($AG22<VLOOKUP($B23,'sh1'!$N$16:$O$19,2,1)*$AD23,VLOOKUP($B23,'sh1'!$N$16:$O$19,2,1)*$AD23,$AG22)","v":1593306.88},{"$f":"IF($AG23<VLOOKUP($B23,'sh1'!$N$16:$O$19,2,1)*$AE23,VLOOKUP($B23,'sh1'!$N$16:$O$19,2,1)*$AE23,$AG23)","v":1593306.88},{"$f":"IF(AI23-AG22-U23<0,0,AI23-AG22-U23)","v":452694.323978213},{"$f":"$AM22+$U23+$Y23","v":1220817.27949676},{"$f":"($AL23-W23)*(1+4.5%)-$Z23/VLOOKUP($A23,'sh1'!$N$7:$O$12,2,1)","v":1275559.43125785},1275559.43125785,{"$f":"IF($AM22<VLOOKUP($B23,'sh1'!$N$16:$O$19,2,1)*$AD23,VLOOKUP($B23,'sh1'!$N$16:$O$19,2,1)*$AD23,$AM22)","v":1593306.88},{"$f":"IF($AM23<VLOOKUP($B23,'sh1'!$N$16:$O$19,2,1)*$AE23,VLOOKUP($B23,'sh1'!$N$16:$O$19,2,1)*$AE23,$AM23)","v":1593306.88},{"$f":"IF(AO23-AM22-U23<0,0,AO23-AM22-U23)","v":372489.600503243},{"$f":"$AS22+$U23+$Y23","v":1306200.88501876},{"$f":"($AR23-X23)*(1+6%)-$Z23/VLOOKUP($A23,'sh1'!$N$7:$O$12,2,1)","v":1384420.77194255},1384420.77194255,{"$f":"IF($AS22<VLOOKUP($B23,'sh1'!$N$16:$O$19,2,1)*$AD23,VLOOKUP($B23,'sh1'!$N$16:$O$19,2,1)*$AD23,$AS22)","v":1593306.88},{"$f":"IF($AS23<VLOOKUP($B23,'sh1'!$N$16:$O$19,2,1)*$AE23,VLOOKUP($B23,'sh1'!$N$16:$O$19,2,1)*$AE23,$AS23)","v":1593306.88},{"$f":"IF(AU23-AS22-U23<0,0,AU23-AS22-U23)","v":287105.994981236},"5|0|15|13"]
[14,28,29,null,null,null,null,null,null,null,null,null,null,null,null,null,null,0,{"$f":"SUM($R$11:R24,$P$11:P24,$Q$11:Q24)","v":995816.800000001},0,0,{"$f":"SUM(($B24='sh1'!$R$3:$R$214)*(IF($I$3=\"男\",0,1)='sh1'!$Q$3:$Q$214)*('sh1'!$S$3:$S$214))/1000*AK24","v":221.915814983436},{"$f":"SUM(($B24='sh1'!$R$3:$R$214)*(IF($I$3=\"男\",0,1)='sh1'!$Q$3:$Q$214)*('sh1'!$S$3:$S$214))/1000*AQ24","v":168.40614783334},{"$f":"SUM(($B24='sh1'!$R$3:$R$214)*(IF($I$3=\"男\",0,1)='sh1'!$Q$3:$Q$214)*('sh1'!$S$3:$S$214))/1000*AW24","v":110.709637270449},0,null,{"$f":"-$Z24/VLOOKUP($A24,'sh1'!$N$7:$O$12,2,1)","v":0},{"$f":"SUM($AA$11:AA24)","v":0},995816.800000001,995816.800000001,995816.800000001,1174597.79512559,{"$f":"($AF24-$V24)*(1+3%)-$Z24/VLOOKUP($A24,'sh1'!$N$7:$O$12,2,1)","v":1209607.15568993},1209607.15568993,{"$f":"IF($AG23<VLOOKUP($B24,'sh1'!$N$16:$O$19,2,1)*$AD24,VLOOKUP($B24,'sh1'!$N$16:$O$19,2,1)*$AD24,$AG23)","v":1593306.88},{"$f":"IF($AG24<VLOOKUP($B24,'sh1'!$N$16:$O$19,2,1)*$AE24,VLOOKUP($B24,'sh1'!$N$16:$O$19,2,1)*$AE24,$AG24)","v":1593306.88},418709.084874408,1275559.43125785,{"$f":"($AL24-W24)*(1+4.5%)-$Z24/VLOOKUP($A24,'sh1'!$N$7:$O$12,2,1)","v":1332783.62123997},1332783.62123997,{"$f":"IF($AM23<VLOOKUP($B24,'sh1'!$N$16:$O$19,2,1)*$AD24,VLOOKUP($B24,'sh1'!$N$16:$O$19,2,1)*$AD24,$AM23)","v":1593306.88},{"$f":"IF($AM24<VLOOKUP($B24,'sh1'!$N$16:$O$19,2,1)*$AE24,VLOOKUP($B24,'sh1'!$N$16:$O$19,2,1)*$AE24,$AM24)","v":1593306.88},317747.448742152,1384420.77194255,{"$f":"($AR24-X24)*(1+6%)-$Z24/VLOOKUP($A24,'sh1'!$N$7:$O$12,2,1)","v":1467368.6660436},1467368.6660436,{"$f":"IF($AS23<VLOOKUP($B24,'sh1'!$N$16:$O$19,2,1)*$AD24,VLOOKUP($B24,'sh1'!$N$16:$O$19,2,1)*$AD24,$AS23)","v":1593306.88},{"$f":"IF($AS24<VLOOKUP($B24,'sh1'!$N$16:$O$19,2,1)*$AE24,VLOOKUP($B24,'sh1'!$N$16:$O$19,2,1)*$AE24,$AS24)","v":1593306.88},208886.108057451,"5|0|15|14"]
[15,29,30,null,null,null,null,null,null,null,null,null,null,null,null,null,null,0,{"$f":"SUM($R$11:R25,$P$11:P25,$Q$11:Q25)","v":995816.800000001},0,0,{"$f":"SUM(($B25='sh1'!$R$3:$R$214)*(IF($I$3=\"男\",0,1)='sh1'!$Q$3:$Q$214)*('sh1'!$S$3:$S$214))/1000*AK25","v":214.871845613641},{"$f":"SUM(($B25='sh1'!$R$3:$R$214)*(IF($I$3=\"男\",0,1)='sh1'!$Q$3:$Q$214)*('sh1'!$S$3:$S$214))/1000*AQ25","v":145.893024905619},{"$f":"SUM(($B25='sh1'!$R$3:$R$214)*(IF($I$3=\"男\",0,1)='sh1'!$Q$3:$Q$214)*('sh1'!$S$3:$S$214))/1000*AW25","v":70.5253998155864},0,null,{"$f":"-$Z25/VLOOKUP($A25,'sh1'!$N$7:$O$12,2,1)","v":0},{"$f":"SUM($AA$11:AA25)","v":0},995816.800000001,995816.800000001,995816.800000001,1209607.15568993,{"$f":"($AF25-$V25)*(1+3%)-$Z25/VLOOKUP($A25,'sh1'!$N$7:$O$12,2,1)","v":1245674.05235964},1245674.05235964,{"$f":"IF($AG24<VLOOKUP($B25,'sh1'!$N$16:$O$19,2,1)*$AD25,VLOOKUP($B25,'sh1'!$N$16:$O$19,2,1)*$AD25,$AG24)","v":1593306.88},{"$f":"IF($AG25<VLOOKUP($B25,'sh1'!$N$16:$O$19,2,1)*$AE25,VLOOKUP($B25,'sh1'!$N$16:$O$19,2,1)*$AE25,$AG25)","v":1593306.88},383699.724310074,1332783.62123997,{"$f":"($AL25-W25)*(1+4.5%)-$Z25/VLOOKUP($A25,'sh1'!$N$7:$O$12,2,1)","v":1392606.42598474},1392606.42598474,{"$f":"IF($AM24<VLOOKUP($B25,'sh1'!$N$16:$O$19,2,1)*$AD25,VLOOKUP($B25,'sh1'!$N$16:$O$19,2,1)*$AD25,$AM24)","v":1593306.88},{"$f":"IF($AM25<VLOOKUP($B25,'sh1'!$N$16:$O$19,2,1)*$AE25,VLOOKUP($B25,'sh1'!$N$16:$O$19,2,1)*$AE25,$AM25)","v":1593306.88},260523.258760035,1467368.6660436,{"$f":"($AR25-X25)*(1+6%)-$Z25/VLOOKUP($A25,'sh1'!$N$7:$O$12,2,1)","v":1555336.02908241},1555336.02908241,{"$f":"IF($AS24<VLOOKUP($B25,'sh1'!$N$16:$O$19,2,1)*$AD25,VLOOKUP($B25,'sh1'!$N$16:$O$19,2,1)*$AD25,$AS24)","v":1593306.88},{"$f":"IF($AS25<VLOOKUP($B25,'sh1'!$N$16:$O$19,2,1)*$AE25,VLOOKUP($B25,'sh1'!$N$16:$O$19,2,1)*$AE25,$AS25)","v":1593306.88},125938.213956404,"5|0|15|15"]
[16,30,31,null,null,null,null,null,null,null,null,null,null,null,null,null,null,0,{"$f":"SUM($R$11:R26,$P$11:P26,$Q$11:Q26)","v":995816.800000001},0,0,{"$f":"SUM(($B26='sh1'!$R$3:$R$214)*(IF($I$3=\"男\",0,1)='sh1'!$Q$3:$Q$214)*('sh1'!$S$3:$S$214))/1000*AK26","v":208.579696584215},{"$f":"SUM(($B26='sh1'!$R$3:$R$214)*(IF($I$3=\"男\",0,1)='sh1'!$Q$3:$Q$214)*('sh1'!$S$3:$S$214))/1000*AQ26","v":120.420272409157},{"$f":"SUM(($B26='sh1'!$R$3:$R$214)*(IF($I$3=\"男\",0,1)='sh1'!$Q$3:$Q$214)*('sh1'!$S$3:$S$214))/1000*AW26","v":22.7825105505557},0,null,{"$f":"-$Z26/VLOOKUP($A26,'sh1'!$N$7:$O$12,2,1)","v":0},{"$f":"SUM($AA$11:AA26)","v":0},995816.800000001,995816.800000001,995816.800000001,1245674.05235964,{"$f":"($AF26-$V26)*(1+3%)-$Z26/VLOOKUP($A26,'sh1'!$N$7:$O$12,2,1)","v":1282829.43684295},1282829.43684295,{"$f":"IF($AG25<VLOOKUP($B26,'sh1'!$N$16:$O$19,2,1)*$AD26,VLOOKUP($B26,'sh1'!$N$16:$O$19,2,1)*$AD26,$AG25)","v":1593306.88},{"$f":"IF($AG26<VLOOKUP($B26,'sh1'!$N$16:$O$19,2,1)*$AE26,VLOOKUP($B26,'sh1'!$N$16:$O$19,2,1)*$AE26,$AG26)","v":1593306.88},347632.827640358,1392606.42598474,{"$f":"($AL26-W26)*(1+4.5%)-$Z26/VLOOKUP($A26,'sh1'!$N$7:$O$12,2,1)","v":1455147.87596938},1455147.87596938,{"$f":"IF($AM25<VLOOKUP($B26,'sh1'!$N$16:$O$19,2,1)*$AD26,VLOOKUP($B26,'sh1'!$N$16:$O$19,2,1)*$AD26,$AM25)","v":1593306.88},{"$f":"IF($AM26<VLOOKUP($B26,'sh1'!$N$16:$O$19,2,1)*$AE26,VLOOKUP($B26,'sh1'!$N$16:$O$19,2,1)*$AE26,$AM26)","v":1593306.88},200700.454015262,1555336.02908241,{"$f":"($AR26-X26)*(1+6%)-$Z26/VLOOKUP($A26,'sh1'!$N$7:$O$12,2,1)","v":1648632.04136617},1648632.04136617,{"$f":"IF($AS25<VLOOKUP($B26,'sh1'!$N$16:$O$19,2,1)*$AD26,VLOOKUP($B26,'sh1'!$N$16:$O$19,2,1)*$AD26,$AS25)","v":1593306.88},{"$f":"IF($AS26<VLOOKUP($B26,'sh1'!$N$16:$O$19,2,1)*$AE26,VLOOKUP($B26,'sh1'!$N$16:$O$19,2,1)*$AE26,$AS26)","v":1648632.04136617},37970.8509175929,"5|0|15|16"]
[17,31,32,null,null,null,null,null,null,null,null,null,null,null,null,null,null,0,{"$f":"SUM($R$11:R27,$P$11:P27,$Q$11:Q27)","v":995816.800000001},0,0,{"$f":"SUM(($B27='sh1'!$R$3:$R$214)*(IF($I$3=\"男\",0,1)='sh1'!$Q$3:$Q$214)*('sh1'!$S$3:$S$214))/1000*AK27","v":198.705563620512},{"$f":"SUM(($B27='sh1'!$R$3:$R$214)*(IF($I$3=\"男\",0,1)='sh1'!$Q$3:$Q$214)*('sh1'!$S$3:$S$214))/1000*AQ27","v":88.4217625795949},{"$f":"SUM(($B27='sh1'!$R$3:$R$214)*(IF($I$3=\"男\",0,1)='sh1'!$Q$3:$Q$214)*('sh1'!$S$3:$S$214))/1000*AW27","v":0},0,null,{"$f":"-$Z27/VLOOKUP($A27,'sh1'!$N$7:$O$12,2,1)","v":0},{"$f":"SUM($AA$11:AA27)","v":0},995816.800000001,995816.800000001,995816.800000001,1282829.43684295,{"$f":"($AF27-$V27)*(1+3%)-$Z27/VLOOKUP($A27,'sh1'!$N$7:$O$12,2,1)","v":1321109.65321771},1321109.65321771,{"$f":"IF($AG26<VLOOKUP($B27,'sh1'!$N$16:$O$19,2,1)*$AD27,VLOOKUP($B27,'sh1'!$N$16:$O$19,2,1)*$AD27,$AG26)","v":1593306.88},{"$f":"IF($AG27<VLOOKUP($B27,'sh1'!$N$16:$O$19,2,1)*$AE27,VLOOKUP($B27,'sh1'!$N$16:$O$19,2,1)*$AE27,$AG27)","v":1593306.88},310477.44315705,1455147.87596938,{"$f":"($AL27-W27)*(1+4.5%)-$Z27/VLOOKUP($A27,'sh1'!$N$7:$O$12,2,1)","v":1520537.12964611},1520537.12964611,{"$f":"IF($AM26<VLOOKUP($B27,'sh1'!$N$16:$O$19,2,1)*$AD27,VLOOKUP($B27,'sh1'!$N$16:$O$19,2,1)*$AD27,$AM26)","v":1593306.88},{"$f":"IF($AM27<VLOOKUP($B27,'sh1'!$N$16:$O$19,2,1)*$AE27,VLOOKUP($B27,'sh1'!$N$16:$O$19,2,1)*$AE27,$AM27)","v":1593306.88},138159.004030617,1648632.04136617,{"$f":"($AR27-X27)*(1+6%)-$Z27/VLOOKUP($A27,'sh1'!$N$7:$O$12,2,1)","v":1747549.96384814},1747549.96384814,{"$f":"IF($AS26<VLOOKUP($B27,'sh1'!$N$16:$O$19,2,1)*$AD27,VLOOKUP($B27,'sh1'!$N$16:$O$19,2,1)*$AD27,$AS26)","v":1648632.04136617},{"$f":"IF($AS27<VLOOKUP($B27,'sh1'!$N$16:$O$19,2,1)*$AE27,VLOOKUP($B27,'sh1'!$N$16:$O$19,2,1)*$AE27,$AS27)","v":1747549.96384814},0,"5|0|15|17"]
[18,32,33,null,null,null,null,null,null,null,null,null,null,null,null,null,null,0,{"$f":"SUM($R$11:R28,$P$11:P28,$Q$11:Q28)","v":995816.800000001},0,0,{"$f":"SUM(($B28='sh1'!$R$3:$R$214)*(IF($I$3=\"男\",0,1)='sh1'!$Q$3:$Q$214)*('sh1'!$S$3:$S$214))/1000*AK28","v":185.094114211958},{"$f":"SUM(($B28='sh1'!$R$3:$R$214)*(IF($I$3=\"男\",0,1)='sh1'!$Q$3:$Q$214)*('sh1'!$S$3:$S$214))/1000*AQ28","v":49.4834302406455},{"$f":"SUM(($B28='sh1'!$R$3:$R$214)*(IF($I$3=\"男\",0,1)='sh1'!$Q$3:$Q$214)*('sh1'!$S$3:$S$214))/1000*AW28","v":0},0,null,{"$f":"-$Z28/VLOOKUP($A28,'sh1'!$N$7:$O$12,2,1)","v":0},{"$f":"SUM($AA$11:AA28)","v":0},995816.800000001,995816.800000001,995816.800000001,1321109.65321771,{"$f":"($AF28-$V28)*(1+3%)-$Z28/VLOOKUP($A28,'sh1'!$N$7:$O$12,2,1)","v":1360552.2958766},1360552.2958766,{"$f":"IF($AG27<VLOOKUP($B28,'sh1'!$N$16:$O$19,2,1)*$AD28,VLOOKUP($B28,'sh1'!$N$16:$O$19,2,1)*$AD28,$AG27)","v":1593306.88},{"$f":"IF($AG28<VLOOKUP($B28,'sh1'!$N$16:$O$19,2,1)*$AE28,VLOOKUP($B28,'sh1'!$N$16:$O$19,2,1)*$AE28,$AG28)","v":1593306.88},272197.226782291,1520537.12964611,{"$f":"($AL28-W28)*(1+4.5%)-$Z28/VLOOKUP($A28,'sh1'!$N$7:$O$12,2,1)","v":1588909.59029558},1588909.59029558,{"$f":"IF($AM27<VLOOKUP($B28,'sh1'!$N$16:$O$19,2,1)*$AD28,VLOOKUP($B28,'sh1'!$N$16:$O$19,2,1)*$AD28,$AM27)","v":1593306.88},{"$f":"IF($AM28<VLOOKUP($B28,'sh1'!$N$16:$O$19,2,1)*$AE28,VLOOKUP($B28,'sh1'!$N$16:$O$19,2,1)*$AE28,$AM28)","v":1593306.88},72769.7503538905,1747549.96384814,{"$f":"($AR28-X28)*(1+6%)-$Z28/VLOOKUP($A28,'sh1'!$N$7:$O$12,2,1)","v":1852402.96167903},1852402.96167903,{"$f":"IF($AS27<VLOOKUP($B28,'sh1'!$N$16:$O$19,2,1)*$AD28,VLOOKUP($B28,'sh1'!$N$16:$O$19,2,1)*$AD28,$AS27)","v":1747549.96384814},{"$f":"IF($AS28<VLOOKUP($B28,'sh1'!$N$16:$O$19,2,1)*$AE28,VLOOKUP($B28,'sh1'!$N$16:$O$19,2,1)*$AE28,$AS28)","v":1852402.96167903},0,"5|0|15|18"]
[19,33,34,null,null,null,null,null,null,null,null,null,null,null,null,null,null,0,{"$f":"SUM($R$11:R29,$P$11:P29,$Q$11:Q29)","v":995816.800000001},0,0,{"$f":"SUM(($B29='sh1'!$R$3:$R$214)*(IF($I$3=\"男\",0,1)='sh1'!$Q$3:$Q$214)*('sh1'!$S$3:$S$214))/1000*AK29","v":169.91084641008},{"$f":"SUM(($B29='sh1'!$R$3:$R$214)*(IF($I$3=\"男\",0,1)='sh1'!$Q$3:$Q$214)*('sh1'!$S$3:$S$214))/1000*AQ29","v":3.21002148422432},{"$f":"SUM(($B29='sh1'!$R$3:$R$214)*(IF($I$3=\"男\",0,1)='sh1'!$Q$3:$Q$214)*('sh1'!$S$3:$S$214))/1000*AW29","v":0},0,null,{"$f":"-$Z29/VLOOKUP($A29,'sh1'!$N$7:$O$12,2,1)","v":0},{"$f":"SUM($AA$11:AA29)","v":0},995816.800000001,995816.800000001,995816.800000001,1360552.2958766,{"$f":"($AF29-$V29)*(1+3%)-$Z29/VLOOKUP($A29,'sh1'!$N$7:$O$12,2,1)","v":1401193.8565811},1401193.8565811,{"$f":"IF($AG28<VLOOKUP($B29,'sh1'!$N$16:$O$19,2,1)*$AD29,VLOOKUP($B29,'sh1'!$N$16:$O$19,2,1)*$AD29,$AG28)","v":1593306.88},{"$f":"IF($AG29<VLOOKUP($B29,'sh1'!$N$16:$O$19,2,1)*$AE29,VLOOKUP($B29,'sh1'!$N$16:$O$19,2,1)*$AE29,$AG29)","v":1593306.88},232754.584123398,1588909.59029558,{"$f":"($AL29-W29)*(1+4.5%)-$Z29/VLOOKUP($A29,'sh1'!$N$7:$O$12,2,1)","v":1660407.16738643},1660407.16738643,{"$f":"IF($AM28<VLOOKUP($B29,'sh1'!$N$16:$O$19,2,1)*$AD29,VLOOKUP($B29,'sh1'!$N$16:$O$19,2,1)*$AD29,$AM28)","v":1593306.88},{"$f":"IF($AM29<VLOOKUP($B29,'sh1'!$N$16:$O$19,2,1)*$AE29,VLOOKUP($B29,'sh1'!$N$16:$O$19,2,1)*$AE29,$AM29)","v":1660407.16738643},4397.28970441688,1852402.96167903,{"$f":"($AR29-X29)*(1+6%)-$Z29/VLOOKUP($A29,'sh1'!$N$7:$O$12,2,1)","v":1963547.13937977},1963547.13937977,{"$f":"IF($AS28<VLOOKUP($B29,'sh1'!$N$16:$O$19,2,1)*$AD29,VLOOKUP($B29,'sh1'!$N$16:$O$19,2,1)*$AD29,$AS28)","v":1852402.96167903},{"$f":"IF($AS29<VLOOKUP($B29,'sh1'!$N$16:$O$19,2,1)*$AE29,VLOOKUP($B29,'sh1'!$N$16:$O$19,2,1)*$AE29,$AS29)","v":1963547.13937977},0,"5|0|15|19"]
[20,34,35,null,null,null,null,null,null,null,null,null,null,null,null,null,null,0,{"$f":"SUM($R$11:R30,$P$11:P30,$Q$11:Q30)","v":995816.800000001},0,0,{"$f":"SUM(($B30='sh1'!$R$3:$R$214)*(IF($I$3=\"男\",0,1)='sh1'!$Q$3:$Q$214)*('sh1'!$S$3:$S$214))/1000*AK30","v":151.769288500933},{"$f":"SUM(($B30='sh1'!$R$3:$R$214)*(IF($I$3=\"男\",0,1)='sh1'!$Q$3:$Q$214)*('sh1'!$S$3:$S$214))/1000*AQ30","v":0},{"$f":"SUM(($B30='sh1'!$R$3:$R$214)*(IF($I$3=\"男\",0,1)='sh1'!$Q$3:$Q$214)*('sh1'!$S$3:$S$214))/1000*AW30","v":0},0,null,{"$f":"-$Z30/VLOOKUP($A30,'sh1'!$N$7:$O$12,2,1)","v":0},{"$f":"SUM($AA$11:AA30)","v":0},995816.800000001,995816.800000001,995816.800000001,1401193.8565811,{"$f":"($AF30-$V30)*(1+3%)-$Z30/VLOOKUP($A30,'sh1'!$N$7:$O$12,2,1)","v":1443073.34991138},1443073.34991138,{"$f":"IF($AG29<VLOOKUP($B30,'sh1'!$N$16:$O$19,2,1)*$AD30,VLOOKUP($B30,'sh1'!$N$16:$O$19,2,1)*$AD30,$AG29)","v":1593306.88},{"$f":"IF($AG30<VLOOKUP($B30,'sh1'!$N$16:$O$19,2,1)*$AE30,VLOOKUP($B30,'sh1'!$N$16:$O$19,2,1)*$AE30,$AG30)","v":1593306.88},192113.023418902,1660407.16738643,{"$f":"($AL30-W30)*(1+4.5%)-$Z30/VLOOKUP($A30,'sh1'!$N$7:$O$12,2,1)","v":1735125.48991882},1735125.48991882,{"$f":"IF($AM29<VLOOKUP($B30,'sh1'!$N$16:$O$19,2,1)*$AD30,VLOOKUP($B30,'sh1'!$N$16:$O$19,2,1)*$AD30,$AM29)","v":1660407.16738643},{"$f":"IF($AM30<VLOOKUP($B30,'sh1'!$N$16:$O$19,2,1)*$AE30,VLOOKUP($B30,'sh1'!$N$16:$O$19,2,1)*$AE30,$AM30)","v":1735125.48991882},0,1963547.13937977,{"$f":"($AR30-X30)*(1+6%)-$Z30/VLOOKUP($A30,'sh1'!$N$7:$O$12,2,1)","v":2081359.96774256},2081359.96774256,{"$f":"IF($AS29<VLOOKUP($B30,'sh1'!$N$16:$O$19,2,1)*$AD30,VLOOKUP($B30,'sh1'!$N$16:$O$19,2,1)*$AD30,$AS29)","v":1963547.13937977},{"$f":"IF($AS30<VLOOKUP($B30,'sh1'!$N$16:$O$19,2,1)*$AE30,VLOOKUP($B30,'sh1'!$N$16:$O$19,2,1)*$AE30,$AS30)","v":2081359.96774256},0,"5|0|15|20"]
[21,35,36,null,null,null,null,null,null,null,null,null,null,null,null,null,null,0,{"$f":"SUM($R$11:R31,$P$11:P31,$Q$11:Q31)","v":995816.800000001},0,0,{"$f":"SUM(($B31='sh1'!$R$3:$R$214)*(IF($I$3=\"男\",0,1)='sh1'!$Q$3:$Q$214)*('sh1'!$S$3:$S$214))/1000*AK31","v":127.698500575331},{"$f":"SUM(($B31='sh1'!$R$3:$R$214)*(IF($I$3=\"男\",0,1)='sh1'!$Q$3:$Q$214)*('sh1'!$S$3:$S$214))/1000*AQ31","v":0},{"$f":"SUM(($B31='sh1'!$R$3:$R$214)*(IF($I$3=\"男\",0,1)='sh1'!$Q$3:$Q$214)*('sh1'!$S$3:$S$214))/1000*AW31","v":0},0,null,{"$f":"-$Z31/VLOOKUP($A31,'sh1'!$N$7:$O$12,2,1)","v":0},{"$f":"SUM($AA$11:AA31)","v":0},995816.800000001,995816.800000001,995816.800000001,1443073.34991138,{"$f":"($AF31-$V31)*(1+3%)-$Z31/VLOOKUP($A31,'sh1'!$N$7:$O$12,2,1)","v":1486234.02095312},1486234.02095312,{"$f":"IF($AG30<VLOOKUP($B31,'sh1'!$N$16:$O$19,2,1)*$AD31,VLOOKUP($B31,'sh1'!$N$16:$O$19,2,1)*$AD31,$AG30)","v":1593306.88},{"$f":"IF($AG31<VLOOKUP($B31,'sh1'!$N$16:$O$19,2,1)*$AE31,VLOOKUP($B31,'sh1'!$N$16:$O$19,2,1)*$AE31,$AG31)","v":1593306.88},150233.530088625,1735125.48991882,{"$f":"($AL31-W31)*(1+4.5%)-$Z31/VLOOKUP($A31,'sh1'!$N$7:$O$12,2,1)","v":1813206.13696517},1813206.13696517,{"$f":"IF($AM30<VLOOKUP($B31,'sh1'!$N$16:$O$19,2,1)*$AD31,VLOOKUP($B31,'sh1'!$N$16:$O$19,2,1)*$AD31,$AM30)","v":1735125.48991882},{"$f":"IF($AM31<VLOOKUP($B31,'sh1'!$N$16:$O$19,2,1)*$AE31,VLOOKUP($B31,'sh1'!$N$16:$O$19,2,1)*$AE31,$AM31)","v":1813206.13696517},0,2081359.96774256,{"$f":"($AR31-X31)*(1+6%)-$Z31/VLOOKUP($A31,'sh1'!$N$7:$O$12,2,1)","v":2206241.56580711},2206241.56580711,{"$f":"IF($AS30<VLOOKUP($B31,'sh1'!$N$16:$O$19,2,1)*$AD31,VLOOKUP($B31,'sh1'!$N$16:$O$19,2,1)*$AD31,$AS30)","v":2081359.96774256},{"$f":"IF($AS31<VLOOKUP($B31,'sh1'!$N$16:$O$19,2,1)*$AE31,VLOOKUP($B31,'sh1'!$N$16:$O$19,2,1)*$AE31,$AS31)","v":2206241.56580711},0,"5|0|15|21"]
[22,36,37,null,null,null,null,null,null,null,null,null,null,null,null,null,null,0,{"$f":"SUM($R$11:R32,$P$11:P32,$Q$11:Q32)","v":995816.800000001},0,0,{"$f":"SUM(($B32='sh1'!$R$3:$R$214)*(IF($I$3=\"男\",0,1)='sh1'!$Q$3:$Q$214)*('sh1'!$S$3:$S$214))/1000*AK32","v":98.5070303231261},{"$f":"SUM(($B32='sh1'!$R$3:$R$214)*(IF($I$3=\"男\",0,1)='sh1'!$Q$3:$Q$214)*('sh1'!$S$3:$S$214))/1000*AQ32","v":0},{"$f":"SUM(($B32='sh1'!$R$3:$R$214)*(IF($I$3=\"男\",0,1)='sh1'!$Q$3:$Q$214)*('sh1'!$S$3:$S$214))/1000*AW32","v":0},0,null,{"$f":"-$Z32/VLOOKUP($A32,'sh1'!$N$7:$O$12,2,1)","v":0},{"$f":"SUM($AA$11:AA32)","v":0},995816.800000001,995816.800000001,995816.800000001,1486234.02095312,{"$f":"($AF32-$V32)*(1+3%)-$Z32/VLOOKUP($A32,'sh1'!$N$7:$O$12,2,1)","v":1530719.57934049},1530719.57934049,{"$f":"IF($AG31<VLOOKUP($B32,'sh1'!$N$16:$O$19,2,1)*$AD32,VLOOKUP($B32,'sh1'!$N$16:$O$19,2,1)*$AD32,$AG31)","v":1593306.88},{"$f":"IF($AG32<VLOOKUP($B32,'sh1'!$N$16:$O$19,2,1)*$AE32,VLOOKUP($B32,'sh1'!$N$16:$O$19,2,1)*$AE32,$AG32)","v":1593306.88},107072.859046876,1813206.13696517,{"$f":"($AL32-W32)*(1+4.5%)-$Z32/VLOOKUP($A32,'sh1'!$N$7:$O$12,2,1)","v":1894800.4131286},1894800.4131286,{"$f":"IF($AM31<VLOOKUP($B32,'sh1'!$N$16:$O$19,2,1)*$AD32,VLOOKUP($B32,'sh1'!$N$16:$O$19,2,1)*$AD32,$AM31)","v":1813206.13696517},{"$f":"IF($AM32<VLOOKUP($B32,'sh1'!$N$16:$O$19,2,1)*$AE32,VLOOKUP($B32,'sh1'!$N$16:$O$19,2,1)*$AE32,$AM32)","v":1894800.4131286},0,2206241.56580711,{"$f":"($AR32-X32)*(1+6%)-$Z32/VLOOKUP($A32,'sh1'!$N$7:$O$12,2,1)","v":2338616.05975554},2338616.05975554,{"$f":"IF($AS31<VLOOKUP($B32,'sh1'!$N$16:$O$19,2,1)*$AD32,VLOOKUP($B32,'sh1'!$N$16:$O$19,2,1)*$AD32,$AS31)","v":2206241.56580711},{"$f":"IF($AS32<VLOOKUP($B32,'sh1'!$N$16:$O$19,2,1)*$AE32,VLOOKUP($B32,'sh1'!$N$16:$O$19,2,1)*$AE32,$AS32)","v":2338616.05975554},0,"5|0|15|22"]
[23,37,38,null,null,null,null,null,null,null,null,null,null,null,null,null,null,0,{"$f":"SUM($R$11:R33,$P$11:P33,$Q$11:Q33)","v":995816.800000001},0,0,{"$f":"SUM(($B33='sh1'!$R$3:$R$214)*(IF($I$3=\"男\",0,1)='sh1'!$Q$3:$Q$214)*('sh1'!$S$3:$S$214))/1000*AK33","v":62.5873006595152},{"$f":"SUM(($B33='sh1'!$R$3:$R$214)*(IF($I$3=\"男\",0,1)='sh1'!$Q$3:$Q$214)*('sh1'!$S$3:$S$214))/1000*AQ33","v":0},{"$f":"SUM(($B33='sh1'!$R$3:$R$214)*(IF($I$3=\"男\",0,1)='sh1'!$Q$3:$Q$214)*('sh1'!$S$3:$S$214))/1000*AW33","v":0},0,null,{"$f":"-$Z33/VLOOKUP($A33,'sh1'!$N$7:$O$12,2,1)","v":0},{"$f":"SUM($AA$11:AA33)","v":0},995816.800000001,995816.800000001,995816.800000001,1530719.57934049,{"$f":"($AF33-$V33)*(1+3%)-$Z33/VLOOKUP($A33,'sh1'!$N$7:$O$12,2,1)","v":1576576.70180102},1576576.70180102,{"$f":"IF($AG32<VLOOKUP($B33,'sh1'!$N$16:$O$19,2,1)*$AD33,VLOOKUP($B33,'sh1'!$N$16:$O$19,2,1)*$AD33,$AG32)","v":1593306.88},{"$f":"IF($AG33<VLOOKUP($B33,'sh1'!$N$16:$O$19,2,1)*$AE33,VLOOKUP($B33,'sh1'!$N$16:$O$19,2,1)*$AE33,$AG33)","v":1593306.88},62587.3006595152,1894800.4131286,{"$f":"($AL33-W33)*(1+4.5%)-$Z33/VLOOKUP($A33,'sh1'!$N$7:$O$12,2,1)","v":1980066.43171939},1980066.43171939,{"$f":"IF($AM32<VLOOKUP($B33,'sh1'!$N$16:$O$19,2,1)*$AD33,VLOOKUP($B33,'sh1'!$N$16:$O$19,2,1)*$AD33,$AM32)","v":1894800.4131286},{"$f":"IF($AM33<VLOOKUP($B33,'sh1'!$N$16:$O$19,2,1)*$AE33,VLOOKUP($B33,'sh1'!$N$16:$O$19,2,1)*$AE33,$AM33)","v":1980066.43171939},0,2338616.05975554,{"$f":"($AR33-X33)*(1+6%)-$Z33/VLOOKUP($A33,'sh1'!$N$7:$O$12,2,1)","v":2478933.02334087},2478933.02334087,{"$f":"IF($AS32<VLOOKUP($B33,'sh1'!$N$16:$O$19,2,1)*$AD33,VLOOKUP($B33,'sh1'!$N$16:$O$19,2,1)*$AD33,$AS32)","v":2338616.05975554},{"$f":"IF($AS33<VLOOKUP($B33,'sh1'!$N$16:$O$19,2,1)*$AE33,VLOOKUP($B33,'sh1'!$N$16:$O$19,2,1)*$AE33,$AS33)","v":2478933.02334087},0,"5|0|15|23"]
[24,38,39,null,null,null,null,null,null,null,null,null,null,null,null,null,null,0,{"$f":"SUM($R$11:R34,$P$11:P34,$Q$11:Q34)","v":995816.800000001},0,0,{"$f":"SUM(($B34='sh1'!$R$3:$R$214)*(IF($I$3=\"男\",0,1)='sh1'!$Q$3:$Q$214)*('sh1'!$S$3:$S$214))/1000*AK34","v":18.0685924548983},{"$f":"SUM(($B34='sh1'!$R$3:$R$214)*(IF($I$3=\"男\",0,1)='sh1'!$Q$3:$Q$214)*('sh1'!$S$3:$S$214))/1000*AQ34","v":0},{"$f":"SUM(($B34='sh1'!$R$3:$R$214)*(IF($I$3=\"男\",0,1)='sh1'!$Q$3:$Q$214)*('sh1'!$S$3:$S$214))/1000*AW34","v":0},0,null,{"$f":"-$Z34/VLOOKUP($A34,'sh1'!$N$7:$O$12,2,1)","v":0},{"$f":"SUM($AA$11:AA34)","v":0},995816.800000001,995816.800000001,995816.800000001,1576576.70180102,{"$f":"($AF34-$V34)*(1+3%)-$Z34/VLOOKUP($A34,'sh1'!$N$7:$O$12,2,1)","v":1623855.39220482},1623855.39220482,{"$f":"IF($AG33<VLOOKUP($B34,'sh1'!$N$16:$O$19,2,1)*$AD34,VLOOKUP($B34,'sh1'!$N$16:$O$19,2,1)*$AD34,$AG33)","v":1593306.88},{"$f":"IF($AG34<VLOOKUP($B34,'sh1'!$N$16:$O$19,2,1)*$AE34,VLOOKUP($B34,'sh1'!$N$16:$O$19,2,1)*$AE34,$AG34)","v":1623855.39220482},16730.1781989799,1980066.43171939,{"$f":"($AL34-W34)*(1+4.5%)-$Z34/VLOOKUP($A34,'sh1'!$N$7:$O$12,2,1)","v":2069169.42114676},2069169.42114676,{"$f":"IF($AM33<VLOOKUP($B34,'sh1'!$N$16:$O$19,2,1)*$AD34,VLOOKUP($B34,'sh1'!$N$16:$O$19,2,1)*$AD34,$AM33)","v":1980066.43171939},{"$f":"IF($AM34<VLOOKUP($B34,'sh1'!$N$16:$O$19,2,1)*$AE34,VLOOKUP($B34,'sh1'!$N$16:$O$19,2,1)*$AE34,$AM34)","v":2069169.42114676},0,2478933.02334087,{"$f":"($AR34-X34)*(1+6%)-$Z34/VLOOKUP($A34,'sh1'!$N$7:$O$12,2,1)","v":2627669.00474132},2627669.00474132,{"$f":"IF($AS33<VLOOKUP($B34,'sh1'!$N$16:$O$19,2,1)*$AD34,VLOOKUP($B34,'sh1'!$N$16:$O$19,2,1)*$AD34,$AS33)","v":2478933.02334087},{"$f":"IF($AS34<VLOOKUP($B34,'sh1'!$N$16:$O$19,2,1)*$AE34,VLOOKUP($B34,'sh1'!$N$16:$O$19,2,1)*$AE34,$AS34)","v":2627669.00474132},0,"5|0|15|24"]
[25,39,40,null,null,null,null,null,null,null,null,null,null,null,null,null,null,0,{"$f":"SUM($R$11:R35,$P$11:P35,$Q$11:Q35)","v":995816.800000001},0,0,{"$f":"SUM(($B35='sh1'!$R$3:$R$214)*(IF($I$3=\"男\",0,1)='sh1'!$Q$3:$Q$214)*('sh1'!$S$3:$S$214))/1000*AK35","v":0},{"$f":"SUM(($B35='sh1'!$R$3:$R$214)*(IF($I$3=\"男\",0,1)='sh1'!$Q$3:$Q$214)*('sh1'!$S$3:$S$214))/1000*AQ35","v":0},{"$f":"SUM(($B35='sh1'!$R$3:$R$214)*(IF($I$3=\"男\",0,1)='sh1'!$Q$3:$Q$214)*('sh1'!$S$3:$S$214))/1000*AW35","v":0},0,null,{"$f":"-$Z35/VLOOKUP($A35,'sh1'!$N$7:$O$12,2,1)","v":0},{"$f":"SUM($AA$11:AA35)","v":0},995816.800000001,995816.800000001,995816.800000001,1623855.39220482,{"$f":"($AF35-$V35)*(1+3%)-$Z35/VLOOKUP($A35,'sh1'!$N$7:$O$12,2,1)","v":1672571.05397097},1672571.05397097,{"$f":"IF($AG34<VLOOKUP($B35,'sh1'!$N$16:$O$19,2,1)*$AD35,VLOOKUP($B35,'sh1'!$N$16:$O$19,2,1)*$AD35,$AG34)","v":1623855.39220482},{"$f":"IF($AG35<VLOOKUP($B35,'sh1'!$N$16:$O$19,2,1)*$AE35,VLOOKUP($B35,'sh1'!$N$16:$O$19,2,1)*$AE35,$AG35)","v":1672571.05397097},0,2069169.42114676,{"$f":"($AL35-W35)*(1+4.5%)-$Z35/VLOOKUP($A35,'sh1'!$N$7:$O$12,2,1)","v":2162282.04509837},2162282.04509837,{"$f":"IF($AM34<VLOOKUP($B35,'sh1'!$N$16:$O$19,2,1)*$AD35,VLOOKUP($B35,'sh1'!$N$16:$O$19,2,1)*$AD35,$AM34)","v":2069169.42114676},{"$f":"IF($AM35<VLOOKUP($B35,'sh1'!$N$16:$O$19,2,1)*$AE35,VLOOKUP($B35,'sh1'!$N$16:$O$19,2,1)*$AE35,$AM35)","v":2162282.04509837},0,2627669.00474132,{"$f":"($AR35-X35)*(1+6%)-$Z35/VLOOKUP($A35,'sh1'!$N$7:$O$12,2,1)","v":2785329.1450258},2785329.1450258,{"$f":"IF($AS34<VLOOKUP($B35,'sh1'!$N$16:$O$19,2,1)*$AD35,VLOOKUP($B35,'sh1'!$N$16:$O$19,2,1)*$AD35,$AS34)","v":2627669.00474132},{"$f":"IF($AS35<VLOOKUP($B35,'sh1'!$N$16:$O$19,2,1)*$AE35,VLOOKUP($B35,'sh1'!$N$16:$O$19,2,1)*$AE35,$AS35)","v":2785329.1450258},0,"5|0|15|25"]
[26,40,41,null,null,null,null,null,null,null,null,null,null,null,null,null,null,0,{"$f":"SUM($R$11:R36,$P$11:P36,$Q$11:Q36)","v":995816.800000001},0,0,{"$f":"SUM(($B36='sh1'!$R$3:$R$214)*(IF($I$3=\"男\",0,1)='sh1'!$Q$3:$Q$214)*('sh1'!$S$3:$S$214))/1000*AK36","v":0},{"$f":"SUM(($B36='sh1'!$R$3:$R$214)*(IF($I$3=\"男\",0,1)='sh1'!$Q$3:$Q$214)*('sh1'!$S$3:$S$214))/1000*AQ36","v":0},{"$f":"SUM(($B36='sh1'!$R$3:$R$214)*(IF($I$3=\"男\",0,1)='sh1'!$Q$3:$Q$214)*('sh1'!$S$3:$S$214))/1000*AW36","v":0},0,null,{"$f":"-$Z36/VLOOKUP($A36,'sh1'!$N$7:$O$12,2,1)","v":0},{"$f":"SUM($AA$11:AA36)","v":0},995816.800000001,995816.800000001,995816.800000001,1672571.05397097,{"$f":"($AF36-$V36)*(1+3%)-$Z36/VLOOKUP($A36,'sh1'!$N$7:$O$12,2,1)","v":1722748.1855901},1722748.1855901,{"$f":"IF($AG35<VLOOKUP($B36,'sh1'!$N$16:$O$19,2,1)*$AD36,VLOOKUP($B36,'sh1'!$N$16:$O$19,2,1)*$AD36,$AG35)","v":1672571.05397097},{"$f":"IF($AG36<VLOOKUP($B36,'sh1'!$N$16:$O$19,2,1)*$AE36,VLOOKUP($B36,'sh1'!$N$16:$O$19,2,1)*$AE36,$AG36)","v":1722748.1855901},0,2162282.04509837,{"$f":"($AL36-W36)*(1+4.5%)-$Z36/VLOOKUP($A36,'sh1'!$N$7:$O$12,2,1)","v":2259584.73712779},2259584.73712779,{"$f":"IF($AM35<VLOOKUP($B36,'sh1'!$N$16:$O$19,2,1)*$AD36,VLOOKUP($B36,'sh1'!$N$16:$O$19,2,1)*$AD36,$AM35)","v":2162282.04509837},{"$f":"IF($AM36<VLOOKUP($B36,'sh1'!$N$16:$O$19,2,1)*$AE36,VLOOKUP($B36,'sh1'!$N$16:$O$19,2,1)*$AE36,$AM36)","v":2259584.73712779},0,2785329.1450258,{"$f":"($AR36-X36)*(1+6%)-$Z36/VLOOKUP($A36,'sh1'!$N$7:$O$12,2,1)","v":2952448.89372735},2952448.89372735,{"$f":"IF($AS35<VLOOKUP($B36,'sh1'!$N$16:$O$19,2,1)*$AD36,VLOOKUP($B36,'sh1'!$N$16:$O$19,2,1)*$AD36,$AS35)","v":2785329.1450258},{"$f":"IF($AS36<VLOOKUP($B36,'sh1'!$N$16:$O$19,2,1)*$AE36,VLOOKUP($B36,'sh1'!$N$16:$O$19,2,1)*$AE36,$AS36)","v":2952448.89372735},0,"5|0|15|26"]
[27,41,42,null,null,null,null,null,null,null,null,null,null,null,null,null,null,0,{"$f":"SUM($R$11:R37,$P$11:P37,$Q$11:Q37)","v":995816.800000001},0,0,{"$f":"SUM(($B37='sh1'!$R$3:$R$214)*(IF($I$3=\"男\",0,1)='sh1'!$Q$3:$Q$214)*('sh1'!$S$3:$S$214))/1000*AK37","v":0},{"$f":"SUM(($B37='sh1'!$R$3:$R$214)*(IF($I$3=\"男\",0,1)='sh1'!$Q$3:$Q$214)*('sh1'!$S$3:$S$214))/1000*AQ37","v":0},{"$f":"SUM(($B37='sh1'!$R$3:$R$214)*(IF($I$3=\"男\",0,1)='sh1'!$Q$3:$Q$214)*('sh1'!$S$3:$S$214))/1000*AW37","v":0},0,null,{"$f":"-$Z37/VLOOKUP($A37,'sh1'!$N$7:$O$12,2,1)","v":0},{"$f":"SUM($AA$11:AA37)","v":0},995816.800000001,995816.800000001,995816.800000001,1722748.1855901,{"$f":"($AF37-$V37)*(1+3%)-$Z37/VLOOKUP($A37,'sh1'!$N$7:$O$12,2,1)","v":1774430.6311578},1774430.6311578,{"$f":"IF($AG36<VLOOKUP($B37,'sh1'!$N$16:$O$19,2,1)*$AD37,VLOOKUP($B37,'sh1'!$N$16:$O$19,2,1)*$AD37,$AG36)","v":1722748.1855901},{"$f":"IF($AG37<VLOOKUP($B37,'sh1'!$N$16:$O$19,2,1)*$AE37,VLOOKUP($B37,'sh1'!$N$16:$O$19,2,1)*$AE37,$AG37)","v":1774430.6311578},0,2259584.73712779,{"$f":"($AL37-W37)*(1+4.5%)-$Z37/VLOOKUP($A37,'sh1'!$N$7:$O$12,2,1)","v":2361266.05029854},2361266.05029854,{"$f":"IF($AM36<VLOOKUP($B37,'sh1'!$N$16:$O$19,2,1)*$AD37,VLOOKUP($B37,'sh1'!$N$16:$O$19,2,1)*$AD37,$AM36)","v":2259584.73712779},{"$f":"IF($AM37<VLOOKUP($B37,'sh1'!$N$16:$O$19,2,1)*$AE37,VLOOKUP($B37,'sh1'!$N$16:$O$19,2,1)*$AE37,$AM37)","v":2361266.05029854},0,2952448.89372735,{"$f":"($AR37-X37)*(1+6%)-$Z37/VLOOKUP($A37,'sh1'!$N$7:$O$12,2,1)","v":3129595.82735099},3129595.82735099,{"$f":"IF($AS36<VLOOKUP($B37,'sh1'!$N$16:$O$19,2,1)*$AD37,VLOOKUP($B37,'sh1'!$N$16:$O$19,2,1)*$AD37,$AS36)","v":2952448.89372735},{"$f":"IF($AS37<VLOOKUP($B37,'sh1'!$N$16:$O$19,2,1)*$AE37,VLOOKUP($B37,'sh1'!$N$16:$O$19,2,1)*$AE37,$AS37)","v":3129595.82735099},0,"5|0|15|27"]
[28,42,43,null,null,null,null,null,null,null,null,null,null,null,null,null,null,0,{"$f":"SUM($R$11:R38,$P$11:P38,$Q$11:Q38)","v":995816.800000001},0,0,{"$f":"SUM(($B38='sh1'!$R$3:$R$214)*(IF($I$3=\"男\",0,1)='sh1'!$Q$3:$Q$214)*('sh1'!$S$3:$S$214))/1000*AK38","v":0},{"$f":"SUM(($B38='sh1'!$R$3:$R$214)*(IF($I$3=\"男\",0,1)='sh1'!$Q$3:$Q$214)*('sh1'!$S$3:$S$214))/1000*AQ38","v":0},{"$f":"SUM(($B38='sh1'!$R$3:$R$214)*(IF($I$3=\"男\",0,1)='sh1'!$Q$3:$Q$214)*('sh1'!$S$3:$S$214))/1000*AW38","v":0},0,null,{"$f":"-$Z38/VLOOKUP($A38,'sh1'!$N$7:$O$12,2,1)","v":0},{"$f":"SUM($AA$11:AA38)","v":0},995816.800000001,995816.800000001,995816.800000001,1774430.6311578,{"$f":"($AF38-$V38)*(1+3%)-$Z38/VLOOKUP($A38,'sh1'!$N$7:$O$12,2,1)","v":1827663.55009253},1827663.55009253,{"$f":"IF($AG37<VLOOKUP($B38,'sh1'!$N$16:$O$19,2,1)*$AD38,VLOOKUP($B38,'sh1'!$N$16:$O$19,2,1)*$AD38,$AG37)","v":1774430.6311578},{"$f":"IF($AG38<VLOOKUP($B38,'sh1'!$N$16:$O$19,2,1)*$AE38,VLOOKUP($B38,'sh1'!$N$16:$O$19,2,1)*$AE38,$AG38)","v":1827663.55009253},0,2361266.05029854,{"$f":"($AL38-W38)*(1+4.5%)-$Z38/VLOOKUP($A38,'sh1'!$N$7:$O$12,2,1)","v":2467523.02256198},2467523.02256198,{"$f":"IF($AM37<VLOOKUP($B38,'sh1'!$N$16:$O$19,2,1)*$AD38,VLOOKUP($B38,'sh1'!$N$16:$O$19,2,1)*$AD38,$AM37)","v":2361266.05029854},{"$f":"IF($AM38<VLOOKUP($B38,'sh1'!$N$16:$O$19,2,1)*$AE38,VLOOKUP($B38,'sh1'!$N$16:$O$19,2,1)*$AE38,$AM38)","v":2467523.02256198},0,3129595.82735099,{"$f":"($AR38-X38)*(1+6%)-$Z38/VLOOKUP($A38,'sh1'!$N$7:$O$12,2,1)","v":3317371.57699205},3317371.57699205,{"$f":"IF($AS37<VLOOKUP($B38,'sh1'!$N$16:$O$19,2,1)*$AD38,VLOOKUP($B38,'sh1'!$N$16:$O$19,2,1)*$AD38,$AS37)","v":3129595.82735099},{"$f":"IF($AS38<VLOOKUP($B38,'sh1'!$N$16:$O$19,2,1)*$AE38,VLOOKUP($B38,'sh1'!$N$16:$O$19,2,1)*$AE38,$AS38)","v":3317371.57699205},0,"5|0|15|28"]
[29,43,44,null,null,null,null,null,null,null,null,null,null,null,null,null,null,0,{"$f":"SUM($R$11:R39,$P$11:P39,$Q$11:Q39)","v":995816.800000001},0,0,{"$f":"SUM(($B39='sh1'!$R$3:$R$214)*(IF($I$3=\"男\",0,1)='sh1'!$Q$3:$Q$214)*('sh1'!$S$3:$S$214))/1000*AK39","v":0},{"$f":"SUM(($B39='sh1'!$R$3:$R$214)*(IF($I$3=\"男\",0,1)='sh1'!$Q$3:$Q$214)*('sh1'!$S$3:$S$214))/1000*AQ39","v":0},{"$f":"SUM(($B39='sh1'!$R$3:$R$214)*(IF($I$3=\"男\",0,1)='sh1'!$Q$3:$Q$214)*('sh1'!$S$3:$S$214))/1000*AW39","v":0},0,null,{"$f":"-$Z39/VLOOKUP($A39,'sh1'!$N$7:$O$12,2,1)","v":0},{"$f":"SUM($AA$11:AA39)","v":0},995816.800000001,995816.800000001,995816.800000001,1827663.55009253,{"$f":"($AF39-$V39)*(1+3%)-$Z39/VLOOKUP($A39,'sh1'!$N$7:$O$12,2,1)","v":1882493.45659531},1882493.45659531,{"$f":"IF($AG38<VLOOKUP($B39,'sh1'!$N$16:$O$19,2,1)*$AD39,VLOOKUP($B39,'sh1'!$N$16:$O$19,2,1)*$AD39,$AG38)","v":1827663.55009253},{"$f":"IF($AG39<VLOOKUP($B39,'sh1'!$N$16:$O$19,2,1)*$AE39,VLOOKUP($B39,'sh1'!$N$16:$O$19,2,1)*$AE39,$AG39)","v":1882493.45659531},0,2467523.02256198,{"$f":"($AL39-W39)*(1+4.5%)-$Z39/VLOOKUP($A39,'sh1'!$N$7:$O$12,2,1)","v":2578561.55857727},2578561.55857727,{"$f":"IF($AM38<VLOOKUP($B39,'sh1'!$N$16:$O$19,2,1)*$AD39,VLOOKUP($B39,'sh1'!$N$16:$O$19,2,1)*$AD39,$AM38)","v":2467523.02256198},{"$f":"IF($AM39<VLOOKUP($B39,'sh1'!$N$16:$O$19,2,1)*$AE39,VLOOKUP($B39,'sh1'!$N$16:$O$19,2,1)*$AE39,$AM39)","v":2578561.55857727},0,3317371.57699205,{"$f":"($AR39-X39)*(1+6%)-$Z39/VLOOKUP($A39,'sh1'!$N$7:$O$12,2,1)","v":3516413.87161157},3516413.87161157,{"$f":"IF($AS38<VLOOKUP($B39,'sh1'!$N$16:$O$19,2,1)*$AD39,VLOOKUP($B39,'sh1'!$N$16:$O$19,2,1)*$AD39,$AS38)","v":3317371.57699205},{"$f":"IF($AS39<VLOOKUP($B39,'sh1'!$N$16:$O$19,2,1)*$AE39,VLOOKUP($B39,'sh1'!$N$16:$O$19,2,1)*$AE39,$AS39)","v":3516413.87161157},0,"5|0|15|29"]
[30,44,45,null,null,null,null,null,null,null,null,null,null,null,null,null,null,0,{"$f":"SUM($R$11:R40,$P$11:P40,$Q$11:Q40)","v":995816.800000001},0,0,{"$f":"SUM(($B40='sh1'!$R$3:$R$214)*(IF($I$3=\"男\",0,1)='sh1'!$Q$3:$Q$214)*('sh1'!$S$3:$S$214))/1000*AK40","v":0},{"$f":"SUM(($B40='sh1'!$R$3:$R$214)*(IF($I$3=\"男\",0,1)='sh1'!$Q$3:$Q$214)*('sh1'!$S$3:$S$214))/1000*AQ40","v":0},{"$f":"SUM(($B40='sh1'!$R$3:$R$214)*(IF($I$3=\"男\",0,1)='sh1'!$Q$3:$Q$214)*('sh1'!$S$3:$S$214))/1000*AW40","v":0},0,null,{"$f":"-$Z40/VLOOKUP($A40,'sh1'!$N$7:$O$12,2,1)","v":0},{"$f":"SUM($AA$11:AA40)","v":0},995816.800000001,995816.800000001,995816.800000001,1882493.45659531,{"$f":"($AF40-$V40)*(1+3%)-$Z40/VLOOKUP($A40,'sh1'!$N$7:$O$12,2,1)","v":1938968.26029317},1938968.26029317,{"$f":"IF($AG39<VLOOKUP($B40,'sh1'!$N$16:$O$19,2,1)*$AD40,VLOOKUP($B40,'sh1'!$N$16:$O$19,2,1)*$AD40,$AG39)","v":1882493.45659531},{"$f":"IF($AG40<VLOOKUP($B40,'sh1'!$N$16:$O$19,2,1)*$AE40,VLOOKUP($B40,'sh1'!$N$16:$O$19,2,1)*$AE40,$AG40)","v":1938968.26029317},0,2578561.55857727,{"$f":"($AL40-W40)*(1+4.5%)-$Z40/VLOOKUP($A40,'sh1'!$N$7:$O$12,2,1)","v":2694596.82871324},2694596.82871324,{"$f":"IF($AM39<VLOOKUP($B40,'sh1'!$N$16:$O$19,2,1)*$AD40,VLOOKUP($B40,'sh1'!$N$16:$O$19,2,1)*$AD40,$AM39)","v":2578561.55857727},{"$f":"IF($AM40<VLOOKUP($B40,'sh1'!$N$16:$O$19,2,1)*$AE40,VLOOKUP($B40,'sh1'!$N$16:$O$19,2,1)*$AE40,$AM40)","v":2694596.82871324},0,3516413.87161157,{"$f":"($AR40-X40)*(1+6%)-$Z40/VLOOKUP($A40,'sh1'!$N$7:$O$12,2,1)","v":3727398.70390826},3727398.70390826,{"$f":"IF($AS39<VLOOKUP($B40,'sh1'!$N$16:$O$19,2,1)*$AD40,VLOOKUP($B40,'sh1'!$N$16:$O$19,2,1)*$AD40,$AS39)","v":3516413.87161157},{"$f":"IF($AS40<VLOOKUP($B40,'sh1'!$N$16:$O$19,2,1)*$AE40,VLOOKUP($B40,'sh1'!$N$16:$O$19,2,1)*$AE40,$AS40)","v":3727398.70390826},0,"5|0|15|30"]
[31,45,46,null,null,null,null,null,null,null,null,null,null,null,null,null,null,0,{"$f":"SUM($R$11:R41,$P$11:P41,$Q$11:Q41)","v":995816.800000001},0,0,{"$f":"SUM(($B41='sh1'!$R$3:$R$214)*(IF($I$3=\"男\",0,1)='sh1'!$Q$3:$Q$214)*('sh1'!$S$3:$S$214))/1000*AK41","v":0},{"$f":"SUM(($B41='sh1'!$R$3:$R$214)*(IF($I$3=\"男\",0,1)='sh1'!$Q$3:$Q$214)*('sh1'!$S$3:$S$214))/1000*AQ41","v":0},{"$f":"SUM(($B41='sh1'!$R$3:$R$214)*(IF($I$3=\"男\",0,1)='sh1'!$Q$3:$Q$214)*('sh1'!$S$3:$S$214))/1000*AW41","v":0},0,null,{"$f":"-$Z41/VLOOKUP($A41,'sh1'!$N$7:$O$12,2,1)","v":0},{"$f":"SUM($AA$11:AA41)","v":0},995816.800000001,995816.800000001,995816.800000001,1938968.26029317,{"$f":"($AF41-$V41)*(1+3%)-$Z41/VLOOKUP($A41,'sh1'!$N$7:$O$12,2,1)","v":1997137.30810196},1997137.30810196,{"$f":"IF($AG40<VLOOKUP($B41,'sh1'!$N$16:$O$19,2,1)*$AD41,VLOOKUP($B41,'sh1'!$N$16:$O$19,2,1)*$AD41,$AG40)","v":1938968.26029317},{"$f":"IF($AG41<VLOOKUP($B41,'sh1'!$N$16:$O$19,2,1)*$AE41,VLOOKUP($B41,'sh1'!$N$16:$O$19,2,1)*$AE41,$AG41)","v":1997137.30810196},0,2694596.82871324,{"$f":"($AL41-W41)*(1+4.5%)-$Z41/VLOOKUP($A41,'sh1'!$N$7:$O$12,2,1)","v":2815853.68600534},2815853.68600534,{"$f":"IF($AM40<VLOOKUP($B41,'sh1'!$N$16:$O$19,2,1)*$AD41,VLOOKUP($B41,'sh1'!$N$16:$O$19,2,1)*$AD41,$AM40)","v":2694596.82871324},{"$f":"IF($AM41<VLOOKUP($B41,'sh1'!$N$16:$O$19,2,1)*$AE41,VLOOKUP($B41,'sh1'!$N$16:$O$19,2,1)*$AE41,$AM41)","v":2815853.68600534},0,3727398.70390826,{"$f":"($AR41-X41)*(1+6%)-$Z41/VLOOKUP($A41,'sh1'!$N$7:$O$12,2,1)","v":3951042.62614276},3951042.62614276,{"$f":"IF($AS40<VLOOKUP($B41,'sh1'!$N$16:$O$19,2,1)*$AD41,VLOOKUP($B41,'sh1'!$N$16:$O$19,2,1)*$AD41,$AS40)","v":3727398.70390826},{"$f":"IF($AS41<VLOOKUP($B41,'sh1'!$N$16:$O$19,2,1)*$AE41,VLOOKUP($B41,'sh1'!$N$16:$O$19,2,1)*$AE41,$AS41)","v":3951042.62614276},0,"5|0|15|31"]
[32,46,47,null,null,null,null,null,null,null,null,null,null,null,null,null,null,0,{"$f":"SUM($R$11:R42,$P$11:P42,$Q$11:Q42)","v":995816.800000001},0,0,{"$f":"SUM(($B42='sh1'!$R$3:$R$214)*(IF($I$3=\"男\",0,1)='sh1'!$Q$3:$Q$214)*('sh1'!$S$3:$S$214))/1000*AK42","v":0},{"$f":"SUM(($B42='sh1'!$R$3:$R$214)*(IF($I$3=\"男\",0,1)='sh1'!$Q$3:$Q$214)*('sh1'!$S$3:$S$214))/1000*AQ42","v":0},{"$f":"SUM(($B42='sh1'!$R$3:$R$214)*(IF($I$3=\"男\",0,1)='sh1'!$Q$3:$Q$214)*('sh1'!$S$3:$S$214))/1000*AW42","v":0},0,null,{"$f":"-$Z42/VLOOKUP($A42,'sh1'!$N$7:$O$12,2,1)","v":0},{"$f":"SUM($AA$11:AA42)","v":0},995816.800000001,995816.800000001,{"$f":"$S42+$AB42","v":995816.800000001},1997137.30810196,{"$f":"($AF42-$V42)*(1+3%)-$Z42/VLOOKUP($A42,'sh1'!$N$7:$O$12,2,1)","v":2057051.42734502},{"$f":"IF($A42=1,95%*$AG42,IF($A42=2,97%*$AG42,IF($A42=3,98%*$AG42,IF(OR($A42=4,$A42=5),$AG42*99%,$AG42))))","v":2057051.42734502},{"$f":"IF($AG41<VLOOKUP($B42,'sh1'!$N$16:$O$19,2,1)*$AD42,VLOOKUP($B42,'sh1'!$N$16:$O$19,2,1)*$AD42,$AG41)","v":1997137.30810196},{"$f":"IF($AG42<VLOOKUP($B42,'sh1'!$N$16:$O$19,2,1)*$AE42,VLOOKUP($B42,'sh1'!$N$16:$O$19,2,1)*$AE42,$AG42)","v":2057051.42734502},0,2815853.68600534,{"$f":"($AL42-W42)*(1+4.5%)-$Z42/VLOOKUP($A42,'sh1'!$N$7:$O$12,2,1)","v":2942567.10187558},{"$f":"IF($A42=1,95%*$AM42,IF($A42=2,97%*$AM42,IF($A42=3,98%*$AM42,IF(OR($A42=4,$A42=5),$AM42*99%,$AM42))))","v":2942567.10187558},{"$f":"IF($AM41<VLOOKUP($B42,'sh1'!$N$16:$O$19,2,1)*$AD42,VLOOKUP($B42,'sh1'!$N$16:$O$19,2,1)*$AD42,$AM41)","v":2815853.68600534},{"$f":"IF($AM42<VLOOKUP($B42,'sh1'!$N$16:$O$19,2,1)*$AE42,VLOOKUP($B42,'sh1'!$N$16:$O$19,2,1)*$AE42,$AM42)","v":2942567.10187558},0,3951042.62614276,{"$f":"($AR42-X42)*(1+6%)-$Z42/VLOOKUP($A42,'sh1'!$N$7:$O$12,2,1)","v":4188105.18371133},{"$f":"IF($A42=1,95%*$AS42,IF($A42=2,97%*$AS42,IF($A42=3,98%*$AS42,IF(OR($A42=4,$A42=5),$AS42*99%,$AS42))))","v":4188105.18371133},{"$f":"IF($AS41<VLOOKUP($B42,'sh1'!$N$16:$O$19,2,1)*$AD42,VLOOKUP($B42,'sh1'!$N$16:$O$19,2,1)*$AD42,$AS41)","v":3951042.62614276},{"$f":"IF($AS42<VLOOKUP($B42,'sh1'!$N$16:$O$19,2,1)*$AE42,VLOOKUP($B42,'sh1'!$N$16:$O$19,2,1)*$AE42,$AS42)","v":4188105.18371133},0,"5|0|15|32"]
[33,{"$f":"$G$3+A43-1","v":47},48,null,null,null,null,null,null,null,null,null,null,null,null,null,null,0,{"$f":"SUM($R$11:R43,$P$11:P43,$Q$11:Q43)","v":995816.800000001},{"$f":"-($P43+$Q43)*2%-$R43*1%","v":0},0,{"$f":"SUM(($B43='sh1'!$R$3:$R$214)*(IF($I$3=\"男\",0,1)='sh1'!$Q$3:$Q$214)*('sh1'!$S$3:$S$214))/1000*AK43","v":0},{"$f":"SUM(($B43='sh1'!$R$3:$R$214)*(IF($I$3=\"男\",0,1)='sh1'!$Q$3:$Q$214)*('sh1'!$S$3:$S$214))/1000*AQ43","v":0},{"$f":"SUM(($B43='sh1'!$R$3:$R$214)*(IF($I$3=\"男\",0,1)='sh1'!$Q$3:$Q$214)*('sh1'!$S$3:$S$214))/1000*AW43","v":0},0,null,{"$f":"-$Z43/VLOOKUP($A43,'sh1'!$N$7:$O$12,2,1)","v":0},{"$f":"SUM($AA$11:AA43)","v":0},{"$f":"$S43+$AB43","v":995816.800000001},995816.800000001,{"$f":"$S43+$AB43","v":995816.800000001},2057051.42734502,{"$f":"($AF43-$V43)*(1+3%)-$Z43/VLOOKUP($A43,'sh1'!$N$7:$O$12,2,1)","v":2118762.97016537},{"$f":"IF($A43=1,95%*$AG43,IF($A43=2,97%*$AG43,IF($A43=3,98%*$AG43,IF(OR($A43=4,$A43=5),$AG43*99%,$AG43))))","v":2118762.97016537},{"$f":"IF($AG42<VLOOKUP($B43,'sh1'!$N$16:$O$19,2,1)*$AD43,VLOOKUP($B43,'sh1'!$N$16:$O$19,2,1)*$AD43,$AG42)","v":2057051.42734502},{"$f":"IF($AG43<VLOOKUP($B43,'sh1'!$N$16:$O$19,2,1)*$AE43,VLOOKUP($B43,'sh1'!$N$16:$O$19,2,1)*$AE43,$AG43)","v":2118762.97016537},0,2942567.10187558,{"$f":"($AL43-W43)*(1+4.5%)-$Z43/VLOOKUP($A43,'sh1'!$N$7:$O$12,2,1)","v":3074982.62145998},{"$f":"IF($A43=1,95%*$AM43,IF($A43=2,97%*$AM43,IF($A43=3,98%*$AM43,IF(OR($A43=4,$A43=5),$AM43*99%,$AM43))))","v":3074982.62145998},{"$f":"IF($AM42<VLOOKUP($B43,'sh1'!$N$16:$O$19,2,1)*$AD43,VLOOKUP($B43,'sh1'!$N$16:$O$19,2,1)*$AD43,$AM42)","v":2942567.10187558},{"$f":"IF($AM43<VLOOKUP($B43,'sh1'!$N$16:$O$19,2,1)*$AE43,VLOOKUP($B43,'sh1'!$N$16:$O$19,2,1)*$AE43,$AM43)","v":3074982.62145998},0,4188105.18371133,{"$f":"($AR43-X43)*(1+6%)-$Z43/VLOOKUP($A43,'sh1'!$N$7:$O$12,2,1)","v":4439391.49473401},{"$f":"IF($A43=1,95%*$AS43,IF($A43=2,97%*$AS43,IF($A43=3,98%*$AS43,IF(OR($A43=4,$A43=5),$AS43*99%,$AS43))))","v":4439391.49473401},{"$f":"IF($AS42<VLOOKUP($B43,'sh1'!$N$16:$O$19,2,1)*$AD43,VLOOKUP($B43,'sh1'!$N$16:$O$19,2,1)*$AD43,$AS42)","v":4188105.18371133},{"$f":"IF($AS43<VLOOKUP($B43,'sh1'!$N$16:$O$19,2,1)*$AE43,VLOOKUP($B43,'sh1'!$N$16:$O$19,2,1)*$AE43,$AS43)","v":4439391.49473401},0,{"$f":"$G$4&\"|\"&(IF($I$3=\"男\",0,1))&\"|\"&$G$3&\"|\"&A43","v":"5|0|15|33"}]
[34,{"$f":"$G$3+A44-1","v":48},49,null,null,null,null,null,null,null,null,null,null,null,null,null,null,0,{"$f":"SUM($R$11:R44,$P$11:P44,$Q$11:Q44)","v":995816.800000001},{"$f":"-($P44+$Q44)*2%-$R44*1%","v":0},0,{"$f":"SUM(($B44='sh1'!$R$3:$R$214)*(IF($I$3=\"男\",0,1)='sh1'!$Q$3:$Q$214)*('sh1'!$S$3:$S$214))/1000*AK44","v":0},{"$f":"SUM(($B44='sh1'!$R$3:$R$214)*(IF($I$3=\"男\",0,1)='sh1'!$Q$3:$Q$214)*('sh1'!$S$3:$S$214))/1000*AQ44","v":0},{"$f":"SUM(($B44='sh1'!$R$3:$R$214)*(IF($I$3=\"男\",0,1)='sh1'!$Q$3:$Q$214)*('sh1'!$S$3:$S$214))/1000*AW44","v":0},0,null,{"$f":"-$Z44/VLOOKUP($A44,'sh1'!$N$7:$O$12,2,1)","v":0},{"$f":"SUM($AA$11:AA44)","v":0},{"$f":"$S44+$AB44","v":995816.800000001},995816.800000001,995816.800000001,2118762.97016537,{"$f":"($AF44-$V44)*(1+3%)-$Z44/VLOOKUP($A44,'sh1'!$N$7:$O$12,2,1)","v":2182325.85927034},2182325.85927034,{"$f":"IF($AG43<VLOOKUP($B44,'sh1'!$N$16:$O$19,2,1)*$AD44,VLOOKUP($B44,'sh1'!$N$16:$O$19,2,1)*$AD44,$AG43)","v":2118762.97016537},{"$f":"IF($AG44<VLOOKUP($B44,'sh1'!$N$16:$O$19,2,1)*$AE44,VLOOKUP($B44,'sh1'!$N$16:$O$19,2,1)*$AE44,$AG44)","v":2182325.85927034},0,3074982.62145998,{"$f":"($AL44-W44)*(1+4.5%)-$Z44/VLOOKUP($A44,'sh1'!$N$7:$O$12,2,1)","v":3213356.83942568},3213356.83942568,{"$f":"IF($AM43<VLOOKUP($B44,'sh1'!$N$16:$O$19,2,1)*$AD44,VLOOKUP($B44,'sh1'!$N$16:$O$19,2,1)*$AD44,$AM43)","v":3074982.62145998},{"$f":"IF($AM44<VLOOKUP($B44,'sh1'!$N$16:$O$19,2,1)*$AE44,VLOOKUP($B44,'sh1'!$N$16:$O$19,2,1)*$AE44,$AM44)","v":3213356.83942568},0,4439391.49473401,{"$f":"($AR44-X44)*(1+6%)-$Z44/VLOOKUP($A44,'sh1'!$N$7:$O$12,2,1)","v":4705754.98441805},4705754.98441805,{"$f":"IF($AS43<VLOOKUP($B44,'sh1'!$N$16:$O$19,2,1)*$AD44,VLOOKUP($B44,'sh1'!$N$16:$O$19,2,1)*$AD44,$AS43)","v":4439391.49473401},{"$f":"IF($AS44<VLOOKUP($B44,'sh1'!$N$16:$O$19,2,1)*$AE44,VLOOKUP($B44,'sh1'!$N$16:$O$19,2,1)*$AE44,$AS44)","v":4705754.98441805},0,{"$f":"$G$4&\"|\"&(IF($I$3=\"男\",0,1))&\"|\"&$G$3&\"|\"&A44","v":"5|0|15|34"}]
[35,49,50,null,null,null,null,null,null,null,null,null,null,null,null,null,null,0,{"$f":"SUM($R$11:R45,$P$11:P45,$Q$11:Q45)","v":995816.800000001},0,0,{"$f":"SUM(($B45='sh1'!$R$3:$R$214)*(IF($I$3=\"男\",0,1)='sh1'!$Q$3:$Q$214)*('sh1'!$S$3:$S$214))/1000*AK45","v":0},{"$f":"SUM(($B45='sh1'!$R$3:$R$214)*(IF($I$3=\"男\",0,1)='sh1'!$Q$3:$Q$214)*('sh1'!$S$3:$S$214))/1000*AQ45","v":0},{"$f":"SUM(($B45='sh1'!$R$3:$R$214)*(IF($I$3=\"男\",0,1)='sh1'!$Q$3:$Q$214)*('sh1'!$S$3:$S$214))/1000*AW45","v":0},0,null,{"$f":"-$Z45/VLOOKUP($A45,'sh1'!$N$7:$O$12,2,1)","v":0},{"$f":"SUM($AA$11:AA45)","v":0},995816.800000001,995816.800000001,995816.800000001,2182325.85927034,{"$f":"($AF45-$V45)*(1+3%)-$Z45/VLOOKUP($A45,'sh1'!$N$7:$O$12,2,1)","v":2247795.63504845},2247795.63504845,{"$f":"IF($AG44<VLOOKUP($B45,'sh1'!$N$16:$O$19,2,1)*$AD45,VLOOKUP($B45,'sh1'!$N$16:$O$19,2,1)*$AD45,$AG44)","v":2182325.85927034},{"$f":"IF($AG45<VLOOKUP($B45,'sh1'!$N$16:$O$19,2,1)*$AE45,VLOOKUP($B45,'sh1'!$N$16:$O$19,2,1)*$AE45,$AG45)","v":2247795.63504845},0,3213356.83942568,{"$f":"($AL45-W45)*(1+4.5%)-$Z45/VLOOKUP($A45,'sh1'!$N$7:$O$12,2,1)","v":3357957.89719983},3357957.89719983,{"$f":"IF($AM44<VLOOKUP($B45,'sh1'!$N$16:$O$19,2,1)*$AD45,VLOOKUP($B45,'sh1'!$N$16:$O$19,2,1)*$AD45,$AM44)","v":3213356.83942568},{"$f":"IF($AM45<VLOOKUP($B45,'sh1'!$N$16:$O$19,2,1)*$AE45,VLOOKUP($B45,'sh1'!$N$16:$O$19,2,1)*$AE45,$AM45)","v":3357957.89719983},0,4705754.98441805,{"$f":"($AR45-X45)*(1+6%)-$Z45/VLOOKUP($A45,'sh1'!$N$7:$O$12,2,1)","v":4988100.28348313},4988100.28348313,{"$f":"IF($AS44<VLOOKUP($B45,'sh1'!$N$16:$O$19,2,1)*$AD45,VLOOKUP($B45,'sh1'!$N$16:$O$19,2,1)*$AD45,$AS44)","v":4705754.98441805},{"$f":"IF($AS45<VLOOKUP($B45,'sh1'!$N$16:$O$19,2,1)*$AE45,VLOOKUP($B45,'sh1'!$N$16:$O$19,2,1)*$AE45,$AS45)","v":4988100.28348313},0,{"$f":"$G$4&\"|\"&(IF($I$3=\"男\",0,1))&\"|\"&$G$3&\"|\"&A45","v":"5|0|15|35"}]
[36,50,51,null,null,null,null,null,null,null,null,null,null,null,null,null,null,0,{"$f":"SUM($R$11:R46,$P$11:P46,$Q$11:Q46)","v":995816.800000001},0,0,{"$f":"SUM(($B46='sh1'!$R$3:$R$214)*(IF($I$3=\"男\",0,1)='sh1'!$Q$3:$Q$214)*('sh1'!$S$3:$S$214))/1000*AK46","v":0},{"$f":"SUM(($B46='sh1'!$R$3:$R$214)*(IF($I$3=\"男\",0,1)='sh1'!$Q$3:$Q$214)*('sh1'!$S$3:$S$214))/1000*AQ46","v":0},{"$f":"SUM(($B46='sh1'!$R$3:$R$214)*(IF($I$3=\"男\",0,1)='sh1'!$Q$3:$Q$214)*('sh1'!$S$3:$S$214))/1000*AW46","v":0},0,null,{"$f":"-$Z46/VLOOKUP($A46,'sh1'!$N$7:$O$12,2,1)","v":0},{"$f":"SUM($AA$11:AA46)","v":0},995816.800000001,995816.800000001,995816.800000001,2247795.63504845,{"$f":"($AF46-$V46)*(1+3%)-$Z46/VLOOKUP($A46,'sh1'!$N$7:$O$12,2,1)","v":2315229.5040999},2315229.5040999,{"$f":"IF($AG45<VLOOKUP($B46,'sh1'!$N$16:$O$19,2,1)*$AD46,VLOOKUP($B46,'sh1'!$N$16:$O$19,2,1)*$AD46,$AG45)","v":2247795.63504845},{"$f":"IF($AG46<VLOOKUP($B46,'sh1'!$N$16:$O$19,2,1)*$AE46,VLOOKUP($B46,'sh1'!$N$16:$O$19,2,1)*$AE46,$AG46)","v":2315229.5040999},0,3357957.89719983,{"$f":"($AL46-W46)*(1+4.5%)-$Z46/VLOOKUP($A46,'sh1'!$N$7:$O$12,2,1)","v":3509066.00257383},3509066.00257383,{"$f":"IF($AM45<VLOOKUP($B46,'sh1'!$N$16:$O$19,2,1)*$AD46,VLOOKUP($B46,'sh1'!$N$16:$O$19,2,1)*$AD46,$AM45)","v":3357957.89719983},{"$f":"IF($AM46<VLOOKUP($B46,'sh1'!$N$16:$O$19,2,1)*$AE46,VLOOKUP($B46,'sh1'!$N$16:$O$19,2,1)*$AE46,$AM46)","v":3509066.00257383},0,4988100.28348313,{"$f":"($AR46-X46)*(1+6%)-$Z46/VLOOKUP($A46,'sh1'!$N$7:$O$12,2,1)","v":5287386.30049212},5287386.30049212,{"$f":"IF($AS45<VLOOKUP($B46,'sh1'!$N$16:$O$19,2,1)*$AD46,VLOOKUP($B46,'sh1'!$N$16:$O$19,2,1)*$AD46,$AS45)","v":4988100.28348313},{"$f":"IF($AS46<VLOOKUP($B46,'sh1'!$N$16:$O$19,2,1)*$AE46,VLOOKUP($B46,'sh1'!$N$16:$O$19,2,1)*$AE46,$AS46)","v":5287386.30049212},0,"5|0|15|36"]
[37,51,52,null,null,null,null,null,null,null,null,null,null,null,null,null,null,0,{"$f":"SUM($R$11:R47,$P$11:P47,$Q$11:Q47)","v":995816.800000001},0,0,{"$f":"SUM(($B47='sh1'!$R$3:$R$214)*(IF($I$3=\"男\",0,1)='sh1'!$Q$3:$Q$214)*('sh1'!$S$3:$S$214))/1000*AK47","v":0},{"$f":"SUM(($B47='sh1'!$R$3:$R$214)*(IF($I$3=\"男\",0,1)='sh1'!$Q$3:$Q$214)*('sh1'!$S$3:$S$214))/1000*AQ47","v":0},{"$f":"SUM(($B47='sh1'!$R$3:$R$214)*(IF($I$3=\"男\",0,1)='sh1'!$Q$3:$Q$214)*('sh1'!$S$3:$S$214))/1000*AW47","v":0},0,null,{"$f":"-$Z47/VLOOKUP($A47,'sh1'!$N$7:$O$12,2,1)","v":0},{"$f":"SUM($AA$11:AA47)","v":0},995816.800000001,995816.800000001,995816.800000001,2315229.5040999,{"$f":"($AF47-$V47)*(1+3%)-$Z47/VLOOKUP($A47,'sh1'!$N$7:$O$12,2,1)","v":2384686.3892229},2384686.3892229,{"$f":"IF($AG46<VLOOKUP($B47,'sh1'!$N$16:$O$19,2,1)*$AD47,VLOOKUP($B47,'sh1'!$N$16:$O$19,2,1)*$AD47,$AG46)","v":2315229.5040999},{"$f":"IF($AG47<VLOOKUP($B47,'sh1'!$N$16:$O$19,2,1)*$AE47,VLOOKUP($B47,'sh1'!$N$16:$O$19,2,1)*$AE47,$AG47)","v":2384686.3892229},0,3509066.00257383,{"$f":"($AL47-W47)*(1+4.5%)-$Z47/VLOOKUP($A47,'sh1'!$N$7:$O$12,2,1)","v":3666973.97268965},3666973.97268965,{"$f":"IF($AM46<VLOOKUP($B47,'sh1'!$N$16:$O$19,2,1)*$AD47,VLOOKUP($B47,'sh1'!$N$16:$O$19,2,1)*$AD47,$AM46)","v":3509066.00257383},{"$f":"IF($AM47<VLOOKUP($B47,'sh1'!$N$16:$O$19,2,1)*$AE47,VLOOKUP($B47,'sh1'!$N$16:$O$19,2,1)*$AE47,$AM47)","v":3666973.97268965},0,5287386.30049212,{"$f":"($AR47-X47)*(1+6%)-$Z47/VLOOKUP($A47,'sh1'!$N$7:$O$12,2,1)","v":5604629.47852165},5604629.47852165,{"$f":"IF($AS46<VLOOKUP($B47,'sh1'!$N$16:$O$19,2,1)*$AD47,VLOOKUP($B47,'sh1'!$N$16:$O$19,2,1)*$AD47,$AS46)","v":5287386.30049212},{"$f":"IF($AS47<VLOOKUP($B47,'sh1'!$N$16:$O$19,2,1)*$AE47,VLOOKUP($B47,'sh1'!$N$16:$O$19,2,1)*$AE47,$AS47)","v":5604629.47852165},0,"5|0|15|37"]
[38,52,53,null,null,null,null,null,null,null,null,null,null,null,null,null,null,0,{"$f":"SUM($R$11:R48,$P$11:P48,$Q$11:Q48)","v":995816.800000001},0,{"$f":"$R48+$P48+$Q48+$T48","v":0},{"$f":"SUM(($B48='sh1'!$R$3:$R$214)*(IF($I$3=\"男\",0,1)='sh1'!$Q$3:$Q$214)*('sh1'!$S$3:$S$214))/1000*AK48","v":0},{"$f":"SUM(($B48='sh1'!$R$3:$R$214)*(IF($I$3=\"男\",0,1)='sh1'!$Q$3:$Q$214)*('sh1'!$S$3:$S$214))/1000*AQ48","v":0},{"$f":"SUM(($B48='sh1'!$R$3:$R$214)*(IF($I$3=\"男\",0,1)='sh1'!$Q$3:$Q$214)*('sh1'!$S$3:$S$214))/1000*AW48","v":0},0,null,{"$f":"-$Z48/VLOOKUP($A48,'sh1'!$N$7:$O$12,2,1)","v":0},{"$f":"SUM($AA$11:AA48)","v":0},995816.800000001,995816.800000001,995816.800000001,2384686.3892229,{"$f":"($AF48-$V48)*(1+3%)-$Z48/VLOOKUP($A48,'sh1'!$N$7:$O$12,2,1)","v":2456226.98089958},2456226.98089958,{"$f":"IF($AG47<VLOOKUP($B48,'sh1'!$N$16:$O$19,2,1)*$AD48,VLOOKUP($B48,'sh1'!$N$16:$O$19,2,1)*$AD48,$AG47)","v":2384686.3892229},{"$f":"IF($AG48<VLOOKUP($B48,'sh1'!$N$16:$O$19,2,1)*$AE48,VLOOKUP($B48,'sh1'!$N$16:$O$19,2,1)*$AE48,$AG48)","v":2456226.98089958},0,3666973.97268965,{"$f":"($AL48-W48)*(1+4.5%)-$Z48/VLOOKUP($A48,'sh1'!$N$7:$O$12,2,1)","v":3831987.80146068},3831987.80146068,{"$f":"IF($AM47<VLOOKUP($B48,'sh1'!$N$16:$O$19,2,1)*$AD48,VLOOKUP($B48,'sh1'!$N$16:$O$19,2,1)*$AD48,$AM47)","v":3666973.97268965},{"$f":"IF($AM48<VLOOKUP($B48,'sh1'!$N$16:$O$19,2,1)*$AE48,VLOOKUP($B48,'sh1'!$N$16:$O$19,2,1)*$AE48,$AM48)","v":3831987.80146068},0,5604629.47852165,{"$f":"($AR48-X48)*(1+6%)-$Z48/VLOOKUP($A48,'sh1'!$N$7:$O$12,2,1)","v":5940907.24723294},5940907.24723294,{"$f":"IF($AS47<VLOOKUP($B48,'sh1'!$N$16:$O$19,2,1)*$AD48,VLOOKUP($B48,'sh1'!$N$16:$O$19,2,1)*$AD48,$AS47)","v":5604629.47852165},{"$f":"IF($AS48<VLOOKUP($B48,'sh1'!$N$16:$O$19,2,1)*$AE48,VLOOKUP($B48,'sh1'!$N$16:$O$19,2,1)*$AE48,$AS48)","v":5940907.24723294},0,"5|0|15|38"]
[39,53,54,null,null,null,null,null,null,null,null,null,null,null,null,null,null,0,{"$f":"SUM($R$11:R49,$P$11:P49,$Q$11:Q49)","v":995816.800000001},0,{"$f":"$R49+$P49+$Q49+$T49","v":0},{"$f":"SUM(($B49='sh1'!$R$3:$R$214)*(IF($I$3=\"男\",0,1)='sh1'!$Q$3:$Q$214)*('sh1'!$S$3:$S$214))/1000*AK49","v":0},{"$f":"SUM(($B49='sh1'!$R$3:$R$214)*(IF($I$3=\"男\",0,1)='sh1'!$Q$3:$Q$214)*('sh1'!$S$3:$S$214))/1000*AQ49","v":0},{"$f":"SUM(($B49='sh1'!$R$3:$R$214)*(IF($I$3=\"男\",0,1)='sh1'!$Q$3:$Q$214)*('sh1'!$S$3:$S$214))/1000*AW49","v":0},{"$f":"IF($A49=7,(SUM($I38:$I47)+SUM($J38:$J47))*1%,IF($A49>=8,($I47+$J47)*1%,0))","v":0},null,{"$f":"-$Z49/VLOOKUP($A49,'sh1'!$N$7:$O$12,2,1)","v":0},{"$f":"SUM($AA$11:AA49)","v":0},995816.800000001,995816.800000001,995816.800000001,2456226.98089958,{"$f":"($AF49-$V49)*(1+3%)-$Z49/VLOOKUP($A49,'sh1'!$N$7:$O$12,2,1)","v":2529913.79032657},2529913.79032657,{"$f":"IF($AG48<VLOOKUP($B49,'sh1'!$N$16:$O$19,2,1)*$AD49,VLOOKUP($B49,'sh1'!$N$16:$O$19,2,1)*$AD49,$AG48)","v":2456226.98089958},{"$f":"IF($AG49<VLOOKUP($B49,'sh1'!$N$16:$O$19,2,1)*$AE49,VLOOKUP($B49,'sh1'!$N$16:$O$19,2,1)*$AE49,$AG49)","v":2529913.79032657},0,3831987.80146068,{"$f":"($AL49-W49)*(1+4.5%)-$Z49/VLOOKUP($A49,'sh1'!$N$7:$O$12,2,1)","v":4004427.25252641},4004427.25252641,{"$f":"IF($AM48<VLOOKUP($B49,'sh1'!$N$16:$O$19,2,1)*$AD49,VLOOKUP($B49,'sh1'!$N$16:$O$19,2,1)*$AD49,$AM48)","v":3831987.80146068},{"$f":"IF($AM49<VLOOKUP($B49,'sh1'!$N$16:$O$19,2,1)*$AE49,VLOOKUP($B49,'sh1'!$N$16:$O$19,2,1)*$AE49,$AM49)","v":4004427.25252641},0,5940907.24723294,{"$f":"($AR49-X49)*(1+6%)-$Z49/VLOOKUP($A49,'sh1'!$N$7:$O$12,2,1)","v":6297361.68206692},6297361.68206692,{"$f":"IF($AS48<VLOOKUP($B49,'sh1'!$N$16:$O$19,2,1)*$AD49,VLOOKUP($B49,'sh1'!$N$16:$O$19,2,1)*$AD49,$AS48)","v":5940907.24723294},{"$f":"IF($AS49<VLOOKUP($B49,'sh1'!$N$16:$O$19,2,1)*$AE49,VLOOKUP($B49,'sh1'!$N$16:$O$19,2,1)*$AE49,$AS49)","v":6297361.68206692},0,"5|0|15|39"]
[40,54,55,null,null,null,null,null,null,null,null,null,null,null,null,null,null,0,{"$f":"SUM($R$11:R50,$P$11:P50,$Q$11:Q50)","v":995816.800000001},0,0,{"$f":"SUM(($B50='sh1'!$R$3:$R$214)*(IF($I$3=\"男\",0,1)='sh1'!$Q$3:$Q$214)*('sh1'!$S$3:$S$214))/1000*AK50","v":0},{"$f":"SUM(($B50='sh1'!$R$3:$R$214)*(IF($I$3=\"男\",0,1)='sh1'!$Q$3:$Q$214)*('sh1'!$S$3:$S$214))/1000*AQ50","v":0},{"$f":"SUM(($B50='sh1'!$R$3:$R$214)*(IF($I$3=\"男\",0,1)='sh1'!$Q$3:$Q$214)*('sh1'!$S$3:$S$214))/1000*AW50","v":0},{"$f":"IF($A50=7,(SUM($I39:$I48)+SUM($J39:$J48))*1%,IF($A50>=8,($I48+$J48)*1%,0))","v":0},null,{"$f":"-$Z50/VLOOKUP($A50,'sh1'!$N$7:$O$12,2,1)","v":0},{"$f":"SUM($AA$11:AA50)","v":0},995816.800000001,995816.800000001,995816.800000001,2529913.79032657,{"$f":"($AF50-$V50)*(1+3%)-$Z50/VLOOKUP($A50,'sh1'!$N$7:$O$12,2,1)","v":2605811.20403637},2605811.20403637,{"$f":"IF($AG49<VLOOKUP($B50,'sh1'!$N$16:$O$19,2,1)*$AD50,VLOOKUP($B50,'sh1'!$N$16:$O$19,2,1)*$AD50,$AG49)","v":2529913.79032657},{"$f":"IF($AG50<VLOOKUP($B50,'sh1'!$N$16:$O$19,2,1)*$AE50,VLOOKUP($B50,'sh1'!$N$16:$O$19,2,1)*$AE50,$AG50)","v":2605811.20403637},0,4004427.25252641,{"$f":"($AL50-W50)*(1+4.5%)-$Z50/VLOOKUP($A50,'sh1'!$N$7:$O$12,2,1)","v":4184626.4788901},4184626.4788901,{"$f":"IF($AM49<VLOOKUP($B50,'sh1'!$N$16:$O$19,2,1)*$AD50,VLOOKUP($B50,'sh1'!$N$16:$O$19,2,1)*$AD50,$AM49)","v":4004427.25252641},{"$f":"IF($AM50<VLOOKUP($B50,'sh1'!$N$16:$O$19,2,1)*$AE50,VLOOKUP($B50,'sh1'!$N$16:$O$19,2,1)*$AE50,$AM50)","v":4184626.4788901},0,6297361.68206692,{"$f":"($AR50-X50)*(1+6%)-$Z50/VLOOKUP($A50,'sh1'!$N$7:$O$12,2,1)","v":6675203.38299094},6675203.38299094,{"$f":"IF($AS49<VLOOKUP($B50,'sh1'!$N$16:$O$19,2,1)*$AD50,VLOOKUP($B50,'sh1'!$N$16:$O$19,2,1)*$AD50,$AS49)","v":6297361.68206692},{"$f":"IF($AS50<VLOOKUP($B50,'sh1'!$N$16:$O$19,2,1)*$AE50,VLOOKUP($B50,'sh1'!$N$16:$O$19,2,1)*$AE50,$AS50)","v":6675203.38299094},0,"5|0|15|40"]
[41,55,56,null,null,null,null,null,null,null,null,null,null,null,null,null,null,0,{"$f":"SUM($R$11:R51,$P$11:P51,$Q$11:Q51)","v":995816.800000001},0,0,{"$f":"SUM(($B51='sh1'!$R$3:$R$214)*(IF($I$3=\"男\",0,1)='sh1'!$Q$3:$Q$214)*('sh1'!$S$3:$S$214))/1000*AK51","v":0},{"$f":"SUM(($B51='sh1'!$R$3:$R$214)*(IF($I$3=\"男\",0,1)='sh1'!$Q$3:$Q$214)*('sh1'!$S$3:$S$214))/1000*AQ51","v":0},{"$f":"SUM(($B51='sh1'!$R$3:$R$214)*(IF($I$3=\"男\",0,1)='sh1'!$Q$3:$Q$214)*('sh1'!$S$3:$S$214))/1000*AW51","v":0},0,null,{"$f":"-$Z51/VLOOKUP($A51,'sh1'!$N$7:$O$12,2,1)","v":0},{"$f":"SUM($AA$11:AA51)","v":0},995816.800000001,995816.800000001,995816.800000001,2605811.20403637,{"$f":"($AF51-$V51)*(1+3%)-$Z51/VLOOKUP($A51,'sh1'!$N$7:$O$12,2,1)","v":2683985.54015746},2683985.54015746,{"$f":"IF($AG50<VLOOKUP($B51,'sh1'!$N$16:$O$19,2,1)*$AD51,VLOOKUP($B51,'sh1'!$N$16:$O$19,2,1)*$AD51,$AG50)","v":2605811.20403637},{"$f":"IF($AG51<VLOOKUP($B51,'sh1'!$N$16:$O$19,2,1)*$AE51,VLOOKUP($B51,'sh1'!$N$16:$O$19,2,1)*$AE51,$AG51)","v":2683985.54015746},0,4184626.4788901,{"$f":"($AL51-W51)*(1+4.5%)-$Z51/VLOOKUP($A51,'sh1'!$N$7:$O$12,2,1)","v":4372934.67044016},4372934.67044016,{"$f":"IF($AM50<VLOOKUP($B51,'sh1'!$N$16:$O$19,2,1)*$AD51,VLOOKUP($B51,'sh1'!$N$16:$O$19,2,1)*$AD51,$AM50)","v":4184626.4788901},{"$f":"IF($AM51<VLOOKUP($B51,'sh1'!$N$16:$O$19,2,1)*$AE51,VLOOKUP($B51,'sh1'!$N$16:$O$19,2,1)*$AE51,$AM51)","v":4372934.67044016},0,6675203.38299094,{"$f":"($AR51-X51)*(1+6%)-$Z51/VLOOKUP($A51,'sh1'!$N$7:$O$12,2,1)","v":7075715.58597039},7075715.58597039,{"$f":"IF($AS50<VLOOKUP($B51,'sh1'!$N$16:$O$19,2,1)*$AD51,VLOOKUP($B51,'sh1'!$N$16:$O$19,2,1)*$AD51,$AS50)","v":6675203.38299094},{"$f":"IF($AS51<VLOOKUP($B51,'sh1'!$N$16:$O$19,2,1)*$AE51,VLOOKUP($B51,'sh1'!$N$16:$O$19,2,1)*$AE51,$AS51)","v":7075715.58597039},0,"5|0|15|41"]
[42,56,{"$f":"$G$3+A52","v":57},null,null,null,null,null,null,null,null,null,null,null,null,null,null,{"$f":"$I51+$J51","v":0},{"$f":"SUM($R$11:R52,$P$11:P52,$Q$11:Q52)","v":995816.800000001},0,0,{"$f":"SUM(($B52='sh1'!$R$3:$R$214)*(IF($I$3=\"男\",0,1)='sh1'!$Q$3:$Q$214)*('sh1'!$S$3:$S$214))/1000*AK52","v":0},{"$f":"SUM(($B52='sh1'!$R$3:$R$214)*(IF($I$3=\"男\",0,1)='sh1'!$Q$3:$Q$214)*('sh1'!$S$3:$S$214))/1000*AQ52","v":0},{"$f":"SUM(($B52='sh1'!$R$3:$R$214)*(IF($I$3=\"男\",0,1)='sh1'!$Q$3:$Q$214)*('sh1'!$S$3:$S$214))/1000*AW52","v":0},0,null,{"$f":"-$Z52/VLOOKUP($A52,'sh1'!$N$7:$O$12,2,1)","v":0},{"$f":"SUM($AA$11:AA52)","v":0},995816.800000001,{"$f":"$S52+$AB51","v":995816.800000001},995816.800000001,{"$f":"$AG51+$U52+$Y52","v":2683985.54015746},{"$f":"($AF52-$V52)*(1+3%)-$Z52/VLOOKUP($A52,'sh1'!$N$7:$O$12,2,1)","v":2764505.10636218},2764505.10636218,{"$f":"IF($AG51<VLOOKUP($B52,'sh1'!$N$16:$O$19,2,1)*$AD52,VLOOKUP($B52,'sh1'!$N$16:$O$19,2,1)*$AD52,$AG51)","v":2683985.54015746},{"$f":"IF($AG52<VLOOKUP($B52,'sh1'!$N$16:$O$19,2,1)*$AE52,VLOOKUP($B52,'sh1'!$N$16:$O$19,2,1)*$AE52,$AG52)","v":2764505.10636218},{"$f":"IF(AI52-AG51-U52<0,0,AI52-AG51-U52)","v":0},{"$f":"$AM51+$U52+$Y52","v":4372934.67044016},{"$f":"($AL52-W52)*(1+4.5%)-$Z52/VLOOKUP($A52,'sh1'!$N$7:$O$12,2,1)","v":4569716.73060996},4569716.73060996,{"$f":"IF($AM51<VLOOKUP($B52,'sh1'!$N$16:$O$19,2,1)*$AD52,VLOOKUP($B52,'sh1'!$N$16:$O$19,2,1)*$AD52,$AM51)","v":4372934.67044016},{"$f":"IF($AM52<VLOOKUP($B52,'sh1'!$N$16:$O$19,2,1)*$AE52,VLOOKUP($B52,'sh1'!$N$16:$O$19,2,1)*$AE52,$AM52)","v":4569716.73060996},{"$f":"IF(AO52-AM51-U52<0,0,AO52-AM51-U52)","v":0},{"$f":"$AS51+$U52+$Y52","v":7075715.58597039},{"$f":"($AR52-X52)*(1+6%)-$Z52/VLOOKUP($A52,'sh1'!$N$7:$O$12,2,1)","v":7500258.52112862},7500258.52112862,{"$f":"IF($AS51<VLOOKUP($B52,'sh1'!$N$16:$O$19,2,1)*$AD52,VLOOKUP($B52,'sh1'!$N$16:$O$19,2,1)*$AD52,$AS51)","v":7075715.58597039},{"$f":"IF($AS52<VLOOKUP($B52,'sh1'!$N$16:$O$19,2,1)*$AE52,VLOOKUP($B52,'sh1'!$N$16:$O$19,2,1)*$AE52,$AS52)","v":7500258.52112862},{"$f":"IF(AU52-AS51-U52<0,0,AU52-AS51-U52)","v":0},"5|0|15|42"]
[43,57,{"$f":"$G$3+A53","v":58},null,null,null,null,null,null,null,null,null,null,null,null,null,null,{"$f":"$I52+$J52","v":0},{"$f":"SUM($R$11:R53,$P$11:P53,$Q$11:Q53)","v":995816.800000001},0,0,{"$f":"SUM(($B53='sh1'!$R$3:$R$214)*(IF($I$3=\"男\",0,1)='sh1'!$Q$3:$Q$214)*('sh1'!$S$3:$S$214))/1000*AK53","v":0},{"$f":"SUM(($B53='sh1'!$R$3:$R$214)*(IF($I$3=\"男\",0,1)='sh1'!$Q$3:$Q$214)*('sh1'!$S$3:$S$214))/1000*AQ53","v":0},{"$f":"SUM(($B53='sh1'!$R$3:$R$214)*(IF($I$3=\"男\",0,1)='sh1'!$Q$3:$Q$214)*('sh1'!$S$3:$S$214))/1000*AW53","v":0},0,null,{"$f":"-$Z53/VLOOKUP($A53,'sh1'!$N$7:$O$12,2,1)","v":0},{"$f":"SUM($AA$11:AA53)","v":0},995816.800000001,{"$f":"$S53+$AB52","v":995816.800000001},995816.800000001,{"$f":"$AG52+$U53+$Y53","v":2764505.10636218},{"$f":"($AF53-$V53)*(1+3%)-$Z53/VLOOKUP($A53,'sh1'!$N$7:$O$12,2,1)","v":2847440.25955305},2847440.25955305,{"$f":"IF($AG52<VLOOKUP($B53,'sh1'!$N$16:$O$19,2,1)*$AD53,VLOOKUP($B53,'sh1'!$N$16:$O$19,2,1)*$AD53,$AG52)","v":2764505.10636218},{"$f":"IF($AG53<VLOOKUP($B53,'sh1'!$N$16:$O$19,2,1)*$AE53,VLOOKUP($B53,'sh1'!$N$16:$O$19,2,1)*$AE53,$AG53)","v":2847440.25955305},{"$f":"IF(AI53-AG52-U53<0,0,AI53-AG52-U53)","v":0},{"$f":"$AM52+$U53+$Y53","v":4569716.73060996},{"$f":"($AL53-W53)*(1+4.5%)-$Z53/VLOOKUP($A53,'sh1'!$N$7:$O$12,2,1)","v":4775353.98348741},4775353.98348741,{"$f":"IF($AM52<VLOOKUP($B53,'sh1'!$N$16:$O$19,2,1)*$AD53,VLOOKUP($B53,'sh1'!$N$16:$O$19,2,1)*$AD53,$AM52)","v":4569716.73060996},{"$f":"IF($AM53<VLOOKUP($B53,'sh1'!$N$16:$O$19,2,1)*$AE53,VLOOKUP($B53,'sh1'!$N$16:$O$19,2,1)*$AE53,$AM53)","v":4775353.98348741},{"$f":"IF(AO53-AM52-U53<0,0,AO53-AM52-U53)","v":0},{"$f":"$AS52+$U53+$Y53","v":7500258.52112862},{"$f":"($AR53-X53)*(1+6%)-$Z53/VLOOKUP($A53,'sh1'!$N$7:$O$12,2,1)","v":7950274.03239633},7950274.03239633,{"$f":"IF($AS52<VLOOKUP($B53,'sh1'!$N$16:$O$19,2,1)*$AD53,VLOOKUP($B53,'sh1'!$N$16:$O$19,2,1)*$AD53,$AS52)","v":7500258.52112862},{"$f":"IF($AS53<VLOOKUP($B53,'sh1'!$N$16:$O$19,2,1)*$AE53,VLOOKUP($B53,'sh1'!$N$16:$O$19,2,1)*$AE53,$AS53)","v":7950274.03239633},{"$f":"IF(AU53-AS52-U53<0,0,AU53-AS52-U53)","v":0},"5|0|15|43"]
[44,58,{"$f":"$G$3+A54","v":59},null,null,null,null,null,null,null,null,null,null,null,null,null,null,{"$f":"$I53+$J53","v":0},{"$f":"SUM($R$11:R54,$P$11:P54,$Q$11:Q54)","v":995816.800000001},0,0,{"$f":"SUM(($B54='sh1'!$R$3:$R$214)*(IF($I$3=\"男\",0,1)='sh1'!$Q$3:$Q$214)*('sh1'!$S$3:$S$214))/1000*AK54","v":0},{"$f":"SUM(($B54='sh1'!$R$3:$R$214)*(IF($I$3=\"男\",0,1)='sh1'!$Q$3:$Q$214)*('sh1'!$S$3:$S$214))/1000*AQ54","v":0},{"$f":"SUM(($B54='sh1'!$R$3:$R$214)*(IF($I$3=\"男\",0,1)='sh1'!$Q$3:$Q$214)*('sh1'!$S$3:$S$214))/1000*AW54","v":0},0,null,{"$f":"-$Z54/VLOOKUP($A54,'sh1'!$N$7:$O$12,2,1)","v":0},{"$f":"SUM($AA$11:AA54)","v":0},995816.800000001,995816.800000001,995816.800000001,2847440.25955305,{"$f":"($AF54-$V54)*(1+3%)-$Z54/VLOOKUP($A54,'sh1'!$N$7:$O$12,2,1)","v":2932863.46733964},2932863.46733964,{"$f":"IF($AG53<VLOOKUP($B54,'sh1'!$N$16:$O$19,2,1)*$AD54,VLOOKUP($B54,'sh1'!$N$16:$O$19,2,1)*$AD54,$AG53)","v":2847440.25955305},{"$f":"IF($AG54<VLOOKUP($B54,'sh1'!$N$16:$O$19,2,1)*$AE54,VLOOKUP($B54,'sh1'!$N$16:$O$19,2,1)*$AE54,$AG54)","v":2932863.46733964},0,4775353.98348741,{"$f":"($AL54-W54)*(1+4.5%)-$Z54/VLOOKUP($A54,'sh1'!$N$7:$O$12,2,1)","v":4990244.91274434},4990244.91274434,{"$f":"IF($AM53<VLOOKUP($B54,'sh1'!$N$16:$O$19,2,1)*$AD54,VLOOKUP($B54,'sh1'!$N$16:$O$19,2,1)*$AD54,$AM53)","v":4775353.98348741},{"$f":"IF($AM54<VLOOKUP($B54,'sh1'!$N$16:$O$19,2,1)*$AE54,VLOOKUP($B54,'sh1'!$N$16:$O$19,2,1)*$AE54,$AM54)","v":4990244.91274434},0,7950274.03239633,{"$f":"($AR54-X54)*(1+6%)-$Z54/VLOOKUP($A54,'sh1'!$N$7:$O$12,2,1)","v":8427290.47434011},8427290.47434011,{"$f":"IF($AS53<VLOOKUP($B54,'sh1'!$N$16:$O$19,2,1)*$AD54,VLOOKUP($B54,'sh1'!$N$16:$O$19,2,1)*$AD54,$AS53)","v":7950274.03239633},{"$f":"IF($AS54<VLOOKUP($B54,'sh1'!$N$16:$O$19,2,1)*$AE54,VLOOKUP($B54,'sh1'!$N$16:$O$19,2,1)*$AE54,$AS54)","v":8427290.47434011},0,"5|0|15|44"]
[45,59,60,null,null,null,null,null,null,null,null,null,null,null,null,null,null,0,{"$f":"SUM($R$11:R55,$P$11:P55,$Q$11:Q55)","v":995816.800000001},0,0,{"$f":"SUM(($B55='sh1'!$R$3:$R$214)*(IF($I$3=\"男\",0,1)='sh1'!$Q$3:$Q$214)*('sh1'!$S$3:$S$214))/1000*AK55","v":0},{"$f":"SUM(($B55='sh1'!$R$3:$R$214)*(IF($I$3=\"男\",0,1)='sh1'!$Q$3:$Q$214)*('sh1'!$S$3:$S$214))/1000*AQ55","v":0},{"$f":"SUM(($B55='sh1'!$R$3:$R$214)*(IF($I$3=\"男\",0,1)='sh1'!$Q$3:$Q$214)*('sh1'!$S$3:$S$214))/1000*AW55","v":0},0,null,{"$f":"-$Z55/VLOOKUP($A55,'sh1'!$N$7:$O$12,2,1)","v":0},{"$f":"SUM($AA$11:AA55)","v":0},995816.800000001,995816.800000001,995816.800000001,2932863.46733964,{"$f":"($AF55-$V55)*(1+3%)-$Z55/VLOOKUP($A55,'sh1'!$N$7:$O$12,2,1)","v":3020849.37135983},3020849.37135983,{"$f":"IF($AG54<VLOOKUP($B55,'sh1'!$N$16:$O$19,2,1)*$AD55,VLOOKUP($B55,'sh1'!$N$16:$O$19,2,1)*$AD55,$AG54)","v":2932863.46733964},{"$f":"IF($AG55<VLOOKUP($B55,'sh1'!$N$16:$O$19,2,1)*$AE55,VLOOKUP($B55,'sh1'!$N$16:$O$19,2,1)*$AE55,$AG55)","v":3020849.37135983},0,4990244.91274434,{"$f":"($AL55-W55)*(1+4.5%)-$Z55/VLOOKUP($A55,'sh1'!$N$7:$O$12,2,1)","v":5214805.93381784},5214805.93381784,{"$f":"IF($AM54<VLOOKUP($B55,'sh1'!$N$16:$O$19,2,1)*$AD55,VLOOKUP($B55,'sh1'!$N$16:$O$19,2,1)*$AD55,$AM54)","v":4990244.91274434},{"$f":"IF($AM55<VLOOKUP($B55,'sh1'!$N$16:$O$19,2,1)*$AE55,VLOOKUP($B55,'sh1'!$N$16:$O$19,2,1)*$AE55,$AM55)","v":5214805.93381784},0,8427290.47434011,{"$f":"($AR55-X55)*(1+6%)-$Z55/VLOOKUP($A55,'sh1'!$N$7:$O$12,2,1)","v":8932927.90280052},8932927.90280052,{"$f":"IF($AS54<VLOOKUP($B55,'sh1'!$N$16:$O$19,2,1)*$AD55,VLOOKUP($B55,'sh1'!$N$16:$O$19,2,1)*$AD55,$AS54)","v":8427290.47434011},{"$f":"IF($AS55<VLOOKUP($B55,'sh1'!$N$16:$O$19,2,1)*$AE55,VLOOKUP($B55,'sh1'!$N$16:$O$19,2,1)*$AE55,$AS55)","v":8932927.90280052},0,"5|0|15|45"]
[46,60,61,null,null,null,null,null,null,null,null,null,null,null,null,null,null,0,{"$f":"SUM($R$11:R56,$P$11:P56,$Q$11:Q56)","v":995816.800000001},0,0,{"$f":"SUM(($B56='sh1'!$R$3:$R$214)*(IF($I$3=\"男\",0,1)='sh1'!$Q$3:$Q$214)*('sh1'!$S$3:$S$214))/1000*AK56","v":0},{"$f":"SUM(($B56='sh1'!$R$3:$R$214)*(IF($I$3=\"男\",0,1)='sh1'!$Q$3:$Q$214)*('sh1'!$S$3:$S$214))/1000*AQ56","v":0},{"$f":"SUM(($B56='sh1'!$R$3:$R$214)*(IF($I$3=\"男\",0,1)='sh1'!$Q$3:$Q$214)*('sh1'!$S$3:$S$214))/1000*AW56","v":0},0,null,{"$f":"-$Z56/VLOOKUP($A56,'sh1'!$N$7:$O$12,2,1)","v":0},{"$f":"SUM($AA$11:AA56)","v":0},995816.800000001,995816.800000001,995816.800000001,3020849.37135983,{"$f":"($AF56-$V56)*(1+3%)-$Z56/VLOOKUP($A56,'sh1'!$N$7:$O$12,2,1)","v":3111474.85250063},3111474.85250063,{"$f":"IF($AG55<VLOOKUP($B56,'sh1'!$N$16:$O$19,2,1)*$AD56,VLOOKUP($B56,'sh1'!$N$16:$O$19,2,1)*$AD56,$AG55)","v":3020849.37135983},{"$f":"IF($AG56<VLOOKUP($B56,'sh1'!$N$16:$O$19,2,1)*$AE56,VLOOKUP($B56,'sh1'!$N$16:$O$19,2,1)*$AE56,$AG56)","v":3111474.85250063},0,5214805.93381784,{"$f":"($AL56-W56)*(1+4.5%)-$Z56/VLOOKUP($A56,'sh1'!$N$7:$O$12,2,1)","v":5449472.20083964},5449472.20083964,{"$f":"IF($AM55<VLOOKUP($B56,'sh1'!$N$16:$O$19,2,1)*$AD56,VLOOKUP($B56,'sh1'!$N$16:$O$19,2,1)*$AD56,$AM55)","v":5214805.93381784},{"$f":"IF($AM56<VLOOKUP($B56,'sh1'!$N$16:$O$19,2,1)*$AE56,VLOOKUP($B56,'sh1'!$N$16:$O$19,2,1)*$AE56,$AM56)","v":5449472.20083964},0,8932927.90280052,{"$f":"($AR56-X56)*(1+6%)-$Z56/VLOOKUP($A56,'sh1'!$N$7:$O$12,2,1)","v":9468903.57696855},9468903.57696855,{"$f":"IF($AS55<VLOOKUP($B56,'sh1'!$N$16:$O$19,2,1)*$AD56,VLOOKUP($B56,'sh1'!$N$16:$O$19,2,1)*$AD56,$AS55)","v":8932927.90280052},{"$f":"IF($AS56<VLOOKUP($B56,'sh1'!$N$16:$O$19,2,1)*$AE56,VLOOKUP($B56,'sh1'!$N$16:$O$19,2,1)*$AE56,$AS56)","v":9468903.57696855},0,"5|0|15|46"]
[47,61,62,null,null,null,null,null,null,null,null,null,null,null,null,null,null,0,{"$f":"SUM($R$11:R57,$P$11:P57,$Q$11:Q57)","v":995816.800000001},0,0,{"$f":"SUM(($B57='sh1'!$R$3:$R$214)*(IF($I$3=\"男\",0,1)='sh1'!$Q$3:$Q$214)*('sh1'!$S$3:$S$214))/1000*AK57","v":0},{"$f":"SUM(($B57='sh1'!$R$3:$R$214)*(IF($I$3=\"男\",0,1)='sh1'!$Q$3:$Q$214)*('sh1'!$S$3:$S$214))/1000*AQ57","v":0},{"$f":"SUM(($B57='sh1'!$R$3:$R$214)*(IF($I$3=\"男\",0,1)='sh1'!$Q$3:$Q$214)*('sh1'!$S$3:$S$214))/1000*AW57","v":0},0,null,{"$f":"-$Z57/VLOOKUP($A57,'sh1'!$N$7:$O$12,2,1)","v":0},{"$f":"SUM($AA$11:AA57)","v":0},995816.800000001,995816.800000001,995816.800000001,3111474.85250063,{"$f":"($AF57-$V57)*(1+3%)-$Z57/VLOOKUP($A57,'sh1'!$N$7:$O$12,2,1)","v":3204819.09807564},3204819.09807564,{"$f":"IF($AG56<VLOOKUP($B57,'sh1'!$N$16:$O$19,2,1)*$AD57,VLOOKUP($B57,'sh1'!$N$16:$O$19,2,1)*$AD57,$AG56)","v":3111474.85250063},{"$f":"IF($AG57<VLOOKUP($B57,'sh1'!$N$16:$O$19,2,1)*$AE57,VLOOKUP($B57,'sh1'!$N$16:$O$19,2,1)*$AE57,$AG57)","v":3204819.09807564},0,5449472.20083964,{"$f":"($AL57-W57)*(1+4.5%)-$Z57/VLOOKUP($A57,'sh1'!$N$7:$O$12,2,1)","v":5694698.44987742},5694698.44987742,{"$f":"IF($AM56<VLOOKUP($B57,'sh1'!$N$16:$O$19,2,1)*$AD57,VLOOKUP($B57,'sh1'!$N$16:$O$19,2,1)*$AD57,$AM56)","v":5449472.20083964},{"$f":"IF($AM57<VLOOKUP($B57,'sh1'!$N$16:$O$19,2,1)*$AE57,VLOOKUP($B57,'sh1'!$N$16:$O$19,2,1)*$AE57,$AM57)","v":5694698.44987742},0,9468903.57696855,{"$f":"($AR57-X57)*(1+6%)-$Z57/VLOOKUP($A57,'sh1'!$N$7:$O$12,2,1)","v":10037037.7915867},10037037.7915867,{"$f":"IF($AS56<VLOOKUP($B57,'sh1'!$N$16:$O$19,2,1)*$AD57,VLOOKUP($B57,'sh1'!$N$16:$O$19,2,1)*$AD57,$AS56)","v":9468903.57696855},{"$f":"IF($AS57<VLOOKUP($B57,'sh1'!$N$16:$O$19,2,1)*$AE57,VLOOKUP($B57,'sh1'!$N$16:$O$19,2,1)*$AE57,$AS57)","v":10037037.7915867},0,"5|0|15|47"]
[48,62,63,null,null,null,null,null,null,null,null,null,null,null,null,null,null,0,{"$f":"SUM($R$11:R58,$P$11:P58,$Q$11:Q58)","v":995816.800000001},0,0,{"$f":"SUM(($B58='sh1'!$R$3:$R$214)*(IF($I$3=\"男\",0,1)='sh1'!$Q$3:$Q$214)*('sh1'!$S$3:$S$214))/1000*AK58","v":0},{"$f":"SUM(($B58='sh1'!$R$3:$R$214)*(IF($I$3=\"男\",0,1)='sh1'!$Q$3:$Q$214)*('sh1'!$S$3:$S$214))/1000*AQ58","v":0},{"$f":"SUM(($B58='sh1'!$R$3:$R$214)*(IF($I$3=\"男\",0,1)='sh1'!$Q$3:$Q$214)*('sh1'!$S$3:$S$214))/1000*AW58","v":0},0,null,{"$f":"-$Z58/VLOOKUP($A58,'sh1'!$N$7:$O$12,2,1)","v":0},{"$f":"SUM($AA$11:AA58)","v":0},995816.800000001,995816.800000001,995816.800000001,3204819.09807564,{"$f":"($AF58-$V58)*(1+3%)-$Z58/VLOOKUP($A58,'sh1'!$N$7:$O$12,2,1)","v":3300963.67101791},3300963.67101791,{"$f":"IF($AG57<VLOOKUP($B58,'sh1'!$N$16:$O$19,2,1)*$AD58,VLOOKUP($B58,'sh1'!$N$16:$O$19,2,1)*$AD58,$AG57)","v":3204819.09807564},{"$f":"IF($AG58<VLOOKUP($B58,'sh1'!$N$16:$O$19,2,1)*$AE58,VLOOKUP($B58,'sh1'!$N$16:$O$19,2,1)*$AE58,$AG58)","v":3300963.67101791},0,5694698.44987742,{"$f":"($AL58-W58)*(1+4.5%)-$Z58/VLOOKUP($A58,'sh1'!$N$7:$O$12,2,1)","v":5950959.88012191},5950959.88012191,{"$f":"IF($AM57<VLOOKUP($B58,'sh1'!$N$16:$O$19,2,1)*$AD58,VLOOKUP($B58,'sh1'!$N$16:$O$19,2,1)*$AD58,$AM57)","v":5694698.44987742},{"$f":"IF($AM58<VLOOKUP($B58,'sh1'!$N$16:$O$19,2,1)*$AE58,VLOOKUP($B58,'sh1'!$N$16:$O$19,2,1)*$AE58,$AM58)","v":5950959.88012191},0,10037037.7915867,{"$f":"($AR58-X58)*(1+6%)-$Z58/VLOOKUP($A58,'sh1'!$N$7:$O$12,2,1)","v":10639260.0590819},10639260.0590819,{"$f":"IF($AS57<VLOOKUP($B58,'sh1'!$N$16:$O$19,2,1)*$AD58,VLOOKUP($B58,'sh1'!$N$16:$O$19,2,1)*$AD58,$AS57)","v":10037037.7915867},{"$f":"IF($AS58<VLOOKUP($B58,'sh1'!$N$16:$O$19,2,1)*$AE58,VLOOKUP($B58,'sh1'!$N$16:$O$19,2,1)*$AE58,$AS58)","v":10639260.0590819},0,"5|0|15|48"]
[49,63,64,null,null,null,null,null,null,null,null,null,null,null,null,null,null,0,{"$f":"SUM($R$11:R59,$P$11:P59,$Q$11:Q59)","v":995816.800000001},0,0,{"$f":"SUM(($B59='sh1'!$R$3:$R$214)*(IF($I$3=\"男\",0,1)='sh1'!$Q$3:$Q$214)*('sh1'!$S$3:$S$214))/1000*AK59","v":0},{"$f":"SUM(($B59='sh1'!$R$3:$R$214)*(IF($I$3=\"男\",0,1)='sh1'!$Q$3:$Q$214)*('sh1'!$S$3:$S$214))/1000*AQ59","v":0},{"$f":"SUM(($B59='sh1'!$R$3:$R$214)*(IF($I$3=\"男\",0,1)='sh1'!$Q$3:$Q$214)*('sh1'!$S$3:$S$214))/1000*AW59","v":0},0,null,{"$f":"-$Z59/VLOOKUP($A59,'sh1'!$N$7:$O$12,2,1)","v":0},{"$f":"SUM($AA$11:AA59)","v":0},995816.800000001,995816.800000001,995816.800000001,3300963.67101791,{"$f":"($AF59-$V59)*(1+3%)-$Z59/VLOOKUP($A59,'sh1'!$N$7:$O$12,2,1)","v":3399992.58114845},3399992.58114845,{"$f":"IF($AG58<VLOOKUP($B59,'sh1'!$N$16:$O$19,2,1)*$AD59,VLOOKUP($B59,'sh1'!$N$16:$O$19,2,1)*$AD59,$AG58)","v":3300963.67101791},{"$f":"IF($AG59<VLOOKUP($B59,'sh1'!$N$16:$O$19,2,1)*$AE59,VLOOKUP($B59,'sh1'!$N$16:$O$19,2,1)*$AE59,$AG59)","v":3399992.58114845},0,5950959.88012191,{"$f":"($AL59-W59)*(1+4.5%)-$Z59/VLOOKUP($A59,'sh1'!$N$7:$O$12,2,1)","v":6218753.07472739},6218753.07472739,{"$f":"IF($AM58<VLOOKUP($B59,'sh1'!$N$16:$O$19,2,1)*$AD59,VLOOKUP($B59,'sh1'!$N$16:$O$19,2,1)*$AD59,$AM58)","v":5950959.88012191},{"$f":"IF($AM59<VLOOKUP($B59,'sh1'!$N$16:$O$19,2,1)*$AE59,VLOOKUP($B59,'sh1'!$N$16:$O$19,2,1)*$AE59,$AM59)","v":6218753.07472739},0,10639260.0590819,{"$f":"($AR59-X59)*(1+6%)-$Z59/VLOOKUP($A59,'sh1'!$N$7:$O$12,2,1)","v":11277615.6626268},11277615.6626268,{"$f":"IF($AS58<VLOOKUP($B59,'sh1'!$N$16:$O$19,2,1)*$AD59,VLOOKUP($B59,'sh1'!$N$16:$O$19,2,1)*$AD59,$AS58)","v":10639260.0590819},{"$f":"IF($AS59<VLOOKUP($B59,'sh1'!$N$16:$O$19,2,1)*$AE59,VLOOKUP($B59,'sh1'!$N$16:$O$19,2,1)*$AE59,$AS59)","v":11277615.6626268},0,"5|0|15|49"]
[50,64,65,null,null,null,null,null,null,null,null,null,null,null,null,null,null,0,{"$f":"SUM($R$11:R60,$P$11:P60,$Q$11:Q60)","v":995816.800000001},0,0,{"$f":"SUM(($B60='sh1'!$R$3:$R$214)*(IF($I$3=\"男\",0,1)='sh1'!$Q$3:$Q$214)*('sh1'!$S$3:$S$214))/1000*AK60","v":0},{"$f":"SUM(($B60='sh1'!$R$3:$R$214)*(IF($I$3=\"男\",0,1)='sh1'!$Q$3:$Q$214)*('sh1'!$S$3:$S$214))/1000*AQ60","v":0},{"$f":"SUM(($B60='sh1'!$R$3:$R$214)*(IF($I$3=\"男\",0,1)='sh1'!$Q$3:$Q$214)*('sh1'!$S$3:$S$214))/1000*AW60","v":0},0,null,{"$f":"-$Z60/VLOOKUP($A60,'sh1'!$N$7:$O$12,2,1)","v":0},{"$f":"SUM($AA$11:AA60)","v":0},995816.800000001,995816.800000001,995816.800000001,3399992.58114845,{"$f":"($AF60-$V60)*(1+3%)-$Z60/VLOOKUP($A60,'sh1'!$N$7:$O$12,2,1)","v":3501992.35858291},3501992.35858291,{"$f":"IF($AG59<VLOOKUP($B60,'sh1'!$N$16:$O$19,2,1)*$AD60,VLOOKUP($B60,'sh1'!$N$16:$O$19,2,1)*$AD60,$AG59)","v":3399992.58114845},{"$f":"IF($AG60<VLOOKUP($B60,'sh1'!$N$16:$O$19,2,1)*$AE60,VLOOKUP($B60,'sh1'!$N$16:$O$19,2,1)*$AE60,$AG60)","v":3501992.35858291},0,6218753.07472739,{"$f":"($AL60-W60)*(1+4.5%)-$Z60/VLOOKUP($A60,'sh1'!$N$7:$O$12,2,1)","v":6498596.96309012},6498596.96309012,{"$f":"IF($AM59<VLOOKUP($B60,'sh1'!$N$16:$O$19,2,1)*$AD60,VLOOKUP($B60,'sh1'!$N$16:$O$19,2,1)*$AD60,$AM59)","v":6218753.07472739},{"$f":"IF($AM60<VLOOKUP($B60,'sh1'!$N$16:$O$19,2,1)*$AE60,VLOOKUP($B60,'sh1'!$N$16:$O$19,2,1)*$AE60,$AM60)","v":6498596.96309012},0,11277615.6626268,{"$f":"($AR60-X60)*(1+6%)-$Z60/VLOOKUP($A60,'sh1'!$N$7:$O$12,2,1)","v":11954272.6023844},11954272.6023844,{"$f":"IF($AS59<VLOOKUP($B60,'sh1'!$N$16:$O$19,2,1)*$AD60,VLOOKUP($B60,'sh1'!$N$16:$O$19,2,1)*$AD60,$AS59)","v":11277615.6626268},{"$f":"IF($AS60<VLOOKUP($B60,'sh1'!$N$16:$O$19,2,1)*$AE60,VLOOKUP($B60,'sh1'!$N$16:$O$19,2,1)*$AE60,$AS60)","v":11954272.6023844},0,"5|0|15|50"]
[51,65,66,null,null,null,null,null,null,null,null,null,null,null,null,null,null,0,{"$f":"SUM($R$11:R61,$P$11:P61,$Q$11:Q61)","v":995816.800000001},0,0,{"$f":"SUM(($B61='sh1'!$R$3:$R$214)*(IF($I$3=\"男\",0,1)='sh1'!$Q$3:$Q$214)*('sh1'!$S$3:$S$214))/1000*AK61","v":0},{"$f":"SUM(($B61='sh1'!$R$3:$R$214)*(IF($I$3=\"男\",0,1)='sh1'!$Q$3:$Q$214)*('sh1'!$S$3:$S$214))/1000*AQ61","v":0},{"$f":"SUM(($B61='sh1'!$R$3:$R$214)*(IF($I$3=\"男\",0,1)='sh1'!$Q$3:$Q$214)*('sh1'!$S$3:$S$214))/1000*AW61","v":0},0,null,{"$f":"-$Z61/VLOOKUP($A61,'sh1'!$N$7:$O$12,2,1)","v":0},{"$f":"SUM($AA$11:AA61)","v":0},995816.800000001,995816.800000001,995816.800000001,3501992.35858291,{"$f":"($AF61-$V61)*(1+3%)-$Z61/VLOOKUP($A61,'sh1'!$N$7:$O$12,2,1)","v":3607052.12934039},3607052.12934039,{"$f":"IF($AG60<VLOOKUP($B61,'sh1'!$N$16:$O$19,2,1)*$AD61,VLOOKUP($B61,'sh1'!$N$16:$O$19,2,1)*$AD61,$AG60)","v":3501992.35858291},{"$f":"IF($AG61<VLOOKUP($B61,'sh1'!$N$16:$O$19,2,1)*$AE61,VLOOKUP($B61,'sh1'!$N$16:$O$19,2,1)*$AE61,$AG61)","v":3607052.12934039},0,6498596.96309012,{"$f":"($AL61-W61)*(1+4.5%)-$Z61/VLOOKUP($A61,'sh1'!$N$7:$O$12,2,1)","v":6791033.82642918},6791033.82642918,{"$f":"IF($AM60<VLOOKUP($B61,'sh1'!$N$16:$O$19,2,1)*$AD61,VLOOKUP($B61,'sh1'!$N$16:$O$19,2,1)*$AD61,$AM60)","v":6498596.96309012},{"$f":"IF($AM61<VLOOKUP($B61,'sh1'!$N$16:$O$19,2,1)*$AE61,VLOOKUP($B61,'sh1'!$N$16:$O$19,2,1)*$AE61,$AM61)","v":6791033.82642918},0,11954272.6023844,{"$f":"($AR61-X61)*(1+6%)-$Z61/VLOOKUP($A61,'sh1'!$N$7:$O$12,2,1)","v":12671528.9585275},12671528.9585275,{"$f":"IF($AS60<VLOOKUP($B61,'sh1'!$N$16:$O$19,2,1)*$AD61,VLOOKUP($B61,'sh1'!$N$16:$O$19,2,1)*$AD61,$AS60)","v":11954272.6023844},{"$f":"IF($AS61<VLOOKUP($B61,'sh1'!$N$16:$O$19,2,1)*$AE61,VLOOKUP($B61,'sh1'!$N$16:$O$19,2,1)*$AE61,$AS61)","v":12671528.9585275},0,"5|0|15|51"]
[52,66,67,null,null,null,null,null,null,null,null,null,null,null,null,null,null,0,{"$f":"SUM($R$11:R62,$P$11:P62,$Q$11:Q62)","v":995816.800000001},0,0,{"$f":"SUM(($B62='sh1'!$R$3:$R$214)*(IF($I$3=\"男\",0,1)='sh1'!$Q$3:$Q$214)*('sh1'!$S$3:$S$214))/1000*AK62","v":0},{"$f":"SUM(($B62='sh1'!$R$3:$R$214)*(IF($I$3=\"男\",0,1)='sh1'!$Q$3:$Q$214)*('sh1'!$S$3:$S$214))/1000*AQ62","v":0},{"$f":"SUM(($B62='sh1'!$R$3:$R$214)*(IF($I$3=\"男\",0,1)='sh1'!$Q$3:$Q$214)*('sh1'!$S$3:$S$214))/1000*AW62","v":0},0,null,{"$f":"-$Z62/VLOOKUP($A62,'sh1'!$N$7:$O$12,2,1)","v":0},{"$f":"SUM($AA$11:AA62)","v":0},995816.800000001,995816.800000001,995816.800000001,3607052.12934039,{"$f":"($AF62-$V62)*(1+3%)-$Z62/VLOOKUP($A62,'sh1'!$N$7:$O$12,2,1)","v":3715263.6932206},3715263.6932206,{"$f":"IF($AG61<VLOOKUP($B62,'sh1'!$N$16:$O$19,2,1)*$AD62,VLOOKUP($B62,'sh1'!$N$16:$O$19,2,1)*$AD62,$AG61)","v":3607052.12934039},{"$f":"IF($AG62<VLOOKUP($B62,'sh1'!$N$16:$O$19,2,1)*$AE62,VLOOKUP($B62,'sh1'!$N$16:$O$19,2,1)*$AE62,$AG62)","v":3715263.6932206},0,6791033.82642918,{"$f":"($AL62-W62)*(1+4.5%)-$Z62/VLOOKUP($A62,'sh1'!$N$7:$O$12,2,1)","v":7096630.34861849},7096630.34861849,{"$f":"IF($AM61<VLOOKUP($B62,'sh1'!$N$16:$O$19,2,1)*$AD62,VLOOKUP($B62,'sh1'!$N$16:$O$19,2,1)*$AD62,$AM61)","v":6791033.82642918},{"$f":"IF($AM62<VLOOKUP($B62,'sh1'!$N$16:$O$19,2,1)*$AE62,VLOOKUP($B62,'sh1'!$N$16:$O$19,2,1)*$AE62,$AM62)","v":7096630.34861849},0,12671528.9585275,{"$f":"($AR62-X62)*(1+6%)-$Z62/VLOOKUP($A62,'sh1'!$N$7:$O$12,2,1)","v":13431820.6960391},13431820.6960391,{"$f":"IF($AS61<VLOOKUP($B62,'sh1'!$N$16:$O$19,2,1)*$AD62,VLOOKUP($B62,'sh1'!$N$16:$O$19,2,1)*$AD62,$AS61)","v":12671528.9585275},{"$f":"IF($AS62<VLOOKUP($B62,'sh1'!$N$16:$O$19,2,1)*$AE62,VLOOKUP($B62,'sh1'!$N$16:$O$19,2,1)*$AE62,$AS62)","v":13431820.6960391},0,"5|0|15|52"]
[53,67,68,null,null,null,null,null,null,null,null,null,null,null,null,null,null,0,{"$f":"SUM($R$11:R63,$P$11:P63,$Q$11:Q63)","v":995816.800000001},0,0,{"$f":"SUM(($B63='sh1'!$R$3:$R$214)*(IF($I$3=\"男\",0,1)='sh1'!$Q$3:$Q$214)*('sh1'!$S$3:$S$214))/1000*AK63","v":0},{"$f":"SUM(($B63='sh1'!$R$3:$R$214)*(IF($I$3=\"男\",0,1)='sh1'!$Q$3:$Q$214)*('sh1'!$S$3:$S$214))/1000*AQ63","v":0},{"$f":"SUM(($B63='sh1'!$R$3:$R$214)*(IF($I$3=\"男\",0,1)='sh1'!$Q$3:$Q$214)*('sh1'!$S$3:$S$214))/1000*AW63","v":0},0,null,{"$f":"-$Z63/VLOOKUP($A63,'sh1'!$N$7:$O$12,2,1)","v":0},{"$f":"SUM($AA$11:AA63)","v":0},995816.800000001,995816.800000001,995816.800000001,3715263.6932206,{"$f":"($AF63-$V63)*(1+3%)-$Z63/VLOOKUP($A63,'sh1'!$N$7:$O$12,2,1)","v":3826721.60401722},3826721.60401722,{"$f":"IF($AG62<VLOOKUP($B63,'sh1'!$N$16:$O$19,2,1)*$AD63,VLOOKUP($B63,'sh1'!$N$16:$O$19,2,1)*$AD63,$AG62)","v":3715263.6932206},{"$f":"IF($AG63<VLOOKUP($B63,'sh1'!$N$16:$O$19,2,1)*$AE63,VLOOKUP($B63,'sh1'!$N$16:$O$19,2,1)*$AE63,$AG63)","v":3826721.60401722},0,7096630.34861849,{"$f":"($AL63-W63)*(1+4.5%)-$Z63/VLOOKUP($A63,'sh1'!$N$7:$O$12,2,1)","v":7415978.71430632},7415978.71430632,{"$f":"IF($AM62<VLOOKUP($B63,'sh1'!$N$16:$O$19,2,1)*$AD63,VLOOKUP($B63,'sh1'!$N$16:$O$19,2,1)*$AD63,$AM62)","v":7096630.34861849},{"$f":"IF($AM63<VLOOKUP($B63,'sh1'!$N$16:$O$19,2,1)*$AE63,VLOOKUP($B63,'sh1'!$N$16:$O$19,2,1)*$AE63,$AM63)","v":7415978.71430632},0,13431820.6960391,{"$f":"($AR63-X63)*(1+6%)-$Z63/VLOOKUP($A63,'sh1'!$N$7:$O$12,2,1)","v":14237729.9378014},14237729.9378014,{"$f":"IF($AS62<VLOOKUP($B63,'sh1'!$N$16:$O$19,2,1)*$AD63,VLOOKUP($B63,'sh1'!$N$16:$O$19,2,1)*$AD63,$AS62)","v":13431820.6960391},{"$f":"IF($AS63<VLOOKUP($B63,'sh1'!$N$16:$O$19,2,1)*$AE63,VLOOKUP($B63,'sh1'!$N$16:$O$19,2,1)*$AE63,$AS63)","v":14237729.9378014},0,"5|0|15|53"]
[54,68,69,null,null,null,null,null,null,null,null,null,null,null,null,null,null,0,{"$f":"SUM($R$11:R64,$P$11:P64,$Q$11:Q64)","v":995816.800000001},0,0,{"$f":"SUM(($B64='sh1'!$R$3:$R$214)*(IF($I$3=\"男\",0,1)='sh1'!$Q$3:$Q$214)*('sh1'!$S$3:$S$214))/1000*AK64","v":0},{"$f":"SUM(($B64='sh1'!$R$3:$R$214)*(IF($I$3=\"男\",0,1)='sh1'!$Q$3:$Q$214)*('sh1'!$S$3:$S$214))/1000*AQ64","v":0},{"$f":"SUM(($B64='sh1'!$R$3:$R$214)*(IF($I$3=\"男\",0,1)='sh1'!$Q$3:$Q$214)*('sh1'!$S$3:$S$214))/1000*AW64","v":0},0,null,{"$f":"-$Z64/VLOOKUP($A64,'sh1'!$N$7:$O$12,2,1)","v":0},{"$f":"SUM($AA$11:AA64)","v":0},995816.800000001,995816.800000001,995816.800000001,3826721.60401722,{"$f":"($AF64-$V64)*(1+3%)-$Z64/VLOOKUP($A64,'sh1'!$N$7:$O$12,2,1)","v":3941523.25213774},3941523.25213774,{"$f":"IF($AG63<VLOOKUP($B64,'sh1'!$N$16:$O$19,2,1)*$AD64,VLOOKUP($B64,'sh1'!$N$16:$O$19,2,1)*$AD64,$AG63)","v":3826721.60401722},{"$f":"IF($AG64<VLOOKUP($B64,'sh1'!$N$16:$O$19,2,1)*$AE64,VLOOKUP($B64,'sh1'!$N$16:$O$19,2,1)*$AE64,$AG64)","v":3941523.25213774},0,7415978.71430632,{"$f":"($AL64-W64)*(1+4.5%)-$Z64/VLOOKUP($A64,'sh1'!$N$7:$O$12,2,1)","v":7749697.75645011},7749697.75645011,{"$f":"IF($AM63<VLOOKUP($B64,'sh1'!$N$16:$O$19,2,1)*$AD64,VLOOKUP($B64,'sh1'!$N$16:$O$19,2,1)*$AD64,$AM63)","v":7415978.71430632},{"$f":"IF($AM64<VLOOKUP($B64,'sh1'!$N$16:$O$19,2,1)*$AE64,VLOOKUP($B64,'sh1'!$N$16:$O$19,2,1)*$AE64,$AM64)","v":7749697.75645011},0,14237729.9378014,{"$f":"($AR64-X64)*(1+6%)-$Z64/VLOOKUP($A64,'sh1'!$N$7:$O$12,2,1)","v":15091993.7340695},15091993.7340695,{"$f":"IF($AS63<VLOOKUP($B64,'sh1'!$N$16:$O$19,2,1)*$AD64,VLOOKUP($B64,'sh1'!$N$16:$O$19,2,1)*$AD64,$AS63)","v":14237729.9378014},{"$f":"IF($AS64<VLOOKUP($B64,'sh1'!$N$16:$O$19,2,1)*$AE64,VLOOKUP($B64,'sh1'!$N$16:$O$19,2,1)*$AE64,$AS64)","v":15091993.7340695},0,"5|0|15|54"]
[55,69,70,null,null,null,null,null,null,null,null,null,null,null,null,null,null,0,{"$f":"SUM($R$11:R65,$P$11:P65,$Q$11:Q65)","v":995816.800000001},0,0,{"$f":"SUM(($B65='sh1'!$R$3:$R$214)*(IF($I$3=\"男\",0,1)='sh1'!$Q$3:$Q$214)*('sh1'!$S$3:$S$214))/1000*AK65","v":0},{"$f":"SUM(($B65='sh1'!$R$3:$R$214)*(IF($I$3=\"男\",0,1)='sh1'!$Q$3:$Q$214)*('sh1'!$S$3:$S$214))/1000*AQ65","v":0},{"$f":"SUM(($B65='sh1'!$R$3:$R$214)*(IF($I$3=\"男\",0,1)='sh1'!$Q$3:$Q$214)*('sh1'!$S$3:$S$214))/1000*AW65","v":0},0,null,{"$f":"-$Z65/VLOOKUP($A65,'sh1'!$N$7:$O$12,2,1)","v":0},{"$f":"SUM($AA$11:AA65)","v":0},995816.800000001,995816.800000001,995816.800000001,3941523.25213774,{"$f":"($AF65-$V65)*(1+3%)-$Z65/VLOOKUP($A65,'sh1'!$N$7:$O$12,2,1)","v":4059768.94970187},4059768.94970187,{"$f":"IF($AG64<VLOOKUP($B65,'sh1'!$N$16:$O$19,2,1)*$AD65,VLOOKUP($B65,'sh1'!$N$16:$O$19,2,1)*$AD65,$AG64)","v":3941523.25213774},{"$f":"IF($AG65<VLOOKUP($B65,'sh1'!$N$16:$O$19,2,1)*$AE65,VLOOKUP($B65,'sh1'!$N$16:$O$19,2,1)*$AE65,$AG65)","v":4059768.94970187},0,7749697.75645011,{"$f":"($AL65-W65)*(1+4.5%)-$Z65/VLOOKUP($A65,'sh1'!$N$7:$O$12,2,1)","v":8098434.15549036},8098434.15549036,{"$f":"IF($AM64<VLOOKUP($B65,'sh1'!$N$16:$O$19,2,1)*$AD65,VLOOKUP($B65,'sh1'!$N$16:$O$19,2,1)*$AD65,$AM64)","v":7749697.75645011},{"$f":"IF($AM65<VLOOKUP($B65,'sh1'!$N$16:$O$19,2,1)*$AE65,VLOOKUP($B65,'sh1'!$N$16:$O$19,2,1)*$AE65,$AM65)","v":8098434.15549036},0,15091993.7340695,{"$f":"($AR65-X65)*(1+6%)-$Z65/VLOOKUP($A65,'sh1'!$N$7:$O$12,2,1)","v":15997513.3581137},15997513.3581137,{"$f":"IF($AS64<VLOOKUP($B65,'sh1'!$N$16:$O$19,2,1)*$AD65,VLOOKUP($B65,'sh1'!$N$16:$O$19,2,1)*$AD65,$AS64)","v":15091993.7340695},{"$f":"IF($AS65<VLOOKUP($B65,'sh1'!$N$16:$O$19,2,1)*$AE65,VLOOKUP($B65,'sh1'!$N$16:$O$19,2,1)*$AE65,$AS65)","v":15997513.3581137},0,"5|0|15|55"]
[56,70,71,null,null,null,null,null,null,null,null,null,null,null,null,null,null,0,{"$f":"SUM($R$11:R66,$P$11:P66,$Q$11:Q66)","v":995816.800000001},0,0,{"$f":"SUM(($B66='sh1'!$R$3:$R$214)*(IF($I$3=\"男\",0,1)='sh1'!$Q$3:$Q$214)*('sh1'!$S$3:$S$214))/1000*AK66","v":0},{"$f":"SUM(($B66='sh1'!$R$3:$R$214)*(IF($I$3=\"男\",0,1)='sh1'!$Q$3:$Q$214)*('sh1'!$S$3:$S$214))/1000*AQ66","v":0},{"$f":"SUM(($B66='sh1'!$R$3:$R$214)*(IF($I$3=\"男\",0,1)='sh1'!$Q$3:$Q$214)*('sh1'!$S$3:$S$214))/1000*AW66","v":0},0,null,{"$f":"-$Z66/VLOOKUP($A66,'sh1'!$N$7:$O$12,2,1)","v":0},{"$f":"SUM($AA$11:AA66)","v":0},995816.800000001,995816.800000001,995816.800000001,4059768.94970187,{"$f":"($AF66-$V66)*(1+3%)-$Z66/VLOOKUP($A66,'sh1'!$N$7:$O$12,2,1)","v":4181562.01819293},4181562.01819293,{"$f":"IF($AG65<VLOOKUP($B66,'sh1'!$N$16:$O$19,2,1)*$AD66,VLOOKUP($B66,'sh1'!$N$16:$O$19,2,1)*$AD66,$AG65)","v":4059768.94970187},{"$f":"IF($AG66<VLOOKUP($B66,'sh1'!$N$16:$O$19,2,1)*$AE66,VLOOKUP($B66,'sh1'!$N$16:$O$19,2,1)*$AE66,$AG66)","v":4181562.01819293},0,8098434.15549036,{"$f":"($AL66-W66)*(1+4.5%)-$Z66/VLOOKUP($A66,'sh1'!$N$7:$O$12,2,1)","v":8462863.69248743},8462863.69248743,{"$f":"IF($AM65<VLOOKUP($B66,'sh1'!$N$16:$O$19,2,1)*$AD66,VLOOKUP($B66,'sh1'!$N$16:$O$19,2,1)*$AD66,$AM65)","v":8098434.15549036},{"$f":"IF($AM66<VLOOKUP($B66,'sh1'!$N$16:$O$19,2,1)*$AE66,VLOOKUP($B66,'sh1'!$N$16:$O$19,2,1)*$AE66,$AM66)","v":8462863.69248743},0,15997513.3581137,{"$f":"($AR66-X66)*(1+6%)-$Z66/VLOOKUP($A66,'sh1'!$N$7:$O$12,2,1)","v":16957364.1596005},16957364.1596005,{"$f":"IF($AS65<VLOOKUP($B66,'sh1'!$N$16:$O$19,2,1)*$AD66,VLOOKUP($B66,'sh1'!$N$16:$O$19,2,1)*$AD66,$AS65)","v":15997513.3581137},{"$f":"IF($AS66<VLOOKUP($B66,'sh1'!$N$16:$O$19,2,1)*$AE66,VLOOKUP($B66,'sh1'!$N$16:$O$19,2,1)*$AE66,$AS66)","v":16957364.1596005},0,"5|0|15|56"]
[57,71,72,null,null,null,null,null,null,null,null,null,null,null,null,null,null,0,{"$f":"SUM($R$11:R67,$P$11:P67,$Q$11:Q67)","v":995816.800000001},0,0,{"$f":"SUM(($B67='sh1'!$R$3:$R$214)*(IF($I$3=\"男\",0,1)='sh1'!$Q$3:$Q$214)*('sh1'!$S$3:$S$214))/1000*AK67","v":0},{"$f":"SUM(($B67='sh1'!$R$3:$R$214)*(IF($I$3=\"男\",0,1)='sh1'!$Q$3:$Q$214)*('sh1'!$S$3:$S$214))/1000*AQ67","v":0},{"$f":"SUM(($B67='sh1'!$R$3:$R$214)*(IF($I$3=\"男\",0,1)='sh1'!$Q$3:$Q$214)*('sh1'!$S$3:$S$214))/1000*AW67","v":0},0,null,{"$f":"-$Z67/VLOOKUP($A67,'sh1'!$N$7:$O$12,2,1)","v":0},{"$f":"SUM($AA$11:AA67)","v":0},995816.800000001,995816.800000001,995816.800000001,4181562.01819293,{"$f":"($AF67-$V67)*(1+3%)-$Z67/VLOOKUP($A67,'sh1'!$N$7:$O$12,2,1)","v":4307008.87873871},4307008.87873871,{"$f":"IF($AG66<VLOOKUP($B67,'sh1'!$N$16:$O$19,2,1)*$AD67,VLOOKUP($B67,'sh1'!$N$16:$O$19,2,1)*$AD67,$AG66)","v":4181562.01819293},{"$f":"IF($AG67<VLOOKUP($B67,'sh1'!$N$16:$O$19,2,1)*$AE67,VLOOKUP($B67,'sh1'!$N$16:$O$19,2,1)*$AE67,$AG67)","v":4307008.87873871},0,8462863.69248743,{"$f":"($AL67-W67)*(1+4.5%)-$Z67/VLOOKUP($A67,'sh1'!$N$7:$O$12,2,1)","v":8843692.55864936},8843692.55864936,{"$f":"IF($AM66<VLOOKUP($B67,'sh1'!$N$16:$O$19,2,1)*$AD67,VLOOKUP($B67,'sh1'!$N$16:$O$19,2,1)*$AD67,$AM66)","v":8462863.69248743},{"$f":"IF($AM67<VLOOKUP($B67,'sh1'!$N$16:$O$19,2,1)*$AE67,VLOOKUP($B67,'sh1'!$N$16:$O$19,2,1)*$AE67,$AM67)","v":8843692.55864936},0,16957364.1596005,{"$f":"($AR67-X67)*(1+6%)-$Z67/VLOOKUP($A67,'sh1'!$N$7:$O$12,2,1)","v":17974806.0091766},17974806.0091766,{"$f":"IF($AS66<VLOOKUP($B67,'sh1'!$N$16:$O$19,2,1)*$AD67,VLOOKUP($B67,'sh1'!$N$16:$O$19,2,1)*$AD67,$AS66)","v":16957364.1596005},{"$f":"IF($AS67<VLOOKUP($B67,'sh1'!$N$16:$O$19,2,1)*$AE67,VLOOKUP($B67,'sh1'!$N$16:$O$19,2,1)*$AE67,$AS67)","v":17974806.0091766},0,"5|0|15|57"]
[58,72,73,null,null,null,null,null,null,null,null,null,null,null,null,null,null,0,{"$f":"SUM($R$11:R68,$P$11:P68,$Q$11:Q68)","v":995816.800000001},0,0,{"$f":"SUM(($B68='sh1'!$R$3:$R$214)*(IF($I$3=\"男\",0,1)='sh1'!$Q$3:$Q$214)*('sh1'!$S$3:$S$214))/1000*AK68","v":0},{"$f":"SUM(($B68='sh1'!$R$3:$R$214)*(IF($I$3=\"男\",0,1)='sh1'!$Q$3:$Q$214)*('sh1'!$S$3:$S$214))/1000*AQ68","v":0},{"$f":"SUM(($B68='sh1'!$R$3:$R$214)*(IF($I$3=\"男\",0,1)='sh1'!$Q$3:$Q$214)*('sh1'!$S$3:$S$214))/1000*AW68","v":0},0,null,{"$f":"-$Z68/VLOOKUP($A68,'sh1'!$N$7:$O$12,2,1)","v":0},{"$f":"SUM($AA$11:AA68)","v":0},995816.800000001,995816.800000001,995816.800000001,4307008.87873871,{"$f":"($AF68-$V68)*(1+3%)-$Z68/VLOOKUP($A68,'sh1'!$N$7:$O$12,2,1)","v":4436219.14510088},4436219.14510088,{"$f":"IF($AG67<VLOOKUP($B68,'sh1'!$N$16:$O$19,2,1)*$AD68,VLOOKUP($B68,'sh1'!$N$16:$O$19,2,1)*$AD68,$AG67)","v":4307008.87873871},{"$f":"IF($AG68<VLOOKUP($B68,'sh1'!$N$16:$O$19,2,1)*$AE68,VLOOKUP($B68,'sh1'!$N$16:$O$19,2,1)*$AE68,$AG68)","v":4436219.14510088},0,8843692.55864936,{"$f":"($AL68-W68)*(1+4.5%)-$Z68/VLOOKUP($A68,'sh1'!$N$7:$O$12,2,1)","v":9241658.72378858},9241658.72378858,{"$f":"IF($AM67<VLOOKUP($B68,'sh1'!$N$16:$O$19,2,1)*$AD68,VLOOKUP($B68,'sh1'!$N$16:$O$19,2,1)*$AD68,$AM67)","v":8843692.55864936},{"$f":"IF($AM68<VLOOKUP($B68,'sh1'!$N$16:$O$19,2,1)*$AE68,VLOOKUP($B68,'sh1'!$N$16:$O$19,2,1)*$AE68,$AM68)","v":9241658.72378858},0,17974806.0091766,{"$f":"($AR68-X68)*(1+6%)-$Z68/VLOOKUP($A68,'sh1'!$N$7:$O$12,2,1)","v":19053294.3697272},19053294.3697272,{"$f":"IF($AS67<VLOOKUP($B68,'sh1'!$N$16:$O$19,2,1)*$AD68,VLOOKUP($B68,'sh1'!$N$16:$O$19,2,1)*$AD68,$AS67)","v":17974806.0091766},{"$f":"IF($AS68<VLOOKUP($B68,'sh1'!$N$16:$O$19,2,1)*$AE68,VLOOKUP($B68,'sh1'!$N$16:$O$19,2,1)*$AE68,$AS68)","v":19053294.3697272},0,"5|0|15|58"]
[59,73,74,null,null,null,null,null,null,null,null,null,null,null,null,null,null,0,{"$f":"SUM($R$11:R69,$P$11:P69,$Q$11:Q69)","v":995816.800000001},0,0,{"$f":"SUM(($B69='sh1'!$R$3:$R$214)*(IF($I$3=\"男\",0,1)='sh1'!$Q$3:$Q$214)*('sh1'!$S$3:$S$214))/1000*AK69","v":0},{"$f":"SUM(($B69='sh1'!$R$3:$R$214)*(IF($I$3=\"男\",0,1)='sh1'!$Q$3:$Q$214)*('sh1'!$S$3:$S$214))/1000*AQ69","v":0},{"$f":"SUM(($B69='sh1'!$R$3:$R$214)*(IF($I$3=\"男\",0,1)='sh1'!$Q$3:$Q$214)*('sh1'!$S$3:$S$214))/1000*AW69","v":0},0,null,{"$f":"-$Z69/VLOOKUP($A69,'sh1'!$N$7:$O$12,2,1)","v":0},{"$f":"SUM($AA$11:AA69)","v":0},995816.800000001,995816.800000001,995816.800000001,4436219.14510088,{"$f":"($AF69-$V69)*(1+3%)-$Z69/VLOOKUP($A69,'sh1'!$N$7:$O$12,2,1)","v":4569305.7194539},4569305.7194539,{"$f":"IF($AG68<VLOOKUP($B69,'sh1'!$N$16:$O$19,2,1)*$AD69,VLOOKUP($B69,'sh1'!$N$16:$O$19,2,1)*$AD69,$AG68)","v":4436219.14510088},{"$f":"IF($AG69<VLOOKUP($B69,'sh1'!$N$16:$O$19,2,1)*$AE69,VLOOKUP($B69,'sh1'!$N$16:$O$19,2,1)*$AE69,$AG69)","v":4569305.7194539},0,9241658.72378858,{"$f":"($AL69-W69)*(1+4.5%)-$Z69/VLOOKUP($A69,'sh1'!$N$7:$O$12,2,1)","v":9657533.36635907},9657533.36635907,{"$f":"IF($AM68<VLOOKUP($B69,'sh1'!$N$16:$O$19,2,1)*$AD69,VLOOKUP($B69,'sh1'!$N$16:$O$19,2,1)*$AD69,$AM68)","v":9241658.72378858},{"$f":"IF($AM69<VLOOKUP($B69,'sh1'!$N$16:$O$19,2,1)*$AE69,VLOOKUP($B69,'sh1'!$N$16:$O$19,2,1)*$AE69,$AM69)","v":9657533.36635907},0,19053294.3697272,{"$f":"($AR69-X69)*(1+6%)-$Z69/VLOOKUP($A69,'sh1'!$N$7:$O$12,2,1)","v":20196492.0319108},20196492.0319108,{"$f":"IF($AS68<VLOOKUP($B69,'sh1'!$N$16:$O$19,2,1)*$AD69,VLOOKUP($B69,'sh1'!$N$16:$O$19,2,1)*$AD69,$AS68)","v":19053294.3697272},{"$f":"IF($AS69<VLOOKUP($B69,'sh1'!$N$16:$O$19,2,1)*$AE69,VLOOKUP($B69,'sh1'!$N$16:$O$19,2,1)*$AE69,$AS69)","v":20196492.0319108},0,"5|0|15|59"]
[60,74,75,null,null,null,null,null,null,null,null,null,null,null,null,null,null,0,{"$f":"SUM($R$11:R70,$P$11:P70,$Q$11:Q70)","v":995816.800000001},0,0,{"$f":"SUM(($B70='sh1'!$R$3:$R$214)*(IF($I$3=\"男\",0,1)='sh1'!$Q$3:$Q$214)*('sh1'!$S$3:$S$214))/1000*AK70","v":0},{"$f":"SUM(($B70='sh1'!$R$3:$R$214)*(IF($I$3=\"男\",0,1)='sh1'!$Q$3:$Q$214)*('sh1'!$S$3:$S$214))/1000*AQ70","v":0},{"$f":"SUM(($B70='sh1'!$R$3:$R$214)*(IF($I$3=\"男\",0,1)='sh1'!$Q$3:$Q$214)*('sh1'!$S$3:$S$214))/1000*AW70","v":0},0,null,{"$f":"-$Z70/VLOOKUP($A70,'sh1'!$N$7:$O$12,2,1)","v":0},{"$f":"SUM($AA$11:AA70)","v":0},995816.800000001,995816.800000001,995816.800000001,4569305.7194539,{"$f":"($AF70-$V70)*(1+3%)-$Z70/VLOOKUP($A70,'sh1'!$N$7:$O$12,2,1)","v":4706384.89103752},4706384.89103752,{"$f":"IF($AG69<VLOOKUP($B70,'sh1'!$N$16:$O$19,2,1)*$AD70,VLOOKUP($B70,'sh1'!$N$16:$O$19,2,1)*$AD70,$AG69)","v":4569305.7194539},{"$f":"IF($AG70<VLOOKUP($B70,'sh1'!$N$16:$O$19,2,1)*$AE70,VLOOKUP($B70,'sh1'!$N$16:$O$19,2,1)*$AE70,$AG70)","v":4706384.89103752},0,9657533.36635907,{"$f":"($AL70-W70)*(1+4.5%)-$Z70/VLOOKUP($A70,'sh1'!$N$7:$O$12,2,1)","v":10092122.3678452},10092122.3678452,{"$f":"IF($AM69<VLOOKUP($B70,'sh1'!$N$16:$O$19,2,1)*$AD70,VLOOKUP($B70,'sh1'!$N$16:$O$19,2,1)*$AD70,$AM69)","v":9657533.36635907},{"$f":"IF($AM70<VLOOKUP($B70,'sh1'!$N$16:$O$19,2,1)*$AE70,VLOOKUP($B70,'sh1'!$N$16:$O$19,2,1)*$AE70,$AM70)","v":10092122.3678452},0,20196492.0319108,{"$f":"($AR70-X70)*(1+6%)-$Z70/VLOOKUP($A70,'sh1'!$N$7:$O$12,2,1)","v":21408281.5538254},21408281.5538254,{"$f":"IF($AS69<VLOOKUP($B70,'sh1'!$N$16:$O$19,2,1)*$AD70,VLOOKUP($B70,'sh1'!$N$16:$O$19,2,1)*$AD70,$AS69)","v":20196492.0319108},{"$f":"IF($AS70<VLOOKUP($B70,'sh1'!$N$16:$O$19,2,1)*$AE70,VLOOKUP($B70,'sh1'!$N$16:$O$19,2,1)*$AE70,$AS70)","v":21408281.5538254},0,"5|0|15|60"]
[61,75,76,null,null,null,null,null,null,null,null,null,null,null,null,null,null,0,{"$f":"SUM($R$11:R71,$P$11:P71,$Q$11:Q71)","v":995816.800000001},0,0,{"$f":"SUM(($B71='sh1'!$R$3:$R$214)*(IF($I$3=\"男\",0,1)='sh1'!$Q$3:$Q$214)*('sh1'!$S$3:$S$214))/1000*AK71","v":0},{"$f":"SUM(($B71='sh1'!$R$3:$R$214)*(IF($I$3=\"男\",0,1)='sh1'!$Q$3:$Q$214)*('sh1'!$S$3:$S$214))/1000*AQ71","v":0},{"$f":"SUM(($B71='sh1'!$R$3:$R$214)*(IF($I$3=\"男\",0,1)='sh1'!$Q$3:$Q$214)*('sh1'!$S$3:$S$214))/1000*AW71","v":0},0,null,{"$f":"-$Z71/VLOOKUP($A71,'sh1'!$N$7:$O$12,2,1)","v":0},{"$f":"SUM($AA$11:AA71)","v":0},995816.800000001,995816.800000001,995816.800000001,4706384.89103752,{"$f":"($AF71-$V71)*(1+3%)-$Z71/VLOOKUP($A71,'sh1'!$N$7:$O$12,2,1)","v":4847576.43776864},4847576.43776864,{"$f":"IF($AG70<VLOOKUP($B71,'sh1'!$N$16:$O$19,2,1)*$AD71,VLOOKUP($B71,'sh1'!$N$16:$O$19,2,1)*$AD71,$AG70)","v":4706384.89103752},{"$f":"IF($AG71<VLOOKUP($B71,'sh1'!$N$16:$O$19,2,1)*$AE71,VLOOKUP($B71,'sh1'!$N$16:$O$19,2,1)*$AE71,$AG71)","v":4847576.43776864},0,10092122.3678452,{"$f":"($AL71-W71)*(1+4.5%)-$Z71/VLOOKUP($A71,'sh1'!$N$7:$O$12,2,1)","v":10546267.8743983},10546267.8743983,{"$f":"IF($AM70<VLOOKUP($B71,'sh1'!$N$16:$O$19,2,1)*$AD71,VLOOKUP($B71,'sh1'!$N$16:$O$19,2,1)*$AD71,$AM70)","v":10092122.3678452},{"$f":"IF($AM71<VLOOKUP($B71,'sh1'!$N$16:$O$19,2,1)*$AE71,VLOOKUP($B71,'sh1'!$N$16:$O$19,2,1)*$AE71,$AM71)","v":10546267.8743983},0,21408281.5538254,{"$f":"($AR71-X71)*(1+6%)-$Z71/VLOOKUP($A71,'sh1'!$N$7:$O$12,2,1)","v":22692778.447055},22692778.447055,{"$f":"IF($AS70<VLOOKUP($B71,'sh1'!$N$16:$O$19,2,1)*$AD71,VLOOKUP($B71,'sh1'!$N$16:$O$19,2,1)*$AD71,$AS70)","v":21408281.5538254},{"$f":"IF($AS71<VLOOKUP($B71,'sh1'!$N$16:$O$19,2,1)*$AE71,VLOOKUP($B71,'sh1'!$N$16:$O$19,2,1)*$AE71,$AS71)","v":22692778.447055},0,"5|0|15|61"]
[62,76,77,null,null,null,null,null,null,null,null,null,null,null,null,null,null,0,{"$f":"SUM($R$11:R72,$P$11:P72,$Q$11:Q72)","v":995816.800000001},0,0,{"$f":"SUM(($B72='sh1'!$R$3:$R$214)*(IF($I$3=\"男\",0,1)='sh1'!$Q$3:$Q$214)*('sh1'!$S$3:$S$214))/1000*AK72","v":0},{"$f":"SUM(($B72='sh1'!$R$3:$R$214)*(IF($I$3=\"男\",0,1)='sh1'!$Q$3:$Q$214)*('sh1'!$S$3:$S$214))/1000*AQ72","v":0},{"$f":"SUM(($B72='sh1'!$R$3:$R$214)*(IF($I$3=\"男\",0,1)='sh1'!$Q$3:$Q$214)*('sh1'!$S$3:$S$214))/1000*AW72","v":0},0,null,{"$f":"-$Z72/VLOOKUP($A72,'sh1'!$N$7:$O$12,2,1)","v":0},{"$f":"SUM($AA$11:AA72)","v":0},995816.800000001,995816.800000001,995816.800000001,4847576.43776864,{"$f":"($AF72-$V72)*(1+3%)-$Z72/VLOOKUP($A72,'sh1'!$N$7:$O$12,2,1)","v":4993003.7309017},4993003.7309017,{"$f":"IF($AG71<VLOOKUP($B72,'sh1'!$N$16:$O$19,2,1)*$AD72,VLOOKUP($B72,'sh1'!$N$16:$O$19,2,1)*$AD72,$AG71)","v":4847576.43776864},{"$f":"IF($AG72<VLOOKUP($B72,'sh1'!$N$16:$O$19,2,1)*$AE72,VLOOKUP($B72,'sh1'!$N$16:$O$19,2,1)*$AE72,$AG72)","v":4993003.7309017},0,10546267.8743983,{"$f":"($AL72-W72)*(1+4.5%)-$Z72/VLOOKUP($A72,'sh1'!$N$7:$O$12,2,1)","v":11020849.9287462},11020849.9287462,{"$f":"IF($AM71<VLOOKUP($B72,'sh1'!$N$16:$O$19,2,1)*$AD72,VLOOKUP($B72,'sh1'!$N$16:$O$19,2,1)*$AD72,$AM71)","v":10546267.8743983},{"$f":"IF($AM72<VLOOKUP($B72,'sh1'!$N$16:$O$19,2,1)*$AE72,VLOOKUP($B72,'sh1'!$N$16:$O$19,2,1)*$AE72,$AM72)","v":11020849.9287462},0,22692778.447055,{"$f":"($AR72-X72)*(1+6%)-$Z72/VLOOKUP($A72,'sh1'!$N$7:$O$12,2,1)","v":24054345.1538783},24054345.1538783,{"$f":"IF($AS71<VLOOKUP($B72,'sh1'!$N$16:$O$19,2,1)*$AD72,VLOOKUP($B72,'sh1'!$N$16:$O$19,2,1)*$AD72,$AS71)","v":22692778.447055},{"$f":"IF($AS72<VLOOKUP($B72,'sh1'!$N$16:$O$19,2,1)*$AE72,VLOOKUP($B72,'sh1'!$N$16:$O$19,2,1)*$AE72,$AS72)","v":24054345.1538783},0,"5|0|15|62"]
[63,77,78,null,null,null,null,null,null,null,null,null,null,null,null,null,null,0,{"$f":"SUM($R$11:R73,$P$11:P73,$Q$11:Q73)","v":995816.800000001},0,0,{"$f":"SUM(($B73='sh1'!$R$3:$R$214)*(IF($I$3=\"男\",0,1)='sh1'!$Q$3:$Q$214)*('sh1'!$S$3:$S$214))/1000*AK73","v":0},{"$f":"SUM(($B73='sh1'!$R$3:$R$214)*(IF($I$3=\"男\",0,1)='sh1'!$Q$3:$Q$214)*('sh1'!$S$3:$S$214))/1000*AQ73","v":0},{"$f":"SUM(($B73='sh1'!$R$3:$R$214)*(IF($I$3=\"男\",0,1)='sh1'!$Q$3:$Q$214)*('sh1'!$S$3:$S$214))/1000*AW73","v":0},0,null,{"$f":"-$Z73/VLOOKUP($A73,'sh1'!$N$7:$O$12,2,1)","v":0},{"$f":"SUM($AA$11:AA73)","v":0},995816.800000001,995816.800000001,995816.800000001,4993003.7309017,{"$f":"($AF73-$V73)*(1+3%)-$Z73/VLOOKUP($A73,'sh1'!$N$7:$O$12,2,1)","v":5142793.84282876},5142793.84282876,{"$f":"IF($AG72<VLOOKUP($B73,'sh1'!$N$16:$O$19,2,1)*$AD73,VLOOKUP($B73,'sh1'!$N$16:$O$19,2,1)*$AD73,$AG72)","v":4993003.7309017},{"$f":"IF($AG73<VLOOKUP($B73,'sh1'!$N$16:$O$19,2,1)*$AE73,VLOOKUP($B73,'sh1'!$N$16:$O$19,2,1)*$AE73,$AG73)","v":5142793.84282876},0,11020849.9287462,{"$f":"($AL73-W73)*(1+4.5%)-$Z73/VLOOKUP($A73,'sh1'!$N$7:$O$12,2,1)","v":11516788.1755398},11516788.1755398,{"$f":"IF($AM72<VLOOKUP($B73,'sh1'!$N$16:$O$19,2,1)*$AD73,VLOOKUP($B73,'sh1'!$N$16:$O$19,2,1)*$AD73,$AM72)","v":11020849.9287462},{"$f":"IF($AM73<VLOOKUP($B73,'sh1'!$N$16:$O$19,2,1)*$AE73,VLOOKUP($B73,'sh1'!$N$16:$O$19,2,1)*$AE73,$AM73)","v":11516788.1755398},0,24054345.1538783,{"$f":"($AR73-X73)*(1+6%)-$Z73/VLOOKUP($A73,'sh1'!$N$7:$O$12,2,1)","v":25497605.863111},25497605.863111,{"$f":"IF($AS72<VLOOKUP($B73,'sh1'!$N$16:$O$19,2,1)*$AD73,VLOOKUP($B73,'sh1'!$N$16:$O$19,2,1)*$AD73,$AS72)","v":24054345.1538783},{"$f":"IF($AS73<VLOOKUP($B73,'sh1'!$N$16:$O$19,2,1)*$AE73,VLOOKUP($B73,'sh1'!$N$16:$O$19,2,1)*$AE73,$AS73)","v":25497605.863111},0,"5|0|15|63"]
[64,78,79,null,null,null,null,null,null,null,null,null,null,null,null,null,null,0,{"$f":"SUM($R$11:R74,$P$11:P74,$Q$11:Q74)","v":995816.800000001},0,0,{"$f":"SUM(($B74='sh1'!$R$3:$R$214)*(IF($I$3=\"男\",0,1)='sh1'!$Q$3:$Q$214)*('sh1'!$S$3:$S$214))/1000*AK74","v":0},{"$f":"SUM(($B74='sh1'!$R$3:$R$214)*(IF($I$3=\"男\",0,1)='sh1'!$Q$3:$Q$214)*('sh1'!$S$3:$S$214))/1000*AQ74","v":0},{"$f":"SUM(($B74='sh1'!$R$3:$R$214)*(IF($I$3=\"男\",0,1)='sh1'!$Q$3:$Q$214)*('sh1'!$S$3:$S$214))/1000*AW74","v":0},0,null,{"$f":"-$Z74/VLOOKUP($A74,'sh1'!$N$7:$O$12,2,1)","v":0},{"$f":"SUM($AA$11:AA74)","v":0},995816.800000001,995816.800000001,995816.800000001,5142793.84282876,{"$f":"($AF74-$V74)*(1+3%)-$Z74/VLOOKUP($A74,'sh1'!$N$7:$O$12,2,1)","v":5297077.65811362},5297077.65811362,{"$f":"IF($AG73<VLOOKUP($B74,'sh1'!$N$16:$O$19,2,1)*$AD74,VLOOKUP($B74,'sh1'!$N$16:$O$19,2,1)*$AD74,$AG73)","v":5142793.84282876},{"$f":"IF($AG74<VLOOKUP($B74,'sh1'!$N$16:$O$19,2,1)*$AE74,VLOOKUP($B74,'sh1'!$N$16:$O$19,2,1)*$AE74,$AG74)","v":5297077.65811362},0,11516788.1755398,{"$f":"($AL74-W74)*(1+4.5%)-$Z74/VLOOKUP($A74,'sh1'!$N$7:$O$12,2,1)","v":12035043.643439},12035043.643439,{"$f":"IF($AM73<VLOOKUP($B74,'sh1'!$N$16:$O$19,2,1)*$AD74,VLOOKUP($B74,'sh1'!$N$16:$O$19,2,1)*$AD74,$AM73)","v":11516788.1755398},{"$f":"IF($AM74<VLOOKUP($B74,'sh1'!$N$16:$O$19,2,1)*$AE74,VLOOKUP($B74,'sh1'!$N$16:$O$19,2,1)*$AE74,$AM74)","v":12035043.643439},0,25497605.863111,{"$f":"($AR74-X74)*(1+6%)-$Z74/VLOOKUP($A74,'sh1'!$N$7:$O$12,2,1)","v":27027462.2148976},27027462.2148976,{"$f":"IF($AS73<VLOOKUP($B74,'sh1'!$N$16:$O$19,2,1)*$AD74,VLOOKUP($B74,'sh1'!$N$16:$O$19,2,1)*$AD74,$AS73)","v":25497605.863111},{"$f":"IF($AS74<VLOOKUP($B74,'sh1'!$N$16:$O$19,2,1)*$AE74,VLOOKUP($B74,'sh1'!$N$16:$O$19,2,1)*$AE74,$AS74)","v":27027462.2148976},0,"5|0|15|64"]
[65,79,80,null,null,null,null,null,null,null,null,null,null,null,null,null,null,0,{"$f":"SUM($R$11:R75,$P$11:P75,$Q$11:Q75)","v":995816.800000001},0,0,{"$f":"SUM(($B75='sh1'!$R$3:$R$214)*(IF($I$3=\"男\",0,1)='sh1'!$Q$3:$Q$214)*('sh1'!$S$3:$S$214))/1000*AK75","v":0},{"$f":"SUM(($B75='sh1'!$R$3:$R$214)*(IF($I$3=\"男\",0,1)='sh1'!$Q$3:$Q$214)*('sh1'!$S$3:$S$214))/1000*AQ75","v":0},{"$f":"SUM(($B75='sh1'!$R$3:$R$214)*(IF($I$3=\"男\",0,1)='sh1'!$Q$3:$Q$214)*('sh1'!$S$3:$S$214))/1000*AW75","v":0},0,null,{"$f":"-$Z75/VLOOKUP($A75,'sh1'!$N$7:$O$12,2,1)","v":0},{"$f":"SUM($AA$11:AA75)","v":0},995816.800000001,{"$f":"$S75+$AB74","v":995816.800000001},{"$f":"$S75+$AB75","v":995816.800000001},5297077.65811362,{"$f":"($AF75-$V75)*(1+3%)-$Z75/VLOOKUP($A75,'sh1'!$N$7:$O$12,2,1)","v":5455989.98785703},{"$f":"IF($A75=1,95%*$AG75,IF($A75=2,97%*$AG75,IF($A75=3,98%*$AG75,IF(OR($A75=4,$A75=5),$AG75*99%,$AG75))))","v":5455989.98785703},{"$f":"IF($AG74<VLOOKUP($B75,'sh1'!$N$16:$O$19,2,1)*$AD75,VLOOKUP($B75,'sh1'!$N$16:$O$19,2,1)*$AD75,$AG74)","v":5297077.65811362},{"$f":"IF($AG75<VLOOKUP($B75,'sh1'!$N$16:$O$19,2,1)*$AE75,VLOOKUP($B75,'sh1'!$N$16:$O$19,2,1)*$AE75,$AG75)","v":5455989.98785703},0,12035043.643439,{"$f":"($AL75-W75)*(1+4.5%)-$Z75/VLOOKUP($A75,'sh1'!$N$7:$O$12,2,1)","v":12576620.6073938},{"$f":"IF($A75=1,95%*$AM75,IF($A75=2,97%*$AM75,IF($A75=3,98%*$AM75,IF(OR($A75=4,$A75=5),$AM75*99%,$AM75))))","v":12576620.6073938},{"$f":"IF($AM74<VLOOKUP($B75,'sh1'!$N$16:$O$19,2,1)*$AD75,VLOOKUP($B75,'sh1'!$N$16:$O$19,2,1)*$AD75,$AM74)","v":12035043.643439},{"$f":"IF($AM75<VLOOKUP($B75,'sh1'!$N$16:$O$19,2,1)*$AE75,VLOOKUP($B75,'sh1'!$N$16:$O$19,2,1)*$AE75,$AM75)","v":12576620.6073938},0,27027462.2148976,{"$f":"($AR75-X75)*(1+6%)-$Z75/VLOOKUP($A75,'sh1'!$N$7:$O$12,2,1)","v":28649109.9477915},{"$f":"IF($A75=1,95%*$AS75,IF($A75=2,97%*$AS75,IF($A75=3,98%*$AS75,IF(OR($A75=4,$A75=5),$AS75*99%,$AS75))))","v":28649109.9477915},{"$f":"IF($AS74<VLOOKUP($B75,'sh1'!$N$16:$O$19,2,1)*$AD75,VLOOKUP($B75,'sh1'!$N$16:$O$19,2,1)*$AD75,$AS74)","v":27027462.2148976},{"$f":"IF($AS75<VLOOKUP($B75,'sh1'!$N$16:$O$19,2,1)*$AE75,VLOOKUP($B75,'sh1'!$N$16:$O$19,2,1)*$AE75,$AS75)","v":28649109.9477915},0,{"$f":"$G$4&\"|\"&(IF($I$3=\"男\",0,1))&\"|\"&$G$3&\"|\"&A75","v":"5|0|15|65"}]
[66,{"$f":"$G$3+A76-1","v":80},81,null,null,null,null,null,null,null,null,null,null,null,null,null,null,0,{"$f":"SUM($R$11:R76,$P$11:P76,$Q$11:Q76)","v":995816.800000001},{"$f":"-($P76+$Q76)*2%-$R76*1%","v":0},0,{"$f":"SUM(($B76='sh1'!$R$3:$R$214)*(IF($I$3=\"男\",0,1)='sh1'!$Q$3:$Q$214)*('sh1'!$S$3:$S$214))/1000*AK76","v":0},{"$f":"SUM(($B76='sh1'!$R$3:$R$214)*(IF($I$3=\"男\",0,1)='sh1'!$Q$3:$Q$214)*('sh1'!$S$3:$S$214))/1000*AQ76","v":0},{"$f":"SUM(($B76='sh1'!$R$3:$R$214)*(IF($I$3=\"男\",0,1)='sh1'!$Q$3:$Q$214)*('sh1'!$S$3:$S$214))/1000*AW76","v":0},0,null,{"$f":"-$Z76/VLOOKUP($A76,'sh1'!$N$7:$O$12,2,1)","v":0},{"$f":"SUM($AA$11:AA76)","v":0},{"$f":"$S76+$AB76","v":995816.800000001},{"$f":"$S76+$AB75","v":995816.800000001},{"$f":"$S76+$AB76","v":995816.800000001},{"$f":"$AG75+$U76+$Y76","v":5455989.98785703},{"$f":"($AF76-$V76)*(1+3%)-$Z76/VLOOKUP($A76,'sh1'!$N$7:$O$12,2,1)","v":5619669.68749274},{"$f":"IF($A76=1,95%*$AG76,IF($A76=2,97%*$AG76,IF($A76=3,98%*$AG76,IF(OR($A76=4,$A76=5),$AG76*99%,$AG76))))","v":5619669.68749274},{"$f":"IF($AG75<VLOOKUP($B76,'sh1'!$N$16:$O$19,2,1)*$AD76,VLOOKUP($B76,'sh1'!$N$16:$O$19,2,1)*$AD76,$AG75)","v":5455989.98785703},{"$f":"IF($AG76<VLOOKUP($B76,'sh1'!$N$16:$O$19,2,1)*$AE76,VLOOKUP($B76,'sh1'!$N$16:$O$19,2,1)*$AE76,$AG76)","v":5619669.68749274},0,{"$f":"$AM75+$U76+$Y76","v":12576620.6073938},{"$f":"($AL76-W76)*(1+4.5%)-$Z76/VLOOKUP($A76,'sh1'!$N$7:$O$12,2,1)","v":13142568.5347265},{"$f":"IF($A76=1,95%*$AM76,IF($A76=2,97%*$AM76,IF($A76=3,98%*$AM76,IF(OR($A76=4,$A76=5),$AM76*99%,$AM76))))","v":13142568.5347265},{"$f":"IF($AM75<VLOOKUP($B76,'sh1'!$N$16:$O$19,2,1)*$AD76,VLOOKUP($B76,'sh1'!$N$16:$O$19,2,1)*$AD76,$AM75)","v":12576620.6073938},{"$f":"IF($AM76<VLOOKUP($B76,'sh1'!$N$16:$O$19,2,1)*$AE76,VLOOKUP($B76,'sh1'!$N$16:$O$19,2,1)*$AE76,$AM76)","v":13142568.5347265},0,{"$f":"$AS75+$U76+$Y76","v":28649109.9477915},{"$f":"($AR76-X76)*(1+6%)-$Z76/VLOOKUP($A76,'sh1'!$N$7:$O$12,2,1)","v":30368056.544659},{"$f":"IF($A76=1,95%*$AS76,IF($A76=2,97%*$AS76,IF($A76=3,98%*$AS76,IF(OR($A76=4,$A76=5),$AS76*99%,$AS76))))","v":30368056.544659},{"$f":"IF($AS75<VLOOKUP($B76,'sh1'!$N$16:$O$19,2,1)*$AD76,VLOOKUP($B76,'sh1'!$N$16:$O$19,2,1)*$AD76,$AS75)","v":28649109.9477915},{"$f":"IF($AS76<VLOOKUP($B76,'sh1'!$N$16:$O$19,2,1)*$AE76,VLOOKUP($B76,'sh1'!$N$16:$O$19,2,1)*$AE76,$AS76)","v":30368056.544659},0,{"$f":"$G$4&\"|\"&(IF($I$3=\"男\",0,1))&\"|\"&$G$3&\"|\"&A76","v":"5|0|15|66"}]
[67,81,82,null,null,null,null,null,null,null,null,null,null,null,null,null,null,0,{"$f":"SUM($R$11:R77,$P$11:P77,$Q$11:Q77)","v":995816.800000001},{"$f":"-($P77+$Q77)*2%-$R77*1%","v":0},0,{"$f":"SUM(($B77='sh1'!$R$3:$R$214)*(IF($I$3=\"男\",0,1)='sh1'!$Q$3:$Q$214)*('sh1'!$S$3:$S$214))/1000*AK77","v":0},{"$f":"SUM(($B77='sh1'!$R$3:$R$214)*(IF($I$3=\"男\",0,1)='sh1'!$Q$3:$Q$214)*('sh1'!$S$3:$S$214))/1000*AQ77","v":0},{"$f":"SUM(($B77='sh1'!$R$3:$R$214)*(IF($I$3=\"男\",0,1)='sh1'!$Q$3:$Q$214)*('sh1'!$S$3:$S$214))/1000*AW77","v":0},0,null,{"$f":"-$Z77/VLOOKUP($A77,'sh1'!$N$7:$O$12,2,1)","v":0},{"$f":"SUM($AA$11:AA77)","v":0},{"$f":"$S77+$AB77","v":995816.800000001},{"$f":"$S77+$AB76","v":995816.800000001},{"$f":"$S77+$AB77","v":995816.800000001},{"$f":"$AG76+$U77+$Y77","v":5619669.68749274},{"$f":"($AF77-$V77)*(1+3%)-$Z77/VLOOKUP($A77,'sh1'!$N$7:$O$12,2,1)","v":5788259.77811752},{"$f":"IF($A77=1,95%*$AG77,IF($A77=2,97%*$AG77,IF($A77=3,98%*$AG77,IF(OR($A77=4,$A77=5),$AG77*99%,$AG77))))","v":5788259.77811752},{"$f":"IF($AG76<VLOOKUP($B77,'sh1'!$N$16:$O$19,2,1)*$AD77,VLOOKUP($B77,'sh1'!$N$16:$O$19,2,1)*$AD77,$AG76)","v":5619669.68749274},{"$f":"IF($AG77<VLOOKUP($B77,'sh1'!$N$16:$O$19,2,1)*$AE77,VLOOKUP($B77,'sh1'!$N$16:$O$19,2,1)*$AE77,$AG77)","v":5788259.77811752},{"$f":"IF(AI77-AG76-U77<0,0,AI77-AG76-U77)","v":0},{"$f":"$AM76+$U77+$Y77","v":13142568.5347265},{"$f":"($AL77-W77)*(1+4.5%)-$Z77/VLOOKUP($A77,'sh1'!$N$7:$O$12,2,1)","v":13733984.1187892},{"$f":"IF($A77=1,95%*$AM77,IF($A77=2,97%*$AM77,IF($A77=3,98%*$AM77,IF(OR($A77=4,$A77=5),$AM77*99%,$AM77))))","v":13733984.1187892},{"$f":"IF($AM76<VLOOKUP($B77,'sh1'!$N$16:$O$19,2,1)*$AD77,VLOOKUP($B77,'sh1'!$N$16:$O$19,2,1)*$AD77,$AM76)","v":13142568.5347265},{"$f":"IF($AM77<VLOOKUP($B77,'sh1'!$N$16:$O$19,2,1)*$AE77,VLOOKUP($B77,'sh1'!$N$16:$O$19,2,1)*$AE77,$AM77)","v":13733984.1187892},{"$f":"IF(AO77-AM76-U77<0,0,AO77-AM76-U77)","v":0},{"$f":"$AS76+$U77+$Y77","v":30368056.544659},{"$f":"($AR77-X77)*(1+6%)-$Z77/VLOOKUP($A77,'sh1'!$N$7:$O$12,2,1)","v":32190139.9373385},{"$f":"IF($A77=1,95%*$AS77,IF($A77=2,97%*$AS77,IF($A77=3,98%*$AS77,IF(OR($A77=4,$A77=5),$AS77*99%,$AS77))))","v":32190139.9373385},{"$f":"IF($AS76<VLOOKUP($B77,'sh1'!$N$16:$O$19,2,1)*$AD77,VLOOKUP($B77,'sh1'!$N$16:$O$19,2,1)*$AD77,$AS76)","v":30368056.544659},{"$f":"IF($AS77<VLOOKUP($B77,'sh1'!$N$16:$O$19,2,1)*$AE77,VLOOKUP($B77,'sh1'!$N$16:$O$19,2,1)*$AE77,$AS77)","v":32190139.9373385},{"$f":"IF(AU77-AS76-U77<0,0,AU77-AS76-U77)","v":0},{"$f":"$G$4&\"|\"&(IF($I$3=\"男\",0,1))&\"|\"&$G$3&\"|\"&A77","v":"5|0|15|67"}]
[68,82,83,null,null,null,null,null,null,null,null,null,null,null,null,null,null,0,{"$f":"SUM($R$11:R78,$P$11:P78,$Q$11:Q78)","v":995816.800000001},{"$f":"-($P78+$Q78)*2%-$R78*1%","v":0},0,{"$f":"SUM(($B78='sh1'!$R$3:$R$214)*(IF($I$3=\"男\",0,1)='sh1'!$Q$3:$Q$214)*('sh1'!$S$3:$S$214))/1000*AK78","v":0},{"$f":"SUM(($B78='sh1'!$R$3:$R$214)*(IF($I$3=\"男\",0,1)='sh1'!$Q$3:$Q$214)*('sh1'!$S$3:$S$214))/1000*AQ78","v":0},{"$f":"SUM(($B78='sh1'!$R$3:$R$214)*(IF($I$3=\"男\",0,1)='sh1'!$Q$3:$Q$214)*('sh1'!$S$3:$S$214))/1000*AW78","v":0},0,null,{"$f":"-$Z78/VLOOKUP($A78,'sh1'!$N$7:$O$12,2,1)","v":0},{"$f":"SUM($AA$11:AA78)","v":0},{"$f":"$S78+$AB78","v":995816.800000001},995816.800000001,995816.800000001,{"$f":"$AG77+$U78+$Y78","v":5788259.77811752},{"$f":"($AF78-$V78)*(1+3%)-$Z78/VLOOKUP($A78,'sh1'!$N$7:$O$12,2,1)","v":5961907.57146105},5961907.57146105,{"$f":"IF($AG77<VLOOKUP($B78,'sh1'!$N$16:$O$19,2,1)*$AD78,VLOOKUP($B78,'sh1'!$N$16:$O$19,2,1)*$AD78,$AG77)","v":5788259.77811752},{"$f":"IF($AG78<VLOOKUP($B78,'sh1'!$N$16:$O$19,2,1)*$AE78,VLOOKUP($B78,'sh1'!$N$16:$O$19,2,1)*$AE78,$AG78)","v":5961907.57146105},{"$f":"IF(AI78-AG77-U78<0,0,AI78-AG77-U78)","v":0},{"$f":"$AM77+$U78+$Y78","v":13733984.1187892},{"$f":"($AL78-W78)*(1+4.5%)-$Z78/VLOOKUP($A78,'sh1'!$N$7:$O$12,2,1)","v":14352013.4041347},14352013.4041347,{"$f":"IF($AM77<VLOOKUP($B78,'sh1'!$N$16:$O$19,2,1)*$AD78,VLOOKUP($B78,'sh1'!$N$16:$O$19,2,1)*$AD78,$AM77)","v":13733984.1187892},{"$f":"IF($AM78<VLOOKUP($B78,'sh1'!$N$16:$O$19,2,1)*$AE78,VLOOKUP($B78,'sh1'!$N$16:$O$19,2,1)*$AE78,$AM78)","v":14352013.4041347},{"$f":"IF(AO78-AM77-U78<0,0,AO78-AM77-U78)","v":0},{"$f":"$AS77+$U78+$Y78","v":32190139.9373385},{"$f":"($AR78-X78)*(1+6%)-$Z78/VLOOKUP($A78,'sh1'!$N$7:$O$12,2,1)","v":34121548.3335788},34121548.3335788,{"$f":"IF($AS77<VLOOKUP($B78,'sh1'!$N$16:$O$19,2,1)*$AD78,VLOOKUP($B78,'sh1'!$N$16:$O$19,2,1)*$AD78,$AS77)","v":32190139.9373385},{"$f":"IF($AS78<VLOOKUP($B78,'sh1'!$N$16:$O$19,2,1)*$AE78,VLOOKUP($B78,'sh1'!$N$16:$O$19,2,1)*$AE78,$AS78)","v":34121548.3335788},{"$f":"IF(AU78-AS77-U78<0,0,AU78-AS77-U78)","v":0},"5|0|15|68"]
[69,83,84,null,null,null,null,null,null,null,null,null,null,null,null,null,null,0,{"$f":"SUM($R$11:R79,$P$11:P79,$Q$11:Q79)","v":995816.800000001},0,0,{"$f":"SUM(($B79='sh1'!$R$3:$R$214)*(IF($I$3=\"男\",0,1)='sh1'!$Q$3:$Q$214)*('sh1'!$S$3:$S$214))/1000*AK79","v":0},{"$f":"SUM(($B79='sh1'!$R$3:$R$214)*(IF($I$3=\"男\",0,1)='sh1'!$Q$3:$Q$214)*('sh1'!$S$3:$S$214))/1000*AQ79","v":0},{"$f":"SUM(($B79='sh1'!$R$3:$R$214)*(IF($I$3=\"男\",0,1)='sh1'!$Q$3:$Q$214)*('sh1'!$S$3:$S$214))/1000*AW79","v":0},0,null,{"$f":"-$Z79/VLOOKUP($A79,'sh1'!$N$7:$O$12,2,1)","v":0},{"$f":"SUM($AA$11:AA79)","v":0},995816.800000001,995816.800000001,995816.800000001,5961907.57146105,{"$f":"($AF79-$V79)*(1+3%)-$Z79/VLOOKUP($A79,'sh1'!$N$7:$O$12,2,1)","v":6140764.79860488},6140764.79860488,{"$f":"IF($AG78<VLOOKUP($B79,'sh1'!$N$16:$O$19,2,1)*$AD79,VLOOKUP($B79,'sh1'!$N$16:$O$19,2,1)*$AD79,$AG78)","v":5961907.57146105},{"$f":"IF($AG79<VLOOKUP($B79,'sh1'!$N$16:$O$19,2,1)*$AE79,VLOOKUP($B79,'sh1'!$N$16:$O$19,2,1)*$AE79,$AG79)","v":6140764.79860488},{"$f":"IF(AI79-AG78-U79<0,0,AI79-AG78-U79)","v":0},14352013.4041347,{"$f":"($AL79-W79)*(1+4.5%)-$Z79/VLOOKUP($A79,'sh1'!$N$7:$O$12,2,1)","v":14997854.0073208},14997854.0073208,{"$f":"IF($AM78<VLOOKUP($B79,'sh1'!$N$16:$O$19,2,1)*$AD79,VLOOKUP($B79,'sh1'!$N$16:$O$19,2,1)*$AD79,$AM78)","v":14352013.4041347},{"$f":"IF($AM79<VLOOKUP($B79,'sh1'!$N$16:$O$19,2,1)*$AE79,VLOOKUP($B79,'sh1'!$N$16:$O$19,2,1)*$AE79,$AM79)","v":14997854.0073208},{"$f":"IF(AO79-AM78-U79<0,0,AO79-AM78-U79)","v":0},34121548.3335788,{"$f":"($AR79-X79)*(1+6%)-$Z79/VLOOKUP($A79,'sh1'!$N$7:$O$12,2,1)","v":36168841.2335936},36168841.2335936,{"$f":"IF($AS78<VLOOKUP($B79,'sh1'!$N$16:$O$19,2,1)*$AD79,VLOOKUP($B79,'sh1'!$N$16:$O$19,2,1)*$AD79,$AS78)","v":34121548.3335788},{"$f":"IF($AS79<VLOOKUP($B79,'sh1'!$N$16:$O$19,2,1)*$AE79,VLOOKUP($B79,'sh1'!$N$16:$O$19,2,1)*$AE79,$AS79)","v":36168841.2335936},{"$f":"IF(AU79-AS78-U79<0,0,AU79-AS78-U79)","v":0},"5|0|15|69"]
[70,84,85,null,null,null,null,null,null,null,null,null,null,null,null,null,null,0,{"$f":"SUM($R$11:R80,$P$11:P80,$Q$11:Q80)","v":995816.800000001},0,0,{"$f":"SUM(($B80='sh1'!$R$3:$R$214)*(IF($I$3=\"男\",0,1)='sh1'!$Q$3:$Q$214)*('sh1'!$S$3:$S$214))/1000*AK80","v":0},{"$f":"SUM(($B80='sh1'!$R$3:$R$214)*(IF($I$3=\"男\",0,1)='sh1'!$Q$3:$Q$214)*('sh1'!$S$3:$S$214))/1000*AQ80","v":0},{"$f":"SUM(($B80='sh1'!$R$3:$R$214)*(IF($I$3=\"男\",0,1)='sh1'!$Q$3:$Q$214)*('sh1'!$S$3:$S$214))/1000*AW80","v":0},0,null,{"$f":"-$Z80/VLOOKUP($A80,'sh1'!$N$7:$O$12,2,1)","v":0},{"$f":"SUM($AA$11:AA80)","v":0},995816.800000001,995816.800000001,995816.800000001,6140764.79860488,{"$f":"($AF80-$V80)*(1+3%)-$Z80/VLOOKUP($A80,'sh1'!$N$7:$O$12,2,1)","v":6324987.74256302},6324987.74256302,{"$f":"IF($AG79<VLOOKUP($B80,'sh1'!$N$16:$O$19,2,1)*$AD80,VLOOKUP($B80,'sh1'!$N$16:$O$19,2,1)*$AD80,$AG79)","v":6140764.79860488},{"$f":"IF($AG80<VLOOKUP($B80,'sh1'!$N$16:$O$19,2,1)*$AE80,VLOOKUP($B80,'sh1'!$N$16:$O$19,2,1)*$AE80,$AG80)","v":6324987.74256302},0,14997854.0073208,{"$f":"($AL80-W80)*(1+4.5%)-$Z80/VLOOKUP($A80,'sh1'!$N$7:$O$12,2,1)","v":15672757.4376502},15672757.4376502,{"$f":"IF($AM79<VLOOKUP($B80,'sh1'!$N$16:$O$19,2,1)*$AD80,VLOOKUP($B80,'sh1'!$N$16:$O$19,2,1)*$AD80,$AM79)","v":14997854.0073208},{"$f":"IF($AM80<VLOOKUP($B80,'sh1'!$N$16:$O$19,2,1)*$AE80,VLOOKUP($B80,'sh1'!$N$16:$O$19,2,1)*$AE80,$AM80)","v":15672757.4376502},0,36168841.2335936,{"$f":"($AR80-X80)*(1+6%)-$Z80/VLOOKUP($A80,'sh1'!$N$7:$O$12,2,1)","v":38338971.7076092},38338971.7076092,{"$f":"IF($AS79<VLOOKUP($B80,'sh1'!$N$16:$O$19,2,1)*$AD80,VLOOKUP($B80,'sh1'!$N$16:$O$19,2,1)*$AD80,$AS79)","v":36168841.2335936},{"$f":"IF($AS80<VLOOKUP($B80,'sh1'!$N$16:$O$19,2,1)*$AE80,VLOOKUP($B80,'sh1'!$N$16:$O$19,2,1)*$AE80,$AS80)","v":38338971.7076092},0,"5|0|15|70"]
[71,85,86,null,null,null,null,null,null,null,null,null,null,null,null,null,null,0,{"$f":"SUM($R$11:R81,$P$11:P81,$Q$11:Q81)","v":995816.800000001},0,{"$f":"$R81+$P81+$Q81+$T81","v":0},{"$f":"SUM(($B81='sh1'!$R$3:$R$214)*(IF($I$3=\"男\",0,1)='sh1'!$Q$3:$Q$214)*('sh1'!$S$3:$S$214))/1000*AK81","v":0},{"$f":"SUM(($B81='sh1'!$R$3:$R$214)*(IF($I$3=\"男\",0,1)='sh1'!$Q$3:$Q$214)*('sh1'!$S$3:$S$214))/1000*AQ81","v":0},{"$f":"SUM(($B81='sh1'!$R$3:$R$214)*(IF($I$3=\"男\",0,1)='sh1'!$Q$3:$Q$214)*('sh1'!$S$3:$S$214))/1000*AW81","v":0},0,null,{"$f":"-$Z81/VLOOKUP($A81,'sh1'!$N$7:$O$12,2,1)","v":0},{"$f":"SUM($AA$11:AA81)","v":0},995816.800000001,995816.800000001,995816.800000001,6324987.74256302,{"$f":"($AF81-$V81)*(1+3%)-$Z81/VLOOKUP($A81,'sh1'!$N$7:$O$12,2,1)","v":6514737.37483991},6514737.37483991,{"$f":"IF($AG80<VLOOKUP($B81,'sh1'!$N$16:$O$19,2,1)*$AD81,VLOOKUP($B81,'sh1'!$N$16:$O$19,2,1)*$AD81,$AG80)","v":6324987.74256302},{"$f":"IF($AG81<VLOOKUP($B81,'sh1'!$N$16:$O$19,2,1)*$AE81,VLOOKUP($B81,'sh1'!$N$16:$O$19,2,1)*$AE81,$AG81)","v":6514737.37483991},0,15672757.4376502,{"$f":"($AL81-W81)*(1+4.5%)-$Z81/VLOOKUP($A81,'sh1'!$N$7:$O$12,2,1)","v":16378031.5223445},16378031.5223445,{"$f":"IF($AM80<VLOOKUP($B81,'sh1'!$N$16:$O$19,2,1)*$AD81,VLOOKUP($B81,'sh1'!$N$16:$O$19,2,1)*$AD81,$AM80)","v":15672757.4376502},{"$f":"IF($AM81<VLOOKUP($B81,'sh1'!$N$16:$O$19,2,1)*$AE81,VLOOKUP($B81,'sh1'!$N$16:$O$19,2,1)*$AE81,$AM81)","v":16378031.5223445},0,38338971.7076092,{"$f":"($AR81-X81)*(1+6%)-$Z81/VLOOKUP($A81,'sh1'!$N$7:$O$12,2,1)","v":40639310.0100657},40639310.0100657,{"$f":"IF($AS80<VLOOKUP($B81,'sh1'!$N$16:$O$19,2,1)*$AD81,VLOOKUP($B81,'sh1'!$N$16:$O$19,2,1)*$AD81,$AS80)","v":38338971.7076092},{"$f":"IF($AS81<VLOOKUP($B81,'sh1'!$N$16:$O$19,2,1)*$AE81,VLOOKUP($B81,'sh1'!$N$16:$O$19,2,1)*$AE81,$AS81)","v":40639310.0100657},0,"5|0|15|71"]
[72,86,87,null,null,null,null,null,null,null,null,null,null,null,null,null,null,0,{"$f":"SUM($R$11:R82,$P$11:P82,$Q$11:Q82)","v":995816.800000001},0,0,{"$f":"SUM(($B82='sh1'!$R$3:$R$214)*(IF($I$3=\"男\",0,1)='sh1'!$Q$3:$Q$214)*('sh1'!$S$3:$S$214))/1000*AK82","v":0},{"$f":"SUM(($B82='sh1'!$R$3:$R$214)*(IF($I$3=\"男\",0,1)='sh1'!$Q$3:$Q$214)*('sh1'!$S$3:$S$214))/1000*AQ82","v":0},{"$f":"SUM(($B82='sh1'!$R$3:$R$214)*(IF($I$3=\"男\",0,1)='sh1'!$Q$3:$Q$214)*('sh1'!$S$3:$S$214))/1000*AW82","v":0},{"$f":"IF($A82=7,(SUM($I71:$I80)+SUM($J71:$J80))*1%,IF($A82>=8,($I80+$J80)*1%,0))","v":0},null,{"$f":"-$Z82/VLOOKUP($A82,'sh1'!$N$7:$O$12,2,1)","v":0},{"$f":"SUM($AA$11:AA82)","v":0},995816.800000001,995816.800000001,995816.800000001,6514737.37483991,{"$f":"($AF82-$V82)*(1+3%)-$Z82/VLOOKUP($A82,'sh1'!$N$7:$O$12,2,1)","v":6710179.49608511},6710179.49608511,{"$f":"IF($AG81<VLOOKUP($B82,'sh1'!$N$16:$O$19,2,1)*$AD82,VLOOKUP($B82,'sh1'!$N$16:$O$19,2,1)*$AD82,$AG81)","v":6514737.37483991},{"$f":"IF($AG82<VLOOKUP($B82,'sh1'!$N$16:$O$19,2,1)*$AE82,VLOOKUP($B82,'sh1'!$N$16:$O$19,2,1)*$AE82,$AG82)","v":6710179.49608511},0,16378031.5223445,{"$f":"($AL82-W82)*(1+4.5%)-$Z82/VLOOKUP($A82,'sh1'!$N$7:$O$12,2,1)","v":17115042.94085},17115042.94085,{"$f":"IF($AM81<VLOOKUP($B82,'sh1'!$N$16:$O$19,2,1)*$AD82,VLOOKUP($B82,'sh1'!$N$16:$O$19,2,1)*$AD82,$AM81)","v":16378031.5223445},{"$f":"IF($AM82<VLOOKUP($B82,'sh1'!$N$16:$O$19,2,1)*$AE82,VLOOKUP($B82,'sh1'!$N$16:$O$19,2,1)*$AE82,$AM82)","v":17115042.94085},0,40639310.0100657,{"$f":"($AR82-X82)*(1+6%)-$Z82/VLOOKUP($A82,'sh1'!$N$7:$O$12,2,1)","v":43077668.6106697},43077668.6106697,{"$f":"IF($AS81<VLOOKUP($B82,'sh1'!$N$16:$O$19,2,1)*$AD82,VLOOKUP($B82,'sh1'!$N$16:$O$19,2,1)*$AD82,$AS81)","v":40639310.0100657},{"$f":"IF($AS82<VLOOKUP($B82,'sh1'!$N$16:$O$19,2,1)*$AE82,VLOOKUP($B82,'sh1'!$N$16:$O$19,2,1)*$AE82,$AS82)","v":43077668.6106697},0,"5|0|15|72"]
[73,87,88,null,null,null,null,null,null,null,null,null,null,null,null,null,null,0,{"$f":"SUM($R$11:R83,$P$11:P83,$Q$11:Q83)","v":995816.800000001},0,0,{"$f":"SUM(($B83='sh1'!$R$3:$R$214)*(IF($I$3=\"男\",0,1)='sh1'!$Q$3:$Q$214)*('sh1'!$S$3:$S$214))/1000*AK83","v":0},{"$f":"SUM(($B83='sh1'!$R$3:$R$214)*(IF($I$3=\"男\",0,1)='sh1'!$Q$3:$Q$214)*('sh1'!$S$3:$S$214))/1000*AQ83","v":0},{"$f":"SUM(($B83='sh1'!$R$3:$R$214)*(IF($I$3=\"男\",0,1)='sh1'!$Q$3:$Q$214)*('sh1'!$S$3:$S$214))/1000*AW83","v":0},0,null,{"$f":"-$Z83/VLOOKUP($A83,'sh1'!$N$7:$O$12,2,1)","v":0},{"$f":"SUM($AA$11:AA83)","v":0},995816.800000001,995816.800000001,995816.800000001,6710179.49608511,{"$f":"($AF83-$V83)*(1+3%)-$Z83/VLOOKUP($A83,'sh1'!$N$7:$O$12,2,1)","v":6911484.88096767},6911484.88096767,{"$f":"IF($AG82<VLOOKUP($B83,'sh1'!$N$16:$O$19,2,1)*$AD83,VLOOKUP($B83,'sh1'!$N$16:$O$19,2,1)*$AD83,$AG82)","v":6710179.49608511},{"$f":"IF($AG83<VLOOKUP($B83,'sh1'!$N$16:$O$19,2,1)*$AE83,VLOOKUP($B83,'sh1'!$N$16:$O$19,2,1)*$AE83,$AG83)","v":6911484.88096767},0,17115042.94085,{"$f":"($AL83-W83)*(1+4.5%)-$Z83/VLOOKUP($A83,'sh1'!$N$7:$O$12,2,1)","v":17885219.8731882},17885219.8731882,{"$f":"IF($AM82<VLOOKUP($B83,'sh1'!$N$16:$O$19,2,1)*$AD83,VLOOKUP($B83,'sh1'!$N$16:$O$19,2,1)*$AD83,$AM82)","v":17115042.94085},{"$f":"IF($AM83<VLOOKUP($B83,'sh1'!$N$16:$O$19,2,1)*$AE83,VLOOKUP($B83,'sh1'!$N$16:$O$19,2,1)*$AE83,$AM83)","v":17885219.8731882},0,43077668.6106697,{"$f":"($AR83-X83)*(1+6%)-$Z83/VLOOKUP($A83,'sh1'!$N$7:$O$12,2,1)","v":45662328.7273098},45662328.7273098,{"$f":"IF($AS82<VLOOKUP($B83,'sh1'!$N$16:$O$19,2,1)*$AD83,VLOOKUP($B83,'sh1'!$N$16:$O$19,2,1)*$AD83,$AS82)","v":43077668.6106697},{"$f":"IF($AS83<VLOOKUP($B83,'sh1'!$N$16:$O$19,2,1)*$AE83,VLOOKUP($B83,'sh1'!$N$16:$O$19,2,1)*$AE83,$AS83)","v":45662328.7273098},0,"5|0|15|73"]
[74,88,89,null,null,null,null,null,null,null,null,null,null,null,null,null,null,0,{"$f":"SUM($R$11:R84,$P$11:P84,$Q$11:Q84)","v":995816.800000001},0,0,{"$f":"SUM(($B84='sh1'!$R$3:$R$214)*(IF($I$3=\"男\",0,1)='sh1'!$Q$3:$Q$214)*('sh1'!$S$3:$S$214))/1000*AK84","v":0},{"$f":"SUM(($B84='sh1'!$R$3:$R$214)*(IF($I$3=\"男\",0,1)='sh1'!$Q$3:$Q$214)*('sh1'!$S$3:$S$214))/1000*AQ84","v":0},{"$f":"SUM(($B84='sh1'!$R$3:$R$214)*(IF($I$3=\"男\",0,1)='sh1'!$Q$3:$Q$214)*('sh1'!$S$3:$S$214))/1000*AW84","v":0},0,null,{"$f":"-$Z84/VLOOKUP($A84,'sh1'!$N$7:$O$12,2,1)","v":0},{"$f":"SUM($AA$11:AA84)","v":0},995816.800000001,995816.800000001,995816.800000001,6911484.88096767,{"$f":"($AF84-$V84)*(1+3%)-$Z84/VLOOKUP($A84,'sh1'!$N$7:$O$12,2,1)","v":7118829.4273967},7118829.4273967,{"$f":"IF($AG83<VLOOKUP($B84,'sh1'!$N$16:$O$19,2,1)*$AD84,VLOOKUP($B84,'sh1'!$N$16:$O$19,2,1)*$AD84,$AG83)","v":6911484.88096767},{"$f":"IF($AG84<VLOOKUP($B84,'sh1'!$N$16:$O$19,2,1)*$AE84,VLOOKUP($B84,'sh1'!$N$16:$O$19,2,1)*$AE84,$AG84)","v":7118829.4273967},0,17885219.8731882,{"$f":"($AL84-W84)*(1+4.5%)-$Z84/VLOOKUP($A84,'sh1'!$N$7:$O$12,2,1)","v":18690054.7674817},18690054.7674817,{"$f":"IF($AM83<VLOOKUP($B84,'sh1'!$N$16:$O$19,2,1)*$AD84,VLOOKUP($B84,'sh1'!$N$16:$O$19,2,1)*$AD84,$AM83)","v":17885219.8731882},{"$f":"IF($AM84<VLOOKUP($B84,'sh1'!$N$16:$O$19,2,1)*$AE84,VLOOKUP($B84,'sh1'!$N$16:$O$19,2,1)*$AE84,$AM84)","v":18690054.7674817},0,45662328.7273098,{"$f":"($AR84-X84)*(1+6%)-$Z84/VLOOKUP($A84,'sh1'!$N$7:$O$12,2,1)","v":48402068.4509484},48402068.4509484,{"$f":"IF($AS83<VLOOKUP($B84,'sh1'!$N$16:$O$19,2,1)*$AD84,VLOOKUP($B84,'sh1'!$N$16:$O$19,2,1)*$AD84,$AS83)","v":45662328.7273098},{"$f":"IF($AS84<VLOOKUP($B84,'sh1'!$N$16:$O$19,2,1)*$AE84,VLOOKUP($B84,'sh1'!$N$16:$O$19,2,1)*$AE84,$AS84)","v":48402068.4509484},0,"5|0|15|74"]
[75,89,90,null,null,null,null,null,null,null,null,null,null,null,null,null,null,0,{"$f":"SUM($R$11:R85,$P$11:P85,$Q$11:Q85)","v":995816.800000001},0,0,{"$f":"SUM(($B85='sh1'!$R$3:$R$214)*(IF($I$3=\"男\",0,1)='sh1'!$Q$3:$Q$214)*('sh1'!$S$3:$S$214))/1000*AK85","v":0},{"$f":"SUM(($B85='sh1'!$R$3:$R$214)*(IF($I$3=\"男\",0,1)='sh1'!$Q$3:$Q$214)*('sh1'!$S$3:$S$214))/1000*AQ85","v":0},{"$f":"SUM(($B85='sh1'!$R$3:$R$214)*(IF($I$3=\"男\",0,1)='sh1'!$Q$3:$Q$214)*('sh1'!$S$3:$S$214))/1000*AW85","v":0},0,null,{"$f":"-$Z85/VLOOKUP($A85,'sh1'!$N$7:$O$12,2,1)","v":0},{"$f":"SUM($AA$11:AA85)","v":0},995816.800000001,995816.800000001,995816.800000001,7118829.4273967,{"$f":"($AF85-$V85)*(1+3%)-$Z85/VLOOKUP($A85,'sh1'!$N$7:$O$12,2,1)","v":7332394.3102186},7332394.3102186,{"$f":"IF($AG84<VLOOKUP($B85,'sh1'!$N$16:$O$19,2,1)*$AD85,VLOOKUP($B85,'sh1'!$N$16:$O$19,2,1)*$AD85,$AG84)","v":7118829.4273967},{"$f":"IF($AG85<VLOOKUP($B85,'sh1'!$N$16:$O$19,2,1)*$AE85,VLOOKUP($B85,'sh1'!$N$16:$O$19,2,1)*$AE85,$AG85)","v":7332394.3102186},0,18690054.7674817,{"$f":"($AL85-W85)*(1+4.5%)-$Z85/VLOOKUP($A85,'sh1'!$N$7:$O$12,2,1)","v":19531107.2320184},19531107.2320184,{"$f":"IF($AM84<VLOOKUP($B85,'sh1'!$N$16:$O$19,2,1)*$AD85,VLOOKUP($B85,'sh1'!$N$16:$O$19,2,1)*$AD85,$AM84)","v":18690054.7674817},{"$f":"IF($AM85<VLOOKUP($B85,'sh1'!$N$16:$O$19,2,1)*$AE85,VLOOKUP($B85,'sh1'!$N$16:$O$19,2,1)*$AE85,$AM85)","v":19531107.2320184},0,48402068.4509484,{"$f":"($AR85-X85)*(1+6%)-$Z85/VLOOKUP($A85,'sh1'!$N$7:$O$12,2,1)","v":51306192.5580053},51306192.5580053,{"$f":"IF($AS84<VLOOKUP($B85,'sh1'!$N$16:$O$19,2,1)*$AD85,VLOOKUP($B85,'sh1'!$N$16:$O$19,2,1)*$AD85,$AS84)","v":48402068.4509484},{"$f":"IF($AS85<VLOOKUP($B85,'sh1'!$N$16:$O$19,2,1)*$AE85,VLOOKUP($B85,'sh1'!$N$16:$O$19,2,1)*$AE85,$AS85)","v":51306192.5580053},0,"5|0|15|75"]
[76,90,{"$f":"$G$3+A86","v":91},null,null,null,null,null,null,null,null,null,null,null,null,null,null,{"$f":"$I85+$J85","v":0},{"$f":"SUM($R$11:R86,$P$11:P86,$Q$11:Q86)","v":995816.800000001},0,0,{"$f":"SUM(($B86='sh1'!$R$3:$R$214)*(IF($I$3=\"男\",0,1)='sh1'!$Q$3:$Q$214)*('sh1'!$S$3:$S$214))/1000*AK86","v":0},{"$f":"SUM(($B86='sh1'!$R$3:$R$214)*(IF($I$3=\"男\",0,1)='sh1'!$Q$3:$Q$214)*('sh1'!$S$3:$S$214))/1000*AQ86","v":0},{"$f":"SUM(($B86='sh1'!$R$3:$R$214)*(IF($I$3=\"男\",0,1)='sh1'!$Q$3:$Q$214)*('sh1'!$S$3:$S$214))/1000*AW86","v":0},0,null,{"$f":"-$Z86/VLOOKUP($A86,'sh1'!$N$7:$O$12,2,1)","v":0},{"$f":"SUM($AA$11:AA86)","v":0},995816.800000001,995816.800000001,995816.800000001,7332394.3102186,{"$f":"($AF86-$V86)*(1+3%)-$Z86/VLOOKUP($A86,'sh1'!$N$7:$O$12,2,1)","v":7552366.13952515},7552366.13952515,{"$f":"IF($AG85<VLOOKUP($B86,'sh1'!$N$16:$O$19,2,1)*$AD86,VLOOKUP($B86,'sh1'!$N$16:$O$19,2,1)*$AD86,$AG85)","v":7332394.3102186},{"$f":"IF($AG86<VLOOKUP($B86,'sh1'!$N$16:$O$19,2,1)*$AE86,VLOOKUP($B86,'sh1'!$N$16:$O$19,2,1)*$AE86,$AG86)","v":7552366.13952515},0,19531107.2320184,{"$f":"($AL86-W86)*(1+4.5%)-$Z86/VLOOKUP($A86,'sh1'!$N$7:$O$12,2,1)","v":20410007.0574592},20410007.0574592,{"$f":"IF($AM85<VLOOKUP($B86,'sh1'!$N$16:$O$19,2,1)*$AD86,VLOOKUP($B86,'sh1'!$N$16:$O$19,2,1)*$AD86,$AM85)","v":19531107.2320184},{"$f":"IF($AM86<VLOOKUP($B86,'sh1'!$N$16:$O$19,2,1)*$AE86,VLOOKUP($B86,'sh1'!$N$16:$O$19,2,1)*$AE86,$AM86)","v":20410007.0574592},0,51306192.5580053,{"$f":"($AR86-X86)*(1+6%)-$Z86/VLOOKUP($A86,'sh1'!$N$7:$O$12,2,1)","v":54384564.1114857},54384564.1114857,{"$f":"IF($AS85<VLOOKUP($B86,'sh1'!$N$16:$O$19,2,1)*$AD86,VLOOKUP($B86,'sh1'!$N$16:$O$19,2,1)*$AD86,$AS85)","v":51306192.5580053},{"$f":"IF($AS86<VLOOKUP($B86,'sh1'!$N$16:$O$19,2,1)*$AE86,VLOOKUP($B86,'sh1'!$N$16:$O$19,2,1)*$AE86,$AS86)","v":54384564.1114857},0,"5|0|15|76"]
[77,91,92,null,null,null,null,null,null,null,null,null,null,null,null,null,null,0,{"$f":"SUM($R$11:R87,$P$11:P87,$Q$11:Q87)","v":995816.800000001},0,0,{"$f":"SUM(($B87='sh1'!$R$3:$R$214)*(IF($I$3=\"男\",0,1)='sh1'!$Q$3:$Q$214)*('sh1'!$S$3:$S$214))/1000*AK87","v":0},{"$f":"SUM(($B87='sh1'!$R$3:$R$214)*(IF($I$3=\"男\",0,1)='sh1'!$Q$3:$Q$214)*('sh1'!$S$3:$S$214))/1000*AQ87","v":0},{"$f":"SUM(($B87='sh1'!$R$3:$R$214)*(IF($I$3=\"男\",0,1)='sh1'!$Q$3:$Q$214)*('sh1'!$S$3:$S$214))/1000*AW87","v":0},0,null,{"$f":"-$Z87/VLOOKUP($A87,'sh1'!$N$7:$O$12,2,1)","v":0},{"$f":"SUM($AA$11:AA87)","v":0},995816.800000001,995816.800000001,995816.800000001,7552366.13952515,{"$f":"($AF87-$V87)*(1+3%)-$Z87/VLOOKUP($A87,'sh1'!$N$7:$O$12,2,1)","v":7778937.12371091},7778937.12371091,{"$f":"IF($AG86<VLOOKUP($B87,'sh1'!$N$16:$O$19,2,1)*$AD87,VLOOKUP($B87,'sh1'!$N$16:$O$19,2,1)*$AD87,$AG86)","v":7552366.13952515},{"$f":"IF($AG87<VLOOKUP($B87,'sh1'!$N$16:$O$19,2,1)*$AE87,VLOOKUP($B87,'sh1'!$N$16:$O$19,2,1)*$AE87,$AG87)","v":7778937.12371091},0,20410007.0574592,{"$f":"($AL87-W87)*(1+4.5%)-$Z87/VLOOKUP($A87,'sh1'!$N$7:$O$12,2,1)","v":21328457.3750449},21328457.3750449,{"$f":"IF($AM86<VLOOKUP($B87,'sh1'!$N$16:$O$19,2,1)*$AD87,VLOOKUP($B87,'sh1'!$N$16:$O$19,2,1)*$AD87,$AM86)","v":20410007.0574592},{"$f":"IF($AM87<VLOOKUP($B87,'sh1'!$N$16:$O$19,2,1)*$AE87,VLOOKUP($B87,'sh1'!$N$16:$O$19,2,1)*$AE87,$AM87)","v":21328457.3750449},0,54384564.1114857,{"$f":"($AR87-X87)*(1+6%)-$Z87/VLOOKUP($A87,'sh1'!$N$7:$O$12,2,1)","v":57647637.9581748},57647637.9581748,{"$f":"IF($AS86<VLOOKUP($B87,'sh1'!$N$16:$O$19,2,1)*$AD87,VLOOKUP($B87,'sh1'!$N$16:$O$19,2,1)*$AD87,$AS86)","v":54384564.1114857},{"$f":"IF($AS87<VLOOKUP($B87,'sh1'!$N$16:$O$19,2,1)*$AE87,VLOOKUP($B87,'sh1'!$N$16:$O$19,2,1)*$AE87,$AS87)","v":57647637.9581748},0,"5|0|15|77"]
[78,92,93,null,null,null,null,null,null,null,null,null,null,null,null,null,null,0,{"$f":"SUM($R$11:R88,$P$11:P88,$Q$11:Q88)","v":995816.800000001},0,0,{"$f":"SUM(($B88='sh1'!$R$3:$R$214)*(IF($I$3=\"男\",0,1)='sh1'!$Q$3:$Q$214)*('sh1'!$S$3:$S$214))/1000*AK88","v":0},{"$f":"SUM(($B88='sh1'!$R$3:$R$214)*(IF($I$3=\"男\",0,1)='sh1'!$Q$3:$Q$214)*('sh1'!$S$3:$S$214))/1000*AQ88","v":0},{"$f":"SUM(($B88='sh1'!$R$3:$R$214)*(IF($I$3=\"男\",0,1)='sh1'!$Q$3:$Q$214)*('sh1'!$S$3:$S$214))/1000*AW88","v":0},0,null,{"$f":"-$Z88/VLOOKUP($A88,'sh1'!$N$7:$O$12,2,1)","v":0},{"$f":"SUM($AA$11:AA88)","v":0},995816.800000001,995816.800000001,995816.800000001,7778937.12371091,{"$f":"($AF88-$V88)*(1+3%)-$Z88/VLOOKUP($A88,'sh1'!$N$7:$O$12,2,1)","v":8012305.23742224},8012305.23742224,{"$f":"IF($AG87<VLOOKUP($B88,'sh1'!$N$16:$O$19,2,1)*$AD88,VLOOKUP($B88,'sh1'!$N$16:$O$19,2,1)*$AD88,$AG87)","v":7778937.12371091},{"$f":"IF($AG88<VLOOKUP($B88,'sh1'!$N$16:$O$19,2,1)*$AE88,VLOOKUP($B88,'sh1'!$N$16:$O$19,2,1)*$AE88,$AG88)","v":8012305.23742224},0,21328457.3750449,{"$f":"($AL88-W88)*(1+4.5%)-$Z88/VLOOKUP($A88,'sh1'!$N$7:$O$12,2,1)","v":22288237.9569219},22288237.9569219,{"$f":"IF($AM87<VLOOKUP($B88,'sh1'!$N$16:$O$19,2,1)*$AD88,VLOOKUP($B88,'sh1'!$N$16:$O$19,2,1)*$AD88,$AM87)","v":21328457.3750449},{"$f":"IF($AM88<VLOOKUP($B88,'sh1'!$N$16:$O$19,2,1)*$AE88,VLOOKUP($B88,'sh1'!$N$16:$O$19,2,1)*$AE88,$AM88)","v":22288237.9569219},0,57647637.9581748,{"$f":"($AR88-X88)*(1+6%)-$Z88/VLOOKUP($A88,'sh1'!$N$7:$O$12,2,1)","v":61106496.2356653},61106496.2356653,{"$f":"IF($AS87<VLOOKUP($B88,'sh1'!$N$16:$O$19,2,1)*$AD88,VLOOKUP($B88,'sh1'!$N$16:$O$19,2,1)*$AD88,$AS87)","v":57647637.9581748},{"$f":"IF($AS88<VLOOKUP($B88,'sh1'!$N$16:$O$19,2,1)*$AE88,VLOOKUP($B88,'sh1'!$N$16:$O$19,2,1)*$AE88,$AS88)","v":61106496.2356653},0,"5|0|15|78"]
[79,93,94,null,null,null,null,null,null,null,null,null,null,null,null,null,null,0,{"$f":"SUM($R$11:R89,$P$11:P89,$Q$11:Q89)","v":995816.800000001},0,0,{"$f":"SUM(($B89='sh1'!$R$3:$R$214)*(IF($I$3=\"男\",0,1)='sh1'!$Q$3:$Q$214)*('sh1'!$S$3:$S$214))/1000*AK89","v":0},{"$f":"SUM(($B89='sh1'!$R$3:$R$214)*(IF($I$3=\"男\",0,1)='sh1'!$Q$3:$Q$214)*('sh1'!$S$3:$S$214))/1000*AQ89","v":0},{"$f":"SUM(($B89='sh1'!$R$3:$R$214)*(IF($I$3=\"男\",0,1)='sh1'!$Q$3:$Q$214)*('sh1'!$S$3:$S$214))/1000*AW89","v":0},0,null,{"$f":"-$Z89/VLOOKUP($A89,'sh1'!$N$7:$O$12,2,1)","v":0},{"$f":"SUM($AA$11:AA89)","v":0},995816.800000001,995816.800000001,995816.800000001,8012305.23742224,{"$f":"($AF89-$V89)*(1+3%)-$Z89/VLOOKUP($A89,'sh1'!$N$7:$O$12,2,1)","v":8252674.3945449},8252674.3945449,{"$f":"IF($AG88<VLOOKUP($B89,'sh1'!$N$16:$O$19,2,1)*$AD89,VLOOKUP($B89,'sh1'!$N$16:$O$19,2,1)*$AD89,$AG88)","v":8012305.23742224},{"$f":"IF($AG89<VLOOKUP($B89,'sh1'!$N$16:$O$19,2,1)*$AE89,VLOOKUP($B89,'sh1'!$N$16:$O$19,2,1)*$AE89,$AG89)","v":8252674.3945449},0,22288237.9569219,{"$f":"($AL89-W89)*(1+4.5%)-$Z89/VLOOKUP($A89,'sh1'!$N$7:$O$12,2,1)","v":23291208.6649834},23291208.6649834,{"$f":"IF($AM88<VLOOKUP($B89,'sh1'!$N$16:$O$19,2,1)*$AD89,VLOOKUP($B89,'sh1'!$N$16:$O$19,2,1)*$AD89,$AM88)","v":22288237.9569219},{"$f":"IF($AM89<VLOOKUP($B89,'sh1'!$N$16:$O$19,2,1)*$AE89,VLOOKUP($B89,'sh1'!$N$16:$O$19,2,1)*$AE89,$AM89)","v":23291208.6649834},0,61106496.2356653,{"$f":"($AR89-X89)*(1+6%)-$Z89/VLOOKUP($A89,'sh1'!$N$7:$O$12,2,1)","v":64772886.0098052},64772886.0098052,{"$f":"IF($AS88<VLOOKUP($B89,'sh1'!$N$16:$O$19,2,1)*$AD89,VLOOKUP($B89,'sh1'!$N$16:$O$19,2,1)*$AD89,$AS88)","v":61106496.2356653},{"$f":"IF($AS89<VLOOKUP($B89,'sh1'!$N$16:$O$19,2,1)*$AE89,VLOOKUP($B89,'sh1'!$N$16:$O$19,2,1)*$AE89,$AS89)","v":64772886.0098052},0,"5|0|15|79"]
[80,94,95,null,null,null,null,null,null,null,null,null,null,null,null,null,null,0,{"$f":"SUM($R$11:R90,$P$11:P90,$Q$11:Q90)","v":995816.800000001},0,0,{"$f":"SUM(($B90='sh1'!$R$3:$R$214)*(IF($I$3=\"男\",0,1)='sh1'!$Q$3:$Q$214)*('sh1'!$S$3:$S$214))/1000*AK90","v":0},{"$f":"SUM(($B90='sh1'!$R$3:$R$214)*(IF($I$3=\"男\",0,1)='sh1'!$Q$3:$Q$214)*('sh1'!$S$3:$S$214))/1000*AQ90","v":0},{"$f":"SUM(($B90='sh1'!$R$3:$R$214)*(IF($I$3=\"男\",0,1)='sh1'!$Q$3:$Q$214)*('sh1'!$S$3:$S$214))/1000*AW90","v":0},0,null,{"$f":"-$Z90/VLOOKUP($A90,'sh1'!$N$7:$O$12,2,1)","v":0},{"$f":"SUM($AA$11:AA90)","v":0},995816.800000001,995816.800000001,995816.800000001,8252674.3945449,{"$f":"($AF90-$V90)*(1+3%)-$Z90/VLOOKUP($A90,'sh1'!$N$7:$O$12,2,1)","v":8500254.62638125},8500254.62638125,{"$f":"IF($AG89<VLOOKUP($B90,'sh1'!$N$16:$O$19,2,1)*$AD90,VLOOKUP($B90,'sh1'!$N$16:$O$19,2,1)*$AD90,$AG89)","v":8252674.3945449},{"$f":"IF($AG90<VLOOKUP($B90,'sh1'!$N$16:$O$19,2,1)*$AE90,VLOOKUP($B90,'sh1'!$N$16:$O$19,2,1)*$AE90,$AG90)","v":8500254.62638125},0,23291208.6649834,{"$f":"($AL90-W90)*(1+4.5%)-$Z90/VLOOKUP($A90,'sh1'!$N$7:$O$12,2,1)","v":24339313.0549076},24339313.0549076,{"$f":"IF($AM89<VLOOKUP($B90,'sh1'!$N$16:$O$19,2,1)*$AD90,VLOOKUP($B90,'sh1'!$N$16:$O$19,2,1)*$AD90,$AM89)","v":23291208.6649834},{"$f":"IF($AM90<VLOOKUP($B90,'sh1'!$N$16:$O$19,2,1)*$AE90,VLOOKUP($B90,'sh1'!$N$16:$O$19,2,1)*$AE90,$AM90)","v":24339313.0549076},0,64772886.0098052,{"$f":"($AR90-X90)*(1+6%)-$Z90/VLOOKUP($A90,'sh1'!$N$7:$O$12,2,1)","v":68659259.1703935},68659259.1703935,{"$f":"IF($AS89<VLOOKUP($B90,'sh1'!$N$16:$O$19,2,1)*$AD90,VLOOKUP($B90,'sh1'!$N$16:$O$19,2,1)*$AD90,$AS89)","v":64772886.0098052},{"$f":"IF($AS90<VLOOKUP($B90,'sh1'!$N$16:$O$19,2,1)*$AE90,VLOOKUP($B90,'sh1'!$N$16:$O$19,2,1)*$AE90,$AS90)","v":68659259.1703935},0,"5|0|15|80"]
[81,95,96,null,null,null,null,null,null,null,null,null,null,null,null,null,null,0,{"$f":"SUM($R$11:R91,$P$11:P91,$Q$11:Q91)","v":995816.800000001},0,0,{"$f":"SUM(($B91='sh1'!$R$3:$R$214)*(IF($I$3=\"男\",0,1)='sh1'!$Q$3:$Q$214)*('sh1'!$S$3:$S$214))/1000*AK91","v":0},{"$f":"SUM(($B91='sh1'!$R$3:$R$214)*(IF($I$3=\"男\",0,1)='sh1'!$Q$3:$Q$214)*('sh1'!$S$3:$S$214))/1000*AQ91","v":0},{"$f":"SUM(($B91='sh1'!$R$3:$R$214)*(IF($I$3=\"男\",0,1)='sh1'!$Q$3:$Q$214)*('sh1'!$S$3:$S$214))/1000*AW91","v":0},0,null,{"$f":"-$Z91/VLOOKUP($A91,'sh1'!$N$7:$O$12,2,1)","v":0},{"$f":"SUM($AA$11:AA91)","v":0},995816.800000001,995816.800000001,995816.800000001,8500254.62638125,{"$f":"($AF91-$V91)*(1+3%)-$Z91/VLOOKUP($A91,'sh1'!$N$7:$O$12,2,1)","v":8755262.26517269},8755262.26517269,{"$f":"IF($AG90<VLOOKUP($B91,'sh1'!$N$16:$O$19,2,1)*$AD91,VLOOKUP($B91,'sh1'!$N$16:$O$19,2,1)*$AD91,$AG90)","v":8500254.62638125},{"$f":"IF($AG91<VLOOKUP($B91,'sh1'!$N$16:$O$19,2,1)*$AE91,VLOOKUP($B91,'sh1'!$N$16:$O$19,2,1)*$AE91,$AG91)","v":8755262.26517269},0,24339313.0549076,{"$f":"($AL91-W91)*(1+4.5%)-$Z91/VLOOKUP($A91,'sh1'!$N$7:$O$12,2,1)","v":25434582.1423785},25434582.1423785,{"$f":"IF($AM90<VLOOKUP($B91,'sh1'!$N$16:$O$19,2,1)*$AD91,VLOOKUP($B91,'sh1'!$N$16:$O$19,2,1)*$AD91,$AM90)","v":24339313.0549076},{"$f":"IF($AM91<VLOOKUP($B91,'sh1'!$N$16:$O$19,2,1)*$AE91,VLOOKUP($B91,'sh1'!$N$16:$O$19,2,1)*$AE91,$AM91)","v":25434582.1423785},0,68659259.1703935,{"$f":"($AR91-X91)*(1+6%)-$Z91/VLOOKUP($A91,'sh1'!$N$7:$O$12,2,1)","v":72778814.7206172},72778814.7206172,{"$f":"IF($AS90<VLOOKUP($B91,'sh1'!$N$16:$O$19,2,1)*$AD91,VLOOKUP($B91,'sh1'!$N$16:$O$19,2,1)*$AD91,$AS90)","v":68659259.1703935},{"$f":"IF($AS91<VLOOKUP($B91,'sh1'!$N$16:$O$19,2,1)*$AE91,VLOOKUP($B91,'sh1'!$N$16:$O$19,2,1)*$AE91,$AS91)","v":72778814.7206172},0,"5|0|15|81"]
[82,96,97,null,null,null,null,null,null,null,null,null,null,null,null,null,null,0,{"$f":"SUM($R$11:R92,$P$11:P92,$Q$11:Q92)","v":995816.800000001},0,0,{"$f":"SUM(($B92='sh1'!$R$3:$R$214)*(IF($I$3=\"男\",0,1)='sh1'!$Q$3:$Q$214)*('sh1'!$S$3:$S$214))/1000*AK92","v":0},{"$f":"SUM(($B92='sh1'!$R$3:$R$214)*(IF($I$3=\"男\",0,1)='sh1'!$Q$3:$Q$214)*('sh1'!$S$3:$S$214))/1000*AQ92","v":0},{"$f":"SUM(($B92='sh1'!$R$3:$R$214)*(IF($I$3=\"男\",0,1)='sh1'!$Q$3:$Q$214)*('sh1'!$S$3:$S$214))/1000*AW92","v":0},0,null,{"$f":"-$Z92/VLOOKUP($A92,'sh1'!$N$7:$O$12,2,1)","v":0},{"$f":"SUM($AA$11:AA92)","v":0},995816.800000001,995816.800000001,995816.800000001,8755262.26517269,{"$f":"($AF92-$V92)*(1+3%)-$Z92/VLOOKUP($A92,'sh1'!$N$7:$O$12,2,1)","v":9017920.13312787},9017920.13312787,{"$f":"IF($AG91<VLOOKUP($B92,'sh1'!$N$16:$O$19,2,1)*$AD92,VLOOKUP($B92,'sh1'!$N$16:$O$19,2,1)*$AD92,$AG91)","v":8755262.26517269},{"$f":"IF($AG92<VLOOKUP($B92,'sh1'!$N$16:$O$19,2,1)*$AE92,VLOOKUP($B92,'sh1'!$N$16:$O$19,2,1)*$AE92,$AG92)","v":9017920.13312787},0,25434582.1423785,{"$f":"($AL92-W92)*(1+4.5%)-$Z92/VLOOKUP($A92,'sh1'!$N$7:$O$12,2,1)","v":26579138.3387855},26579138.3387855,{"$f":"IF($AM91<VLOOKUP($B92,'sh1'!$N$16:$O$19,2,1)*$AD92,VLOOKUP($B92,'sh1'!$N$16:$O$19,2,1)*$AD92,$AM91)","v":25434582.1423785},{"$f":"IF($AM92<VLOOKUP($B92,'sh1'!$N$16:$O$19,2,1)*$AE92,VLOOKUP($B92,'sh1'!$N$16:$O$19,2,1)*$AE92,$AM92)","v":26579138.3387855},0,72778814.7206172,{"$f":"($AR92-X92)*(1+6%)-$Z92/VLOOKUP($A92,'sh1'!$N$7:$O$12,2,1)","v":77145543.6038542},77145543.6038542,{"$f":"IF($AS91<VLOOKUP($B92,'sh1'!$N$16:$O$19,2,1)*$AD92,VLOOKUP($B92,'sh1'!$N$16:$O$19,2,1)*$AD92,$AS91)","v":72778814.7206172},{"$f":"IF($AS92<VLOOKUP($B92,'sh1'!$N$16:$O$19,2,1)*$AE92,VLOOKUP($B92,'sh1'!$N$16:$O$19,2,1)*$AE92,$AS92)","v":77145543.6038542},0,"5|0|15|82"]
[83,97,98,null,null,null,null,null,null,null,null,null,null,null,null,null,null,0,{"$f":"SUM($R$11:R93,$P$11:P93,$Q$11:Q93)","v":995816.800000001},0,0,{"$f":"SUM(($B93='sh1'!$R$3:$R$214)*(IF($I$3=\"男\",0,1)='sh1'!$Q$3:$Q$214)*('sh1'!$S$3:$S$214))/1000*AK93","v":0},{"$f":"SUM(($B93='sh1'!$R$3:$R$214)*(IF($I$3=\"男\",0,1)='sh1'!$Q$3:$Q$214)*('sh1'!$S$3:$S$214))/1000*AQ93","v":0},{"$f":"SUM(($B93='sh1'!$R$3:$R$214)*(IF($I$3=\"男\",0,1)='sh1'!$Q$3:$Q$214)*('sh1'!$S$3:$S$214))/1000*AW93","v":0},0,null,{"$f":"-$Z93/VLOOKUP($A93,'sh1'!$N$7:$O$12,2,1)","v":0},{"$f":"SUM($AA$11:AA93)","v":0},995816.800000001,995816.800000001,995816.800000001,9017920.13312787,{"$f":"($AF93-$V93)*(1+3%)-$Z93/VLOOKUP($A93,'sh1'!$N$7:$O$12,2,1)","v":9288457.73712171},9288457.73712171,{"$f":"IF($AG92<VLOOKUP($B93,'sh1'!$N$16:$O$19,2,1)*$AD93,VLOOKUP($B93,'sh1'!$N$16:$O$19,2,1)*$AD93,$AG92)","v":9017920.13312787},{"$f":"IF($AG93<VLOOKUP($B93,'sh1'!$N$16:$O$19,2,1)*$AE93,VLOOKUP($B93,'sh1'!$N$16:$O$19,2,1)*$AE93,$AG93)","v":9288457.73712171},0,26579138.3387855,{"$f":"($AL93-W93)*(1+4.5%)-$Z93/VLOOKUP($A93,'sh1'!$N$7:$O$12,2,1)","v":27775199.5640308},27775199.5640308,{"$f":"IF($AM92<VLOOKUP($B93,'sh1'!$N$16:$O$19,2,1)*$AD93,VLOOKUP($B93,'sh1'!$N$16:$O$19,2,1)*$AD93,$AM92)","v":26579138.3387855},{"$f":"IF($AM93<VLOOKUP($B93,'sh1'!$N$16:$O$19,2,1)*$AE93,VLOOKUP($B93,'sh1'!$N$16:$O$19,2,1)*$AE93,$AM93)","v":27775199.5640308},0,77145543.6038542,{"$f":"($AR93-X93)*(1+6%)-$Z93/VLOOKUP($A93,'sh1'!$N$7:$O$12,2,1)","v":81774276.2200855},81774276.2200855,{"$f":"IF($AS92<VLOOKUP($B93,'sh1'!$N$16:$O$19,2,1)*$AD93,VLOOKUP($B93,'sh1'!$N$16:$O$19,2,1)*$AD93,$AS92)","v":77145543.6038542},{"$f":"IF($AS93<VLOOKUP($B93,'sh1'!$N$16:$O$19,2,1)*$AE93,VLOOKUP($B93,'sh1'!$N$16:$O$19,2,1)*$AE93,$AS93)","v":81774276.2200855},0,"5|0|15|83"]
[84,98,99,null,null,null,null,null,null,null,null,null,null,null,null,null,null,0,{"$f":"SUM($R$11:R94,$P$11:P94,$Q$11:Q94)","v":995816.800000001},0,0,{"$f":"SUM(($B94='sh1'!$R$3:$R$214)*(IF($I$3=\"男\",0,1)='sh1'!$Q$3:$Q$214)*('sh1'!$S$3:$S$214))/1000*AK94","v":0},{"$f":"SUM(($B94='sh1'!$R$3:$R$214)*(IF($I$3=\"男\",0,1)='sh1'!$Q$3:$Q$214)*('sh1'!$S$3:$S$214))/1000*AQ94","v":0},{"$f":"SUM(($B94='sh1'!$R$3:$R$214)*(IF($I$3=\"男\",0,1)='sh1'!$Q$3:$Q$214)*('sh1'!$S$3:$S$214))/1000*AW94","v":0},0,null,{"$f":"-$Z94/VLOOKUP($A94,'sh1'!$N$7:$O$12,2,1)","v":0},{"$f":"SUM($AA$11:AA94)","v":0},995816.800000001,995816.800000001,995816.800000001,9288457.73712171,{"$f":"($AF94-$V94)*(1+3%)-$Z94/VLOOKUP($A94,'sh1'!$N$7:$O$12,2,1)","v":9567111.46923536},9567111.46923536,{"$f":"IF($AG93<VLOOKUP($B94,'sh1'!$N$16:$O$19,2,1)*$AD94,VLOOKUP($B94,'sh1'!$N$16:$O$19,2,1)*$AD94,$AG93)","v":9288457.73712171},{"$f":"IF($AG94<VLOOKUP($B94,'sh1'!$N$16:$O$19,2,1)*$AE94,VLOOKUP($B94,'sh1'!$N$16:$O$19,2,1)*$AE94,$AG94)","v":9567111.46923536},0,27775199.5640308,{"$f":"($AL94-W94)*(1+4.5%)-$Z94/VLOOKUP($A94,'sh1'!$N$7:$O$12,2,1)","v":29025083.5444122},29025083.5444122,{"$f":"IF($AM93<VLOOKUP($B94,'sh1'!$N$16:$O$19,2,1)*$AD94,VLOOKUP($B94,'sh1'!$N$16:$O$19,2,1)*$AD94,$AM93)","v":27775199.5640308},{"$f":"IF($AM94<VLOOKUP($B94,'sh1'!$N$16:$O$19,2,1)*$AE94,VLOOKUP($B94,'sh1'!$N$16:$O$19,2,1)*$AE94,$AM94)","v":29025083.5444122},0,81774276.2200855,{"$f":"($AR94-X94)*(1+6%)-$Z94/VLOOKUP($A94,'sh1'!$N$7:$O$12,2,1)","v":86680732.7932906},86680732.7932906,{"$f":"IF($AS93<VLOOKUP($B94,'sh1'!$N$16:$O$19,2,1)*$AD94,VLOOKUP($B94,'sh1'!$N$16:$O$19,2,1)*$AD94,$AS93)","v":81774276.2200855},{"$f":"IF($AS94<VLOOKUP($B94,'sh1'!$N$16:$O$19,2,1)*$AE94,VLOOKUP($B94,'sh1'!$N$16:$O$19,2,1)*$AE94,$AS94)","v":86680732.7932906},0,"5|0|15|84"]
[85,99,100,null,null,null,null,null,null,null,null,null,null,null,null,null,null,0,{"$f":"SUM($R$11:R95,$P$11:P95,$Q$11:Q95)","v":995816.800000001},0,0,{"$f":"SUM(($B95='sh1'!$R$3:$R$214)*(IF($I$3=\"男\",0,1)='sh1'!$Q$3:$Q$214)*('sh1'!$S$3:$S$214))/1000*AK95","v":0},{"$f":"SUM(($B95='sh1'!$R$3:$R$214)*(IF($I$3=\"男\",0,1)='sh1'!$Q$3:$Q$214)*('sh1'!$S$3:$S$214))/1000*AQ95","v":0},{"$f":"SUM(($B95='sh1'!$R$3:$R$214)*(IF($I$3=\"男\",0,1)='sh1'!$Q$3:$Q$214)*('sh1'!$S$3:$S$214))/1000*AW95","v":0},0,null,{"$f":"-$Z95/VLOOKUP($A95,'sh1'!$N$7:$O$12,2,1)","v":0},{"$f":"SUM($AA$11:AA95)","v":0},995816.800000001,995816.800000001,995816.800000001,9567111.46923536,{"$f":"($AF95-$V95)*(1+3%)-$Z95/VLOOKUP($A95,'sh1'!$N$7:$O$12,2,1)","v":9854124.81331242},9854124.81331242,{"$f":"IF($AG94<VLOOKUP($B95,'sh1'!$N$16:$O$19,2,1)*$AD95,VLOOKUP($B95,'sh1'!$N$16:$O$19,2,1)*$AD95,$AG94)","v":9567111.46923536},{"$f":"IF($AG95<VLOOKUP($B95,'sh1'!$N$16:$O$19,2,1)*$AE95,VLOOKUP($B95,'sh1'!$N$16:$O$19,2,1)*$AE95,$AG95)","v":9854124.81331242},0,29025083.5444122,{"$f":"($AL95-W95)*(1+4.5%)-$Z95/VLOOKUP($A95,'sh1'!$N$7:$O$12,2,1)","v":30331212.3039108},30331212.3039108,{"$f":"IF($AM94<VLOOKUP($B95,'sh1'!$N$16:$O$19,2,1)*$AD95,VLOOKUP($B95,'sh1'!$N$16:$O$19,2,1)*$AD95,$AM94)","v":29025083.5444122},{"$f":"IF($AM95<VLOOKUP($B95,'sh1'!$N$16:$O$19,2,1)*$AE95,VLOOKUP($B95,'sh1'!$N$16:$O$19,2,1)*$AE95,$AM95)","v":30331212.3039108},0,86680732.7932906,{"$f":"($AR95-X95)*(1+6%)-$Z95/VLOOKUP($A95,'sh1'!$N$7:$O$12,2,1)","v":91881576.760888},91881576.760888,{"$f":"IF($AS94<VLOOKUP($B95,'sh1'!$N$16:$O$19,2,1)*$AD95,VLOOKUP($B95,'sh1'!$N$16:$O$19,2,1)*$AD95,$AS94)","v":86680732.7932906},{"$f":"IF($AS95<VLOOKUP($B95,'sh1'!$N$16:$O$19,2,1)*$AE95,VLOOKUP($B95,'sh1'!$N$16:$O$19,2,1)*$AE95,$AS95)","v":91881576.760888},0,"5|0|15|85"]
[86,100,101,null,null,null,null,null,null,null,null,null,null,null,null,null,null,0,{"$f":"SUM($R$11:R96,$P$11:P96,$Q$11:Q96)","v":995816.800000001},0,0,{"$f":"SUM(($B96='sh1'!$R$3:$R$214)*(IF($I$3=\"男\",0,1)='sh1'!$Q$3:$Q$214)*('sh1'!$S$3:$S$214))/1000*AK96","v":0},{"$f":"SUM(($B96='sh1'!$R$3:$R$214)*(IF($I$3=\"男\",0,1)='sh1'!$Q$3:$Q$214)*('sh1'!$S$3:$S$214))/1000*AQ96","v":0},{"$f":"SUM(($B96='sh1'!$R$3:$R$214)*(IF($I$3=\"男\",0,1)='sh1'!$Q$3:$Q$214)*('sh1'!$S$3:$S$214))/1000*AW96","v":0},0,null,{"$f":"-$Z96/VLOOKUP($A96,'sh1'!$N$7:$O$12,2,1)","v":0},{"$f":"SUM($AA$11:AA96)","v":0},995816.800000001,995816.800000001,995816.800000001,9854124.81331242,{"$f":"($AF96-$V96)*(1+3%)-$Z96/VLOOKUP($A96,'sh1'!$N$7:$O$12,2,1)","v":10149748.5577118},10149748.5577118,{"$f":"IF($AG95<VLOOKUP($B96,'sh1'!$N$16:$O$19,2,1)*$AD96,VLOOKUP($B96,'sh1'!$N$16:$O$19,2,1)*$AD96,$AG95)","v":9854124.81331242},{"$f":"IF($AG96<VLOOKUP($B96,'sh1'!$N$16:$O$19,2,1)*$AE96,VLOOKUP($B96,'sh1'!$N$16:$O$19,2,1)*$AE96,$AG96)","v":10149748.5577118},0,30331212.3039108,{"$f":"($AL96-W96)*(1+4.5%)-$Z96/VLOOKUP($A96,'sh1'!$N$7:$O$12,2,1)","v":31696116.8575867},31696116.8575867,{"$f":"IF($AM95<VLOOKUP($B96,'sh1'!$N$16:$O$19,2,1)*$AD96,VLOOKUP($B96,'sh1'!$N$16:$O$19,2,1)*$AD96,$AM95)","v":30331212.3039108},{"$f":"IF($AM96<VLOOKUP($B96,'sh1'!$N$16:$O$19,2,1)*$AE96,VLOOKUP($B96,'sh1'!$N$16:$O$19,2,1)*$AE96,$AM96)","v":31696116.8575867},0,91881576.760888,{"$f":"($AR96-X96)*(1+6%)-$Z96/VLOOKUP($A96,'sh1'!$N$7:$O$12,2,1)","v":97394471.3665413},97394471.3665413,{"$f":"IF($AS95<VLOOKUP($B96,'sh1'!$N$16:$O$19,2,1)*$AD96,VLOOKUP($B96,'sh1'!$N$16:$O$19,2,1)*$AD96,$AS95)","v":91881576.760888},{"$f":"IF($AS96<VLOOKUP($B96,'sh1'!$N$16:$O$19,2,1)*$AE96,VLOOKUP($B96,'sh1'!$N$16:$O$19,2,1)*$AE96,$AS96)","v":97394471.3665413},0,"5|0|15|86"]
[87,101,102,null,null,null,null,null,null,null,null,null,null,null,null,null,null,0,{"$f":"SUM($R$11:R97,$P$11:P97,$Q$11:Q97)","v":995816.800000001},0,0,{"$f":"SUM(($B97='sh1'!$R$3:$R$214)*(IF($I$3=\"男\",0,1)='sh1'!$Q$3:$Q$214)*('sh1'!$S$3:$S$214))/1000*AK97","v":0},{"$f":"SUM(($B97='sh1'!$R$3:$R$214)*(IF($I$3=\"男\",0,1)='sh1'!$Q$3:$Q$214)*('sh1'!$S$3:$S$214))/1000*AQ97","v":0},{"$f":"SUM(($B97='sh1'!$R$3:$R$214)*(IF($I$3=\"男\",0,1)='sh1'!$Q$3:$Q$214)*('sh1'!$S$3:$S$214))/1000*AW97","v":0},0,null,{"$f":"-$Z97/VLOOKUP($A97,'sh1'!$N$7:$O$12,2,1)","v":0},{"$f":"SUM($AA$11:AA97)","v":0},995816.800000001,995816.800000001,995816.800000001,10149748.5577118,{"$f":"($AF97-$V97)*(1+3%)-$Z97/VLOOKUP($A97,'sh1'!$N$7:$O$12,2,1)","v":10454241.0144431},10454241.0144431,{"$f":"IF($AG96<VLOOKUP($B97,'sh1'!$N$16:$O$19,2,1)*$AD97,VLOOKUP($B97,'sh1'!$N$16:$O$19,2,1)*$AD97,$AG96)","v":10149748.5577118},{"$f":"IF($AG97<VLOOKUP($B97,'sh1'!$N$16:$O$19,2,1)*$AE97,VLOOKUP($B97,'sh1'!$N$16:$O$19,2,1)*$AE97,$AG97)","v":10454241.0144431},0,31696116.8575867,{"$f":"($AL97-W97)*(1+4.5%)-$Z97/VLOOKUP($A97,'sh1'!$N$7:$O$12,2,1)","v":33122442.1161781},33122442.1161781,{"$f":"IF($AM96<VLOOKUP($B97,'sh1'!$N$16:$O$19,2,1)*$AD97,VLOOKUP($B97,'sh1'!$N$16:$O$19,2,1)*$AD97,$AM96)","v":31696116.8575867},{"$f":"IF($AM97<VLOOKUP($B97,'sh1'!$N$16:$O$19,2,1)*$AE97,VLOOKUP($B97,'sh1'!$N$16:$O$19,2,1)*$AE97,$AM97)","v":33122442.1161781},0,97394471.3665413,{"$f":"($AR97-X97)*(1+6%)-$Z97/VLOOKUP($A97,'sh1'!$N$7:$O$12,2,1)","v":103238139.648534},103238139.648534,{"$f":"IF($AS96<VLOOKUP($B97,'sh1'!$N$16:$O$19,2,1)*$AD97,VLOOKUP($B97,'sh1'!$N$16:$O$19,2,1)*$AD97,$AS96)","v":97394471.3665413},{"$f":"IF($AS97<VLOOKUP($B97,'sh1'!$N$16:$O$19,2,1)*$AE97,VLOOKUP($B97,'sh1'!$N$16:$O$19,2,1)*$AE97,$AS97)","v":103238139.648534},0,"5|0|15|87"]
[88,102,103,null,null,null,null,null,null,null,null,null,null,null,null,null,null,0,{"$f":"SUM($R$11:R98,$P$11:P98,$Q$11:Q98)","v":995816.800000001},0,0,{"$f":"SUM(($B98='sh1'!$R$3:$R$214)*(IF($I$3=\"男\",0,1)='sh1'!$Q$3:$Q$214)*('sh1'!$S$3:$S$214))/1000*AK98","v":0},{"$f":"SUM(($B98='sh1'!$R$3:$R$214)*(IF($I$3=\"男\",0,1)='sh1'!$Q$3:$Q$214)*('sh1'!$S$3:$S$214))/1000*AQ98","v":0},{"$f":"SUM(($B98='sh1'!$R$3:$R$214)*(IF($I$3=\"男\",0,1)='sh1'!$Q$3:$Q$214)*('sh1'!$S$3:$S$214))/1000*AW98","v":0},0,null,{"$f":"-$Z98/VLOOKUP($A98,'sh1'!$N$7:$O$12,2,1)","v":0},{"$f":"SUM($AA$11:AA98)","v":0},995816.800000001,995816.800000001,995816.800000001,10454241.0144431,{"$f":"($AF98-$V98)*(1+3%)-$Z98/VLOOKUP($A98,'sh1'!$N$7:$O$12,2,1)","v":10767868.2448764},10767868.2448764,{"$f":"IF($AG97<VLOOKUP($B98,'sh1'!$N$16:$O$19,2,1)*$AD98,VLOOKUP($B98,'sh1'!$N$16:$O$19,2,1)*$AD98,$AG97)","v":10454241.0144431},{"$f":"IF($AG98<VLOOKUP($B98,'sh1'!$N$16:$O$19,2,1)*$AE98,VLOOKUP($B98,'sh1'!$N$16:$O$19,2,1)*$AE98,$AG98)","v":10767868.2448764},0,33122442.1161781,{"$f":"($AL98-W98)*(1+4.5%)-$Z98/VLOOKUP($A98,'sh1'!$N$7:$O$12,2,1)","v":34612952.0114062},34612952.0114062,{"$f":"IF($AM97<VLOOKUP($B98,'sh1'!$N$16:$O$19,2,1)*$AD98,VLOOKUP($B98,'sh1'!$N$16:$O$19,2,1)*$AD98,$AM97)","v":33122442.1161781},{"$f":"IF($AM98<VLOOKUP($B98,'sh1'!$N$16:$O$19,2,1)*$AE98,VLOOKUP($B98,'sh1'!$N$16:$O$19,2,1)*$AE98,$AM98)","v":34612952.0114062},0,103238139.648534,{"$f":"($AR98-X98)*(1+6%)-$Z98/VLOOKUP($A98,'sh1'!$N$7:$O$12,2,1)","v":109432428.027446},109432428.027446,{"$f":"IF($AS97<VLOOKUP($B98,'sh1'!$N$16:$O$19,2,1)*$AD98,VLOOKUP($B98,'sh1'!$N$16:$O$19,2,1)*$AD98,$AS97)","v":103238139.648534},{"$f":"IF($AS98<VLOOKUP($B98,'sh1'!$N$16:$O$19,2,1)*$AE98,VLOOKUP($B98,'sh1'!$N$16:$O$19,2,1)*$AE98,$AS98)","v":109432428.027446},0,"5|0|15|88"]
[89,103,104,null,null,null,null,null,null,null,null,null,null,null,null,null,null,0,{"$f":"SUM($R$11:R99,$P$11:P99,$Q$11:Q99)","v":995816.800000001},0,0,{"$f":"SUM(($B99='sh1'!$R$3:$R$214)*(IF($I$3=\"男\",0,1)='sh1'!$Q$3:$Q$214)*('sh1'!$S$3:$S$214))/1000*AK99","v":0},{"$f":"SUM(($B99='sh1'!$R$3:$R$214)*(IF($I$3=\"男\",0,1)='sh1'!$Q$3:$Q$214)*('sh1'!$S$3:$S$214))/1000*AQ99","v":0},{"$f":"SUM(($B99='sh1'!$R$3:$R$214)*(IF($I$3=\"男\",0,1)='sh1'!$Q$3:$Q$214)*('sh1'!$S$3:$S$214))/1000*AW99","v":0},0,null,{"$f":"-$Z99/VLOOKUP($A99,'sh1'!$N$7:$O$12,2,1)","v":0},{"$f":"SUM($AA$11:AA99)","v":0},995816.800000001,995816.800000001,995816.800000001,10767868.2448764,{"$f":"($AF99-$V99)*(1+3%)-$Z99/VLOOKUP($A99,'sh1'!$N$7:$O$12,2,1)","v":11090904.2922227},11090904.2922227,{"$f":"IF($AG98<VLOOKUP($B99,'sh1'!$N$16:$O$19,2,1)*$AD99,VLOOKUP($B99,'sh1'!$N$16:$O$19,2,1)*$AD99,$AG98)","v":10767868.2448764},{"$f":"IF($AG99<VLOOKUP($B99,'sh1'!$N$16:$O$19,2,1)*$AE99,VLOOKUP($B99,'sh1'!$N$16:$O$19,2,1)*$AE99,$AG99)","v":11090904.2922227},0,34612952.0114062,{"$f":"($AL99-W99)*(1+4.5%)-$Z99/VLOOKUP($A99,'sh1'!$N$7:$O$12,2,1)","v":36170534.8519194},36170534.8519194,{"$f":"IF($AM98<VLOOKUP($B99,'sh1'!$N$16:$O$19,2,1)*$AD99,VLOOKUP($B99,'sh1'!$N$16:$O$19,2,1)*$AD99,$AM98)","v":34612952.0114062},{"$f":"IF($AM99<VLOOKUP($B99,'sh1'!$N$16:$O$19,2,1)*$AE99,VLOOKUP($B99,'sh1'!$N$16:$O$19,2,1)*$AE99,$AM99)","v":36170534.8519194},0,109432428.027446,{"$f":"($AR99-X99)*(1+6%)-$Z99/VLOOKUP($A99,'sh1'!$N$7:$O$12,2,1)","v":115998373.709093},115998373.709093,{"$f":"IF($AS98<VLOOKUP($B99,'sh1'!$N$16:$O$19,2,1)*$AD99,VLOOKUP($B99,'sh1'!$N$16:$O$19,2,1)*$AD99,$AS98)","v":109432428.027446},{"$f":"IF($AS99<VLOOKUP($B99,'sh1'!$N$16:$O$19,2,1)*$AE99,VLOOKUP($B99,'sh1'!$N$16:$O$19,2,1)*$AE99,$AS99)","v":115998373.709093},0,"5|0|15|89"]
[90,104,105,null,null,null,null,null,null,null,null,null,null,null,null,null,null,0,{"$f":"SUM($R$11:R100,$P$11:P100,$Q$11:Q100)","v":995816.800000001},0,0,{"$f":"SUM(($B100='sh1'!$R$3:$R$214)*(IF($I$3=\"男\",0,1)='sh1'!$Q$3:$Q$214)*('sh1'!$S$3:$S$214))/1000*AK100","v":0},{"$f":"SUM(($B100='sh1'!$R$3:$R$214)*(IF($I$3=\"男\",0,1)='sh1'!$Q$3:$Q$214)*('sh1'!$S$3:$S$214))/1000*AQ100","v":0},{"$f":"SUM(($B100='sh1'!$R$3:$R$214)*(IF($I$3=\"男\",0,1)='sh1'!$Q$3:$Q$214)*('sh1'!$S$3:$S$214))/1000*AW100","v":0},0,null,{"$f":"-$Z100/VLOOKUP($A100,'sh1'!$N$7:$O$12,2,1)","v":0},{"$f":"SUM($AA$11:AA100)","v":0},995816.800000001,995816.800000001,995816.800000001,11090904.2922227,{"$f":"($AF100-$V100)*(1+3%)-$Z100/VLOOKUP($A100,'sh1'!$N$7:$O$12,2,1)","v":11423631.4209894},11423631.4209894,{"$f":"IF($AG99<VLOOKUP($B100,'sh1'!$N$16:$O$19,2,1)*$AD100,VLOOKUP($B100,'sh1'!$N$16:$O$19,2,1)*$AD100,$AG99)","v":11090904.2922227},{"$f":"IF($AG100<VLOOKUP($B100,'sh1'!$N$16:$O$19,2,1)*$AE100,VLOOKUP($B100,'sh1'!$N$16:$O$19,2,1)*$AE100,$AG100)","v":11423631.4209894},0,36170534.8519194,{"$f":"($AL100-W100)*(1+4.5%)-$Z100/VLOOKUP($A100,'sh1'!$N$7:$O$12,2,1)","v":37798208.9202558},37798208.9202558,{"$f":"IF($AM99<VLOOKUP($B100,'sh1'!$N$16:$O$19,2,1)*$AD100,VLOOKUP($B100,'sh1'!$N$16:$O$19,2,1)*$AD100,$AM99)","v":36170534.8519194},{"$f":"IF($AM100<VLOOKUP($B100,'sh1'!$N$16:$O$19,2,1)*$AE100,VLOOKUP($B100,'sh1'!$N$16:$O$19,2,1)*$AE100,$AM100)","v":37798208.9202558},0,115998373.709093,{"$f":"($AR100-X100)*(1+6%)-$Z100/VLOOKUP($A100,'sh1'!$N$7:$O$12,2,1)","v":122958276.131638},122958276.131638,{"$f":"IF($AS99<VLOOKUP($B100,'sh1'!$N$16:$O$19,2,1)*$AD100,VLOOKUP($B100,'sh1'!$N$16:$O$19,2,1)*$AD100,$AS99)","v":115998373.709093},{"$f":"IF($AS100<VLOOKUP($B100,'sh1'!$N$16:$O$19,2,1)*$AE100,VLOOKUP($B100,'sh1'!$N$16:$O$19,2,1)*$AE100,$AS100)","v":122958276.131638},0,"5|0|15|90"]
[91,105,106,null,null,null,null,null,null,null,null,null,null,null,null,null,null,0,{"$f":"SUM($R$11:R101,$P$11:P101,$Q$11:Q101)","v":995816.800000001},0,0,{"$f":"SUM(($B101='sh1'!$R$3:$R$214)*(IF($I$3=\"男\",0,1)='sh1'!$Q$3:$Q$214)*('sh1'!$S$3:$S$214))/1000*AK101","v":0},{"$f":"SUM(($B101='sh1'!$R$3:$R$214)*(IF($I$3=\"男\",0,1)='sh1'!$Q$3:$Q$214)*('sh1'!$S$3:$S$214))/1000*AQ101","v":0},{"$f":"SUM(($B101='sh1'!$R$3:$R$214)*(IF($I$3=\"男\",0,1)='sh1'!$Q$3:$Q$214)*('sh1'!$S$3:$S$214))/1000*AW101","v":0},0,null,{"$f":"-$Z101/VLOOKUP($A101,'sh1'!$N$7:$O$12,2,1)","v":0},{"$f":"SUM($AA$11:AA101)","v":0},995816.800000001,995816.800000001,995816.800000001,11423631.4209894,{"$f":"($AF101-$V101)*(1+3%)-$Z101/VLOOKUP($A101,'sh1'!$N$7:$O$12,2,1)","v":11766340.3636191},11766340.3636191,{"$f":"IF($AG100<VLOOKUP($B101,'sh1'!$N$16:$O$19,2,1)*$AD101,VLOOKUP($B101,'sh1'!$N$16:$O$19,2,1)*$AD101,$AG100)","v":11423631.4209894},{"$f":"IF($AG101<VLOOKUP($B101,'sh1'!$N$16:$O$19,2,1)*$AE101,VLOOKUP($B101,'sh1'!$N$16:$O$19,2,1)*$AE101,$AG101)","v":11766340.3636191},0,37798208.9202558,{"$f":"($AL101-W101)*(1+4.5%)-$Z101/VLOOKUP($A101,'sh1'!$N$7:$O$12,2,1)","v":39499128.3216673},39499128.3216673,{"$f":"IF($AM100<VLOOKUP($B101,'sh1'!$N$16:$O$19,2,1)*$AD101,VLOOKUP($B101,'sh1'!$N$16:$O$19,2,1)*$AD101,$AM100)","v":37798208.9202558},{"$f":"IF($AM101<VLOOKUP($B101,'sh1'!$N$16:$O$19,2,1)*$AE101,VLOOKUP($B101,'sh1'!$N$16:$O$19,2,1)*$AE101,$AM101)","v":39499128.3216673},0,122958276.131638,{"$f":"($AR101-X101)*(1+6%)-$Z101/VLOOKUP($A101,'sh1'!$N$7:$O$12,2,1)","v":130335772.699536},130335772.699536,{"$f":"IF($AS100<VLOOKUP($B101,'sh1'!$N$16:$O$19,2,1)*$AD101,VLOOKUP($B101,'sh1'!$N$16:$O$19,2,1)*$AD101,$AS100)","v":122958276.131638},{"$f":"IF($AS101<VLOOKUP($B101,'sh1'!$N$16:$O$19,2,1)*$AE101,VLOOKUP($B101,'sh1'!$N$16:$O$19,2,1)*$AE101,$AS101)","v":130335772.699536},0,"5|0|15|91"]
[92,106,107,null,null,null,null,null,null,null,null,null,null,null,null,null,null,0,{"$f":"SUM($R$11:R102,$P$11:P102,$Q$11:Q102)","v":995816.800000001},0,0,{"$f":"SUM(($B102='sh1'!$R$3:$R$214)*(IF($I$3=\"男\",0,1)='sh1'!$Q$3:$Q$214)*('sh1'!$S$3:$S$214))/1000*AK102","v":0},{"$f":"SUM(($B102='sh1'!$R$3:$R$214)*(IF($I$3=\"男\",0,1)='sh1'!$Q$3:$Q$214)*('sh1'!$S$3:$S$214))/1000*AQ102","v":0},{"$f":"SUM(($B102='sh1'!$R$3:$R$214)*(IF($I$3=\"男\",0,1)='sh1'!$Q$3:$Q$214)*('sh1'!$S$3:$S$214))/1000*AW102","v":0},0,null,{"$f":"-$Z102/VLOOKUP($A102,'sh1'!$N$7:$O$12,2,1)","v":0},{"$f":"SUM($AA$11:AA102)","v":0},995816.800000001,995816.800000001,995816.800000001,11766340.3636191,{"$f":"($AF102-$V102)*(1+3%)-$Z102/VLOOKUP($A102,'sh1'!$N$7:$O$12,2,1)","v":12119330.5745277},12119330.5745277,{"$f":"IF($AG101<VLOOKUP($B102,'sh1'!$N$16:$O$19,2,1)*$AD102,VLOOKUP($B102,'sh1'!$N$16:$O$19,2,1)*$AD102,$AG101)","v":11766340.3636191},{"$f":"IF($AG102<VLOOKUP($B102,'sh1'!$N$16:$O$19,2,1)*$AE102,VLOOKUP($B102,'sh1'!$N$16:$O$19,2,1)*$AE102,$AG102)","v":12119330.5745277},0,39499128.3216673,{"$f":"($AL102-W102)*(1+4.5%)-$Z102/VLOOKUP($A102,'sh1'!$N$7:$O$12,2,1)","v":41276589.0961423},41276589.0961423,{"$f":"IF($AM101<VLOOKUP($B102,'sh1'!$N$16:$O$19,2,1)*$AD102,VLOOKUP($B102,'sh1'!$N$16:$O$19,2,1)*$AD102,$AM101)","v":39499128.3216673},{"$f":"IF($AM102<VLOOKUP($B102,'sh1'!$N$16:$O$19,2,1)*$AE102,VLOOKUP($B102,'sh1'!$N$16:$O$19,2,1)*$AE102,$AM102)","v":41276589.0961423},0,130335772.699536,{"$f":"($AR102-X102)*(1+6%)-$Z102/VLOOKUP($A102,'sh1'!$N$7:$O$12,2,1)","v":138155919.061509},138155919.061509,{"$f":"IF($AS101<VLOOKUP($B102,'sh1'!$N$16:$O$19,2,1)*$AD102,VLOOKUP($B102,'sh1'!$N$16:$O$19,2,1)*$AD102,$AS101)","v":130335772.699536},{"$f":"IF($AS102<VLOOKUP($B102,'sh1'!$N$16:$O$19,2,1)*$AE102,VLOOKUP($B102,'sh1'!$N$16:$O$19,2,1)*$AE102,$AS102)","v":138155919.061509},0,"5|0|15|92"]
[93,107,108,null,null,null,null,null,null,null,null,null,null,null,null,null,null,0,{"$f":"SUM($R$11:R103,$P$11:P103,$Q$11:Q103)","v":995816.800000001},0,0,{"$f":"SUM(($B103='sh1'!$R$3:$R$214)*(IF($I$3=\"男\",0,1)='sh1'!$Q$3:$Q$214)*('sh1'!$S$3:$S$214))/1000*AK103","v":0},{"$f":"SUM(($B103='sh1'!$R$3:$R$214)*(IF($I$3=\"男\",0,1)='sh1'!$Q$3:$Q$214)*('sh1'!$S$3:$S$214))/1000*AQ103","v":0},{"$f":"SUM(($B103='sh1'!$R$3:$R$214)*(IF($I$3=\"男\",0,1)='sh1'!$Q$3:$Q$214)*('sh1'!$S$3:$S$214))/1000*AW103","v":0},0,null,{"$f":"-$Z103/VLOOKUP($A103,'sh1'!$N$7:$O$12,2,1)","v":0},{"$f":"SUM($AA$11:AA103)","v":0},995816.800000001,995816.800000001,995816.800000001,12119330.5745277,{"$f":"($AF103-$V103)*(1+3%)-$Z103/VLOOKUP($A103,'sh1'!$N$7:$O$12,2,1)","v":12482910.4917635},12482910.4917635,{"$f":"IF($AG102<VLOOKUP($B103,'sh1'!$N$16:$O$19,2,1)*$AD103,VLOOKUP($B103,'sh1'!$N$16:$O$19,2,1)*$AD103,$AG102)","v":12119330.5745277},{"$f":"IF($AG103<VLOOKUP($B103,'sh1'!$N$16:$O$19,2,1)*$AE103,VLOOKUP($B103,'sh1'!$N$16:$O$19,2,1)*$AE103,$AG103)","v":12482910.4917635},0,41276589.0961423,{"$f":"($AL103-W103)*(1+4.5%)-$Z103/VLOOKUP($A103,'sh1'!$N$7:$O$12,2,1)","v":43134035.6054687},43134035.6054687,{"$f":"IF($AM102<VLOOKUP($B103,'sh1'!$N$16:$O$19,2,1)*$AD103,VLOOKUP($B103,'sh1'!$N$16:$O$19,2,1)*$AD103,$AM102)","v":41276589.0961423},{"$f":"IF($AM103<VLOOKUP($B103,'sh1'!$N$16:$O$19,2,1)*$AE103,VLOOKUP($B103,'sh1'!$N$16:$O$19,2,1)*$AE103,$AM103)","v":43134035.6054687},0,138155919.061509,{"$f":"($AR103-X103)*(1+6%)-$Z103/VLOOKUP($A103,'sh1'!$N$7:$O$12,2,1)","v":146445274.205199},146445274.205199,{"$f":"IF($AS102<VLOOKUP($B103,'sh1'!$N$16:$O$19,2,1)*$AD103,VLOOKUP($B103,'sh1'!$N$16:$O$19,2,1)*$AD103,$AS102)","v":138155919.061509},{"$f":"IF($AS103<VLOOKUP($B103,'sh1'!$N$16:$O$19,2,1)*$AE103,VLOOKUP($B103,'sh1'!$N$16:$O$19,2,1)*$AE103,$AS103)","v":146445274.205199},0,"5|0|15|93"]
[94,108,109,null,null,null,null,null,null,null,null,null,null,null,null,null,null,0,{"$f":"SUM($R$11:R104,$P$11:P104,$Q$11:Q104)","v":995816.800000001},0,0,{"$f":"SUM(($B104='sh1'!$R$3:$R$214)*(IF($I$3=\"男\",0,1)='sh1'!$Q$3:$Q$214)*('sh1'!$S$3:$S$214))/1000*AK104","v":0},{"$f":"SUM(($B104='sh1'!$R$3:$R$214)*(IF($I$3=\"男\",0,1)='sh1'!$Q$3:$Q$214)*('sh1'!$S$3:$S$214))/1000*AQ104","v":0},{"$f":"SUM(($B104='sh1'!$R$3:$R$214)*(IF($I$3=\"男\",0,1)='sh1'!$Q$3:$Q$214)*('sh1'!$S$3:$S$214))/1000*AW104","v":0},0,null,{"$f":"-$Z104/VLOOKUP($A104,'sh1'!$N$7:$O$12,2,1)","v":0},{"$f":"SUM($AA$11:AA104)","v":0},995816.800000001,995816.800000001,995816.800000001,12482910.4917635,{"$f":"($AF104-$V104)*(1+3%)-$Z104/VLOOKUP($A104,'sh1'!$N$7:$O$12,2,1)","v":12857397.8065164},12857397.8065164,{"$f":"IF($AG103<VLOOKUP($B104,'sh1'!$N$16:$O$19,2,1)*$AD104,VLOOKUP($B104,'sh1'!$N$16:$O$19,2,1)*$AD104,$AG103)","v":12482910.4917635},{"$f":"IF($AG104<VLOOKUP($B104,'sh1'!$N$16:$O$19,2,1)*$AE104,VLOOKUP($B104,'sh1'!$N$16:$O$19,2,1)*$AE104,$AG104)","v":12857397.8065164},0,43134035.6054687,{"$f":"($AL104-W104)*(1+4.5%)-$Z104/VLOOKUP($A104,'sh1'!$N$7:$O$12,2,1)","v":45075067.2077148},45075067.2077148,{"$f":"IF($AM103<VLOOKUP($B104,'sh1'!$N$16:$O$19,2,1)*$AD104,VLOOKUP($B104,'sh1'!$N$16:$O$19,2,1)*$AD104,$AM103)","v":43134035.6054687},{"$f":"IF($AM104<VLOOKUP($B104,'sh1'!$N$16:$O$19,2,1)*$AE104,VLOOKUP($B104,'sh1'!$N$16:$O$19,2,1)*$AE104,$AM104)","v":45075067.2077148},0,146445274.205199,{"$f":"($AR104-X104)*(1+6%)-$Z104/VLOOKUP($A104,'sh1'!$N$7:$O$12,2,1)","v":155231990.657511},155231990.657511,{"$f":"IF($AS103<VLOOKUP($B104,'sh1'!$N$16:$O$19,2,1)*$AD104,VLOOKUP($B104,'sh1'!$N$16:$O$19,2,1)*$AD104,$AS103)","v":146445274.205199},{"$f":"IF($AS104<VLOOKUP($B104,'sh1'!$N$16:$O$19,2,1)*$AE104,VLOOKUP($B104,'sh1'!$N$16:$O$19,2,1)*$AE104,$AS104)","v":155231990.657511},0,"5|0|15|94"]
[95,109,110,null,null,null,null,null,null,null,null,null,null,null,null,null,null,0,{"$f":"SUM($R$11:R105,$P$11:P105,$Q$11:Q105)","v":995816.800000001},0,0,{"$f":"SUM(($B105='sh1'!$R$3:$R$214)*(IF($I$3=\"男\",0,1)='sh1'!$Q$3:$Q$214)*('sh1'!$S$3:$S$214))/1000*AK105","v":0},{"$f":"SUM(($B105='sh1'!$R$3:$R$214)*(IF($I$3=\"男\",0,1)='sh1'!$Q$3:$Q$214)*('sh1'!$S$3:$S$214))/1000*AQ105","v":0},{"$f":"SUM(($B105='sh1'!$R$3:$R$214)*(IF($I$3=\"男\",0,1)='sh1'!$Q$3:$Q$214)*('sh1'!$S$3:$S$214))/1000*AW105","v":0},0,null,{"$f":"-$Z105/VLOOKUP($A105,'sh1'!$N$7:$O$12,2,1)","v":0},{"$f":"SUM($AA$11:AA105)","v":0},995816.800000001,995816.800000001,995816.800000001,12857397.8065164,{"$f":"($AF105-$V105)*(1+3%)-$Z105/VLOOKUP($A105,'sh1'!$N$7:$O$12,2,1)","v":13243119.7407119},13243119.7407119,{"$f":"IF($AG104<VLOOKUP($B105,'sh1'!$N$16:$O$19,2,1)*$AD105,VLOOKUP($B105,'sh1'!$N$16:$O$19,2,1)*$AD105,$AG104)","v":12857397.8065164},{"$f":"IF($AG105<VLOOKUP($B105,'sh1'!$N$16:$O$19,2,1)*$AE105,VLOOKUP($B105,'sh1'!$N$16:$O$19,2,1)*$AE105,$AG105)","v":13243119.7407119},0,45075067.2077148,{"$f":"($AL105-W105)*(1+4.5%)-$Z105/VLOOKUP($A105,'sh1'!$N$7:$O$12,2,1)","v":47103445.232062},47103445.232062,{"$f":"IF($AM104<VLOOKUP($B105,'sh1'!$N$16:$O$19,2,1)*$AD105,VLOOKUP($B105,'sh1'!$N$16:$O$19,2,1)*$AD105,$AM104)","v":45075067.2077148},{"$f":"IF($AM105<VLOOKUP($B105,'sh1'!$N$16:$O$19,2,1)*$AE105,VLOOKUP($B105,'sh1'!$N$16:$O$19,2,1)*$AE105,$AM105)","v":47103445.232062},0,155231990.657511,{"$f":"($AR105-X105)*(1+6%)-$Z105/VLOOKUP($A105,'sh1'!$N$7:$O$12,2,1)","v":164545910.096962},164545910.096962,{"$f":"IF($AS104<VLOOKUP($B105,'sh1'!$N$16:$O$19,2,1)*$AD105,VLOOKUP($B105,'sh1'!$N$16:$O$19,2,1)*$AD105,$AS104)","v":155231990.657511},{"$f":"IF($AS105<VLOOKUP($B105,'sh1'!$N$16:$O$19,2,1)*$AE105,VLOOKUP($B105,'sh1'!$N$16:$O$19,2,1)*$AE105,$AS105)","v":164545910.096962},0,"5|0|15|95"]
[96,110,111,null,null,null,null,null,null,null,null,null,null,null,null,null,null,0,{"$f":"SUM($R$11:R106,$P$11:P106,$Q$11:Q106)","v":995816.800000001},0,0,{"$f":"SUM(($B106='sh1'!$R$3:$R$214)*(IF($I$3=\"男\",0,1)='sh1'!$Q$3:$Q$214)*('sh1'!$S$3:$S$214))/1000*AK106","v":0},{"$f":"SUM(($B106='sh1'!$R$3:$R$214)*(IF($I$3=\"男\",0,1)='sh1'!$Q$3:$Q$214)*('sh1'!$S$3:$S$214))/1000*AQ106","v":0},{"$f":"SUM(($B106='sh1'!$R$3:$R$214)*(IF($I$3=\"男\",0,1)='sh1'!$Q$3:$Q$214)*('sh1'!$S$3:$S$214))/1000*AW106","v":0},0,null,{"$f":"-$Z106/VLOOKUP($A106,'sh1'!$N$7:$O$12,2,1)","v":0},{"$f":"SUM($AA$11:AA106)","v":0},995816.800000001,995816.800000001,995816.800000001,13243119.7407119,{"$f":"($AF106-$V106)*(1+3%)-$Z106/VLOOKUP($A106,'sh1'!$N$7:$O$12,2,1)","v":13640413.3329333},13640413.3329333,{"$f":"IF($AG105<VLOOKUP($B106,'sh1'!$N$16:$O$19,2,1)*$AD106,VLOOKUP($B106,'sh1'!$N$16:$O$19,2,1)*$AD106,$AG105)","v":13243119.7407119},{"$f":"IF($AG106<VLOOKUP($B106,'sh1'!$N$16:$O$19,2,1)*$AE106,VLOOKUP($B106,'sh1'!$N$16:$O$19,2,1)*$AE106,$AG106)","v":13640413.3329333},0,47103445.232062,{"$f":"($AL106-W106)*(1+4.5%)-$Z106/VLOOKUP($A106,'sh1'!$N$7:$O$12,2,1)","v":49223100.2675048},49223100.2675048,{"$f":"IF($AM105<VLOOKUP($B106,'sh1'!$N$16:$O$19,2,1)*$AD106,VLOOKUP($B106,'sh1'!$N$16:$O$19,2,1)*$AD106,$AM105)","v":47103445.232062},{"$f":"IF($AM106<VLOOKUP($B106,'sh1'!$N$16:$O$19,2,1)*$AE106,VLOOKUP($B106,'sh1'!$N$16:$O$19,2,1)*$AE106,$AM106)","v":49223100.2675048},0,164545910.096962,{"$f":"($AR106-X106)*(1+6%)-$Z106/VLOOKUP($A106,'sh1'!$N$7:$O$12,2,1)","v":174418664.70278},174418664.70278,{"$f":"IF($AS105<VLOOKUP($B106,'sh1'!$N$16:$O$19,2,1)*$AD106,VLOOKUP($B106,'sh1'!$N$16:$O$19,2,1)*$AD106,$AS105)","v":164545910.096962},{"$f":"IF($AS106<VLOOKUP($B106,'sh1'!$N$16:$O$19,2,1)*$AE106,VLOOKUP($B106,'sh1'!$N$16:$O$19,2,1)*$AE106,$AS106)","v":174418664.70278},0,"5|0|15|96"]
[97,111,112,null,null,null,null,null,null,null,null,null,null,null,null,null,null,0,{"$f":"SUM($R$11:R107,$P$11:P107,$Q$11:Q107)","v":995816.800000001},0,0,{"$f":"SUM(($B107='sh1'!$R$3:$R$214)*(IF($I$3=\"男\",0,1)='sh1'!$Q$3:$Q$214)*('sh1'!$S$3:$S$214))/1000*AK107","v":0},{"$f":"SUM(($B107='sh1'!$R$3:$R$214)*(IF($I$3=\"男\",0,1)='sh1'!$Q$3:$Q$214)*('sh1'!$S$3:$S$214))/1000*AQ107","v":0},{"$f":"SUM(($B107='sh1'!$R$3:$R$214)*(IF($I$3=\"男\",0,1)='sh1'!$Q$3:$Q$214)*('sh1'!$S$3:$S$214))/1000*AW107","v":0},0,null,{"$f":"-$Z107/VLOOKUP($A107,'sh1'!$N$7:$O$12,2,1)","v":0},{"$f":"SUM($AA$11:AA107)","v":0},995816.800000001,{"$f":"$S107+$AB106","v":995816.800000001},{"$f":"$S107+$AB107","v":995816.800000001},13640413.3329333,{"$f":"($AF107-$V107)*(1+3%)-$Z107/VLOOKUP($A107,'sh1'!$N$7:$O$12,2,1)","v":14049625.7329213},{"$f":"IF($A107=1,95%*$AG107,IF($A107=2,97%*$AG107,IF($A107=3,98%*$AG107,IF(OR($A107=4,$A107=5),$AG107*99%,$AG107))))","v":14049625.7329213},{"$f":"IF($AG106<VLOOKUP($B107,'sh1'!$N$16:$O$19,2,1)*$AD107,VLOOKUP($B107,'sh1'!$N$16:$O$19,2,1)*$AD107,$AG106)","v":13640413.3329333},{"$f":"IF($AG107<VLOOKUP($B107,'sh1'!$N$16:$O$19,2,1)*$AE107,VLOOKUP($B107,'sh1'!$N$16:$O$19,2,1)*$AE107,$AG107)","v":14049625.7329213},0,49223100.2675048,{"$f":"($AL107-W107)*(1+4.5%)-$Z107/VLOOKUP($A107,'sh1'!$N$7:$O$12,2,1)","v":51438139.7795425},{"$f":"IF($A107=1,95%*$AM107,IF($A107=2,97%*$AM107,IF($A107=3,98%*$AM107,IF(OR($A107=4,$A107=5),$AM107*99%,$AM107))))","v":51438139.7795425},{"$f":"IF($AM106<VLOOKUP($B107,'sh1'!$N$16:$O$19,2,1)*$AD107,VLOOKUP($B107,'sh1'!$N$16:$O$19,2,1)*$AD107,$AM106)","v":49223100.2675048},{"$f":"IF($AM107<VLOOKUP($B107,'sh1'!$N$16:$O$19,2,1)*$AE107,VLOOKUP($B107,'sh1'!$N$16:$O$19,2,1)*$AE107,$AM107)","v":51438139.7795425},0,174418664.70278,{"$f":"($AR107-X107)*(1+6%)-$Z107/VLOOKUP($A107,'sh1'!$N$7:$O$12,2,1)","v":184883784.584946},{"$f":"IF($A107=1,95%*$AS107,IF($A107=2,97%*$AS107,IF($A107=3,98%*$AS107,IF(OR($A107=4,$A107=5),$AS107*99%,$AS107))))","v":184883784.584946},{"$f":"IF($AS106<VLOOKUP($B107,'sh1'!$N$16:$O$19,2,1)*$AD107,VLOOKUP($B107,'sh1'!$N$16:$O$19,2,1)*$AD107,$AS106)","v":174418664.70278},{"$f":"IF($AS107<VLOOKUP($B107,'sh1'!$N$16:$O$19,2,1)*$AE107,VLOOKUP($B107,'sh1'!$N$16:$O$19,2,1)*$AE107,$AS107)","v":184883784.584946},0,{"$f":"$G$4&\"|\"&(IF($I$3=\"男\",0,1))&\"|\"&$G$3&\"|\"&A107","v":"5|0|15|97"}]
[98,{"$f":"$G$3+A108-1","v":112},113,null,null,null,null,null,null,null,null,null,null,null,null,null,null,0,{"$f":"SUM($R$11:R108,$P$11:P108,$Q$11:Q108)","v":995816.800000001},0,0,{"$f":"SUM(($B108='sh1'!$R$3:$R$214)*(IF($I$3=\"男\",0,1)='sh1'!$Q$3:$Q$214)*('sh1'!$S$3:$S$214))/1000*AK108","v":0},{"$f":"SUM(($B108='sh1'!$R$3:$R$214)*(IF($I$3=\"男\",0,1)='sh1'!$Q$3:$Q$214)*('sh1'!$S$3:$S$214))/1000*AQ108","v":0},{"$f":"SUM(($B108='sh1'!$R$3:$R$214)*(IF($I$3=\"男\",0,1)='sh1'!$Q$3:$Q$214)*('sh1'!$S$3:$S$214))/1000*AW108","v":0},0,null,{"$f":"-$Z108/VLOOKUP($A108,'sh1'!$N$7:$O$12,2,1)","v":0},{"$f":"SUM($AA$11:AA108)","v":0},995816.800000001,{"$f":"$S108+$AB107","v":995816.800000001},{"$f":"$S108+$AB108","v":995816.800000001},{"$f":"$AG107+$U108+$Y108","v":14049625.7329213},{"$f":"($AF108-$V108)*(1+3%)-$Z108/VLOOKUP($A108,'sh1'!$N$7:$O$12,2,1)","v":14471114.5049089},{"$f":"IF($A108=1,95%*$AG108,IF($A108=2,97%*$AG108,IF($A108=3,98%*$AG108,IF(OR($A108=4,$A108=5),$AG108*99%,$AG108))))","v":14471114.5049089},{"$f":"IF($AG107<VLOOKUP($B108,'sh1'!$N$16:$O$19,2,1)*$AD108,VLOOKUP($B108,'sh1'!$N$16:$O$19,2,1)*$AD108,$AG107)","v":14049625.7329213},{"$f":"IF($AG108<VLOOKUP($B108,'sh1'!$N$16:$O$19,2,1)*$AE108,VLOOKUP($B108,'sh1'!$N$16:$O$19,2,1)*$AE108,$AG108)","v":14471114.5049089},0,{"$f":"$AM107+$U108+$Y108","v":51438139.7795425},{"$f":"($AL108-W108)*(1+4.5%)-$Z108/VLOOKUP($A108,'sh1'!$N$7:$O$12,2,1)","v":53752856.0696219},{"$f":"IF($A108=1,95%*$AM108,IF($A108=2,97%*$AM108,IF($A108=3,98%*$AM108,IF(OR($A108=4,$A108=5),$AM108*99%,$AM108))))","v":53752856.0696219},{"$f":"IF($AM107<VLOOKUP($B108,'sh1'!$N$16:$O$19,2,1)*$AD108,VLOOKUP($B108,'sh1'!$N$16:$O$19,2,1)*$AD108,$AM107)","v":51438139.7795425},{"$f":"IF($AM108<VLOOKUP($B108,'sh1'!$N$16:$O$19,2,1)*$AE108,VLOOKUP($B108,'sh1'!$N$16:$O$19,2,1)*$AE108,$AM108)","v":53752856.0696219},0,{"$f":"$AS107+$U108+$Y108","v":184883784.584946},{"$f":"($AR108-X108)*(1+6%)-$Z108/VLOOKUP($A108,'sh1'!$N$7:$O$12,2,1)","v":195976811.660043},{"$f":"IF($A108=1,95%*$AS108,IF($A108=2,97%*$AS108,IF($A108=3,98%*$AS108,IF(OR($A108=4,$A108=5),$AS108*99%,$AS108))))","v":195976811.660043},{"$f":"IF($AS107<VLOOKUP($B108,'sh1'!$N$16:$O$19,2,1)*$AD108,VLOOKUP($B108,'sh1'!$N$16:$O$19,2,1)*$AD108,$AS107)","v":184883784.584946},{"$f":"IF($AS108<VLOOKUP($B108,'sh1'!$N$16:$O$19,2,1)*$AE108,VLOOKUP($B108,'sh1'!$N$16:$O$19,2,1)*$AE108,$AS108)","v":195976811.660043},0,{"$f":"$G$4&\"|\"&(IF($I$3=\"男\",0,1))&\"|\"&$G$3&\"|\"&A108","v":"5|0|15|98"}]
[99,{"$f":"$G$3+A109-1","v":113},114,null,null,null,null,null,null,null,null,null,null,null,null,null,null,0,{"$f":"SUM($R$11:R109,$P$11:P109,$Q$11:Q109)","v":995816.800000001},0,0,{"$f":"SUM(($B109='sh1'!$R$3:$R$214)*(IF($I$3=\"男\",0,1)='sh1'!$Q$3:$Q$214)*('sh1'!$S$3:$S$214))/1000*AK109","v":0},{"$f":"SUM(($B109='sh1'!$R$3:$R$214)*(IF($I$3=\"男\",0,1)='sh1'!$Q$3:$Q$214)*('sh1'!$S$3:$S$214))/1000*AQ109","v":0},{"$f":"SUM(($B109='sh1'!$R$3:$R$214)*(IF($I$3=\"男\",0,1)='sh1'!$Q$3:$Q$214)*('sh1'!$S$3:$S$214))/1000*AW109","v":0},0,null,{"$f":"-$Z109/VLOOKUP($A109,'sh1'!$N$7:$O$12,2,1)","v":0},{"$f":"SUM($AA$11:AA109)","v":0},995816.800000001,{"$f":"$S109+$AB108","v":995816.800000001},{"$f":"$S109+$AB109","v":995816.800000001},{"$f":"$AG108+$U109+$Y109","v":14471114.5049089},{"$f":"($AF109-$V109)*(1+3%)-$Z109/VLOOKUP($A109,'sh1'!$N$7:$O$12,2,1)","v":14905247.9400562},{"$f":"IF($A109=1,95%*$AG109,IF($A109=2,97%*$AG109,IF($A109=3,98%*$AG109,IF(OR($A109=4,$A109=5),$AG109*99%,$AG109))))","v":14905247.9400562},{"$f":"IF($AG108<VLOOKUP($B109,'sh1'!$N$16:$O$19,2,1)*$AD109,VLOOKUP($B109,'sh1'!$N$16:$O$19,2,1)*$AD109,$AG108)","v":14471114.5049089},{"$f":"IF($AG109<VLOOKUP($B109,'sh1'!$N$16:$O$19,2,1)*$AE109,VLOOKUP($B109,'sh1'!$N$16:$O$19,2,1)*$AE109,$AG109)","v":14905247.9400562},0,{"$f":"$AM108+$U109+$Y109","v":53752856.0696219},{"$f":"($AL109-W109)*(1+4.5%)-$Z109/VLOOKUP($A109,'sh1'!$N$7:$O$12,2,1)","v":56171734.5927549},{"$f":"IF($A109=1,95%*$AM109,IF($A109=2,97%*$AM109,IF($A109=3,98%*$AM109,IF(OR($A109=4,$A109=5),$AM109*99%,$AM109))))","v":56171734.5927549},{"$f":"IF($AM108<VLOOKUP($B109,'sh1'!$N$16:$O$19,2,1)*$AD109,VLOOKUP($B109,'sh1'!$N$16:$O$19,2,1)*$AD109,$AM108)","v":53752856.0696219},{"$f":"IF($AM109<VLOOKUP($B109,'sh1'!$N$16:$O$19,2,1)*$AE109,VLOOKUP($B109,'sh1'!$N$16:$O$19,2,1)*$AE109,$AM109)","v":56171734.5927549},0,{"$f":"$AS108+$U109+$Y109","v":195976811.660043},{"$f":"($AR109-X109)*(1+6%)-$Z109/VLOOKUP($A109,'sh1'!$N$7:$O$12,2,1)","v":207735420.359646},{"$f":"IF($A109=1,95%*$AS109,IF($A109=2,97%*$AS109,IF($A109=3,98%*$AS109,IF(OR($A109=4,$A109=5),$AS109*99%,$AS109))))","v":207735420.359646},{"$f":"IF($AS108<VLOOKUP($B109,'sh1'!$N$16:$O$19,2,1)*$AD109,VLOOKUP($B109,'sh1'!$N$16:$O$19,2,1)*$AD109,$AS108)","v":195976811.660043},{"$f":"IF($AS109<VLOOKUP($B109,'sh1'!$N$16:$O$19,2,1)*$AE109,VLOOKUP($B109,'sh1'!$N$16:$O$19,2,1)*$AE109,$AS109)","v":207735420.359646},0,{"$f":"$G$4&\"|\"&(IF($I$3=\"男\",0,1))&\"|\"&$G$3&\"|\"&A109","v":"5|0|15|99"}]
[100,{"$f":"$G$3+A110-1","v":114},115,null,null,null,null,null,null,null,null,null,null,null,null,null,null,0,{"$f":"SUM($R$11:R110,$P$11:P110,$Q$11:Q110)","v":995816.800000001},0,0,{"$f":"SUM(($B110='sh1'!$R$3:$R$214)*(IF($I$3=\"男\",0,1)='sh1'!$Q$3:$Q$214)*('sh1'!$S$3:$S$214))/1000*AK110","v":0},{"$f":"SUM(($B110='sh1'!$R$3:$R$214)*(IF($I$3=\"男\",0,1)='sh1'!$Q$3:$Q$214)*('sh1'!$S$3:$S$214))/1000*AQ110","v":0},{"$f":"SUM(($B110='sh1'!$R$3:$R$214)*(IF($I$3=\"男\",0,1)='sh1'!$Q$3:$Q$214)*('sh1'!$S$3:$S$214))/1000*AW110","v":0},0,null,{"$f":"-$Z110/VLOOKUP($A110,'sh1'!$N$7:$O$12,2,1)","v":0},{"$f":"SUM($AA$11:AA110)","v":0},995816.800000001,995816.800000001,995816.800000001,{"$f":"$AG109+$U110+$Y110","v":14905247.9400562},{"$f":"($AF110-$V110)*(1+3%)-$Z110/VLOOKUP($A110,'sh1'!$N$7:$O$12,2,1)","v":15352405.3782578},15352405.3782578,{"$f":"IF($AG109<VLOOKUP($B110,'sh1'!$N$16:$O$19,2,1)*$AD110,VLOOKUP($B110,'sh1'!$N$16:$O$19,2,1)*$AD110,$AG109)","v":14905247.9400562},{"$f":"IF($AG110<VLOOKUP($B110,'sh1'!$N$16:$O$19,2,1)*$AE110,VLOOKUP($B110,'sh1'!$N$16:$O$19,2,1)*$AE110,$AG110)","v":15352405.3782578},0,{"$f":"$AM109+$U110+$Y110","v":56171734.5927549},{"$f":"($AL110-W110)*(1+4.5%)-$Z110/VLOOKUP($A110,'sh1'!$N$7:$O$12,2,1)","v":58699462.6494289},58699462.6494289,{"$f":"IF($AM109<VLOOKUP($B110,'sh1'!$N$16:$O$19,2,1)*$AD110,VLOOKUP($B110,'sh1'!$N$16:$O$19,2,1)*$AD110,$AM109)","v":56171734.5927549},{"$f":"IF($AM110<VLOOKUP($B110,'sh1'!$N$16:$O$19,2,1)*$AE110,VLOOKUP($B110,'sh1'!$N$16:$O$19,2,1)*$AE110,$AM110)","v":58699462.6494289},0,{"$f":"$AS109+$U110+$Y110","v":207735420.359646},{"$f":"($AR110-X110)*(1+6%)-$Z110/VLOOKUP($A110,'sh1'!$N$7:$O$12,2,1)","v":220199545.581224},220199545.581224,{"$f":"IF($AS109<VLOOKUP($B110,'sh1'!$N$16:$O$19,2,1)*$AD110,VLOOKUP($B110,'sh1'!$N$16:$O$19,2,1)*$AD110,$AS109)","v":207735420.359646},{"$f":"IF($AS110<VLOOKUP($B110,'sh1'!$N$16:$O$19,2,1)*$AE110,VLOOKUP($B110,'sh1'!$N$16:$O$19,2,1)*$AE110,$AS110)","v":220199545.581224},0,"5|0|15|100"]
[101,115,116,null,null,null,null,null,null,null,null,null,null,null,null,null,null,0,{"$f":"SUM($R$11:R111,$P$11:P111,$Q$11:Q111)","v":995816.800000001},0,0,{"$f":"SUM(($B111='sh1'!$R$3:$R$214)*(IF($I$3=\"男\",0,1)='sh1'!$Q$3:$Q$214)*('sh1'!$S$3:$S$214))/1000*AK111","v":0},{"$f":"SUM(($B111='sh1'!$R$3:$R$214)*(IF($I$3=\"男\",0,1)='sh1'!$Q$3:$Q$214)*('sh1'!$S$3:$S$214))/1000*AQ111","v":0},{"$f":"SUM(($B111='sh1'!$R$3:$R$214)*(IF($I$3=\"男\",0,1)='sh1'!$Q$3:$Q$214)*('sh1'!$S$3:$S$214))/1000*AW111","v":0},0,null,{"$f":"-$Z111/VLOOKUP($A111,'sh1'!$N$7:$O$12,2,1)","v":0},{"$f":"SUM($AA$11:AA111)","v":0},995816.800000001,995816.800000001,995816.800000001,15352405.3782578,{"$f":"($AF111-$V111)*(1+3%)-$Z111/VLOOKUP($A111,'sh1'!$N$7:$O$12,2,1)","v":15812977.5396056},15812977.5396056,{"$f":"IF($AG110<VLOOKUP($B111,'sh1'!$N$16:$O$19,2,1)*$AD111,VLOOKUP($B111,'sh1'!$N$16:$O$19,2,1)*$AD111,$AG110)","v":15352405.3782578},{"$f":"IF($AG111<VLOOKUP($B111,'sh1'!$N$16:$O$19,2,1)*$AE111,VLOOKUP($B111,'sh1'!$N$16:$O$19,2,1)*$AE111,$AG111)","v":15812977.5396056},0,58699462.6494289,{"$f":"($AL111-W111)*(1+4.5%)-$Z111/VLOOKUP($A111,'sh1'!$N$7:$O$12,2,1)","v":61340938.4686531},61340938.4686531,{"$f":"IF($AM110<VLOOKUP($B111,'sh1'!$N$16:$O$19,2,1)*$AD111,VLOOKUP($B111,'sh1'!$N$16:$O$19,2,1)*$AD111,$AM110)","v":58699462.6494289},{"$f":"IF($AM111<VLOOKUP($B111,'sh1'!$N$16:$O$19,2,1)*$AE111,VLOOKUP($B111,'sh1'!$N$16:$O$19,2,1)*$AE111,$AM111)","v":61340938.4686531},0,220199545.581224,{"$f":"($AR111-X111)*(1+6%)-$Z111/VLOOKUP($A111,'sh1'!$N$7:$O$12,2,1)","v":233411518.316098},233411518.316098,{"$f":"IF($AS110<VLOOKUP($B111,'sh1'!$N$16:$O$19,2,1)*$AD111,VLOOKUP($B111,'sh1'!$N$16:$O$19,2,1)*$AD111,$AS110)","v":220199545.581224},{"$f":"IF($AS111<VLOOKUP($B111,'sh1'!$N$16:$O$19,2,1)*$AE111,VLOOKUP($B111,'sh1'!$N$16:$O$19,2,1)*$AE111,$AS111)","v":233411518.316098},0,"5|0|15|101"]
[102,116,117,null,null,null,null,null,null,null,null,null,null,null,null,null,null,0,{"$f":"SUM($R$11:R112,$P$11:P112,$Q$11:Q112)","v":995816.800000001},0,0,{"$f":"SUM(($B112='sh1'!$R$3:$R$214)*(IF($I$3=\"男\",0,1)='sh1'!$Q$3:$Q$214)*('sh1'!$S$3:$S$214))/1000*AK112","v":0},{"$f":"SUM(($B112='sh1'!$R$3:$R$214)*(IF($I$3=\"男\",0,1)='sh1'!$Q$3:$Q$214)*('sh1'!$S$3:$S$214))/1000*AQ112","v":0},{"$f":"SUM(($B112='sh1'!$R$3:$R$214)*(IF($I$3=\"男\",0,1)='sh1'!$Q$3:$Q$214)*('sh1'!$S$3:$S$214))/1000*AW112","v":0},0,null,{"$f":"-$Z112/VLOOKUP($A112,'sh1'!$N$7:$O$12,2,1)","v":0},{"$f":"SUM($AA$11:AA112)","v":0},995816.800000001,995816.800000001,995816.800000001,15812977.5396056,{"$f":"($AF112-$V112)*(1+3%)-$Z112/VLOOKUP($A112,'sh1'!$N$7:$O$12,2,1)","v":16287366.8657938},16287366.8657938,{"$f":"IF($AG111<VLOOKUP($B112,'sh1'!$N$16:$O$19,2,1)*$AD112,VLOOKUP($B112,'sh1'!$N$16:$O$19,2,1)*$AD112,$AG111)","v":15812977.5396056},{"$f":"IF($AG112<VLOOKUP($B112,'sh1'!$N$16:$O$19,2,1)*$AE112,VLOOKUP($B112,'sh1'!$N$16:$O$19,2,1)*$AE112,$AG112)","v":16287366.8657938},0,61340938.4686531,{"$f":"($AL112-W112)*(1+4.5%)-$Z112/VLOOKUP($A112,'sh1'!$N$7:$O$12,2,1)","v":64101280.6997425},64101280.6997425,{"$f":"IF($AM111<VLOOKUP($B112,'sh1'!$N$16:$O$19,2,1)*$AD112,VLOOKUP($B112,'sh1'!$N$16:$O$19,2,1)*$AD112,$AM111)","v":61340938.4686531},{"$f":"IF($AM112<VLOOKUP($B112,'sh1'!$N$16:$O$19,2,1)*$AE112,VLOOKUP($B112,'sh1'!$N$16:$O$19,2,1)*$AE112,$AM112)","v":64101280.6997425},0,233411518.316098,{"$f":"($AR112-X112)*(1+6%)-$Z112/VLOOKUP($A112,'sh1'!$N$7:$O$12,2,1)","v":247416209.415064},247416209.415064,{"$f":"IF($AS111<VLOOKUP($B112,'sh1'!$N$16:$O$19,2,1)*$AD112,VLOOKUP($B112,'sh1'!$N$16:$O$19,2,1)*$AD112,$AS111)","v":233411518.316098},{"$f":"IF($AS112<VLOOKUP($B112,'sh1'!$N$16:$O$19,2,1)*$AE112,VLOOKUP($B112,'sh1'!$N$16:$O$19,2,1)*$AE112,$AS112)","v":247416209.415064},0,"5|0|15|102"]
[103,117,118,null,null,null,null,null,null,null,null,null,null,null,null,null,null,0,{"$f":"SUM($R$11:R113,$P$11:P113,$Q$11:Q113)","v":995816.800000001},0,0,{"$f":"SUM(($B113='sh1'!$R$3:$R$214)*(IF($I$3=\"男\",0,1)='sh1'!$Q$3:$Q$214)*('sh1'!$S$3:$S$214))/1000*AK113","v":0},{"$f":"SUM(($B113='sh1'!$R$3:$R$214)*(IF($I$3=\"男\",0,1)='sh1'!$Q$3:$Q$214)*('sh1'!$S$3:$S$214))/1000*AQ113","v":0},{"$f":"SUM(($B113='sh1'!$R$3:$R$214)*(IF($I$3=\"男\",0,1)='sh1'!$Q$3:$Q$214)*('sh1'!$S$3:$S$214))/1000*AW113","v":0},0,null,{"$f":"-$Z113/VLOOKUP($A113,'sh1'!$N$7:$O$12,2,1)","v":0},{"$f":"SUM($AA$11:AA113)","v":0},995816.800000001,995816.800000001,995816.800000001,16287366.8657938,{"$f":"($AF113-$V113)*(1+3%)-$Z113/VLOOKUP($A113,'sh1'!$N$7:$O$12,2,1)","v":16775987.8717676},16775987.8717676,{"$f":"IF($AG112<VLOOKUP($B113,'sh1'!$N$16:$O$19,2,1)*$AD113,VLOOKUP($B113,'sh1'!$N$16:$O$19,2,1)*$AD113,$AG112)","v":16287366.8657938},{"$f":"IF($AG113<VLOOKUP($B113,'sh1'!$N$16:$O$19,2,1)*$AE113,VLOOKUP($B113,'sh1'!$N$16:$O$19,2,1)*$AE113,$AG113)","v":16775987.8717676},0,64101280.6997425,{"$f":"($AL113-W113)*(1+4.5%)-$Z113/VLOOKUP($A113,'sh1'!$N$7:$O$12,2,1)","v":66985838.3312309},66985838.3312309,{"$f":"IF($AM112<VLOOKUP($B113,'sh1'!$N$16:$O$19,2,1)*$AD113,VLOOKUP($B113,'sh1'!$N$16:$O$19,2,1)*$AD113,$AM112)","v":64101280.6997425},{"$f":"IF($AM113<VLOOKUP($B113,'sh1'!$N$16:$O$19,2,1)*$AE113,VLOOKUP($B113,'sh1'!$N$16:$O$19,2,1)*$AE113,$AM113)","v":66985838.3312309},0,247416209.415064,{"$f":"($AR113-X113)*(1+6%)-$Z113/VLOOKUP($A113,'sh1'!$N$7:$O$12,2,1)","v":262261181.979968},262261181.979968,{"$f":"IF($AS112<VLOOKUP($B113,'sh1'!$N$16:$O$19,2,1)*$AD113,VLOOKUP($B113,'sh1'!$N$16:$O$19,2,1)*$AD113,$AS112)","v":247416209.415064},{"$f":"IF($AS113<VLOOKUP($B113,'sh1'!$N$16:$O$19,2,1)*$AE113,VLOOKUP($B113,'sh1'!$N$16:$O$19,2,1)*$AE113,$AS113)","v":262261181.979968},0,"5|0|15|103"]
[104,118,119,null,null,null,null,null,null,null,null,null,null,null,null,null,null,0,{"$f":"SUM($R$11:R114,$P$11:P114,$Q$11:Q114)","v":995816.800000001},0,{"$f":"$R114+$P114+$Q114+$T114","v":0},{"$f":"SUM(($B114='sh1'!$R$3:$R$214)*(IF($I$3=\"男\",0,1)='sh1'!$Q$3:$Q$214)*('sh1'!$S$3:$S$214))/1000*AK114","v":0},{"$f":"SUM(($B114='sh1'!$R$3:$R$214)*(IF($I$3=\"男\",0,1)='sh1'!$Q$3:$Q$214)*('sh1'!$S$3:$S$214))/1000*AQ114","v":0},{"$f":"SUM(($B114='sh1'!$R$3:$R$214)*(IF($I$3=\"男\",0,1)='sh1'!$Q$3:$Q$214)*('sh1'!$S$3:$S$214))/1000*AW114","v":0},{"$f":"IF($A114=7,(SUM($I103:$I112)+SUM($J103:$J112))*1%,IF($A114>=8,($I112+$J112)*1%,0))","v":0},null,{"$f":"-$Z114/VLOOKUP($A114,'sh1'!$N$7:$O$12,2,1)","v":0},{"$f":"SUM($AA$11:AA114)","v":0},995816.800000001,995816.800000001,995816.800000001,16775987.8717676,{"$f":"($AF114-$V114)*(1+3%)-$Z114/VLOOKUP($A114,'sh1'!$N$7:$O$12,2,1)","v":17279267.5079206},17279267.5079206,{"$f":"IF($AG113<VLOOKUP($B114,'sh1'!$N$16:$O$19,2,1)*$AD114,VLOOKUP($B114,'sh1'!$N$16:$O$19,2,1)*$AD114,$AG113)","v":16775987.8717676},{"$f":"IF($AG114<VLOOKUP($B114,'sh1'!$N$16:$O$19,2,1)*$AE114,VLOOKUP($B114,'sh1'!$N$16:$O$19,2,1)*$AE114,$AG114)","v":17279267.5079206},0,66985838.3312309,{"$f":"($AL114-W114)*(1+4.5%)-$Z114/VLOOKUP($A114,'sh1'!$N$7:$O$12,2,1)","v":70000201.0561363},70000201.0561363,{"$f":"IF($AM113<VLOOKUP($B114,'sh1'!$N$16:$O$19,2,1)*$AD114,VLOOKUP($B114,'sh1'!$N$16:$O$19,2,1)*$AD114,$AM113)","v":66985838.3312309},{"$f":"IF($AM114<VLOOKUP($B114,'sh1'!$N$16:$O$19,2,1)*$AE114,VLOOKUP($B114,'sh1'!$N$16:$O$19,2,1)*$AE114,$AM114)","v":70000201.0561363},0,262261181.979968,{"$f":"($AR114-X114)*(1+6%)-$Z114/VLOOKUP($A114,'sh1'!$N$7:$O$12,2,1)","v":277996852.898766},277996852.898766,{"$f":"IF($AS113<VLOOKUP($B114,'sh1'!$N$16:$O$19,2,1)*$AD114,VLOOKUP($B114,'sh1'!$N$16:$O$19,2,1)*$AD114,$AS113)","v":262261181.979968},{"$f":"IF($AS114<VLOOKUP($B114,'sh1'!$N$16:$O$19,2,1)*$AE114,VLOOKUP($B114,'sh1'!$N$16:$O$19,2,1)*$AE114,$AS114)","v":277996852.898766},0,"5|0|15|104"]
[105,119,120,null,null,null,null,null,null,null,null,null,null,null,null,null,null,0,{"$f":"SUM($R$11:R115,$P$11:P115,$Q$11:Q115)","v":995816.800000001},0,0,{"$f":"SUM(($B115='sh1'!$R$3:$R$214)*(IF($I$3=\"男\",0,1)='sh1'!$Q$3:$Q$214)*('sh1'!$S$3:$S$214))/1000*AK115","v":0},{"$f":"SUM(($B115='sh1'!$R$3:$R$214)*(IF($I$3=\"男\",0,1)='sh1'!$Q$3:$Q$214)*('sh1'!$S$3:$S$214))/1000*AQ115","v":0},{"$f":"SUM(($B115='sh1'!$R$3:$R$214)*(IF($I$3=\"男\",0,1)='sh1'!$Q$3:$Q$214)*('sh1'!$S$3:$S$214))/1000*AW115","v":0},{"$f":"IF($A115=7,(SUM($I104:$I113)+SUM($J104:$J113))*1%,IF($A115>=8,($I113+$J113)*1%,0))","v":0},null,{"$f":"-$Z115/VLOOKUP($A115,'sh1'!$N$7:$O$12,2,1)","v":0},{"$f":"SUM($AA$11:AA115)","v":0},995816.800000001,995816.800000001,995816.800000001,17279267.5079206,{"$f":"($AF115-$V115)*(1+3%)-$Z115/VLOOKUP($A115,'sh1'!$N$7:$O$12,2,1)","v":17797645.5331582},17797645.5331582,{"$f":"IF($AG114<VLOOKUP($B115,'sh1'!$N$16:$O$19,2,1)*$AD115,VLOOKUP($B115,'sh1'!$N$16:$O$19,2,1)*$AD115,$AG114)","v":17279267.5079206},{"$f":"IF($AG115<VLOOKUP($B115,'sh1'!$N$16:$O$19,2,1)*$AE115,VLOOKUP($B115,'sh1'!$N$16:$O$19,2,1)*$AE115,$AG115)","v":17797645.5331582},0,70000201.0561363,{"$f":"($AL115-W115)*(1+4.5%)-$Z115/VLOOKUP($A115,'sh1'!$N$7:$O$12,2,1)","v":73150210.1036625},73150210.1036625,{"$f":"IF($AM114<VLOOKUP($B115,'sh1'!$N$16:$O$19,2,1)*$AD115,VLOOKUP($B115,'sh1'!$N$16:$O$19,2,1)*$AD115,$AM114)","v":70000201.0561363},{"$f":"IF($AM115<VLOOKUP($B115,'sh1'!$N$16:$O$19,2,1)*$AE115,VLOOKUP($B115,'sh1'!$N$16:$O$19,2,1)*$AE115,$AM115)","v":73150210.1036625},0,277996852.898766,{"$f":"($AR115-X115)*(1+6%)-$Z115/VLOOKUP($A115,'sh1'!$N$7:$O$12,2,1)","v":294676664.072692},294676664.072692,{"$f":"IF($AS114<VLOOKUP($B115,'sh1'!$N$16:$O$19,2,1)*$AD115,VLOOKUP($B115,'sh1'!$N$16:$O$19,2,1)*$AD115,$AS114)","v":277996852.898766},{"$f":"IF($AS115<VLOOKUP($B115,'sh1'!$N$16:$O$19,2,1)*$AE115,VLOOKUP($B115,'sh1'!$N$16:$O$19,2,1)*$AE115,$AS115)","v":294676664.072692},0,"5|0|15|105"]
[106,120,121,null,null,null,null,null,null,null,null,null,null,null,null,null,null,0,{"$f":"SUM($R$11:R116,$P$11:P116,$Q$11:Q116)","v":995816.800000001},0,0,{"$f":"SUM(($B116='sh1'!$R$3:$R$214)*(IF($I$3=\"男\",0,1)='sh1'!$Q$3:$Q$214)*('sh1'!$S$3:$S$214))/1000*AK116","v":0},{"$f":"SUM(($B116='sh1'!$R$3:$R$214)*(IF($I$3=\"男\",0,1)='sh1'!$Q$3:$Q$214)*('sh1'!$S$3:$S$214))/1000*AQ116","v":0},{"$f":"SUM(($B116='sh1'!$R$3:$R$214)*(IF($I$3=\"男\",0,1)='sh1'!$Q$3:$Q$214)*('sh1'!$S$3:$S$214))/1000*AW116","v":0},0,null,{"$f":"-$Z116/VLOOKUP($A116,'sh1'!$N$7:$O$12,2,1)","v":0},{"$f":"SUM($AA$11:AA116)","v":0},995816.800000001,995816.800000001,995816.800000001,17797645.5331582,{"$f":"($AF116-$V116)*(1+3%)-$Z116/VLOOKUP($A116,'sh1'!$N$7:$O$12,2,1)","v":18331574.899153},18331574.899153,{"$f":"IF($AG115<VLOOKUP($B116,'sh1'!$N$16:$O$19,2,1)*$AD116,VLOOKUP($B116,'sh1'!$N$16:$O$19,2,1)*$AD116,$AG115)","v":17797645.5331582},{"$f":"IF($AG116<VLOOKUP($B116,'sh1'!$N$16:$O$19,2,1)*$AE116,VLOOKUP($B116,'sh1'!$N$16:$O$19,2,1)*$AE116,$AG116)","v":18331574.899153},0,73150210.1036625,{"$f":"($AL116-W116)*(1+4.5%)-$Z116/VLOOKUP($A116,'sh1'!$N$7:$O$12,2,1)","v":76441969.5583273},76441969.5583273,{"$f":"IF($AM115<VLOOKUP($B116,'sh1'!$N$16:$O$19,2,1)*$AD116,VLOOKUP($B116,'sh1'!$N$16:$O$19,2,1)*$AD116,$AM115)","v":73150210.1036625},{"$f":"IF($AM116<VLOOKUP($B116,'sh1'!$N$16:$O$19,2,1)*$AE116,VLOOKUP($B116,'sh1'!$N$16:$O$19,2,1)*$AE116,$AM116)","v":76441969.5583273},0,294676664.072692,{"$f":"($AR116-X116)*(1+6%)-$Z116/VLOOKUP($A116,'sh1'!$N$7:$O$12,2,1)","v":312357263.917053},312357263.917053,{"$f":"IF($AS115<VLOOKUP($B116,'sh1'!$N$16:$O$19,2,1)*$AD116,VLOOKUP($B116,'sh1'!$N$16:$O$19,2,1)*$AD116,$AS115)","v":294676664.072692},{"$f":"IF($AS116<VLOOKUP($B116,'sh1'!$N$16:$O$19,2,1)*$AE116,VLOOKUP($B116,'sh1'!$N$16:$O$19,2,1)*$AE116,$AS116)","v":312357263.917053},0,"5|0|15|106"]

{"sheet":"计划书","index":2,"n_rows":200,"n_cols":8,"rows_kept":200,"cut":false,"hidden":false,"merged":[[175,0,175,8],[176,3,176,4],[177,3,177,4],[178,3,178,4],[179,3,179,4],[181,0,181,8],[182,0,182,8],[183,0,183,2],[183,3,183,4],[183,5,183,6],[183,7,183,8],[184,0,184,2],[184,3,184,4],[184,5,184,6],[184,7,184,8],[185,0,185,8],[186,0,186,4],[186,5,186,8],[187,0,187,4],[187,5,187,8],[189,0,189,8],[190,0,190,8],[191,0,191,8],[192,0,192,8],[193,0,193,8],[194,0,194,8],[195,0,195,8],[196,0,196,8],[197,0,197,8],[198,0,198,8],[199,0,201,8]]}
[]
[]
[]
[]
[]
[]
[]
[]
[]
[]
[]
[]
[]
[]
[]
[]
[]
[]
[]
[]
[]
[]
[]
[]
[]
[]
[]
[]
[]
[]
[]
[]
[]
[]
[]
[]
[]
[]
[]
[]
[]
[]
[]
[]
[]
[]
[]
[]
[]
[]
[]
[]
[]
[]
[]
[]
[]
[]
[]
[]
[]
[]
[]
[]
[]
[]
[]
[]
[]
[]
[]
[]
[]
[]
[]
[]
[]
[]
[]
[]
[]
[]
[]
[]
[]
[]
[]
[]
[]
[]
[]
[]
[]
[]
[]
[]
[]
[]
[]
[]
[]
[]
[]
[]
[]
[]
[]
[]
[]
[]
[]
[]
[]
[]
[]
[]
[]
[]
[]
[]
[]
[]
[]
[]
[]
[]
[]
[]
[]
[]
[]
[]
[]
[]
[]
[]
[]
[]
[]
[]
[]
[]
[]
[]
[]
[]
[]
[]
[]
[]
[]
[]
[]
[]
[]
[]
[]
[]
[]
[]
[]
[]
[]
[]
[]
[]
[]
[]
[]
[]
[]
[]
[]
[]
[]
["客户基本信息"]
["投保人姓名",null,null,{"$f":"填写页面!D19","v":"金先生"}]
["被保人姓名",null,null,{"$f":"填写页面!D20","v":"金先生"}]
["被保人性别",null,null,{"$f":"填写页面!N20","v":"男"}]
["被保人年龄",null,null,{"$f":"填写页面!I20","v":15}]
[]
["保险计划"]
[{"$f":"填写页面!B23","v":"珠江永鑫年年年金保险"}]
["年交保费",null,null,"交费期间",null,"基本保额",null,"保障期间"]
[{"$f":"填写页面!N23","v":180000},null,null,{"$f":"填写页面!L23","v":5},null,{"$f":"填写页面!I23","v":158704.2},null,{"$f":"填写页面!G23","v":"10年"}]
[{"$f":"填写页面!B25","v":"珠江智胜宝终身寿险（万能型）"}]
["趸交保费",null,null,null,null,"保障期间"]
[{"$f":"填写页面!N25","v":1000},null,null,null,null,{"$f":"填写页面!G25","v":"终身"}]
[]
["保险责任"]
["珠江永鑫年年年金保险"]
["（一）特别生存保险金"]
["若被保险人于本合同生效后的第5个保单周年日及第6个保单周年日生存且本合同仍然有效，本公司将按给付时本合同基本保险金额对应的年交保险费的以下比例给付特别生存保险金：\n一次交清的给付比例为20%，3年交的给付比例60%，5年交的给付比例100%。"]
["（二）生存保险金"]
["自本合同生效后的第7个保单周年日起至第9个保单周年日止，若被保险人在每个保单周年日时仍生存且本合同仍然有效，本公司将于每个保单周年日按本合同基本保险金额给付生存保险金。\n若被保险人于本合同生效后的第10个保单周年日前一日零时生存且本合同仍然有效，本公司将按本合同基本保险金额给付生存保险金。"]
["（三）身故保险金"]
["若被保险人在本合同保险责任有效期内身故，本公司将给付身故保险金，本合同终止。身故保险金的数额为投保人累计已交保险费与被保险人身故之时本合同的现金价值两者中的较大者。"]
["珠江智胜宝终身寿险（万能型）"]
["身故保险金"]
["被保险人在本合同保险责任有效期内身故，本公司将给付身故保险金，给付后个人账户价值为零，本合同终止。身故保险金的数额为以下两项中较大者：\n（1）本合同的基本保险金额乘以给付比例系数（见条款10.5）； \n（2）被保险人身故之日本合同的个人账户价值。\n若在被保险人身故至身故保险金申请人提出申请期间发生个人账户价值部分领取的情况，本公司在给付身故保险金时将扣除上述部分领取金额。"]

{"sheet":"展示表","index":3,"n_rows":123,"n_cols":22,"rows_kept":123,"cut":false,"hidden":false,"merged":[[1,0,1,6],[1,7,1,17],[2,9,2,11],[2,12,2,14],[2,15,2,17],[114,0,114,16],[121,5,121,8],[121,9,121,11],[121,12,121,14],[122,5,122,8],[122,9,122,11],[122,12,122,14],[2,0,3,0],[2,1,3,1],[2,2,3,2],[2,3,3,3],[2,4,3,4],[2,5,3,5],[2,6,3,6],[2,7,3,7],[2,8,3,8],[115,0,118,16]]}
[]
["永鑫年年利益演示表",null,null,null,null,null,null,"智胜宝利益演示表"]
["保单年度","年末年龄","年度保险费","基本保额","现金价值","身故保险金","特别生存保险金&生存保险金（保单年度末）","万能险部分领取实到金额","部分领取累计实际扣除账户价值","低档（最低保证利率3%）",null,null,"中档",null,null,"高档"]
[null,null,null,null,null,null,null,null,null,"保单年度末万能险账户价值","保单年度末万能险现金价值","保单年度末万能险身故保险金","保单年度末万能险账户价值","保单年度末万能险现金价值","保单年度末万能险身故保险金","保单年度末万能险账户价值","保单年度末万能险现金价值","保单年度末万能险身故保险金"]
[{"$f":"利益演示!A11","v":1},{"$f":"利益演示!C11","v":16},{"$f":"利益演示!D11","v":180000},{"$f":"利益演示!F11","v":158704.2},{"$f":"利益演示!G11","v":102778.2},{"$f":"利益演示!H11","v":180000},{"$f":"利益演示!I11+利益演示!J11","v":0},{"$f":"利益演示!Z11","v":0},{"$f":"利益演示!AB11","v":0},{"$f":"利益演示!AG11","v":1009.336552},{"$f":"利益演示!AH11","v":958.8697244},{"$f":"利益演示!AJ11","v":1200},{"$f":"利益演示!AM11","v":1024.035628},{"$f":"利益演示!AN11","v":972.8338466},{"$f":"利益演示!AP11","v":1200},{"$f":"利益演示!AS11","v":1038.734704},{"$f":"利益演示!AT11","v":986.7979688},{"$f":"利益演示!AV11","v":1200}]
[{"$f":"利益演示!A12","v":2},{"$f":"利益演示!C12","v":17},{"$f":"利益演示!D12","v":180000},{"$f":"利益演示!F12","v":158704.2},{"$f":"利益演示!G12","v":267505.2},{"$f":"利益演示!H12","v":360000},{"$f":"利益演示!I12+利益演示!J12","v":0},{"$f":"利益演示!Z12","v":0},{"$f":"利益演示!AB12","v":0},{"$f":"利益演示!AG12","v":1039.55773355457},{"$f":"利益演示!AH12","v":1008.37100154793},{"$f":"利益演示!AJ12","v":1200},{"$f":"利益演示!AM12","v":1070.06206642938},{"$f":"利益演示!AN12","v":1037.9602044365},{"$f":"利益演示!AP12","v":1200},{"$f":"利益演示!AS12","v":1101.00750387587},{"$f":"利益演示!AT12","v":1067.9772787596},{"$f":"利益演示!AV12","v":1200}]
[{"$f":"利益演示!A13","v":3},{"$f":"利益演示!C13","v":18},{"$f":"利益演示!D13","v":180000},{"$f":"利益演示!F13","v":158704.2},{"$f":"利益演示!G13","v":453223.8},{"$f":"利益演示!H13","v":540000},{"$f":"利益演示!I13+利益演示!J13","v":0},{"$f":"利益演示!Z13","v":0},{"$f":"利益演示!AB13","v":0},{"$f":"利益演示!AG13","v":1070.69158379018},{"$f":"利益演示!AH13","v":1049.27775211438},{"$f":"利益演示!AJ13","v":1200},{"$f":"利益演示!AM13","v":1118.17140817371},{"$f":"利益演示!AN13","v":1095.80798001024},{"$f":"利益演示!AP13","v":1200},{"$f":"利益演示!AS13","v":1167.03437585374},{"$f":"利益演示!AT13","v":1143.69368833666},{"$f":"利益演示!AV13","v":1200}]
[{"$f":"利益演示!A14","v":4},{"$f":"利益演示!C14","v":19},{"$f":"利益演示!D14","v":180000},{"$f":"利益演示!F14","v":158704.2},{"$f":"利益演示!G14","v":656553.6},{"$f":"利益演示!H14","v":720000},{"$f":"利益演示!I14+利益演示!J14","v":0},{"$f":"利益演示!Z14","v":0},{"$f":"利益演示!AB14","v":0},{"$f":"利益演示!AG14","v":1102.63241937322},{"$f":"利益演示!AH14","v":1091.60609517949},{"$f":"利益演示!AJ14","v":1600},{"$f":"利益演示!AM14","v":1168.32296295164},{"$f":"利益演示!AN14","v":1156.63973332212},{"$f":"利益演示!AP14","v":1600},{"$f":"利益演示!AS14","v":1236.90498702964},{"$f":"利益演示!AT14","v":1224.53593715934},{"$f":"利益演示!AV14","v":1600}]
[{"$f":"利益演示!A15","v":5},{"$f":"利益演示!C15","v":20},{"$f":"利益演示!D15","v":180000},{"$f":"利益演示!F15","v":158704.2},{"$f":"利益演示!G15","v":698686.2},{"$f":"利益演示!H15","v":900000},{"$f":"利益演示!I15+利益演示!J15","v":180000},{"$f":"利益演示!Z15","v":0},{"$f":"利益演示!AB15","v":0},{"$f":"利益演示!AG15","v":1135.5320909416},{"$f":"利益演示!AH15","v":1124.17677003219},{"$f":"利益演示!AJ15","v":1600},{"$f":"利益演示!AM15","v":1220.73961040816},{"$f":"利益演示!AN15","v":1208.53221430408},{"$f":"利益演示!AP15","v":1600},{"$f":"利益演示!AS15","v":1310.9845780016},{"$f":"利益演示!AT15","v":1297.87473222159},{"$f":"利益演示!AV15","v":1600}]
[{"$f":"利益演示!A16","v":6},{"$f":"利益演示!C16","v":21},{"$f":"利益演示!D16","v":""},{"$f":"利益演示!F16","v":158704.2},{"$f":"利益演示!G16","v":557046},{"$f":"利益演示!H16","v":900000},{"$f":"利益演示!I16+利益演示!J16","v":180000},{"$f":"利益演示!Z16","v":0},{"$f":"利益演示!AB16","v":0},{"$f":"利益演示!AG16","v":184674.711988969},{"$f":"利益演示!AH16","v":184674.711988969},{"$f":"利益演示!AJ16","v":289600},{"$f":"利益演示!AM16","v":187453.223455118},{"$f":"利益演示!AN16","v":187453.223455118},{"$f":"利益演示!AP16","v":289600},{"$f":"利益演示!AS16","v":190239.633684396},{"$f":"利益演示!AT16","v":190239.633684396},{"$f":"利益演示!AV16","v":289600}]
[{"$f":"利益演示!A17","v":7},{"$f":"利益演示!C17","v":22},{"$f":"利益演示!D17","v":""},{"$f":"利益演示!F17","v":158704.2},{"$f":"利益演示!G17","v":428853.6},{"$f":"利益演示!H17","v":900000},{"$f":"利益演示!I17+利益演示!J17","v":158704.2},{"$f":"利益演示!Z17","v":0},{"$f":"利益演示!AB17","v":0},{"$f":"利益演示!AG17","v":375530.90987091},{"$f":"利益演示!AH17","v":375530.90987091},{"$f":"利益演示!AJ17","v":577599.999999999},{"$f":"利益演示!AM17","v":383904.454445632},{"$f":"利益演示!AN17","v":383904.454445632},{"$f":"利益演示!AP17","v":577599.999999999},{"$f":"利益演示!AS17","v":392369.761909908},{"$f":"利益演示!AT17","v":392369.761909908},{"$f":"利益演示!AV17","v":577599.999999999}]
[{"$f":"利益演示!A18","v":8},{"$f":"利益演示!C18","v":23},{"$f":"利益演示!D18","v":""},{"$f":"利益演示!F18","v":158704.2},{"$f":"利益演示!G18","v":293551.2},{"$f":"利益演示!H18","v":900000},{"$f":"利益演示!I18+利益演示!J18","v":158704.2},{"$f":"利益演示!Z18","v":0},{"$f":"利益演示!AB18","v":0},{"$f":"利益演示!AG18","v":550361.450352478},{"$f":"利益演示!AH18","v":550361.450352478},{"$f":"利益演示!AJ18","v":831526.72},{"$f":"利益演示!AM18","v":567130.189649102},{"$f":"利益演示!AN18","v":567130.189649102},{"$f":"利益演示!AP18","v":831526.72},{"$f":"利益演示!AS18","v":584247.539851146},{"$f":"利益演示!AT18","v":584247.539851146},{"$f":"利益演示!AV18","v":831526.72}]
[{"$f":"利益演示!A19","v":9},{"$f":"利益演示!C19","v":24},{"$f":"利益演示!D19","v":""},{"$f":"利益演示!F19","v":158704.2},{"$f":"利益演示!G19","v":150741},{"$f":"利益演示!H19","v":900000},{"$f":"利益演示!I19+利益演示!J19","v":158704.2},{"$f":"利益演示!Z19","v":0},{"$f":"利益演示!AB19","v":0},{"$f":"利益演示!AG19","v":730178.001091647},{"$f":"利益演示!AH19","v":730178.001091647},{"$f":"利益演示!AJ19","v":1085453.44},{"$f":"利益演示!AM19","v":758342.178433044},{"$f":"利益演示!AN19","v":758342.178433044},{"$f":"利益演示!AP19","v":1085453.44},{"$f":"利益演示!AS19","v":787379.303274877},{"$f":"利益演示!AT19","v":787379.303274877},{"$f":"利益演示!AV19","v":1085453.44}]
[{"$f":"利益演示!A20","v":10},{"$f":"利益演示!C20","v":25},{"$f":"利益演示!D20","v":""},{"$f":"利益演示!F20","v":158704.2},{"$f":"利益演示!G20","v":0},{"$f":"利益演示!H20","v":900000},{"$f":"利益演示!I20+利益演示!J20","v":158704.2},{"$f":"利益演示!Z20","v":0},{"$f":"利益演示!AB20","v":0},{"$f":"利益演示!AG20","v":915348.438677495},{"$f":"利益演示!AH20","v":915348.438677495},{"$f":"利益演示!AJ20","v":1339380.16},{"$f":"利益演示!AM20","v":958122.976640461},{"$f":"利益演示!AN20","v":958122.976640461},{"$f":"利益演示!AP20","v":1339380.16},{"$f":"利益演示!AS20","v":1002668.52548149},{"$f":"利益演示!AT20","v":1002668.52548149},{"$f":"利益演示!AV20","v":1339380.16}]
[{"$f":"利益演示!A21","v":11},{"$f":"利益演示!C21","v":26},{"$f":"利益演示!D21","v":0},{"$f":"利益演示!F21","v":0},{"$f":"利益演示!G21","v":0},{"$f":"利益演示!H21","v":0},{"$f":"利益演示!I21+利益演示!J21","v":0},{"$f":"利益演示!Z21","v":0},{"$f":"利益演示!AB21","v":0},{"$f":"利益演示!AG21","v":1106032.807903},{"$f":"利益演示!AH21","v":1106032.807903},{"$f":"利益演示!AJ21","v":1593306.88},{"$f":"利益演示!AM21","v":1166859.58870228},{"$f":"利益演示!AN21","v":1166859.58870228},{"$f":"利益演示!AP21","v":1593306.88},{"$f":"利益演示!AS21","v":1230848.29939964},{"$f":"利益演示!AT21","v":1230848.29939964},{"$f":"利益演示!AV21","v":1593306.88}]
[{"$f":"利益演示!A22","v":12},{"$f":"利益演示!C22","v":27},{"$f":"利益演示!D22","v":0},{"$f":"利益演示!F22","v":0},{"$f":"利益演示!G22","v":0},{"$f":"利益演示!H22","v":0},{"$f":"利益演示!I22+利益演示!J22","v":0},{"$f":"利益演示!Z22","v":0},{"$f":"利益演示!AB22","v":0},{"$f":"利益演示!AG22","v":1140612.55602179},{"$f":"利益演示!AH22","v":1140612.55602179},{"$f":"利益演示!AJ22","v":1593306.88},{"$f":"利益演示!AM22","v":1220817.27949676},{"$f":"利益演示!AN22","v":1220817.27949676},{"$f":"利益演示!AP22","v":1593306.88},{"$f":"利益演示!AS22","v":1306200.88501876},{"$f":"利益演示!AT22","v":1306200.88501876},{"$f":"利益演示!AV22","v":1593306.88}]
[{"$f":"利益演示!A23","v":13},{"$f":"利益演示!C23","v":28},{"$f":"利益演示!D23","v":0},{"$f":"利益演示!F23","v":0},{"$f":"利益演示!G23","v":0},{"$f":"利益演示!H23","v":0},{"$f":"利益演示!I23+利益演示!J23","v":0},{"$f":"利益演示!Z23","v":0},{"$f":"利益演示!AB23","v":0},{"$f":"利益演示!AG23","v":1174597.79512559},{"$f":"利益演示!AH23","v":1174597.79512559},{"$f":"利益演示!AJ23","v":1593306.88},{"$f":"利益演示!AM23","v":1275559.43125785},{"$f":"利益演示!AN23","v":1275559.43125785},{"$f":"利益演示!AP23","v":1593306.88},{"$f":"利益演示!AS23","v":1384420.77194255},{"$f":"利益演示!AT23","v":1384420.77194255},{"$f":"利益演示!AV23","v":1593306.88}]
[{"$f":"利益演示!A24","v":14},{"$f":"利益演示!C24","v":29},{"$f":"利益演示!D24","v":0},{"$f":"利益演示!F24","v":0},{"$f":"利益演示!G24","v":0},{"$f":"利益演示!H24","v":0},{"$f":"利益演示!I24+利益演示!J24","v":0},{"$f":"利益演示!Z24","v":0},{"$f":"利益演示!AB24","v":0},{"$f":"利益演示!AG24","v":1209607.15568993},{"$f":"利益演示!AH24","v":1209607.15568993},{"$f":"利益演示!AJ24","v":1593306.88},{"$f":"利益演示!AM24","v":1332783.62123997},{"$f":"利益演示!AN24","v":1332783.62123997},{"$f":"利益演示!AP24","v":1593306.88},{"$f":"利益演示!AS24","v":1467368.6660436},{"$f":"利益演示!AT24","v":1467368.6660436},{"$f":"利益演示!AV24","v":1593306.88}]
[{"$f":"利益演示!A25","v":15},{"$f":"利益演示!C25","v":30},{"$f":"利益演示!D25","v":0},{"$f":"利益演示!F25","v":0},{"$f":"利益演示!G25","v":0},{"$f":"利益演示!H25","v":0},{"$f":"利益演示!I25+利益演示!J25","v":0},{"$f":"利益演示!Z25","v":0},{"$f":"利益演示!AB25","v":0},{"$f":"利益演示!AG25","v":1245674.05235964},{"$f":"利益演示!AH25","v":1245674.05235964},{"$f":"利益演示!AJ25","v":1593306.88},{"$f":"利益演示!AM25","v":1392606.42598474},{"$f":"利益演示!AN25","v":1392606.42598474},{"$f":"利益演示!AP25","v":1593306.88},{"$f":"利益演示!AS25","v":1555336.02908241},{"$f":"利益演示!AT25","v":1555336.02908241},{"$f":"利益演示!AV25","v":1593306.88}]
[{"$f":"利益演示!A26","v":16},{"$f":"利益演示!C26","v":31},{"$f":"利益演示!D26","v":0},{"$f":"利益演示!F26","v":0},{"$f":"利益演示!G26","v":0},{"$f":"利益演示!H26","v":0},{"$f":"利益演示!I26+利益演示!J26","v":0},{"$f":"利益演示!Z26","v":0},{"$f":"利益演示!AB26","v":0},{"$f":"利益演示!AG26","v":1282829.43684295},{"$f":"利益演示!AH26","v":1282829.43684295},{"$f":"利益演示!AJ26","v":1593306.88},{"$f":"利益演示!AM26","v":1455147.87596938},{"$f":"利益演示!AN26","v":1455147.87596938},{"$f":"利益演示!AP26","v":1593306.88},{"$f":"利益演示!AS26","v":1648632.04136617},{"$f":"利益演示!AT26","v":1648632.04136617},{"$f":"利益演示!AV26","v":1648632.04136617}]
[{"$f":"利益演示!A27","v":17},{"$f":"利益演示!C27","v":32},{"$f":"利益演示!D27","v":0},{"$f":"利益演示!F27","v":0},{"$f":"利益演示!G27","v":0},{"$f":"利益演示!H27","v":0},{"$f":"利益演示!I27+利益演示!J27","v":0},{"$f":"利益演示!Z27","v":0},{"$f":"利益演示!AB27","v":0},{"$f":"利益演示!AG27","v":1321109.65321771},{"$f":"利益演示!AH27","v":1321109.65321771},{"$f":"利益演示!AJ27","v":1593306.88},{"$f":"利益演示!AM27","v":1520537.12964611},{"$f":"利益演示!AN27","v":1520537.12964611},{"$f":"利益演示!AP27","v":1593306.88},{"$f":"利益演示!AS27","v":1747549.96384814},{"$f":"利益演示!AT27","v":1747549.96384814},{"$f":"利益演示!AV27","v":1747549.96384814}]
[{"$f":"利益演示!A28","v":18},{"$f":"利益演示!C28","v":33},{"$f":"利益演示!D28","v":0},{"$f":"利益演示!F28","v":0},{"$f":"利益演示!G28","v":0},{"$f":"利益演示!H28","v":0},{"$f":"利益演示!I28+利益演示!J28","v":0},{"$f":"利益演示!Z28","v":0},{"$f":"利益演示!AB28","v":0},{"$f":"利益演示!AG28","v":1360552.2958766},{"$f":"利益演示!AH28","v":1360552.2958766},{"$f":"利益演示!AJ28","v":1593306.88},{"$f":"利益演示!AM28","v":1588909.59029558},{"$f":"利益演示!AN28","v":1588909.59029558},{"$f":"利益演示!AP28","v":1593306.88},{"$f":"利益演示!AS28","v":1852402.96167903},{"$f":"利益演示!AT28","v":1852402.96167903},{"$f":"利益演示!AV28","v":1852402.96167903}]
[{"$f":"利益演示!A29","v":19},{"$f":"利益演示!C29","v":34},{"$f":"利益演示!D29","v":0},{"$f":"利益演示!F29","v":0},{"$f":"利益演示!G29","v":0},{"$f":"利益演示!H29","v":0},{"$f":"利益演示!I29+利益演示!J29","v":0},{"$f":"利益演示!Z29","v":0},{"$f":"利益演示!AB29","v":0},{"$f":"利益演示!AG29","v":1401193.8565811},{"$f":"利益演示!AH29","v":1401193.8565811},{"$f":"利益演示!AJ29","v":1593306.88},{"$f":"利益演示!AM29","v":1660407.16738643},{"$f":"利益演示!AN29","v":1660407.16738643},{"$f":"利益演示!AP29","v":1660407.16738643},{"$f":"利益演示!AS29","v":1963547.13937977},{"$f":"利益演示!AT29","v":1963547.13937977},{"$f":"利益演示!AV29","v":1963547.13937977}]
[{"$f":"利益演示!A30","v":20},{"$f":"利益演示!C30","v":35},{"$f":"利益演示!D30","v":0},{"$f":"利益演示!F30","v":0},{"$f":"利益演示!G30","v":0},{"$f":"利益演示!H30","v":0},{"$f":"利益演示!I30+利益演示!J30","v":0},{"$f":"利益演示!Z30","v":0},{"$f":"利益演示!AB30","v":0},{"$f":"利益演示!AG30","v":1443073.34991138},{"$f":"利益演示!AH30","v":1443073.34991138},{"$f":"利益演示!AJ30","v":1593306.88},{"$f":"利益演示!AM30","v":1735125.48991882},{"$f":"利益演示!AN30","v":1735125.48991882},{"$f":"利益演示!AP30","v":1735125.48991882},{"$f":"利益演示!AS30","v":2081359.96774256},{"$f":"利益演示!AT30","v":2081359.96774256},{"$f":"利益演示!AV30","v":2081359.96774256}]
[{"$f":"利益演示!A31","v":21},{"$f":"利益演示!C31","v":36},{"$f":"利益演示!D31","v":0},{"$f":"利益演示!F31","v":0},{"$f":"利益演示!G31","v":0},{"$f":"利益演示!H31","v":0},{"$f":"利益演示!I31+利益演示!J31","v":0},{"$f":"利益演示!Z31","v":0},{"$f":"利益演示!AB31","v":0},{"$f":"利益演示!AG31","v":1486234.02095312},{"$f":"利益演示!AH31","v":1486234.02095312},{"$f":"利益演示!AJ31","v":1593306.88},{"$f":"利益演示!AM31","v":1813206.13696517},{"$f":"利益演示!AN31","v":1813206.13696517},{"$f":"利益演示!AP31","v":1813206.13696517},{"$f":"利益演示!AS31","v":2206241.56580711},{"$f":"利益演示!AT31","v":2206241.56580711},{"$f":"利益演示!AV31","v":2206241.56580711}]
[{"$f":"利益演示!A32","v":22},{"$f":"利益演示!C32","v":37},{"$f":"利益演示!D32","v":0},{"$f":"利益演示!F32","v":0},{"$f":"利益演示!G32","v":0},{"$f":"利益演示!H32","v":0},{"$f":"利益演示!I32+利益演示!J32","v":0},{"$f":"利益演示!Z32","v":0},{"$f":"利益演示!AB32","v":0},{"$f":"利益演示!AG32","v":1530719.57934049},{"$f":"利益演示!AH32","v":1530719.57934049},{"$f":"利益演示!AJ32","v":1593306.88},{"$f":"利益演示!AM32","v":1894800.4131286},{"$f":"利益演示!AN32","v":1894800.4131286},{"$f":"利益演示!AP32","v":1894800.4131286},{"$f":"利益演示!AS32","v":2338616.05975554},{"$f":"利益演示!AT32","v":2338616.05975554},{"$f":"利益演示!AV32","v":2338616.05975554}]
[{"$f":"利益演示!A33","v":23},{"$f":"利益演示!C33","v":38},{"$f":"利益演示!D33","v":0},{"$f":"利益演示!F33","v":0},{"$f":"利益演示!G33","v":0},{"$f":"利益演示!H33","v":0},{"$f":"利益演示!I33+利益演示!J33","v":0},{"$f":"利益演示!Z33","v":0},{"$f":"利益演示!AB33","v":0},{"$f":"利益演示!AG33","v":1576576.70180102},{"$f":"利益演示!AH33","v":1576576.70180102},{"$f":"利益演示!AJ33","v":1593306.88},{"$f":"利益演示!AM33","v":1980066.43171939},{"$f":"利益演示!AN33","v":1980066.43171939},{"$f":"利益演示!AP33","v":1980066.43171939},{"$f":"利益演示!AS33","v":2478933.02334087},{"$f":"利益演示!AT33","v":2478933.02334087},{"$f":"利益演示!AV33","v":2478933.02334087}]
[{"$f":"利益演示!A34","v":24},{"$f":"利益演示!C34","v":39},{"$f":"利益演示!D34","v":0},{"$f":"利益演示!F34","v":0},{"$f":"利益演示!G34","v":0},{"$f":"利益演示!H34","v":0},{"$f":"利益演示!I34+利益演示!J34","v":0},{"$f":"利益演示!Z34","v":0},{"$f":"利益演示!AB34","v":0},{"$f":"利益演示!AG34","v":1623855.39220482},{"$f":"利益演示!AH34","v":1623855.39220482},{"$f":"利益演示!AJ34","v":1623855.39220482},{"$f":"利益演示!AM34","v":2069169.42114676},{"$f":"利益演示!AN34","v":2069169.42114676},{"$f":"利益演示!AP34","v":2069169.42114676},{"$f":"利益演示!AS34","v":2627669.00474132},{"$f":"利益演示!AT34","v":2627669.00474132},{"$f":"利益演示!AV34","v":2627669.00474132}]
[{"$f":"利益演示!A35","v":25},{"$f":"利益演示!C35","v":40},{"$f":"利益演示!D35","v":0},{"$f":"利益演示!F35","v":0},{"$f":"利益演示!G35","v":0},{"$f":"利益演示!H35","v":0},{"$f":"利益演示!I35+利益演示!J35","v":0},{"$f":"利益演示!Z35","v":0},{"$f":"利益演示!AB35","v":0},{"$f":"利益演示!AG35","v":1672571.05397097},{"$f":"利益演示!AH35","v":1672571.05397097},{"$f":"利益演示!AJ35","v":1672571.05397097},{"$f":"利益演示!AM35","v":2162282.04509837},{"$f":"利益演示!AN35","v":2162282.04509837},{"$f":"利益演示!AP35","v":2162282.04509837},{"$f":"利益演示!AS35","v":2785329.1450258},{"$f":"利益演示!AT35","v":2785329.1450258},{"$f":"利益演示!AV35","v":2785329.1450258}]
[{"$f":"利益演示!A36","v":26},{"$f":"利益演示!C36","v":41},{"$f":"利益演示!D36","v":0},{"$f":"利益演示!F36","v":0},{"$f":"利益演示!G36","v":0},{"$f":"利益演示!H36","v":0},{"$f":"利益演示!I36+利益演示!J36","v":0},{"$f":"利益演示!Z36","v":0},{"$f":"利益演示!AB36","v":0},{"$f":"利益演示!AG36","v":1722748.1855901},{"$f":"利益演示!AH36","v":1722748.1855901},{"$f":"利益演示!AJ36","v":1722748.1855901},{"$f":"利益演示!AM36","v":2259584.73712779},{"$f":"利益演示!AN36","v":2259584.73712779},{"$f":"利益演示!AP36","v":2259584.73712779},{"$f":"利益演示!AS36","v":2952448.89372735},{"$f":"利益演示!AT36","v":2952448.89372735},{"$f":"利益演示!AV36","v":2952448.89372735}]
[{"$f":"利益演示!A37","v":27},{"$f":"利益演示!C37","v":42},{"$f":"利益演示!D37","v":0},{"$f":"利益演示!F37","v":0},{"$f":"利益演示!G37","v":0},{"$f":"利益演示!H37","v":0},{"$f":"利益演示!I37+利益演示!J37","v":0},{"$f":"利益演示!Z37","v":0},{"$f":"利益演示!AB37","v":0},{"$f":"利益演示!AG37","v":1774430.6311578},{"$f":"利益演示!AH37","v":1774430.6311578},{"$f":"利益演示!AJ37","v":1774430.6311578},{"$f":"利益演示!AM37","v":2361266.05029854},{"$f":"利益演示!AN37","v":2361266.05029854},{"$f":"利益演示!AP37","v":2361266.05029854},{"$f":"利益演示!AS37","v":3129595.82735099},{"$f":"利益演示!AT37","v":3129595.82735099},{"$f":"利益演示!AV37","v":3129595.82735099}]
[{"$f":"利益演示!A38","v":28},{"$f":"利益演示!C38","v":43},{"$f":"利益演示!D38","v":0},{"$f":"利益演示!F38","v":0},{"$f":"利益演示!G38","v":0},{"$f":"利益演示!H38","v":0},{"$f":"利益演示!I38+利益演示!J38","v":0},{"$f":"利益演示!Z38","v":0},{"$f":"利益演示!AB38","v":0},{"$f":"利益演示!AG38","v":1827663.55009253},{"$f":"利益演示!AH38","v":1827663.55009253},{"$f":"利益演示!AJ38","v":1827663.55009253},{"$f":"利益演示!AM38","v":2467523.02256198},{"$f":"利益演示!AN38","v":2467523.02256198},{"$f":"利益演示!AP38","v":2467523.02256198},{"$f":"利益演示!AS38","v":3317371.57699205},{"$f":"利益演示!AT38","v":3317371.57699205},{"$f":"利益演示!AV38","v":3317371.57699205}]
[{"$f":"利益演示!A39","v":29},{"$f":"利益演示!C39","v":44},{"$f":"利益演示!D39","v":0},{"$f":"利益演示!F39","v":0},{"$f":"利益演示!G39","v":0},{"$f":"利益演示!H39","v":0},{"$f":"利益演示!I39+利益演示!J39","v":0},{"$f":"利益演示!Z39","v":0},{"$f":"利益演示!AB39","v":0},{"$f":"利益演示!AG39","v":1882493.45659531},{"$f":"利益演示!AH39","v":1882493.45659531},{"$f":"利益演示!AJ39","v":1882493.45659531},{"$f":"利益演示!AM39","v":2578561.55857727},{"$f":"利益演示!AN39","v":2578561.55857727},{"$f":"利益演示!AP39","v":2578561.55857727},{"$f":"利益演示!AS39","v":3516413.87161157},{"$f":"利益演示!AT39","v":3516413.87161157},{"$f":"利益演示!AV39","v":3516413.87161157}]
[{"$f":"利益演示!A40","v":30},{"$f":"利益演示!C40","v":45},{"$f":"利益演示!D40","v":0},{"$f":"利益演示!F40","v":0},{"$f":"利益演示!G40","v":0},{"$f":"利益演示!H40","v":0},{"$f":"利益演示!I40+利益演示!J40","v":0},{"$f":"利益演示!Z40","v":0},{"$f":"利益演示!AB40","v":0},{"$f":"利益演示!AG40","v":1938968.26029317},{"$f":"利益演示!AH40","v":1938968.26029317},{"$f":"利益演示!AJ40","v":1938968.26029317},{"$f":"利益演示!AM40","v":2694596.82871324},{"$f":"利益演示!AN40","v":2694596.82871324},{"$f":"利益演示!AP40","v":2694596.82871324},{"$f":"利益演示!AS40","v":3727398.70390826},{"$f":"利益演示!AT40","v":3727398.70390826},{"$f":"利益演示!AV40","v":3727398.70390826}]
[{"$f":"利益演示!A41","v":31},{"$f":"利益演示!C41","v":46},{"$f":"利益演示!D41","v":0},{"$f":"利益演示!F41","v":0},{"$f":"利益演示!G41","v":0},{"$f":"利益演示!H41","v":0},{"$f":"利益演示!I41+利益演示!J41","v":0},{"$f":"利益演示!Z41","v":0},{"$f":"利益演示!AB41","v":0},{"$f":"利益演示!AG41","v":1997137.30810196},{"$f":"利益演示!AH41","v":1997137.30810196},{"$f":"利益演示!AJ41","v":1997137.30810196},{"$f":"利益演示!AM41","v":2815853.68600534},{"$f":"利益演示!AN41","v":2815853.68600534},{"$f":"利益演示!AP41","v":2815853.68600534},{"$f":"利益演示!AS41","v":3951042.62614276},{"$f":"利益演示!AT41","v":3951042.62614276},{"$f":"利益演示!AV41","v":3951042.62614276}]
[{"$f":"利益演示!A42","v":32},{"$f":"利益演示!C42","v":47},{"$f":"利益演示!D42","v":0},{"$f":"利益演示!F42","v":0},{"$f":"利益演示!G42","v":0},{"$f":"利益演示!H42","v":0},{"$f":"利益演示!I42+利益演示!J42","v":0},{"$f":"利益演示!Z42","v":0},{"$f":"利益演示!AB42","v":0},{"$f":"利益演示!AG42","v":2057051.42734502},{"$f":"利益演示!AH42","v":2057051.42734502},{"$f":"利益演示!AJ42","v":2057051.42734502},{"$f":"利益演示!AM42","v":2942567.10187558},{"$f":"利益演示!AN42","v":2942567.10187558},{"$f":"利益演示!AP42","v":2942567.10187558},{"$f":"利益演示!AS42","v":4188105.18371133},{"$f":"利益演示!AT42","v":4188105.18371133},{"$f":"利益演示!AV42","v":4188105.18371133}]
[{"$f":"利益演示!A43","v":33},{"$f":"利益演示!C43","v":48},{"$f":"利益演示!D43","v":0},{"$f":"利益演示!F43","v":0},{"$f":"利益演示!G43","v":0},{"$f":"利益演示!H43","v":0},{"$f":"利益演示!I43+利益演示!J43","v":0},{"$f":"利益演示!Z43","v":0},{"$f":"利益演示!AB43","v":0},{"$f":"利益演示!AG43","v":2118762.97016537},{"$f":"利益演示!AH43","v":2118762.97016537},{"$f":"利益演示!AJ43","v":2118762.97016537},{"$f":"利益演示!AM43","v":3074982.62145998},{"$f":"利益演示!AN43","v":3074982.62145998},{"$f":"利益演示!AP43","v":3074982.62145998},{"$f":"利益演示!AS43","v":4439391.49473401},{"$f":"利益演示!AT43","v":4439391.49473401},{"$f":"利益演示!AV43","v":4439391.49473401}]
[{"$f":"利益演示!A44","v":34},{"$f":"利益演示!C44","v":49},{"$f":"利益演示!D44","v":0},{"$f":"利益演示!F44","v":0},{"$f":"利益演示!G44","v":0},{"$f":"利益演示!H44","v":0},{"$f":"利益演示!I44+利益演示!J44","v":0},{"$f":"利益演示!Z44","v":0},{"$f":"利益演示!AB44","v":0},{"$f":"利益演示!AG44","v":2182325.85927034},{"$f":"利益演示!AH44","v":2182325.85927034},{"$f":"利益演示!AJ44","v":2182325.85927034},{"$f":"利益演示!AM44","v":3213356.83942568},{"$f":"利益演示!AN44","v":3213356.83942568},{"$f":"利益演示!AP44","v":3213356.83942568},{"$f":"利益演示!AS44","v":4705754.98441805},{"$f":"利益演示!AT44","v":4705754.98441805},{"$f":"利益演示!AV44","v":4705754.98441805}]
[{"$f":"利益演示!A45","v":35},{"$f":"利益演示!C45","v":50},{"$f":"利益演示!D45","v":0},{"$f":"利益演示!F45","v":0},{"$f":"利益演示!G45","v":0},{"$f":"利益演示!H45","v":0},{"$f":"利益演示!I45+利益演示!J45","v":0},{"$f":"利益演示!Z45","v":0},{"$f":"利益演示!AB45","v":0},{"$f":"利益演示!AG45","v":2247795.63504845},{"$f":"利益演示!AH45","v":2247795.63504845},{"$f":"利益演示!AJ45","v":2247795.63504845},{"$f":"利益演示!AM45","v":3357957.89719983},{"$f":"利益演示!AN45","v":3357957.89719983},{"$f":"利益演示!AP45","v":3357957.89719983},{"$f":"利益演示!AS45","v":4988100.28348313},{"$f":"利益演示!AT45","v":4988100.28348313},{"$f":"利益演示!AV45","v":4988100.28348313}]
[{"$f":"利益演示!A46","v":36},{"$f":"利益演示!C46","v":51},{"$f":"利益演示!D46","v":0},{"$f":"利益演示!F46","v":0},{"$f":"利益演示!G46","v":0},{"$f":"利益演示!H46","v":0},{"$f":"利益演示!I46+利益演示!J46","v":0},{"$f":"利益演示!Z46","v":0},{"$f":"利益演示!AB46","v":0},{"$f":"利益演示!AG46","v":2315229.5040999},{"$f":"利益演示!AH46","v":2315229.5040999},{"$f":"利益演示!AJ46","v":2315229.5040999},{"$f":"利益演示!AM46","v":3509066.00257383},{"$f":"利益演示!AN46","v":3509066.00257383},{"$f":"利益演示!AP46","v":3509066.00257383},{"$f":"利益演示!AS46","v":5287386.30049212},{"$f":"利益演示!AT46","v":5287386.30049212},{"$f":"利益演示!AV46","v":5287386.30049212}]
[{"$f":"利益演示!A47","v":37},{"$f":"利益演示!C47","v":52},{"$f":"利益演示!D47","v":0},{"$f":"利益演示!F47","v":0},{"$f":"利益演示!G47","v":0},{"$f":"利益演示!H47","v":0},{"$f":"利益演示!I47+利益演示!J47","v":0},{"$f":"利益演示!Z47","v":0},{"$f":"利益演示!AB47","v":0},{"$f":"利益演示!AG47","v":2384686.3892229},{"$f":"利益演示!AH47","v":2384686.3892229},{"$f":"利益演示!AJ47","v":2384686.3892229},{"$f":"利益演示!AM47","v":3666973.97268965},{"$f":"利益演示!AN47","v":3666973.97268965},{"$f":"利益演示!AP47","v":3666973.97268965},{"$f":"利益演示!AS47","v":5604629.47852165},{"$f":"利益演示!AT47","v":5604629.47852165},{"$f":"利益演示!AV47","v":5604629.47852165}]
[{"$f":"利益演示!A48","v":38},{"$f":"利益演示!C48","v":53},{"$f":"利益演示!D48","v":0},{"$f":"利益演示!F48","v":0},{"$f":"利益演示!G48","v":0},{"$f":"利益演示!H48","v":0},{"$f":"利益演示!I48+利益演示!J48","v":0},{"$f":"利益演示!Z48","v":0},{"$f":"利益演示!AB48","v":0},{"$f":"利益演示!AG48","v":2456226.98089958},{"$f":"利益演示!AH48","v":2456226.98089958},{"$f":"利益演示!AJ48","v":2456226.98089958},{"$f":"利益演示!AM48","v":3831987.80146068},{"$f":"利益演示!AN48","v":3831987.80146068},{"$f":"利益演示!AP48","v":3831987.80146068},{"$f":"利益演示!AS48","v":5940907.24723294},{"$f":"利益演示!AT48","v":5940907.24723294},{"$f":"利益演示!AV48","v":5940907.24723294}]
[{"$f":"利益演示!A49","v":39},{"$f":"利益演示!C49","v":54},{"$f":"利益演示!D49","v":0},{"$f":"利益演示!F49","v":0},{"$f":"利益演示!G49","v":0},{"$f":"利益演示!H49","v":0},{"$f":"利益演示!I49+利益演示!J49","v":0},{"$f":"利益演示!Z49","v":0},{"$f":"利益演示!AB49","v":0},{"$f":"利益演示!AG49","v":2529913.79032657},{"$f":"利益演示!AH49","v":2529913.79032657},{"$f":"利益演示!AJ49","v":2529913.79032657},{"$f":"利益演示!AM49","v":4004427.25252641},{"$f":"利益演示!AN49","v":4004427.25252641},{"$f":"利益演示!AP49","v":4004427.25252641},{"$f":"利益演示!AS49","v":6297361.68206692},{"$f":"利益演示!AT49","v":6297361.68206692},{"$f":"利益演示!AV49","v":6297361.68206692}]
[{"$f":"利益演示!A50","v":40},{"$f":"利益演示!C50","v":55},{"$f":"利益演示!D50","v":0},{"$f":"利益演示!F50","v":0},{"$f":"利益演示!G50","v":0},{"$f":"利益演示!H50","v":0},{"$f":"利益演示!I50+利益演示!J50","v":0},{"$f":"利益演示!Z50","v":0},{"$f":"利益演示!AB50","v":0},{"$f":"利益演示!AG50","v":2605811.20403637},{"$f":"利益演示!AH50","v":2605811.20403637},{"$f":"利益演示!AJ50","v":2605811.20403637},{"$f":"利益演示!AM50","v":4184626.4788901},{"$f":"利益演示!AN50","v":4184626.4788901},{"$f":"利益演示!AP50","v":4184626.4788901},{"$f":"利益演示!AS50","v":6675203.38299094},{"$f":"利益演示!AT50","v":6675203.38299094},{"$f":"利益演示!AV50","v":6675203.38299094}]
[{"$f":"利益演示!A51","v":41},{"$f":"利益演示!C51","v":56},{"$f":"利益演示!D51","v":0},{"$f":"利益演示!F51","v":0},{"$f":"利益演示!G51","v":0},{"$f":"利益演示!H51","v":0},{"$f":"利益演示!I51+利益演示!J51","v":0},{"$f":"利益演示!Z51","v":0},{"$f":"利益演示!AB51","v":0},{"$f":"利益演示!AG51","v":2683985.54015746},{"$f":"利益演示!AH51","v":2683985.54015746},{"$f":"利益演示!AJ51","v":2683985.54015746},{"$f":"利益演示!AM51","v":4372934.67044016},{"$f":"利益演示!AN51","v":4372934.67044016},{"$f":"利益演示!AP51","v":4372934.67044016},{"$f":"利益演示!AS51","v":7075715.58597039},{"$f":"利益演示!AT51","v":7075715.58597039},{"$f":"利益演示!AV51","v":7075715.58597039}]
[{"$f":"利益演示!A52","v":42},{"$f":"利益演示!C52","v":57},{"$f":"利益演示!D52","v":0},{"$f":"利益演示!F52","v":0},{"$f":"利益演示!G52","v":0},{"$f":"利益演示!H52","v":0},{"$f":"利益演示!I52+利益演示!J52","v":0},{"$f":"利益演示!Z52","v":0},{"$f":"利益演示!AB52","v":0},{"$f":"利益演示!AG52","v":2764505.10636218},{"$f":"利益演示!AH52","v":2764505.10636218},{"$f":"利益演示!AJ52","v":2764505.10636218},{"$f":"利益演示!AM52","v":4569716.73060996},{"$f":"利益演示!AN52","v":4569716.73060996},{"$f":"利益演示!AP52","v":4569716.73060996},{"$f":"利益演示!AS52","v":7500258.52112862},{"$f":"利益演示!AT52","v":7500258.52112862},{"$f":"利益演示!AV52","v":7500258.52112862}]
[{"$f":"利益演示!A53","v":43},{"$f":"利益演示!C53","v":58},{"$f":"利益演示!D53","v":0},{"$f":"利益演示!F53","v":0},{"$f":"利益演示!G53","v":0},{"$f":"利益演示!H53","v":0},{"$f":"利益演示!I53+利益演示!J53","v":0},{"$f":"利益演示!Z53","v":0},{"$f":"利益演示!AB53","v":0},{"$f":"利益演示!AG53","v":2847440.25955305},{"$f":"利益演示!AH53","v":2847440.25955305},{"$f":"利益演示!AJ53","v":2847440.25955305},{"$f":"利益演示!AM53","v":4775353.98348741},{"$f":"利益演示!AN53","v":4775353.98348741},{"$f":"利益演示!AP53","v":4775353.98348741},{"$f":"利益演示!AS53","v":7950274.03239633},{"$f":"利益演示!AT53","v":7950274.03239633},{"$f":"利益演示!AV53","v":7950274.03239633}]
[{"$f":"利益演示!A54","v":44},{"$f":"利益演示!C54","v":59},{"$f":"利益演示!D54","v":0},{"$f":"利益演示!F54","v":0},{"$f":"利益演示!G54","v":0},{"$f":"利益演示!H54","v":0},{"$f":"利益演示!I54+利益演示!J54","v":0},{"$f":"利益演示!Z54","v":0},{"$f":"利益演示!AB54","v":0},{"$f":"利益演示!AG54","v":2932863.46733964},{"$f":"利益演示!AH54","v":2932863.46733964},{"$f":"利益演示!AJ54","v":2932863.46733964},{"$f":"利益演示!AM54","v":4990244.91274434},{"$f":"利益演示!AN54","v":4990244.91274434},{"$f":"利益演示!AP54","v":4990244.91274434},{"$f":"利益演示!AS54","v":8427290.47434011},{"$f":"利益演示!AT54","v":8427290.47434011},{"$f":"利益演示!AV54","v":8427290.47434011}]
[{"$f":"利益演示!A55","v":45},{"$f":"利益演示!C55","v":60},{"$f":"利益演示!D55","v":0},{"$f":"利益演示!F55","v":0},{"$f":"利益演示!G55","v":0},{"$f":"利益演示!H55","v":0},{"$f":"利益演示!I55+利益演示!J55","v":0},{"$f":"利益演示!Z55","v":0},{"$f":"利益演示!AB55","v":0},{"$f":"利益演示!AG55","v":3020849.37135983},{"$f":"利益演示!AH55","v":3020849.37135983},{"$f":"利益演示!AJ55","v":3020849.37135983},{"$f":"利益演示!AM55","v":5214805.93381784},{"$f":"利益演示!AN55","v":5214805.93381784},{"$f":"利益演示!AP55","v":5214805.93381784},{"$f":"利益演示!AS55","v":8932927.90280052},{"$f":"利益演示!AT55","v":8932927.90280052},{"$f":"利益演示!AV55","v":8932927.90280052}]
[{"$f":"利益演示!A56","v":46},{"$f":"利益演示!C56","v":61},{"$f":"利益演示!D56","v":0},{"$f":"利益演示!F56","v":0},{"$f":"利益演示!G56","v":0},{"$f":"利益演示!H56","v":0},{"$f":"利益演示!I56+利益演示!J56","v":0},{"$f":"利益演示!Z56","v":0},{"$f":"利益演示!AB56","v":0},{"$f":"利益演示!AG56","v":3111474.85250063},{"$f":"利益演示!AH56","v":3111474.85250063},{"$f":"利益演示!AJ56","v":3111474.85250063},{"$f":"利益演示!AM56","v":5449472.20083964},{"$f":"利益演示!AN56","v":5449472.20083964},{"$f":"利益演示!AP56","v":5449472.20083964},{"$f":"利益演示!AS56","v":9468903.57696855},{"$f":"利益演示!AT56","v":9468903.57696855},{"$f":"利益演示!AV56","v":9468903.57696855}]
[{"$f":"利益演示!A57","v":47},{"$f":"利益演示!C57","v":62},{"$f":"利益演示!D57","v":0},{"$f":"利益演示!F57","v":0},{"$f":"利益演示!G57","v":0},{"$f":"利益演示!H57","v":0},{"$f":"利益演示!I57+利益演示!J57","v":0},{"$f":"利益演示!Z57","v":0},{"$f":"利益演示!AB57","v":0},{"$f":"利益演示!AG57","v":3204819.09807564},{"$f":"利益演示!AH57","v":3204819.09807564},{"$f":"利益演示!AJ57","v":3204819.09807564},{"$f":"利益演示!AM57","v":5694698.44987742},{"$f":"利益演示!AN57","v":5694698.44987742},{"$f":"利益演示!AP57","v":5694698.44987742},{"$f":"利益演示!AS57","v":10037037.7915867},{"$f":"利益演示!AT57","v":10037037.7915867},{"$f":"利益演示!AV57","v":10037037.7915867}]
[{"$f":"利益演示!A58","v":48},{"$f":"利益演示!C58","v":63},{"$f":"利益演示!D58","v":0},{"$f":"利益演示!F58","v":0},{"$f":"利益演示!G58","v":0},{"$f":"利益演示!H58","v":0},{"$f":"利益演示!I58+利益演示!J58","v":0},{"$f":"利益演示!Z58","v":0},{"$f":"利益演示!AB58","v":0},{"$f":"利益演示!AG58","v":3300963.67101791},{"$f":"利益演示!AH58","v":3300963.67101791},{"$f":"利益演示!AJ58","v":3300963.67101791},{"$f":"利益演示!AM58","v":5950959.88012191},{"$f":"利益演示!AN58","v":5950959.88012191},{"$f":"利益演示!AP58","v":5950959.88012191},{"$f":"利益演示!AS58","v":10639260.0590819},{"$f":"利益演示!AT58","v":10639260.0590819},{"$f":"利益演示!AV58","v":10639260.0590819}]
[{"$f":"利益演示!A59","v":49},{"$f":"利益演示!C59","v":64},{"$f":"利益演示!D59","v":0},{"$f":"利益演示!F59","v":0},{"$f":"利益演示!G59","v":0},{"$f":"利益演示!H59","v":0},{"$f":"利益演示!I59+利益演示!J59","v":0},{"$f":"利益演示!Z59","v":0},{"$f":"利益演示!AB59","v":0},{"$f":"利益演示!AG59","v":3399992.58114845},{"$f":"利益演示!AH59","v":3399992.58114845},{"$f":"利益演示!AJ59","v":3399992.58114845},{"$f":"利益演示!AM59","v":6218753.07472739},{"$f":"利益演示!AN59","v":6218753.07472739},{"$f":"利益演示!AP59","v":6218753.07472739},{"$f":"利益演示!AS59","v":11277615.6626268},{"$f":"利益演示!AT59","v":11277615.6626268},{"$f":"利益演示!AV59","v":11277615.6626268}]
[{"$f":"利益演示!A60","v":50},{"$f":"利益演示!C60","v":65},{"$f":"利益演示!D60","v":0},{"$f":"利益演示!F60","v":0},{"$f":"利益演示!G60","v":0},{"$f":"利益演示!H60","v":0},{"$f":"利益演示!I60+利益演示!J60","v":0},{"$f":"利益演示!Z60","v":0},{"$f":"利益演示!AB60","v":0},{"$f":"利益演示!AG60","v":3501992.35858291},{"$f":"利益演示!AH60","v":3501992.35858291},{"$f":"利益演示!AJ60","v":3501992.35858291},{"$f":"利益演示!AM60","v":6498596.96309012},{"$f":"利益演示!AN60","v":6498596.96309012},{"$f":"利益演示!AP60","v":6498596.96309012},{"$f":"利益演示!AS60","v":11954272.6023844},{"$f":"利益演示!AT60","v":11954272.6023844},{"$f":"利益演示!AV60","v":11954272.6023844}]
[{"$f":"利益演示!A61","v":51},{"$f":"利益演示!C61","v":66},{"$f":"利益演示!D61","v":0},{"$f":"利益演示!F61","v":0},{"$f":"利益演示!G61","v":0},{"$f":"利益演示!H61","v":0},{"$f":"利益演示!I61+利益演示!J61","v":0},{"$f":"利益演示!Z61","v":0},{"$f":"利益演示!AB61","v":0},{"$f":"利益演示!AG61","v":3607052.12934039},{"$f":"利益演示!AH61","v":3607052.12934039},{"$f":"利益演示!AJ61","v":3607052.12934039},{"$f":"利益演示!AM61","v":6791033.82642918},{"$f":"利益演示!AN61","v":6791033.82642918},{"$f":"利益演示!AP61","v":6791033.82642918},{"$f":"利益演示!AS61","v":12671528.9585275},{"$f":"利益演示!AT61","v":12671528.9585275},{"$f":"利益演示!AV61","v":12671528.9585275}]
[{"$f":"利益演示!A62","v":52},{"$f":"利益演示!C62","v":67},{"$f":"利益演示!D62","v":0},{"$f":"利益演示!F62","v":0},{"$f":"利益演示!G62","v":0},{"$f":"利益演示!H62","v":0},{"$f":"利益演示!I62+利益演示!J62","v":0},{"$f":"利益演示!Z62","v":0},{"$f":"利益演示!AB62","v":0},{"$f":"利益演示!AG62","v":3715263.6932206},{"$f":"利益演示!AH62","v":3715263.6932206},{"$f":"利益演示!AJ62","v":3715263.6932206},{"$f":"利益演示!AM62","v":7096630.34861849},{"$f":"利益演示!AN62","v":7096630.34861849},{"$f":"利益演示!AP62","v":7096630.34861849},{"$f":"利益演示!AS62","v":13431820.6960391},{"$f":"利益演示!AT62","v":13431820.6960391},{"$f":"利益演示!AV62","v":13431820.6960391}]
[{"$f":"利益演示!A63","v":53},{"$f":"利益演示!C63","v":68},{"$f":"利益演示!D63","v":0},{"$f":"利益演示!F63","v":0},{"$f":"利益演示!G63","v":0},{"$f":"利益演示!H63","v":0},{"$f":"利益演示!I63+利益演示!J63","v":0},{"$f":"利益演示!Z63","v":0},{"$f":"利益演示!AB63","v":0},{"$f":"利益演示!AG63","v":3826721.60401722},{"$f":"利益演示!AH63","v":3826721.60401722},{"$f":"利益演示!AJ63","v":3826721.60401722},{"$f":"利益演示!AM63","v":7415978.71430632},{"$f":"利益演示!AN63","v":7415978.71430632},{"$f":"利益演示!AP63","v":7415978.71430632},{"$f":"利益演示!AS63","v":14237729.9378014},{"$f":"利益演示!AT63","v":14237729.9378014},{"$f":"利益演示!AV63","v":14237729.9378014}]
[{"$f":"利益演示!A64","v":54},{"$f":"利益演示!C64","v":69},{"$f":"利益演示!D64","v":0},{"$f":"利益演示!F64","v":0},{"$f":"利益演示!G64","v":0},{"$f":"利益演示!H64","v":0},{"$f":"利益演示!I64+利益演示!J64","v":0},{"$f":"利益演示!Z64","v":0},{"$f":"利益演示!AB64","v":0},{"$f":"利益演示!AG64","v":3941523.25213774},{"$f":"利益演示!AH64","v":3941523.25213774},{"$f":"利益演示!AJ64","v":3941523.25213774},{"$f":"利益演示!AM64","v":7749697.75645011},{"$f":"利益演示!AN64","v":7749697.75645011},{"$f":"利益演示!AP64","v":7749697.75645011},{"$f":"利益演示!AS64","v":15091993.7340695},{"$f":"利益演示!AT64","v":15091993.7340695},{"$f":"利益演示!AV64","v":15091993.7340695}]
[{"$f":"利益演示!A65","v":55},{"$f":"利益演示!C65","v":70},{"$f":"利益演示!D65","v":0},{"$f":"利益演示!F65","v":0},{"$f":"利益演示!G65","v":0},{"$f":"利益演示!H65","v":0},{"$f":"利益演示!I65+利益演示!J65","v":0},{"$f":"利益演示!Z65","v":0},{"$f":"利益演示!AB65","v":0},{"$f":"利益演示!AG65","v":4059768.94970187},{"$f":"利益演示!AH65","v":4059768.94970187},{"$f":"利益演示!AJ65","v":4059768.94970187},{"$f":"利益演示!AM65","v":8098434.15549036},{"$f":"利益演示!AN65","v":8098434.15549036},{"$f":"利益演示!AP65","v":8098434.15549036},{"$f":"利益演示!AS65","v":15997513.3581137},{"$f":"利益演示!AT65","v":15997513.3581137},{"$f":"利益演示!AV65","v":15997513.3581137}]
[{"$f":"利益演示!A66","v":56},{"$f":"利益演示!C66","v":71},{"$f":"利益演示!D66","v":0},{"$f":"利益演示!F66","v":0},{"$f":"利益演示!G66","v":0},{"$f":"利益演示!H66","v":0},{"$f":"利益演示!I66+利益演示!J66","v":0},{"$f":"利益演示!Z66","v":0},{"$f":"利益演示!AB66","v":0},{"$f":"利益演示!AG66","v":4181562.01819293},{"$f":"利益演示!AH66","v":4181562.01819293},{"$f":"利益演示!AJ66","v":4181562.01819293},{"$f":"利益演示!AM66","v":8462863.69248743},{"$f":"利益演示!AN66","v":8462863.69248743},{"$f":"利益演示!AP66","v":8462863.69248743},{"$f":"利益演示!AS66","v":16957364.1596005},{"$f":"利益演示!AT66","v":16957364.1596005},{"$f":"利益演示!AV66","v":16957364.1596005}]
[{"$f":"利益演示!A67","v":57},{"$f":"利益演示!C67","v":72},{"$f":"利益演示!D67","v":0},{"$f":"利益演示!F67","v":0},{"$f":"利益演示!G67","v":0},{"$f":"利益演示!H67","v":0},{"$f":"利益演示!I67+利益演示!J67","v":0},{"$f":"利益演示!Z67","v":0},{"$f":"利益演示!AB67","v":0},{"$f":"利益演示!AG67","v":4307008.87873871},{"$f":"利益演示!AH67","v":4307008.87873871},{"$f":"利益演示!AJ67","v":4307008.87873871},{"$f":"利益演示!AM67","v":8843692.55864936},{"$f":"利益演示!AN67","v":8843692.55864936},{"$f":"利益演示!AP67","v":8843692.55864936},{"$f":"利益演示!AS67","v":17974806.0091766},{"$f":"利益演示!AT67","v":17974806.0091766},{"$f":"利益演示!AV67","v":17974806.0091766}]
[{"$f":"利益演示!A68","v":58},{"$f":"利益演示!C68","v":73},{"$f":"利益演示!D68","v":0},{"$f":"利益演示!F68","v":0},{"$f":"利益演示!G68","v":0},{"$f":"利益演示!H68","v":0},{"$f":"利益演示!I68+利益演示!J68","v":0},{"$f":"利益演示!Z68","v":0},{"$f":"利益演示!AB68","v":0},{"$f":"利益演示!AG68","v":4436219.14510088},{"$f":"利益演示!AH68","v":4436219.14510088},{"$f":"利益演示!AJ68","v":4436219.14510088},{"$f":"利益演示!AM68","v":9241658.72378858},{"$f":"利益演示!AN68","v":9241658.72378858},{"$f":"利益演示!AP68","v":9241658.72378858},{"$f":"利益演示!AS68","v":19053294.3697272},{"$f":"利益演示!AT68","v":19053294.3697272},{"$f":"利益演示!AV68","v":19053294.3697272}]
[{"$f":"利益演示!A69","v":59},{"$f":"利益演示!C69","v":74},{"$f":"利益演示!D69","v":0},{"$f":"利益演示!F69","v":0},{"$f":"利益演示!G69","v":0},{"$f":"利益演示!H69","v":0},{"$f":"利益演示!I69+利益演示!J69","v":0},{"$f":"利益演示!Z69","v":0},{"$f":"利益演示!AB69","v":0},{"$f":"利益演示!AG69","v":4569305.7194539},{"$f":"利益演示!AH69","v":4569305.7194539},{"$f":"利益演示!AJ69","v":4569305.7194539},{"$f":"利益演示!AM69","v":9657533.36635907},{"$f":"利益演示!AN69","v":9657533.36635907},{"$f":"利益演示!AP69","v":9657533.36635907},{"$f":"利益演示!AS69","v":20196492.0319108},{"$f":"利益演示!AT69","v":20196492.0319108},{"$f":"利益演示!AV69","v":20196492.0319108}]
[{"$f":"利益演示!A70","v":60},{"$f":"利益演示!C70","v":75},{"$f":"利益演示!D70","v":0},{"$f":"利益演示!F70","v":0},{"$f":"利益演示!G70","v":0},{"$f":"利益演示!H70","v":0},{"$f":"利益演示!I70+利益演示!J70","v":0},{"$f":"利益演示!Z70","v":0},{"$f":"利益演示!AB70","v":0},{"$f":"利益演示!AG70","v":4706384.89103752},{"$f":"利益演示!AH70","v":4706384.89103752},{"$f":"利益演示!AJ70","v":4706384.89103752},{"$f":"利益演示!AM70","v":10092122.3678452},{"$f":"利益演示!AN70","v":10092122.3678452},{"$f":"利益演示!AP70","v":10092122.3678452},{"$f":"利益演示!AS70","v":21408281.5538254},{"$f":"利益演示!AT70","v":21408281.5538254},{"$f":"利益演示!AV70","v":21408281.5538254}]
[{"$f":"利益演示!A71","v":61},{"$f":"利益演示!C71","v":76},{"$f":"利益演示!D71","v":0},{"$f":"利益演示!F71","v":0},{"$f":"利益演示!G71","v":0},{"$f":"利益演示!H71","v":0},{"$f":"利益演示!I71+利益演示!J71","v":0},{"$f":"利益演示!Z71","v":0},{"$f":"利益演示!AB71","v":0},{"$f":"利益演示!AG71","v":4847576.43776864},{"$f":"利益演示!AH71","v":4847576.43776864},{"$f":"利益演示!AJ71","v":4847576.43776864},{"$f":"利益演示!AM71","v":10546267.8743983},{"$f":"利益演示!AN71","v":10546267.8743983},{"$f":"利益演示!AP71","v":10546267.8743983},{"$f":"利益演示!AS71","v":22692778.447055},{"$f":"利益演示!AT71","v":22692778.447055},{"$f":"利益演示!AV71","v":22692778.447055}]
[{"$f":"利益演示!A72","v":62},{"$f":"利益演示!C72","v":77},{"$f":"利益演示!D72","v":0},{"$f":"利益演示!F72","v":0},{"$f":"利益演示!G72","v":0},{"$f":"利益演示!H72","v":0},{"$f":"利益演示!I72+利益演示!J72","v":0},{"$f":"利益演示!Z72","v":0},{"$f":"利益演示!AB72","v":0},{"$f":"利益演示!AG72","v":4993003.7309017},{"$f":"利益演示!AH72","v":4993003.7309017},{"$f":"利益演示!AJ72","v":4993003.7309017},{"$f":"利益演示!AM72","v":11020849.9287462},{"$f":"利益演示!AN72","v":11020849.9287462},{"$f":"利益演示!AP72","v":11020849.9287462},{"$f":"利益演示!AS72","v":24054345.1538783},{"$f":"利益演示!AT72","v":24054345.1538783},{"$f":"利益演示!AV72","v":24054345.1538783}]
[{"$f":"利益演示!A73","v":63},{"$f":"利益演示!C73","v":78},{"$f":"利益演示!D73","v":0},{"$f":"利益演示!F73","v":0},{"$f":"利益演示!G73","v":0},{"$f":"利益演示!H73","v":0},{"$f":"利益演示!I73+利益演示!J73","v":0},{"$f":"利益演示!Z73","v":0},{"$f":"利益演示!AB73","v":0},{"$f":"利益演示!AG73","v":5142793.84282876},{"$f":"利益演示!AH73","v":5142793.84282876},{"$f":"利益演示!AJ73","v":5142793.84282876},{"$f":"利益演示!AM73","v":11516788.1755398},{"$f":"利益演示!AN73","v":11516788.1755398},{"$f":"利益演示!AP73","v":11516788.1755398},{"$f":"利益演示!AS73","v":25497605.863111},{"$f":"利益演示!AT73","v":25497605.863111},{"$f":"利益演示!AV73","v":25497605.863111}]
[{"$f":"利益演示!A74","v":64},{"$f":"利益演示!C74","v":79},{"$f":"利益演示!D74","v":0},{"$f":"利益演示!F74","v":0},{"$f":"利益演示!G74","v":0},{"$f":"利益演示!H74","v":0},{"$f":"利益演示!I74+利益演示!J74","v":0},{"$f":"利益演示!Z74","v":0},{"$f":"利益演示!AB74","v":0},{"$f":"利益演示!AG74","v":5297077.65811362},{"$f":"利益演示!AH74","v":5297077.65811362},{"$f":"利益演示!AJ74","v":5297077.65811362},{"$f":"利益演示!AM74","v":12035043.643439},{"$f":"利益演示!AN74","v":12035043.643439},{"$f":"利益演示!AP74","v":12035043.643439},{"$f":"利益演示!AS74","v":27027462.2148976},{"$f":"利益演示!AT74","v":27027462.2148976},{"$f":"利益演示!AV74","v":27027462.2148976}]
[{"$f":"利益演示!A75","v":65},{"$f":"利益演示!C75","v":80},{"$f":"利益演示!D75","v":0},{"$f":"利益演示!F75","v":0},{"$f":"利益演示!G75","v":0},{"$f":"利益演示!H75","v":0},{"$f":"利益演示!I75+利益演示!J75","v":0},{"$f":"利益演示!Z75","v":0},{"$f":"利益演示!AB75","v":0},{"$f":"利益演示!AG75","v":5455989.98785703},{"$f":"利益演示!AH75","v":5455989.98785703},{"$f":"利益演示!AJ75","v":5455989.98785703},{"$f":"利益演示!AM75","v":12576620.6073938},{"$f":"利益演示!AN75","v":12576620.6073938},{"$f":"利益演示!AP75","v":12576620.6073938},{"$f":"利益演示!AS75","v":28649109.9477915},{"$f":"利益演示!AT75","v":28649109.9477915},{"$f":"利益演示!AV75","v":28649109.9477915}]
[{"$f":"利益演示!A76","v":66},{"$f":"利益演示!C76","v":81},{"$f":"利益演示!D76","v":0},{"$f":"利益演示!F76","v":0},{"$f":"利益演示!G76","v":0},{"$f":"利益演示!H76","v":0},{"$f":"利益演示!I76+利益演示!J76","v":0},{"$f":"利益演示!Z76","v":0},{"$f":"利益演示!AB76","v":0},{"$f":"利益演示!AG76","v":5619669.68749274},{"$f":"利益演示!AH76","v":5619669.68749274},{"$f":"利益演示!AJ76","v":5619669.68749274},{"$f":"利益演示!AM76","v":13142568.5347265},{"$f":"利益演示!AN76","v":13142568.5347265},{"$f":"利益演示!AP76","v":13142568.5347265},{"$f":"利益演示!AS76","v":30368056.544659},{"$f":"利益演示!AT76","v":30368056.544659},{"$f":"利益演示!AV76","v":30368056.544659}]
[{"$f":"利益演示!A77","v":67},{"$f":"利益演示!C77","v":82},{"$f":"利益演示!D77","v":0},{"$f":"利益演示!F77","v":0},{"$f":"利益演示!G77","v":0},{"$f":"利益演示!H77","v":0},{"$f":"利益演示!I77+利益演示!J77","v":0},{"$f":"利益演示!Z77","v":0},{"$f":"利益演示!AB77","v":0},{"$f":"利益演示!AG77","v":5788259.77811752},{"$f":"利益演示!AH77","v":5788259.77811752},{"$f":"利益演示!AJ77","v":5788259.77811752},{"$f":"利益演示!AM77","v":13733984.1187892},{"$f":"利益演示!AN77","v":13733984.1187892},{"$f":"利益演示!AP77","v":13733984.1187892},{"$f":"利益演示!AS77","v":32190139.9373385},{"$f":"利益演示!AT77","v":32190139.9373385},{"$f":"利益演示!AV77","v":32190139.9373385}]
[{"$f":"利益演示!A78","v":68},{"$f":"利益演示!C78","v":83},{"$f":"利益演示!D78","v":0},{"$f":"利益演示!F78","v":0},{"$f":"利益演示!G78","v":0},{"$f":"利益演示!H78","v":0},{"$f":"利益演示!I78+利益演示!J78","v":0},{"$f":"利益演示!Z78","v":0},{"$f":"利益演示!AB78","v":0},{"$f":"利益演示!AG78","v":5961907.57146105},{"$f":"利益演示!AH78","v":5961907.57146105},{"$f":"利益演示!AJ78","v":5961907.57146105},{"$f":"利益演示!AM78","v":14352013.4041347},{"$f":"利益演示!AN78","v":14352013.4041347},{"$f":"利益演示!AP78","v":14352013.4041347},{"$f":"利益演示!AS78","v":34121548.3335788},{"$f":"利益演示!AT78","v":34121548.3335788},{"$f":"利益演示!AV78","v":34121548.3335788}]
[{"$f":"利益演示!A79","v":69},{"$f":"利益演示!C79","v":84},{"$f":"利益演示!D79","v":0},{"$f":"利益演示!F79","v":0},{"$f":"利益演示!G79","v":0},{"$f":"利益演示!H79","v":0},{"$f":"利益演示!I79+利益演示!J79","v":0},{"$f":"利益演示!Z79","v":0},{"$f":"利益演示!AB79","v":0},{"$f":"利益演示!AG79","v":6140764.79860488},{"$f":"利益演示!AH79","v":6140764.79860488},{"$f":"利益演示!AJ79","v":6140764.79860488},{"$f":"利益演示!AM79","v":14997854.0073208},{"$f":"利益演示!AN79","v":14997854.0073208},{"$f":"利益演示!AP79","v":14997854.0073208},{"$f":"利益演示!AS79","v":36168841.2335936},{"$f":"利益演示!AT79","v":36168841.2335936},{"$f":"利益演示!AV79","v":36168841.2335936}]
[{"$f":"利益演示!A80","v":70},{"$f":"利益演示!C80","v":85},{"$f":"利益演示!D80","v":0},{"$f":"利益演示!F80","v":0},{"$f":"利益演示!G80","v":0},{"$f":"利益演示!H80","v":0},{"$f":"利益演示!I80+利益演示!J80","v":0},{"$f":"利益演示!Z80","v":0},{"$f":"利益演示!AB80","v":0},{"$f":"利益演示!AG80","v":6324987.74256302},{"$f":"利益演示!AH80","v":6324987.74256302},{"$f":"利益演示!AJ80","v":6324987.74256302},{"$f":"利益演示!AM80","v":15672757.4376502},{"$f":"利益演示!AN80","v":15672757.4376502},{"$f":"利益演示!AP80","v":15672757.4376502},{"$f":"利益演示!AS80","v":38338971.7076092},{"$f":"利益演示!AT80","v":38338971.7076092},{"$f":"利益演示!AV80","v":38338971.7076092}]
[{"$f":"利益演示!A81","v":71},{"$f":"利益演示!C81","v":86},{"$f":"利益演示!D81","v":0},{"$f":"利益演示!F81","v":0},{"$f":"利益演示!G81","v":0},{"$f":"利益演示!H81","v":0},{"$f":"利益演示!I81+利益演示!J81","v":0},{"$f":"利益演示!Z81","v":0},{"$f":"利益演示!AB81","v":0},{"$f":"利益演示!AG81","v":6514737.37483991},{"$f":"利益演示!AH81","v":6514737.37483991},{"$f":"利益演示!AJ81","v":6514737.37483991},{"$f":"利益演示!AM81","v":16378031.5223445},{"$f":"利益演示!AN81","v":16378031.5223445},{"$f":"利益演示!AP81","v":16378031.5223445},{"$f":"利益演示!AS81","v":40639310.0100657},{"$f":"利益演示!AT81","v":40639310.0100657},{"$f":"利益演示!AV81","v":40639310.0100657}]
[{"$f":"利益演示!A82","v":72},{"$f":"利益演示!C82","v":87},{"$f":"利益演示!D82","v":0},{"$f":"利益演示!F82","v":0},{"$f":"利益演示!G82","v":0},{"$f":"利益演示!H82","v":0},{"$f":"利益演示!I82+利益演示!J82","v":0},{"$f":"利益演示!Z82","v":0},{"$f":"利益演示!AB82","v":0},{"$f":"利益演示!AG82","v":6710179.49608511},{"$f":"利益演示!AH82","v":6710179.49608511},{"$f":"利益演示!AJ82","v":6710179.49608511},{"$f":"利益演示!AM82","v":17115042.94085},{"$f":"利益演示!AN82","v":17115042.94085},{"$f":"利益演示!AP82","v":17115042.94085},{"$f":"利益演示!AS82","v":43077668.6106697},{"$f":"利益演示!AT82","v":43077668.6106697},{"$f":"利益演示!AV82","v":43077668.6106697}]
[{"$f":"利益演示!A83","v":73},{"$f":"利益演示!C83","v":88},{"$f":"利益演示!D83","v":0},{"$f":"利益演示!F83","v":0},{"$f":"利益演示!G83","v":0},{"$f":"利益演示!H83","v":0},{"$f":"利益演示!I83+利益演示!J83","v":0},{"$f":"利益演示!Z83","v":0},{"$f":"利益演示!AB83","v":0},{"$f":"利益演示!AG83","v":6911484.88096767},{"$f":"利益演示!AH83","v":6911484.88096767},{"$f":"利益演示!AJ83","v":6911484.88096767},{"$f":"利益演示!AM83","v":17885219.8731882},{"$f":"利益演示!AN83","v":17885219.8731882},{"$f":"利益演示!AP83","v":17885219.8731882},{"$f":"利益演示!AS83","v":45662328.7273098},{"$f":"利益演示!AT83","v":45662328.7273098},{"$f":"利益演示!AV83","v":45662328.7273098}]
[{"$f":"利益演示!A84","v":74},{"$f":"利益演示!C84","v":89},{"$f":"利益演示!D84","v":0},{"$f":"利益演示!F84","v":0},{"$f":"利益演示!G84","v":0},{"$f":"利益演示!H84","v":0},{"$f":"利益演示!I84+利益演示!J84","v":0},{"$f":"利益演示!Z84","v":0},{"$f":"利益演示!AB84","v":0},{"$f":"利益演示!AG84","v":7118829.4273967},{"$f":"利益演示!AH84","v":7118829.4273967},{"$f":"利益演示!AJ84","v":7118829.4273967},{"$f":"利益演示!AM84","v":18690054.7674817},{"$f":"利益演示!AN84","v":18690054.7674817},{"$f":"利益演示!AP84","v":18690054.7674817},{"$f":"利益演示!AS84","v":48402068.4509484},{"$f":"利益演示!AT84","v":48402068.4509484},{"$f":"利益演示!AV84","v":48402068.4509484}]
[{"$f":"利益演示!A85","v":75},{"$f":"利益演示!C85","v":90},{"$f":"利益演示!D85","v":0},{"$f":"利益演示!F85","v":0},{"$f":"利益演示!G85","v":0},{"$f":"利益演示!H85","v":0},{"$f":"利益演示!I85+利益演示!J85","v":0},{"$f":"利益演示!Z85","v":0},{"$f":"利益演示!AB85","v":0},{"$f":"利益演示!AG85","v":7332394.3102186},{"$f":"利益演示!AH85","v":7332394.3102186},{"$f":"利益演示!AJ85","v":7332394.3102186},{"$f":"利益演示!AM85","v":19531107.2320184},{"$f":"利益演示!AN85","v":19531107.2320184},{"$f":"利益演示!AP85","v":19531107.2320184},{"$f":"利益演示!AS85","v":51306192.5580053},{"$f":"利益演示!AT85","v":51306192.5580053},{"$f":"利益演示!AV85","v":51306192.5580053}]
[{"$f":"利益演示!A86","v":76},{"$f":"利益演示!C86","v":91},{"$f":"利益演示!D86","v":0},{"$f":"利益演示!F86","v":0},{"$f":"利益演示!G86","v":0},{"$f":"利益演示!H86","v":0},{"$f":"利益演示!I86+利益演示!J86","v":0},{"$f":"利益演示!Z86","v":0},{"$f":"利益演示!AB86","v":0},{"$f":"利益演示!AG86","v":7552366.13952515},{"$f":"利益演示!AH86","v":7552366.13952515},{"$f":"利益演示!AJ86","v":7552366.13952515},{"$f":"利益演示!AM86","v":20410007.0574592},{"$f":"利益演示!AN86","v":20410007.0574592},{"$f":"利益演示!AP86","v":20410007.0574592},{"$f":"利益演示!AS86","v":54384564.1114857},{"$f":"利益演示!AT86","v":54384564.1114857},{"$f":"利益演示!AV86","v":54384564.1114857}]
[{"$f":"利益演示!A87","v":77},{"$f":"利益演示!C87","v":92},{"$f":"利益演示!D87","v":0},{"$f":"利益演示!F87","v":0},{"$f":"利益演示!G87","v":0},{"$f":"利益演示!H87","v":0},{"$f":"利益演示!I87+利益演示!J87","v":0},{"$f":"利益演示!Z87","v":0},{"$f":"利益演示!AB87","v":0},{"$f":"利益演示!AG87","v":7778937.12371091},{"$f":"利益演示!AH87","v":7778937.12371091},{"$f":"利益演示!AJ87","v":7778937.12371091},{"$f":"利益演示!AM87","v":21328457.3750449},{"$f":"利益演示!AN87","v":21328457.3750449},{"$f":"利益演示!AP87","v":21328457.3750449},{"$f":"利益演示!AS87","v":57647637.9581748},{"$f":"利益演示!AT87","v":57647637.9581748},{"$f":"利益演示!AV87","v":57647637.9581748}]
[{"$f":"利益演示!A88","v":78},{"$f":"利益演示!C88","v":93},{"$f":"利益演示!D88","v":0},{"$f":"利益演示!F88","v":0},{"$f":"利益演示!G88","v":0},{"$f":"利益演示!H88","v":0},{"$f":"利益演示!I88+利益演示!J88","v":0},{"$f":"利益演示!Z88","v":0},{"$f":"利益演示!AB88","v":0},{"$f":"利益演示!AG88","v":8012305.23742224},{"$f":"利益演示!AH88","v":8012305.23742224},{"$f":"利益演示!AJ88","v":8012305.23742224},{"$f":"利益演示!AM88","v":22288237.9569219},{"$f":"利益演示!AN88","v":22288237.9569219},{"$f":"利益演示!AP88","v":22288237.9569219},{"$f":"利益演示!AS88","v":61106496.2356653},{"$f":"利益演示!AT88","v":61106496.2356653},{"$f":"利益演示!AV88","v":61106496.2356653}]
[{"$f":"利益演示!A89","v":79},{"$f":"利益演示!C89","v":94},{"$f":"利益演示!D89","v":0},{"$f":"利益演示!F89","v":0},{"$f":"利益演示!G89","v":0},{"$f":"利益演示!H89","v":0},{"$f":"利益演示!I89+利益演示!J89","v":0},{"$f":"利益演示!Z89","v":0},{"$f":"利益演示!AB89","v":0},{"$f":"利益演示!AG89","v":8252674.3945449},{"$f":"利益演示!AH89","v":8252674.3945449},{"$f":"利益演示!AJ89","v":8252674.3945449},{"$f":"利益演示!AM89","v":23291208.6649834},{"$f":"利益演示!AN89","v":23291208.6649834},{"$f":"利益演示!AP89","v":23291208.6649834},{"$f":"利益演示!AS89","v":64772886.0098052},{"$f":"利益演示!AT89","v":64772886.0098052},{"$f":"利益演示!AV89","v":64772886.0098052}]
[{"$f":"利益演示!A90","v":80},{"$f":"利益演示!C90","v":95},{"$f":"利益演示!D90","v":0},{"$f":"利益演示!F90","v":0},{"$f":"利益演示!G90","v":0},{"$f":"利益演示!H90","v":0},{"$f":"利益演示!I90+利益演示!J90","v":0},{"$f":"利益演示!Z90","v":0},{"$f":"利益演示!AB90","v":0},{"$f":"利益演示!AG90","v":8500254.62638125},{"$f":"利益演示!AH90","v":8500254.62638125},{"$f":"利益演示!AJ90","v":8500254.62638125},{"$f":"利益演示!AM90","v":24339313.0549076},{"$f":"利益演示!AN90","v":24339313.0549076},{"$f":"利益演示!AP90","v":24339313.0549076},{"$f":"利益演示!AS90","v":68659259.1703935},{"$f":"利益演示!AT90","v":68659259.1703935},{"$f":"利益演示!AV90","v":68659259.1703935}]
[{"$f":"利益演示!A91","v":81},{"$f":"利益演示!C91","v":96},{"$f":"利益演示!D91","v":0},{"$f":"利益演示!F91","v":0},{"$f":"利益演示!G91","v":0},{"$f":"利益演示!H91","v":0},{"$f":"利益演示!I91+利益演示!J91","v":0},{"$f":"利益演示!Z91","v":0},{"$f":"利益演示!AB91","v":0},{"$f":"利益演示!AG91","v":8755262.26517269},{"$f":"利益演示!AH91","v":8755262.26517269},{"$f":"利益演示!AJ91","v":8755262.26517269},{"$f":"利益演示!AM91","v":25434582.1423785},{"$f":"利益演示!AN91","v":25434582.1423785},{"$f":"利益演示!AP91","v":25434582.1423785},{"$f":"利益演示!AS91","v":72778814.7206172},{"$f":"利益演示!AT91","v":72778814.7206172},{"$f":"利益演示!AV91","v":72778814.7206172}]
[{"$f":"利益演示!A92","v":82},{"$f":"利益演示!C92","v":97},{"$f":"利益演示!D92","v":0},{"$f":"利益演示!F92","v":0},{"$f":"利益演示!G92","v":0},{"$f":"利益演示!H92","v":0},{"$f":"利益演示!I92+利益演示!J92","v":0},{"$f":"利益演示!Z92","v":0},{"$f":"利益演示!AB92","v":0},{"$f":"利益演示!AG92","v":9017920.13312787},{"$f":"利益演示!AH92","v":9017920.13312787},{"$f":"利益演示!AJ92","v":9017920.13312787},{"$f":"利益演示!AM92","v":26579138.3387855},{"$f":"利益演示!AN92","v":26579138.3387855},{"$f":"利益演示!AP92","v":26579138.3387855},{"$f":"利益演示!AS92","v":77145543.6038542},{"$f":"利益演示!AT92","v":77145543.6038542},{"$f":"利益演示!AV92","v":77145543.6038542}]
[{"$f":"利益演示!A93","v":83},{"$f":"利益演示!C93","v":98},{"$f":"利益演示!D93","v":0},{"$f":"利益演示!F93","v":0},{"$f":"利益演示!G93","v":0},{"$f":"利益演示!H93","v":0},{"$f":"利益演示!I93+利益演示!J93","v":0},{"$f":"利益演示!Z93","v":0},{"$f":"利益演示!AB93","v":0},{"$f":"利益演示!AG93","v":9288457.73712171},{"$f":"利益演示!AH93","v":9288457.73712171},{"$f":"利益演示!AJ93","v":9288457.73712171},{"$f":"利益演示!AM93","v":27775199.5640308},{"$f":"利益演示!AN93","v":27775199.5640308},{"$f":"利益演示!AP93","v":27775199.5640308},{"$f":"利益演示!AS93","v":81774276.2200855},{"$f":"利益演示!AT93","v":81774276.2200855},{"$f":"利益演示!AV93","v":81774276.2200855}]
[{"$f":"利益演示!A94","v":84},{"$f":"利益演示!C94","v":99},{"$f":"利益演示!D94","v":0},{"$f":"利益演示!F94","v":0},{"$f":"利益演示!G94","v":0},{"$f":"利益演示!H94","v":0},{"$f":"利益演示!I94+利益演示!J94","v":0},{"$f":"利益演示!Z94","v":0},{"$f":"利益演示!AB94","v":0},{"$f":"利益演示!AG94","v":9567111.46923536},{"$f":"利益演示!AH94","v":9567111.46923536},{"$f":"利益演示!AJ94","v":9567111.46923536},{"$f":"利益演示!AM94","v":29025083.5444122},{"$f":"利益演示!AN94","v":29025083.5444122},{"$f":"利益演示!AP94","v":29025083.5444122},{"$f":"利益演示!AS94","v":86680732.7932906},{"$f":"利益演示!AT94","v":86680732.7932906},{"$f":"利益演示!AV94","v":86680732.7932906}]
[{"$f":"利益演示!A95","v":85},{"$f":"利益演示!C95","v":100},{"$f":"利益演示!D95","v":0},{"$f":"利益演示!F95","v":0},{"$f":"利益演示!G95","v":0},{"$f":"利益演示!H95","v":0},{"$f":"利益演示!I95+利益演示!J95","v":0},{"$f":"利益演示!Z95","v":0},{"$f":"利益演示!AB95","v":0},{"$f":"利益演示!AG95","v":9854124.81331242},{"$f":"利益演示!AH95","v":9854124.81331242},{"$f":"利益演示!AJ95","v":9854124.81331242},{"$f":"利益演示!AM95","v":30331212.3039108},{"$f":"利益演示!AN95","v":30331212.3039108},{"$f":"利益演示!AP95","v":30331212.3039108},{"$f":"利益演示!AS95","v":91881576.760888},{"$f":"利益演示!AT95","v":91881576.760888},{"$f":"利益演示!AV95","v":91881576.760888}]
[{"$f":"利益演示!A96","v":86},{"$f":"利益演示!C96","v":101},{"$f":"利益演示!D96","v":0},{"$f":"利益演示!F96","v":0},{"$f":"利益演示!G96","v":0},{"$f":"利益演示!H96","v":0},{"$f":"利益演示!I96+利益演示!J96","v":0},{"$f":"利益演示!Z96","v":0},{"$f":"利益演示!AB96","v":0},{"$f":"利益演示!AG96","v":10149748.5577118},{"$f":"利益演示!AH96","v":10149748.5577118},{"$f":"利益演示!AJ96","v":10149748.5577118},{"$f":"利益演示!AM96","v":31696116.8575867},{"$f":"利益演示!AN96","v":31696116.8575867},{"$f":"利益演示!AP96","v":31696116.8575867},{"$f":"利益演示!AS96","v":97394471.3665413},{"$f":"利益演示!AT96","v":97394471.3665413},{"$f":"利益演示!AV96","v":97394471.3665413}]
[{"$f":"利益演示!A97","v":87},{"$f":"利益演示!C97","v":102},{"$f":"利益演示!D97","v":0},{"$f":"利益演示!F97","v":0},{"$f":"利益演示!G97","v":0},{"$f":"利益演示!H97","v":0},{"$f":"利益演示!I97+利益演示!J97","v":0},{"$f":"利益演示!Z97","v":0},{"$f":"利益演示!AB97","v":0},{"$f":"利益演示!AG97","v":10454241.0144431},{"$f":"利益演示!AH97","v":10454241.0144431},{"$f":"利益演示!AJ97","v":10454241.0144431},{"$f":"利益演示!AM97","v":33122442.1161781},{"$f":"利益演示!AN97","v":33122442.1161781},{"$f":"利益演示!AP97","v":33122442.1161781},{"$f":"利益演示!AS97","v":103238139.648534},{"$f":"利益演示!AT97","v":103238139.648534},{"$f":"利益演示!AV97","v":103238139.648534}]
[{"$f":"利益演示!A98","v":88},{"$f":"利益演示!C98","v":103},{"$f":"利益演示!D98","v":0},{"$f":"利益演示!F98","v":0},{"$f":"利益演示!G98","v":0},{"$f":"利益演示!H98","v":0},{"$f":"利益演示!I98+利益演示!J98","v":0},{"$f":"利益演示!Z98","v":0},{"$f":"利益演示!AB98","v":0},{"$f":"利益演示!AG98","v":10767868.2448764},{"$f":"利益演示!AH98","v":10767868.2448764},{"$f":"利益演示!AJ98","v":10767868.2448764},{"$f":"利益演示!AM98","v":34612952.0114062},{"$f":"利益演示!AN98","v":34612952.0114062},{"$f":"利益演示!AP98","v":34612952.0114062},{"$f":"利益演示!AS98","v":109432428.027446},{"$f":"利益演示!AT98","v":109432428.027446},{"$f":"利益演示!AV98","v":109432428.027446}]
[{"$f":"利益演示!A99","v":89},{"$f":"利益演示!C99","v":104},{"$f":"利益演示!D99","v":0},{"$f":"利益演示!F99","v":0},{"$f":"利益演示!G99","v":0},{"$f":"利益演示!H99","v":0},{"$f":"利益演示!I99+利益演示!J99","v":0},{"$f":"利益演示!Z99","v":0},{"$f":"利益演示!AB99","v":0},{"$f":"利益演示!AG99","v":11090904.2922227},{"$f":"利益演示!AH99","v":11090904.2922227},{"$f":"利益演示!AJ99","v":11090904.2922227},{"$f":"利益演示!AM99","v":36170534.8519194},{"$f":"利益演示!AN99","v":36170534.8519194},{"$f":"利益演示!AP99","v":36170534.8519194},{"$f":"利益演示!AS99","v":115998373.709093},{"$f":"利益演示!AT99","v":115998373.709093},{"$f":"利益演示!AV99","v":115998373.709093}]
[{"$f":"利益演示!A100","v":90},{"$f":"利益演示!C100","v":105},{"$f":"利益演示!D100","v":0},{"$f":"利益演示!F100","v":0},{"$f":"利益演示!G100","v":0},{"$f":"利益演示!H100","v":0},{"$f":"利益演示!I100+利益演示!J100","v":0},{"$f":"利益演示!Z100","v":0},{"$f":"利益演示!AB100","v":0},{"$f":"利益演示!AG100","v":11423631.4209894},{"$f":"利益演示!AH100","v":11423631.4209894},{"$f":"利益演示!AJ100","v":11423631.4209894},{"$f":"利益演示!AM100","v":37798208.9202558},{"$f":"利益演示!AN100","v":37798208.9202558},{"$f":"利益演示!AP100","v":37798208.9202558},{"$f":"利益演示!AS100","v":122958276.131638},{"$f":"利益演示!AT100","v":122958276.131638},{"$f":"利益演示!AV100","v":122958276.131638}]
[{"$f":"利益演示!A101","v":91},{"$f":"利益演示!C101","v":106},{"$f":"利益演示!D101","v":0},{"$f":"利益演示!F101","v":0},{"$f":"利益演示!G101","v":0},{"$f":"利益演示!H101","v":0},{"$f":"利益演示!I101+利益演示!J101","v":0},{"$f":"利益演示!Z101","v":0},{"$f":"利益演示!AB101","v":0},{"$f":"利益演示!AG101","v":11766340.3636191},{"$f":"利益演示!AH101","v":11766340.3636191},{"$f":"利益演示!AJ101","v":11766340.3636191},{"$f":"利益演示!AM101","v":39499128.3216673},{"$f":"利益演示!AN101","v":39499128.3216673},{"$f":"利益演示!AP101","v":39499128.3216673},{"$f":"利益演示!AS101","v":130335772.699536},{"$f":"利益演示!AT101","v":130335772.699536},{"$f":"利益演示!AV101","v":130335772.699536}]
[{"$f":"利益演示!A102","v":92},{"$f":"利益演示!C102","v":107},{"$f":"利益演示!D102","v":0},{"$f":"利益演示!F102","v":0},{"$f":"利益演示!G102","v":0},{"$f":"利益演示!H102","v":0},{"$f":"利益演示!I102+利益演示!J102","v":0},{"$f":"利益演示!Z102","v":0},{"$f":"利益演示!AB102","v":0},{"$f":"利益演示!AG102","v":12119330.5745277},{"$f":"利益演示!AH102","v":12119330.5745277},{"$f":"利益演示!AJ102","v":12119330.5745277},{"$f":"利益演示!AM102","v":41276589.0961423},{"$f":"利益演示!AN102","v":41276589.0961423},{"$f":"利益演示!AP102","v":41276589.0961423},{"$f":"利益演示!AS102","v":138155919.061509},{"$f":"利益演示!AT102","v":138155919.061509},{"$f":"利益演示!AV102","v":138155919.061509}]
[{"$f":"利益演示!A103","v":93},{"$f":"利益演示!C103","v":108},{"$f":"利益演示!D103","v":0},{"$f":"利益演示!F103","v":0},{"$f":"利益演示!G103","v":0},{"$f":"利益演示!H103","v":0},{"$f":"利益演示!I103+利益演示!J103","v":0},{"$f":"利益演示!Z103","v":0},{"$f":"利益演示!AB103","v":0},{"$f":"利益演示!AG103","v":12482910.4917635},{"$f":"利益演示!AH103","v":12482910.4917635},{"$f":"利益演示!AJ103","v":12482910.4917635},{"$f":"利益演示!AM103","v":43134035.6054687},{"$f":"利益演示!AN103","v":43134035.6054687},{"$f":"利益演示!AP103","v":43134035.6054687},{"$f":"利益演示!AS103","v":146445274.205199},{"$f":"利益演示!AT103","v":146445274.205199},{"$f":"利益演示!AV103","v":146445274.205199}]
[{"$f":"利益演示!A104","v":94},{"$f":"利益演示!C104","v":109},{"$f":"利益演示!D104","v":0},{"$f":"利益演示!F104","v":0},{"$f":"利益演示!G104","v":0},{"$f":"利益演示!H104","v":0},{"$f":"利益演示!I104+利益演示!J104","v":0},{"$f":"利益演示!Z104","v":0},{"$f":"利益演示!AB104","v":0},{"$f":"利益演示!AG104","v":12857397.8065164},{"$f":"利益演示!AH104","v":12857397.8065164},{"$f":"利益演示!AJ104","v":12857397.8065164},{"$f":"利益演示!AM104","v":45075067.2077148},{"$f":"利益演示!AN104","v":45075067.2077148},{"$f":"利益演示!AP104","v":45075067.2077148},{"$f":"利益演示!AS104","v":155231990.657511},{"$f":"利益演示!AT104","v":155231990.657511},{"$f":"利益演示!AV104","v":155231990.657511}]
[{"$f":"利益演示!A105","v":95},{"$f":"利益演示!C105","v":110},{"$f":"利益演示!D105","v":0},{"$f":"利益演示!F105","v":0},{"$f":"利益演示!G105","v":0},{"$f":"利益演示!H105","v":0},{"$f":"利益演示!I105+利益演示!J105","v":0},{"$f":"利益演示!Z105","v":0},{"$f":"利益演示!AB105","v":0},{"$f":"利益演示!AG105","v":13243119.7407119},{"$f":"利益演示!AH105","v":13243119.7407119},{"$f":"利益演示!AJ105","v":13243119.7407119},{"$f":"利益演示!AM105","v":47103445.232062},{"$f":"利益演示!AN105","v":47103445.232062},{"$f":"利益演示!AP105","v":47103445.232062},{"$f":"利益演示!AS105","v":164545910.096962},{"$f":"利益演示!AT105","v":164545910.096962},{"$f":"利益演示!AV105","v":164545910.096962}]
[{"$f":"利益演示!A106","v":96},{"$f":"利益演示!C106","v":111},{"$f":"利益演示!D106","v":0},{"$f":"利益演示!F106","v":0},{"$f":"利益演示!G106","v":0},{"$f":"利益演示!H106","v":0},{"$f":"利益演示!I106+利益演示!J106","v":0},{"$f":"利益演示!Z106","v":0},{"$f":"利益演示!AB106","v":0},{"$f":"利益演示!AG106","v":13640413.3329333},{"$f":"利益演示!AH106","v":13640413.3329333},{"$f":"利益演示!AJ106","v":13640413.3329333},{"$f":"利益演示!AM106","v":49223100.2675048},{"$f":"利益演示!AN106","v":49223100.2675048},{"$f":"利益演示!AP106","v":49223100.2675048},{"$f":"利益演示!AS106","v":174418664.70278},{"$f":"利益演示!AT106","v":174418664.70278},{"$f":"利益演示!AV106","v":174418664.70278}]
[{"$f":"利益演示!A107","v":97},{"$f":"利益演示!C107","v":112},{"$f":"利益演示!D107","v":0},{"$f":"利益演示!F107","v":0},{"$f":"利益演示!G107","v":0},{"$f":"利益演示!H107","v":0},{"$f":"利益演示!I107+利益演示!J107","v":0},{"$f":"利益演示!Z107","v":0},{"$f":"利益演示!AB107","v":0},{"$f":"利益演示!AG107","v":14049625.7329213},{"$f":"利益演示!AH107","v":14049625.7329213},{"$f":"利益演示!AJ107","v":14049625.7329213},{"$f":"利益演示!AM107","v":51438139.7795425},{"$f":"利益演示!AN107","v":51438139.7795425},{"$f":"利益演示!AP107","v":51438139.7795425},{"$f":"利益演示!AS107","v":184883784.584946},{"$f":"利益演示!AT107","v":184883784.584946},{"$f":"利益演示!AV107","v":184883784.584946}]
[{"$f":"利益演示!A108","v":98},{"$f":"利益演示!C108","v":113},{"$f":"利益演示!D108","v":0},{"$f":"利益演示!F108","v":0},{"$f":"利益演示!G108","v":0},{"$f":"利益演示!H108","v":0},{"$f":"利益演示!I108+利益演示!J108","v":0},{"$f":"利益演示!Z108","v":0},{"$f":"利益演示!AB108","v":0},{"$f":"利益演示!AG108","v":14471114.5049089},{"$f":"利益演示!AH108","v":14471114.5049089},{"$f":"利益演示!AJ108","v":14471114.5049089},{"$f":"利益演示!AM108","v":53752856.0696219},{"$f":"利益演示!AN108","v":53752856.0696219},{"$f":"利益演示!AP108","v":53752856.0696219},{"$f":"利益演示!AS108","v":195976811.660043},{"$f":"利益演示!AT108","v":195976811.660043},{"$f":"利益演示!AV108","v":195976811.660043}]
[{"$f":"利益演示!A109","v":99},{"$f":"利益演示!C109","v":114},{"$f":"利益演示!D109","v":0},{"$f":"利益演示!F109","v":0},{"$f":"利益演示!G109","v":0},{"$f":"利益演示!H109","v":0},{"$f":"利益演示!I109+利益演示!J109","v":0},{"$f":"利益演示!Z109","v":0},{"$f":"利益演示!AB109","v":0},{"$f":"利益演示!AG109","v":14905247.9400562},{"$f":"利益演示!AH109","v":14905247.9400562},{"$f":"利益演示!AJ109","v":14905247.9400562},{"$f":"利益演示!AM109","v":56171734.5927549},{"$f":"利益演示!AN109","v":56171734.5927549},{"$f":"利益演示!AP109","v":56171734.5927549},{"$f":"利益演示!AS109","v":207735420.359646},{"$f":"利益演示!AT109","v":207735420.359646},{"$f":"利益演示!AV109","v":207735420.359646}]
[{"$f":"利益演示!A110","v":100},{"$f":"利益演示!C110","v":115},{"$f":"利益演示!D110","v":0},{"$f":"利益演示!F110","v":0},{"$f":"利益演示!G110","v":0},{"$f":"利益演示!H110","v":0},{"$f":"利益演示!I110+利益演示!J110","v":0},{"$f":"利益演示!Z110","v":0},{"$f":"利益演示!AB110","v":0},{"$f":"利益演示!AG110","v":15352405.3782578},{"$f":"利益演示!AH110","v":15352405.3782578},{"$f":"利益演示!AJ110","v":15352405.3782578},{"$f":"利益演示!AM110","v":58699462.6494289},{"$f":"利益演示!AN110","v":58699462.6494289},{"$f":"利益演示!AP110","v":58699462.6494289},{"$f":"利益演示!AS110","v":220199545.581224},{"$f":"利益演示!AT110","v":220199545.581224},{"$f":"利益演示!AV110","v":220199545.581224}]
[{"$f":"利益演示!A111","v":101},{"$f":"利益演示!C111","v":116},{"$f":"利益演示!D111","v":0},{"$f":"利益演示!F111","v":0},{"$f":"利益演示!G111","v":0},{"$f":"利益演示!H111","v":0},{"$f":"利益演示!I111+利益演示!J111","v":0},{"$f":"利益演示!Z111","v":0},{"$f":"利益演示!AB111","v":0},{"$f":"利益演示!AG111","v":15812977.5396056},{"$f":"利益演示!AH111","v":15812977.5396056},{"$f":"利益演示!AJ111","v":15812977.5396056},{"$f":"利益演示!AM111","v":61340938.4686531},{"$f":"利益演示!AN111","v":61340938.4686531},{"$f":"利益演示!AP111","v":61340938.4686531},{"$f":"利益演示!AS111","v":233411518.316098},{"$f":"利益演示!AT111","v":233411518.316098},{"$f":"利益演示!AV111","v":233411518.316098}]
[{"$f":"利益演示!A112","v":102},{"$f":"利益演示!C112","v":117},{"$f":"利益演示!D112","v":0},{"$f":"利益演示!F112","v":0},{"$f":"利益演示!G112","v":0},{"$f":"利益演示!H112","v":0},{"$f":"利益演示!I112+利益演示!J112","v":0},{"$f":"利益演示!Z112","v":0},{"$f":"利益演示!AB112","v":0},{"$f":"利益演示!AG112","v":16287366.8657938},{"$f":"利益演示!AH112","v":16287366.8657938},{"$f":"利益演示!AJ112","v":16287366.8657938},{"$f":"利益演示!AM112","v":64101280.6997425},{"$f":"利益演示!AN112","v":64101280.6997425},{"$f":"利益演示!AP112","v":64101280.6997425},{"$f":"利益演示!AS112","v":247416209.415064},{"$f":"利益演示!AT112","v":247416209.415064},{"$f":"利益演示!AV112","v":247416209.415064}]
[{"$f":"利益演示!A113","v":103},{"$f":"利益演示!C113","v":118},{"$f":"利益演示!D113","v":0},{"$f":"利益演示!F113","v":0},{"$f":"利益演示!G113","v":0},{"$f":"利益演示!H113","v":0},{"$f":"利益演示!I113+利益演示!J113","v":0},{"$f":"利益演示!Z113","v":0},{"$f":"利益演示!AB113","v":0},{"$f":"利益演示!AG113","v":16775987.8717676},{"$f":"利益演示!AH113","v":16775987.8717676},{"$f":"利益演示!AJ113","v":16775987.8717676},{"$f":"利益演示!AM113","v":66985838.3312309},{"$f":"利益演示!AN113","v":66985838.3312309},{"$f":"利益演示!AP113","v":66985838.3312309},{"$f":"利益演示!AS113","v":262261181.979968},{"$f":"利益演示!AT113","v":262261181.979968},{"$f":"利益演示!AV113","v":262261181.979968}]
[{"$f":"利益演示!A114","v":104},{"$f":"利益演示!C114","v":119},{"$f":"利益演示!D114","v":0},{"$f":"利益演示!F114","v":0},{"$f":"利益演示!G114","v":0},{"$f":"利益演示!H114","v":0},{"$f":"利益演示!I114+利益演示!J114","v":0},{"$f":"利益演示!Z114","v":0},{"$f":"利益演示!AB114","v":0},{"$f":"利益演示!AG114","v":17279267.5079206},{"$f":"利益演示!AH114","v":17279267.5079206},{"$f":"利益演示!AJ114","v":17279267.5079206},{"$f":"利益演示!AM114","v":70000201.0561363},{"$f":"利益演示!AN114","v":70000201.0561363},{"$f":"利益演示!AP114","v":70000201.0561363},{"$f":"利益演示!AS114","v":277996852.898766},{"$f":"利益演示!AT114","v":277996852.898766},{"$f":"利益演示!AV114","v":277996852.898766}]
[{"$f":"利益演示!A115","v":105},{"$f":"利益演示!C115","v":120},{"$f":"利益演示!D115","v":0},{"$f":"利益演示!F115","v":0},{"$f":"利益演示!G115","v":0},{"$f":"利益演示!H115","v":0},{"$f":"利益演示!I115+利益演示!J115","v":0},{"$f":"利益演示!Z115","v":0},{"$f":"利益演示!AB115","v":0},{"$f":"利益演示!AG115","v":17797645.5331582},{"$f":"利益演示!AH115","v":17797645.5331582},{"$f":"利益演示!AJ115","v":17797645.5331582},{"$f":"利益演示!AM115","v":73150210.1036625},{"$f":"利益演示!AN115","v":73150210.1036625},{"$f":"利益演示!AP115","v":73150210.1036625},{"$f":"利益演示!AS115","v":294676664.072692},{"$f":"利益演示!AT115","v":294676664.072692},{"$f":"利益演示!AV115","v":294676664.072692}]
[106,106,0,0,0,0,0,null,0,0,0,0,10105,2161384.58058363,2161384.58058363,2161384.58058363,9006479.79131676,9006479.79131676,9006479.79131676,36800728.8422696,36800728.8422696,36800728.8422696]
[]
[]
[]
[]
["本公司重要声明"]
["1.本产品不收取保单管理费。\n2.上表中所涉及的演示利率中，结算利率（低）为年利率3.0%（最低保证利率），结算利率（中）为年利率4.5%，结算利率（高）为年利率6.0%。\n3.以上利益演示是基于公司的精算及其他假设，不代表公司的历史经营业绩，也不代表对公司未来经营业绩的预期，最低保证利率之上的投资收益是不确定的，实际保单账户利益可能低于中、高档利益演示水平。实际的账户结算利率以本公司公布的为准。"]
[]
[]
[]
[]
[]
[null,null,null,null,null,"代理公司名称",null,null,null,"代理人姓名",null,null,"代理人电话"]
[null,null,null,null,null,{"$f":"填写页面!D17","v":"永鑫"},null,null,null,{"$f":"填写页面!I17","v":"金先生"},null,null,{"$f":"填写页面!N17","v":"13900000000"}]

{"sheet":"封底","index":4,"n_rows":0,"n_cols":0,"rows_kept":0,"cut":false,"hidden":false,"merged":[]}

{"sheet":"sh1","index":5,"n_rows":4061,"n_cols":24,"rows_kept":4061,"cut":false,"hidden":true,"merged":[]}
["INSTERM","PRMTERM","SEX","ISSAGE","PAYDAY","POLYR","SA","CASHVALUE","n/n+1年现价比","n/n年保额现价比","&",null,null,"特别生存金",null,null,"风险保险费"]
[10,1,0,0,5,1,190.27,825.16,null,0.230585583402007,"1|0|0|1",null,null,1,0.2,null,"性别","到达年龄","风险保险费",null,null,"男",1,1]
[10,1,0,0,5,2,190.27,870.47,1.05491056279994,0.218583064321573,"1|0|0|2",null,null,3,0.6,null,0,0,0.62,null,null,"女",3]
[10,1,0,0,5,3,190.27,918.31,1.05495881535263,0.207195827117204,"1|0|0|3",null,null,5,1,null,0,1,0.47,null,null,null,5]
[10,1,0,0,5,4,190.27,968.8,1.05498143328506,0.196397605284889,"1|0|0|4",null,null,null,null,null,0,2,0.35]
[10,1,0,0,5,5,190.27,822.08,0.848554913294798,0.231449493966524,"1|0|0|5",null,null,"手续费",null,null,0,3,0.28]
[10,1,0,0,5,6,190.27,667.26,0.811672829894901,0.285151215418278,"1|0|0|6",null,null,1,0.95,null,0,4,0.23]
[10,1,0,0,5,7,190.27,513.64,0.769774900338699,0.370434545596137,"1|0|0|7",null,null,2,0.97,null,0,5,0.2]
[10,1,0,0,5,8,190.27,351.54,0.684409313916362,0.541247084257837,"1|0|0|8",null,null,3,0.98,null,0,6,0.18]
[10,1,0,0,5,9,190.27,180.49,0.513426637082551,1.05418582746967,"1|0|0|9",null,null,4,0.99,null,0,7,0.17]
[10,1,0,0,5,10,190.27,0,0,0,"1|0|0|10",null,null,5,0.99,null,0,8,0.17]
[10,1,0,1,6,1,190.27,825.15,0,0.23058837787069,"1|0|1|1",null,null,6,1,null,0,9,0.18]
[10,1,0,1,6,2,190.27,870.48,1.05493546627886,0.218580553257973,"1|0|1|2",null,null,null,null,null,0,10,0.19]
[10,1,0,1,6,3,190.27,918.32,1.05495818399044,0.207193570868543,"1|0|1|3",null,null,null,null,null,0,11,0.2]
[10,1,0,1,6,4,190.27,968.82,1.05499172401777,0.196393550917611,"1|0|1|4",null,null,"给付比例",null,null,0,12,0.22]
[10,1,0,1,6,5,190.27,822.1,0.848558039677133,0.231443863276974,"1|0|1|5",null,null,0,1.2,null,0,13,0.24]
[10,1,0,1,6,6,190.27,667.29,0.811689575477436,0.285138395600114,"1|0|1|6",null,null,18,1.6,null,0,14,0.26]
[10,1,0,1,6,7,190.27,513.66,0.76977026480241,0.370420122259861,"1|0|1|7",null,null,41,1.4,null,0,15,0.28]
[10,1,0,1,6,8,190.27,351.56,0.684421601837792,0.54121629309364,"1|0|1|8",null,null,61,1.2,null,0,16,0.3]
[10,1,0,1,6,9,190.27,180.5,0.513425873250654,1.05412742382271,"1|0|1|9",null,null,null,null,null,0,17,0.32]
[10,1,0,1,6,10,190.27,0,0,0,"1|0|1|10",null,null,null,null,null,0,18,0.33]
[10,1,0,2,7,1,190.27,825.14,0,0.230591172407107,"1|0|2|1",null,null,null,null,null,0,19,0.35]
[10,1,0,2,7,2,190.27,870.48,1.05494825120586,0.218580553257973,"1|0|2|2",null,null,null,null,null,0,20,0.36]
[10,1,0,2,7,3,190.27,918.33,1.05496967190516,0.207191314669019,"1|0|2|3",null,null,null,null,null,0,21,0.38]
[10,1,0,2,7,4,190.27,968.83,1.05499112519465,0.196391523796745,"1|0|2|4",null,null,null,null,null,0,22,0.39]
[10,1,0,2,7,5,190.27,822.11,0.848559602819896,0.231441048034935,"1|0|2|5",null,null,null,null,null,0,23,0.41]
[10,1,0,2,7,6,190.27,667.3,0.811691866051988,0.285134122583546,"1|0|2|6",null,null,null,null,null,0,24,0.43]
[10,1,0,2,7,7,190.27,513.68,0.769788700734302,0.370405700046722,"1|0|2|7",null,null,null,null,null,0,25,0.45]
[10,1,0,2,7,8,190.27,351.57,0.684414421429684,0.54120089882527,"1|0|2|8",null,null,null,null,null,0,26,0.47]
[10,1,0,2,7,9,190.27,180.51,0.513439713286117,1.05406902664672,"1|0|2|9",null,null,null,null,null,0,27,0.5]
[10,1,0,2,7,10,190.27,0,0,0,"1|0|2|10",null,null,null,null,null,0,28,0.53]
[10,1,0,3,8,1,190.27,825.14,0,0.230591172407107,"1|0|3|1",null,null,null,null,null,0,29,0.56]
[10,1,0,3,8,2,190.27,870.49,1.05496037036139,0.218578042252065,"1|0|3|2",null,null,null,null,null,0,30,0.6]
[10,1,0,3,8,3,190.27,918.34,1.05496904042551,0.207189058518631,"1|0|3|3",null,null,null,null,null,0,31,0.64]
[10,1,0,3,8,4,190.27,968.84,1.05499052638456,0.196389496717724,"1|0|3|4",null,null,null,null,null,0,32,0.68]
[10,1,0,3,8,5,190.27,822.12,0.848561165930391,0.231438232861383,"1|0|3|5",null,null,null,null,null,0,33,0.73]
[10,1,0,3,8,6,190.27,667.31,0.811694156570817,0.285129849695044,"1|0|3|6",null,null,null,null,null,0,34,0.79]
[10,1,0,3,8,7,190.27,513.69,0.769792150574696,0.370398489361288,"1|0|3|7",null,null,null,null,null,0,35,0.85]
[10,1,0,3,8,8,190.27,351.59,0.68444003192587,0.541170112915612,"1|0|3|8",null,null,null,null,null,0,36,0.92]
[10,1,0,3,8,9,190.27,180.52,0.513438948775563,1.05401063594062,"1|0|3|9",null,null,null,null,null,0,37,1]
[10,1,0,3,8,10,190.27,0,0,0,"1|0|3|10",null,null,null,null,null,0,38,1.08]
[10,1,0,4,9,1,190.26,825.14,0,0.230579053251569,"1|0|4|1",null,null,null,null,null,0,39,1.17]
[10,1,0,4,9,2,190.26,870.49,1.05496037036139,0.218566554469322,"1|0|4|2",null,null,null,null,null,0,40,1.27]
[10,1,0,4,9,3,190.26,918.35,1.05498052820825,0.207175913322807,"1|0|4|3",null,null,null,null,null,0,41,1.38]
[10,1,0,4,9,4,190.26,968.85,1.05498992758752,0.196377148165351,"1|0|4|4",null,null,null,null,null,0,42,1.5]
[10,1,0,4,9,5,190.26,822.13,0.848562729008618,0.231423254229866,"1|0|4|5",null,null,null,null,null,0,43,1.63]
[10,1,0,4,9,6,190.26,667.32,0.811696447033924,0.285110591620212,"1|0|4|6",null,null,null,null,null,0,44,1.77]
[10,1,0,4,9,7,190.26,513.7,0.769795600311695,0.370371812341834,"1|0|4|7",null,null,null,null,null,0,45,1.93]
[10,1,0,4,9,8,190.26,351.6,0.684446174810201,0.541126279863481,"1|0|4|8",null,null,null,null,null,0,46,2.1]
[10,1,0,4,9,9,190.26,180.53,0.513452787258248,1.05389685924777,"1|0|4|9",null,null,null,null,null,0,47,2.28]
[10,1,0,4,9,10,190.26,0,0,0,"1|0|4|10",null,null,null,null,null,0,48,2.47]
[10,1,0,5,10,1,190.25,825.14,0,0.230566934096032,"1|0|5|1",null,null,null,null,null,0,49,2.68]
[10,1,0,5,10,2,190.25,870.49,1.05496037036139,0.218555066686579,"1|0|5|2",null,null,null,null,null,0,50,2.91]
[10,1,0,5,10,3,190.25,918.35,1.05498052820825,0.207165024228235,"1|0|5|3",null,null,null,null,null,0,51,3.15]
[10,1,0,5,10,4,190.25,968.85,1.05498992758752,0.196366826650152,"1|0|5|4",null,null,null,null,null,0,52,3.41]
[10,1,0,5,10,5,190.25,822.14,0.848573050523817,0.231408275962731,"1|0|5|5",null,null,null,null,null,0,53,3.69]
[10,1,0,5,10,6,190.25,667.32,0.811686574062812,0.28509560630582,"1|0|5|6",null,null,null,null,null,0,54,3.98]
[10,1,0,5,10,7,190.25,513.71,0.769810585626086,0.370345136360982,"1|0|5|7",null,null,null,null,null,0,55,4.3]
[10,1,0,5,10,8,190.25,351.61,0.684452317455374,0.541082449304627,"1|0|5|8",null,null,null,null,null,0,56,4.64]
[10,1,0,5,10,9,190.25,180.54,0.513466624953784,1.05378309515897,"1|0|5|9",null,null,null,null,null,0,57,5]
[10,1,0,5,10,10,190.25,0,0,0,"1|0|5|10",null,null,null,null,null,0,58,5.39]
[10,1,0,6,11,1,190.24,825.14,0,0.230554814940495,"1|0|6|1",null,null,null,null,null,0,59,5.81]
[10,1,0,6,11,2,190.24,870.5,1.05497248951693,0.218541068351522,"1|0|6|2",null,null,null,null,null,0,60,6.26]
[10,1,0,6,11,3,190.24,918.36,1.05497989661114,0.207151879437258,"1|0|6|3",null,null,null,null,null,0,61,6.74]
[10,1,0,6,11,4,190.24,968.85,1.05497843982752,0.196356505134954,"1|0|6|4",null,null,null,null,null,0,62,7.26]
[10,1,0,6,11,5,190.24,822.14,0.848573050523817,0.231396112584231,"1|0|6|5",null,null,null,null,null,0,63,7.82]
[10,1,0,6,11,6,190.24,667.33,0.811698737441312,0.285076349032712,"1|0|6|6",null,null,null,null,null,0,64,8.41]
[10,1,0,6,11,7,190.24,513.72,0.76981403503514,0.370318461418672,"1|0|6|7",null,null,null,null,null,0,65,9.04]
[10,1,0,6,11,8,190.24,351.62,0.684458459861403,0.541038621238837,"1|0|6|8",null,null,null,null,null,0,66,9.74]
[10,1,0,6,11,9,190.24,180.54,0.513452022069279,1.05372770577157,"1|0|6|9",null,null,null,null,null,0,67,10.54]
[10,1,0,6,11,10,190.24,0,0,0,"1|0|6|10",null,null,null,null,null,0,68,11.5]
[10,1,0,7,12,1,190.23,825.14,0,0.230542695784958,"1|0|7|1",null,null,null,null,null,0,69,12.69]
[10,1,0,7,12,2,190.23,870.5,1.05497248951693,0.218529580700747,"1|0|7|2",null,null,null,null,null,0,70,14.19]
[10,1,0,7,12,3,190.23,918.36,1.05497989661114,0.207140990461257,"1|0|7|3",null,null,null,null,null,0,71,16.11]
[10,1,0,7,12,4,190.23,968.86,1.05498932880352,0.196344157050554,"1|0|7|4",null,null,null,null,null,0,72,18.52]
[10,1,0,7,12,5,190.23,822.14,0.84856429205458,0.231383949205731,"1|0|7|5",null,null,null,null,null,0,73,21.51]
[10,1,0,7,12,6,190.23,667.33,0.811698737441312,0.285061363942877,"1|0|7|6",null,null,null,null,null,0,74,25.15]
[10,1,0,7,12,7,190.23,513.72,0.76981403503514,0.370298995561785,"1|0|7|7",null,null,null,null,null,0,75,29.49]
[10,1,0,7,12,8,190.23,351.62,0.684458459861403,0.541010181445879,"1|0|7|8",null,null,null,null,null,0,76,34.55]
[10,1,0,7,12,9,190.23,180.55,0.513480461862238,1.05361395735253,"1|0|7|9",null,null,null,null,null,0,77,40.31]
[10,1,0,7,12,10,190.23,0,0,0,"1|0|7|10",null,null,null,null,null,0,78,46.75]
[10,1,0,8,13,1,190.22,825.15,0,0.230527782827365,"1|0|8|1",null,null,null,null,null,0,79,53.8]
[10,1,0,8,13,2,190.22,870.51,1.05497182330485,0.218515582819267,"1|0|8|2",null,null,null,null,null,0,80,61.4]
[10,1,0,8,13,3,190.22,918.36,1.05496777750974,0.207130101485256,"1|0|8|3",null,null,null,null,null,0,81,69.49]
[10,1,0,8,13,4,190.22,968.86,1.05498932880352,0.196333835641888,"1|0|8|4",null,null,null,null,null,0,82,77.99]
[10,1,0,8,13,5,190.22,822.15,0.848574613463245,0.231368971598857,"1|0|8|5",null,null,null,null,null,0,83,86.87]
[10,1,0,8,13,6,190.22,667.33,0.811688864562428,0.285046378853041,"1|0|8|6",null,null,null,null,null,0,84,86.87]
[10,1,0,8,13,7,190.22,513.73,0.769829020124976,0.370272322036868,"1|0|8|7",null,null,null,null,null,0,85,86.87]
[10,1,0,8,13,8,190.22,351.63,0.684464602028303,0.540966356681739,"1|0|8|8",null,null,null,null,null,0,86,86.87]
[10,1,0,8,13,9,190.22,180.55,0.513465858999517,1.05355857103295,"1|0|8|9",null,null,null,null,null,0,87,86.87]
[10,1,0,8,13,10,190.22,0,0,0,"1|0|8|10",null,null,null,null,null,0,88,86.87]
[10,1,0,9,14,1,190.21,825.15,0,0.2305156638187,"1|0|9|1",null,null,null,null,null,0,89,86.87]
[10,1,0,9,14,2,190.21,870.51,1.05497182330485,0.218504095300456,"1|0|9|2",null,null,null,null,null,0,90,86.87]
[10,1,0,9,14,3,190.21,918.37,1.05497926502855,0.207116957217679,"1|0|9|3",null,null,null,null,null,0,91,86.87]
[10,1,0,9,14,4,190.21,968.86,1.05497784117513,0.196323514233223,"1|0|9|4",null,null,null,null,null,0,92,86.87]
[10,1,0,9,14,5,190.21,822.15,0.848574613463245,0.231356808368303,"1|0|9|5",null,null,null,null,null,0,93,86.87]
[10,1,0,9,14,6,190.21,667.33,0.811688864562428,0.285031393763206,"1|0|9|6",null,null,null,null,null,0,94,86.87]
[10,1,0,9,14,7,190.21,513.73,0.769829020124976,0.370252856558893,"1|0|9|7",null,null,null,null,null,0,95,86.87]
[10,1,0,9,14,8,190.21,351.63,0.684464602028303,0.54093791769758,"1|0|9|8",null,null,null,null,null,0,96,86.87]
[10,1,0,9,14,9,190.21,180.56,0.513494297983676,1.0534448382809,"1|0|9|9",null,null,null,null,null,0,97,86.87]
[10,1,0,9,14,10,190.21,0,0,0,"1|0|9|10",null,null,null,null,null,0,98,86.87]
[10,1,0,10,15,1,190.2,825.16,0,0.230500751369431,"1|0|10|1",null,null,null,null,null,0,99,86.87]
[10,1,0,10,15,2,190.2,870.51,1.05495903824713,0.218492607781645,"1|0|10|2",null,null,null,null,null,0,100,86.87]
[10,1,0,10,15,3,190.2,918.37,1.05497926502855,0.207106068360247,"1|0|10|3",null,null,null,null,null,0,101,86.87]
[10,1,0,10,15,4,190.2,968.86,1.05497784117513,0.196313192824557,"1|0|10|4",null,null,null,null,null,0,102,86.87]
[10,1,0,10,15,5,190.2,822.15,0.848574613463245,0.231344645137749,"1|0|10|5",null,null,null,null,null,0,103,86.87]
[10,1,0,10,15,6,190.2,667.32,0.811676701331874,0.285020679733861,"1|0|10|6",null,null,null,null,null,0,104,86.87]
[10,1,0,10,15,7,190.2,513.73,0.76984055625487,0.370233391080918,"1|0|10|7",null,null,null,null,null,0,105,86.87]
[10,1,0,10,15,8,190.2,351.63,0.684464602028303,0.54090947871342,"1|0|10|8",null,null,null,null,null,1,0,0.46]
[10,1,0,10,15,9,190.2,180.56,0.513494297983676,1.0533894550288,"1|0|10|9",null,null,null,null,null,1,1,0.32]
[10,1,0,10,15,10,190.2,0,0,0,"1|0|10|10",null,null,null,null,null,1,2,0.24]
[10,1,0,11,16,1,190.19,825.17,0,0.230485839281603,"1|0|11|1",null,null,null,null,null,1,3,0.18]
[10,1,0,11,16,2,190.19,870.52,1.05495837221421,0.218478610485687,"1|0|11|2",null,null,null,null,null,1,4,0.15]
[10,1,0,11,16,3,190.19,918.37,1.05496714607361,0.207095179502815,"1|0|11|3",null,null,null,null,null,1,5,0.13]
[10,1,0,11,16,4,190.19,968.86,1.05497784117513,0.196302871415891,"1|0|11|4",null,null,null,null,null,1,6,0.12]
[10,1,0,11,16,5,190.19,822.15,0.848574613463245,0.231332481907195,"1|0|11|5",null,null,null,null,null,1,7,0.11]
[10,1,0,11,16,6,190.19,667.32,0.811676701331874,0.285005694419469,"1|0|11|6",null,null,null,null,null,1,8,0.11]
[10,1,0,11,16,7,190.19,513.73,0.76984055625487,0.370213925602943,"1|0|11|7",null,null,null,null,null,1,9,0.1]
[10,1,0,11,16,8,190.19,351.64,0.684484067506278,0.540865658059379,"1|0|11|8",null,null,null,null,null,1,10,0.1]
[10,1,0,11,16,9,190.19,180.56,0.51347969514276,1.05333407177669,"1|0|11|9",null,null,null,null,null,1,11,0.11]
[10,1,0,11,16,10,190.19,0,0,0,"1|0|11|10",null,null,null,null,null,1,12,0.11]
[10,1,0,12,17,1,190.18,825.17,0,0.230473720566671,"1|0|12|1",null,null,null,null,null,1,13,0.12]
[10,1,0,12,17,2,190.18,870.52,1.05495837221421,0.218467123098837,"1|0|12|2",null,null,null,null,null,1,14,0.12]
[10,1,0,12,17,3,190.18,918.37,1.05496714607361,0.207084290645383,"1|0|12|3",null,null,null,null,null,1,15,0.13]
[10,1,0,12,17,4,190.18,968.86,1.05497784117513,0.196292550007225,"1|0|12|4",null,null,null,null,null,1,16,0.14]
[10,1,0,12,17,5,190.18,822.15,0.848574613463245,0.231320318676641,"1|0|12|5",null,null,null,null,null,1,17,0.14]
[10,1,0,12,17,6,190.18,667.32,0.811676701331874,0.284990709105077,"1|0|12|6",null,null,null,null,null,1,18,0.15]
[10,1,0,12,17,7,190.18,513.73,0.76984055625487,0.370194460124968,"1|0|12|7",null,null,null,null,null,1,19,0.16]
[10,1,0,12,17,8,190.18,351.64,0.684484067506278,0.540837219883972,"1|0|12|8",null,null,null,null,null,1,20,0.16]
[10,1,0,12,17,9,190.18,180.56,0.51347969514276,1.05327868852459,"1|0|12|9",null,null,null,null,null,1,21,0.17]
[10,1,0,12,17,10,190.18,0,0,0,"1|0|12|10",null,null,null,null,null,1,22,0.18]
[10,1,0,13,18,1,190.17,825.18,0,0.23045880898713,"1|0|13|1",null,null,null,null,null,1,23,0.19]
[10,1,0,13,18,2,190.17,870.52,1.05494558762937,0.218455635711988,"1|0|13|2",null,null,null,null,null,1,24,0.19]
[10,1,0,13,18,3,190.17,918.37,1.05496714607361,0.20707340178795,"1|0|13|3",null,null,null,null,null,1,25,0.2]
[10,1,0,13,18,4,190.17,968.86,1.05497784117513,0.196282228598559,"1|0|13|4",null,null,null,null,null,1,26,0.21]
[10,1,0,13,18,5,190.17,822.15,0.848574613463245,0.231308155446086,"1|0|13|5",null,null,null,null,null,1,27,0.22]
[10,1,0,13,18,6,190.17,667.31,0.81166453810132,0.284979994305495,"1|0|13|6",null,null,null,null,null,1,28,0.23]
[10,1,0,13,18,7,190.17,513.73,0.769852092730515,0.370174994646993,"1|0|13|7",null,null,null,null,null,1,29,0.24]
[10,1,0,13,18,8,190.17,351.64,0.684484067506278,0.540808781708566,"1|0|13|8",null,null,null,null,null,1,30,0.25]
[10,1,0,13,18,9,190.17,180.57,0.513508133318166,1.05316497757103,"1|0|13|9",null,null,null,null,null,1,31,0.26]
[10,1,0,13,18,10,190.17,0,0,0,"1|0|13|10",null,null,null,null,null,1,32,0.28]
[10,1,0,14,19,1,190.16,825.18,0,0.23044669041906,"1|0|14|1",null,null,null,null,null,1,33,0.3]
[10,1,0,14,19,2,190.16,870.52,1.05494558762937,0.218444148325139,"1|0|14|2",null,null,null,null,null,1,34,0.32]
[10,1,0,14,19,3,190.16,918.37,1.05496714607361,0.207062512930518,"1|0|14|3",null,null,null,null,null,1,35,0.35]
[10,1,0,14,19,4,190.16,968.86,1.05497784117513,0.196271907189893,"1|0|14|4",null,null,null,null,null,1,36,0.38]
[10,1,0,14,19,5,190.16,822.15,0.848574613463245,0.231295992215532,"1|0|14|5",null,null,null,null,null,1,37,0.41]
[10,1,0,14,19,6,190.16,667.31,0.81166453810132,0.28496500876654,"1|0|14|6",null,null,null,null,null,1,38,0.45]
[10,1,0,14,19,7,190.16,513.74,0.76986707826947,0.370148324054969,"1|0|14|7",null,null,null,null,null,1,39,0.49]
[10,1,0,14,19,8,190.16,351.65,0.684490209055164,0.540764965164226,"1|0|14|8",null,null,null,null,null,1,40,0.54]
[10,1,0,14,19,9,190.16,180.57,0.513493530499076,1.05310959738606,"1|0|14|9",null,null,null,null,null,1,41,0.6]
[10,1,0,14,19,10,190.16,0,0,0,"1|0|14|10",null,null,null,null,null,1,42,0.65]
[10,1,0,15,20,1,190.15,825.19,0,0.230431779347787,"1|0|15|1",null,null,null,null,null,1,43,0.72]
[10,1,0,15,20,2,190.15,870.53,1.05494492177559,0.218430151746637,"1|0|15|2",null,null,null,null,null,1,44,0.78]
[10,1,0,15,20,3,190.15,918.37,1.0549550273971,0.207051624073086,"1|0|15|3",null,null,null,null,null,1,45,0.86]
[10,1,0,15,20,4,190.15,968.86,1.05497784117513,0.196261585781227,"1|0|15|4",null,null,null,null,null,1,46,0.94]
[10,1,0,15,20,5,190.15,822.15,0.848574613463245,0.231283828984978,"1|0|15|5",null,null,null,null,null,1,47,1.02]
[10,1,0,15,20,6,190.15,667.31,0.81166453810132,0.284950023227585,"1|0|15|6",null,null,null,null,null,1,48,1.11]
[10,1,0,15,20,7,190.15,513.74,0.76986707826947,0.370128858955892,"1|0|15|7",null,null,null,null,null,1,49,1.21]
[10,1,0,15,20,8,190.15,351.65,0.684490209055164,0.540736527797526,"1|0|15|8",null,null,null,null,null,1,50,1.32]
[10,1,0,15,20,9,190.15,180.58,0.513521967865776,1.05299590209326,"1|0|15|9",null,null,null,null,null,1,51,1.44]
[10,1,0,15,20,10,190.15,0,0,0,"1|0|15|10",null,null,null,null,null,1,52,1.57]
[10,1,0,16,21,1,190.14,825.19,0,0.230419660926574,"1|0|16|1",null,null,null,null,null,1,53,1.71]
[10,1,0,16,21,2,190.14,870.53,1.05494492177559,0.218418664491746,"1|0|16|2",null,null,null,null,null,1,54,1.86]
[10,1,0,16,21,3,190.14,918.37,1.0549550273971,0.207040735215654,"1|0|16|3",null,null,null,null,null,1,55,2.03]
[10,1,0,16,21,4,190.14,968.86,1.05497784117513,0.196251264372562,"1|0|16|4",null,null,null,null,null,1,56,2.21]
[10,1,0,16,21,5,190.14,822.15,0.848574613463245,0.231271665754424,"1|0|16|5",null,null,null,null,null,1,57,2.4]
[10,1,0,16,21,6,190.14,667.3,0.811652374870766,0.284939307657725,"1|0|16|6",null,null,null,null,null,1,58,2.61]
[10,1,0,16,21,7,190.14,513.74,0.76987861531545,0.370109393856815,"1|0|16|7",null,null,null,null,null,1,59,2.84]
[10,1,0,16,21,8,190.14,351.66,0.684509674154241,0.54069271455383,"1|0|16|8",null,null,null,null,null,1,60,3.09]
[10,1,0,16,21,9,190.14,180.58,0.513507365068532,1.05294052497508,"1|0|16|9",null,null,null,null,null,1,61,3.37]
[10,1,0,16,21,10,190.14,0,0,0,"1|0|16|10",null,null,null,null,null,1,62,3.68]
[10,1,0,17,22,1,190.13,825.2,0,0.230404750363548,"1|0|17|1",null,null,null,null,null,1,63,4.06]
[10,1,0,17,22,2,190.13,870.53,1.0549321376636,0.218407177236856,"1|0|17|2",null,null,null,null,null,1,64,4.5]
[10,1,0,17,22,3,190.13,918.37,1.0549550273971,0.207029846358222,"1|0|17|3",null,null,null,null,null,1,65,5.02]
[10,1,0,17,22,4,190.13,968.86,1.05497784117513,0.196240942963896,"1|0|17|4",null,null,null,null,null,1,66,5.63]
[10,1,0,17,22,5,190.13,822.15,0.848574613463245,0.23125950252387,"1|0|17|5",null,null,null,null,null,1,67,6.33]
[10,1,0,17,22,6,190.13,667.3,0.811652374870766,0.284924321894201,"1|0|17|6",null,null,null,null,null,1,68,7.12]
[10,1,0,17,22,7,190.13,513.74,0.76987861531545,0.370089928757737,"1|0|17|7",null,null,null,null,null,1,69,8]
[10,1,0,17,22,8,190.13,351.67,0.684529139253319,0.54064890380186,"1|0|17|8",null,null,null,null,null,1,70,9.01]
[10,1,0,17,22,9,190.13,180.59,0.513521198851196,1.05282684534027,"1|0|17|9",null,null,null,null,null,1,71,10.19]
[10,1,0,17,22,10,190.13,0,0,0,"1|0|17|10",null,null,null,null,null,1,72,11.61]
[10,1,0,18,23,1,190.11,825.2,0,0.230380513814833,"1|0|18|1",null,null,null,null,null,1,73,13.35]
[10,1,0,18,23,2,190.11,870.53,1.0549321376636,0.218384202727074,"1|0|18|2",null,null,null,null,null,1,74,15.51]
[10,1,0,18,23,3,190.11,918.37,1.0549550273971,0.207008068643357,"1|0|18|3",null,null,null,null,null,1,75,18.13]
[10,1,0,18,23,4,190.11,968.86,1.05497784117513,0.196220300146564,"1|0|18|4",null,null,null,null,null,1,76,21.27]
[10,1,0,18,23,5,190.11,822.15,0.848574613463245,0.231235176062762,"1|0|18|5",null,null,null,null,null,1,77,24.92]
[10,1,0,18,23,6,190.11,667.3,0.811652374870766,0.284894350367151,"1|0|18|6",null,null,null,null,null,1,78,29.06]
[10,1,0,18,23,7,190.11,513.75,0.769893601078975,0.370043795620438,"1|0|18|7",null,null,null,null,null,1,79,33.67]
[10,1,0,18,23,8,190.11,351.68,0.684535279805353,0.540576660600546,"1|0|18|8",null,null,null,null,null,1,80,38.72]
[10,1,0,18,23,9,190.11,180.6,0.513535031847134,1.05265780730897,"1|0|18|9",null,null,null,null,null,1,81,44.16]
[10,1,0,18,23,10,190.11,0,0,0,"1|0|18|10",null,null,null,null,null,1,82,49.98]
[10,1,0,19,24,1,190.1,825.2,0,0.230368395540475,"1|0|19|1",null,null,null,null,null,1,83,56.16]
[10,1,0,19,24,2,190.1,870.53,1.0549321376636,0.218372715472184,"1|0|19|2",null,null,null,null,null,1,84,56.16]
[10,1,0,19,24,3,190.1,918.37,1.0549550273971,0.206997179785925,"1|0|19|3",null,null,null,null,null,1,85,56.16]
[10,1,0,19,24,4,190.1,968.86,1.05497784117513,0.196209978737898,"1|0|19|4",null,null,null,null,null,1,86,56.16]
[10,1,0,19,24,5,190.1,822.15,0.848574613463245,0.231223012832208,"1|0|19|5",null,null,null,null,null,1,87,56.16]
[10,1,0,19,24,6,190.1,667.3,0.811652374870766,0.284879364603627,"1|0|19|6",null,null,null,null,null,1,88,56.16]
[10,1,0,19,24,7,190.1,513.75,0.769893601078975,0.370024330900243,"1|0|19|7",null,null,null,null,null,1,89,56.16]
[10,1,0,19,24,8,190.1,351.69,0.684554744525547,0.54053285563991,"1|0|19|8",null,null,null,null,null,1,90,56.16]
[10,1,0,19,24,9,190.1,180.6,0.513520429924081,1.05260243632337,"1|0|19|9",null,null,null,null,null,1,91,56.16]
[10,1,0,19,24,10,190.1,0,0,0,"1|0|19|10",null,null,null,null,null,1,92,56.16]
[10,1,0,20,25,1,190.08,825.21,0,0.23034136765187,"1|0|20|1",null,null,null,null,null,1,93,56.16]
[10,1,0,20,25,2,190.08,870.54,1.05493147198895,0.218347232752085,"1|0|20|2",null,null,null,null,null,1,94,56.16]
[10,1,0,20,25,3,190.08,918.37,1.05494290899901,0.206975402071061,"1|0|20|3",null,null,null,null,null,1,95,56.16]
[10,1,0,20,25,4,190.08,968.86,1.05497784117513,0.196189335920566,"1|0|20|4",null,null,null,null,null,1,96,56.16]
[10,1,0,20,25,5,190.08,822.15,0.848574613463245,0.2311986863711,"1|0|20|5",null,null,null,null,null,1,97,56.16]
[10,1,0,20,25,6,190.08,667.29,0.811640211640212,0.284853661826193,"1|0|20|6",null,null,null,null,null,1,98,56.16]
[10,1,0,20,25,7,190.08,513.76,0.769920124683421,0.369978199937714,"1|0|20|7",null,null,null,null,null,1,99,56.16]
[10,1,0,20,25,8,190.08,351.7,0.68456088445967,0.54046061984646,"1|0|20|8",null,null,null,null,null,1,100,56.16]
[10,1,0,20,25,9,190.08,180.61,0.513534262155246,1.05243342007641,"1|0|20|9",null,null,null,null,null,1,101,56.16]
[10,1,0,20,25,10,190.08,0,0,0,"1|0|20|10",null,null,null,null,null,1,102,56.16]
[10,1,0,21,26,1,190.06,825.22,0,0.230314340418313,"1|0|21|1",null,null,null,null,null,1,103,56.16]
[10,1,0,21,26,2,190.06,870.54,1.05491868834977,0.218324258506215,"1|0|21|2",null,null,null,null,null,1,104,56.16]
[10,1,0,21,26,3,190.06,918.38,1.05495439612195,0.206951370892223,"1|0|21|3",null,null,null,null,null,1,105,56.16]
[10,1,0,21,26,4,190.06,968.86,1.0549663537969,0.196168693103235,"1|0|21|4"]
[10,1,0,21,26,5,190.06,822.15,0.848574613463245,0.231174359909992,"1|0|21|5"]
[10,1,0,21,26,6,190.06,667.29,0.811640211640212,0.28482368984999,"1|0|21|6"]
[10,1,0,21,26,7,190.06,513.77,0.769935110671522,0.369932070770968,"1|0|21|7"]
[10,1,0,21,26,8,190.06,351.71,0.684567024154777,0.540388388160701,"1|0|21|8"]
[10,1,0,21,26,9,190.06,180.63,0.513576526115265,1.05220616730333,"1|0|21|9"]
[10,1,0,21,26,10,190.06,0,0,0,"1|0|21|10"]
[10,1,0,22,27,1,190.04,825.22,0,0.230290104456993,"1|0|22|1"]
[10,1,0,22,27,2,190.04,870.55,1.05493080633043,0.21829877663546,"1|0|22|2"]
[10,1,0,22,27,3,190.04,918.38,1.05494227787031,0.206929593414491,"1|0|22|3"]
[10,1,0,22,27,4,190.04,968.86,1.0549663537969,0.196148050285903,"1|0|22|4"]
[10,1,0,22,27,5,190.04,822.15,0.848574613463245,0.231150033448884,"1|0|22|5"]
[10,1,0,22,27,6,190.04,667.29,0.811640211640212,0.284793717873788,"1|0|22|6"]
[10,1,0,22,27,7,190.04,513.78,0.769950096659623,0.369885943399899,"1|0|22|7"]
[10,1,0,22,27,8,190.04,351.72,0.684573163610884,0.540316160582281,"1|0|22|8"]
[10,1,0,22,27,9,190.04,180.64,0.513590355964972,1.05203720106289,"1|0|22|9"]
[10,1,0,22,27,10,190.04,0,0,0,"1|0|22|10"]
[10,1,0,23,28,1,190.02,825.23,0,0.230263078172146,"1|0|23|1"]
[10,1,0,23,28,2,190.02,870.55,1.05491802285423,0.218275802653495,"1|0|23|2"]
[10,1,0,23,28,3,190.02,918.38,1.05494227787031,0.206907815936758,"1|0|23|3"]
[10,1,0,23,28,4,190.02,968.86,1.0549663537969,0.196127407468571,"1|0|23|4"]
[10,1,0,23,28,5,190.02,822.15,0.848574613463245,0.231125706987776,"1|0|23|5"]
[10,1,0,23,28,6,190.02,667.28,0.811628048409658,0.284768013427647,"1|0|23|6"]
[10,1,0,23,28,7,190.02,513.79,0.769976621508212,0.369839817824403,"1|0|23|7"]
[10,1,0,23,28,8,190.02,351.74,0.684598766032815,0.540228577926878,"1|0|23|8"]
[10,1,0,23,28,9,190.02,180.65,0.513589583214875,1.05186825352892,"1|0|23|9"]
[10,1,0,23,28,10,190.02,0,0,0,"1|0|23|10"]
[10,1,0,24,29,1,189.99,825.24,0,0.230223934855315,"1|0|24|1"]
[10,1,0,24,29,2,189.99,870.56,1.05491735737482,0.21823883477302,"1|0|24|2"]
[10,1,0,24,29,3,189.99,918.38,1.05493015989708,0.206875149720159,"1|0|24|3"]
[10,1,0,24,29,4,189.99,968.87,1.05497724253577,0.196094419271935,"1|0|24|4"]
[10,1,0,24,29,5,189.99,822.15,0.848565855068275,0.231089217296114,"1|0|24|5"]
[10,1,0,24,29,6,189.99,667.28,0.811628048409658,0.284723054789594,"1|0|24|6"]
[10,1,0,24,29,7,189.99,513.8,0.769991607720897,0.369774231218373,"1|0|24|7"]
[10,1,0,24,29,8,189.99,351.76,0.684624367458155,0.54011257675688,"1|0|24|8"]
[10,1,0,24,29,9,189.99,180.67,0.513617239026609,1.05158576410029,"1|0|24|9"]
[10,1,0,24,29,10,189.99,0,0,0,"1|0|24|10"]
[10,1,0,25,30,1,189.96,825.25,0,0.230184792487125,"1|0|25|1"]
[10,1,0,25,30,2,189.96,870.56,1.0549045743714,0.21820437419592,"1|0|25|2"]
[10,1,0,25,30,3,189.96,918.39,1.05494164675611,0.206840231274295,"1|0|25|3"]
[10,1,0,25,30,4,189.96,968.87,1.05496575528915,0.196063455365529,"1|0|25|4"]
[10,1,0,25,30,5,189.96,822.15,0.848565855068275,0.231052727604452,"1|0|25|5"]
[10,1,0,25,30,6,189.96,667.28,0.811628048409658,0.284678096151541,"1|0|25|6"]
[10,1,0,25,30,7,189.96,513.81,0.770006593933581,0.369708647165295,"1|0|25|7"]
[10,1,0,25,30,8,189.96,351.78,0.684649967886962,0.539996588777077,"1|0|25|8"]
[10,1,0,25,30,9,189.96,180.68,0.513616464835977,1.05136152313482,"1|0|25|9"]
[10,1,0,25,30,10,189.96,0,0,0,"1|0|25|10"]
[10,1,0,26,31,1,189.93,825.26,0,0.230145651067542,"1|0|26|1"]
[10,1,0,26,31,2,189.93,870.57,1.05490390907108,0.218167407560564,"1|0|26|2"]
[10,1,0,26,31,3,189.93,918.39,1.05492952892932,0.206807565413386,"1|0|26|3"]
[10,1,0,26,31,4,189.93,968.87,1.05496575528915,0.196032491459122,"1|0|26|4"]
[10,1,0,26,31,5,189.93,822.16,0.848576176370411,0.231013428043203,"1|0|26|5"]
[10,1,0,26,31,6,189.93,667.27,0.811606013428043,0.284637403150149,"1|0|26|6"]
[10,1,0,26,31,7,189.93,513.82,0.770033120026376,0.369643065665019,"1|0|26|7"]
[10,1,0,26,31,8,189.93,351.8,0.684675567319295,0.539880613985219,"1|0|26|8"]
[10,1,0,26,31,9,189.93,180.7,0.513644115974986,1.05107913669065,"1|0|26|9"]
[10,1,0,26,31,10,189.93,0,0,0,"1|0|26|10"]
[10,1,0,27,32,1,189.89,825.27,0,0.230094393350055,"1|0|27|1"]
[10,1,0,27,32,2,189.89,870.57,1.05489112654041,0.218121460652216,"1|0|27|2"]
[10,1,0,27,32,3,189.89,918.4,1.05494101565641,0.206761759581882,"1|0|27|3"]
[10,1,0,27,32,4,189.89,968.87,1.05495426829268,0.195991206250581,"1|0|27|4"]
[10,1,0,27,32,5,189.89,822.16,0.848576176370411,0.230964775712757,"1|0|27|5"]
[10,1,0,27,32,6,189.89,667.27,0.811606013428043,0.284577457401052,"1|0|27|6"]
[10,1,0,27,32,7,189.89,513.84,0.770063092900925,0.369550832944107,"1|0|27|7"]
[10,1,0,27,32,8,189.89,351.82,0.684687840572941,0.53973622875334,"1|0|27|8"]
[10,1,0,27,32,9,189.89,180.72,0.513671763970212,1.05074147853032,"1|0|27|9"]
[10,1,0,27,32,10,189.89,0,0,0,"1|0|27|10"]
[10,1,0,28,33,1,189.85,825.28,0,0.230043136874758,"1|0|28|1"]
[10,1,0,28,33,2,189.85,870.58,1.05489046141915,0.218073008798732,"1|0|28|2"]
[10,1,0,28,33,3,189.85,918.4,1.05492889797606,0.206718205574913,"1|0|28|3"]
[10,1,0,28,33,4,189.85,968.88,1.05496515679443,0.195947898604574,"1|0|28|4"]
[10,1,0,28,33,5,189.85,822.16,0.848567418049707,0.23091612338231,"1|0|28|5"]
[10,1,0,28,33,6,189.85,667.26,0.811593850345432,0.284521775619698,"1|0|28|6"]
[10,1,0,28,33,7,189.85,513.85,0.770089620237988,0.369465797411696,"1|0|28|7"]
[10,1,0,28,33,8,189.85,351.85,0.684732898705848,0.539576524086969,"1|0|28|8"]
[10,1,0,28,33,9,189.85,180.75,0.513713230069632,1.05034578146611,"1|0|28|9"]
[10,1,0,28,33,10,189.85,0,0,0,"1|0|28|10"]
[10,1,0,29,34,1,189.81,825.29,0,0.229991881641605,"1|0|29|1"]
[10,1,0,29,34,2,189.81,870.59,1.05488979631402,0.218024558058328,"1|0|29|2"]
[10,1,0,29,34,3,189.81,918.41,1.0549282670373,0.206672401215144,"1|0|29|3"]
[10,1,0,29,34,4,189.81,968.88,1.05495366992955,0.195906613822145,"1|0|29|4"]
[10,1,0,29,34,5,189.81,822.16,0.848567418049707,0.230867471051863,"1|0|29|5"]
[10,1,0,29,34,6,189.81,667.26,0.811593850345432,0.284461828972215,"1|0|29|6"]
[10,1,0,29,34,7,189.81,513.87,0.77011959356173,0.369373576974721,"1|0|29|7"]
[10,1,0,29,34,8,189.81,351.88,0.68476462918637,0.539416846652268,"1|0|29|8"]
[10,1,0,29,34,9,189.81,180.77,0.513726270319427,1.05000829783703,"1|0|29|9"]
[10,1,0,29,34,10,189.81,0,0,0,"1|0|29|10"]
[10,1,0,30,35,1,189.76,825.31,0,0.229925724879136,"1|0|30|1"]
[10,1,0,30,35,2,189.76,870.6,1.05487634949292,0.217964622099701,"1|0|30|2"]
[10,1,0,30,35,3,189.76,918.41,1.05491614978176,0.206617959299224,"1|0|30|3"]
[10,1,0,30,35,4,189.76,968.88,1.05495366992955,0.195855007844109,"1|0|30|4"]
[10,1,0,30,35,5,189.76,822.17,0.848577739245314,0.230803848352531,"1|0|30|5"]
[10,1,0,30,35,6,189.76,667.25,0.811571816047776,0.28439115773698,"1|0|30|6"]
[10,1,0,30,35,7,189.76,513.89,0.770161109029599,0.369261904298585,"1|0|30|7"]
[10,1,0,30,35,8,189.76,351.91,0.684796357197066,0.539228780085817,"1|0|30|8"]
[10,1,0,30,35,9,189.76,180.8,0.513767724702339,1.04955752212389,"1|0|30|9"]
[10,1,0,30,35,10,189.76,0,0,0,"1|0|30|10"]
[10,1,0,31,36,1,189.71,825.33,0,0.229859571322986,"1|0|31|1"]
[10,1,0,31,36,2,189.71,870.61,1.05486290332352,0.217904687517947,"1|0|31|2"]
[10,1,0,31,36,3,189.71,918.42,1.05491551900392,0.206561268265064,"1|0|31|3"]
[10,1,0,31,36,4,189.71,968.88,1.05494218331482,0.195803401866072,"1|0|31|4"]
[10,1,0,31,36,5,189.71,822.17,0.848577739245314,0.230743033679166,"1|0|31|5"]
[10,1,0,31,36,6,189.71,667.24,0.811559653113103,0.28432048438343,"1|0|31|6"]
[10,1,0,31,36,7,189.71,513.91,0.770202625741862,0.369150240314452,"1|0|31|7"]
[10,1,0,31,36,8,189.71,351.94,0.684828082738223,0.539040745581633,"1|0|31|8"]
[10,1,0,31,36,9,189.71,180.83,0.513809172017958,1.04910689597965,"1|0|31|9"]
[10,1,0,31,36,10,189.71,0,0,0,"1|0|31|10"]
[10,1,0,32,37,1,189.65,825.35,0,0.229781304900951,"1|0|32|1"]
[10,1,0,32,37,2,189.65,870.63,1.05486157387775,0.217830766226755,"1|0|32|2"]
[10,1,0,32,37,3,189.65,918.42,1.05489128562076,0.206495938677294,"1|0|32|3"]
[10,1,0,32,37,4,189.65,968.89,1.05495307157945,0.195739454427231,"1|0|32|4"]
[10,1,0,32,37,5,189.65,822.17,0.848568980998875,0.230670056071129,"1|0|32|5"]
[10,1,0,32,37,6,189.65,667.23,0.81154749017843,0.284234821575768,"1|0|32|6"]
[10,1,0,32,37,7,189.65,513.93,0.770244143698575,0.369019127118479,"1|0|32|7"]
[10,1,0,32,37,8,189.65,351.98,0.684879263712957,0.538809023239957,"1|0|32|8"]
[10,1,0,32,37,9,189.65,180.86,0.513836013409853,1.04860112794427,"1|0|32|9"]
[10,1,0,32,37,10,189.65,0,0,0,"1|0|32|10"]
[10,1,0,33,38,1,189.59,825.37,0,0.229703042271951,"1|0|33|1"]
[10,1,0,33,38,2,189.59,870.64,1.05484812871803,0.217759349444087,"1|0|33|2"]
[10,1,0,33,38,3,189.59,918.43,1.05489065515023,0.206428361442897,"1|0|33|3"]
[10,1,0,33,38,4,189.59,968.89,1.05494158509631,0.195677527892743,"1|0|33|4"]
[10,1,0,33,38,5,189.59,822.18,0.848579302087956,0.230594273760004,"1|0|33|5"]
[10,1,0,33,38,6,189.59,667.22,0.811525456712642,0.284149156200354,"1|0|33|6"]
[10,1,0,33,38,7,189.59,513.96,0.770300650460118,0.368880846758503,"1|0|33|7"]
[10,1,0,33,38,8,189.59,352.02,0.684917114172309,0.538577353559457,"1|0|33|8"]
[10,1,0,33,38,9,189.59,180.89,0.513862848701778,1.04809552766875,"1|0|33|9"]
[10,1,0,33,38,10,189.59,0,0,0,"1|0|33|10"]
[10,1,0,34,39,1,189.52,825.39,0,0.229612667950908,"1|0|34|1"]
[10,1,0,34,39,2,189.52,870.65,1.05483468420989,0.217676448630334,"1|0|34|2"]
[10,1,0,34,39,3,189.52,918.44,1.05489002469419,0.206349897652541,"1|0|34|3"]
[10,1,0,34,39,4,189.52,968.9,1.05494098689081,0.195603261430488,"1|0|34|4"]
[10,1,0,34,39,5,189.52,822.18,0.848570543915781,0.23050913425284,"1|0|34|5"]
[10,1,0,34,39,6,189.52,667.21,0.811513293925904,0.284048500472115,"1|0|34|6"]
[10,1,0,34,39,7,189.52,513.98,0.770342171130529,0.368730300789914,"1|0|34|7"]
[10,1,0,34,39,8,189.52,352.07,0.684987742713724,0.538302042207516,"1|0|34|8"]
[10,1,0,34,39,9,189.52,180.93,0.513903485102394,1.04747692477754,"1|0|34|9"]
[10,1,0,34,39,10,189.52,0,0,0,"1|0|34|10"]
[10,1,0,35,40,1,189.44,825.42,0,0.229507402292166,"1|0|35|1"]
[10,1,0,35,40,2,189.44,870.67,1.05482057619151,0.217579565162461,"1|0|35|2"]
[10,1,0,35,40,3,189.44,918.45,1.05487727841777,0.206260547661822,"1|0|35|3"]
[10,1,0,35,40,4,189.44,968.9,1.05492950078937,0.195520693570028,"1|0|35|4"]
[10,1,0,35,40,5,189.44,822.18,0.848570543915781,0.230411831958938,"1|0|35|5"]
[10,1,0,35,40,6,189.44,667.2,0.811501131139167,0.283932853717026,"1|0|35|6"]
[10,1,0,35,40,7,189.44,514.01,0.770398681055156,0.368553140989475,"1|0|35|7"]
[10,1,0,35,40,8,189.44,352.12,0.68504503803428,0.53799840963308,"1|0|35|8"]
[10,1,0,35,40,9,189.44,180.97,0.513944109962513,1.04680333756976,"1|0|35|9"]
[10,1,0,35,40,10,189.44,0,0,0,"1|0|35|10"]
[10,1,0,36,41,1,189.36,825.44,0,0.229404923434774,"1|0|36|1"]
[10,1,0,36,41,2,189.36,870.69,1.05481924791626,0.217482686145471,"1|0|36|2"]
[10,1,0,36,41,3,189.36,918.46,1.05486453272692,0.20617119961675,"1|0|36|3"]
[10,1,0,36,41,4,189.36,968.91,1.05492890272848,0.195436108616899,"1|0|36|4"]
[10,1,0,36,41,5,189.36,822.19,0.848572106800425,0.230311728432601,"1|0|36|5"]
[10,1,0,36,41,6,189.36,667.19,0.811479098505212,0.283817203495256,"1|0|36|6"]
[10,1,0,36,41,7,189.36,514.04,0.770455192673751,0.368376001867559,"1|0|36|7"]
[10,1,0,36,41,8,189.36,352.17,0.685102326667186,0.537694863276259,"1|0|36|8"]
[10,1,0,36,41,9,189.36,181.02,0.514013118664281,1.04607225720915,"1|0|36|9"]
[10,1,0,36,41,10,189.36,0,0,0,"1|0|36|10"]
[10,1,0,37,42,1,189.27,825.47,0,0.229287557391547,"1|0|37|1"]
[10,1,0,37,42,2,189.27,870.71,1.05480514131343,0.217374326698901,"1|0|37|2"]
[10,1,0,37,42,3,189.27,918.47,1.0548517876216,0.206070965845373,"1|0|37|3"]
[10,1,0,37,42,4,189.27,968.91,1.05491741700872,0.195343220732576,"1|0|37|4"]
[10,1,0,37,42,5,189.27,822.19,0.848572106800425,0.230202264683346,"1|0|37|5"]
[10,1,0,37,42,6,189.27,667.17,0.811454773227599,0.283690813435856,"1|0|37|6"]
[10,1,0,37,42,7,189.27,514.08,0.770538243626062,0.368172268907563,"1|0|37|7"]
[10,1,0,37,42,8,189.27,352.22,0.685146280734516,0.537363011754017,"1|0|37|8"]
[10,1,0,37,42,9,189.27,181.06,0.514053716427233,1.04534408483376,"1|0|37|9"]
[10,1,0,37,42,10,189.27,0,0,0,"1|0|37|10"]
[10,1,0,38,43,1,189.17,825.51,0,0.229155310050756,"1|0|38|1"]
[10,1,0,38,43,2,189.17,870.73,1.05477825828882,0.217254487613841,"1|0|38|2"]
[10,1,0,38,43,3,189.17,918.48,1.05483904310177,0.205959846703249,"1|0|38|3"]
[10,1,0,38,43,4,189.17,968.92,1.05491681909241,0.195237996945052,"1|0|38|4"]
[10,1,0,38,43,5,189.17,822.2,0.848573669652809,0.23007783994162,"1|0|38|5"]
[10,1,0,38,43,6,189.17,667.16,0.811432741425444,0.283545176569339,"1|0|38|6"]
[10,1,0,38,43,7,189.17,514.11,0.770594759877691,0.367956273949155,"1|0|38|7"]
[10,1,0,38,43,8,189.17,352.28,0.685223006749528,0.536987623481322,"1|0|38|8"]
[10,1,0,38,43,9,189.17,181.11,0.51410809583286,1.04450334051129,"1|0|38|9"]
[10,1,0,38,43,10,189.17,0,0,0,"1|0|38|10"]
[10,1,0,39,44,1,189.06,825.54,0,0.229013736463406,"1|0|39|1"]
[10,1,0,39,44,2,189.06,870.75,1.05476415437168,0.217123169681309,"1|0|39|2"]
[10,1,0,39,44,3,189.06,918.49,1.05482629916738,0.205837842545918,"1|0|39|3"]
[10,1,0,39,44,4,189.06,968.92,1.05490533375431,0.19512446848037,"1|0|39|4"]
[10,1,0,39,44,5,189.06,822.2,0.848573669652809,0.229944052541961,"1|0|39|5"]
[10,1,0,39,44,6,189.06,667.14,0.811408416443688,0.283388793956291,"1|0|39|6"]
[10,1,0,39,44,7,189.06,514.15,0.770677818748688,0.367713702226977,"1|0|39|7"]
[10,1,0,39,44,8,189.06,352.35,0.68530584459788,0.536568752660707,"1|0|39|8"]
[10,1,0,39,44,9,189.06,181.17,0.514176245210728,1.04355025666501,"1|0|39|9"]
[10,1,0,39,44,10,189.06,0,0,0,"1|0|39|10"]
[10,1,0,40,45,1,188.95,825.58,0,0.22886940090603,"1|0|40|1"]
[10,1,0,40,45,2,188.95,870.78,1.05474938830883,0.216989365855899,"1|0|40|2"]
[10,1,0,40,45,3,188.95,918.5,1.05480144238499,0.205715841045182,"1|0|40|3"]
[10,1,0,40,45,4,188.95,968.93,1.05490473598258,0.195008927373494,"1|0|40|4"]
[10,1,0,40,45,5,188.95,822.21,0.848575232472934,0.229807470111042,"1|0|40|5"]
[10,1,0,40,45,6,188.95,667.12,0.811374223130344,0.283232401966663,"1|0|40|6"]
[10,1,0,40,45,7,188.95,514.19,0.770760882599832,0.367471168245201,"1|0|40|7"]
[10,1,0,40,45,8,188.95,352.42,0.685388669557945,0.536150048237898,"1|0|40|8"]
[10,1,0,40,45,9,188.95,181.23,0.514244367516032,1.0425978038956,"1|0|40|9"]
[10,1,0,40,45,10,188.95,0,0,0,"1|0|40|10"]
[10,1,0,41,46,1,188.82,825.63,0,0.228698085098652,"1|0|41|1"]
[10,1,0,41,46,2,188.82,870.8,1.05470973680704,0.216835094166284,"1|0|41|2"]
[10,1,0,41,46,3,188.82,918.52,1.05480018373909,0.205569829726081,"1|0|41|3"]
[10,1,0,41,46,4,188.82,968.93,1.05488176631973,0.194874758754502,"1|0|41|4"]
[10,1,0,41,46,5,188.82,822.22,0.848585553135934,0.229646566612342,"1|0|41|5"]
[10,1,0,41,46,6,188.82,667.1,0.811340030648732,0.283046020086943,"1|0|41|6"]
[10,1,0,41,46,7,188.82,514.23,0.770843951431569,0.367189778892713,"1|0|41|7"]
[10,1,0,41,46,8,188.82,352.49,0.685471481632732,0.535674770915487,"1|0|41|8"]
[10,1,0,41,46,9,188.82,181.29,0.514312462764901,1.04153566109548,"1|0|41|9"]
[10,1,0,41,46,10,188.82,0,0,0,"1|0|41|10"]
[10,1,0,42,47,1,188.69,825.67,0,0.228529557813654,"1|0|42|1"]
[10,1,0,42,47,2,188.69,870.83,1.05469497499001,0.216678341352503,"1|0|42|2"]
[10,1,0,42,47,3,188.69,918.53,1.05477532928356,0.205426061206493,"1|0|42|3"]
[10,1,0,42,47,4,188.69,968.94,1.0548811688241,0.19473858030425,"1|0|42|4"]
[10,1,0,42,47,5,188.69,822.22,0.8485767952608,0.229488458076914,"1|0|42|5"]
[10,1,0,42,47,6,188.69,667.08,0.811315706258666,0.282859627031241,"1|0|42|6"]
[10,1,0,42,47,7,188.69,514.28,0.770942015950111,0.366901298903321,"1|0|42|7"]
[10,1,0,42,47,8,188.69,352.57,0.685560395115501,0.535184502368324,"1|0|42|8"]
[10,1,0,42,47,9,188.69,181.36,0.514394304677085,1.04041685046317,"1|0|42|9"]
[10,1,0,42,47,10,188.69,0,0,0,"1|0|42|10"]
[10,1,0,43,48,1,188.55,825.72,0,0.228346170614736,"1|0|43|1"]
[10,1,0,43,48,2,188.55,870.86,1.05466744174781,0.216510116436626,"1|0|43|2"]
[10,1,0,43,48,3,188.55,918.55,1.05476195944239,0.205269174242012,"1|0|43|3"]
[10,1,0,43,48,4,188.55,968.95,1.05486908714822,0.194592084214872,"1|0|43|4"]
[10,1,0,43,48,5,188.55,822.23,0.848578358016409,0.229315398367853,"1|0|43|5"]
[10,1,0,43,48,6,188.55,667.06,0.811281514904589,0.28265823164333,"1|0|43|6"]
[10,1,0,43,48,7,188.55,514.33,0.771040086349054,0.366593432232224,"1|0|43|7"]
[10,1,0,43,48,8,188.55,352.65,0.685649291311026,0.534666099532114,"1|0|43|8"]
[10,1,0,43,48,9,188.55,181.43,0.514476109456969,1.039243785482,"1|0|43|9"]
[10,1,0,43,48,10,188.55,0,0,0,"1|0|43|10"]
[10,1,0,44,49,1,188.4,825.78,0,0.228147932863475,"1|0|44|1"]
[10,1,0,44,49,2,188.4,870.89,1.05462714040059,0.216330420604209,"1|0|44|2"]
[10,1,0,44,49,3,188.4,918.57,1.05474859052234,0.205101407622718,"1|0|44|3"]
[10,1,0,44,49,4,188.4,968.95,1.05484611951185,0.194437277465297,"1|0|44|4"]
[10,1,0,44,49,5,188.4,822.24,0.848588678466381,0.22913018096906,"1|0|44|5"]
[10,1,0,44,49,6,188.4,667.03,0.811235162482973,0.282446066893543,"1|0|44|6"]
[10,1,0,44,49,7,188.4,514.38,0.771149723400747,0.366266184532836,"1|0|44|7"]
[10,1,0,44,49,8,188.4,352.74,0.685757611104631,0.534104439530532,"1|0|44|8"]
[10,1,0,44,49,9,188.4,181.5,0.514543289675115,1.03801652892562,"1|0|44|9"]
[10,1,0,44,49,10,188.4,0,0,0,"1|0|44|10"]
[10,1,0,45,50,1,188.23,825.84,0,0.227925506151313,"1|0|45|1"]
[10,1,0,45,50,2,188.23,870.93,1.0545989537925,0.216125291355218,"1|0|45|2"]
[10,1,0,45,50,3,188.23,918.58,1.05471163009656,0.204914106555771,"1|0|45|3"]
[10,1,0,45,50,4,188.23,968.96,1.0548455224368,0.194259824966975,"1|0|45|4"]
[10,1,0,45,50,5,188.23,822.24,0.848579920739762,0.228923428682623,"1|0|45|5"]
[10,1,0,45,50,6,188.23,667,0.811198676785367,0.282203898050975,"1|0|45|6"]
[10,1,0,45,50,7,188.23,514.43,0.771259370314842,0.365900122465642,"1|0|45|7"]
[10,1,0,45,50,8,188.23,352.83,0.685865909841961,0.53348638154352,"1|0|45|8"]
[10,1,0,45,50,9,188.23,181.59,0.514667120142845,1.03656589019219,"1|0|45|9"]
[10,1,0,45,50,10,188.23,0,0,0,"1|0|45|10"]
[10,1,0,46,51,1,188.06,825.9,0,0.227703111756871,"1|0|46|1"]
[10,1,0,46,51,2,188.06,870.97,1.05457077127982,0.215920180947679,"1|0|46|2"]
[10,1,0,46,51,3,188.06,918.6,1.05468615451738,0.204724580883954,"1|0|46|3"]
[10,1,0,46,51,4,188.06,968.97,1.05483344219464,0.194082376131356,"1|0|46|4"]
[10,1,0,46,51,5,188.06,822.25,0.84858148343086,0.228713894800851,"1|0|46|5"]
[10,1,0,46,51,6,188.06,666.97,0.811152325934935,0.281961707423122,"1|0|46|6"]
[10,1,0,46,51,7,188.06,514.49,0.771384020270777,0.365527026764369,"1|0|46|7"]
[10,1,0,46,51,8,188.06,352.94,0.685999727885867,0.532838442794809,"1|0|46|8"]
[10,1,0,46,51,9,188.06,181.67,0.514733382444608,1.03517366653823,"1|0|46|9"]
[10,1,0,46,51,10,188.06,0,0,0,"1|0|46|10"]
[10,1,0,47,52,1,187.87,825.97,0,0.227453781614344,"1|0|47|1"]
[10,1,0,47,52,2,187.87,871.01,1.05452982553846,0.215692127530109,"1|0|47|2"]
[10,1,0,47,52,3,187.87,918.62,1.05466068127806,0.204513291676645,"1|0|47|3"]
[10,1,0,47,52,4,187.87,968.98,1.0548213624785,0.193884290697434,"1|0|47|4"]
[10,1,0,47,52,5,187.87,822.26,0.848583046089703,0.228480042808844,"1|0|47|5"]
[10,1,0,47,52,6,187.87,666.93,0.811093814608518,0.281693730976264,"1|0|47|6"]
[10,1,0,47,52,7,187.87,514.55,0.771520249501447,0.36511514915946,"1|0|47|7"]
[10,1,0,47,52,8,187.87,353.04,0.686114080264309,0.532149331520508,"1|0|47|8"]
[10,1,0,47,52,9,187.87,181.76,0.514842510763653,1.03361575704225,"1|0|47|9"]
[10,1,0,47,52,10,187.87,0,0,0,"1|0|47|10"]
[10,1,0,48,53,1,187.67,826.04,0,0.227192387777832,"1|0|48|1"]
[10,1,0,48,53,2,187.67,871.05,1.05448888673672,0.215452614660467,"1|0|48|2"]
[10,1,0,48,53,3,187.67,918.64,1.05463521037828,0.204291126012366,"1|0|48|3"]
[10,1,0,48,53,4,187.67,968.99,1.05480928328834,0.193675889328063,"1|0|48|4"]
[10,1,0,48,53,5,187.67,822.26,0.84857428869235,0.228236810741128,"1|0|48|5"]
[10,1,0,48,53,6,187.67,666.9,0.811057329798361,0.281406507722297,"1|0|48|6"]
[10,1,0,48,53,7,187.67,514.61,0.771644924276503,0.364683935407396,"1|0|48|7"]
[10,1,0,48,53,8,187.67,353.16,0.686267270360079,0.531402197304338,"1|0|48|8"]
[10,1,0,48,53,9,187.67,181.86,0.514950730547061,1.03194765204003,"1|0|48|9"]
[10,1,0,48,53,10,187.67,0,0,0,"1|0|48|10"]
[10,1,0,49,54,1,187.45,826.12,0,0.226904081731468,"1|0|49|1"]
[10,1,0,49,54,2,187.45,871.1,1.05444729579238,0.215187693720583,"1|0|49|2"]
[10,1,0,49,54,3,187.45,918.67,1.05460911491218,0.204044978066117,"1|0|49|3"]
[10,1,0,49,54,4,187.45,968.99,1.05477483753687,0.193448848801329,"1|0|49|4"]
[10,1,0,49,54,5,187.45,822.27,0.848584608716292,0.227966483028689,"1|0|49|5"]
[10,1,0,49,54,6,187.45,666.86,0.810998820338818,0.281093482889962,"1|0|49|6"]
[10,1,0,49,54,7,187.45,514.68,0.771796179108059,0.364206885831973,"1|0|49|7"]
[10,1,0,49,54,8,187.45,353.28,0.686407087899277,0.530598958333333,"1|0|49|8"]
[10,1,0,49,54,9,187.45,181.97,0.515087182971015,1.03011485409683,"1|0|49|9"]
[10,1,0,49,54,10,187.45,0,0,0,"1|0|49|10"]
[10,1,0,50,55,1,187.22,826.2,0,0.226603727910917,"1|0|50|1"]
[10,1,0,50,55,2,187.22,871.15,1.05440571290244,0.214911324111806,"1|0|50|2"]
[10,1,0,50,55,3,187.22,918.69,1.05457154336222,0.203790179494715,"1|0|50|3"]
[10,1,0,50,55,4,187.22,969,1.05476276001698,0.193209494324045,"1|0|50|4"]
[10,1,0,50,55,5,187.22,822.28,0.84858617131063,0.227684000583743,"1|0|50|5"]
[10,1,0,50,55,6,187.22,666.82,0.810940312302379,0.280765423952491,"1|0|50|6"]
[10,1,0,50,55,7,187.22,514.76,0.771962448636814,0.363703473463362,"1|0|50|7"]
[10,1,0,50,55,8,187.22,353.42,0.686572383246562,0.529737988795201,"1|0|50|8"]
[10,1,0,50,55,9,187.22,182.09,0.515222681229133,1.02817288154209,"1|0|50|9"]
[10,1,0,50,55,10,187.22,0,0,0,"1|0|50|10"]
[10,1,0,51,56,1,186.97,826.28,0,0.226279227380549,"1|0|51|1"]
[10,1,0,51,56,2,186.97,871.2,1.05436413806458,0.214612029384757,"1|0|51|2"]
[10,1,0,51,56,3,186.97,918.72,1.05454545454545,0.2035114071752,"1|0|51|3"]
[10,1,0,51,56,4,186.97,969.01,1.05473920236851,0.192949505165065,"1|0|51|4"]
[10,1,0,51,56,5,186.97,822.29,0.848587733872715,0.227377202690049,"1|0|51|5"]
[10,1,0,51,56,6,186.97,666.77,0.810869644529302,0.280411536211887,"1|0|51|6"]
[10,1,0,51,56,7,186.97,514.84,0.772140318250671,0.363161370522881,"1|0|51|7"]
[10,1,0,51,56,8,186.97,353.56,0.686737627223992,0.5288211336124,"1|0|51|8"]
[10,1,0,51,56,9,186.97,182.21,0.515358072180111,1.02612370341913,"1|0|51|9"]
[10,1,0,51,56,10,186.97,0,0,0,"1|0|51|10"]
[10,1,0,52,57,1,186.71,826.38,0,0.225937220165057,"1|0|52|1"]
[10,1,0,52,57,2,186.71,871.25,1.05429705462378,0.214301291248207,"1|0|52|2"]
[10,1,0,52,57,3,186.71,918.74,1.05450789096126,0.203223980669177,"1|0|52|3"]
[10,1,0,52,57,4,186.71,969.02,1.05472712628165,0.192679201667664,"1|0|52|4"]
[10,1,0,52,57,5,186.71,822.3,0.848589296402551,0.227058251246504,"1|0|52|5"]
[10,1,0,52,57,6,186.71,666.72,0.810798978475009,0.280042596592273,"1|0|52|6"]
[10,1,0,52,57,7,186.71,514.93,0.772333213342932,0.362592973802264,"1|0|52|7"]
[10,1,0,52,57,8,186.71,353.72,0.686928320354223,0.527846884541445,"1|0|52|8"]
[10,1,0,52,57,9,186.71,182.34,0.515492479927626,1.02396621695733,"1|0|52|9"]
[10,1,0,52,57,10,186.71,0,0,0,"1|0|52|10"]
[10,1,0,53,58,1,186.42,826.48,0,0.225558997192915,"1|0|53|1"]
[10,1,0,53,58,2,186.42,871.31,1.05424208692285,0.213953701897143,"1|0|53|2"]
[10,1,0,53,58,3,186.42,918.77,1.05446970653384,0.202901705541104,"1|0|53|3"]
[10,1,0,53,58,4,186.42,969.03,1.05470357107872,0.192377944955265,"1|0|53|4"]
[10,1,0,53,58,5,186.42,822.31,0.848590858900137,0.226702824968686,"1|0|53|5"]
[10,1,0,53,58,6,186.42,666.67,0.810728314139436,0.279628601856991,"1|0|53|6"]
[10,1,0,53,58,7,186.42,515.02,0.772526137369313,0.361966525571822,"1|0|53|7"]
[10,1,0,53,58,8,186.42,353.88,0.687118946837016,0.526788741946422,"1|0|53|8"]
[10,1,0,53,58,9,186.42,182.49,0.515683282468633,1.02153542659872,"1|0|53|9"]
[10,1,0,53,58,10,186.42,0,0,0,"1|0|53|10"]
[10,1,0,54,59,1,186.11,826.59,0,0.225153945728838,"1|0|54|1"]
[10,1,0,54,59,2,186.11,871.38,1.05418647697165,0.213580756960224,"1|0|54|2"]
[10,1,0,54,59,3,186.11,918.8,1.05441942665657,0.202557683935568,"1|0|54|3"]
[10,1,0,54,59,4,186.11,969.05,1.05469090117545,0.192054073577215,"1|0|54|4"]
[10,1,0,54,59,5,186.11,822.32,0.848583664413601,0.226323085903298,"1|0|54|5"]
[10,1,0,54,59,6,186.11,666.61,0.810645490806499,0.279188731042139,"1|0|54|6"]
[10,1,0,54,59,7,186.11,515.12,0.772745683383088,0.361294455660817,"1|0|54|7"]
[10,1,0,54,59,8,186.11,354.06,0.687334989905265,0.5256453708411,"1|0|54|8"]
[10,1,0,54,59,9,186.11,182.64,0.51584477207253,1.0189991239597,"1|0|54|9"]
[10,1,0,54,59,10,186.11,0,0,0,"1|0|54|10"]
[10,1,0,55,60,1,185.78,826.7,0,0.224724809483489,"1|0|55|1"]
[10,1,0,55,60,2,185.78,871.45,1.05413088181928,0.213184921682254,"1|0|55|2"]
[10,1,0,55,60,3,185.78,918.84,1.05438062998451,0.202189717469853,"1|0|55|3"]
[10,1,0,55,60,4,185.78,969.06,1.05465587044534,0.191711555528037,"1|0|55|4"]
[10,1,0,55,60,5,185.78,822.33,0.848585226920934,0.225919034937312,"1|0|55|5"]
[10,1,0,55,60,6,185.78,666.55,0.810562669487918,0.278718775785763,"1|0|55|6"]
[10,1,0,55,60,7,185.78,515.23,0.772980271547521,0.360576829765347,"1|0|55|7"]
[10,1,0,55,60,8,185.78,354.25,0.687557013372669,0.524431898376853,"1|0|55|8"]
[10,1,0,55,60,9,185.78,182.8,0.516019760056457,1.01630196936543,"1|0|55|9"]
[10,1,0,55,60,10,185.78,0,0,0,"1|0|55|10"]
[10,1,0,56,61,1,185.43,826.82,0,0.224268885609927,"1|0|56|1"]
[10,1,0,56,61,2,185.43,871.52,1.05406255291357,0.212766201578851,"1|0|56|2"]
[10,1,0,56,61,3,185.43,918.87,1.05433036533872,0.201802213588429,"1|0|56|3"]
[10,1,0,56,61,4,185.43,969.07,1.05463232013234,0.191348406203886,"1|0|56|4"]
[10,1,0,56,61,5,185.43,822.34,0.848586789396019,0.225490672957657,"1|0|56|5"]
[10,1,0,56,61,6,185.43,666.49,0.810479850183622,0.27821872796291,"1|0|56|6"]
[10,1,0,56,61,7,185.43,515.34,0.773214901949017,0.359820700896495,"1|0|56|7"]
[10,1,0,56,61,8,185.43,354.45,0.687798346722552,0.523148539991536,"1|0|56|8"]
[10,1,0,56,61,9,185.43,182.98,0.516236422626605,1.01338944146901,"1|0|56|9"]
[10,1,0,56,61,10,185.43,0,0,0,"1|0|56|10"]
[10,1,0,57,62,1,185.05,826.96,0,0.223771403695463,"1|0|57|1"]
[10,1,0,57,62,2,185.05,871.6,1.05398084550643,0.21231069297843,"1|0|57|2"]
[10,1,0,57,62,3,185.05,918.91,1.05427948600275,0.201379895746047,"1|0|57|3"]
[10,1,0,57,62,4,185.05,969.09,1.05460817707937,0.190952336728271,"1|0|57|4"]
[10,1,0,57,62,5,185.05,822.35,0.848579595290427,0.225025840578829,"1|0|57|5"]
[10,1,0,57,62,6,185.05,666.42,0.810384872621147,0.277677740764083,"1|0|57|6"]
[10,1,0,57,62,7,185.05,515.47,0.773491191740944,0.358992763885386,"1|0|57|7"]
[10,1,0,57,62,8,185.05,354.67,0.688051680990164,0.521752615107001,"1|0|57|8"]
[10,1,0,57,62,9,185.05,183.17,0.51645191304593,1.0102636894688,"1|0|57|9"]
[10,1,0,57,62,10,185.05,0,0,0,"1|0|57|10"]
[10,1,0,58,63,1,184.63,827.1,0,0.223225728448797,"1|0|58|1"]
[10,1,0,58,63,2,184.63,871.68,1.05389916575988,0.21180937958884,"1|0|58|2"]
[10,1,0,58,63,3,184.63,918.95,1.05422861600587,0.200914086729419,"1|0|58|3"]
[10,1,0,58,63,4,184.63,969.1,1.05457315414332,0.190516974512434,"1|0|58|4"]
[10,1,0,58,63,5,184.63,822.37,0.848591476627799,0.224509648941474,"1|0|58|5"]
[10,1,0,58,63,6,184.63,666.34,0.810267884285662,0.277080769577093,"1|0|58|6"]
[10,1,0,58,63,7,184.63,515.61,0.773794159137978,0.358080719923974,"1|0|58|7"]
[10,1,0,58,63,8,184.63,354.94,0.688388510696069,0.520172423508199,"1|0|58|8"]
[10,1,0,58,63,9,184.63,183.42,0.516763396630416,1.00659688147421,"1|0|58|9"]
[10,1,0,58,63,10,184.63,0,0,0,"1|0|58|10"]
[10,1,0,59,64,1,184.14,827.25,0,0.222592928377153,"1|0|59|1"]
[10,1,0,59,64,2,184.14,871.77,1.05381686310063,0.211225437902199,"1|0|59|2"]
[10,1,0,59,64,3,184.14,918.99,1.05416566296156,0.20037214768387,"1|0|59|3"]
[10,1,0,59,64,4,184.14,969.11,1.05453813425609,0.19000939005892,"1|0|59|4"]
[10,1,0,59,64,5,184.14,822.38,0.848593038973904,0.22391108733189,"1|0|59|5"]
[10,1,0,59,64,6,184.14,666.26,0.810160752936599,0.276378590940474,"1|0|59|6"]
[10,1,0,59,64,7,184.14,515.8,0.774172245069492,0.356998836758434,"1|0|59|7"]
[10,1,0,59,64,8,184.14,355.28,0.68879410624273,0.518295428957442,"1|0|59|8"]
[10,1,0,59,64,9,184.14,183.73,0.517141409592434,1.00223153540521,"1|0|59|9"]
[10,1,0,59,64,10,184.14,0,0,0,"1|0|59|10"]
[10,1,0,60,65,1,183.57,827.41,0,0.221860987902007,"1|0|60|1"]
[10,1,0,60,65,2,183.57,871.87,1.05373394085157,0.210547443999679,"1|0|60|2"]
[10,1,0,60,65,3,183.57,919.03,1.05409063277782,0.199743207512268,"1|0|60|3"]
[10,1,0,60,65,4,183.57,969.13,1.05451399845489,0.189417312434864,"1|0|60|4"]
[10,1,0,60,65,5,183.57,822.39,0.84858584503627,0.223215262831503,"1|0|60|5"]
[10,1,0,60,65,6,183.57,666.17,0.810041464511971,0.275560292417851,"1|0|60|6"]
[10,1,0,60,65,7,183.57,516.05,0.774652115826291,0.355721344830927,"1|0|60|7"]
[10,1,0,60,65,8,183.57,355.72,0.689313051060944,0.516051950972675,"1|0|60|8"]
[10,1,0,60,65,9,183.57,184.14,0.517654334870122,0.996904529162594,"1|0|60|9"]
[10,1,0,60,65,10,183.57,0,0,0,"1|0|60|10"]
[10,1,0,61,66,1,182.86,827.58,0,0.220957490514512,"1|0|61|1"]
[10,1,0,61,66,2,182.86,871.97,1.05363831895406,0.209709049623267,"1|0|61|2"]
[10,1,0,61,66,3,182.86,919.08,1.05402708808789,0.198959829394612,"1|0|61|3"]
[10,1,0,61,66,4,182.86,969.14,1.05446751098925,0.188682749654333,"1|0|61|4"]
[10,1,0,61,66,5,182.86,822.4,0.848587407392121,0.222349221789883,"1|0|61|5"]
[10,1,0,61,66,6,182.86,666.07,0.809910019455253,0.274535709459967,"1|0|61|6"]
[10,1,0,61,66,7,182.86,516.39,0.77527887459276,0.354112202017855,"1|0|61|7"]
[10,1,0,61,66,8,182.86,356.32,0.690021108077228,0.513190390660081,"1|0|61|8"]
[10,1,0,61,66,9,182.86,184.69,0.518326223619219,0.990091504683524,"1|0|61|9"]
[10,1,0,61,66,10,182.86,0,0,0,"1|0|61|10"]
[10,1,0,62,67,1,181.98,827.77,0,0.219843676383536,"1|0|62|1"]
[10,1,0,62,67,2,181.98,872.08,1.05352936202085,0.208673516191175,"1|0|62|2"]
[10,1,0,62,67,3,181.98,919.14,1.05396293917989,0.197989424897186,"1|0|62|3"]
[10,1,0,62,67,4,181.98,969.17,1.05443131623039,0.187768915670109,"1|0|62|4"]
[10,1,0,62,67,5,181.98,822.43,0.848592094266228,0.221271111219192,"1|0|62|5"]
[10,1,0,62,67,6,181.98,665.96,0.809746726165145,0.273259655234549,"1|0|62|6"]
[10,1,0,62,67,7,181.98,516.84,0.776082647606463,0.352101230554911,"1|0|62|7"]
[10,1,0,62,67,8,181.98,357.09,0.690910146273508,0.509619423674704,"1|0|62|8"]
[10,1,0,62,67,9,181.98,185.39,0.519168836987874,0.981606343384217,"1|0|62|9"]
[10,1,0,62,67,10,181.98,0,0,0,"1|0|62|10"]
[10,1,0,63,68,1,180.87,827.98,0,0.218447305490471,"1|0|63|1"]
[10,1,0,63,68,2,180.87,872.22,1.05343124230054,0.207367407305496,"1|0|63|2"]
[10,1,0,63,68,3,180.87,919.22,1.05388548760634,0.196764648288767,"1|0|63|3"]
[10,1,0,63,68,4,180.87,969.21,1.054383063902,0.186615903674126,"1|0|63|4"]
[10,1,0,63,68,5,180.87,822.47,0.848598342980365,0.219910756623342,"1|0|63|5"]
[10,1,0,63,68,6,180.87,665.85,0.809573601468747,0.271637756251408,"1|0|63|6"]
[10,1,0,63,68,7,180.87,517.43,0.777096943756101,0.349554529115049,"1|0|63|7"]
[10,1,0,63,68,8,180.87,358.09,0.692054963956477,0.505096484124103,"1|0|63|8"]
[10,1,0,63,68,9,180.87,186.29,0.520232343824178,0.970905577325675,"1|0|63|9"]
[10,1,0,63,68,10,180.87,0,0,0,"1|0|63|10"]
[10,1,0,64,69,1,179.48,828.23,0,0.216703089721454,"1|0|64|1"]
[10,1,0,64,69,2,179.48,872.39,1.0533185226326,0.205733674159493,"1|0|64|2"]
[10,1,0,64,69,3,179.48,919.32,1.0537947477619,0.195231257886264,"1|0|64|3"]
[10,1,0,64,69,4,179.48,969.27,1.05433363790628,0.185170282790141,"1|0|64|4"]
[10,1,0,64,69,5,179.48,822.53,0.848607715084548,0.218204807119497,"1|0|64|5"]
[10,1,0,64,69,6,179.48,665.72,0.809356497635345,0.269602836027159,"1|0|64|6"]
[10,1,0,64,69,7,179.48,518.18,0.778375292915941,0.346366127600448,"1|0|64|7"]
[10,1,0,64,69,8,179.48,359.34,0.693465591107337,0.499471252852452,"1|0|64|8"]
[10,1,0,64,69,9,179.48,187.4,0.521511660266043,0.957737459978655,"1|0|64|9"]
[10,1,0,64,69,10,179.48,0,0,0,"1|0|64|10"]
[10,1,0,65,70,1,177.76,828.54,0,0.214546068988824,"1|0|65|1"]
[10,1,0,65,70,2,177.76,872.6,1.05317787916093,0.203713041485217,"1|0|65|2"]
[10,1,0,65,70,3,177.76,919.46,1.05370158148063,0.193330868118243,"1|0|65|3"]
[10,1,0,65,70,4,177.76,969.37,1.05428186109238,0.183376832375667,"1|0|65|4"]
[10,1,0,65,70,5,177.76,822.63,0.848623332679988,0.216087426911248,"1|0|65|5"]
[10,1,0,65,70,6,177.76,665.58,0.809087925312717,0.267075332792452,"1|0|65|6"]
[10,1,0,65,70,7,177.76,519.11,0.779936296162745,0.342432239795034,"1|0|65|7"]
[10,1,0,65,70,8,177.76,360.86,0.69515131667662,0.492601008701435,"1|0|65|8"]
[10,1,0,65,70,9,177.76,188.74,0.523028321232611,0.941824732436155,"1|0|65|9"]
[10,1,0,65,70,10,177.76,0,0,0,"1|0|65|10"]
[10,1,0,66,71,1,175.66,828.92,0,0.211914298122859,"1|0|66|1"]
[10,1,0,66,71,2,175.66,872.88,1.05303286203735,0.201241866006782,"1|0|66|2"]
[10,1,0,66,71,3,175.66,919.66,1.05359270461003,0.191005371550356,"1|0|66|3"]
[10,1,0,66,71,4,175.66,969.51,1.05420481482287,0.181184309599695,"1|0|66|4"]
[10,1,0,66,71,5,175.66,822.77,0.848645191901063,0.213498304507943,"1|0|66|5"]
[10,1,0,66,71,6,175.66,665.41,0.808743634308494,0.263987616657399,"1|0|66|6"]
[10,1,0,66,71,7,175.66,520.22,0.781803699974452,0.337664834108646,"1|0|66|7"]
[10,1,0,66,71,8,175.66,362.65,0.697108915458844,0.484378877705777,"1|0|66|8"]
[10,1,0,66,71,9,175.66,190.31,0.524775954777334,0.923020335242499,"1|0|66|9"]
[10,1,0,66,71,10,175.66,0,0,0,"1|0|66|10"]
[10,1,0,67,72,1,173.16,829.39,0,0.208779946707821,"1|0|67|1"]
[10,1,0,67,72,2,173.16,873.24,1.0528701816998,0.198296001099354,"1|0|67|2"]
[10,1,0,67,72,3,173.16,919.91,1.05344464293894,0.188235805676642,"1|0|67|3"]
[10,1,0,67,72,4,173.16,969.69,1.05411398941201,0.178572533490084,"1|0|67|4"]
[10,1,0,67,72,5,173.16,822.95,0.848673287339253,0.210413755392187,"1|0|67|5"]
[10,1,0,67,72,6,173.16,665.22,0.808335864876359,0.260304861549563,"1|0|67|6"]
[10,1,0,67,72,7,173.16,521.49,0.783936141426896,0.332048553184145,"1|0|67|7"]
[10,1,0,67,72,8,173.16,364.71,0.69936144509003,0.474788187875298,"1|0|67|8"]
[10,1,0,67,72,9,173.16,192.09,0.526692440569219,0.901452444166797,"1|0|67|9"]
[10,1,0,67,72,10,173.16,0,0,0,"1|0|67|10"]
[10,1,0,68,73,1,170.22,829.98,0,0.205089279259741,"1|0|68|1"]
[10,1,0,68,73,2,170.22,873.68,1.05265187112942,0.194831059426792,"1|0|68|2"]
[10,1,0,68,73,3,170.22,920.22,1.05326893141654,0.184977505379148,"1|0|68|3"]
[10,1,0,68,73,4,170.22,969.91,1.05399795701028,0.17550081966368,"1|0|68|4"]
[10,1,0,68,73,5,170.22,823.18,0.848717922281449,0.206783449549309,"1|0|68|5"]
[10,1,0,68,73,6,170.22,664.97,0.807806312106708,0.255981472848399,"1|0|68|6"]
[10,1,0,68,73,7,170.22,522.92,0.786381340511602,0.325518243708407,"1|0|68|7"]
[10,1,0,68,73,8,170.22,367.02,0.701866442285627,0.463789439267615,"1|0|68|8"]
[10,1,0,68,73,9,170.22,194.09,0.528826766933682,0.877015817404297,"1|0|68|9"]
[10,1,0,68,73,10,170.22,0,0,0,"1|0|68|10"]
[10,1,0,69,74,1,166.83,830.7,0,0.200830624774287,"1|0|69|1"]
[10,1,0,69,74,2,166.83,874.22,1.0523895509811,0.190832971105671,"1|0|69|2"]
[10,1,0,69,74,3,166.83,920.59,1.05304156848391,0.181220738873983,"1|0|69|3"]
[10,1,0,69,74,4,166.83,970.17,1.05385676576978,0.171959553480318,"1|0|69|4"]
[10,1,0,69,74,5,166.83,823.44,0.848758465011287,0.202601282424949,"1|0|69|5"]
[10,1,0,69,74,6,166.83,664.65,0.80716263480035,0.251004287971113,"1|0|69|6"]
[10,1,0,69,74,7,166.83,524.47,0.789092003310013,0.318092550574866,"1|0|69|7"]
[10,1,0,69,74,8,166.83,369.53,0.704577954887791,0.451465374935729,"1|0|69|8"]
[10,1,0,69,74,9,166.83,196.25,0.531080020566666,0.850089171974522,"1|0|69|9"]
[10,1,0,69,74,10,166.83,0,0,0,"1|0|69|10"]
[10,1,0,70,75,1,163,831.57,0,0.196014767247496,"1|0|70|1"]
[10,1,0,70,75,2,163,874.86,1.0520581550561,0.186315524769677,"1|0|70|2"]
[10,1,0,70,75,3,163,921.01,1.05275129735043,0.176979620199564,"1|0|70|3"]
[10,1,0,70,75,4,163,970.45,1.05368019891206,0.167963315987429,"1|0|70|4"]
[10,1,0,70,75,5,163,823.73,0.848812406615488,0.19788037342333,"1|0|70|5"]
[10,1,0,70,75,6,163,664.24,0.806380731550387,0.245393231362158,"1|0|70|6"]
[10,1,0,70,75,7,163,526.1,0.792033000120438,0.309827029081924,"1|0|70|7"]
[10,1,0,70,75,8,163,372.2,0.707470062725717,0.437936593229447,"1|0|70|8"]
[10,1,0,70,75,9,163,198.57,0.533503492745836,0.820869214886438,"1|0|70|9"]
[10,1,0,70,75,10,163,0,0,0,"1|0|70|10"]
[10,3,0,0,5,1,553.94,655.1,0,0.845580827354602,"3|0|0|1"]
[10,3,0,0,5,2,553.94,1620.57,2.47377499618379,0.34181800230783,"3|0|0|2"]
[10,3,0,0,5,3,553.94,2704.65,1.66894981395435,0.20481023422624,"3|0|0|3"]
[10,3,0,0,5,4,553.94,2853.34,1.05497569001534,0.194137396875241,"3|0|0|4"]
[10,3,0,0,5,5,553.94,2410.26,0.84471531608571,0.22982582791898,"3|0|0|5"]
[10,3,0,0,5,6,553.94,1942.71,0.806016778272883,0.285137771463574,"3|0|0|6"]
[10,3,0,0,5,7,553.94,1495.43,0.769764916019375,0.370421885344015,"3|0|0|7"]
[10,3,0,0,5,8,553.94,1023.48,0.684405154370315,0.541231875561809,"3|0|0|8"]
[10,3,0,0,5,9,553.94,525.49,0.513434556610779,1.05413994557461,"3|0|0|9"]
[10,3,0,0,5,10,553.94,0,0,0,"3|0|0|10"]
[10,3,0,1,6,1,553.96,655.13,0,0.845572634438966,"3|0|1|1"]
[10,3,0,1,6,2,553.96,1620.61,2.47372277257949,0.341821906566046,"3|0|1|2"]
[10,3,0,1,6,3,553.96,2704.69,1.66893330289212,0.204814599824749,"3|0|1|3"]
[10,3,0,1,6,4,553.96,2853.4,1.05498227153574,0.19414032382421,"3|0|1|4"]
[10,3,0,1,6,5,553.96,2410.32,0.844718581341557,0.2298284045272,"3|0|1|5"]
[10,3,0,1,6,6,553.96,1942.79,0.806029904742939,0.285136324564158,"3|0|1|6"]
[10,3,0,1,6,7,553.96,1495.51,0.769774396615177,0.370415443561059,"3|0|1|7"]
[10,3,0,1,6,8,553.96,1023.55,0.68441534994751,0.541214400859753,"3|0|1|8"]
[10,3,0,1,6,9,553.96,525.53,0.513438522788335,1.05409776796758,"3|0|1|9"]
[10,3,0,1,6,10,553.96,0,0,0,"3|0|1|10"]
[10,3,0,2,7,1,553.96,655.15,0,0.845546821338625,"3|0|2|1"]
[10,3,0,2,7,2,553.96,1620.64,2.47369304739373,0.341815579030506,"3|0|2|2"]
[10,3,0,2,7,3,553.96,2704.73,1.66892709053214,0.204811570840712,"3|0|2|3"]
[10,3,0,2,7,4,553.96,2853.44,1.05498145840805,0.194137602332623,"3|0|2|4"]
[10,3,0,2,7,5,553.96,2410.37,0.844724262644387,0.229823637034978,"3|0|2|5"]
[10,3,0,2,7,6,553.96,1942.85,0.806038077141684,0.285127518851172,"3|0|2|6"]
[10,3,0,2,7,7,553.96,1495.57,0.769781506549656,0.37040058305529,"3|0|2|7"]
[10,3,0,2,7,8,553.96,1023.6,0.684421324311132,0.541187964048456,"3|0|2|8"]
[10,3,0,2,7,9,553.96,525.56,0.513442751074638,1.05403759799071,"3|0|2|9"]
[10,3,0,2,7,10,553.96,0,0,0,"3|0|2|10"]
[10,3,0,3,8,1,553.95,655.16,0,0.845518651932353,"3|0|3|1"]
[10,3,0,3,8,2,553.95,1620.67,2.47370108065205,0.341803081441626,"3|0|3|2"]
[10,3,0,3,8,3,553.95,2704.75,1.66890853782695,0.204806359182919,"3|0|3|3"]
[10,3,0,3,8,4,553.95,2853.47,1.05498474905259,0.194132056758964,"3|0|3|4"]
[10,3,0,3,8,5,553.95,2410.4,0.8447258951382,0.229816627945569,"3|0|3|5"]
[10,3,0,3,8,6,553.95,1942.88,0.806040491204779,0.285117969200362,"3|0|3|6"]
[10,3,0,3,8,7,553.95,1495.61,0.76979020835049,0.370383990478801,"3|0|3|7"]
[10,3,0,3,8,8,553.95,1023.64,0.684429764443939,0.541157047399476,"3|0|3|8"]
[10,3,0,3,8,9,553.95,525.59,0.513451994841937,1.05395840864552,"3|0|3|9"]
[10,3,0,3,8,10,553.95,0,0,0,"3|0|3|10"]
[10,3,0,4,9,1,553.92,655.17,0,0.845459956957736,"3|0|4|1"]
[10,3,0,4,9,2,553.92,1620.68,2.4736785872369,0.34178246168275,"3|0|4|2"]
[10,3,0,4,9,3,553.92,2704.77,1.66891058074389,0.204793753258133,"3|0|4|3"]
[10,3,0,4,9,4,553.92,2853.5,1.05498803964847,0.194119502365516,"3|0|4|4"]
[10,3,0,4,9,5,553.92,2410.43,0.844727527597687,0.229801321755869,"3|0|4|5"]
[10,3,0,4,9,6,553.92,1942.9,0.806038756570405,0.285099593391322,"3|0|4|6"]
[10,3,0,4,9,7,553.92,1495.65,0.769802871995471,0.370354026677364,"3|0|4|7"]
[10,3,0,4,9,8,553.92,1023.68,0.684438204125297,0.541106595811191,"3|0|4|8"]
[10,3,0,4,9,9,553.92,525.62,0.51346123788684,1.05384117803737,"3|0|4|9"]
[10,3,0,4,9,10,553.92,0,0,0,"3|0|4|10"]
[10,3,0,5,10,1,553.89,655.18,0,0.845401263774841,"3|0|5|1"]
[10,3,0,5,10,2,553.89,1620.69,2.47365609450838,0.341761842178331,"3|0|5|2"]
[10,3,0,5,10,3,553.89,2704.79,1.66891262363561,0.20478114751977,"3|0|5|3"]
[10,3,0,5,10,4,553.89,2853.51,1.0549839359063,0.19410830871453,"3|0|5|4"]
[10,3,0,5,10,5,553.89,2410.44,0.844728071743222,0.229787922536964,"3|0|5|5"]
[10,3,0,5,10,6,553.89,1942.92,0.8060437098621,0.285081217960595,"3|0|5|6"]
[10,3,0,5,10,7,553.89,1495.67,0.769805241595125,0.37032901642742,"3|0|5|7"]
[10,3,0,5,10,8,553.89,1023.71,0.684449109763517,0.54106143341376,"3|0|5|8"]
[10,3,0,5,10,9,553.89,525.64,0.513465727598636,1.05374400730538,"3|0|5|9"]
[10,3,0,5,10,10,553.89,0,0,0,"3|0|5|10"]
[10,3,0,6,11,1,553.86,655.19,0,0.845342572383583,"3|0|6|1"]
[10,3,0,6,11,2,553.86,1620.7,2.47363360246646,0.341741222928364,"3|0|6|2"]
[10,3,0,6,11,3,553.86,2704.8,1.66890849632875,0.204769299023957,"3|0|6|3"]
[10,3,0,6,11,4,553.86,2853.52,1.05498373262348,0.194097115142,"3|0|6|4"]
[10,3,0,6,11,5,553.86,2410.45,0.844728615884942,0.229774523429235,"3|0|6|5"]
[10,3,0,6,11,6,553.86,1942.92,0.806040365906781,0.285065777283676,"3|0|6|6"]
[10,3,0,6,11,7,553.86,1495.69,0.769815535379738,0.370304006846338,"3|0|6|7"]
[10,3,0,6,11,8,553.86,1023.74,0.684460015110083,0.541016273663235,"3|0|6|8"]
[10,3,0,6,11,9,553.86,525.66,0.513470217047297,1.05364684396758,"3|0|6|9"]
[10,3,0,6,11,10,553.86,0,0,0,"3|0|6|10"]
[10,3,0,7,12,1,553.83,655.19,0,0.845296784138952,"3|0|7|1"]
[10,3,0,7,12,2,553.83,1620.71,2.47364886521467,0.341720603932844,"3|0|7|2"]
[10,3,0,7,12,3,553.83,2704.81,1.66890436907281,0.204757450615755,"3|0|7|3"]
[10,3,0,7,12,4,553.83,2853.53,1.05498352934217,0.194085921647924,"3|0|7|4"]
[10,3,0,7,12,5,553.83,2410.46,0.844729160022849,0.229761124432681,"3|0|7|5"]
[10,3,0,7,12,6,553.83,1942.92,0.806037021979207,0.285050336606757,"3|0|7|6"]
[10,3,0,7,12,7,553.83,1495.71,0.769825829164351,0.370278997934092,"3|0|7|7"]
[10,3,0,7,12,8,553.83,1023.75,0.684457548588964,0.540981684981685,"3|0|7|8"]
[10,3,0,7,12,9,553.83,525.67,0.513474969474969,1.05356973005878,"3|0|7|9"]
[10,3,0,7,12,10,553.83,0,0,0,"3|0|7|10"]
[10,3,0,8,13,1,553.79,655.2,0,0.845222832722833,"3|0|8|1"]
[10,3,0,8,13,2,553.79,1620.72,2.47362637362637,0.341693815094526,"3|0|8|2"]
[10,3,0,8,13,3,553.79,2704.82,1.66890024186781,0.204741905191473,"3|0|8|3"]
[10,3,0,8,13,4,553.79,2853.54,1.05498332606236,0.194071223813228,"3|0|8|4"]
[10,3,0,8,13,5,553.79,2410.47,0.844729704156942,0.229743576978763,"3|0|8|5"]
[10,3,0,8,13,6,553.79,1942.91,0.806029529510842,0.285031216062504,"3|0|8|6"]
[10,3,0,8,13,7,553.79,1495.71,0.769829791395381,0.37025225478201,"3|0|8|7"]
[10,3,0,8,13,8,553.79,1023.76,0.684464234376985,0.540937329061499,"3|0|8|8"]
[10,3,0,8,13,9,553.79,525.68,0.513479721809799,1.05347359610409,"3|0|8|9"]
[10,3,0,8,13,10,553.79,0,0,0,"3|0|8|10"]
[10,3,0,9,14,1,553.76,655.2,0,0.845177045177045,"3|0|9|1"]
[10,3,0,9,14,2,553.76,1620.73,2.47364163614164,0.341673196645956,"3|0|9|2"]
[10,3,0,9,14,3,553.76,2704.83,1.66889611471374,0.204730056972157,"3|0|9|3"]
[10,3,0,9,14,4,553.76,2853.54,1.05497942569404,0.194060710556011,"3|0|9|4"]
[10,3,0,9,14,5,553.76,2410.47,0.844729704156942,0.229731131273154,"3|0|9|5"]
[10,3,0,9,14,6,553.76,1942.91,0.806029529510842,0.285015775306113,"3|0|9|6"]
[10,3,0,9,14,7,553.76,1495.71,0.769829791395381,0.370232197417949,"3|0|9|7"]
[10,3,0,9,14,8,553.76,1023.77,0.684470920165005,0.540902741826777,"3|0|9|8"]
[10,3,0,9,14,9,553.76,525.69,0.513484474051789,1.05339648842474,"3|0|9|9"]
[10,3,0,9,14,10,553.76,0,0,0,"3|0|9|10"]
[10,3,0,10,15,1,553.73,655.2,0,0.845131257631258,"3|0|10|1"]
[10,3,0,10,15,2,553.73,1620.73,2.47364163614164,0.341654686468443,"3|0|10|2"]
[10,3,0,10,15,3,553.73,2704.83,1.66889611471374,0.204718965702096,"3|0|10|3"]
[10,3,0,10,15,4,553.73,2853.54,1.05497942569404,0.194050197298794,"3|0|10|4"]
[10,3,0,10,15,5,553.73,2410.47,0.844729704156942,0.229718685567545,"3|0|10|5"]
[10,3,0,10,15,6,553.73,1942.89,0.80602123237377,0.28500326832708,"3|0|10|6"]
[10,3,0,10,15,7,553.73,1495.72,0.769842862951582,0.370209664910545,"3|0|10|7"]
[10,3,0,10,15,8,553.73,1023.78,0.684473029711443,0.540868155267733,"3|0|10|8"]
[10,3,0,10,15,9,553.73,525.69,0.513479458477407,1.05333942057106,"3|0|10|9"]
[10,3,0,10,15,10,553.73,0,0,0,"3|0|10|10"]
[10,3,0,11,16,1,553.7,655.2,0,0.84508547008547,"3|0|11|1"]
[10,3,0,11,16,2,553.7,1620.73,2.47364163614164,0.341636176290931,"3|0|11|2"]
[10,3,0,11,16,3,553.7,2704.83,1.66889611471374,0.204707874432035,"3|0|11|3"]
[10,3,0,11,16,4,553.7,2853.54,1.05497942569404,0.194039684041576,"3|0|11|4"]
[10,3,0,11,16,5,553.7,2410.47,0.844729704156942,0.229706239861936,"3|0|11|5"]
[10,3,0,11,16,6,553.7,1942.88,0.806017083805233,0.284989294243597,"3|0|11|6"]
[10,3,0,11,16,7,553.7,1495.71,0.769841678333196,0.370192082689826,"3|0|11|7"]
[10,3,0,11,16,8,553.7,1023.78,0.684477605953026,0.54083885209713,"3|0|11|8"]
[10,3,0,11,16,9,553.7,525.7,0.513489226200942,1.05326231691079,"3|0|11|9"]
[10,3,0,11,16,10,553.7,0,0,0,"3|0|11|10"]
[10,3,0,12,17,1,553.67,655.2,0,0.845039682539682,"3|0|12|1"]
[10,3,0,12,17,2,553.67,1620.73,2.47364163614164,0.341617666113418,"3|0|12|2"]
[10,3,0,12,17,3,553.67,2704.83,1.66889611471374,0.204696783161973,"3|0|12|3"]
[10,3,0,12,17,4,553.67,2853.54,1.05497942569404,0.194029170784359,"3|0|12|4"]
[10,3,0,12,17,5,553.67,2410.46,0.844726199737869,0.229694747060727,"3|0|12|5"]
[10,3,0,12,17,6,553.67,1942.87,0.806016279050472,0.284975320016265,"3|0|12|6"]
[10,3,0,12,17,7,553.67,1495.71,0.769845640727378,0.370172025325765,"3|0|12|7"]
[10,3,0,12,17,8,553.67,1023.79,0.684484291741046,0.540804266499966,"3|0|12|8"]
[10,3,0,12,17,9,553.67,525.71,0.51349397825726,1.05318521618383,"3|0|12|9"]
[10,3,0,12,17,10,553.67,0,0,0,"3|0|12|10"]
[10,3,0,13,18,1,553.64,655.2,0,0.844993894993895,"3|0|13|1"]
[10,3,0,13,18,2,553.64,1620.73,2.47364163614164,0.341599155935905,"3|0|13|2"]
[10,3,0,13,18,3,553.64,2704.83,1.66889611471374,0.204685691891912,"3|0|13|3"]
[10,3,0,13,18,4,553.64,2853.53,1.05497572860402,0.194019337452208,"3|0|13|4"]
[10,3,0,13,18,5,553.64,2410.45,0.844725655591495,0.22968325416416,"3|0|13|5"]
[10,3,0,13,18,6,553.64,1942.85,0.806011325686075,0.284962812363281,"3|0|13|6"]
[10,3,0,13,18,7,553.64,1495.71,0.769853565638109,0.370151967961704,"3|0|13|7"]
[10,3,0,13,18,8,553.64,1023.8,0.684490977529066,0.540769681578433,"3|0|13|8"]
[10,3,0,13,18,9,553.64,525.71,0.513488962688025,1.05312815050123,"3|0|13|9"]
[10,3,0,13,18,10,553.64,0,0,0,"3|0|13|10"]
[10,3,0,14,19,1,553.61,655.2,0,0.844948107448107,"3|0|14|1"]
[10,3,0,14,19,2,553.61,1620.73,2.47364163614164,0.341580645758393,"3|0|14|2"]
[10,3,0,14,19,3,553.61,2704.83,1.66889611471374,0.204674600621851,"3|0|14|3"]
[10,3,0,14,19,4,553.61,2853.53,1.05497572860402,0.194008824158148,"3|0|14|4"]
[10,3,0,14,19,5,553.61,2410.45,0.844725655591495,0.229670808355286,"3|0|14|5"]
[10,3,0,14,19,6,553.61,1942.84,0.806007177083117,0.284948837783863,"3|0|14|6"]
[10,3,0,14,19,7,553.61,1495.71,0.76985752815466,0.370131910597643,"3|0|14|7"]
[10,3,0,14,19,8,553.61,1023.81,0.684497663317087,0.540735097332513,"3|0|14|8"]
[10,3,0,14,19,9,553.61,525.72,0.513493714654086,1.05305105379289,"3|0|14|9"]
[10,3,0,14,19,10,553.61,0,0,0,"3|0|14|10"]
[10,3,0,15,20,1,553.57,655.2,0,0.844887057387057,"3|0|15|1"]
[10,3,0,15,20,2,553.57,1620.73,2.47364163614164,0.341555965521709,"3|0|15|2"]
[10,3,0,15,20,3,553.57,2704.83,1.66889611471374,0.204659812261769,"3|0|15|3"]
[10,3,0,15,20,4,553.57,2853.52,1.054972031514,0.193995486276599,"3|0|15|4"]
[10,3,0,15,20,5,553.57,2410.44,0.844725111441308,0.229655166691558,"3|0|15|5"]
[10,3,0,15,20,6,553.57,1942.82,0.806002223660411,0.284931182507901,"3|0|15|6"]
[10,3,0,15,20,7,553.57,1495.72,0.769870600467362,0.37010269301741,"3|0|15|7"]
[10,3,0,15,20,8,553.57,1023.82,0.684499772684727,0.540690746420269,"3|0|15|8"]
[10,3,0,15,20,9,553.57,525.74,0.513508233869235,1.05293491079241,"3|0|15|9"]
[10,3,0,15,20,10,553.57,0,0,0,"3|0|15|10"]
[10,3,0,16,21,1,553.54,655.2,0,0.84484126984127,"3|0|16|1"]
[10,3,0,16,21,2,553.54,1620.73,2.47364163614164,0.341537455344197,"3|0|16|2"]
[10,3,0,16,21,3,553.54,2704.83,1.66889611471374,0.204648720991707,"3|0|16|3"]
[10,3,0,16,21,4,553.54,2853.52,1.054972031514,0.193984972945695,"3|0|16|4"]
[10,3,0,16,21,5,553.54,2410.44,0.844725111441308,0.229642720831052,"3|0|16|5"]
[10,3,0,16,21,6,553.54,1942.81,0.805998075040242,0.284917207549889,"3|0|16|6"]
[10,3,0,16,21,7,553.54,1495.72,0.769874563132782,0.370082635787447,"3|0|16|7"]
[10,3,0,16,21,8,553.54,1023.84,0.684513144171369,0.540650882950461,"3|0|16|8"]
[10,3,0,16,21,9,553.54,525.75,0.513507969995312,1.05285782215882,"3|0|16|9"]
[10,3,0,16,21,10,553.54,0,0,0,"3|0|16|10"]
[10,3,0,17,22,1,553.5,655.2,0,0.84478021978022,"3|0|17|1"]
[10,3,0,17,22,2,553.5,1620.73,2.47364163614164,0.341512775107513,"3|0|17|2"]
[10,3,0,17,22,3,553.5,2704.83,1.66889611471374,0.204633932631626,"3|0|17|3"]
[10,3,0,17,22,4,553.5,2853.52,1.054972031514,0.193970955171157,"3|0|17|4"]
[10,3,0,17,22,5,553.5,2410.43,0.844721606997673,0.229627078985907,"3|0|17|5"]
[10,3,0,17,22,6,553.5,1942.8,0.805997270196604,0.284898085237801,"3|0|17|6"]
[10,3,0,17,22,7,553.5,1495.73,0.769883673049207,0.37005341873199,"3|0|17|7"]
[10,3,0,17,22,8,553.5,1023.85,0.684515253421406,0.540606534160277,"3|0|17|8"]
[10,3,0,17,22,9,553.5,525.77,0.513522488645798,1.05274169313578,"3|0|17|9"]
[10,3,0,17,22,10,553.5,0,0,0,"3|0|17|10"]
[10,3,0,18,23,1,553.46,655.2,0,0.84471916971917,"3|0|18|1"]
[10,3,0,18,23,2,553.46,1620.73,2.47364163614164,0.34148809487083,"3|0|18|2"]
[10,3,0,18,23,3,553.46,2704.84,1.66890228477291,0.204618387778944,"3|0|18|3"]
[10,3,0,18,23,4,553.46,2853.52,1.05496813120185,0.193956937396619,"3|0|18|4"]
[10,3,0,18,23,5,553.46,2410.43,0.844721606997673,0.229610484436387,"3|0|18|5"]
[10,3,0,18,23,6,553.46,1942.78,0.805988972921844,0.28488042907586,"3|0|18|6"]
[10,3,0,18,23,7,553.46,1495.74,0.769896745900205,0.370024202067204,"3|0|18|7"]
[10,3,0,18,23,8,553.46,1023.88,0.684530733951088,0.540551627143806,"3|0|18|8"]
[10,3,0,18,23,9,553.46,525.79,0.513526975817479,1.05262557294737,"3|0|18|9"]
[10,3,0,18,23,10,553.46,0,0,0,"3|0|18|10"]
[10,3,0,19,24,1,553.41,655.2,0,0.844642857142857,"3|0|19|1"]
[10,3,0,19,24,2,553.41,1620.73,2.47364163614164,0.341457244574975,"3|0|19|2"]
[10,3,0,19,24,3,553.41,2704.84,1.66890228477291,0.204599902397184,"3|0|19|3"]
[10,3,0,19,24,4,553.41,2853.51,1.05496443412549,0.193940094830577,"3|0|19|4"]
[10,3,0,19,24,5,553.41,2410.43,0.844724567287306,0.229589741249487,"3|0|19|5"]
[10,3,0,19,24,6,553.41,1942.77,0.805984824284464,0.284856158989484,"3|0|19|6"]
[10,3,0,19,24,7,553.41,1495.75,0.769905856071486,0.369988300183854,"3|0|19|7"]
[10,3,0,19,24,8,553.41,1023.91,0.684546214273776,0.540486956861443,"3|0|19|8"]
[10,3,0,19,24,9,553.41,525.82,0.513541229209599,1.05247042714237,"3|0|19|9"]
[10,3,0,19,24,10,553.41,0,0,0,"3|0|19|10"]
[10,3,0,20,25,1,553.35,655.2,0,0.844551282051282,"3|0|20|1"]
[10,3,0,20,25,2,553.35,1620.73,2.47364163614164,0.34142022421995,"3|0|20|2"]
[10,3,0,20,25,3,553.35,2704.84,1.66890228477291,0.204577719939072,"3|0|20|3"]
[10,3,0,20,25,4,553.35,2853.51,1.05496443412549,0.193919068095083,"3|0|20|4"]
[10,3,0,20,25,5,553.35,2410.43,0.844724567287306,0.229564849425206,"3|0|20|5"]
[10,3,0,20,25,6,553.35,1942.76,0.805980675647084,0.284826741337067,"3|0|20|6"]
[10,3,0,20,25,7,553.35,1495.77,0.769920113652741,0.369943239936621,"3|0|20|7"]
[10,3,0,20,25,8,553.35,1023.94,0.68455711773869,0.540412524171338,"3|0|20|8"]
[10,3,0,20,25,9,553.35,525.84,0.513545715569272,1.05231629392971,"3|0|20|9"]
[10,3,0,20,25,10,553.35,0,0,0,"3|0|20|10"]
[10,3,0,21,26,1,553.3,655.2,0,0.844474969474969,"3|0|21|1"]
[10,3,0,21,26,2,553.3,1620.74,2.4736568986569,0.341387267544455,"3|0|21|2"]
[10,3,0,21,26,3,553.3,2704.85,1.6688981576317,0.204558478288999,"3|0|21|3"]
[10,3,0,21,26,4,553.3,2853.52,1.05496423091854,0.193900866298466,"3|0|21|4"]
[10,3,0,21,26,5,553.3,2410.43,0.844721606997673,0.229544106238306,"3|0|21|5"]
[10,3,0,21,26,6,553.3,1942.75,0.805976527009704,0.284802470724488,"3|0|21|6"]
[10,3,0,21,26,7,553.3,1495.79,0.769934371380775,0.369904866324818,"3|0|21|7"]
[10,3,0,21,26,8,553.3,1023.97,0.684568020912027,0.540347861753762,"3|0|21|8"]
[10,3,0,21,26,9,553.3,525.88,0.513569733488286,1.05214117289115,"3|0|21|9"]
[10,3,0,21,26,10,553.3,0,0,0,"3|0|21|10"]
[10,3,0,22,27,1,553.23,655.2,0,0.844368131868132,"3|0|22|1"]
[10,3,0,22,27,2,553.23,1620.74,2.4736568986569,0.341344077396745,"3|0|22|2"]
[10,3,0,22,27,3,553.23,2704.85,1.6688981576317,0.204532598850214,"3|0|22|3"]
[10,3,0,22,27,4,553.23,2853.52,1.05496423091854,0.193876335193025,"3|0|22|4"]
[10,3,0,22,27,5,553.23,2410.43,0.844721606997673,0.229515065776646,"3|0|22|5"]
[10,3,0,22,27,6,553.23,1942.73,0.805968229734944,0.284769370936775,"3|0|22|6"]
[10,3,0,22,27,7,553.23,1495.81,0.769952592485832,0.369853123057073,"3|0|22|7"]
[10,3,0,22,27,8,553.23,1024.01,0.68458560913485,0.540258395914102,"3|0|22|8"]
[10,3,0,22,27,9,553.23,525.91,0.513578968955381,1.05194805194805,"3|0|22|9"]
[10,3,0,22,27,10,553.23,0,0,0,"3|0|22|10"]
[10,3,0,23,28,1,553.16,655.2,0,0.844261294261294,"3|0|23|1"]
[10,3,0,23,28,2,553.16,1620.74,2.4736568986569,0.341300887249034,"3|0|23|2"]
[10,3,0,23,28,3,553.16,2704.86,1.6689043276528,0.204505963340062,"3|0|23|3"]
[10,3,0,23,28,4,553.16,2853.52,1.05496033066406,0.193851804087583,"3|0|23|4"]
[10,3,0,23,28,5,553.16,2410.43,0.844721606997673,0.229486025314985,"3|0|23|5"]
[10,3,0,23,28,6,553.16,1942.72,0.805964081097564,0.284734804809751,"3|0|23|6"]
[10,3,0,23,28,7,553.16,1495.83,0.769966850601219,0.369801381172994,"3|0|23|7"]
[10,3,0,23,28,8,553.16,1024.05,0.684603196887347,0.54016893706362,"3|0|23|8"]
[10,3,0,23,28,9,553.16,525.95,0.513597968849177,1.05173495579428,"3|0|23|9"]
[10,3,0,23,28,10,553.16,0,0,0,"3|0|23|10"]
[10,3,0,24,29,1,553.07,655.2,0,0.844123931623932,"3|0|24|1"]
[10,3,0,24,29,2,553.07,1620.75,2.47367216117216,0.341243251581058,"3|0|24|2"]
[10,3,0,24,29,3,553.07,2704.87,1.66890020052445,0.204471933956161,"3|0|24|3"]
[10,3,0,24,29,4,553.07,2853.52,1.05495643043843,0.193820264094872,"3|0|24|4"]
[10,3,0,24,29,5,553.07,2410.43,0.844721606997673,0.229448687578565,"3|0|24|5"]
[10,3,0,24,29,6,553.07,1942.7,0.805955783822804,0.284691408863952,"3|0|24|6"]
[10,3,0,24,29,7,553.07,1495.86,0.769990219797189,0.369733798617518,"3|0|24|7"]
[10,3,0,24,29,8,553.07,1024.1,0.684622892516679,0.540054682159945,"3|0|24|8"]
[10,3,0,24,29,9,553.07,525.99,0.513611951957817,1.05148386851461,"3|0|24|9"]
[10,3,0,24,29,10,553.07,0,0,0,"3|0|24|10"]
[10,3,0,25,30,1,552.98,655.21,0,0.843973687825277,"3|0|25|1"]
[10,3,0,25,30,2,552.98,1620.75,2.47363440728927,0.341187721733765,"3|0|25|2"]
[10,3,0,25,30,3,552.98,2704.87,1.66890020052445,0.204438660638034,"3|0|25|3"]
[10,3,0,25,30,4,552.98,2853.52,1.05495643043843,0.193788724102162,"3|0|25|4"]
[10,3,0,25,30,5,552.98,2410.43,0.844721606997673,0.229411349842144,"3|0|25|5"]
[10,3,0,25,30,6,552.98,1942.68,0.805947486548043,0.284648012024626,"3|0|25|6"]
[10,3,0,25,30,7,552.98,1495.89,0.770013589474334,0.369666218772771,"3|0|25|7"]
[10,3,0,25,30,8,552.98,1024.16,0.684649272339544,0.539935166380253,"3|0|25|8"]
[10,3,0,25,30,9,552.98,526.04,0.513630682705827,1.05121283552582,"3|0|25|9"]
[10,3,0,25,30,10,552.98,0,0,0,"3|0|25|10"]
[10,3,0,26,31,1,552.88,655.21,0,0.84382106500206,"3|0|26|1"]
[10,3,0,26,31,2,552.88,1620.76,2.47364966957159,0.341123917174659,"3|0|26|2"]
[10,3,0,26,31,3,552.88,2704.88,1.66889607344702,0.204400934607081,"3|0|26|3"]
[10,3,0,26,31,4,552.88,2853.52,1.05495253024164,0.193753679665816,"3|0|26|4"]
[10,3,0,26,31,5,552.88,2410.43,0.844721606997673,0.229369863468344,"3|0|26|5"]
[10,3,0,26,31,6,552.88,1942.66,0.805939189273283,0.284599466710593,"3|0|26|6"]
[10,3,0,26,31,7,552.88,1495.92,0.770036959632669,0.369591956789133,"3|0|26|7"]
[10,3,0,26,31,8,552.88,1024.22,0.684675651104337,0.539805901075941,"3|0|26|8"]
[10,3,0,26,31,9,552.88,526.09,0.5136494112593,1.05092284590089,"3|0|26|9"]
[10,3,0,26,31,10,552.88,0,0,0,"3|0|26|10"]
[10,3,0,27,32,1,552.77,655.21,0,0.843653179896522,"3|0|27|1"]
[10,3,0,27,32,2,552.77,1620.77,2.47366493185391,0.341053943495993,"3|0|27|2"]
[10,3,0,27,32,3,552.77,2704.89,1.66889194642053,0.204359511847062,"3|0|27|3"]
[10,3,0,27,32,4,552.77,2853.53,1.05495232708169,0.193714451924458,"3|0|27|4"]
[10,3,0,27,32,5,552.77,2410.43,0.844718646728788,0.229324228457163,"3|0|27|5"]
[10,3,0,27,32,6,552.77,1942.63,0.805926743361143,0.284547237507914,"3|0|27|6"]
[10,3,0,27,32,7,552.77,1495.96,0.770069441942109,0.369508543009171,"3|0|27|7"]
[10,3,0,27,32,8,552.77,1024.28,0.684697451803524,0.539666887960323,"3|0|27|8"]
[10,3,0,27,32,9,552.77,526.15,0.513677900574062,1.05059393709018,"3|0|27|9"]
[10,3,0,27,32,10,552.77,0,0,0,"3|0|27|10"]
[10,3,0,28,33,1,552.64,655.21,0,0.84345477022634,"3|0|28|1"]
[10,3,0,28,33,2,552.64,1620.78,2.47368019413623,0.340971630943126,"3|0|28|2"]
[10,3,0,28,33,3,552.64,2704.91,1.66889398931379,0.204309940071943,"3|0|28|3"]
[10,3,0,28,33,4,552.64,2853.53,1.05494452680496,0.193668894316864,"3|0|28|4"]
[10,3,0,28,33,5,552.64,2410.43,0.844718646728788,0.229270296171223,"3|0|28|5"]
[10,3,0,28,33,6,552.64,1942.61,0.805918446086383,0.284483246765949,"3|0|28|6"]
[10,3,0,28,33,7,552.64,1495.99,0.770092813276983,0.369414234052367,"3|0|28|7"]
[10,3,0,28,33,8,552.64,1024.36,0.684737197441159,0.539497832793159,"3|0|28|8"]
[10,3,0,28,33,9,552.64,526.21,0.51369635674958,1.05022709564622,"3|0|28|9"]
[10,3,0,28,33,10,552.64,0,0,0,"3|0|28|10"]
[10,3,0,29,34,1,552.5,655.22,0,0.843228228686548,"3|0|29|1"]
[10,3,0,29,34,2,552.5,1620.78,2.47364244070694,0.340885252779526,"3|0|29|2"]
[10,3,0,29,34,3,552.5,2704.92,1.66890015918262,0.20425742720672,"3|0|29|3"]
[10,3,0,29,34,4,552.5,2853.53,1.05494062670985,0.193619832277915,"3|0|29|4"]
[10,3,0,29,34,5,552.5,2410.43,0.844718646728788,0.229212215247902,"3|0|29|5"]
[10,3,0,29,34,6,552.5,1942.57,0.805901851536863,0.284417035164756,"3|0|29|6"]
[10,3,0,29,34,7,552.5,1496.04,0.770134409570826,0.369308307264512,"3|0|29|7"]
[10,3,0,29,34,8,552.5,1024.43,0.684761102644314,0.539324307175698,"3|0|29|8"]
[10,3,0,29,34,9,552.5,526.28,0.513729586208916,1.04982138785437,"3|0|29|9"]
[10,3,0,29,34,10,552.5,0,0,0,"3|0|29|10"]
[10,3,0,30,35,1,552.35,655.22,0,0.842999297945728,"3|0|30|1"]
[10,3,0,30,35,2,552.35,1620.79,2.47365770275633,0.340790602113784,"3|0|30|2"]
[10,3,0,30,35,3,552.35,2704.93,1.66889603218184,0.20420121777643,"3|0|30|3"]
[10,3,0,30,35,4,552.35,2853.54,1.05494042359691,0.193566587466796,"3|0|30|4"]
[10,3,0,30,35,5,552.35,2410.42,0.84471218206158,0.229150936351341,"3|0|30|5"]
[10,3,0,30,35,6,552.35,1942.54,0.805892748981505,0.284344209128255,"3|0|30|6"]
[10,3,0,30,35,7,552.35,1496.08,0.770166894890195,0.36919817122079,"3|0|30|7"]
[10,3,0,30,35,8,552.35,1024.52,0.684802951713812,0.539130519657986,"3|0|30|8"]
[10,3,0,30,35,9,552.35,526.36,0.513762542458908,1.0493768523444,"3|0|30|9"]
[10,3,0,30,35,10,552.35,0,0,0,"3|0|30|10"]
[10,3,0,31,36,1,552.18,655.23,0,0.842726981365322,"3|0|31|1"]
[10,3,0,31,36,2,552.18,1620.8,2.47363521206294,0.340683613030602,"3|0|31|2"]
[10,3,0,31,36,3,552.18,2704.95,1.66889807502468,0.204136860200743,"3|0|31|3"]
[10,3,0,31,36,4,552.18,2853.54,1.05493262352354,0.193507012342564,"3|0|31|4"]
[10,3,0,31,36,5,552.18,2410.42,0.84471218206158,0.229080409223289,"3|0|31|5"]
[10,3,0,31,36,6,552.18,1942.5,0.80587615436314,0.284262548262548,"3|0|31|6"]
[10,3,0,31,36,7,552.18,1496.13,0.770208494208494,0.369072206292234,"3|0|31|7"]
[10,3,0,31,36,8,552.18,1024.61,0.684840221103781,0.538917246562107,"3|0|31|8"]
[10,3,0,31,36,9,552.18,526.44,0.513795492919257,1.04889446090723,"3|0|31|9"]
[10,3,0,31,36,10,552.18,0,0,0,"3|0|31|10"]
[10,3,0,32,37,1,552,655.23,0,0.842452268669017,"3|0|32|1"]
[10,3,0,32,37,2,552,1620.81,2.4736504738794,0.340570455512984,"3|0|32|2"]
[10,3,0,32,37,3,552,2704.96,1.66889394808768,0.204069561102567,"3|0|32|3"]
[10,3,0,32,37,4,552,2853.54,1.05492872353011,0.19344393279926,"3|0|32|4"]
[10,3,0,32,37,5,552,2410.42,0.84471218206158,0.229005733440645,"3|0|32|5"]
[10,3,0,32,37,6,552,1942.46,0.805859559744775,0.28417573592249,"3|0|32|6"]
[10,3,0,32,37,7,552,1496.18,0.770250095240056,0.368939566094989,"3|0|32|7"]
[10,3,0,32,37,8,552,1024.71,0.684884171690572,0.538688994935152,"3|0|32|8"]
[10,3,0,32,37,9,552,526.53,0.513833182071025,1.04837331206199,"3|0|32|9"]
[10,3,0,32,37,10,552,0,0,0,"3|0|32|10"]
[10,3,0,33,38,1,551.8,655.23,0,0.842147032339789,"3|0|33|1"]
[10,3,0,33,38,2,551.8,1620.83,2.47368099751232,0.34044285952259,"3|0|33|2"]
[10,3,0,33,38,3,551.8,2704.98,1.66888569436647,0.203994114559073,"3|0|33|3"]
[10,3,0,33,38,4,551.8,2853.55,1.05492462051475,0.193373166757197,"3|0|33|4"]
[10,3,0,33,38,5,551.8,2410.42,0.844709221846472,0.228922760348819,"3|0|33|5"]
[10,3,0,33,38,6,551.8,1942.41,0.805838816471818,0.284080086078634,"3|0|33|6"]
[10,3,0,33,38,7,551.8,1496.24,0.770300811878028,0.368791103031599,"3|0|33|7"]
[10,3,0,33,38,8,551.8,1024.82,0.684930225097578,0.538436018032435,"3|0|33|8"]
[10,3,0,33,38,9,551.8,526.63,0.513875607423743,1.04779446670338,"3|0|33|9"]
[10,3,0,33,38,10,551.8,0,0,0,"3|0|33|10"]
[10,3,0,34,39,1,551.58,655.24,0,0.841798425004579,"3|0|34|1"]
[10,3,0,34,39,2,551.58,1620.84,2.47365850680667,0.340305027023025,"3|0|34|2"]
[10,3,0,34,39,3,551.58,2705,1.66888773722267,0.203911275415897,"3|0|34|3"]
[10,3,0,34,39,4,551.58,2853.55,1.0549168207024,0.193296069807783,"3|0|34|4"]
[10,3,0,34,39,5,551.58,2410.42,0.844709221846472,0.22883148994781,"3|0|34|5"]
[10,3,0,34,39,6,551.58,1942.36,0.805818073198862,0.28397413455796,"3|0|34|6"]
[10,3,0,34,39,7,551.58,1496.3,0.770351531127083,0.368629285571075,"3|0|34|7"]
[10,3,0,34,39,8,551.58,1024.94,0.684982957962975,0.538158331219388,"3|0|34|8"]
[10,3,0,34,39,9,551.58,526.73,0.513913009542022,1.04717787101551,"3|0|34|9"]
[10,3,0,34,39,10,551.58,0,0,0,"3|0|34|10"]
[10,3,0,35,40,1,551.34,655.24,0,0.841432146999573,"3|0|35|1"]
[10,3,0,35,40,2,551.34,1620.85,2.47367376839021,0.340154857019465,"3|0|35|2"]
[10,3,0,35,40,3,551.34,2705.02,1.66888978005368,0.203821043837014,"3|0|35|3"]
[10,3,0,35,40,4,551.34,2853.55,1.05490902100539,0.193211964044786,"3|0|35|4"]
[10,3,0,35,40,5,551.34,2410.41,0.84470571743968,0.228732871171295,"3|0|35|5"]
[10,3,0,35,40,6,551.34,1942.3,0.805796524242764,0.283859342017196,"3|0|35|6"]
[10,3,0,35,40,7,551.34,1496.37,0.770411367965814,0.368451653000261,"3|0|35|7"]
[10,3,0,35,40,8,551.34,1025.07,0.685037791455322,0.537855951300887,"3|0|35|8"]
[10,3,0,35,40,9,551.34,526.85,0.513964899958052,1.04648381892379,"3|0|35|9"]
[10,3,0,35,40,10,551.34,0,0,0,"3|0|35|10"]
[10,3,0,36,41,1,551.07,655.25,0,0.841007249141549,"3|0|36|1"]
[10,3,0,36,41,2,551.07,1620.87,2.47366653948874,0.339984082622296,"3|0|36|2"]
[10,3,0,36,41,3,551.07,2705.04,1.66888152658757,0.203719723183391,"3|0|36|3"]
[10,3,0,36,41,4,551.07,2853.55,1.05490122142371,0.193117345061415,"3|0|36|4"]
[10,3,0,36,41,5,551.07,2410.41,0.84470571743968,0.228620857032621,"3|0|36|5"]
[10,3,0,36,41,6,551.07,1942.24,0.805771632211947,0.283729096301178,"3|0|36|6"]
[10,3,0,36,41,7,551.07,1496.44,0.770471208501524,0.368253989468338,"3|0|36|7"]
[10,3,0,36,41,8,551.07,1025.21,0.68509930234423,0.537519142419602,"3|0|36|8"]
[10,3,0,36,41,9,551.07,526.97,0.514011763443587,1.04573315368996,"3|0|36|9"]
[10,3,0,36,41,10,551.07,0,0,0,"3|0|36|10"]
[10,3,0,37,42,1,550.79,655.26,0,0.840567103134634,"3|0|37|1"]
[10,3,0,37,42,2,550.79,1620.88,2.4736440496902,0.339809239425497,"3|0|37|2"]
[10,3,0,37,42,3,550.79,2705.07,1.66888973890726,0.203613954537221,"3|0|37|3"]
[10,3,0,37,42,4,550.79,2853.56,1.05489321902945,0.193018545255751,"3|0|37|4"]
[10,3,0,37,42,5,550.79,2410.41,0.844702757257601,0.228504694222145,"3|0|37|5"]
[10,3,0,37,42,6,550.79,1942.17,0.805742591509328,0.283595153874275,"3|0|37|6"]
[10,3,0,37,42,7,550.79,1496.51,0.770535020106376,0.368049662214085,"3|0|37|7"]
[10,3,0,37,42,8,550.79,1025.36,0.685167489692685,0.537167433876882,"3|0|37|8"]
[10,3,0,37,42,9,550.79,527.1,0.51406335335882,1.04494403339025,"3|0|37|9"]
[10,3,0,37,42,10,550.79,0,0,0,"3|0|37|10"]
[10,3,0,38,43,1,550.48,655.26,0,0.840094008485181,"3|0|38|1"]
[10,3,0,38,43,2,550.48,1620.9,2.47367457192565,0.339613794805355,"3|0|38|2"]
[10,3,0,38,43,3,550.48,2705.1,1.66888765500648,0.203497098074008,"3|0|38|3"]
[10,3,0,38,43,4,550.48,2853.56,1.05488152009168,0.192909909025919,"3|0|38|4"]
[10,3,0,38,43,5,550.48,2410.4,0.84469925286309,0.228377032857617,"3|0|38|5"]
[10,3,0,38,43,6,550.48,1942.09,0.805712744772652,0.283447214083796,"3|0|38|6"]
[10,3,0,38,43,7,550.48,1496.59,0.770607953287438,0.367822850613729,"3|0|38|7"]
[10,3,0,38,43,8,550.48,1025.52,0.685237773872604,0.536781340198143,"3|0|38|8"]
[10,3,0,38,43,9,550.48,527.24,0.514119666120602,1.04407859798194,"3|0|38|9"]
[10,3,0,38,43,10,550.48,0,0,0,"3|0|38|10"]
[10,3,0,39,44,1,550.15,655.27,0,0.839577578708014,"3|0|39|1"]
[10,3,0,39,44,2,550.15,1620.92,2.47366734323256,0.339406016336401,"3|0|39|2"]
[10,3,0,39,44,3,550.15,2705.12,1.66887940182119,0.20337360264979,"3|0|39|3"]
[10,3,0,39,44,4,550.15,2853.56,1.05487372094399,0.192794264007065,"3|0|39|4"]
[10,3,0,39,44,5,550.15,2410.39,0.84469574846858,0.228241073021378,"3|0|39|5"]
[10,3,0,39,44,6,550.15,1942.01,0.805682897788325,0.283288963496583,"3|0|39|6"]
[10,3,0,39,44,7,550.15,1496.68,0.770686041781453,0.367580244273993,"3|0|39|7"]
[10,3,0,39,44,8,550.15,1025.69,0.685310153138947,0.536370638302021,"3|0|39|8"]
[10,3,0,39,44,9,550.15,527.4,0.514190447406136,1.04313613955252,"3|0|39|9"]
[10,3,0,39,44,10,550.15,0,0,0,"3|0|39|10"]
[10,3,0,40,45,1,549.79,655.28,0,0.83901538273715,"3|0|40|1"]
[10,3,0,40,45,2,549.79,1620.94,2.4736601147601,0.339179735215369,"3|0|40|2"]
[10,3,0,40,45,3,549.79,2705.15,1.66887731809937,0.203238267748554,"3|0|40|3"]
[10,3,0,40,45,4,549.79,2853.57,1.05486571909136,0.192667430621993,"3|0|40|4"]
[10,3,0,40,45,5,549.79,2410.39,0.844692788331809,0.228091719597244,"3|0|40|5"]
[10,3,0,40,45,6,549.79,1941.92,0.805645559432291,0.28311670923622,"3|0|40|6"]
[10,3,0,40,45,7,549.79,1496.77,0.770768105792206,0.367317623950239,"3|0|40|7"]
[10,3,0,40,45,8,549.79,1025.88,0.685395885807439,0.535920380551331,"3|0|40|8"]
[10,3,0,40,45,9,549.79,527.56,0.514251179475182,1.04213738721662,"3|0|40|9"]
[10,3,0,40,45,10,549.79,0,0,0,"3|0|40|10"]
[10,3,0,41,46,1,549.4,655.28,0,0.838420217311684,"3|0|41|1"]
[10,3,0,41,46,2,549.4,1620.96,2.47369063606397,0.338934952127135,"3|0|41|2"]
[10,3,0,41,46,3,549.4,2705.19,1.66888140361267,0.203091095265028,"3|0|41|3"]
[10,3,0,41,46,4,549.4,2853.57,1.05485012143325,0.192530759715024,"3|0|41|4"]
[10,3,0,41,46,5,549.4,2410.38,0.844689283949579,0.227930865672633,"3|0|41|5"]
[10,3,0,41,46,6,549.4,1941.82,0.805607414598528,0.282930446694338,"3|0|41|6"]
[10,3,0,41,46,7,549.4,1496.86,0.770854147140312,0.367034993252542,"3|0|41|7"]
[10,3,0,41,46,8,549.4,1026.07,0.685481608166428,0.535441051780093,"3|0|41|8"]
[10,3,0,41,46,9,549.4,527.73,0.514321634976171,1.04106266462017,"3|0|41|9"]
[10,3,0,41,46,10,549.4,0,0,0,"3|0|41|10"]
[10,3,0,42,47,1,548.98,655.29,0,0.83776648506768,"3|0|42|1"]
[10,3,0,42,47,2,548.98,1620.98,2.47368340734637,0.338671667756542,"3|0|42|2"]
[10,3,0,42,47,3,548.98,2705.22,1.66887931991758,0.202933587656457,"3|0|42|3"]
[10,3,0,42,47,4,548.98,2853.57,1.05483842349236,0.192383575661365,"3|0|42|4"]
[10,3,0,42,47,5,548.98,2410.37,0.844685779567349,0.22775756419139,"3|0|42|5"]
[10,3,0,42,47,6,548.98,1941.71,0.805565120707609,0.282730170828806,"3|0|42|6"]
[10,3,0,42,47,7,548.98,1496.96,0.770949317869301,0.366729905942711,"3|0|42|7"]
[10,3,0,42,47,8,548.98,1026.28,0.68557610089782,0.534922243442335,"3|0|42|8"]
[10,3,0,42,47,9,548.98,527.92,0.514401527848151,1.0398924079406,"3|0|42|9"]
[10,3,0,42,47,10,548.98,0,0,0,"3|0|42|10"]
[10,3,0,43,48,1,548.53,655.3,0,0.837066992217305,"3|0|43|1"]
[10,3,0,43,48,2,548.53,1621.01,2.47369143903556,0.338387795263447,"3|0|43|2"]
[10,3,0,43,48,3,548.53,2705.26,1.66887310997465,0.202764244471881,"3|0|43|3"]
[10,3,0,43,48,4,548.53,2853.57,1.05482282664143,0.192225878461015,"3|0|43|4"]
[10,3,0,43,48,5,548.53,2410.35,0.844678770802889,0.227572759142863,"3|0|43|5"]
[10,3,0,43,48,6,548.53,1941.59,0.805522019623706,0.282515876163351,"3|0|43|6"]
[10,3,0,43,48,7,548.53,1497.07,0.771053621001344,0.366402372634546,"3|0|43|7"]
[10,3,0,43,48,8,548.53,1026.5,0.685672680636176,0.534369215781783,"3|0|43|8"]
[10,3,0,43,48,9,548.53,528.12,0.514486117876279,1.03864651973036,"3|0|43|9"]
[10,3,0,43,48,10,548.53,0,0,0,"3|0|43|10"]
[10,3,0,44,49,1,548.05,655.31,0,0.836321740855473,"3|0|44|1"]
[10,3,0,44,49,2,548.05,1621.03,2.47368421052632,0.338087512260723,"3|0|44|2"]
[10,3,0,44,49,3,548.05,2705.3,1.66887719536344,0.202583816951909,"3|0|44|3"]
[10,3,0,44,49,4,548.05,2853.57,1.05480723025173,0.192057668113977,"3|0|44|4"]
[10,3,0,44,49,5,548.05,2410.34,0.844675266420659,0.227374561265216,"3|0|44|5"]
[10,3,0,44,49,6,548.05,1941.46,0.805471427267522,0.28228755678716,"3|0|44|6"]
[10,3,0,44,49,7,548.05,1497.18,0.771161909078735,0.366054849784261,"3|0|44|7"]
[10,3,0,44,49,8,548.05,1026.74,0.685782604630038,0.533776808150067,"3|0|44|8"]
[10,3,0,44,49,9,548.05,528.33,0.514570387829441,1.03732515662559,"3|0|44|9"]
[10,3,0,44,49,10,548.05,0,0,0,"3|0|44|10"]
[10,3,0,45,50,1,547.53,655.32,0,0.835515473356528,"3|0|45|1"]
[10,3,0,45,50,2,547.53,1621.06,2.47369224195813,0.337760477712114,"3|0|45|2"]
[10,3,0,45,50,3,547.53,2705.34,1.66887098565136,0.202388609195147,"3|0|45|3"]
[10,3,0,45,50,4,547.53,2853.57,1.05479163432323,0.191875440238018,"3|0|45|4"]
[10,3,0,45,50,5,547.53,2410.32,0.844668257656199,0.227160708951508,"3|0|45|5"]
[10,3,0,45,50,6,547.53,1941.32,0.805420027216303,0.282040055220159,"3|0|45|6"]
[10,3,0,45,50,7,547.53,1497.3,0.771279335709723,0.365678220797435,"3|0|45|7"]
[10,3,0,45,50,8,547.53,1026.98,0.685887931610232,0.533145728251767,"3|0|45|8"]
[10,3,0,45,50,9,547.53,528.55,0.514664355683655,1.03590956390124,"3|0|45|9"]
[10,3,0,45,50,10,547.53,0,0,0,"3|0|45|10"]
[10,3,0,46,51,1,546.98,655.33,0,0.834663452001282,"3|0|46|1"]
[10,3,0,46,51,2,546.98,1621.09,2.47370027314483,0.337414949200846,"3|0|46|2"]
[10,3,0,46,51,3,546.98,2705.38,1.66886477616912,0.202182318195595,"3|0|46|3"]
[10,3,0,46,51,4,546.98,2853.57,1.05477603885591,0.191682699215369,"3|0|46|4"]
[10,3,0,46,51,5,546.98,2410.3,0.844661248891739,0.226934406505414,"3|0|46|5"]
[10,3,0,46,51,6,546.98,1941.17,0.80536447745094,0.281778515019292,"3|0|46|6"]
[10,3,0,46,51,7,546.98,1497.42,0.771400753154026,0.365281617715805,"3|0|46|7"]
[10,3,0,46,51,8,546.98,1027.25,0.686013276168343,0.532470187393526,"3|0|46|8"]
[10,3,0,46,51,9,546.98,528.78,0.514752981260647,1.0344188509399,"3|0|46|9"]
[10,3,0,46,51,10,546.98,0,0,0,"3|0|46|10"]
[10,3,0,47,52,1,546.38,655.34,0,0.833735160374767,"3|0|47|1"]
[10,3,0,47,52,2,546.38,1621.11,2.47369304483169,0.337040669664613,"3|0|47|2"]
[10,3,0,47,52,3,546.38,2705.43,1.66887503007199,0.201956805387683,"3|0|47|3"]
[10,3,0,47,52,4,546.38,2853.56,1.05475284890017,0.191473107276525,"3|0|47|4"]
[10,3,0,47,52,5,546.38,2410.28,0.844657200128962,0.226687355825879,"3|0|47|5"]
[10,3,0,47,52,6,546.38,1941.01,0.805304777868131,0.281492624973596,"3|0|47|6"]
[10,3,0,47,52,7,546.38,1497.55,0.771531316170447,0.364849253781176,"3|0|47|7"]
[10,3,0,47,52,8,546.38,1027.53,0.686140696470902,0.531741165708057,"3|0|47|8"]
[10,3,0,47,52,9,546.38,529.04,0.514865746012282,1.0327763496144,"3|0|47|9"]
[10,3,0,47,52,10,546.38,0,0,0,"3|0|47|10"]
[10,3,0,48,53,1,545.75,655.35,0,0.832761120012207,"3|0|48|1"]
[10,3,0,48,53,2,545.75,1621.15,2.47371633478294,0.336643740554545,"3|0|48|2"]
[10,3,0,48,53,3,545.75,2705.47,1.66885852635475,0.201720957911195,"3|0|48|3"]
[10,3,0,48,53,4,545.75,2853.56,1.05473725452509,0.19125233042235,"3|0|48|4"]
[10,3,0,48,53,5,545.75,2410.26,0.84465019133994,0.226427854256387,"3|0|48|5"]
[10,3,0,48,53,6,545.75,1940.83,0.805236779434584,0.281194128285321,"3|0|48|6"]
[10,3,0,48,53,7,545.75,1497.69,0.771675005023624,0.364394500864665,"3|0|48|7"]
[10,3,0,48,53,8,545.75,1027.84,0.686283543323385,0.530967854919054,"3|0|48|8"]
[10,3,0,48,53,9,545.75,529.31,0.514973147571607,1.0310593036217,"3|0|48|9"]
[10,3,0,48,53,10,545.75,0,0,0,"3|0|48|10"]
[10,3,0,49,54,1,545.07,655.36,0,0.831710815429688,"3|0|49|1"]
[10,3,0,49,54,2,545.07,1621.18,2.47372436523437,0.336218063385929,"3|0|49|2"]
[10,3,0,49,54,3,545.07,2705.52,1.6688584857943,0.201465891954227,"3|0|49|3"]
[10,3,0,49,54,4,545.07,2853.55,1.05471406605754,0.191014700986491,"3|0|49|4"]
[10,3,0,49,54,5,545.07,2410.23,0.844642638117433,0.226148541840405,"3|0|49|5"]
[10,3,0,49,54,6,545.07,1940.64,0.80516797152139,0.280871258966114,"3|0|49|6"]
[10,3,0,49,54,7,545.07,1497.84,0.771827850605986,0.36390402179138,"3|0|49|7"]
[10,3,0,49,54,8,545.07,1028.16,0.686428456978048,0.530141223155929,"3|0|49|8"]
[10,3,0,49,54,9,545.07,529.61,0.5151046529723,1.02919129170522,"3|0|49|9"]
[10,3,0,49,54,10,545.07,0,0,0,"3|0|49|10"]
[10,3,0,50,55,1,544.34,655.37,0,0.830584250118254,"3|0|50|1"]
[10,3,0,50,55,2,544.34,1621.21,2.47373239544074,0.335761560809519,"3|0|50|2"]
[10,3,0,50,55,3,544.34,2705.58,1.66886461346772,0.201191611410492,"3|0|50|3"]
[10,3,0,50,55,4,544.34,2853.54,1.05468698024084,0.190759547789763,"3|0|50|4"]
[10,3,0,50,55,5,544.34,2410.2,0.844635084841986,0.225848477304788,"3|0|50|5"]
[10,3,0,50,55,6,544.34,1940.44,0.805095012862003,0.280524004864876,"3|0|50|6"]
[10,3,0,50,55,7,544.34,1498.01,0.771995011440704,0.363375411379096,"3|0|50|7"]
[10,3,0,50,55,8,544.34,1028.52,0.686590877230459,0.529245906739781,"3|0|50|8"]
[10,3,0,50,55,9,544.34,529.93,0.515235483996422,1.02719227067726,"3|0|50|9"]
[10,3,0,50,55,10,544.34,0,0,0,"3|0|50|10"]
[10,3,0,51,56,1,543.56,655.38,0,0.829381427568739,"3|0|51|1"]
[10,3,0,51,56,2,543.56,1621.25,2.47375568372547,0.335272166538165,"3|0|51|2"]
[10,3,0,51,56,3,543.56,2705.63,1.66885427910563,0.200899605637134,"3|0|51|3"]
[10,3,0,51,56,4,543.56,2853.53,1.0546637936451,0.190486870647934,"3|0|51|4"]
[10,3,0,51,56,5,543.56,2410.17,0.844627531513599,0.225527659874615,"3|0|51|5"]
[10,3,0,51,56,6,543.56,1940.22,0.805013754216508,0.280153796992094,"3|0|51|6"]
[10,3,0,51,56,7,543.56,1498.18,0.772170166269805,0.362813547103819,"3|0|51|7"]
[10,3,0,51,56,8,543.56,1028.9,0.686766610153653,0.528292351054524,"3|0|51|8"]
[10,3,0,51,56,9,543.56,530.27,0.515375643891535,1.02506270390556,"3|0|51|9"]
[10,3,0,51,56,10,543.56,0,0,0,"3|0|51|10"]
[10,3,0,52,57,1,542.71,655.39,0,0.828071835090557,"3|0|52|1"]
[10,3,0,52,57,2,542.71,1621.28,2.47376371320893,0.334741685581763,"3|0|52|2"]
[10,3,0,52,57,3,542.71,2705.69,1.66886040659232,0.200580997823106,"3|0|52|3"]
[10,3,0,52,57,4,542.71,2853.52,1.05463671004439,0.190189660489501,"3|0|52|4"]
[10,3,0,52,57,5,542.71,2410.14,0.844619978132272,0.225177790501797,"3|0|52|5"]
[10,3,0,52,57,6,542.71,1939.99,0.804928344411528,0.27974886468487,"3|0|52|6"]
[10,3,0,52,57,7,542.71,1498.37,0.772359651338409,0.362200257613273,"3|0|52|7"]
[10,3,0,52,57,8,542.71,1029.31,0.686953155762595,0.527256123033877,"3|0|52|8"]
[10,3,0,52,57,9,542.71,530.64,0.515529820948014,1.02274611789537,"3|0|52|9"]
[10,3,0,52,57,10,542.71,0,0,0,"3|0|52|10"]
[10,3,0,53,58,1,541.8,655.41,0,0.826658122396668,"3|0|53|1"]
[10,3,0,53,58,2,541.8,1621.32,2.47374925619078,0.33417215602102,"3|0|53|2"]
[10,3,0,53,58,3,541.8,2705.75,1.66885624059408,0.200240229141643,"3|0|53|3"]
[10,3,0,53,58,4,541.8,2853.52,1.05461332347778,0.189870756118759,"3|0|53|4"]
[10,3,0,53,58,5,541.8,2410.1,0.844605960357734,0.224803950043567,"3|0|53|5"]
[10,3,0,53,58,6,541.8,1939.74,0.804837973528069,0.279315784589687,"3|0|53|6"]
[10,3,0,53,58,7,541.8,1498.58,0.772567457494303,0.361542260006139,"3|0|53|7"]
[10,3,0,53,58,8,541.8,1029.75,0.687150502475677,0.526147123088128,"3|0|53|8"]
[10,3,0,53,58,9,541.8,531.04,0.515697984947803,1.02026212714673,"3|0|53|9"]
[10,3,0,53,58,10,541.8,0,0,0,"3|0|53|10"]
[10,3,0,54,59,1,540.83,655.42,0,0.825165542705441,"3|0|54|1"]
[10,3,0,54,59,2,540.83,1621.37,2.47378780018919,0.333563591283914,"3|0|54|2"]
[10,3,0,54,59,3,540.83,2705.82,1.66884794957351,0.199876562372959,"3|0|54|3"]
[10,3,0,54,59,4,540.83,2853.51,1.0545823447236,0.189531489288631,"3|0|54|4"]
[10,3,0,54,59,5,540.83,2410.06,0.844594902418425,0.224405201530252,"3|0|54|5"]
[10,3,0,54,59,6,540.83,1939.47,0.804739301096238,0.278854532423807,"3|0|54|6"]
[10,3,0,54,59,7,540.83,1498.79,0.772783286155496,0.360844414494359,"3|0|54|7"]
[10,3,0,54,59,8,540.83,1030.21,0.687361137984641,0.524970637054581,"3|0|54|8"]
[10,3,0,54,59,9,540.83,531.45,0.51586569728502,1.01764982594788,"3|0|54|9"]
[10,3,0,54,59,10,540.83,0,0,0,"3|0|54|10"]
[10,3,0,55,60,1,539.79,655.44,0,0.823553643354083,"3|0|55|1"]
[10,3,0,55,60,2,539.79,1621.41,2.47377334309777,0.332913945269858,"3|0|55|2"]
[10,3,0,55,60,3,539.79,2705.9,1.66885611905687,0.199486307697993,"3|0|55|3"]
[10,3,0,55,60,4,539.79,2853.5,1.05454747034258,0.189167688803224,"3|0|55|4"]
[10,3,0,55,60,5,539.79,2410.02,0.844583844401612,0.22397739437847,"3|0|55|5"]
[10,3,0,55,60,6,539.79,1939.18,0.804632326702683,0.278359925329263,"3|0|55|6"]
[10,3,0,55,60,7,539.79,1499.02,0.773017460988665,0.360095262237995,"3|0|55|7"]
[10,3,0,55,60,8,539.79,1030.7,0.687582553935238,0.52371204036092,"3|0|55|8"]
[10,3,0,55,60,9,539.79,531.9,0.516057048607742,1.01483361534123,"3|0|55|9"]
[10,3,0,55,60,10,539.79,0,0,0,"3|0|55|10"]
[10,3,0,56,61,1,538.67,655.45,0,0.82183232893432,"3|0|56|1"]
[10,3,0,56,61,2,538.67,1621.47,2.4738271416584,0.332210895052021,"3|0|56|2"]
[10,3,0,56,61,3,538.67,2705.98,1.66884370355295,0.199066511947612,"3|0|56|3"]
[10,3,0,56,61,4,538.67,2853.48,1.05450890250482,0.188776511487727,"3|0|56|4"]
[10,3,0,56,61,5,538.67,2409.98,0.844575746106509,0.223516377729276,"3|0|56|5"]
[10,3,0,56,61,6,538.67,1938.87,0.804517049934024,0.277826775389789,"3|0|56|6"]
[10,3,0,56,61,7,538.67,1499.26,0.773264839829385,0.359290583354455,"3|0|56|7"]
[10,3,0,56,61,8,538.67,1031.23,0.687825994157118,0.522356797222734,"3|0|56|8"]
[10,3,0,56,61,9,538.67,532.38,0.51625728498977,1.01181486907848,"3|0|56|9"]
[10,3,0,56,61,10,538.67,0,0,0,"3|0|56|10"]
[10,3,0,57,62,1,537.47,655.47,0,0.819976505408333,"3|0|57|1"]
[10,3,0,57,62,2,537.47,1621.52,2.47382794025661,0.331460604864572,"3|0|57|2"]
[10,3,0,57,62,3,537.47,2706.06,1.66884158073906,0.198617177741809,"3|0|57|3"]
[10,3,0,57,62,4,537.47,2853.47,1.05447403235701,0.188356632451016,"3|0|57|4"]
[10,3,0,57,62,5,537.47,2409.93,0.844561183401262,0.223023075359035,"3|0|57|5"]
[10,3,0,57,62,6,537.47,1938.53,0.804392658707929,0.277256477846616,"3|0|57|6"]
[10,3,0,57,62,7,537.47,1499.52,0.773534585484878,0.35842803030303,"3|0|57|7"]
[10,3,0,57,62,8,537.47,1031.82,0.68810019206146,0.520895117365432,"3|0|57|8"]
[10,3,0,57,62,9,537.47,532.93,0.516495125118722,1.00851894245023,"3|0|57|9"]
[10,3,0,57,62,10,537.47,0,0,0,"3|0|57|10"]
[10,3,0,58,63,1,536.13,655.49,0,0.817907214450259,"3|0|58|1"]
[10,3,0,58,63,2,536.13,1621.57,2.47382873880608,0.330624024864792,"3|0|58|2"]
[10,3,0,58,63,3,536.13,2706.15,1.66884562491906,0.19811540380245,"3|0|58|3"]
[10,3,0,58,63,4,536.13,2853.45,1.05443157252924,0.1878883456868,"3|0|58|4"]
[10,3,0,58,63,5,536.13,2409.87,0.844546075802975,0.222472581508546,"3|0|58|5"]
[10,3,0,58,63,6,536.13,1938.17,0.804263300509986,0.276616602258832,"3|0|58|6"]
[10,3,0,58,63,7,536.13,1499.85,0.773848527218975,0.357455745574557,"3|0|58|7"]
[10,3,0,58,63,8,536.13,1032.54,0.688428842884288,0.519234121680516,"3|0|58|8"]
[10,3,0,58,63,9,536.13,533.61,0.516793538264861,1.0047225501771,"3|0|58|9"]
[10,3,0,58,63,10,536.13,0,0,0,"3|0|58|10"]
[10,3,0,59,64,1,534.61,655.51,0,0.815563454409544,"3|0|59|1"]
[10,3,0,59,64,2,534.61,1621.63,2.47384479260423,0.329674463348606,"3|0|59|2"]
[10,3,0,59,64,3,534.61,2706.24,1.66883937766322,0.197547150289701,"3|0|59|3"]
[10,3,0,59,64,4,534.61,2853.43,1.0543891155256,0.187356970383013,"3|0|59|4"]
[10,3,0,59,64,5,534.61,2409.81,0.844530967992907,0.22184736555994,"3|0|59|5"]
[10,3,0,59,64,6,534.61,1937.78,0.804121486756217,0.275887871688221,"3|0|59|6"]
[10,3,0,59,64,7,534.61,1500.29,0.774231336890669,0.356337774696892,"3|0|59|7"]
[10,3,0,59,64,8,534.61,1033.46,0.688840157569537,0.517301105025835,"3|0|59|8"]
[10,3,0,59,64,9,534.61,534.49,0.517184990227004,1.00022451308724,"3|0|59|9"]
[10,3,0,59,64,10,534.61,0,0,0,"3|0|59|10"]
[10,3,0,60,65,1,532.8,655.53,0,0.812777447256418,"3|0|60|1"]
[10,3,0,60,65,2,532.8,1621.69,2.47386084542279,0.328546146304164,"3|0|60|2"]
[10,3,0,60,65,3,532.8,2706.33,1.66883313086965,0.196871778386228,"3|0|60|3"]
[10,3,0,60,65,4,532.8,2853.4,1.05434296630492,0.186724609238102,"3|0|60|4"]
[10,3,0,60,65,5,532.8,2409.73,0.844511810471718,0.221103609118034,"3|0|60|5"]
[10,3,0,60,65,6,532.8,1937.35,0.803969739348392,0.27501483985857,"3|0|60|6"]
[10,3,0,60,65,7,532.8,1500.9,0.774718042687176,0.354987007795323,"3|0|60|7"]
[10,3,0,60,65,8,532.8,1034.7,0.689386368179092,0.514931864308495,"3|0|60|8"]
[10,3,0,60,65,9,532.8,535.67,0.517705615154151,0.994642223757164,"3|0|60|9"]
[10,3,0,60,65,10,532.8,0,0,0,"3|0|60|10"]
[10,3,0,61,66,1,530.59,655.55,0,0.809381435435894,"3|0|61|1"]
[10,3,0,61,66,2,530.59,1621.76,2.4738921516284,0.327169248224152,"3|0|61|2"]
[10,3,0,61,66,3,530.59,2706.44,1.66882892659826,0.196047205923649,"3|0|61|3"]
[10,3,0,61,66,4,530.59,2853.37,1.05428902913052,0.185952049681605,"3|0|61|4"]
[10,3,0,61,66,5,530.59,2409.66,0.84449615717555,0.220192890283277,"3|0|61|5"]
[10,3,0,61,66,6,530.59,1936.89,0.803802196160454,0.273939149874283,"3|0|61|6"]
[10,3,0,61,66,7,530.59,1501.78,0.77535637026367,0.353307408541864,"3|0|61|7"]
[10,3,0,61,66,8,530.59,1036.37,0.69009442128674,0.511969663344172,"3|0|61|8"]
[10,3,0,61,66,9,530.59,537.24,0.518386290610496,0.987621919440101,"3|0|61|9"]
[10,3,0,61,66,10,530.59,0,0,0,"3|0|61|10"]
[10,3,0,62,67,1,527.83,655.57,0,0.805146666259896,"3|0|62|1"]
[10,3,0,62,67,2,527.83,1621.84,2.47393870982504,0.325451339219652,"3|0|62|2"]
[10,3,0,62,67,3,527.83,2706.57,1.66882676466236,0.195018048674152,"3|0|62|3"]
[10,3,0,62,67,4,527.83,2853.37,1.05423839028734,0.184984772391944,"3|0|62|4"]
[10,3,0,62,67,5,527.83,2409.61,0.844478634036245,0.219052045766742,"3|0|62|5"]
[10,3,0,62,67,6,527.83,1936.39,0.803611372794768,0.272584551665728,"3|0|62|6"]
[10,3,0,62,67,7,527.83,1502.98,0.776176286801729,0.351188971243796,"3|0|62|7"]
[10,3,0,62,67,8,527.83,1038.59,0.691020505928223,0.508217872307648,"3|0|62|8"]
[10,3,0,62,67,9,527.83,539.3,0.519261691331517,0.978731689226776,"3|0|62|9"]
[10,3,0,62,67,10,527.83,0,0,0,"3|0|62|10"]
[10,3,0,63,68,1,524.37,655.61,0,0.799820014947911,"3|0|63|1"]
[10,3,0,63,68,2,524.37,1621.95,2.47395555284392,0.323296032553408,"3|0|63|2"]
[10,3,0,63,68,3,524.37,2706.75,1.66882456302599,0.193726794125797,"3|0|63|3"]
[10,3,0,63,68,4,524.37,2853.4,1.05417936639882,0.183770239013107,"3|0|63|4"]
[10,3,0,63,68,5,524.37,2409.58,0.844459241606504,0.217618838137767,"3|0|63|5"]
[10,3,0,63,68,6,524.37,1935.84,0.803393122452876,0.270874659062732,"3|0|63|6"]
[10,3,0,63,68,7,524.37,1504.59,0.777228489957848,0.348513548541463,"3|0|63|7"]
[10,3,0,63,68,8,524.37,1041.46,0.692188569643557,0.503495093426536,"3|0|63|8"]
[10,3,0,63,68,9,524.37,541.91,0.52033683482803,0.967633001789965,"3|0|63|9"]
[10,3,0,63,68,10,524.37,0,0,0,"3|0|63|10"]
[10,3,0,64,69,1,520.04,655.67,0,0.793142892003599,"3|0|64|1"]
[10,3,0,64,69,2,520.04,1622.12,2.47398843930636,0.32059280447809,"3|0|64|2"]
[10,3,0,64,69,3,520.04,2707.01,1.66880995240796,0.192108636466064,"3|0|64|3"]
[10,3,0,64,69,4,520.04,2853.5,1.05411505683392,0.182246364114246,"3|0|64|4"]
[10,3,0,64,69,5,520.04,2409.61,0.844440161205537,0.215819157457016,"3|0|64|5"]
[10,3,0,64,69,6,520.04,1935.21,0.803121666991754,0.268725357971486,"3|0|64|6"]
[10,3,0,64,69,7,520.04,1506.64,0.778540830194139,0.345165401157543,"3|0|64|7"]
[10,3,0,64,69,8,520.04,1045.05,0.693629533266075,0.497622123343381,"3|0|64|8"]
[10,3,0,64,69,9,520.04,545.15,0.521649681833405,0.953939282766211,"3|0|64|9"]
[10,3,0,64,69,10,520.04,0,0,0,"3|0|64|10"]
[10,3,0,65,70,1,514.68,655.76,0,0.784860314749298,"3|0|65|1"]
[10,3,0,65,70,2,514.68,1622.36,2.47401488349396,0.317241549347864,"3|0|65|2"]
[10,3,0,65,70,3,514.68,2707.38,1.66879114376587,0.190102608425858,"3|0|65|3"]
[10,3,0,65,70,4,514.68,2853.67,1.05403378912454,0.180357224206022,"3|0|65|4"]
[10,3,0,65,70,5,514.68,2409.71,0.844424898464083,0.213585867179038,"3|0|65|5"]
[10,3,0,65,70,6,514.68,1934.48,0.802785397412967,0.26605599437575,"3|0|65|6"]
[10,3,0,65,70,7,514.68,1509.17,0.780142467226335,0.341035138519849,"3|0|65|7"]
[10,3,0,65,70,8,514.68,1049.4,0.695349099173718,0.490451686678102,"3|0|65|8"]
[10,3,0,65,70,9,514.68,549.04,0.523194206213074,0.93741803875856,"3|0|65|9"]
[10,3,0,65,70,10,514.68,0,0,0,"3|0|65|10"]
[10,5,0,0,5,1,882.34,570.86,0,1.54563290474022,"5|0|0|1"]
[10,5,0,0,5,2,882.34,1485.92,2.60294993518551,0.593800473780553,"5|0|0|2"]
[10,5,0,0,5,3,882.34,2517.64,1.69433078496823,0.350463132139623,"5|0|0|3"]
[10,5,0,0,5,4,882.34,3647.25,1.44867812713494,0.241919254232641,"5|0|0|4"]
[10,5,0,0,5,5,882.34,3881.32,1.06417711974776,0.227329877464368,"5|0|0|5"]
[10,5,0,0,5,6,882.34,3094.58,0.797300918244309,0.285124314123403,"5|0|0|6"]
[10,5,0,0,5,7,882.34,2382.1,0.769765202386107,0.3704042651442,"5|0|0|7"]
[10,5,0,0,5,8,882.34,1630.32,0.684404517022795,0.541206634280387,"5|0|0|8"]
[10,5,0,0,5,9,882.34,837.06,0.513432945679376,1.05409409122405,"5|0|0|9"]
[10,5,0,0,5,10,882.34,0,0,0,"5|0|0|10"]
[10,5,0,1,6,1,882.38,570.91,0,1.54556760259936,"5|0|1|1"]
[10,5,0,1,6,2,882.38,1486,2.60286209735335,0.593795423956931,"5|0|1|2"]
[10,5,0,1,6,3,882.38,2517.75,1.6943135935397,0.350463707675504,"5|0|1|3"]
[10,5,0,1,6,4,882.38,3647.36,1.44865852447622,0.241922925074574,"5|0|1|4"]
[10,5,0,1,6,5,882.38,3881.43,1.06417518424285,0.227333740399801,"5|0|1|5"]
[10,5,0,1,6,6,882.38,3094.72,0.797314391860732,0.285124340812739,"5|0|1|6"]
[10,5,0,1,6,7,882.38,2382.24,0.769775617826492,0.370399288065014,"5|0|1|7"]
[10,5,0,1,6,8,882.38,1630.44,0.68441466854725,0.541191334854395,"5|0|1|8"]
[10,5,0,1,6,9,882.38,837.13,0.513438090331444,1.05405373120065,"5|0|1|9"]
[10,5,0,1,6,10,882.38,0,0,0,"5|0|1|10"]
[10,5,0,2,7,1,882.38,570.94,0,1.54548639086419,"5|0|2|1"]
[10,5,0,2,7,2,882.38,1486.06,2.60283042000911,0.593771449335828,"5|0|2|2"]
[10,5,0,2,7,3,882.38,2517.83,1.69429901888214,0.35045257225468,"5|0|2|3"]
[10,5,0,2,7,4,882.38,3647.45,1.44864824074699,0.241916955681366,"5|0|2|4"]
[10,5,0,2,7,5,882.38,3881.52,1.06417360073476,0.227328469259465,"5|0|2|5"]
[10,5,0,2,7,6,882.38,3094.82,0.797321667800243,0.285115127858809,"5|0|2|6"]
[10,5,0,2,7,7,882.38,2382.34,0.769783056849833,0.37038374035612,"5|0|2|7"]
[10,5,0,2,7,8,882.38,1630.53,0.684423717857233,0.541161462837237,"5|0|2|8"]
[10,5,0,2,7,9,882.38,837.19,0.513446548054927,1.05397818894158,"5|0|2|9"]
[10,5,0,2,7,10,882.38,0,0,0,"5|0|2|10"]
[10,5,0,3,8,1,882.35,570.97,0,1.54535264549801,"5|0|3|1"]
[10,5,0,3,8,2,882.35,1486.1,2.6027637178836,0.593735280263778,"5|0|3|2"]
[10,5,0,3,8,3,882.35,2517.88,1.69428706009017,0.350433698190541,"5|0|3|3"]
[10,5,0,3,8,4,882.35,3647.5,1.4486393315011,0.241905414667581,"5|0|3|4"]
[10,5,0,3,8,5,882.35,3881.57,1.06417272104181,0.227317812122414,"5|0|3|5"]
[10,5,0,3,8,6,882.35,3094.88,0.797326854855123,0.28509990694308,"5|0|3|6"]
[10,5,0,3,8,7,882.35,2382.41,0.769790751176136,0.370360265445494,"5|0|3|7"]
[10,5,0,3,8,8,882.35,1630.6,0.684432990123446,0.541119833190237,"5|0|3|8"]
[10,5,0,3,8,9,882.35,837.24,0.513455169876119,1.0538794133104,"5|0|3|9"]
[10,5,0,3,8,10,882.35,0,0,0,"5|0|3|10"]
[10,5,0,4,9,1,882.31,570.98,0,1.54525552558759,"5|0|4|1"]
[10,5,0,4,9,2,882.31,1486.13,2.60277067497986,0.593696379186208,"5|0|4|2"]
[10,5,0,4,9,3,882.31,2517.91,1.69427304475382,0.350413636706634,"5|0|4|3"]
[10,5,0,4,9,4,882.31,3647.54,1.44863795767124,0.241891795566327,"5|0|4|4"]
[10,5,0,4,9,5,882.31,3881.61,1.06417201730481,0.227305164609531,"5|0|4|5"]
[10,5,0,4,9,6,882.31,3094.91,0.797326367151775,0.285084218927206,"5|0|4|6"]
[10,5,0,4,9,7,882.31,2382.47,0.769802676006734,0.370334149013419,"5|0|4|7"]
[10,5,0,4,9,8,882.31,1630.66,0.684440937346535,0.541075392785743,"5|0|4|8"]
[10,5,0,4,9,9,882.31,837.28,0.513460807280488,1.05378129180203,"5|0|4|9"]
[10,5,0,4,9,10,882.31,0,0,0,"5|0|4|10"]
[10,5,0,5,10,1,882.26,570.99,0,1.5451408956374,"5|0|5|1"]
[10,5,0,5,10,2,882.26,1486.15,2.60276011839086,0.593654745483296,"5|0|5|2"]
[10,5,0,5,10,3,882.26,2517.94,1.6942704303065,0.350389604200259,"5|0|5|3"]
[10,5,0,5,10,4,882.26,3647.57,1.44863261237361,0.241876098333959,"5|0|5|4"]
[10,5,0,5,10,5,882.26,3881.64,1.0641714895122,0.227290526684597,"5|0|5|5"]
[10,5,0,5,10,6,882.26,3094.93,0.797325357323193,0.285066221206942,"5|0|5|6"]
[10,5,0,5,10,7,882.26,2382.51,0.769810625765365,0.370306945196452,"5|0|5|7"]
[10,5,0,5,10,8,882.26,1630.71,0.684450432527041,0.541028141116446,"5|0|5|8"]
[10,5,0,5,10,9,882.26,837.32,0.513469592999368,1.05367123680313,"5|0|5|9"]
[10,5,0,5,10,10,882.26,0,0,0,"5|0|5|10"]
[10,5,0,6,11,1,882.2,571,0,1.54500875656743,"5|0|6|1"]
[10,5,0,6,11,2,882.2,1486.16,2.60273204903678,0.593610378424934,"5|0|6|2"]
[10,5,0,6,11,3,882.2,2517.95,1.69426575873392,0.350364383724856,"5|0|6|3"]
[10,5,0,6,11,4,882.2,3647.58,1.44863083063603,0.241858985957813,"5|0|6|4"]
[10,5,0,6,11,5,882.2,3881.65,1.06417131358325,0.22727448378911,"5|0|6|5"]
[10,5,0,6,11,6,882.2,3094.93,0.797323303234449,0.28504683466185,"5|0|6|6"]
[10,5,0,6,11,7,882.2,2382.54,0.76982031903791,0.370277099230233,"5|0|6|7"]
[10,5,0,6,11,8,882.2,1630.75,0.684458603003517,0.540978077571669,"5|0|6|8"]
[10,5,0,6,11,9,882.2,837.34,0.513469262609229,1.05357441421645,"5|0|6|9"]
[10,5,0,6,11,10,882.2,0,0,0,"5|0|6|10"]
[10,5,0,7,12,1,882.14,571.01,0,1.54487662212571,"5|0|7|1"]
[10,5,0,7,12,2,882.14,1486.17,2.60270398066584,0.593566011963638,"5|0|7|2"]
[10,5,0,7,12,3,882.14,2517.96,1.69426108722421,0.350339163449777,"5|0|7|3"]
[10,5,0,7,12,4,882.14,3647.59,1.44862904891261,0.241841873675495,"5|0|7|4"]
[10,5,0,7,12,5,882.14,3881.66,1.06417113765527,0.227258440976283,"5|0|7|5"]
[10,5,0,7,12,6,882.14,3094.93,0.797321249156289,0.285027448116759,"5|0|7|6"]
[10,5,0,7,12,7,882.14,2382.55,0.769823550128759,0.370250362007093,"5|0|7|7"]
[10,5,0,7,12,8,882.14,1630.77,0.684464124572412,0.540934650502523,"5|0|7|8"]
[10,5,0,7,12,9,882.14,837.36,0.513475229492816,1.0534775962549,"5|0|7|9"]
[10,5,0,7,12,10,882.14,0,0,0,"5|0|7|10"]
[10,5,0,8,13,1,882.08,571.01,0,1.54477154515683,"5|0|8|1"]
[10,5,0,8,13,2,882.08,1486.18,2.60272149349398,0.593521646099396,"5|0|8|2"]
[10,5,0,8,13,3,882.08,2517.97,1.69425641577736,0.35031394337502,"5|0|8|3"]
[10,5,0,8,13,4,882.08,3647.6,1.44862726720334,0.241824761487005,"5|0|8|4"]
[10,5,0,8,13,5,882.08,3881.67,1.06417096172826,0.227242398246116,"5|0|8|5"]
[10,5,0,8,13,6,882.08,3094.91,0.797314042667203,0.285009903357448,"5|0|8|6"]
[10,5,0,8,13,7,882.08,2382.56,0.769831756012291,0.370223625008394,"5|0|8|7"]
[10,5,0,8,13,8,882.08,1630.78,0.684465448928883,0.540894541262463,"5|0|8|8"]
[10,5,0,8,13,9,882.08,837.37,0.513478212879726,1.0533933625518,"5|0|8|9"]
[10,5,0,8,13,10,882.08,0,0,0,"5|0|8|10"]
[10,5,0,9,14,1,882.03,571.01,0,1.54468398101609,"5|0|9|1"]
[10,5,0,9,14,2,882.03,1486.18,2.60272149349398,0.593488002799123,"5|0|9|2"]
[10,5,0,9,14,3,882.03,2517.97,1.69425641577736,0.350294086109048,"5|0|9|3"]
[10,5,0,9,14,4,882.03,3647.59,1.44862329575015,0.241811716777379,"5|0|9|4"]
[10,5,0,9,14,5,882.03,3881.66,1.06417113765527,0.227230102584977,"5|0|9|5"]
[10,5,0,9,14,6,882.03,3094.88,0.797308368069331,0.284996510365507,"5|0|9|6"]
[10,5,0,9,14,7,882.03,2382.55,0.769835987178824,0.370204192986506,"5|0|9|7"]
[10,5,0,9,14,8,882.03,1630.79,0.684472518939791,0.540860564511678,"5|0|9|8"]
[10,5,0,9,14,9,882.03,837.38,0.513481196230048,1.05332107287014,"5|0|9|9"]
[10,5,0,9,14,10,882.03,0,0,0,"5|0|9|10"]
[10,5,0,10,15,1,881.97,571.01,0,1.54457890404721,"5|0|10|1"]
[10,5,0,10,15,2,881.97,1486.18,2.60272149349398,0.593447630838795,"5|0|10|2"]
[10,5,0,10,15,3,881.97,2517.96,1.69424968711731,0.350271648477339,"5|0|10|3"]
[10,5,0,10,15,4,881.97,3647.59,1.44862904891261,0.241795267560225,"5|0|10|4"]
[10,5,0,10,15,5,881.97,3881.66,1.06417113765527,0.227214645280627,"5|0|10|5"]
[10,5,0,10,15,6,881.97,3094.86,0.797303215634548,0.284978965122817,"5|0|10|6"]
[10,5,0,10,15,7,881.97,2382.55,0.769840962111372,0.370179009884368,"5|0|10|7"]
[10,5,0,10,15,8,881.97,1630.79,0.684472518939791,0.540823772527425,"5|0|10|8"]
[10,5,0,10,15,9,881.97,837.38,0.513481196230048,1.05324942081253,"5|0|10|9"]
[10,5,0,10,15,10,881.97,0,0,0,"5|0|10|10"]
[10,5,0,11,16,1,881.91,571.01,0,1.54447382707833,"5|0|11|1"]
[10,5,0,11,16,2,881.91,1486.17,2.60270398066584,0.593411251741052,"5|0|11|2"]
[10,5,0,11,16,3,881.91,2517.95,1.69425435851888,0.350249210667408,"5|0|11|3"]
[10,5,0,11,16,4,881.91,3647.57,1.44862685915129,0.241780144041101,"5|0|11|4"]
[10,5,0,11,16,5,881.91,3881.64,1.0641714895122,0.227200358611309,"5|0|11|5"]
[10,5,0,11,16,6,881.91,3094.82,0.797297018785874,0.284963261191281,"5|0|11|6"]
[10,5,0,11,16,7,881.91,2382.54,0.769847680963675,0.370155380392354,"5|0|11|7"]
[10,5,0,11,16,8,881.91,1630.79,0.684475391808742,0.540786980543172,"5|0|11|8"]
[10,5,0,11,16,9,881.91,837.39,0.513487328227423,1.05316519184609,"5|0|11|9"]
[10,5,0,11,16,10,881.91,0,0,0,"5|0|11|10"]
[10,5,0,12,17,1,881.86,571,0,1.54441330998249,"5|0|12|1"]
[10,5,0,12,17,2,881.86,1486.16,2.60273204903678,0.593381600904344,"5|0|12|2"]
[10,5,0,12,17,3,881.86,2517.94,1.69425902998331,0.350230744179766,"5|0|12|3"]
[10,5,0,12,17,4,881.86,3647.56,1.44862864087309,0.241767099101865,"5|0|12|4"]
[10,5,0,12,17,5,881.86,3881.63,1.0641716654421,0.227188062746836,"5|0|12|5"]
[10,5,0,12,17,6,881.86,3094.79,0.797291344100288,0.284949867357721,"5|0|12|6"]
[10,5,0,12,17,7,881.86,2382.53,0.769851912407627,0.370135947920908,"5|0|12|7"]
[10,5,0,12,17,8,881.86,1630.8,0.684482461920731,0.540753004660289,"5|0|12|8"]
[10,5,0,12,17,9,881.86,837.4,0.513490311503557,1.05309290661572,"5|0|12|9"]
[10,5,0,12,17,10,881.86,0,0,0,"5|0|12|10"]
[10,5,0,13,18,1,881.8,571,0,1.54430823117338,"5|0|13|1"]
[10,5,0,13,18,2,881.8,1486.15,2.60271453590193,0.593345220872725,"5|0|13|2"]
[10,5,0,13,18,3,881.8,2517.93,1.69426370151061,0.350208306029159,"5|0|13|3"]
[10,5,0,13,18,4,881.8,3647.55,1.44863042260905,0.241751312524845,"5|0|13|4"]
[10,5,0,13,18,5,881.8,3881.62,1.06417184137298,0.227173190575069,"5|0|13|5"]
[10,5,0,13,18,6,881.8,3094.76,0.797285669385463,0.284933241996148,"5|0|13|6"]
[10,5,0,13,18,7,881.8,2382.52,0.769856143933617,0.370112318049796,"5|0|13|7"]
[10,5,0,13,18,8,881.8,1630.81,0.684489532092071,0.540712897271908,"5|0|13|8"]
[10,5,0,13,18,9,881.8,837.41,0.513493294743103,1.05300868152996,"5|0|13|9"]
[10,5,0,13,18,10,881.8,0,0,0,"5|0|13|10"]
[10,5,0,14,19,1,881.75,571,0,1.54422066549912,"5|0|14|1"]
[10,5,0,14,19,2,881.75,1486.15,2.60271453590193,0.593311576893315,"5|0|14|2"]
[10,5,0,14,19,3,881.75,2517.92,1.69425697271473,0.350189839232382,"5|0|14|3"]
[10,5,0,14,19,4,881.75,3647.53,1.4486282328271,0.241738930180149,"5|0|14|4"]
[10,5,0,14,19,5,881.75,3881.6,1.06417219323762,0.227161479802143,"5|0|14|5"]
[10,5,0,14,19,6,881.75,3094.73,0.797282048639736,0.284919847611908,"5|0|14|6"]
[10,5,0,14,19,7,881.75,2382.52,0.769863606841308,0.370091331867099,"5|0|14|7"]
[10,5,0,14,19,8,881.75,1630.82,0.68449372932861,0.540678922259967,"5|0|14|8"]
[10,5,0,14,19,9,881.75,837.43,0.513502409830637,1.05292382646908,"5|0|14|9"]
[10,5,0,14,19,10,881.75,0,0,0,"5|0|14|10"]
[10,5,0,15,20,1,881.69,570.99,0,1.54414262946812,"5|0|15|1"]
[10,5,0,15,20,2,881.69,1486.14,2.6027426049493,0.59327519614572,"5|0|15|2"]
[10,5,0,15,20,3,881.69,2517.91,1.69426164425963,0.350167400741091,"5|0|15|3"]
[10,5,0,15,20,4,881.69,3647.52,1.44863001457558,0.241723143396061,"5|0|15|4"]
[10,5,0,15,20,5,881.69,3881.59,1.06417236917138,0.227146607446948,"5|0|15|5"]
[10,5,0,15,20,6,881.69,3094.7,0.797276373857105,0.284903221636992,"5|0|15|6"]
[10,5,0,15,20,7,881.69,2382.52,0.769871069893689,0.370066148447862,"5|0|15|7"]
[10,5,0,15,20,8,881.69,1630.84,0.684502123801689,0.540635500723554,"5|0|15|8"]
[10,5,0,15,20,9,881.69,837.45,0.513508376051605,1.05282703444982,"5|0|15|9"]
[10,5,0,15,20,10,881.69,0,0,0,"5|0|15|10"]
[10,5,0,16,21,1,881.63,570.99,0,1.54403754881872,"5|0|16|1"]
[10,5,0,16,21,2,881.63,1486.13,2.60272509150773,0.593238814908521,"5|0|16|2"]
[10,5,0,16,21,3,881.63,2517.9,1.69426631586739,0.350144962071568,"5|0|16|3"]
[10,5,0,16,21,4,881.63,3647.51,1.44863179633822,0.24170735652541,"5|0|16|4"]
[10,5,0,16,21,5,881.63,3881.58,1.06417254510611,0.227131735015123,"5|0|16|5"]
[10,5,0,16,21,6,881.63,3094.67,0.797270699045234,0.284886595339729,"5|0|16|6"]
[10,5,0,16,21,7,881.63,2382.52,0.769878533090766,0.370040965028625,"5|0|16|7"]
[10,5,0,16,21,8,881.63,1630.86,0.684510518274768,0.540592080252137,"5|0|16|8"]
[10,5,0,16,21,9,881.63,837.47,0.51351434212624,1.05273024705363,"5|0|16|9"]
[10,5,0,16,21,10,881.63,0,0,0,"5|0|16|10"]
[10,5,0,17,22,1,881.56,570.98,0,1.54394199446566,"5|0|17|1"]
[10,5,0,17,22,2,881.56,1486.12,2.60275316123157,0.593195704249993,"5|0|17|2"]
[10,5,0,17,22,3,881.56,2517.89,1.69427098753802,0.350118551644432,"5|0|17|3"]
[10,5,0,17,22,4,881.56,3647.5,1.44863357811501,0.241688827964359,"5|0|17|4"]
[10,5,0,17,22,5,881.56,3881.57,1.06417272104181,0.227114286229541,"5|0|17|5"]
[10,5,0,17,22,6,881.56,3094.64,0.797265024204123,0.284866737326474,"5|0|17|6"]
[10,5,0,17,22,7,881.56,2382.53,0.769889227826177,0.370010031353225,"5|0|17|7"]
[10,5,0,17,22,8,881.56,1630.89,0.684520236891036,0.540539214784565,"5|0|17|8"]
[10,5,0,17,22,9,881.56,837.5,0.51352329096383,1.05260895522388,"5|0|17|9"]
[10,5,0,17,22,10,881.56,0,0,0,"5|0|17|10"]
[10,5,0,18,23,1,881.48,570.98,0,1.54380188447932,"5|0|18|1"]
[10,5,0,18,23,2,881.48,1486.12,2.60275316123157,0.593141872796275,"5|0|18|2"]
[10,5,0,18,23,3,881.48,2517.88,1.6942642586063,0.350088169412363,"5|0|18|3"]
[10,5,0,18,23,4,881.48,3647.49,1.44863535990595,0.241667557690357,"5|0|18|4"]
[10,5,0,18,23,5,881.48,3881.56,1.06417289697847,0.227094261070291,"5|0|18|5"]
[10,5,0,18,23,6,881.48,3094.62,0.797261925617535,0.284842727055341,"5|0|18|6"]
[10,5,0,18,23,7,881.48,2382.54,0.769897434903155,0.369974900736189,"5|0|18|7"]
[10,5,0,18,23,8,881.48,1630.92,0.684529955425722,0.540480219753268,"5|0|18|8"]
[10,5,0,18,23,9,881.48,837.53,0.5135322394722,1.05247573221258,"5|0|18|9"]
[10,5,0,18,23,10,881.48,0,0,0,"5|0|18|10"]
[10,5,0,19,24,1,881.4,570.98,0,1.54366177449298,"5|0|19|1"]
[10,5,0,19,24,2,881.4,1486.11,2.60273564748327,0.593092032218342,"5|0|19|2"]
[10,5,0,19,24,3,881.4,2517.87,1.69426893029453,0.35005778693896,"5|0|19|3"]
[10,5,0,19,24,4,881.4,3647.48,1.44863714171105,0.241646287299725,"5|0|19|4"]
[10,5,0,19,24,5,881.4,3881.55,1.0641730729161,0.22707423580786,"5|0|19|5"]
[10,5,0,19,24,6,881.4,3094.59,0.797256250724582,0.284819636850116,"5|0|19|6"]
[10,5,0,19,24,7,881.4,2382.55,0.769908129994604,0.369939770414052,"5|0|19|7"]
[10,5,0,19,24,8,881.4,1630.96,0.684543871062517,0.540417913376171,"5|0|19|8"]
[10,5,0,19,24,9,881.4,837.57,0.513544170304606,1.05232995451126,"5|0|19|9"]
[10,5,0,19,24,10,881.4,0,0,0,"5|0|19|10"]
[10,5,0,20,25,1,881.3,570.98,0,1.54348663701005,"5|0|20|1"]
[10,5,0,20,25,2,881.3,1486.11,2.60273564748327,0.593024742448406,"5|0|20|2"]
[10,5,0,20,25,3,881.3,2517.87,1.69426893029453,0.350018070829709,"5|0|20|3"]
[10,5,0,20,25,4,881.3,3647.47,1.44863317010012,0.241619533539686,"5|0|20|4"]
[10,5,0,20,25,5,881.3,3881.54,1.06417324885469,0.227049057848174,"5|0|20|5"]
[10,5,0,20,25,6,881.3,3094.56,0.797250575802388,0.284790083242852,"5|0|20|6"]
[10,5,0,20,25,7,881.3,2382.57,0.769922056770591,0.369894693545205,"5|0|20|7"]
[10,5,0,20,25,8,881.3,1631.01,0.684559110540299,0.540340034702424,"5|0|20|8"]
[10,5,0,20,25,9,881.3,837.61,0.51355295185192,1.05216031327229,"5|0|20|9"]
[10,5,0,20,25,10,881.3,0,0,0,"5|0|20|10"]
[10,5,0,21,26,1,881.2,570.97,0,1.54333852916966,"5|0|21|1"]
[10,5,0,21,26,2,881.2,1486.11,2.60278123193863,0.592957452678469,"5|0|21|2"]
[10,5,0,21,26,3,881.2,2517.86,1.69426220131753,0.349979744703836,"5|0|21|3"]
[10,5,0,21,26,4,881.2,3647.46,1.4486349519036,0.24159277963295,"5|0|21|4"]
[10,5,0,21,26,5,881.2,3881.53,1.06417342479424,0.227023879758755,"5|0|21|5"]
[10,5,0,21,26,6,881.2,3094.53,0.797244900850953,0.284760529062572,"5|0|21|6"]
[10,5,0,21,26,7,881.2,2382.6,0.769939215325106,0.369848065138924,"5|0|21|7"]
[10,5,0,21,26,8,881.2,1631.06,0.684571476538236,0.540262160803404,"5|0|21|8"]
[10,5,0,21,26,9,881.2,837.66,0.513567863843145,1.05197812955137,"5|0|21|9"]
[10,5,0,21,26,10,881.2,0,0,0,"5|0|21|10"]
[10,5,0,22,27,1,881.08,570.97,0,1.54312836050931,"5|0|22|1"]
[10,5,0,22,27,2,881.08,1486.1,2.6027637178836,0.592880694435099,"5|0|22|2"]
[10,5,0,22,27,3,881.08,2517.86,1.69427360204562,0.349932085183449,"5|0|22|3"]
[10,5,0,22,27,4,881.08,3647.46,1.4486349519036,0.2415598800261,"5|0|22|4"]
[10,5,0,22,27,5,881.08,3881.53,1.06417342479424,0.226992964114666,"5|0|22|5"]
[10,5,0,22,27,6,881.08,3094.49,0.797234595636257,0.284725431331173,"5|0|22|6"]
[10,5,0,22,27,7,881.08,2382.62,0.769955630814771,0.369794595865056,"5|0|22|7"]
[10,5,0,22,27,8,881.08,1631.12,0.684590912524868,0.540168718426603,"5|0|22|8"]
[10,5,0,22,27,9,881.08,837.71,0.513579626269067,1.05177209296773,"5|0|22|9"]
[10,5,0,22,27,10,881.08,0,0,0,"5|0|22|10"]
[10,5,0,23,28,1,880.95,570.97,0,1.54290067779393,"5|0|23|1"]
[10,5,0,23,28,2,880.95,1486.1,2.6027637178836,0.592793217145549,"5|0|23|2"]
[10,5,0,23,28,3,880.95,2517.85,1.69426687302335,0.349881843636436,"5|0|23|3"]
[10,5,0,23,28,4,880.95,3647.45,1.44863673372123,0.241524900958204,"5|0|23|4"]
[10,5,0,23,28,5,880.95,3881.52,1.06417360073476,0.226960056884932,"5|0|23|5"]
[10,5,0,23,28,6,880.95,3094.46,0.797228920629032,0.284686181110759,"5|0|23|6"]
[10,5,0,23,28,7,880.95,2382.65,0.769972790082922,0.369735378675005,"5|0|23|7"]
[10,5,0,23,28,8,880.95,1631.18,0.684607474870417,0.540069152392746,"5|0|23|8"]
[10,5,0,23,28,9,880.95,837.77,0.513597518360941,1.0515415925612,"5|0|23|9"]
[10,5,0,23,28,10,880.95,0,0,0,"5|0|23|10"]
[10,5,0,24,29,1,880.81,570.97,0,1.54265548102352,"5|0|24|1"]
[10,5,0,24,29,2,880.81,1486.1,2.6027637178836,0.592699010833726,"5|0|24|2"]
[10,5,0,24,29,3,880.81,2517.84,1.69426014400108,0.349827630032091,"5|0|24|3"]
[10,5,0,24,29,4,880.81,3647.44,1.44863851555301,0.241487180049569,"5|0|24|4"]
[10,5,0,24,29,5,880.81,3881.51,1.06417377667624,0.226924573168689,"5|0|24|5"]
[10,5,0,24,29,6,880.81,3094.42,0.797220669275617,0.284644618377596,"5|0|24|6"]
[10,5,0,24,29,7,880.81,2382.69,0.769995669624679,0.369670414531475,"5|0|24|7"]
[10,5,0,24,29,8,880.81,1631.26,0.684629557349047,0.53995684317644,"5|0|24|8"]
[10,5,0,24,29,9,880.81,837.84,0.513615242205412,1.05128664184092,"5|0|24|9"]
[10,5,0,24,29,10,880.81,0,0,0,"5|0|24|10"]
[10,5,0,25,30,1,880.65,570.97,0,1.54237525614305,"5|0|25|1"]
[10,5,0,25,30,2,880.65,1486.09,2.60274620382857,0.592595334064559,"5|0|25|2"]
[10,5,0,25,30,3,880.65,2517.84,1.69427154479204,0.349764083500143,"5|0|25|3"]
[10,5,0,25,30,4,880.65,3647.43,1.44863454389477,0.241443975621191,"5|0|25|4"]
[10,5,0,25,30,5,880.65,3881.5,1.06417395261869,0.22688393662244,"5|0|25|5"]
[10,5,0,25,30,6,880.65,3094.37,0.797209841556099,0.284597510963459,"5|0|25|6"]
[10,5,0,25,30,7,880.65,2382.72,0.770017806532509,0.369598609991942,"5|0|25|7"]
[10,5,0,25,30,8,880.65,1631.34,0.684654512489927,0.539832285115304,"5|0|25|8"]
[10,5,0,25,30,9,880.65,837.91,0.513632964311548,1.05100786480648,"5|0|25|9"]
[10,5,0,25,30,10,880.65,0,0,0,"5|0|25|10"]
[10,5,0,26,31,1,880.47,570.96,0,1.54208701134931,"5|0|26|1"]
[10,5,0,26,31,2,880.47,1486.09,2.6027917892672,0.592474210848603,"5|0|26|2"]
[10,5,0,26,31,3,880.47,2517.83,1.69426481572449,0.349693982516691,"5|0|26|3"]
[10,5,0,26,31,4,880.47,3647.42,1.44863632572493,0.241395287627967,"5|0|26|4"]
[10,5,0,26,31,5,880.47,3881.49,1.06417412856211,0.226838147206356,"5|0|26|5"]
[10,5,0,26,31,6,880.47,3094.32,0.79719901378079,0.284543938571318,"5|0|26|6"]
[10,5,0,26,31,7,880.47,2382.76,0.770043175883554,0.369516862797764,"5|0|26|7"]
[10,5,0,26,31,8,880.47,1631.43,0.684680790343971,0.539692171898273,"5|0|26|8"]
[10,5,0,26,31,9,880.47,837.99,0.513653665802394,1.05069272903018,"5|0|26|9"]
[10,5,0,26,31,10,880.47,0,0,0,"5|0|26|10"]
[10,5,0,27,32,1,880.27,570.96,0,1.54173672411377,"5|0|27|1"]
[10,5,0,27,32,2,880.27,1486.08,2.60277427490542,0.592343615417743,"5|0|27|2"]
[10,5,0,27,32,3,880.27,2517.82,1.69426948751077,0.34961593759681,"5|0|27|3"]
[10,5,0,27,32,4,880.27,3647.41,1.44863810756925,0.241341116024796,"5|0|27|4"]
[10,5,0,27,32,5,880.27,3881.48,1.06417430450649,0.226787204880613,"5|0|27|5"]
[10,5,0,27,32,6,880.27,3094.26,0.797185609612828,0.284484820280132,"5|0|27|6"]
[10,5,0,27,32,7,880.27,2382.8,0.770071034754675,0.369426724861507,"5|0|27|7"]
[10,5,0,27,32,8,880.27,1631.52,0.684707067315763,0.539539815632049,"5|0|27|8"]
[10,5,0,27,32,9,880.27,838.08,0.513680494263019,1.05034125620466,"5|0|27|9"]
[10,5,0,27,32,10,880.27,0,0,0,"5|0|27|10"]
[10,5,0,28,33,1,880.05,570.96,0,1.54135140815469,"5|0|28|1"]
[10,5,0,28,33,2,880.05,1486.08,2.60277427490542,0.592195574935401,"5|0|28|2"]
[10,5,0,28,33,3,880.05,2517.81,1.69426275839793,0.349529948645847,"5|0|28|3"]
[10,5,0,28,33,4,880.05,3647.4,1.44863988942772,0.241281460766573,"5|0|28|4"]
[10,5,0,28,33,5,880.05,3881.47,1.06417448045183,0.226731109605381,"5|0|28|5"]
[10,5,0,28,33,6,880.05,3094.19,0.7971696290323,0.28442015519409,"5|0|28|6"]
[10,5,0,28,33,7,880.05,2382.85,0.770104615424392,0.36932664666261,"5|0|28|7"]
[10,5,0,28,33,8,880.05,1631.63,0.684738863126089,0.539368606853269,"5|0|28|8"]
[10,5,0,28,33,9,880.05,838.18,0.513707151743962,1.0499534706149,"5|0|28|9"]
[10,5,0,28,33,10,880.05,0,0,0,"5|0|28|10"]
[10,5,0,29,34,1,879.8,570.96,0,1.54091354911027,"5|0|29|1"]
[10,5,0,29,34,2,879.8,1486.07,2.60275676054365,0.592031330960184,"5|0|29|2"]
[10,5,0,29,34,3,879.8,2517.8,1.69426743020181,0.349432043847804,"5|0|29|3"]
[10,5,0,29,34,4,879.8,3647.38,1.448637699579,0.241214241455511,"5|0|29|4"]
[10,5,0,29,34,5,879.8,3881.46,1.06417757403945,0.226667284990699,"5|0|29|5"]
[10,5,0,29,34,6,879.8,3094.12,0.797153648369428,0.284345791372022,"5|0|29|6"]
[10,5,0,29,34,7,879.8,2382.9,0.770138197613538,0.369213982961937,"5|0|29|7"]
[10,5,0,29,34,8,879.8,1631.74,0.684770657602081,0.539179035875814,"5|0|29|8"]
[10,5,0,29,34,9,879.8,838.29,0.513739934058122,1.04951747008792,"5|0|29|9"]
[10,5,0,29,34,10,879.8,0,0,0,"5|0|29|10"]
[10,5,0,30,35,1,879.53,570.95,0,1.54046764164988,"5|0|30|1"]
[10,5,0,30,35,2,879.53,1486.06,2.60278483229705,0.591853626367711,"5|0|30|2"]
[10,5,0,30,35,3,879.53,2517.79,1.69427210206856,0.349326194797819,"5|0|30|3"]
[10,5,0,30,35,4,879.53,3647.37,1.44863948145,0.241140876850991,"5|0|30|4"]
[10,5,0,30,35,5,879.53,3881.44,1.06417500829365,0.226598891133188,"5|0|30|5"]
[10,5,0,30,35,6,879.53,3094.03,0.79713456861371,0.284266797671645,"5|0|30|6"]
[10,5,0,30,35,7,879.53,2382.95,0.770176759759925,0.369092931030865,"5|0|30|7"]
[10,5,0,30,35,8,879.53,1631.87,0.684810843702134,0.538970628787832,"5|0|30|8"]
[10,5,0,30,35,9,879.53,838.4,0.513766415216898,1.04905772900763,"5|0|30|9"]
[10,5,0,30,35,10,879.53,0,0,0,"5|0|30|10"]
[10,5,0,31,36,1,879.24,570.95,0,1.53995971626237,"5|0|31|1"]
[10,5,0,31,36,2,879.24,1486.05,2.60276731762851,0.591662460886242,"5|0|31|2"]
[10,5,0,31,36,3,879.24,2517.77,1.6942700447495,0.349213788392109,"5|0|31|3"]
[10,5,0,31,36,4,879.24,3647.35,1.44864304523447,0.241062689349802,"5|0|31|4"]
[10,5,0,31,36,5,879.24,3881.42,1.06417536019302,0.226525343817469,"5|0|31|5"]
[10,5,0,31,36,6,879.24,3093.94,0.797115488661366,0.284181335126085,"5|0|31|6"]
[10,5,0,31,36,7,879.24,2383.01,0.770218556274524,0.368961943088783,"5|0|31|7"]
[10,5,0,31,36,8,879.24,1632,0.684848154225119,0.53875,"5|0|31|8"]
[10,5,0,31,36,9,879.24,838.53,0.513805147058824,1.04854924689635,"5|0|31|9"]
[10,5,0,31,36,10,879.24,0,0,0,"5|0|31|10"]
[10,5,0,32,37,1,878.92,570.94,0,1.53942620940904,"5|0|32|1"]
[10,5,0,32,37,2,878.92,1486.04,2.6027953900585,0.591451104950069,"5|0|32|2"]
[10,5,0,32,37,3,878.92,2517.76,1.69427471669672,0.349088078291815,"5|0|32|3"]
[10,5,0,32,37,4,878.92,3647.32,1.44863688357905,0.240976936490355,"5|0|32|4"]
[10,5,0,32,37,5,878.92,3881.4,1.06417862978845,0.226444066573917,"5|0|32|5"]
[10,5,0,32,37,6,878.92,3093.84,0.79709383212243,0.284087089183668,"5|0|32|6"]
[10,5,0,32,37,7,878.92,2383.07,0.770262844878856,0.368818372939108,"5|0|32|7"]
[10,5,0,32,37,8,878.92,1632.15,0.684893855405003,0.53850442667647,"5|0|32|8"]
[10,5,0,32,37,9,878.92,838.66,0.513837576203168,1.04800515107433,"5|0|32|9"]
[10,5,0,32,37,10,878.92,0,0,0,"5|0|32|10"]
[10,5,0,33,38,1,878.56,570.94,0,1.5387956702981,"5|0|33|1"]
[10,5,0,33,38,2,878.56,1486.03,2.6027778750832,0.591212828812339,"5|0|33|2"]
[10,5,0,33,38,3,878.56,2517.74,1.69427265936758,0.348947865943267,"5|0|33|3"]
[10,5,0,33,38,4,878.56,3647.3,1.44864044738535,0.240879554739122,"5|0|33|4"]
[10,5,0,33,38,5,878.56,3881.38,1.0641789817125,0.2263524828798,"5|0|33|5"]
[10,5,0,33,38,6,878.56,3093.73,0.797069598957072,0.283980825734631,"5|0|33|6"]
[10,5,0,33,38,7,878.56,2383.13,0.770309626244049,0.368658025369997,"5|0|33|7"]
[10,5,0,33,38,8,878.56,1632.31,0.684943750445842,0.538231095809007,"5|0|33|8"]
[10,5,0,33,38,9,878.56,838.81,0.513879103846696,1.04738856236812,"5|0|33|9"]
[10,5,0,33,38,10,878.56,0,0,0,"5|0|33|10"]
[10,5,0,34,39,1,878.17,570.93,0,1.53813952673708,"5|0|34|1"]
[10,5,0,34,39,2,878.17,1486.02,2.6028059481898,0.590954361314114,"5|0|34|2"]
[10,5,0,34,39,3,878.17,2517.72,1.69427060201074,0.348795735824476,"5|0|34|3"]
[10,5,0,34,39,4,878.17,3647.27,1.44864003940073,0.240774606760673,"5|0|34|4"]
[10,5,0,34,39,5,878.17,3881.35,1.06417950960581,0.226253751916215,"5|0|34|5"]
[10,5,0,34,39,6,878.17,3093.61,0.797044842644956,0.283865774936078,"5|0|34|6"]
[10,5,0,34,39,7,878.17,2383.2,0.770362133559175,0.368483551527358,"5|0|34|7"]
[10,5,0,34,39,8,878.17,1632.48,0.684994964753273,0.537936146231501,"5|0|34|8"]
[10,5,0,34,39,9,878.17,838.97,0.513923600901696,1.04672395914037,"5|0|34|9"]
[10,5,0,34,39,10,878.17,0,0,0,"5|0|34|10"]
[10,5,0,35,40,1,877.75,570.92,0,1.53743081342395,"5|0|35|1"]
[10,5,0,35,40,2,877.75,1486.01,2.60283402227983,0.590675702047766,"5|0|35|2"]
[10,5,0,35,40,3,877.75,2517.69,1.6942618151964,0.34863307237984,"5|0|35|3"]
[10,5,0,35,40,4,877.75,3647.24,1.44864538525394,0.240661431657911,"5|0|35|4"]
[10,5,0,35,40,5,877.75,3881.32,1.06418003750781,0.226147290097183,"5|0|35|5"]
[10,5,0,35,40,6,877.75,3093.47,0.797014933064009,0.283742851878311,"5|0|35|6"]
[10,5,0,35,40,7,877.75,2383.28,0.770422858472848,0.368294954852137,"5|0|35|7"]
[10,5,0,35,40,8,877.75,1632.67,0.685051693464469,0.537616297230916,"5|0|35|8"]
[10,5,0,35,40,9,877.75,839.15,0.513974042519309,1.04599892748615,"5|0|35|9"]
[10,5,0,35,40,10,877.75,0,0,0,"5|0|35|10"]
[10,5,0,36,41,1,877.28,570.91,0,1.53663449580494,"5|0|36|1"]
[10,5,0,36,41,2,877.28,1485.99,2.60284458145767,0.590367364517931,"5|0|36|2"]
[10,5,0,36,41,3,877.28,2517.67,1.69427115929448,0.348449161327736,"5|0|36|3"]
[10,5,0,36,41,4,877.28,3647.21,1.44864497730044,0.240534545584159,"5|0|36|4"]
[10,5,0,36,41,5,877.28,3881.29,1.0641805654185,0.226027944317482,"5|0|36|5"]
[10,5,0,36,41,6,877.28,3093.32,0.796982446557717,0.283604670709788,"5|0|36|6"]
[10,5,0,36,41,7,877.28,2383.36,0.770486079681378,0.368085392051557,"5|0|36|7"]
[10,5,0,36,41,8,877.28,1632.87,0.685112614124597,0.537262611230533,"5|0|36|8"]
[10,5,0,36,41,9,877.28,839.33,0.514021324416518,1.04521463548306,"5|0|36|9"]
[10,5,0,36,41,10,877.28,0,0,0,"5|0|36|10"]
[10,5,0,37,42,1,876.78,570.9,0,1.53578560168156,"5|0|37|1"]
[10,5,0,37,42,2,876.78,1485.97,2.60285514100543,0.590038829855246,"5|0|37|2"]
[10,5,0,37,42,3,876.78,2517.64,1.69427377403312,0.348254714732845,"5|0|37|3"]
[10,5,0,37,42,4,876.78,3647.17,1.44864635134491,0.240400091029483,"5|0|37|4"]
[10,5,0,37,42,5,876.78,3881.25,1.06418126931292,0.225901449275362,"5|0|37|5"]
[10,5,0,37,42,6,876.78,3093.15,0.796946859903382,0.283458610154697,"5|0|37|6"]
[10,5,0,37,42,7,876.78,2383.44,0.770554289316716,0.367863256469641,"5|0|37|7"]
[10,5,0,37,42,8,876.78,1633.09,0.68518192192797,0.536884066401729,"5|0|37|8"]
[10,5,0,37,42,9,876.78,839.53,0.51407454579968,1.04437006420259,"5|0|37|9"]
[10,5,0,37,42,10,876.78,0,0,0,"5|0|37|10"]
[10,5,0,38,43,1,876.24,570.89,0,1.5348666117816,"5|0|38|1"]
[10,5,0,38,43,2,876.24,1485.95,2.60286570092312,0.589683367542649,"5|0|38|2"]
[10,5,0,38,43,3,876.24,2517.61,1.69427638884215,0.348044375419545,"5|0|38|3"]
[10,5,0,38,43,4,876.24,3647.13,1.44864772542213,0.240254665997647,"5|0|38|4"]
[10,5,0,38,43,5,876.24,3881.21,1.06418197322278,0.225764645561565,"5|0|38|5"]
[10,5,0,38,43,6,876.24,3092.97,0.796908695999443,0.283300516978826,"5|0|38|6"]
[10,5,0,38,43,7,876.24,2383.52,0.770624997979289,0.367624353896758,"5|0|38|7"]
[10,5,0,38,43,8,876.24,1633.32,0.685255420554474,0.536477848798766,"5|0|38|8"]
[10,5,0,38,43,9,876.24,839.75,0.514136850096735,1.04345340875261,"5|0|38|9"]
[10,5,0,38,43,10,876.24,0,0,0,"5|0|38|10"]
[10,5,0,39,44,1,875.64,570.88,0,1.53384248878924,"5|0|39|1"]
[10,5,0,39,44,2,875.64,1485.93,2.60287626121076,0.589287516908603,"5|0|39|2"]
[10,5,0,39,44,3,875.64,2517.57,1.69427227392946,0.347811580214254,"5|0|39|3"]
[10,5,0,39,44,4,875.64,3647.08,1.44865088160409,0.240093444618709,"5|0|39|4"]
[10,5,0,39,44,5,875.64,3881.16,1.06418285313182,0.225612961073493,"5|0|39|5"]
[10,5,0,39,44,6,875.64,3092.78,0.796870007935772,0.283123920873777,"5|0|39|6"]
[10,5,0,39,44,7,875.64,2383.61,0.770701440128299,0.367358754158608,"5|0|39|7"]
[10,5,0,39,44,8,875.64,1633.56,0.685330234392371,0.536031734371557,"5|0|39|8"]
[10,5,0,39,44,9,875.64,839.98,0.514202110727491,1.04245339174742,"5|0|39|9"]
[10,5,0,39,44,10,875.64,0,0,0,"5|0|39|10"]
[10,5,0,40,45,1,875.01,570.87,0,1.53276577854853,"5|0|40|1"]
[10,5,0,40,45,2,875.01,1485.9,2.60286930474539,0.588875429032909,"5|0|40|2"]
[10,5,0,40,45,3,875.01,2517.53,1.6942795612087,0.34756686116948,"5|0|40|3"]
[10,5,0,40,45,4,875.01,3647.03,1.44865403788634,0.239923992947686,"5|0|40|4"]
[10,5,0,40,45,5,875.01,3881.11,1.06418373306499,0.225453542929729,"5|0|40|5"]
[10,5,0,40,45,6,875.01,3092.56,0.796823589127853,0.282940347155754,"5|0|40|6"]
[10,5,0,40,45,7,875.01,2383.71,0.770788602322995,0.367079049045396,"5|0|40|7"]
[10,5,0,40,45,8,875.01,1633.82,0.685410557492312,0.535560832894689,"5|0|40|8"]
[10,5,0,40,45,9,875.01,840.22,0.514267177534857,1.04140582228464,"5|0|40|9"]
[10,5,0,40,45,10,875.01,0,0,0,"5|0|40|10"]
[10,5,0,41,46,1,874.32,570.86,0,1.53158392600638,"5|0|41|1"]
[10,5,0,41,46,2,874.32,1485.88,2.60287986546614,0.588418984036396,"5|0|41|2"]
[10,5,0,41,46,3,874.32,2517.49,1.69427544620023,0.347298301085605,"5|0|41|3"]
[10,5,0,41,46,4,874.32,3646.97,1.44865322205848,0.239738742024201,"5|0|41|4"]
[10,5,0,41,46,5,874.32,3881.05,1.06418478901664,0.225279241442393,"5|0|41|5"]
[10,5,0,41,46,6,874.32,3092.33,0.79677664549542,0.282738258853357,"5|0|41|6"]
[10,5,0,41,46,7,874.32,2383.81,0.770878269783626,0.366774197608031,"5|0|41|7"]
[10,5,0,41,46,8,874.32,1634.1,0.685499263783607,0.535046814760419,"5|0|41|8"]
[10,5,0,41,46,9,874.32,840.48,0.514338167798788,1.04026270702456,"5|0|41|9"]
[10,5,0,41,46,10,874.32,0,0,0,"5|0|41|10"]
[10,5,0,42,47,1,873.58,570.84,0,1.53034125148903,"5|0|42|1"]
[10,5,0,42,47,2,873.58,1485.85,2.60291850606124,0.587932833058519,"5|0|42|2"]
[10,5,0,42,47,3,873.58,2517.44,1.69427600363428,0.347011249523325,"5|0|42|3"]
[10,5,0,42,47,4,873.58,3646.9,1.44865418838185,0.239540431599441,"5|0|42|4"]
[10,5,0,42,47,5,873.58,3880.99,1.06418876305904,0.225092051254963,"5|0|42|5"]
[10,5,0,42,47,6,873.58,3092.07,0.796721970425072,0.282522711322836,"5|0|42|6"]
[10,5,0,42,47,7,873.58,2383.91,0.770975430698529,0.366448397800253,"5|0|42|7"]
[10,5,0,42,47,8,873.58,1634.4,0.685596352211283,0.534495839451787,"5|0|42|8"]
[10,5,0,42,47,9,873.58,840.76,0.51441507586882,1.03903611018602,"5|0|42|9"]
[10,5,0,42,47,10,873.58,0,0,0,"5|0|42|10"]
[10,5,0,43,48,1,872.78,570.82,0,1.52899337794751,"5|0|43|1"]
[10,5,0,43,48,2,872.78,1485.81,2.6029396307067,0.587410234148377,"5|0|43|2"]
[10,5,0,43,48,3,872.78,2517.38,1.69428123380513,0.346701729575988,"5|0|43|3"]
[10,5,0,43,48,4,872.78,3646.83,1.44866090935814,0.239325660916467,"5|0|43|4"]
[10,5,0,43,48,5,872.78,3880.92,1.06418999514647,0.224889974542119,"5|0|43|5"]
[10,5,0,43,48,6,872.78,3091.79,0.796664193026396,0.282289547478969,"5|0|43|6"]
[10,5,0,43,48,7,872.78,2384.02,0.771080830198687,0.366095922014077,"5|0|43|7"]
[10,5,0,43,48,8,872.78,1634.71,0.685694750882962,0.533905096316778,"5|0|43|8"]
[10,5,0,43,48,9,872.78,841.06,0.514501042998452,1.03771431289088,"5|0|43|9"]
[10,5,0,43,48,10,872.78,0,0,0,"5|0|43|10"]
[10,5,0,44,49,1,871.93,570.8,0,1.52755781359495,"5|0|44|1"]
[10,5,0,44,49,2,871.93,1485.77,2.60296075683252,0.586853954515167,"5|0|44|2"]
[10,5,0,44,49,3,871.93,2517.32,1.69428646425759,0.346372332480575,"5|0|44|3"]
[10,5,0,44,49,4,871.93,3646.76,1.44866763065482,0.239097171187575,"5|0|44|4"]
[10,5,0,44,49,5,871.93,3880.84,1.06418848512104,0.224675585697942,"5|0|44|5"]
[10,5,0,44,49,6,871.93,3091.49,0.796603312684883,0.282041992696079,"5|0|44|6"]
[10,5,0,44,49,7,871.93,2384.13,0.771191237882057,0.365722506742501,"5|0|44|7"]
[10,5,0,44,49,8,871.93,1635.04,0.685801529279024,0.533277473333986,"5|0|44|8"]
[10,5,0,44,49,9,871.93,841.37,0.514586799099716,1.03632171339601,"5|0|44|9"]
[10,5,0,44,49,10,871.93,0,0,0,"5|0|44|10"]
[10,5,0,45,50,1,871.02,570.78,0,1.52601702932829,"5|0|45|1"]
[10,5,0,45,50,2,871.02,1485.73,2.60298188443884,0.586257260740511,"5|0|45|2"]
[10,5,0,45,50,3,871.02,2517.26,1.69429169499169,0.34601908424239,"5|0|45|3"]
[10,5,0,45,50,4,871.02,3646.67,1.44866640712521,0.238853529384342,"5|0|45|4"]
[10,5,0,45,50,5,871.02,3880.76,1.06419281152394,0.224445727125615,"5|0|45|5"]
[10,5,0,45,50,6,871.02,3091.16,0.796534699388779,0.281777714514939,"5|0|45|6"]
[10,5,0,45,50,7,871.02,2384.24,0.771309152551146,0.3653239606751,"5|0|45|7"]
[10,5,0,45,50,8,871.02,1635.39,0.68591668623964,0.532606901106158,"5|0|45|8"]
[10,5,0,45,50,9,871.02,841.7,0.514678455903485,1.03483426398954,"5|0|45|9"]
[10,5,0,45,50,10,871.02,0,0,0,"5|0|45|10"]
[10,5,0,46,51,1,870.04,570.76,0,1.5243534935875,"5|0|46|1"]
[10,5,0,46,51,2,870.04,1485.69,2.60300301352583,0.585613418680882,"5|0|46|2"]
[10,5,0,46,51,3,870.04,2517.18,1.69428346424893,0.345640756719821,"5|0|46|3"]
[10,5,0,46,51,4,870.04,3646.58,1.44867669376048,0.238590679485984,"5|0|46|4"]
[10,5,0,46,51,5,870.04,3880.67,1.06419439584487,0.224198398730116,"5|0|46|5"]
[10,5,0,46,51,6,870.04,3090.81,0.796462981907763,0.28149255373187,"5|0|46|6"]
[10,5,0,46,51,7,870.04,2384.36,0.771435319544068,0.364894562901575,"5|0|46|7"]
[10,5,0,46,51,8,870.04,1635.76,0.686037343354191,0.531887318433022,"5|0|46|8"]
[10,5,0,46,51,9,870.04,842.06,0.514782119626351,1.03322803600694,"5|0|46|9"]
[10,5,0,46,51,10,870.04,0,0,0,"5|0|46|10"]
[10,5,0,47,52,1,868.99,570.73,0,1.52259387100731,"5|0|47|1"]
[10,5,0,47,52,2,868.99,1485.64,2.60305223135283,0.584926361702701,"5|0|47|2"]
[10,5,0,47,52,3,868.99,2517.1,1.69428663740879,0.345234595367685,"5|0|47|3"]
[10,5,0,47,52,4,868.99,3646.48,1.44868300822375,0.238309273600842,"5|0|47|4"]
[10,5,0,47,52,5,868.99,3880.57,1.06419615629319,0.223933597383889,"5|0|47|5"]
[10,5,0,47,52,6,868.99,3090.44,0.796388159471418,0.281186497715536,"5|0|47|6"]
[10,5,0,47,52,7,868.99,2384.48,0.771566508328911,0.364435851841911,"5|0|47|7"]
[10,5,0,47,52,8,868.99,1636.16,0.686170569683956,0.531115538822609,"5|0|47|8"]
[10,5,0,47,52,9,868.99,842.44,0.5148885194602,1.03151559754997,"5|0|47|9"]
[10,5,0,47,52,10,868.99,0,0,0,"5|0|47|10"]
[10,5,0,48,53,1,867.87,570.71,0,1.52068476108707,"5|0|48|1"]
[10,5,0,48,53,2,867.87,1485.58,2.60303832068826,0.584196071568007,"5|0|48|2"]
[10,5,0,48,53,3,867.87,2517.02,1.6943012156868,0.344800597532002,"5|0|48|3"]
[10,5,0,48,53,4,867.87,3646.37,1.44868535013627,0.238009307887022,"5|0|48|4"]
[10,5,0,48,53,5,867.87,3880.46,1.06419809289787,0.223651319688903,"5|0|48|5"]
[10,5,0,48,53,6,867.87,3090.03,0.796305077233112,0.280861350860671,"5|0|48|6"]
[10,5,0,48,53,7,867.87,2384.61,0.77171095426258,0.363946305685206,"5|0|48|7"]
[10,5,0,48,53,8,867.87,1636.59,0.686313485223999,0.530291642989386,"5|0|48|8"]
[10,5,0,48,53,9,867.87,842.85,0.515003757813502,1.02968499733049,"5|0|48|9"]
[10,5,0,48,53,10,867.87,0,0,0,"5|0|48|10"]
[10,5,0,49,54,1,866.67,570.67,0,1.51868855906216,"5|0|49|1"]
[10,5,0,49,54,2,866.67,1485.52,2.6031156360068,0.58341186924444,"5|0|49|2"]
[10,5,0,49,54,3,866.67,2516.93,1.69430906349292,0.344336155554584,"5|0|49|3"]
[10,5,0,49,54,4,866.67,3646.24,1.44868550178193,0.237688687524683,"5|0|49|4"]
[10,5,0,49,54,5,866.67,3880.34,1.06420312431436,0.223348984882768,"5|0|49|5"]
[10,5,0,49,54,6,866.67,3089.59,0.796216310941825,0.280512948320004,"5|0|49|6"]
[10,5,0,49,54,7,866.67,2384.75,0.771866169944879,0.363421742320998,"5|0|49|7"]
[10,5,0,49,54,8,866.67,1637.05,0.686466086591886,0.529409608747442,"5|0|49|8"]
[10,5,0,49,54,9,866.67,843.29,0.51512782138603,1.02772474474973,"5|0|49|9"]
[10,5,0,49,54,10,866.67,0,0,0,"5|0|49|10"]
[10,5,0,50,55,1,865.38,570.64,0,1.51650778073742,"5|0|50|1"]
[10,5,0,50,55,2,865.38,1485.46,2.6031473433338,0.582567016277786,"5|0|50|2"]
[10,5,0,50,55,3,865.38,2516.82,1.69430344809015,0.34383865353899,"5|0|50|3"]
[10,5,0,50,55,4,865.38,3646.11,1.44869716547071,0.237343360458132,"5|0|50|4"]
[10,5,0,50,55,5,865.38,3880.21,1.06420541344063,0.223024011587002,"5|0|50|5"]
[10,5,0,50,55,6,865.38,3089.12,0.796121859383899,0.280138032837831,"5|0|50|6"]
[10,5,0,50,55,7,865.38,2384.91,0.772035401667789,0.362856459992201,"5|0|50|7"]
[10,5,0,50,55,8,865.38,1637.54,0.686625491108679,0.528463426847589,"5|0|50|8"]
[10,5,0,50,55,9,865.38,843.77,0.515266802642989,1.02561124477049,"5|0|50|9"]
[10,5,0,50,55,10,865.38,0,0,0,"5|0|50|10"]
[10,5,0,51,56,1,863.99,570.61,0,1.51415152205534,"5|0|51|1"]
[10,5,0,51,56,2,863.99,1485.39,2.60316152889014,0.581658688963841,"5|0|51|2"]
[10,5,0,51,56,3,863.99,2516.72,1.6943159708898,0.343300009536222,"5|0|51|3"]
[10,5,0,51,56,4,863.99,3645.98,1.44870307384214,0.236970581297758,"5|0|51|4"]
[10,5,0,51,56,5,863.99,3880.07,1.06420495998332,0.222673817740402,"5|0|51|5"]
[10,5,0,51,56,6,863.99,3088.62,0.796021721257606,0.279733343693947,"5|0|51|6"]
[10,5,0,51,56,7,863.99,2385.08,0.772215423069202,0.362247807201436,"5|0|51|7"]
[10,5,0,51,56,8,863.99,1638.08,0.686802958391333,0.527440662238719,"5|0|51|8"]
[10,5,0,51,56,9,863.99,844.28,0.515408282867748,1.02334533567063,"5|0|51|9"]
[10,5,0,51,56,10,863.99,0,0,0,"5|0|51|10"]
[10,5,0,52,57,1,862.49,570.57,0,1.51162872215504,"5|0|52|1"]
[10,5,0,52,57,2,862.49,1485.31,2.60320381373013,0.580680127380816,"5|0|52|2"]
[10,5,0,52,57,3,862.49,2516.6,1.69432643690543,0.342720336962569,"5|0|52|3"]
[10,5,0,52,57,4,862.49,3645.83,1.44871254867679,0.236568902005853,"5|0|52|4"]
[10,5,0,52,57,5,862.49,3879.92,1.06420760156124,0.222295820532382,"5|0|52|5"]
[10,5,0,52,57,6,862.49,3088.08,0.795913317800367,0.279296520815523,"5|0|52|6"]
[10,5,0,52,57,7,862.49,2385.26,0.772408745887412,0.361591608461971,"5|0|52|7"]
[10,5,0,52,57,8,862.49,1638.66,0.686994289930657,0.526338593729022,"5|0|52|8"]
[10,5,0,52,57,9,862.49,844.84,0.51556759791537,1.02089152975711,"5|0|52|9"]
[10,5,0,52,57,10,862.49,0,0,0,"5|0|52|10"]
[10,5,0,53,58,1,860.89,570.53,0,1.50893029288556,"5|0|53|1"]
[10,5,0,53,58,2,860.89,1485.23,2.60324610449932,0.579634130740693,"5|0|53|2"]
[10,5,0,53,58,3,860.89,2516.48,1.69433690404853,0.342100871057986,"5|0|53|3"]
[10,5,0,53,58,4,860.89,3645.67,1.44871805061038,0.236140407661692,"5|0|53|4"]
[10,5,0,53,58,5,860.89,3879.76,1.06421041948394,0.221892591294307,"5|0|53|5"]
[10,5,0,53,58,6,860.89,3087.5,0.795796647215292,0.278830769230769,"5|0|53|6"]
[10,5,0,53,58,7,860.89,2385.46,0.772618623481781,0.360890561988044,"5|0|53|7"]
[10,5,0,53,58,8,860.89,1639.28,0.68719659939802,0.525163486408667,"5|0|53|8"]
[10,5,0,53,58,9,860.89,845.43,0.515732516714655,1.01828655240528,"5|0|53|9"]
[10,5,0,53,58,10,860.89,0,0,0,"5|0|53|10"]
[10,5,0,54,59,1,859.17,570.48,0,1.5060475389146,"5|0|54|1"]
[10,5,0,54,59,2,859.17,1485.15,2.60333403449727,0.578507221492778,"5|0|54|2"]
[10,5,0,54,59,3,859.17,2516.34,1.69433390566609,0.341436371873435,"5|0|54|3"]
[10,5,0,54,59,4,859.17,3645.5,1.44873109357241,0.235679604992456,"5|0|54|4"]
[10,5,0,54,59,5,859.17,3879.59,1.06421341379783,0.221458968602352,"5|0|54|5"]
[10,5,0,54,59,6,859.17,3086.88,0.795671707577347,0.278329575493702,"5|0|54|6"]
[10,5,0,54,59,7,859.17,2385.66,0.772838594308817,0.360139332511758,"5|0|54|7"]
[10,5,0,54,59,8,859.17,1639.93,0.6874114500809,0.523906508204618,"5|0|54|8"]
[10,5,0,54,59,9,859.17,846.05,0.515906166726628,1.01550735772117,"5|0|54|9"]
[10,5,0,54,59,10,859.17,0,0,0,"5|0|54|10"]
[10,5,0,55,60,1,857.32,570.44,0,1.50291003435944,"5|0|55|1"]
[10,5,0,55,60,2,857.32,1485.06,2.60335881074258,0.57729654020713,"5|0|55|2"]
[10,5,0,55,60,3,857.32,2516.2,1.69434231613538,0.340720133534695,"5|0|55|3"]
[10,5,0,55,60,4,857.32,3645.32,1.44874016373897,0.235183742442364,"5|0|55|4"]
[10,5,0,55,60,5,857.32,3879.41,1.06421658455225,0.220992367396073,"5|0|55|5"]
[10,5,0,55,60,6,857.32,3086.21,0.795535919121722,0.277790558646366,"5|0|55|6"]
[10,5,0,55,60,7,857.32,2385.87,0.773074418137457,0.359332235201415,"5|0|55|7"]
[10,5,0,55,60,8,857.32,1640.62,0.687640148038242,0.522558544940327,"5|0|55|8"]
[10,5,0,55,60,9,857.32,846.71,0.516091477612122,1.01253085472003,"5|0|55|9"]
[10,5,0,55,60,10,857.32,0,0,0,"5|0|55|10"]
[10,5,0,56,61,1,855.35,570.39,0,1.49958800119217,"5|0|56|1"]
[10,5,0,56,61,2,855.35,1484.96,2.60341170076614,0.576008781381317,"5|0|56|2"]
[10,5,0,56,61,3,855.35,2516.05,1.69435540351255,0.339957473023191,"5|0|56|3"]
[10,5,0,56,61,4,855.35,3645.12,1.44874704397766,0.234656197875516,"5|0|56|4"]
[10,5,0,56,61,5,855.35,3879.21,1.06422010797998,0.220495925716834,"5|0|56|5"]
[10,5,0,56,61,6,855.35,3085.49,0.79539132967795,0.277216908821613,"5|0|56|6"]
[10,5,0,56,61,7,855.35,2386.09,0.773326116759413,0.358473485912099,"5|0|56|7"]
[10,5,0,56,61,8,855.35,1641.35,0.687882686738555,0.521125902458342,"5|0|56|8"]
[10,5,0,56,61,9,855.35,847.43,0.516300606208304,1.00934590467649,"5|0|56|9"]
[10,5,0,56,61,10,855.35,0,0,0,"5|0|56|10"]
[10,5,0,57,62,1,853.21,570.34,0,1.4959673177403,"5|0|57|1"]
[10,5,0,57,62,2,853.21,1484.86,2.60346460006312,0.574606360195574,"5|0|57|2"]
[10,5,0,57,62,3,853.21,2515.89,1.69436175801086,0.339128499258712,"5|0|57|3"]
[10,5,0,57,62,4,853.21,3644.91,1.4487557087154,0.234082597375518,"5|0|57|4"]
[10,5,0,57,62,5,853.21,3879,1.06422380799526,0.21995617427172,"5|0|57|5"]
[10,5,0,57,62,6,853.21,3084.71,0.795233307553493,0.276593261603198,"5|0|57|6"]
[10,5,0,57,62,7,853.21,2386.34,0.773602704954437,0.357539160387874,"5|0|57|7"]
[10,5,0,57,62,8,853.21,1642.19,0.688162625610768,0.519556202388274,"5|0|57|8"]
[10,5,0,57,62,9,853.21,848.26,0.516541934855285,1.0058354749723,"5|0|57|9"]
[10,5,0,57,62,10,853.21,0,0,0,"5|0|57|10"]
[10,5,0,58,63,1,850.85,570.28,0,1.49198639264922,"5|0|58|1"]
[10,5,0,58,63,2,850.85,1484.75,2.60354562670969,0.57305943761576,"5|0|58|2"]
[10,5,0,58,63,3,850.85,2515.71,1.6943660548914,0.338214659082327,"5|0|58|3"]
[10,5,0,58,63,4,850.85,3644.67,1.44876396722993,0.233450490716581,"5|0|58|4"]
[10,5,0,58,63,5,850.85,3878.76,1.06422803710624,0.219361342284648,"5|0|58|5"]
[10,5,0,58,63,6,850.85,3083.87,0.795065948911508,0.275903329258367,"5|0|58|6"]
[10,5,0,58,63,7,850.85,2386.68,0.773923673825421,0.356499405031257,"5|0|58|7"]
[10,5,0,58,63,8,850.85,1643.22,0.688496153652773,0.517794330643493,"5|0|58|8"]
[10,5,0,58,63,9,850.85,849.29,0.516844975109845,1.00183682840961,"5|0|58|9"]
[10,5,0,58,63,10,850.85,0,0,0,"5|0|58|10"]
[10,5,0,59,64,1,848.16,570.22,0,1.48742590579075,"5|0|59|1"]
[10,5,0,59,64,2,848.16,1484.62,2.60359159622602,0.571297705810241,"5|0|59|2"]
[10,5,0,59,64,3,848.16,2515.51,1.69437970659159,0.337172183771879,"5|0|59|3"]
[10,5,0,59,64,4,848.16,3644.42,1.44877977030503,0.232728390251398,"5|0|59|4"]
[10,5,0,59,64,5,848.16,3878.5,1.06422969910164,0.218682480340338,"5|0|59|5"]
[10,5,0,59,64,6,848.16,3082.97,0.794887198659275,0.275111337444088,"5|0|59|6"]
[10,5,0,59,64,7,848.16,2387.19,0.774315027392417,0.355296394505674,"5|0|59|7"]
[10,5,0,59,64,8,848.16,1644.59,0.68892295963036,0.515727324135499,"5|0|59|8"]
[10,5,0,59,64,9,848.16,850.66,0.517247459853216,0.997061105494557,"5|0|59|9"]
[10,5,0,59,64,10,848.16,0,0,0,"5|0|59|10"]
[10,5,0,60,65,1,844.98,570.15,0,1.48203104446198,"5|0|60|1"]
[10,5,0,60,65,2,844.98,1484.49,2.6036832412523,0.569205585756725,"5|0|60|2"]
[10,5,0,60,65,3,844.98,2515.3,1.69438662436258,0.335936071243987,"5|0|60|3"]
[10,5,0,60,65,4,844.98,3644.14,1.44878940881803,0.231873638224657,"5|0|60|4"]
[10,5,0,60,65,5,844.98,3878.21,1.06423189010301,0.217878866796795,"5|0|60|5"]
[10,5,0,60,65,6,844.98,3081.99,0.794693943855541,0.274167015467279,"5|0|60|6"]
[10,5,0,60,65,7,844.98,2387.99,0.774820813824834,0.353845702871453,"5|0|60|7"]
[10,5,0,60,65,8,844.98,1646.48,0.689483624303284,0.51320392595112,"5|0|60|8"]
[10,5,0,60,65,9,844.98,852.53,0.517789466012341,0.991144006662522,"5|0|60|9"]
[10,5,0,60,65,10,844.98,0,0,0,"5|0|60|10"]
[10,5,0,61,66,1,841.11,570.08,0,1.47542450182431,"5|0|61|1"]
[10,5,0,61,66,2,841.11,1484.34,2.60373982598933,0.566655887465136,"5|0|61|2"]
[10,5,0,61,66,3,841.11,2515.07,1.69440289960521,0.334428067608456,"5|0|61|3"]
[10,5,0,61,66,4,841.11,3643.85,1.44880659385226,0.230830028678458,"5|0|61|4"]
[10,5,0,61,66,5,841.11,3877.92,1.06423700207198,0.216897202624087,"5|0|61|5"]
[10,5,0,61,66,6,841.11,3080.94,0.794482609233816,0.273004342830435,"5|0|61|6"]
[10,5,0,61,66,7,841.11,2389.2,0.775477613974956,0.352046710195882,"5|0|61|7"]
[10,5,0,61,66,8,841.11,1649.08,0.690222668675707,0.510048026778567,"5|0|61|8"]
[10,5,0,61,66,9,841.11,855.03,0.518489096951027,0.983719869478264,"5|0|61|9"]
[10,5,0,61,66,10,841.11,0,0,0,"5|0|61|10"]
[10,5,0,62,67,1,836.29,570,0,1.46717543859649,"5|0|62|1"]
[10,5,0,62,67,2,836.29,1484.2,2.60385964912281,0.563461797601401,"5|0|62|2"]
[10,5,0,62,67,3,836.29,2514.85,1.69441449939361,0.332540708193332,"5|0|62|3"]
[10,5,0,62,67,4,836.29,3643.57,1.44882199733583,0.229524889051123,"5|0|62|4"]
[10,5,0,62,67,5,836.29,3877.63,1.06423919397734,0.215670396608238,"5|0|62|5"]
[10,5,0,62,67,6,836.29,3079.78,0.79424287515828,0.271542123138666,"5|0|62|6"]
[10,5,0,62,67,7,836.29,2390.93,0.776331426270708,0.349776028574655,"5|0|62|7"]
[10,5,0,62,67,8,836.29,1652.57,0.691182928818493,0.506054206478394,"5|0|62|8"]
[10,5,0,62,67,9,836.29,858.33,0.519391009155437,0.974322230377594,"5|0|62|9"]
[10,5,0,62,67,10,836.29,0,0,0,"5|0|62|10"]
[10,5,0,63,68,1,830.25,569.93,0,1.45675784745495,"5|0|63|1"]
[10,5,0,63,68,2,830.25,1484.07,2.60395136244802,0.559441266247549,"5|0|63|2"]
[10,5,0,63,68,3,830.25,2514.65,1.69442816039675,0.330165231741992,"5|0|63|3"]
[10,5,0,63,68,4,830.25,3643.31,1.44883383373432,0.227883435667017,"5|0|63|4"]
[10,5,0,63,68,5,830.25,3877.38,1.06424652307929,0.214126549370967,"5|0|63|5"]
[10,5,0,63,68,6,830.25,3078.48,0.793958807235814,0.269694784439074,"5|0|63|6"]
[10,5,0,63,68,7,830.25,2393.29,0.777425872508511,0.346907395259246,"5|0|63|7"]
[10,5,0,63,68,8,830.25,1657.09,0.69238997363462,0.501028912129094,"5|0|63|8"]
[10,5,0,63,68,9,830.25,862.53,0.52050884381657,0.962575214775138,"5|0|63|9"]
[10,5,0,63,68,10,830.25,0,0,0,"5|0|63|10"]
[10,5,0,64,69,1,822.69,569.88,0,1.44361970941251,"5|0|64|1"]
[10,5,0,64,69,2,822.69,1483.97,2.60400435179336,0.554384522598166,"5|0|64|2"]
[10,5,0,64,69,3,822.69,2514.49,1.69443452360897,0.327179666652085,"5|0|64|3"]
[10,5,0,64,69,4,822.69,3643.1,1.44884250881889,0.22582141582718,"5|0|64|4"]
[10,5,0,64,69,5,822.69,3877.17,1.06425022645549,0.212188271342242,"5|0|64|5"]
[10,5,0,64,69,6,822.69,3076.99,0.793617509678451,0.267368434736545,"5|0|64|6"]
[10,5,0,64,69,7,822.69,2396.34,0.778793561240043,0.343311049350259,"5|0|64|7"]
[10,5,0,64,69,8,822.69,1662.76,0.693874825775975,0.494773749669225,"5|0|64|8"]
[10,5,0,64,69,9,822.69,867.73,0.521861242753013,0.948094453343782,"5|0|64|9"]
[10,5,0,64,69,10,822.69,0,0,0,"5|0|64|10"]
[10,5,0,65,70,1,813.32,569.83,0,1.42730287980626,"5|0|65|1"]
[10,5,0,65,70,2,813.32,1483.92,2.6041450959058,0.548088845759879,"5|0|65|2"]
[10,5,0,65,70,3,813.32,2514.39,1.69442422772117,0.323466128961697,"5|0|65|3"]
[10,5,0,65,70,4,813.32,3642.94,1.44883649712256,0.223259235672287,"5|0|65|4"]
[10,5,0,65,70,5,813.32,3877.03,1.06425853843324,0.209779135059569,"5|0|65|5"]
[10,5,0,65,70,6,813.32,3075.21,0.793187052976118,0.264476247150601,"5|0|65|6"]
[10,5,0,65,70,7,813.32,2400.07,0.780457269584841,0.338873449524389,"5|0|65|7"]
[10,5,0,65,70,8,813.32,1669.63,0.695658876616099,0.487125890167283,"5|0|65|8"]
[10,5,0,65,70,9,813.32,873.96,0.523445314231297,0.930614673440432,"5|0|65|9"]
[10,5,0,65,70,10,813.32,0,0,0,"5|0|65|10"]
[10,1,1,0,5,1,190.31,825.13,0,0.230642444220911,"1|1|0|1"]
[10,1,1,0,5,2,190.31,870.47,1.05494891714033,0.218629016508323,"1|1|0|2"]
[10,1,1,0,5,3,190.31,918.32,1.05497030339931,0.207237128669745,"1|1|0|3"]
[10,1,1,0,5,4,190.31,968.81,1.05498083456747,0.196436865845728,"1|1|0|4"]
[10,1,1,0,5,5,190.31,822.1,0.848566798443451,0.231492519158253,"1|1|0|5"]
[10,1,1,0,5,6,190.31,667.29,0.811689575477436,0.285198339552518,"1|1|0|6"]
[10,1,1,0,5,7,190.31,513.64,0.769740292826207,0.370512421151001,"1|1|0|7"]
[10,1,1,0,5,8,190.31,351.52,0.68437037613893,0.541391670459718,"1|1|0|8"]
[10,1,1,0,5,9,190.31,180.47,0.513398953117888,1.0545242976672,"1|1|0|9"]
[10,1,1,0,5,10,190.31,0,0,0,"1|1|0|10"]
[10,1,1,1,6,1,190.32,825.13,0,0.230654563523324,"1|1|1|1"]
[10,1,1,1,6,2,190.32,870.47,1.05494891714033,0.21864050455501,"1|1|1|2"]
[10,1,1,1,6,3,190.32,918.33,1.054981791446,0.207245761327627,"1|1|1|3"]
[10,1,1,1,6,4,190.32,968.83,1.05499112519465,0.196443132438095,"1|1|1|4"]
[10,1,1,1,6,5,190.32,822.11,0.848559602819896,0.231501867146732,"1|1|1|5"]
[10,1,1,1,6,6,190.32,667.31,0.811704029874348,0.285204777389819,"1|1|1|6"]
[10,1,1,1,6,7,190.32,513.66,0.769747193957831,0.370517462913211,"1|1|1|7"]
[10,1,1,1,6,8,190.32,351.53,0.684363197445781,0.541404716524905,"1|1|1|8"]
[10,1,1,1,6,9,190.32,180.48,0.513412795493983,1.05452127659574,"1|1|1|9"]
[10,1,1,1,6,10,190.32,0,0,0,"1|1|1|10"]
[10,1,1,2,7,1,190.32,825.12,0,0.23065735892961,"1|1|2|1"]
[10,1,1,2,7,2,190.32,870.48,1.05497382198953,0.218637992831541,"1|1|2|2"]
[10,1,1,2,7,3,190.32,918.34,1.05498115981987,0.207243504584359,"1|1|2|3"]
[10,1,1,2,7,4,190.32,968.84,1.05499052638456,0.19644110482639,"1|1|2|4"]
[10,1,1,2,7,5,190.32,822.12,0.848561165930391,0.231499051233397,"1|1|2|5"]
[10,1,1,2,7,6,190.32,667.32,0.81170632024522,0.285200503506564,"1|1|2|6"]
[10,1,1,2,7,7,190.32,513.67,0.769750644368519,0.370510249771254,"1|1|2|7"]
[10,1,1,2,7,8,190.32,351.54,0.684369342184671,0.541389315582864,"1|1|2|8"]
[10,1,1,2,7,9,190.32,180.49,0.513426637082551,1.05446285112749,"1|1|2|9"]
[10,1,1,2,7,10,190.32,0,0,0,"1|1|2|10"]
[10,1,1,3,8,1,190.33,825.12,0,0.230669478378902,"1|1|3|1"]
[10,1,1,3,8,2,190.33,870.48,1.05497382198953,0.218649480746255,"1|1|3|2"]
[10,1,1,3,8,3,190.33,918.34,1.05498115981987,0.207254393797504,"1|1|3|3"]
[10,1,1,3,8,4,190.33,968.84,1.05499052638456,0.196451426448124,"1|1|3|4"]
[10,1,1,3,8,5,190.33,822.13,0.848571487552124,0.231508398915013,"1|1|3|5"]
[10,1,1,3,8,6,190.33,667.33,0.811708610560374,0.285211214841233,"1|1|3|6"]
[10,1,1,3,8,7,190.33,513.67,0.769739109585962,0.370529717522923,"1|1|3|7"]
[10,1,1,3,8,8,190.33,351.55,0.684388809936341,0.541402360972835,"1|1|3|8"]
[10,1,1,3,8,9,190.33,180.49,0.51341203242782,1.05451825585905,"1|1|3|9"]
[10,1,1,3,8,10,190.33,0,0,0,"1|1|3|10"]
[10,1,1,4,9,1,190.32,825.12,0,0.23065735892961,"1|1|4|1"]
[10,1,1,4,9,2,190.32,870.48,1.05497382198953,0.218637992831541,"1|1|4|2"]
[10,1,1,4,9,3,190.32,918.34,1.05498115981987,0.207243504584359,"1|1|4|3"]
[10,1,1,4,9,4,190.32,968.85,1.05500141559771,0.196439077256541,"1|1|4|4"]
[10,1,1,4,9,5,190.32,822.13,0.848562729008618,0.231496235388564,"1|1|4|5"]
[10,1,1,4,9,6,190.32,667.33,0.811708610560374,0.285196229751397,"1|1|4|6"]
[10,1,1,4,9,7,190.32,513.68,0.769754094675797,0.370503036910139,"1|1|4|7"]
[10,1,1,4,9,8,190.32,351.55,0.684375486684317,0.541373915516996,"1|1|4|8"]
[10,1,1,4,9,9,190.32,180.49,0.51341203242782,1.05446285112749,"1|1|4|9"]
[10,1,1,4,9,10,190.32,0,0,0,"1|1|4|10"]
[10,1,1,5,10,1,190.32,825.12,0,0.23065735892961,"1|1|5|1"]
[10,1,1,5,10,2,190.32,870.48,1.05497382198953,0.218637992831541,"1|1|5|2"]
[10,1,1,5,10,3,190.32,918.35,1.05499264773458,0.207241247890238,"1|1|5|3"]
[10,1,1,5,10,4,190.32,968.85,1.05498992758752,0.196439077256541,"1|1|5|4"]
[10,1,1,5,10,5,190.32,822.13,0.848562729008618,0.231496235388564,"1|1|5|5"]
[10,1,1,5,10,6,190.32,667.34,0.811720774086823,0.285191956124314,"1|1|5|6"]
[10,1,1,5,10,7,190.32,513.68,0.769742560014385,0.370503036910139,"1|1|5|7"]
[10,1,1,5,10,8,190.32,351.56,0.684394954057001,0.541358516327227,"1|1|5|8"]
[10,1,1,5,10,9,190.32,180.5,0.513425873250654,1.05440443213296,"1|1|5|9"]
[10,1,1,5,10,10,190.32,0,0,0,"1|1|5|10"]
[10,1,1,6,11,1,190.32,825.12,0,0.23065735892961,"1|1|6|1"]
[10,1,1,6,11,2,190.32,870.48,1.05497382198953,0.218637992831541,"1|1|6|2"]
[10,1,1,6,11,3,190.32,918.35,1.05499264773458,0.207241247890238,"1|1|6|3"]
[10,1,1,6,11,4,190.32,968.85,1.05498992758752,0.196439077256541,"1|1|6|4"]
[10,1,1,6,11,5,190.32,822.14,0.848573050523817,0.231493419612231,"1|1|6|5"]
[10,1,1,6,11,6,190.32,667.34,0.811710900819812,0.285191956124314,"1|1|6|6"]
[10,1,1,6,11,7,190.32,513.69,0.769757544879672,0.370495824329849,"1|1|6|7"]
[10,1,1,6,11,8,190.32,351.56,0.684381630944733,0.541358516327227,"1|1|6|8"]
[10,1,1,6,11,9,190.32,180.5,0.513425873250654,1.05440443213296,"1|1|6|9"]
[10,1,1,6,11,10,190.32,0,0,0,"1|1|6|10"]
[10,1,1,7,12,1,190.32,825.12,0,0.23065735892961,"1|1|7|1"]
[10,1,1,7,12,2,190.32,870.48,1.05497382198953,0.218637992831541,"1|1|7|2"]
[10,1,1,7,12,3,190.32,918.35,1.05499264773458,0.207241247890238,"1|1|7|3"]
[10,1,1,7,12,4,190.32,968.85,1.05498992758752,0.196439077256541,"1|1|7|4"]
[10,1,1,7,12,5,190.32,822.14,0.848573050523817,0.231493419612231,"1|1|7|5"]
[10,1,1,7,12,6,190.32,667.34,0.811710900819812,0.285191956124314,"1|1|7|6"]
[10,1,1,7,12,7,190.32,513.69,0.769757544879672,0.370495824329849,"1|1|7|7"]
[10,1,1,7,12,8,190.32,351.57,0.684401097938445,0.541343118013482,"1|1|7|8"]
[10,1,1,7,12,9,190.32,180.5,0.513411269448474,1.05440443213296,"1|1|7|9"]
[10,1,1,7,12,10,190.32,0,0,0,"1|1|7|10"]
[10,1,1,8,13,1,190.31,825.12,0,0.230645239480318,"1|1|8|1"]
[10,1,1,8,13,2,190.31,870.48,1.05497382198953,0.218626504916828,"1|1|8|2"]
[10,1,1,8,13,3,190.31,918.35,1.05499264773458,0.207230358795666,"1|1|8|3"]
[10,1,1,8,13,4,190.31,968.85,1.05498992758752,0.196428755741343,"1|1|8|4"]
[10,1,1,8,13,5,190.31,822.14,0.848573050523817,0.231481256233731,"1|1|8|5"]
[10,1,1,8,13,6,190.31,667.34,0.811710900819812,0.285176971259028,"1|1|8|6"]
[10,1,1,8,13,7,190.31,513.69,0.769757544879672,0.370476357336137,"1|1|8|7"]
[10,1,1,8,13,8,190.31,351.57,0.684401097938445,0.54131467417584,"1|1|8|8"]
[10,1,1,8,13,9,190.31,180.5,0.513411269448474,1.05434903047091,"1|1|8|9"]
[10,1,1,8,13,10,190.31,0,0,0,"1|1|8|10"]
[10,1,1,9,14,1,190.31,825.12,0,0.230645239480318,"1|1|9|1"]
[10,1,1,9,14,2,190.31,870.49,1.05498594143882,0.218623993383037,"1|1|9|2"]
[10,1,1,9,14,3,190.31,918.35,1.05498052820825,0.207230358795666,"1|1|9|3"]
[10,1,1,9,14,4,190.31,968.85,1.05498992758752,0.196428755741343,"1|1|9|4"]
[10,1,1,9,14,5,190.31,822.14,0.848573050523817,0.231481256233731,"1|1|9|5"]
[10,1,1,9,14,6,190.31,667.34,0.811710900819812,0.285176971259028,"1|1|9|6"]
[10,1,1,9,14,7,190.31,513.69,0.769757544879672,0.370476357336137,"1|1|9|7"]
[10,1,1,9,14,8,190.31,351.57,0.684401097938445,0.54131467417584,"1|1|9|8"]
[10,1,1,9,14,9,190.31,180.51,0.513439713286117,1.05429062101823,"1|1|9|9"]
[10,1,1,9,14,10,190.31,0,0,0,"1|1|9|10"]
[10,1,1,10,15,1,190.31,825.12,0,0.230645239480318,"1|1|10|1"]
[10,1,1,10,15,2,190.31,870.49,1.05498594143882,0.218623993383037,"1|1|10|2"]
[10,1,1,10,15,3,190.31,918.35,1.05498052820825,0.207230358795666,"1|1|10|3"]
[10,1,1,10,15,4,190.31,968.86,1.05500081668209,0.196426728319881,"1|1|10|4"]
[10,1,1,10,15,5,190.31,822.14,0.84856429205458,0.231481256233731,"1|1|10|5"]
[10,1,1,10,15,6,190.31,667.34,0.811710900819812,0.285176971259028,"1|1|10|6"]
[10,1,1,10,15,7,190.31,513.69,0.769757544879672,0.370476357336137,"1|1|10|7"]
[10,1,1,10,15,8,190.31,351.57,0.684401097938445,0.54131467417584,"1|1|10|8"]
[10,1,1,10,15,9,190.31,180.51,0.513439713286117,1.05429062101823,"1|1|10|9"]
[10,1,1,10,15,10,190.31,0,0,0,"1|1|10|10"]
[10,1,1,11,16,1,190.3,825.12,0,0.230633120031026,"1|1|11|1"]
[10,1,1,11,16,2,190.3,870.49,1.05498594143882,0.218612505600294,"1|1|11|2"]
[10,1,1,11,16,3,190.3,918.35,1.05498052820825,0.207219469701094,"1|1|11|3"]
[10,1,1,11,16,4,190.3,968.86,1.05500081668209,0.196416406911215,"1|1|11|4"]
[10,1,1,11,16,5,190.3,822.14,0.84856429205458,0.231469092855231,"1|1|11|5"]
[10,1,1,11,16,6,190.3,667.34,0.811710900819812,0.285161986393742,"1|1|11|6"]
[10,1,1,11,16,7,190.3,513.7,0.769772529744958,0.370449678800856,"1|1|11|7"]
[10,1,1,11,16,8,190.3,351.58,0.684407241580689,0.54127083451846,"1|1|11|8"]
[10,1,1,11,16,9,190.3,180.51,0.51342510950566,1.05423522242535,"1|1|11|9"]
[10,1,1,11,16,10,190.3,0,0,0,"1|1|11|10"]
[10,1,1,12,17,1,190.3,825.13,0,0.230630324918498,"1|1|12|1"]
[10,1,1,12,17,2,190.3,870.49,1.05497315574516,0.218612505600294,"1|1|12|2"]
[10,1,1,12,17,3,190.3,918.35,1.05498052820825,0.207219469701094,"1|1|12|3"]
[10,1,1,12,17,4,190.3,968.86,1.05500081668209,0.196416406911215,"1|1|12|4"]
[10,1,1,12,17,5,190.3,822.14,0.84856429205458,0.231469092855231,"1|1|12|5"]
[10,1,1,12,17,6,190.3,667.34,0.811710900819812,0.285161986393742,"1|1|12|6"]
[10,1,1,12,17,7,190.3,513.7,0.769772529744958,0.370449678800856,"1|1|12|7"]
[10,1,1,12,17,8,190.3,351.58,0.684407241580689,0.54127083451846,"1|1|12|8"]
[10,1,1,12,17,9,190.3,180.51,0.51342510950566,1.05423522242535,"1|1|12|9"]
[10,1,1,12,17,10,190.3,0,0,0,"1|1|12|10"]
[10,1,1,13,18,1,190.29,825.13,0,0.230618205616085,"1|1|13|1"]
[10,1,1,13,18,2,190.29,870.49,1.05497315574516,0.218601017817551,"1|1|13|2"]
[10,1,1,13,18,3,190.29,918.35,1.05498052820825,0.207208580606523,"1|1|13|3"]
[10,1,1,13,18,4,190.29,968.86,1.05500081668209,0.196406085502549,"1|1|13|4"]
[10,1,1,13,18,5,190.29,822.14,0.84856429205458,0.231456929476731,"1|1|13|5"]
[10,1,1,13,18,6,190.29,667.34,0.811710900819812,0.285147001528456,"1|1|13|6"]
[10,1,1,13,18,7,190.29,513.7,0.769772529744958,0.370430212186101,"1|1|13|7"]
[10,1,1,13,18,8,190.29,351.58,0.684407241580689,0.541242391489846,"1|1|13|8"]
[10,1,1,13,18,9,190.29,180.51,0.51342510950566,1.05417982383247,"1|1|13|9"]
[10,1,1,13,18,10,190.29,0,0,0,"1|1|13|10"]
[10,1,1,14,19,1,190.29,825.13,0,0.230618205616085,"1|1|14|1"]
[10,1,1,14,19,2,190.29,870.49,1.05497315574516,0.218601017817551,"1|1|14|2"]
[10,1,1,14,19,3,190.29,918.35,1.05498052820825,0.207208580606523,"1|1|14|3"]
[10,1,1,14,19,4,190.29,968.86,1.05500081668209,0.196406085502549,"1|1|14|4"]
[10,1,1,14,19,5,190.29,822.14,0.84856429205458,0.231456929476731,"1|1|14|5"]
[10,1,1,14,19,6,190.29,667.34,0.811710900819812,0.285147001528456,"1|1|14|6"]
[10,1,1,14,19,7,190.29,513.7,0.769772529744958,0.370430212186101,"1|1|14|7"]
[10,1,1,14,19,8,190.29,351.58,0.684407241580689,0.541242391489846,"1|1|14|8"]
[10,1,1,14,19,9,190.29,180.51,0.51342510950566,1.05417982383247,"1|1|14|9"]
[10,1,1,14,19,10,190.29,0,0,0,"1|1|14|10"]
[10,1,1,15,20,1,190.28,825.13,0,0.230606086313672,"1|1|15|1"]
[10,1,1,15,20,2,190.28,870.49,1.05497315574516,0.218589530034808,"1|1|15|2"]
[10,1,1,15,20,3,190.28,918.36,1.05499201599099,0.207195435341261,"1|1|15|3"]
[10,1,1,15,20,4,190.28,968.86,1.05498932880352,0.196395764093884,"1|1|15|4"]
[10,1,1,15,20,5,190.28,822.14,0.84856429205458,0.231444766098231,"1|1|15|5"]
[10,1,1,15,20,6,190.28,667.33,0.811698737441312,0.285136289392055,"1|1|15|6"]
[10,1,1,15,20,7,190.28,513.7,0.769784064855469,0.370410745571345,"1|1|15|7"]
[10,1,1,15,20,8,190.28,351.58,0.684407241580689,0.541213948461232,"1|1|15|8"]
[10,1,1,15,20,9,190.28,180.52,0.513453552534274,1.05406603146466,"1|1|15|9"]
[10,1,1,15,20,10,190.28,0,0,0,"1|1|15|10"]
[10,1,1,16,21,1,190.28,825.13,0,0.230606086313672,"1|1|16|1"]
[10,1,1,16,21,2,190.28,870.49,1.05497315574516,0.218589530034808,"1|1|16|2"]
[10,1,1,16,21,3,190.28,918.36,1.05499201599099,0.207195435341261,"1|1|16|3"]
[10,1,1,16,21,4,190.28,968.86,1.05498932880352,0.196395764093884,"1|1|16|4"]
[10,1,1,16,21,5,190.28,822.14,0.84856429205458,0.231444766098231,"1|1|16|5"]
[10,1,1,16,21,6,190.28,667.33,0.811698737441312,0.285136289392055,"1|1|16|6"]
[10,1,1,16,21,7,190.28,513.7,0.769784064855469,0.370410745571345,"1|1|16|7"]
[10,1,1,16,21,8,190.28,351.59,0.684426708195445,0.541198555135243,"1|1|16|8"]
[10,1,1,16,21,9,190.28,180.52,0.513438948775563,1.05406603146466,"1|1|16|9"]
[10,1,1,16,21,10,190.28,0,0,0,"1|1|16|10"]
[10,1,1,17,22,1,190.27,825.14,0,0.230591172407107,"1|1|17|1"]
[10,1,1,17,22,2,190.27,870.5,1.05497248951693,0.218575531303848,"1|1|17|2"]
[10,1,1,17,22,3,190.27,918.36,1.05497989661114,0.20718454636526,"1|1|17|3"]
[10,1,1,17,22,4,190.27,968.86,1.05498932880352,0.196385442685218,"1|1|17|4"]
[10,1,1,17,22,5,190.27,822.14,0.84856429205458,0.231432602719731,"1|1|17|5"]
[10,1,1,17,22,6,190.27,667.33,0.811698737441312,0.285121304302219,"1|1|17|6"]
[10,1,1,17,22,7,190.27,513.7,0.769784064855469,0.370391278956589,"1|1|17|7"]
[10,1,1,17,22,8,190.27,351.59,0.684426708195445,0.541170112915612,"1|1|17|8"]
[10,1,1,17,22,9,190.27,180.52,0.513438948775563,1.05401063594062,"1|1|17|9"]
[10,1,1,17,22,10,190.27,0,0,0,"1|1|17|10"]
[10,1,1,18,23,1,190.27,825.14,0,0.230591172407107,"1|1|18|1"]
[10,1,1,18,23,2,190.27,870.5,1.05497248951693,0.218575531303848,"1|1|18|2"]
[10,1,1,18,23,3,190.27,918.36,1.05497989661114,0.20718454636526,"1|1|18|3"]
[10,1,1,18,23,4,190.27,968.86,1.05498932880352,0.196385442685218,"1|1|18|4"]
[10,1,1,18,23,5,190.27,822.14,0.84856429205458,0.231432602719731,"1|1|18|5"]
[10,1,1,18,23,6,190.27,667.33,0.811698737441312,0.285121304302219,"1|1|18|6"]
[10,1,1,18,23,7,190.27,513.7,0.769784064855469,0.370391278956589,"1|1|18|7"]
[10,1,1,18,23,8,190.27,351.59,0.684426708195445,0.541170112915612,"1|1|18|8"]
[10,1,1,18,23,9,190.27,180.52,0.513438948775563,1.05401063594062,"1|1|18|9"]
[10,1,1,18,23,10,190.27,0,0,0,"1|1|18|10"]
[10,1,1,19,24,1,190.26,825.14,0,0.230579053251569,"1|1|19|1"]
[10,1,1,19,24,2,190.26,870.5,1.05497248951693,0.218564043653073,"1|1|19|2"]
[10,1,1,19,24,3,190.26,918.36,1.05497989661114,0.207173657389259,"1|1|19|3"]
[10,1,1,19,24,4,190.26,968.86,1.05498932880352,0.196375121276552,"1|1|19|4"]
[10,1,1,19,24,5,190.26,822.14,0.84856429205458,0.231420439341231,"1|1|19|5"]
[10,1,1,19,24,6,190.26,667.33,0.811698737441312,0.285106319212384,"1|1|19|6"]
[10,1,1,19,24,7,190.26,513.7,0.769784064855469,0.370371812341834,"1|1|19|7"]
[10,1,1,19,24,8,190.26,351.59,0.684426708195445,0.541141670695981,"1|1|19|8"]
[10,1,1,19,24,9,190.26,180.52,0.513438948775563,1.05395524041657,"1|1|19|9"]
[10,1,1,19,24,10,190.26,0,0,0,"1|1|19|10"]
[10,1,1,20,25,1,190.26,825.14,0,0.230579053251569,"1|1|20|1"]
[10,1,1,20,25,2,190.26,870.5,1.05497248951693,0.218564043653073,"1|1|20|2"]
[10,1,1,20,25,3,190.26,918.36,1.05497989661114,0.207173657389259,"1|1|20|3"]
[10,1,1,20,25,4,190.26,968.86,1.05498932880352,0.196375121276552,"1|1|20|4"]
[10,1,1,20,25,5,190.26,822.14,0.84856429205458,0.231420439341231,"1|1|20|5"]
[10,1,1,20,25,6,190.26,667.33,0.811698737441312,0.285106319212384,"1|1|20|6"]
[10,1,1,20,25,7,190.26,513.71,0.769799049945304,0.370364602596796,"1|1|20|7"]
[10,1,1,20,25,8,190.26,351.6,0.68443285121956,0.541126279863481,"1|1|20|8"]
[10,1,1,20,25,9,190.26,180.53,0.513452787258248,1.05389685924777,"1|1|20|9"]
[10,1,1,20,25,10,190.26,0,0,0,"1|1|20|10"]
[10,1,1,21,26,1,190.25,825.15,0,0.23056413985336,"1|1|21|1"]
[10,1,1,21,26,2,190.25,870.5,1.05495970429619,0.218552556002298,"1|1|21|2"]
[10,1,1,21,26,3,190.25,918.36,1.05497989661114,0.207162768413258,"1|1|21|3"]
[10,1,1,21,26,4,190.25,968.86,1.05498932880352,0.196364799867886,"1|1|21|4"]
[10,1,1,21,26,5,190.25,822.14,0.84856429205458,0.231408275962731,"1|1|21|5"]
[10,1,1,21,26,6,190.25,667.33,0.811698737441312,0.285091334122548,"1|1|21|6"]
[10,1,1,21,26,7,190.25,513.71,0.769799049945304,0.370345136360982,"1|1|21|7"]
[10,1,1,21,26,8,190.25,351.6,0.68443285121956,0.541097838452787,"1|1|21|8"]
[10,1,1,21,26,9,190.25,180.53,0.513452787258248,1.05384146679222,"1|1|21|9"]
[10,1,1,21,26,10,190.25,0,0,0,"1|1|21|10"]
[10,1,1,22,27,1,190.25,825.15,0,0.23056413985336,"1|1|22|1"]
[10,1,1,22,27,2,190.25,870.5,1.05495970429619,0.218552556002298,"1|1|22|2"]
[10,1,1,22,27,3,190.25,918.36,1.05497989661114,0.207162768413258,"1|1|22|3"]
[10,1,1,22,27,4,190.25,968.86,1.05498932880352,0.196364799867886,"1|1|22|4"]
[10,1,1,22,27,5,190.25,822.14,0.84856429205458,0.231408275962731,"1|1|22|5"]
[10,1,1,22,27,6,190.25,667.33,0.811698737441312,0.285091334122548,"1|1|22|6"]
[10,1,1,22,27,7,190.25,513.71,0.769799049945304,0.370345136360982,"1|1|22|7"]
[10,1,1,22,27,8,190.25,351.6,0.68443285121956,0.541097838452787,"1|1|22|8"]
[10,1,1,22,27,9,190.25,180.53,0.513452787258248,1.05384146679222,"1|1|22|9"]
[10,1,1,22,27,10,190.25,0,0,0,"1|1|22|10"]
[10,1,1,23,28,1,190.24,825.15,0,0.230552020844695,"1|1|23|1"]
[10,1,1,23,28,2,190.24,870.5,1.05495970429619,0.218541068351522,"1|1|23|2"]
[10,1,1,23,28,3,190.24,918.36,1.05497989661114,0.207151879437258,"1|1|23|3"]
[10,1,1,23,28,4,190.24,968.86,1.05498932880352,0.19635447845922,"1|1|23|4"]
[10,1,1,23,28,5,190.24,822.14,0.84856429205458,0.231396112584231,"1|1|23|5"]
[10,1,1,23,28,6,190.24,667.32,0.811686574062812,0.285080620991428,"1|1|23|6"]
[10,1,1,23,28,7,190.24,513.71,0.769810585626086,0.370325670125168,"1|1|23|7"]
[10,1,1,23,28,8,190.24,351.61,0.684452317455374,0.541054008702824,"1|1|23|8"]
[10,1,1,23,28,9,190.24,180.54,0.513466624953784,1.05372770577157,"1|1|23|9"]
[10,1,1,23,28,10,190.24,0,0,0,"1|1|23|10"]
[10,1,1,24,29,1,190.23,825.15,0,0.23053990183603,"1|1|24|1"]
[10,1,1,24,29,2,190.23,870.5,1.05495970429619,0.218529580700747,"1|1|24|2"]
[10,1,1,24,29,3,190.23,918.36,1.05497989661114,0.207140990461257,"1|1|24|3"]
[10,1,1,24,29,4,190.23,968.86,1.05498932880352,0.196344157050554,"1|1|24|4"]
[10,1,1,24,29,5,190.23,822.14,0.84856429205458,0.231383949205731,"1|1|24|5"]
[10,1,1,24,29,6,190.23,667.32,0.811686574062812,0.285065635677036,"1|1|24|6"]
[10,1,1,24,29,7,190.23,513.72,0.769825570940478,0.370298995561785,"1|1|24|7"]
[10,1,1,24,29,8,190.23,351.62,0.684458459861403,0.541010181445879,"1|1|24|8"]
[10,1,1,24,29,9,190.23,180.55,0.513480461862238,1.05361395735253,"1|1|24|9"]
[10,1,1,24,29,10,190.23,0,0,0,"1|1|24|10"]
[10,1,1,25,30,1,190.22,825.16,0,0.230524989093024,"1|1|25|1"]
[10,1,1,25,30,2,190.22,870.51,1.05495903824713,0.218515582819267,"1|1|25|2"]
[10,1,1,25,30,3,190.22,918.36,1.05496777750974,0.207130101485256,"1|1|25|3"]
[10,1,1,25,30,4,190.22,968.86,1.05498932880352,0.196333835641888,"1|1|25|4"]
[10,1,1,25,30,5,190.22,822.14,0.84856429205458,0.231371785827231,"1|1|25|5"]
[10,1,1,25,30,6,190.22,667.32,0.811686574062812,0.285050650362645,"1|1|25|6"]
[10,1,1,25,30,7,190.22,513.72,0.769825570940478,0.370279529704898,"1|1|25|7"]
[10,1,1,25,30,8,190.22,351.63,0.68447792571829,0.540966356681739,"1|1|25|8"]
[10,1,1,25,30,9,190.22,180.55,0.513465858999517,1.05355857103295,"1|1|25|9"]
[10,1,1,25,30,10,190.22,0,0,0,"1|1|25|10"]
[10,1,1,26,31,1,190.2,825.16,0,0.230500751369431,"1|1|26|1"]
[10,1,1,26,31,2,190.2,870.51,1.05495903824713,0.218492607781645,"1|1|26|2"]
[10,1,1,26,31,3,190.2,918.36,1.05496777750974,0.207108323533255,"1|1|26|3"]
[10,1,1,26,31,4,190.2,968.86,1.05498932880352,0.196313192824557,"1|1|26|4"]
[10,1,1,26,31,5,190.2,822.14,0.84856429205458,0.231347459070231,"1|1|26|5"]
[10,1,1,26,31,6,190.2,667.32,0.811686574062812,0.285020679733861,"1|1|26|6"]
[10,1,1,26,31,7,190.2,513.73,0.76984055625487,0.370233391080918,"1|1|26|7"]
[10,1,1,26,31,8,190.2,351.64,0.684484067506278,0.540894096234786,"1|1|26|8"]
[10,1,1,26,31,9,190.2,180.56,0.51347969514276,1.0533894550288,"1|1|26|9"]
[10,1,1,26,31,10,190.2,0,0,0,"1|1|26|10"]
[10,1,1,27,32,1,190.19,825.16,0,0.230488632507635,"1|1|27|1"]
[10,1,1,27,32,2,190.19,870.51,1.05495903824713,0.218481120262834,"1|1|27|2"]
[10,1,1,27,32,3,190.19,918.36,1.05496777750974,0.207097434557254,"1|1|27|3"]
[10,1,1,27,32,4,190.19,968.86,1.05498932880352,0.196302871415891,"1|1|27|4"]
[10,1,1,27,32,5,190.19,822.15,0.848574613463245,0.231332481907195,"1|1|27|5"]
[10,1,1,27,32,6,190.19,667.32,0.811676701331874,0.285005694419469,"1|1|27|6"]
[10,1,1,27,32,7,190.19,513.74,0.769855541569262,0.370206719352202,"1|1|27|7"]
[10,1,1,27,32,8,190.19,351.65,0.684490209055164,0.540850277264325,"1|1|27|8"]
[10,1,1,27,32,9,190.19,180.57,0.513493530499076,1.05327573794096,"1|1|27|9"]
[10,1,1,27,32,10,190.19,0,0,0,"1|1|27|10"]
[10,1,1,28,33,1,190.17,825.17,0,0.23046160185174,"1|1|28|1"]
[10,1,1,28,33,2,190.17,870.51,1.05494625349928,0.218458145225213,"1|1|28|2"]
[10,1,1,28,33,3,190.17,918.37,1.05497926502855,0.20707340178795,"1|1|28|3"]
[10,1,1,28,33,4,190.17,968.86,1.05497784117513,0.196282228598559,"1|1|28|4"]
[10,1,1,28,33,5,190.17,822.15,0.848574613463245,0.231308155446086,"1|1|28|5"]
[10,1,1,28,33,6,190.17,667.32,0.811676701331874,0.284975723790685,"1|1|28|6"]
[10,1,1,28,33,7,190.17,513.74,0.769855541569262,0.370167789154047,"1|1|28|7"]
[10,1,1,28,33,8,190.17,351.66,0.684509674154241,0.540778024227947,"1|1|28|8"]
[10,1,1,28,33,9,190.17,180.58,0.513507365068532,1.0531066563296,"1|1|28|9"]
[10,1,1,28,33,10,190.17,0,0,0,"1|1|28|10"]
[10,1,1,29,34,1,190.15,825.17,0,0.230437364421877,"1|1|29|1"]
[10,1,1,29,34,2,190.15,870.52,1.05495837221421,0.21843266093829,"1|1|29|2"]
[10,1,1,29,34,3,190.15,918.37,1.05496714607361,0.207051624073086,"1|1|29|3"]
[10,1,1,29,34,4,190.15,968.86,1.05497784117513,0.196261585781227,"1|1|29|4"]
[10,1,1,29,34,5,190.15,822.15,0.848574613463245,0.231283828984978,"1|1|29|5"]
[10,1,1,29,34,6,190.15,667.32,0.811676701331874,0.284945753161901,"1|1|29|6"]
[10,1,1,29,34,7,190.15,513.75,0.769870526883654,0.370121654501217,"1|1|29|7"]
[10,1,1,29,34,8,190.15,351.68,0.684535279805353,0.540690400363967,"1|1|29|8"]
[10,1,1,29,34,9,190.15,180.6,0.513535031847134,1.05287929125138,"1|1|29|9"]
[10,1,1,29,34,10,190.15,0,0,0,"1|1|29|10"]
[10,1,1,30,35,1,190.13,825.18,0,0.23041033471485,"1|1|30|1"]
[10,1,1,30,35,2,190.13,870.52,1.05494558762937,0.218409686164591,"1|1|30|2"]
[10,1,1,30,35,3,190.13,918.37,1.05496714607361,0.207029846358222,"1|1|30|3"]
[10,1,1,30,35,4,190.13,968.86,1.05497784117513,0.196240942963896,"1|1|30|4"]
[10,1,1,30,35,5,190.13,822.15,0.848574613463245,0.23125950252387,"1|1|30|5"]
[10,1,1,30,35,6,190.13,667.31,0.81166453810132,0.284920052149676,"1|1|30|6"]
[10,1,1,30,35,7,190.13,513.76,0.76989704934738,0.370075521644348,"1|1|30|7"]
[10,1,1,30,35,8,190.13,351.69,0.684541420118343,0.540618158036907,"1|1|30|8"]
[10,1,1,30,35,9,190.13,180.61,0.513548864056413,1.05271025967554,"1|1|30|9"]
[10,1,1,30,35,10,190.13,0,0,0,"1|1|30|10"]
[10,1,1,31,36,1,190.1,825.19,0,0.230371187241726,"1|1|31|1"]
[10,1,1,31,36,2,190.1,870.53,1.05494492177559,0.218372715472184,"1|1|31|2"]
[10,1,1,31,36,3,190.1,918.37,1.0549550273971,0.206997179785925,"1|1|31|3"]
[10,1,1,31,36,4,190.1,968.87,1.05498873003256,0.196207953595426,"1|1|31|4"]
[10,1,1,31,36,5,190.1,822.15,0.848565855068275,0.231223012832208,"1|1|31|5"]
[10,1,1,31,36,6,190.1,667.31,0.81166453810132,0.284875095532811,"1|1|31|6"]
[10,1,1,31,36,7,190.1,513.77,0.769912034886335,0.370009926620861,"1|1|31|7"]
[10,1,1,31,36,8,190.1,351.71,0.684567024154777,0.540502118222399,"1|1|31|8"]
[10,1,1,31,36,9,190.1,180.62,0.513548093599841,1.05248588196213,"1|1|31|9"]
[10,1,1,31,36,10,190.1,0,0,0,"1|1|31|10"]
[10,1,1,32,37,1,190.08,825.19,0,0.230346950399302,"1|1|32|1"]
[10,1,1,32,37,2,190.08,870.53,1.05494492177559,0.218349740962402,"1|1|32|2"]
[10,1,1,32,37,3,190.08,918.38,1.05496651465199,0.206973148369956,"1|1|32|3"]
[10,1,1,32,37,4,190.08,968.87,1.05497724253577,0.196187310991155,"1|1|32|4"]
[10,1,1,32,37,5,190.08,822.15,0.848565855068275,0.2311986863711,"1|1|32|5"]
[10,1,1,32,37,6,190.08,667.31,0.81166453810132,0.284845124454901,"1|1|32|6"]
[10,1,1,32,37,7,190.08,513.79,0.769942005964245,0.369956597053271,"1|1|32|7"]
[10,1,1,32,37,8,190.08,351.73,0.684579302828004,0.540414522503056,"1|1|32|8"]
[10,1,1,32,37,9,190.08,180.64,0.513575754129588,1.05225863596103,"1|1|32|9"]
[10,1,1,32,37,10,190.08,0,0,0,"1|1|32|10"]
[10,1,1,33,38,1,190.05,825.2,0,0.230307804168686,"1|1|33|1"]
[10,1,1,33,38,2,190.05,870.54,1.05494425593795,0.218312771383279,"1|1|33|2"]
[10,1,1,33,38,3,190.05,918.38,1.05495439612195,0.206940482153357,"1|1|33|3"]
[10,1,1,33,38,4,190.05,968.87,1.05497724253577,0.196156347084748,"1|1|33|4"]
[10,1,1,33,38,5,190.05,822.16,0.848576176370411,0.231159385034543,"1|1|33|5"]
[10,1,1,33,38,6,190.05,667.3,0.811642502675878,0.284804435786003,"1|1|33|6"]
[10,1,1,33,38,7,190.05,513.8,0.769968529896598,0.369891008174387,"1|1|33|7"]
[10,1,1,33,38,8,190.05,351.75,0.684604904632153,0.540298507462687,"1|1|33|8"]
[10,1,1,33,38,9,190.05,180.66,0.513603411513859,1.05197608767851,"1|1|33|9"]
[10,1,1,33,38,10,190.05,0,0,0,"1|1|33|10"]
[10,1,1,34,39,1,190.01,825.21,0,0.230256540759322,"1|1|34|1"]
[10,1,1,34,39,2,190.01,870.55,1.05494359011645,0.218264315662512,"1|1|34|2"]
[10,1,1,34,39,3,190.01,918.39,1.05495376486129,0.20689467437581,"1|1|34|3"]
[10,1,1,34,39,4,190.01,968.87,1.05496575528915,0.196115061876206,"1|1|34|4"]
[10,1,1,34,39,5,190.01,822.16,0.848576176370411,0.231110732704097,"1|1|34|5"]
[10,1,1,34,39,6,190.01,667.3,0.811642502675878,0.284744492731905,"1|1|34|6"]
[10,1,1,34,39,7,190.01,513.81,0.769983515660123,0.369805959401335,"1|1|34|7"]
[10,1,1,34,39,8,190.01,351.77,0.684630505439754,0.54015407794866,"1|1|34|8"]
[10,1,1,34,39,9,190.01,180.67,0.513602638087387,1.05169646316489,"1|1|34|9"]
[10,1,1,34,39,10,190.01,0,0,0,"1|1|34|10"]
[10,1,1,35,40,1,189.98,825.23,0,0.230214606836882,"1|1|35|1"]
[10,1,1,35,40,2,189.98,870.55,1.05491802285423,0.218229854689564,"1|1|35|2"]
[10,1,1,35,40,3,189.98,918.39,1.05495376486129,0.206862008514901,"1|1|35|3"]
[10,1,1,35,40,4,189.98,968.88,1.05497664390945,0.196082074147469,"1|1|35|4"]
[10,1,1,35,40,5,189.98,822.16,0.848567418049707,0.231074243456262,"1|1|35|5"]
[10,1,1,35,40,6,189.98,667.29,0.811630339593266,0.284703801945181,"1|1|35|6"]
[10,1,1,35,40,7,189.98,513.83,0.770025026600129,0.369733180234708,"1|1|35|7"]
[10,1,1,35,40,8,189.98,351.79,0.684642780686219,0.540038090906507,"1|1|35|8"]
[10,1,1,35,40,9,189.98,180.69,0.513630290798488,1.05141402401904,"1|1|35|9"]
[10,1,1,35,40,10,189.98,0,0,0,"1|1|35|10"]
[10,1,1,36,41,1,189.94,825.24,0,0.230163346420435,"1|1|36|1"]
[10,1,1,36,41,2,189.94,870.56,1.05491735737482,0.218181400477853,"1|1|36|2"]
[10,1,1,36,41,3,189.94,918.4,1.05495313361514,0.206816202090592,"1|1|36|3"]
[10,1,1,36,41,4,189.94,968.88,1.05496515679443,0.19604078936504,"1|1|36|4"]
[10,1,1,36,41,5,189.94,822.16,0.848567418049707,0.231025591125815,"1|1|36|5"]
[10,1,1,36,41,6,189.94,667.29,0.811630339593266,0.284643857992777,"1|1|36|6"]
[10,1,1,36,41,7,189.94,513.84,0.77004001258823,0.369648139498677,"1|1|36|7"]
[10,1,1,36,41,8,189.94,351.82,0.684687840572941,0.539878346881928,"1|1|36|8"]
[10,1,1,36,41,9,189.94,180.72,0.513671763970212,1.05101814962373,"1|1|36|9"]
[10,1,1,36,41,10,189.94,0,0,0,"1|1|36|10"]
[10,1,1,37,42,1,189.89,825.25,0,0.23009996970615,"1|1|37|1"]
[10,1,1,37,42,2,189.89,870.57,1.05491669191154,0.218121460652216,"1|1|37|2"]
[10,1,1,37,42,3,189.89,918.4,1.05494101565641,0.206761759581882,"1|1|37|3"]
[10,1,1,37,42,4,189.89,968.88,1.05496515679443,0.195989183387004,"1|1|37|4"]
[10,1,1,37,42,5,189.89,822.17,0.848577739245314,0.230961966503278,"1|1|37|5"]
[10,1,1,37,42,6,189.89,667.28,0.811608304851795,0.28457319266275,"1|1|37|6"]
[10,1,1,37,42,7,189.89,513.86,0.770081524997003,0.369536449616627,"1|1|37|7"]
[10,1,1,37,42,8,189.89,351.84,0.68470011287121,0.539705547976353,"1|1|37|8"]
[10,1,1,37,42,9,189.89,180.74,0.513699408822192,1.05062520748036,"1|1|37|9"]
[10,1,1,37,42,10,189.89,0,0,0,"1|1|37|10"]
[10,1,1,38,43,1,189.85,825.27,0,0.230045924364148,"1|1|38|1"]
[10,1,1,38,43,2,189.85,870.58,1.05490324378688,0.218073008798732,"1|1|38|2"]
[10,1,1,38,43,3,189.85,918.41,1.05494038457121,0.206715954747879,"1|1|38|3"]
[10,1,1,38,43,4,189.85,968.88,1.05495366992955,0.195947898604574,"1|1|38|4"]
[10,1,1,38,43,5,189.85,822.17,0.848577739245314,0.230913314764586,"1|1|38|5"]
[10,1,1,38,43,6,189.85,667.27,0.811596141917122,0.284517511651955,"1|1|38|6"]
[10,1,1,38,43,7,189.85,513.87,0.770108052212747,0.369451417673731,"1|1|38|7"]
[10,1,1,38,43,8,189.85,351.87,0.684745169011618,0.539545855003268,"1|1|38|8"]
[10,1,1,38,43,9,189.85,180.76,0.513712450620968,1.05028767426422,"1|1|38|9"]
[10,1,1,38,43,10,189.85,0,0,0,"1|1|38|10"]
[10,1,1,39,44,1,189.8,825.29,0,0.229979764688776,"1|1|39|1"]
[10,1,1,39,44,2,189.8,870.59,1.05488979631402,0.218013071595125,"1|1|39|2"]
[10,1,1,39,44,3,189.8,918.41,1.0549282670373,0.20666151283196,"1|1|39|3"]
[10,1,1,39,44,4,189.8,968.89,1.05496455831274,0.195894270763451,"1|1|39|4"]
[10,1,1,39,44,5,189.8,822.17,0.848568980998875,0.230852500091222,"1|1|39|5"]
[10,1,1,39,44,6,189.8,667.27,0.811596141917122,0.284442579465584,"1|1|39|6"]
[10,1,1,39,44,7,189.8,513.89,0.770138025087296,0.369339741968126,"1|1|39|7"]
[10,1,1,39,44,8,189.8,351.9,0.68477689777968,0.539357772094345,"1|1|39|8"]
[10,1,1,39,44,9,189.8,180.79,0.513753907360045,1.04983682725814,"1|1|39|9"]
[10,1,1,39,44,10,189.8,0,0,0,"1|1|39|10"]
[10,1,1,40,45,1,189.74,825.31,0,0.229901491560747,"1|1|40|1"]
[10,1,1,40,45,2,189.74,870.61,1.05488846615211,0.217939146115942,"1|1|40|2"]
[10,1,1,40,45,3,189.74,918.42,1.05491551900392,0.206593933058949,"1|1|40|3"]
[10,1,1,40,45,4,189.74,968.89,1.05495307157945,0.195832344228963,"1|1|40|4"]
[10,1,1,40,45,5,189.74,822.17,0.848568980998875,0.230779522483185,"1|1|40|5"]
[10,1,1,40,45,6,189.74,667.26,0.811583978982449,0.284356922339118,"1|1|40|6"]
[10,1,1,40,45,7,189.74,513.91,0.770179540209214,0.369208616294682,"1|1|40|7"]
[10,1,1,40,45,8,189.74,351.93,0.684808624078146,0.539141306509817,"1|1|40|8"]
[10,1,1,40,45,9,189.74,180.81,0.51376694228966,1.04938886123555,"1|1|40|9"]
[10,1,1,40,45,10,189.74,0,0,0,"1|1|40|10"]
[10,1,1,41,46,1,189.69,825.33,0,0.229835338591836,"1|1|41|1"]
[10,1,1,41,46,2,189.69,870.62,1.05487501968909,0.217879212515219,"1|1|41|2"]
[10,1,1,41,46,3,189.69,918.42,1.05490340217316,0.206539491735807,"1|1|41|3"]
[10,1,1,41,46,4,189.69,968.89,1.05495307157945,0.195780738783556,"1|1|41|4"]
[10,1,1,41,46,5,189.69,822.18,0.848579302087956,0.230715901627381,"1|1|41|5"]
[10,1,1,41,46,6,189.69,667.25,0.811561945072855,0.28428624953166,"1|1|41|6"]
[10,1,1,41,46,7,189.69,513.93,0.770221056575496,0.369096958729788,"1|1|41|7"]
[10,1,1,41,46,8,189.69,351.97,0.68485980581013,0.538937977668551,"1|1|41|8"]
[10,1,1,41,46,9,189.69,180.85,0.513822200755746,1.0488802875311,"1|1|41|9"]
[10,1,1,41,46,10,189.69,0,0,0,"1|1|41|10"]
[10,1,1,42,47,1,189.62,825.35,0,0.229744956685043,"1|1|42|1"]
[10,1,1,42,47,2,189.62,870.63,1.05486157387775,0.217796308420339,"1|1|42|2"]
[10,1,1,42,47,3,189.62,918.43,1.05490277155623,0.206461025881123,"1|1|42|3"]
[10,1,1,42,47,4,189.62,968.9,1.05495247324238,0.195706471256064,"1|1|42|4"]
[10,1,1,42,47,5,189.62,822.18,0.848570543915781,0.230630762120217,"1|1|42|5"]
[10,1,1,42,47,6,189.62,667.24,0.811549782286117,0.28418560038367,"1|1|42|6"]
[10,1,1,42,47,7,189.62,513.95,0.7702625741862,0.368946395563771,"1|1|42|7"]
[10,1,1,42,47,8,189.62,352.01,0.684910983558712,0.538677878469362,"1|1|42|8"]
[10,1,1,42,47,9,189.62,180.88,0.513849038379592,1.04831932773109,"1|1|42|9"]
[10,1,1,42,47,10,189.62,0,0,0,"1|1|42|10"]
[10,1,1,43,48,1,189.55,825.37,0,0.229654579158438,"1|1|43|1"]
[10,1,1,43,48,2,189.55,870.65,1.05486024449641,0.217710905645208,"1|1|43|2"]
[10,1,1,43,48,3,189.55,918.44,1.05489002469419,0.206382561735116,"1|1|43|3"]
[10,1,1,43,48,4,189.55,968.9,1.05494098689081,0.195634224378161,"1|1|43|4"]
[10,1,1,43,48,5,189.55,822.18,0.848570543915781,0.230545622613053,"1|1|43|5"]
[10,1,1,43,48,6,189.55,667.23,0.81153761949938,0.284084948218755,"1|1|43|6"]
[10,1,1,43,48,7,189.55,513.98,0.770319080377081,0.368788668819798,"1|1|43|7"]
[10,1,1,43,48,8,189.55,352.05,0.684948830693801,0.538417838375231,"1|1|43|8"]
[10,1,1,43,48,9,189.55,180.92,0.513904274960943,1.04770064116737,"1|1|43|9"]
[10,1,1,43,48,10,189.55,0,0,0,"1|1|43|10"]
[10,1,1,44,49,1,189.48,825.4,0,0.229561424763751,"1|1|44|1"]
[10,1,1,44,49,2,189.48,870.66,1.05483401986915,0.217628006340018,"1|1|44|2"]
[10,1,1,44,49,3,189.48,918.45,1.05488939425264,0.20630409929773,"1|1|44|3"]
[10,1,1,44,49,4,189.48,968.9,1.05492950078937,0.195561977500258,"1|1|44|4"]
[10,1,1,44,49,5,189.48,822.19,0.848580864898338,0.230457680098274,"1|1|44|5"]
[10,1,1,44,49,6,189.48,667.21,0.811503423782824,0.283988549332294,"1|1|44|6"]
[10,1,1,44,49,7,189.48,514,0.770372146700439,0.36863813229572,"1|1|44|7"]
[10,1,1,44,49,8,189.48,352.1,0.685019455252918,0.538142573132633,"1|1|44|8"]
[10,1,1,44,49,9,189.48,180.96,0.513944902016473,1.04708222811671,"1|1|44|9"]
[10,1,1,44,49,10,189.48,0,0,0,"1|1|44|10"]
[10,1,1,45,50,1,189.4,825.43,0,0.22945616224271,"1|1|45|1"]
[10,1,1,45,50,2,189.4,870.68,1.05481991204584,0.217531125097625,"1|1|45|2"]
[10,1,1,45,50,3,189.4,918.46,1.05487664813709,0.206214750778477,"1|1|45|3"]
[10,1,1,45,50,4,189.4,968.91,1.05492890272848,0.195477392121043,"1|1|45|4"]
[10,1,1,45,50,5,189.4,822.19,0.848572106800425,0.230360378987825,"1|1|45|5"]
[10,1,1,45,50,6,189.4,667.2,0.811491261144018,0.283872901678657,"1|1|45|6"]
[10,1,1,45,50,7,189.4,514.03,0.77042865707434,0.368460984767426,"1|1|45|7"]
[10,1,1,45,50,8,189.4,352.15,0.685076746493395,0.537838989067159,"1|1|45|8"]
[10,1,1,45,50,9,189.4,181,0.513985517535141,1.04640883977901,"1|1|45|9"]
[10,1,1,45,50,10,189.4,0,0,0,"1|1|45|10"]
[10,1,1,46,51,1,189.31,825.46,0,0.229338792915465,"1|1|46|1"]
[10,1,1,46,51,2,189.31,870.7,1.05480580524798,0.217422763293901,"1|1|46|2"]
[10,1,1,46,51,3,189.31,918.47,1.0548639026071,0.20611451653293,"1|1|46|3"]
[10,1,1,46,51,4,189.31,968.91,1.05491741700872,0.19538450423672,"1|1|46|4"]
[10,1,1,46,51,5,189.31,822.19,0.848572106800425,0.23025091523857,"1|1|46|5"]
[10,1,1,46,51,6,189.31,667.18,0.811466935866406,0.283746515183309,"1|1|46|6"]
[10,1,1,46,51,7,189.31,514.07,0.770511705986391,0.368257241231739,"1|1|46|7"]
[10,1,1,46,51,8,189.31,352.2,0.685120703406151,0.537507098239637,"1|1|46|8"]
[10,1,1,46,51,9,189.31,181.05,0.514054514480409,1.04562275614471,"1|1|46|9"]
[10,1,1,46,51,10,189.31,0,0,0,"1|1|46|10"]
[10,1,1,47,52,1,189.21,825.49,0,0.229209318101976,"1|1|47|1"]
[10,1,1,47,52,2,189.21,870.72,1.05479169947546,0.217302921719956,"1|1|47|2"]
[10,1,1,47,52,3,189.21,918.48,1.05485115766262,0.206003396916645,"1|1|47|3"]
[10,1,1,47,52,4,189.21,968.92,1.05491681909241,0.195279280023119,"1|1|47|4"]
[10,1,1,47,52,5,189.21,822.2,0.848573669652809,0.230126489905133,"1|1|47|5"]
[10,1,1,47,52,6,189.21,667.17,0.811444903916322,0.283600881334592,"1|1|47|6"]
[10,1,1,47,52,7,189.21,514.1,0.77056822099315,0.368041237113402,"1|1|47|7"]
[10,1,1,47,52,8,189.21,352.26,0.685197432406147,0.537131664111736,"1|1|47|8"]
[10,1,1,47,52,9,189.21,181.1,0.514108896837563,1.04478188845941,"1|1|47|9"]
[10,1,1,47,52,10,189.21,0,0,0,"1|1|47|10"]
[10,1,1,48,53,1,189.1,825.53,0,0.229064964325948,"1|1|48|1"]
[10,1,1,48,53,2,189.1,870.74,1.05476481775344,0.217171601166824,"1|1|48|2"]
[10,1,1,48,53,3,189.1,918.49,1.05483841330363,0.205881392285164,"1|1|48|3"]
[10,1,1,48,53,4,189.1,968.92,1.05490533375431,0.195165751558436,"1|1|48|4"]
[10,1,1,48,53,5,189.1,822.2,0.848573669652809,0.229992702505473,"1|1|48|5"]
[10,1,1,48,53,6,189.1,667.15,0.811420578934566,0.283444502735517,"1|1|48|6"]
[10,1,1,48,53,7,189.1,514.14,0.770651277823578,0.367798654063096,"1|1|48|7"]
[10,1,1,48,53,8,189.1,352.33,0.68528027385537,0.536712740896319,"1|1|48|8"]
[10,1,1,48,53,9,189.1,181.15,0.514148667442455,1.04388628208667,"1|1|48|9"]
[10,1,1,48,53,10,189.1,0,0,0,"1|1|48|10"]
[10,1,1,49,54,1,188.99,825.57,0,0.228920624538198,"1|1|49|1"]
[10,1,1,49,54,2,188.99,870.76,1.05473793863634,0.217040286646148,"1|1|49|2"]
[10,1,1,49,54,3,188.99,918.5,1.05482566953007,0.205759390310289,"1|1|49|3"]
[10,1,1,49,54,4,188.99,968.93,1.05490473598258,0.195050210025492,"1|1|49|4"]
[10,1,1,49,54,5,188.99,822.21,0.848575232472934,0.229856119482857,"1|1|49|5"]
[10,1,1,49,54,6,188.99,667.13,0.811386385473298,0.283288114760242,"1|1|49|6"]
[10,1,1,49,54,7,188.99,514.18,0.770734339633954,0.367556108755689,"1|1|49|7"]
[10,1,1,49,54,8,188.99,352.4,0.685363102415497,0.536293984108967,"1|1|49|8"]
[10,1,1,49,54,9,188.99,181.21,0.514216799091941,1.04293361293527,"1|1|49|9"]
[10,1,1,49,54,10,188.99,0,0,0,"1|1|49|10"]
[10,1,1,50,55,1,188.87,825.61,0,0.228764186480299,"1|1|50|1"]
[10,1,1,50,55,2,188.87,870.79,1.05472317438016,0.216895003387728,"1|1|50|2"]
[10,1,1,50,55,3,188.87,918.51,1.05480081305481,0.205626503794188,"1|1|50|3"]
[10,1,1,50,55,4,188.87,968.93,1.05489325102612,0.194926362069499,"1|1|50|4"]
[10,1,1,50,55,5,188.87,822.22,0.848585553135934,0.229707377587507,"1|1|50|5"]
[10,1,1,50,55,6,188.87,667.11,0.811352192843764,0.283116727376295,"1|1|50|6"]
[10,1,1,50,55,7,188.87,514.22,0.770817406424728,0.367294154253043,"1|1|50|7"]
[10,1,1,50,55,8,188.87,352.47,0.685445918089534,0.535847022441626,"1|1|50|8"]
[10,1,1,50,55,9,188.87,181.28,0.514313274888643,1.04186893203884,"1|1|50|9"]
[10,1,1,50,55,10,188.87,0,0,0,"1|1|50|10"]
[10,1,1,51,56,1,188.73,825.65,0,0.228583540241022,"1|1|51|1"]
[10,1,1,51,56,2,188.73,870.82,1.05470841155453,0.216726763280586,"1|1|51|2"]
[10,1,1,51,56,3,188.73,918.53,1.0547874417216,0.205469609049242,"1|1|51|3"]
[10,1,1,51,56,4,188.73,968.94,1.0548811688241,0.194779862530188,"1|1|51|4"]
[10,1,1,51,56,5,188.73,822.22,0.8485767952608,0.229537106857046,"1|1|51|5"]
[10,1,1,51,56,6,188.73,667.09,0.811327868453699,0.282915348753541,"1|1|51|6"]
[10,1,1,51,56,7,188.73,514.27,0.77091546867739,0.366986213467634,"1|1|51|7"]
[10,1,1,51,56,8,188.73,352.55,0.685534835786649,0.535328322223798,"1|1|51|8"]
[10,1,1,51,56,9,188.73,181.35,0.514395121259396,1.04069478908189,"1|1|51|9"]
[10,1,1,51,56,10,188.73,0,0,0,"1|1|51|10"]
[10,1,1,52,57,1,188.58,825.7,0,0.228388034395059,"1|1|52|1"]
[10,1,1,52,57,2,188.58,870.85,1.05468087683178,0.216547051731067,"1|1|52|2"]
[10,1,1,52,57,3,188.58,918.55,1.05477407130964,0.205301834412933,"1|1|52|3"]
[10,1,1,52,57,4,188.58,968.95,1.05486908714822,0.194623045564787,"1|1|52|4"]
[10,1,1,52,57,5,188.58,822.23,0.848578358016409,0.229351884509201,"1|1|52|5"]
[10,1,1,52,57,6,188.58,667.07,0.811293676951705,0.282698967124889,"1|1|52|6"]
[10,1,1,52,57,7,188.58,514.32,0.77101353681023,0.366658889407373,"1|1|52|7"]
[10,1,1,52,57,8,188.58,352.65,0.685662622491834,0.534751169715015,"1|1|52|8"]
[10,1,1,52,57,9,188.58,181.43,0.514476109456969,1.03940913851072,"1|1|52|9"]
[10,1,1,52,57,10,188.58,0,0,0,"1|1|52|10"]
[10,1,1,53,58,1,188.42,825.76,0,0.228177678744429,"1|1|53|1"]
[10,1,1,53,58,2,188.42,870.88,1.05464057353226,0.216355869924674,"1|1|53|2"]
[10,1,1,53,58,3,188.42,918.56,1.0547492191806,0.205125413690995,"1|1|53|3"]
[10,1,1,53,58,4,188.42,968.95,1.05485760320502,0.194457918365241,"1|1|53|4"]
[10,1,1,53,58,5,188.42,822.24,0.848588678466381,0.229154504767464,"1|1|53|5"]
[10,1,1,53,58,6,188.42,667.04,0.811247324382176,0.282471815783161,"1|1|53|6"]
[10,1,1,53,58,7,188.42,514.39,0.771153154233629,0.366297945138902,"1|1|53|7"]
[10,1,1,53,58,8,188.42,352.76,0.685783160636871,0.534130853838304,"1|1|53|8"]
[10,1,1,53,58,9,188.42,181.53,0.514599160902597,1.0379551589269,"1|1|53|9"]
[10,1,1,53,58,10,188.42,0,0,0,"1|1|53|10"]
[10,1,1,54,59,1,188.23,825.82,0,0.227931026131603,"1|1|54|1"]
[10,1,1,54,59,2,188.23,870.92,1.05461238526555,0.216127772929775,"1|1|54|2"]
[10,1,1,54,59,3,188.23,918.58,1.05472374041244,0.204914106555771,"1|1|54|3"]
[10,1,1,54,59,4,188.23,968.96,1.0548455224368,0.194259824966975,"1|1|54|4"]
[10,1,1,54,59,5,188.23,822.24,0.848579920739762,0.228923428682623,"1|1|54|5"]
[10,1,1,54,59,6,188.23,667.01,0.811210838684569,0.282199667171407,"1|1|54|6"]
[10,1,1,54,59,7,188.23,514.46,0.771292784216129,0.365878785522684,"1|1|54|7"]
[10,1,1,54,59,8,188.23,352.89,0.685942541694204,0.533395675706311,"1|1|54|8"]
[10,1,1,54,59,9,188.23,181.64,0.514721301255349,1.03628055494384,"1|1|54|9"]
[10,1,1,54,59,10,188.23,0,0,0,"1|1|54|10"]
[10,1,1,55,60,1,188.01,825.88,0,0.227648084467477,"1|1|55|1"]
[10,1,1,55,60,2,188.01,870.96,1.05458420109459,0.215865252135575,"1|1|55|2"]
[10,1,1,55,60,3,188.01,918.6,1.05469826398457,0.204670150228609,"1|1|55|3"]
[10,1,1,55,60,4,188.01,968.97,1.05483344219464,0.194030774946593,"1|1|55|4"]
[10,1,1,55,60,5,188.01,822.25,0.84858148343086,0.22865308604439,"1|1|55|5"]
[10,1,1,55,60,6,188.01,666.98,0.811164487686227,0.281882515217848,"1|1|55|6"]
[10,1,1,55,60,7,188.01,514.56,0.771477405619359,0.365380130597015,"1|1|55|7"]
[10,1,1,55,60,8,188.01,353.05,0.686120180348259,0.532530803002408,"1|1|55|8"]
[10,1,1,55,60,9,188.01,181.79,0.514912901855261,1.03421530337202,"1|1|55|9"]
[10,1,1,55,60,10,188.01,0,0,0,"1|1|55|10"]
[10,1,1,56,61,1,187.76,825.95,0,0.227326109328652,"1|1|56|1"]
[10,1,1,56,61,2,187.76,871,1.05454325322356,0.21556831228473,"1|1|56|2"]
[10,1,1,56,61,3,187.76,918.62,1.05467278989667,0.204393546842002,"1|1|56|3"]
[10,1,1,56,61,4,187.76,968.98,1.0548213624785,0.193770769262523,"1|1|56|4"]
[10,1,1,56,61,5,187.76,822.26,0.848583046089703,0.2283462651716,"1|1|56|5"]
[10,1,1,56,61,6,187.76,666.95,0.81111813781529,0.281520353849614,"1|1|56|6"]
[10,1,1,56,61,7,187.76,514.67,0.771677037259165,0.364816290049935,"1|1|56|7"]
[10,1,1,56,61,8,187.76,353.25,0.686362134960266,0.531521585279547,"1|1|56|8"]
[10,1,1,56,61,9,187.76,181.96,0.515102618542109,1.03187513739283,"1|1|56|9"]
[10,1,1,56,61,10,187.76,0,0,0,"1|1|56|10"]
[10,1,1,57,62,1,187.46,826.03,0,0.226940910136436,"1|1|57|1"]
[10,1,1,57,62,2,187.46,871.05,1.05450165248236,0.215211526318811,"1|1|57|2"]
[10,1,1,57,62,3,187.46,918.65,1.0546466907755,0.204060305883634,"1|1|57|3"]
[10,1,1,57,62,4,187.46,969,1.05480868665977,0.193457172342621,"1|1|57|4"]
[10,1,1,57,62,5,187.46,822.27,0.848575851393189,0.227978644484172,"1|1|57|5"]
[10,1,1,57,62,6,187.46,666.91,0.811059627616233,0.281087403097869,"1|1|57|6"]
[10,1,1,57,62,7,187.46,514.81,0.771933244365806,0.36413434082477,"1|1|57|7"]
[10,1,1,57,62,8,187.46,353.48,0.686622248985063,0.530327034061333,"1|1|57|8"]
[10,1,1,57,62,9,187.46,182.16,0.51533325789295,1.02909530083443,"1|1|57|9"]
[10,1,1,57,62,10,187.46,0,0,0,"1|1|57|10"]
[10,1,1,58,63,1,187.11,826.11,0,0.226495260921669,"1|1|58|1"]
[10,1,1,58,63,2,187.11,871.11,1.05447216472383,0.214794916830251,"1|1|58|2"]
[10,1,1,58,63,3,187.11,918.68,1.05460848802103,0.203672660774154,"1|1|58|3"]
[10,1,1,58,63,4,187.11,969.01,1.05478512648583,0.19309398251824,"1|1|58|4"]
[10,1,1,58,63,5,187.11,822.29,0.848587733872715,0.227547458925683,"1|1|58|5"]
[10,1,1,58,63,6,187.11,666.87,0.810991256126184,0.280579423275901,"1|1|58|6"]
[10,1,1,58,63,7,187.11,514.97,0.772219473060716,0.363341553876925,"1|1|58|7"]
[10,1,1,58,63,8,187.11,353.75,0.686933219410839,0.528932862190813,"1|1|58|8"]
[10,1,1,58,63,9,187.11,182.39,0.515590106007067,1.025878611766,"1|1|58|9"]
[10,1,1,58,63,10,187.11,0,0,0,"1|1|58|10"]
[10,1,1,59,64,1,186.71,826.21,0,0.225983708742329,"1|1|59|1"]
[10,1,1,59,64,2,186.71,871.17,1.05441715786543,0.214320970648668,"1|1|59|2"]
[10,1,1,59,64,3,186.71,918.72,1.05458176934467,0.203228404737025,"1|1|59|3"]
[10,1,1,59,64,4,186.71,969.04,1.05477185649599,0.192675224964914,"1|1|59|4"]
[10,1,1,59,64,5,186.71,822.32,0.848592421365475,0.227052728864676,"1|1|59|5"]
[10,1,1,59,64,6,186.71,666.82,0.810900865842981,0.280000599862032,"1|1|59|6"]
[10,1,1,59,64,7,186.71,515.16,0.772562310668546,0.362431089370293,"1|1|59|7"]
[10,1,1,59,64,8,186.71,354.04,0.68724279835391,0.527369788724438,"1|1|59|8"]
[10,1,1,59,64,9,186.71,182.64,0.515873912552254,1.02228427507665,"1|1|59|9"]
[10,1,1,59,64,10,186.71,0,0,0,"1|1|59|10"]
[10,1,1,60,65,1,186.26,826.33,0,0.225406314668474,"1|1|60|1"]
[10,1,1,60,65,2,186.26,871.26,1.0543729502741,0.213782338222804,"1|1|60|2"]
[10,1,1,60,65,3,186.26,918.78,1.05454169823015,0.202725353185746,"1|1|60|3"]
[10,1,1,60,65,4,186.26,969.07,1.05473562768018,0.192204897479026,"1|1|60|4"]
[10,1,1,60,65,5,186.26,822.35,0.848597108568009,0.226497233538031,"1|1|60|5"]
[10,1,1,60,65,6,186.26,666.77,0.8108104821548,0.279346701261305,"1|1|60|6"]
[10,1,1,60,65,7,186.26,515.36,0.772920197369408,0.361417261719963,"1|1|60|7"]
[10,1,1,60,65,8,186.26,354.37,0.687616423470972,0.525608826932302,"1|1|60|8"]
[10,1,1,60,65,9,186.26,182.92,0.516183649857494,1.018259348349,"1|1|60|9"]
[10,1,1,60,65,10,186.26,0,0,0,"1|1|60|10"]
[10,1,1,61,66,1,185.74,826.47,0,0.224738949992135,"1|1|61|1"]
[10,1,1,61,66,2,185.74,871.35,1.05430324149697,0.213163481953291,"1|1|61|2"]
[10,1,1,61,66,3,185.74,918.84,1.05450163539336,0.202146184319359,"1|1|61|3"]
[10,1,1,61,66,4,185.74,969.11,1.05471028688346,0.191660389429477,"1|1|61|4"]
[10,1,1,61,66,5,185.74,822.39,0.84860335771997,0.225853913593307,"1|1|61|5"]
[10,1,1,61,66,6,185.74,666.72,0.81071024696312,0.278587712982961,"1|1|61|6"]
[10,1,1,61,66,7,185.74,515.58,0.773308135349172,0.3602544706932,"1|1|61|7"]
[10,1,1,61,66,8,185.74,354.74,0.688040653244889,0.52359474544737,"1|1|61|8"]
[10,1,1,61,66,9,185.74,183.24,0.516547330439195,1.01364330932111,"1|1|61|9"]
[10,1,1,61,66,10,185.74,0,0,0,"1|1|61|10"]
[10,1,1,62,67,1,185.15,826.63,0,0.223981708866119,"1|1|62|1"]
[10,1,1,62,67,2,185.15,871.46,1.05423224417212,0.212459550639157,"1|1|62|2"]
[10,1,1,62,67,3,185.15,918.91,1.0544488559429,0.201488720331697,"1|1|62|3"]
[10,1,1,62,67,4,185.15,969.15,1.05467347183076,0.191043698085952,"1|1|62|4"]
[10,1,1,62,67,5,185.15,822.43,0.848609606356085,0.22512554259937,"1|1|62|5"]
[10,1,1,62,67,6,185.15,666.65,0.810585703342534,0.277731943298582,"1|1|62|6"]
[10,1,1,62,67,7,185.15,515.85,0.773794344858622,0.358922167296695,"1|1|62|7"]
[10,1,1,62,67,8,185.15,355.17,0.6885141029369,0.521299659318073,"1|1|62|8"]
[10,1,1,62,67,9,185.15,183.63,0.517020018582651,1.00827751456734,"1|1|62|9"]
[10,1,1,62,67,10,185.15,0,0,0,"1|1|62|10"]
[10,1,1,63,68,1,184.46,826.81,0,0.223098414387828,"1|1|63|1"]
[10,1,1,63,68,2,184.46,871.59,1.05415996419976,0.211636205096433,"1|1|63|2"]
[10,1,1,63,68,3,184.46,918.98,1.05437189504239,0.200722540207622,"1|1|63|3"]
[10,1,1,63,68,4,184.46,969.2,1.05464754401619,0.190321914981428,"1|1|63|4"]
[10,1,1,63,68,5,184.46,822.48,0.848617416425918,0.22427293064877,"1|1|63|5"]
[10,1,1,63,68,6,184.46,666.57,0.810439159614823,0.276730125868251,"1|1|63|6"]
[10,1,1,63,68,7,184.46,516.16,0.774352281080757,0.357369807811531,"1|1|63|7"]
[10,1,1,63,68,8,184.46,355.71,0.689146776193428,0.518568496809199,"1|1|63|8"]
[10,1,1,63,68,9,184.46,184.11,0.517584549211436,1.00190103742328,"1|1|63|9"]
[10,1,1,63,68,10,184.46,0,0,0,"1|1|63|10"]
[10,1,1,64,69,1,183.62,827.02,0,0.222026069502551,"1|1|64|1"]
[10,1,1,64,69,2,183.62,871.73,1.05406157045779,0.21063861516754,"1|1|64|2"]
[10,1,1,64,69,3,183.62,919.07,1.05430580569672,0.19978891705746,"1|1|64|3"]
[10,1,1,64,69,4,183.62,969.25,1.05459867039507,0.189445447510962,"1|1|64|4"]
[10,1,1,64,69,5,183.62,822.52,0.848614908434356,0.223240772260857,"1|1|64|5"]
[10,1,1,64,69,6,183.62,666.48,0.810290327286875,0.27550714199976,"1|1|64|6"]
[10,1,1,64,69,7,183.62,516.57,0.775072020165646,0.35546005381652,"1|1|64|7"]
[10,1,1,64,69,8,183.62,356.39,0.689916177865536,0.515222088161845,"1|1|64|8"]
[10,1,1,64,69,9,183.62,184.73,0.518336653665928,0.993991230444432,"1|1|64|9"]
[10,1,1,64,69,10,183.62,0,0,0,"1|1|64|10"]
[10,1,1,65,70,1,182.61,827.26,0,0.220740758649034,"1|1|65|1"]
[10,1,1,65,70,2,182.61,871.89,1.05394918163576,0.209441557994701,"1|1|65|2"]
[10,1,1,65,70,3,182.61,919.16,1.05421555471447,0.198670525262196,"1|1|65|3"]
[10,1,1,65,70,4,182.61,969.3,1.05454980634492,0.188393686165274,"1|1|65|4"]
[10,1,1,65,70,5,182.61,822.57,0.848622717424946,0.221999343520916,"1|1|65|5"]
[10,1,1,65,70,6,182.61,666.37,0.810107346487229,0.274036946441166,"1|1|65|6"]
[10,1,1,65,70,7,182.61,517.08,0.775965304560529,0.353156184729636,"1|1|65|7"]
[10,1,1,65,70,8,182.61,357.26,0.690918233155411,0.511140345966523,"1|1|65|8"]
[10,1,1,65,70,9,182.61,185.5,0.519229692660807,0.984420485175202,"1|1|65|9"]
[10,1,1,65,70,10,182.61,0,0,0,"1|1|65|10"]
[10,1,1,66,71,1,181.36,827.53,0,0.219158217828961,"1|1|66|1"]
[10,1,1,66,71,2,181.36,872.07,1.05382282213334,0.20796495694153,"1|1|66|2"]
[10,1,1,66,71,3,181.36,919.26,1.05411262857339,0.197289123860496,"1|1|66|3"]
[10,1,1,66,71,4,181.36,969.36,1.0545003589844,0.18709251464884,"1|1|66|4"]
[10,1,1,66,71,5,181.36,822.63,0.848632087150285,0.220463634927002,"1|1|66|5"]
[10,1,1,66,71,6,181.36,666.24,0.809890230115605,0.272214217098943,"1|1|66|6"]
[10,1,1,66,71,7,181.36,517.72,0.777077329490874,0.350305184269489,"1|1|66|7"]
[10,1,1,66,71,8,181.36,358.32,0.692111566097504,0.506139763340031,"1|1|66|8"]
[10,1,1,66,71,9,181.36,186.44,0.520317035052467,0.972752628191375,"1|1|66|9"]
[10,1,1,66,71,10,181.36,0,0,0,"1|1|66|10"]
[10,1,1,67,72,1,179.85,827.85,0,0.217249501721326,"1|1|67|1"]
[10,1,1,67,72,2,179.85,872.28,1.05366914296068,0.206183794194525,"1|1|67|2"]
[10,1,1,67,72,3,179.85,919.39,1.05400788737561,0.195618834227042,"1|1|67|3"]
[10,1,1,67,72,4,179.85,969.44,1.05443826885217,0.185519475160918,"1|1|67|4"]
[10,1,1,67,72,5,179.85,822.71,0.848644578313253,0.218606799479768,"1|1|67|5"]
[10,1,1,67,72,6,179.85,666.09,0.809629152435244,0.270008557402153,"1|1|67|6"]
[10,1,1,67,72,7,179.85,518.49,0.778408323199568,0.34687264942429,"1|1|67|7"]
[10,1,1,67,72,8,179.85,359.59,0.693533144322938,0.500152951973081,"1|1|67|8"]
[10,1,1,67,72,9,179.85,187.55,0.521566228204344,0.958944281524927,"1|1|67|9"]
[10,1,1,67,72,10,179.85,0,0,0,"1|1|67|10"]
[10,1,1,68,73,1,178.05,828.22,0,0.21497911183019,"1|1|68|1"]
[10,1,1,68,73,2,178.05,872.53,1.05350027770399,0.204061751458403,"1|1|68|2"]
[10,1,1,68,73,3,178.05,919.56,1.05390072547649,0.193625212057941,"1|1|68|3"]
[10,1,1,68,73,4,178.05,969.54,1.05435208143025,0.18364378983848,"1|1|68|4"]
[10,1,1,68,73,5,178.05,822.82,0.84867050353776,0.216389975936414,"1|1|68|5"]
[10,1,1,68,73,6,178.05,665.92,0.809314309326463,0.267374459394522,"1|1|68|6"]
[10,1,1,68,73,7,178.05,519.39,0.77995855358001,0.342805983942702,"1|1|68|7"]
[10,1,1,68,73,8,178.05,361.05,0.695142378559464,0.493144993768176,"1|1|68|8"]
[10,1,1,68,73,9,178.05,188.82,0.522974657249688,0.94296155068319,"1|1|68|9"]
[10,1,1,68,73,10,178.05,0,0,0,"1|1|68|10"]
[10,1,1,69,74,1,175.94,828.67,0,0.21231612101319,"1|1|69|1"]
[10,1,1,69,74,2,175.94,872.85,1.05331434708629,0.201569570945752,"1|1|69|2"]
[10,1,1,69,74,3,175.94,919.77,1.05375494071146,0.191286952172826,"1|1|69|3"]
[10,1,1,69,74,4,175.94,969.69,1.05427443817476,0.181439429095897,"1|1|69|4"]
[10,1,1,69,74,5,175.94,822.96,0.848683599913374,0.213789248566151,"1|1|69|5"]
[10,1,1,69,74,6,175.94,665.72,0.808933605521532,0.264285285104849,"1|1|69|6"]
[10,1,1,69,74,7,175.94,520.4,0.781710028240101,0.338086087624904,"1|1|69|7"]
[10,1,1,69,74,8,175.94,362.68,0.696925441967717,0.48511084151318,"1|1|69|8"]
[10,1,1,69,74,9,175.94,190.22,0.524484393956105,0.924929029544738,"1|1|69|9"]
[10,1,1,69,74,10,175.94,0,0,0,"1|1|69|10"]
[10,1,1,70,75,1,173.53,829.2,0,0.209273999035215,"1|1|70|1"]
[10,1,1,70,75,2,173.53,873.24,1.05311143270622,0.198719710503413,"1|1|70|2"]
[10,1,1,70,75,3,173.53,920.03,1.05358206220512,0.188613414779953,"1|1|70|3"]
[10,1,1,70,75,4,173.53,969.86,1.05416127734965,0.178922731115831,"1|1|70|4"]
[10,1,1,70,75,5,173.53,823.14,0.848720433877054,0.21081468522973,"1|1|70|5"]
[10,1,1,70,75,6,173.53,665.49,0.80847729426343,0.260755232986221,"1|1|70|6"]
[10,1,1,70,75,7,173.53,521.49,0.783618085921652,0.332758058639667,"1|1|70|7"]
[10,1,1,70,75,8,173.53,364.45,0.698862873688853,0.476142131979695,"1|1|70|8"]
[10,1,1,70,75,9,173.53,191.73,0.526080395115928,0.905074844833881,"1|1|70|9"]
[10,1,1,70,75,10,173.53,0,0,0,"1|1|70|10"]
[10,3,1,0,5,1,554.09,655.12,0,0.845783978507754,"3|1|0|1"]
[10,3,1,0,5,2,554.09,1620.59,2.47373000366345,0.341906342751714,"3|1|0|2"]
[10,3,1,0,5,3,554.09,2704.68,1.66894772891354,0.204863421920523,"3|1|0|3"]
[10,3,1,0,5,4,554.09,2853.39,1.05498247482142,0.194186564051882,"3|1|0|4"]
[10,3,1,0,5,5,554.09,2410.32,0.844721541745082,0.229882339274453,"3|1|0|5"]
[10,3,1,0,5,6,554.09,1942.81,0.806038202396362,0.285200302654403,"3|1|0|6"]
[10,3,1,0,5,7,554.09,1495.46,0.769740736356103,0.370514758000883,"3|1|0|7"]
[10,3,1,0,5,8,554.09,1023.46,0.684378050900726,0.541389013737713,"3|1|0|8"]
[10,3,1,0,5,9,554.09,525.45,0.513405506810232,1.05450566181368,"3|1|0|9"]
[10,3,1,0,5,10,554.09,0,0,0,"3|1|0|10"]
[10,3,1,1,6,1,554.11,655.14,0,0.845788686387642,"3|1|1|1"]
[10,3,1,1,6,2,554.11,1620.63,2.47371554171627,0.34191024478135,"3|1|1|2"]
[10,3,1,1,6,3,554.11,2704.72,1.66893121810654,0.204867786684019,"3|1|1|3"]
[10,3,1,1,6,4,554.11,2853.44,1.0549853589281,0.194190170460917,"3|1|1|4"]
[10,3,1,1,6,5,554.11,2410.37,0.844724262644387,0.229885868144725,"3|1|1|5"]
[10,3,1,1,6,6,554.11,1942.88,0.806050523363633,0.285200321172692,"3|1|1|6"]
[10,3,1,1,6,7,554.11,1495.51,0.769738738367784,0.370515743793087,"3|1|1|7"]
[10,3,1,1,6,8,554.11,1023.5,0.684381916536834,0.541387396189546,"3|1|1|8"]
[10,3,1,1,6,9,554.11,525.47,0.513404982901808,1.05450358726473,"3|1|1|9"]
[10,3,1,1,6,10,554.11,0,0,0,"3|1|1|10"]
[10,3,1,2,7,1,554.12,655.16,0,0.845778130533,"3|1|2|1"]
[10,3,1,2,7,2,554.12,1620.66,2.47368581720496,0.34191008601434,"3|1|2|2"]
[10,3,1,2,7,3,554.12,2704.74,1.66891266521047,0.204869969017355,"3|1|2|3"]
[10,3,1,2,7,4,554.12,2853.47,1.05498864955596,0.194191633344665,"3|1|2|4"]
[10,3,1,2,7,5,554.12,2410.41,0.844729399643241,0.229886201932451,"3|1|2|5"]
[10,3,1,2,7,6,554.12,1942.92,0.806053741894532,0.285199596483643,"3|1|2|6"]
[10,3,1,2,7,7,554.12,1495.55,0.769743478887448,0.370512520477416,"3|1|2|7"]
[10,3,1,2,7,8,554.12,1023.52,0.684376985055665,0.541386587462873,"3|1|2|8"]
[10,3,1,2,7,9,554.12,525.49,0.513414491167735,1.05448248301585,"3|1|2|9"]
[10,3,1,2,7,10,554.12,0,0,0,"3|1|2|10"]
[10,3,1,3,8,1,554.13,655.17,0,0.845780484454416,"3|1|3|1"]
[10,3,1,3,8,2,554.13,1620.67,2.47366332402277,0.341914146618374,"3|1|3|2"]
[10,3,1,3,8,3,554.13,2704.76,1.66891470811455,0.204872151318416,"3|1|3|3"]
[10,3,1,3,8,4,554.13,2853.49,1.05498824294947,0.194193776743567,"3|1|3|4"]
[10,3,1,3,8,5,554.13,2410.43,0.844730487928817,0.22988844314085,"3|1|3|5"]
[10,3,1,3,8,6,554.13,1942.95,0.806059499757305,0.285200339689647,"3|1|3|6"]
[10,3,1,3,8,7,554.13,1495.57,0.769741887336267,0.370514252091176,"3|1|3|7"]
[10,3,1,3,8,8,554.13,1023.55,0.684387892241754,0.541380489472913,"3|1|3|8"]
[10,3,1,3,8,9,554.13,525.5,0.513409213033071,1.05448144624167,"3|1|3|9"]
[10,3,1,3,8,10,554.13,0,0,0,"3|1|3|10"]
[10,3,1,4,9,1,554.13,655.18,0,0.845767575322812,"3|1|4|1"]
[10,3,1,4,9,2,554.13,1620.68,2.47364083152721,0.341912036922773,"3|1|4|2"]
[10,3,1,4,9,3,554.13,2704.77,1.66891058074389,0.204871393870828,"3|1|4|3"]
[10,3,1,4,9,4,554.13,2853.51,1.05499173682051,0.194192415656507,"3|1|4|4"]
[10,3,1,4,9,5,554.13,2410.44,0.844728071743222,0.229887489421019,"3|1|4|5"]
[10,3,1,4,9,6,554.13,1942.96,0.806060304342776,0.285198871824433,"3|1|4|6"]
[10,3,1,4,9,7,554.13,1495.59,0.769748219211924,0.370509297334162,"3|1|4|7"]
[10,3,1,4,9,8,554.13,1023.56,0.684385426487206,0.541375200281371,"3|1|4|8"]
[10,3,1,4,9,9,554.13,525.51,0.513413966938919,1.05446138037335,"3|1|4|9"]
[10,3,1,4,9,10,554.13,0,0,0,"3|1|4|10"]
[10,3,1,5,10,1,554.12,655.18,0,0.845752312341647,"3|1|5|1"]
[10,3,1,5,10,2,554.12,1620.69,2.47365609450838,0.341903757041754,"3|1|5|2"]
[10,3,1,5,10,3,554.12,2704.77,1.66890028321271,0.204867696698795,"3|1|5|3"]
[10,3,1,5,10,4,554.12,2853.51,1.05499173682051,0.194188911200592,"3|1|5|4"]
[10,3,1,5,10,5,554.12,2410.45,0.844731576199137,0.229882387106142,"3|1|5|5"]
[10,3,1,5,10,6,554.12,1942.97,0.806061108921571,0.285192257214471,"3|1|5|6"]
[10,3,1,5,10,7,554.12,1495.6,0.769749404262546,0.370500133725595,"3|1|5|7"]
[10,3,1,5,10,8,554.12,1023.58,0.684394223054293,0.541354852576252,"3|1|5|8"]
[10,3,1,5,10,9,554.12,525.52,0.513413704839876,1.05442228649718,"3|1|5|9"]
[10,3,1,5,10,10,554.12,0,0,0,"3|1|5|10"]
[10,3,1,6,11,1,554.11,655.18,0,0.845737049360481,"3|1|6|1"]
[10,3,1,6,11,2,554.11,1620.69,2.47365609450838,0.341897586830301,"3|1|6|2"]
[10,3,1,6,11,3,554.11,2704.78,1.66890645342416,0.204863242112113,"3|1|6|3"]
[10,3,1,6,11,4,554.11,2853.52,1.05499153350735,0.194184726232863,"3|1|6|4"]
[10,3,1,6,11,5,554.11,2410.46,0.844732120328577,0.2298772848336,"3|1|6|5"]
[10,3,1,6,11,6,554.11,1942.97,0.806057764907943,0.285187110454613,"3|1|6|6"]
[10,3,1,6,11,7,554.11,1495.61,0.769754551022404,0.370490970239568,"3|1|6|7"]
[10,3,1,6,11,8,554.11,1023.59,0.6843963332687,0.541339794253559,"3|1|6|8"]
[10,3,1,6,11,9,554.11,525.53,0.51341845856251,1.0543831941088,"3|1|6|9"]
[10,3,1,6,11,10,554.11,0,0,0,"3|1|6|10"]
[10,3,1,7,12,1,554.1,655.19,0,0.845708878340634,"3|1|7|1"]
[10,3,1,7,12,2,554.1,1620.7,2.47363360246646,0.341889307089529,"3|1|7|2"]
[10,3,1,7,12,3,554.1,2704.78,1.66889615598198,0.204859544953749,"3|1|7|3"]
[10,3,1,7,12,4,554.1,2853.52,1.05499153350735,0.194181221789229,"3|1|7|4"]
[10,3,1,7,12,5,554.1,2410.46,0.844732120328577,0.229873136247853,"3|1|7|5"]
[10,3,1,7,12,6,554.1,1942.98,0.80606191349369,0.285180495939227,"3|1|7|6"]
[10,3,1,7,12,7,554.1,1495.62,0.769755736034339,0.370481806876078,"3|1|7|7"]
[10,3,1,7,12,8,554.1,1023.6,0.684398443454888,0.541324736225088,"3|1|7|8"]
[10,3,1,7,12,9,554.1,525.54,0.513423212192263,1.05434410320813,"3|1|7|9"]
[10,3,1,7,12,10,554.1,0,0,0,"3|1|7|10"]
[10,3,1,8,13,1,554.09,655.19,0,0.845693615592424,"3|1|8|1"]
[10,3,1,8,13,2,554.09,1620.7,2.47363360246646,0.341883136916147,"3|1|8|2"]
[10,3,1,8,13,3,554.09,2704.79,1.66890232615536,0.204855090413674,"3|1|8|3"]
[10,3,1,8,13,4,554.09,2853.53,1.05499133019569,0.194177036863113,"3|1|8|4"]
[10,3,1,8,13,5,554.09,2410.46,0.844729160022849,0.229868987662106,"3|1|8|5"]
[10,3,1,8,13,6,554.09,1942.98,0.80606191349369,0.285175349205859,"3|1|8|6"]
[10,3,1,8,13,7,554.09,1495.63,0.769760882767707,0.370472643635124,"3|1|8|7"]
[10,3,1,8,13,8,554.09,1023.6,0.684393867467221,0.5413149667839,"3|1|8|8"]
[10,3,1,8,13,9,554.09,525.54,0.513423212192263,1.05432507516079,"3|1|8|9"]
[10,3,1,8,13,10,554.09,0,0,0,"3|1|8|10"]
[10,3,1,9,14,1,554.08,655.19,0,0.845678352844213,"3|1|9|1"]
[10,3,1,9,14,2,554.08,1620.7,2.47363360246646,0.341876966742765,"3|1|9|2"]
[10,3,1,9,14,3,554.08,2704.79,1.66890232615536,0.204851393268978,"3|1|9|3"]
[10,3,1,9,14,4,554.08,2853.53,1.05499133019569,0.19417353243176,"3|1|9|4"]
[10,3,1,9,14,5,554.08,2410.47,0.844732664454202,0.22986388546632,"3|1|9|5"]
[10,3,1,9,14,6,554.08,1942.98,0.806058569490597,0.285170202472491,"3|1|9|6"]
[10,3,1,9,14,7,554.08,1495.63,0.769760882767707,0.370465957489486,"3|1|9|7"]
[10,3,1,9,14,8,554.08,1023.61,0.684400553612859,0.541299909145085,"3|1|9|8"]
[10,3,1,9,14,9,554.08,525.55,0.513427965729135,1.05428598610979,"3|1|9|9"]
[10,3,1,9,14,10,554.08,0,0,0,"3|1|9|10"]
[10,3,1,10,15,1,554.06,655.19,0,0.845647827347792,"3|1|10|1"]
[10,3,1,10,15,2,554.06,1620.71,2.47364886521467,0.341862517044999,"3|1|10|2"]
[10,3,1,10,15,3,554.06,2704.8,1.6688981989375,0.204843241644484,"3|1|10|3"]
[10,3,1,10,15,4,554.06,2853.53,1.05498742975451,0.194166523569053,"3|1|10|4"]
[10,3,1,10,15,5,554.06,2410.47,0.844732664454202,0.229855588329247,"3|1|10|5"]
[10,3,1,10,15,6,554.06,1942.98,0.806058569490597,0.285159909005754,"3|1|10|6"]
[10,3,1,10,15,7,554.06,1495.63,0.769760882767707,0.370452585198211,"3|1|10|7"]
[10,3,1,10,15,8,554.06,1023.62,0.684407239758496,0.541275082550165,"3|1|10|8"]
[10,3,1,10,15,9,554.06,525.55,0.513422949922823,1.05424793073923,"3|1|10|9"]
[10,3,1,10,15,10,554.06,0,0,0,"3|1|10|10"]
[10,3,1,11,16,1,554.05,655.19,0,0.845632564599582,"3|1|11|1"]
[10,3,1,11,16,2,554.05,1620.71,2.47364886521467,0.341856346909688,"3|1|11|2"]
[10,3,1,11,16,3,554.05,2704.8,1.6688981989375,0.204839544513458,"3|1|11|3"]
[10,3,1,11,16,4,554.05,2853.53,1.05498742975451,0.1941630191377,"3|1|11|4"]
[10,3,1,11,16,5,554.05,2410.47,0.844732664454202,0.229851439760711,"3|1|11|5"]
[10,3,1,11,16,6,554.05,1942.97,0.806054420922061,0.285156229895469,"3|1|11|6"]
[10,3,1,11,16,7,554.05,1495.64,0.769769991301976,0.370443422213902,"3|1|11|7"]
[10,3,1,11,16,8,554.05,1023.62,0.684402663742612,0.541265313299857,"3|1|11|8"]
[10,3,1,11,16,9,554.05,525.56,0.513432719173131,1.05420884389984,"3|1|11|9"]
[10,3,1,11,16,10,554.05,0,0,0,"3|1|11|10"]
[10,3,1,12,17,1,554.04,655.19,0,0.845617301851371,"3|1|12|1"]
[10,3,1,12,17,2,554.04,1620.71,2.47364886521467,0.341850176774377,"3|1|12|2"]
[10,3,1,12,17,3,554.04,2704.8,1.6688981989375,0.204835847382431,"3|1|12|3"]
[10,3,1,12,17,4,554.04,2853.53,1.05498742975451,0.194159514706346,"3|1|12|4"]
[10,3,1,12,17,5,554.04,2410.47,0.844732664454202,0.229847291192174,"3|1|12|5"]
[10,3,1,12,17,6,554.04,1942.97,0.806054420922061,0.285151083135612,"3|1|12|6"]
[10,3,1,12,17,7,554.04,1495.64,0.769769991301976,0.370436736112968,"3|1|12|7"]
[10,3,1,12,17,8,554.04,1023.63,0.684409349843545,0.541250256440315,"3|1|12|8"]
[10,3,1,12,17,9,554.04,525.56,0.513427703369381,1.0541898165766,"3|1|12|9"]
[10,3,1,12,17,10,554.04,0,0,0,"3|1|12|10"]
[10,3,1,13,18,1,554.02,655.19,0,0.84558677635495,"3|1|13|1"]
[10,3,1,13,18,2,554.02,1620.71,2.47364886521467,0.341837836503754,"3|1|13|2"]
[10,3,1,13,18,3,554.02,2704.8,1.6688981989375,0.204828453120379,"3|1|13|3"]
[10,3,1,13,18,4,554.02,2853.53,1.05498742975451,0.194152505843639,"3|1|13|4"]
[10,3,1,13,18,5,554.02,2410.47,0.844732664454202,0.229838994055101,"3|1|13|5"]
[10,3,1,13,18,6,554.02,1942.96,0.806050272353524,0.28514225717462,"3|1|13|6"]
[10,3,1,13,18,7,554.02,1495.64,0.769773953143657,0.370423363911102,"3|1|13|7"]
[10,3,1,13,18,8,554.02,1023.63,0.684409349843545,0.541230718130575,"3|1|13|8"]
[10,3,1,13,18,9,554.02,525.57,0.513437472524252,1.05413170462545,"3|1|13|9"]
[10,3,1,13,18,10,554.02,0,0,0,"3|1|13|10"]
[10,3,1,14,19,1,554.01,655.19,0,0.84557151360674,"3|1|14|1"]
[10,3,1,14,19,2,554.01,1620.71,2.47364886521467,0.341831666368443,"3|1|14|2"]
[10,3,1,14,19,3,554.01,2704.8,1.6688981989375,0.204824755989352,"3|1|14|3"]
[10,3,1,14,19,4,554.01,2853.53,1.05498742975451,0.194149001412286,"3|1|14|4"]
[10,3,1,14,19,5,554.01,2410.47,0.844732664454202,0.229834845486565,"3|1|14|5"]
[10,3,1,14,19,6,554.01,1942.96,0.806050272353524,0.285137110388274,"3|1|14|6"]
[10,3,1,14,19,7,554.01,1495.64,0.769773953143657,0.370416677810168,"3|1|14|7"]
[10,3,1,14,19,8,554.01,1023.64,0.684416035944479,0.541215661756086,"3|1|14|8"]
[10,3,1,14,19,9,554.01,525.57,0.513432456723067,1.05411267766425,"3|1|14|9"]
[10,3,1,14,19,10,554.01,0,0,0,"3|1|14|10"]
[10,3,1,15,20,1,554,655.19,0,0.845556250858529,"3|1|15|1"]
[10,3,1,15,20,2,554,1620.71,2.47364886521467,0.341825496233132,"3|1|15|2"]
[10,3,1,15,20,3,554,2704.8,1.6688981989375,0.204821058858326,"3|1|15|3"]
[10,3,1,15,20,4,554,2853.53,1.05498742975451,0.194145496980932,"3|1|15|4"]
[10,3,1,15,20,5,554,2410.46,0.844729160022849,0.229831650390382,"3|1|15|5"]
[10,3,1,15,20,6,554,1942.95,0.806049467736449,0.285133431122777,"3|1|15|6"]
[10,3,1,15,20,7,554,1495.64,0.76977791502612,0.370409991709235,"3|1|15|7"]
[10,3,1,15,20,8,554,1023.64,0.684416035944479,0.541205892696651,"3|1|15|8"]
[10,3,1,15,20,9,554,525.57,0.513432456723067,1.05409365070305,"3|1|15|9"]
[10,3,1,15,20,10,554,0,0,0,"3|1|15|10"]
[10,3,1,16,21,1,553.98,655.19,0,0.845525725362109,"3|1|16|1"]
[10,3,1,16,21,2,553.98,1620.71,2.47364886521467,0.34181315596251,"3|1|16|2"]
[10,3,1,16,21,3,553.98,2704.8,1.6688981989375,0.204813664596273,"3|1|16|3"]
[10,3,1,16,21,4,553.98,2853.53,1.05498742975451,0.194138488118225,"3|1|16|4"]
[10,3,1,16,21,5,553.98,2410.46,0.844729160022849,0.229823353218888,"3|1|16|5"]
[10,3,1,16,21,6,553.98,1942.95,0.806049467736449,0.285123137497105,"3|1|16|6"]
[10,3,1,16,21,7,553.98,1495.64,0.76977791502612,0.370396619507368,"3|1|16|7"]
[10,3,1,16,21,8,553.98,1023.65,0.684422722045412,0.541181067747765,"3|1|16|8"]
[10,3,1,16,21,9,553.98,525.58,0.513437209983881,1.05403554168728,"3|1|16|9"]
[10,3,1,16,21,10,553.98,0,0,0,"3|1|16|10"]
[10,3,1,17,22,1,553.97,655.19,0,0.845510462613898,"3|1|17|1"]
[10,3,1,17,22,2,553.97,1620.71,2.47364886521467,0.341806985827199,"3|1|17|2"]
[10,3,1,17,22,3,553.97,2704.8,1.6688981989375,0.204809967465247,"3|1|17|3"]
[10,3,1,17,22,4,553.97,2853.53,1.05498742975451,0.194134983686872,"3|1|17|4"]
[10,3,1,17,22,5,553.97,2410.46,0.844729160022849,0.229819204633141,"3|1|17|5"]
[10,3,1,17,22,6,553.97,1942.94,0.806045319150702,0.285119458140756,"3|1|17|6"]
[10,3,1,17,22,7,553.97,1495.65,0.769787023788691,0.370387456958513,"3|1|17|7"]
[10,3,1,17,22,8,553.97,1023.65,0.684418145956607,0.541171298783764,"3|1|17|8"]
[10,3,1,17,22,9,553.97,525.59,0.513446978947883,1.05399646111988,"3|1|17|9"]
[10,3,1,17,22,10,553.97,0,0,0,"3|1|17|10"]
[10,3,1,18,23,1,553.95,655.19,0,0.845479937117477,"3|1|18|1"]
[10,3,1,18,23,2,553.95,1620.71,2.47364886521467,0.341794645556577,"3|1|18|2"]
[10,3,1,18,23,3,553.95,2704.8,1.6688981989375,0.204802573203194,"3|1|18|3"]
[10,3,1,18,23,4,553.95,2853.53,1.05498742975451,0.194127974824165,"3|1|18|4"]
[10,3,1,18,23,5,553.95,2410.46,0.844729160022849,0.229810907461646,"3|1|18|5"]
[10,3,1,18,23,6,553.95,1942.94,0.806045319150702,0.285109164462104,"3|1|18|6"]
[10,3,1,18,23,7,553.95,1495.65,0.769787023788691,0.370374084846054,"3|1|18|7"]
[10,3,1,18,23,8,553.95,1023.66,0.684424832012837,0.541146474415333,"3|1|18|8"]
[10,3,1,18,23,9,553.95,525.59,0.513441963151828,1.05395840864552,"3|1|18|9"]
[10,3,1,18,23,10,553.95,0,0,0,"3|1|18|10"]
[10,3,1,19,24,1,553.94,655.19,0,0.845464674369267,"3|1|19|1"]
[10,3,1,19,24,2,553.94,1620.71,2.47364886521467,0.341788475421266,"3|1|19|2"]
[10,3,1,19,24,3,553.94,2704.8,1.6688981989375,0.204798876072168,"3|1|19|3"]
[10,3,1,19,24,4,553.94,2853.53,1.05498742975451,0.194124470392812,"3|1|19|4"]
[10,3,1,19,24,5,553.94,2410.46,0.844729160022849,0.229806758875899,"3|1|19|5"]
[10,3,1,19,24,6,553.94,1942.93,0.806041170564954,0.2851054850149,"3|1|19|6"]
[10,3,1,19,24,7,553.94,1495.65,0.76979098577921,0.370367398789824,"3|1|19|7"]
[10,3,1,19,24,8,553.94,1023.66,0.684424832012837,0.541136705546764,"3|1|19|8"]
[10,3,1,19,24,9,553.94,525.6,0.513451732020397,1.05391933028919,"3|1|19|9"]
[10,3,1,19,24,10,553.94,0,0,0,"3|1|19|10"]
[10,3,1,20,25,1,553.92,655.19,0,0.845434148872846,"3|1|20|1"]
[10,3,1,20,25,2,553.92,1620.71,2.47364886521467,0.341776135150644,"3|1|20|2"]
[10,3,1,20,25,3,553.92,2704.8,1.6688981989375,0.204791481810115,"3|1|20|3"]
[10,3,1,20,25,4,553.92,2853.53,1.05498742975451,0.194117461530105,"3|1|20|4"]
[10,3,1,20,25,5,553.92,2410.46,0.844729160022849,0.229798461704405,"3|1|20|5"]
[10,3,1,20,25,6,553.92,1942.92,0.806037021979207,0.285096658637515,"3|1|20|6"]
[10,3,1,20,25,7,553.92,1495.65,0.769794947810512,0.370354026677364,"3|1|20|7"]
[10,3,1,20,25,8,553.92,1023.67,0.684431518069067,0.54111188175877,"3|1|20|8"]
[10,3,1,20,25,9,553.92,525.6,0.513446716226909,1.05388127853881,"3|1|20|9"]
[10,3,1,20,25,10,553.92,0,0,0,"3|1|20|10"]
[10,3,1,21,26,1,553.9,655.19,0,0.845403623376425,"3|1|21|1"]
[10,3,1,21,26,2,553.9,1620.71,2.47364886521467,0.341763794880022,"3|1|21|2"]
[10,3,1,21,26,3,553.9,2704.81,1.66890436907281,0.204783330437258,"3|1|21|3"]
[10,3,1,21,26,4,553.9,2853.53,1.05498352934217,0.194110452667398,"3|1|21|4"]
[10,3,1,21,26,5,553.9,2410.46,0.844729160022849,0.229790164532911,"3|1|21|5"]
[10,3,1,21,26,6,553.9,1942.92,0.806037021979207,0.285086364852902,"3|1|21|6"]
[10,3,1,21,26,7,553.9,1495.66,0.769800094702818,0.37033817846302,"3|1|21|7"]
[10,3,1,21,26,8,553.9,1023.68,0.684433627963575,0.541087058455767,"3|1|21|8"]
[10,3,1,21,26,9,553.9,525.61,0.513451469209128,1.0538231768802,"3|1|21|9"]
[10,3,1,21,26,10,553.9,0,0,0,"3|1|21|10"]
[10,3,1,22,27,1,553.88,655.19,0,0.845373097880004,"3|1|22|1"]
[10,3,1,22,27,2,553.88,1620.71,2.47364886521467,0.3417514546094,"3|1|22|2"]
[10,3,1,22,27,3,553.88,2704.81,1.66890436907281,0.204775936202543,"3|1|22|3"]
[10,3,1,22,27,4,553.88,2853.53,1.05498352934217,0.194103443804691,"3|1|22|4"]
[10,3,1,22,27,5,553.88,2410.45,0.844725655591495,0.229782820635151,"3|1|22|5"]
[10,3,1,22,27,6,553.88,1942.91,0.806036217303823,0.285077538331678,"3|1|22|6"]
[10,3,1,22,27,7,553.88,1495.66,0.769804056801396,0.370324806439966,"3|1|22|7"]
[10,3,1,22,27,8,553.88,1023.7,0.684446999986628,0.541056950278402,"3|1|22|8"]
[10,3,1,22,27,9,553.88,525.63,0.513460974894989,1.0537450297738,"3|1|22|9"]
[10,3,1,22,27,10,553.88,0,0,0,"3|1|22|10"]
[10,3,1,23,28,1,553.85,655.19,0,0.845327309635373,"3|1|23|1"]
[10,3,1,23,28,2,553.85,1620.71,2.47364886521467,0.341732944203466,"3|1|23|2"]
[10,3,1,23,28,3,553.85,2704.81,1.66890436907281,0.20476484485047,"3|1|23|3"]
[10,3,1,23,28,4,553.85,2853.52,1.05497983222481,0.194093610698366,"3|1|23|4"]
[10,3,1,23,28,5,553.85,2410.45,0.844728615884942,0.229770374826277,"3|1|23|5"]
[10,3,1,23,28,6,553.85,1942.91,0.806036217303823,0.285062097575287,"3|1|23|6"]
[10,3,1,23,28,7,553.85,1495.67,0.769809203720193,0.370302272560124,"3|1|23|7"]
[10,3,1,23,28,8,553.85,1023.71,0.684449109763517,0.541022359848004,"3|1|23|8"]
[10,3,1,23,28,9,553.85,525.64,0.513465727598636,1.05366790959592,"3|1|23|9"]
[10,3,1,23,28,10,553.85,0,0,0,"3|1|23|10"]
[10,3,1,24,29,1,553.82,655.19,0,0.845281521390742,"3|1|24|1"]
[10,3,1,24,29,2,553.82,1620.71,2.47364886521467,0.341714433797533,"3|1|24|2"]
[10,3,1,24,29,3,553.82,2704.81,1.66890436907281,0.204753753498397,"3|1|24|3"]
[10,3,1,24,29,4,553.82,2853.52,1.05497983222481,0.194083097367462,"3|1|24|4"]
[10,3,1,24,29,5,553.82,2410.45,0.844728615884942,0.229757929017403,"3|1|24|5"]
[10,3,1,24,29,6,553.82,1942.9,0.806032068700865,0.285048123938443,"3|1|24|6"]
[10,3,1,24,29,7,553.82,1495.68,0.769818312831335,0.3702797389816,"3|1|24|7"]
[10,3,1,24,29,8,553.82,1023.73,0.684457905434318,0.540982485616325,"3|1|24|8"]
[10,3,1,24,29,9,553.82,525.66,0.513475232727379,1.05357074915345,"3|1|24|9"]
[10,3,1,24,29,10,553.82,0,0,0,"3|1|24|10"]
[10,3,1,25,30,1,553.79,655.19,0,0.84523573314611,"3|1|25|1"]
[10,3,1,25,30,2,553.79,1620.72,2.47366412796288,0.341693815094526,"3|1|25|2"]
[10,3,1,25,30,3,553.79,2704.81,1.66889407177057,0.204742662146324,"3|1|25|3"]
[10,3,1,25,30,4,553.79,2853.53,1.05498352934217,0.19407190392251,"3|1|25|4"]
[10,3,1,25,30,5,553.79,2410.45,0.844725655591495,0.22974548320853,"3|1|25|5"]
[10,3,1,25,30,6,553.79,1942.89,0.806027920097907,0.285034150157755,"3|1|25|6"]
[10,3,1,25,30,7,553.79,1495.7,0.769832569008024,0.37025473022665,"3|1|25|7"]
[10,3,1,25,30,8,553.79,1023.76,0.684468810590359,0.540937329061499,"3|1|25|8"]
[10,3,1,25,30,9,553.79,525.68,0.513479721809799,1.05347359610409,"3|1|25|9"]
[10,3,1,25,30,10,553.79,0,0,0,"3|1|25|10"]
[10,3,1,26,31,1,553.75,655.19,0,0.845174682153268,"3|1|26|1"]
[10,3,1,26,31,2,553.75,1620.72,2.47366412796288,0.341669134705563,"3|1|26|2"]
[10,3,1,26,31,3,553.75,2704.82,1.66890024186781,0.204727116776717,"3|1|26|3"]
[10,3,1,26,31,4,553.75,2853.53,1.05497962895867,0.194057886197096,"3|1|26|4"]
[10,3,1,26,31,5,553.75,2410.45,0.844725655591495,0.229728888796698,"3|1|26|5"]
[10,3,1,26,31,6,553.75,1942.89,0.806027920097907,0.285013562270638,"3|1|26|6"]
[10,3,1,26,31,7,553.75,1495.71,0.769837715979803,0.370225511629928,"3|1|26|7"]
[10,3,1,26,31,8,553.75,1023.78,0.684477605953026,0.540887690714802,"3|1|26|8"]
[10,3,1,26,31,9,553.75,525.71,0.513498993924476,1.05333739133743,"3|1|26|9"]
[10,3,1,26,31,10,553.75,0,0,0,"3|1|26|10"]
[10,3,1,27,32,1,553.7,655.2,0,0.84508547008547,"3|1|27|1"]
[10,3,1,27,32,2,553.7,1620.72,2.47362637362637,0.341638284219359,"3|1|27|2"]
[10,3,1,27,32,3,553.7,2704.82,1.66890024186781,0.204708631258272,"3|1|27|3"]
[10,3,1,27,32,4,553.7,2853.53,1.05497962895867,0.194040364040329,"3|1|27|4"]
[10,3,1,27,32,5,553.7,2410.45,0.844725655591495,0.229708145781908,"3|1|27|5"]
[10,3,1,27,32,6,553.7,1942.88,0.806023771494949,0.284989294243597,"3|1|27|6"]
[10,3,1,27,32,7,553.7,1495.73,0.769851972329737,0.370187132704432,"3|1|27|7"]
[10,3,1,27,32,8,553.7,1023.82,0.68449519632554,0.540817721865172,"3|1|27|8"]
[10,3,1,27,32,9,553.7,525.73,0.513498466527319,1.05320221406425,"3|1|27|9"]
[10,3,1,27,32,10,553.7,0,0,0,"3|1|27|10"]
[10,3,1,28,33,1,553.65,655.2,0,0.845009157509157,"3|1|28|1"]
[10,3,1,28,33,2,553.65,1620.72,2.47362637362637,0.341607433733156,"3|1|28|2"]
[10,3,1,28,33,3,553.65,2704.82,1.66890024186781,0.204690145739827,"3|1|28|3"]
[10,3,1,28,33,4,553.65,2853.53,1.05497962895867,0.194022841883562,"3|1|28|4"]
[10,3,1,28,33,5,553.65,2410.45,0.844725655591495,0.229687402767118,"3|1|28|5"]
[10,3,1,28,33,6,553.65,1942.87,0.806019622891991,0.28496502596674,"3|1|28|6"]
[10,3,1,28,33,7,553.65,1495.75,0.769866228826427,0.370148754805282,"3|1|28|7"]
[10,3,1,28,33,8,553.65,1023.85,0.684506100618419,0.540753039996093,"3|1|28|8"]
[10,3,1,28,33,9,553.65,525.77,0.513522488645798,1.05302698898758,"3|1|28|9"]
[10,3,1,28,33,10,553.65,0,0,0,"3|1|28|10"]
[10,3,1,29,34,1,553.58,655.2,0,0.84490231990232,"3|1|29|1"]
[10,3,1,29,34,2,553.58,1620.73,2.47364163614164,0.34156213558088,"3|1|29|2"]
[10,3,1,29,34,3,553.58,2704.83,1.66889611471374,0.204663509351789,"3|1|29|3"]
[10,3,1,29,34,4,553.58,2853.53,1.05497572860402,0.193998310864088,"3|1|29|4"]
[10,3,1,29,34,5,553.58,2410.46,0.844729160022849,0.229657409789003,"3|1|29|5"]
[10,3,1,29,34,6,553.58,1942.86,0.806012130464725,0.284930463337554,"3|1|29|6"]
[10,3,1,29,34,7,553.58,1495.78,0.769885632521129,0.370094532618433,"3|1|29|7"]
[10,3,1,29,34,8,553.58,1023.89,0.684519113773416,0.540663547842053,"3|1|29|8"]
[10,3,1,29,34,9,553.58,525.8,0.513531727040991,1.05283377710156,"3|1|29|9"]
[10,3,1,29,34,10,553.58,0,0,0,"3|1|29|10"]
[10,3,1,30,35,1,553.51,655.2,0,0.844795482295482,"3|1|30|1"]
[10,3,1,30,35,2,553.51,1620.73,2.47364163614164,0.341518945166684,"3|1|30|2"]
[10,3,1,30,35,3,553.51,2704.84,1.66890228477291,0.204636873160705,"3|1|30|3"]
[10,3,1,30,35,4,553.51,2853.54,1.05497552535455,0.1939731000792,"3|1|30|4"]
[10,3,1,30,35,5,553.51,2410.46,0.844726199737869,0.229628369688773,"3|1|30|5"]
[10,3,1,30,35,6,553.51,1942.85,0.806007981878977,0.284895900352575,"3|1|30|6"]
[10,3,1,30,35,7,553.51,1495.8,0.769899889337828,0.370042786468779,"3|1|30|7"]
[10,3,1,30,35,8,553.51,1023.94,0.684543388153496,0.540568783327148,"3|1|30|8"]
[10,3,1,30,35,9,553.51,525.84,0.513545715569272,1.05262056899437,"3|1|30|9"]
[10,3,1,30,35,10,553.51,0,0,0,"3|1|30|10"]
[10,3,1,31,36,1,553.44,655.2,0,0.844688644688645,"3|1|31|1"]
[10,3,1,31,36,2,553.44,1620.74,2.4736568986569,0.341473647839876,"3|1|31|2"]
[10,3,1,31,36,3,553.44,2704.85,1.6688981576317,0.204610237166571,"3|1|31|3"]
[10,3,1,31,36,4,553.44,2853.54,1.0549716250439,0.193948569145693,"3|1|31|4"]
[10,3,1,31,36,5,553.44,2410.46,0.844726199737869,0.229599329588543,"3|1|31|5"]
[10,3,1,31,36,6,553.44,1942.83,0.805999684707483,0.284862803230339,"3|1|31|6"]
[10,3,1,31,36,7,553.44,1495.83,0.769923256280786,0.369988568219651,"3|1|31|7"]
[10,3,1,31,36,8,553.44,1023.99,0.684563085377349,0.54047402806668,"3|1|31|8"]
[10,3,1,31,36,9,553.44,525.88,0.513559702731472,1.05240739332167,"3|1|31|9"]
[10,3,1,31,36,10,553.44,0,0,0,"3|1|31|10"]
[10,3,1,32,37,1,553.35,655.21,0,0.84453839227118,"3|1|32|1"]
[10,3,1,32,37,2,553.35,1620.74,2.47361914500694,0.341418117649962,"3|1|32|2"]
[10,3,1,32,37,3,553.35,2704.86,1.6689043276528,0.204576207271356,"3|1|32|3"]
[10,3,1,32,37,4,553.35,2853.54,1.05496772476209,0.193917029374041,"3|1|32|4"]
[10,3,1,32,37,5,553.35,2410.46,0.844726199737869,0.229561992316819,"3|1|32|5"]
[10,3,1,32,37,6,553.35,1942.82,0.805995536121736,0.284817945048949,"3|1|32|6"]
[10,3,1,32,37,7,553.35,1495.86,0.769942660668513,0.369920981910072,"3|1|32|7"]
[10,3,1,32,37,8,553.35,1024.04,0.684582781811132,0.540359751572204,"3|1|32|8"]
[10,3,1,32,37,9,553.35,525.93,0.513583453771337,1.05213621584622,"3|1|32|9"]
[10,3,1,32,37,10,553.35,0,0,0,"3|1|32|10"]
[10,3,1,33,38,1,553.25,655.21,0,0.844385769447963,"3|1|33|1"]
[10,3,1,33,38,2,553.25,1620.75,2.47363440728927,0.341354311275644,"3|1|33|2"]
[10,3,1,33,38,3,553.25,2704.87,1.66890020052445,0.204538480592413,"3|1|33|3"]
[10,3,1,33,38,4,553.25,2853.55,1.05496752154447,0.193881305741971,"3|1|33|4"]
[10,3,1,33,38,5,553.25,2410.46,0.844723239473638,0.229520506459348,"3|1|33|5"]
[10,3,1,33,38,6,553.25,1942.8,0.805987238950242,0.284769404982499,"3|1|33|6"]
[10,3,1,33,38,7,553.25,1495.89,0.7699660284126,0.369846713327852,"3|1|33|7"]
[10,3,1,33,38,8,553.25,1024.09,0.684602477454893,0.540235721469793,"3|1|33|8"]
[10,3,1,33,38,9,553.25,525.97,0.5135974377252,1.05186607601194,"3|1|33|9"]
[10,3,1,33,38,10,553.25,0,0,0,"3|1|33|10"]
[10,3,1,34,39,1,553.15,655.21,0,0.844233146624746,"3|1|34|1"]
[10,3,1,34,39,2,553.15,1620.76,2.47364966957159,0.341290505688689,"3|1|34|2"]
[10,3,1,34,39,3,553.15,2704.88,1.66889607344702,0.204500754192423,"3|1|34|3"]
[10,3,1,34,39,4,553.15,2853.55,1.05496362130668,0.193846261674055,"3|1|34|4"]
[10,3,1,34,39,5,553.15,2410.46,0.844723239473638,0.229479020601877,"3|1|34|5"]
[10,3,1,34,39,6,553.15,1942.77,0.805974793193,0.284722329457424,"3|1|34|6"]
[10,3,1,34,39,7,553.15,1495.92,0.769993359996294,0.369772447724477,"3|1|34|7"]
[10,3,1,34,39,8,553.15,1024.15,0.684628857158137,0.540106429722209,"3|1|34|8"]
[10,3,1,34,39,9,553.15,526.02,0.51361616950642,1.05157598570397,"3|1|34|9"]
[10,3,1,34,39,10,553.15,0,0,0,"3|1|34|10"]
[10,3,1,35,40,1,553.03,655.21,0,0.844049999236886,"3|1|35|1"]
[10,3,1,35,40,2,553.03,1620.77,2.47366493185391,0.341214361075291,"3|1|35|2"]
[10,3,1,35,40,3,553.03,2704.89,1.66889194642053,0.204455634055359,"3|1|35|3"]
[10,3,1,35,40,4,553.03,2853.55,1.05495972109772,0.193804208792557,"3|1|35|4"]
[10,3,1,35,40,5,553.03,2410.46,0.844723239473638,0.229429237572911,"3|1|35|5"]
[10,3,1,35,40,6,553.03,1942.75,0.805966496021506,0.284663492472011,"3|1|35|6"]
[10,3,1,35,40,7,553.03,1495.95,0.770016728863724,0.369684815668973,"3|1|35|7"]
[10,3,1,35,40,8,553.03,1024.21,0.684655235803336,0.539957625877506,"3|1|35|8"]
[10,3,1,35,40,9,553.03,526.08,0.513644662715654,1.05122795012165,"3|1|35|9"]
[10,3,1,35,40,10,553.03,0,0,0,"3|1|35|10"]
[10,3,1,36,41,1,552.91,655.22,0,0.843853972711456,"3|1|36|1"]
[10,3,1,36,41,2,552.91,1620.78,2.47364244070694,0.341138217401498,"3|1|36|2"]
[10,3,1,36,41,3,552.91,2704.9,1.66888781944496,0.204410514251913,"3|1|36|3"]
[10,3,1,36,41,4,552.91,2853.56,1.05495951791194,0.193761476892023,"3|1|36|4"]
[10,3,1,36,41,5,552.91,2410.46,0.844720279230155,0.229379454543946,"3|1|36|5"]
[10,3,1,36,41,6,552.91,1942.72,0.805954050264265,0.284606119255477,"3|1|36|6"]
[10,3,1,36,41,7,552.91,1495.99,0.770049209355955,0.369594716542223,"3|1|36|7"]
[10,3,1,36,41,8,552.91,1024.28,0.684683721147869,0.53980356933651,"3|1|36|8"]
[10,3,1,36,41,9,552.91,526.14,0.51366813761862,1.05087999391797,"3|1|36|9"]
[10,3,1,36,41,10,552.91,0,0,0,"3|1|36|10"]
[10,3,1,37,42,1,552.77,655.22,0,0.843640304020024,"3|1|37|1"]
[10,3,1,37,42,2,552.77,1620.78,2.47364244070694,0.341051839237898,"3|1|37|2"]
[10,3,1,37,42,3,552.77,2704.91,1.66889398931379,0.20435800082073,"3|1|37|3"]
[10,3,1,37,42,4,552.77,2853.56,1.05495561774699,0.193712415368873,"3|1|37|4"]
[10,3,1,37,42,5,552.77,2410.46,0.844720279230155,0.229321374343486,"3|1|37|5"]
[10,3,1,37,42,6,552.77,1942.69,0.805941604507024,0.28453844926365,"3|1|37|6"]
[10,3,1,37,42,7,552.77,1496.02,0.770076543349685,0.369493723345945,"3|1|37|7"]
[10,3,1,37,42,8,552.77,1024.35,0.684716781861205,0.539630009274174,"3|1|37|8"]
[10,3,1,37,42,9,552.77,526.2,0.513691609313223,1.05049410870391,"3|1|37|9"]
[10,3,1,37,42,10,552.77,0,0,0,"3|1|37|10"]
[10,3,1,38,43,1,552.63,655.22,0,0.843426635328592,"3|1|38|1"]
[10,3,1,38,43,2,552.63,1620.79,2.47365770275633,0.340963357375107,"3|1|38|2"]
[10,3,1,38,43,3,552.63,2704.93,1.66889603218184,0.204304732469971,"3|1|38|3"]
[10,3,1,38,43,4,552.63,2853.56,1.0549478175036,0.193663353845723,"3|1|38|4"]
[10,3,1,38,43,5,552.63,2410.46,0.844720279230155,0.229263294143027,"3|1|38|5"]
[10,3,1,38,43,6,552.63,1942.65,0.805925010164035,0.284472241525751,"3|1|38|6"]
[10,3,1,38,43,7,552.63,1496.06,0.770112989987903,0.36939026509632,"3|1|38|7"]
[10,3,1,38,43,8,552.63,1024.42,0.684745264227371,0.539456472931024,"3|1|38|8"]
[10,3,1,38,43,9,552.63,526.26,0.513715077800121,1.05010831148102,"3|1|38|9"]
[10,3,1,38,43,10,552.63,0,0,0,"3|1|38|10"]
[10,3,1,39,44,1,552.47,655.23,0,0.843169574042703,"3|1|39|1"]
[10,3,1,39,44,2,552.47,1620.8,2.47363521206294,0.340862537018756,"3|1|39|2"]
[10,3,1,39,44,3,552.47,2704.94,1.66889190523198,0.204244826132927,"3|1|39|3"]
[10,3,1,39,44,4,552.47,2853.56,1.05494391742516,0.193607283533551,"3|1|39|4"]
[10,3,1,39,44,5,552.47,2410.46,0.844720279230155,0.229196916771073,"3|1|39|5"]
[10,3,1,39,44,6,552.47,1942.61,0.805908415821047,0.284395735634018,"3|1|39|6"]
[10,3,1,39,44,7,552.47,1496.1,0.770149438127056,0.369273444288483,"3|1|39|7"]
[10,3,1,39,44,8,552.47,1024.5,0.684780429115701,0.539258174719375,"3|1|39|8"]
[10,3,1,39,44,9,552.47,526.34,0.513753050268424,1.04964471634305,"3|1|39|9"]
[10,3,1,39,44,10,552.47,0,0,0,"3|1|39|10"]
[10,3,1,40,45,1,552.3,655.23,0,0.842910123162859,"3|1|40|1"]
[10,3,1,40,45,2,552.3,1620.81,2.4736504738794,0.34075554815185,"3|1|40|2"]
[10,3,1,40,45,3,552.3,2704.95,1.66888777833306,0.204181223312815,"3|1|40|3"]
[10,3,1,40,45,4,552.3,2853.56,1.05494001737555,0.193547708826869,"3|1|40|4"]
[10,3,1,40,45,5,552.3,2410.45,0.844716774835644,0.229127341367794,"3|1|40|5"]
[10,3,1,40,45,6,552.3,1942.57,0.805895164803253,0.284314078771936,"3|1|40|6"]
[10,3,1,40,45,7,552.3,1496.14,0.770185887767236,0.369149945860681,"3|1|40|7"]
[10,3,1,40,45,8,552.3,1024.59,0.684822275990215,0.539044886247182,"3|1|40|8"]
[10,3,1,40,45,9,552.3,526.41,0.513776242204199,1.04918219638685,"3|1|40|9"]
[10,3,1,40,45,10,552.3,0,0,0,"3|1|40|10"]
[10,3,1,41,46,1,552.12,655.23,0,0.842635410466554,"3|1|41|1"]
[10,3,1,41,46,2,552.12,1620.82,2.47366573569586,0.340642390888563,"3|1|41|2"]
[10,3,1,41,46,3,552.12,2704.97,1.66888982120161,0.204113169462138,"3|1|41|3"]
[10,3,1,41,46,4,552.12,2853.56,1.05493221736285,0.193484629725676,"3|1|41|4"]
[10,3,1,41,46,5,552.12,2410.45,0.844716774835644,0.229052666514551,"3|1|41|5"]
[10,3,1,41,46,6,552.12,1942.52,0.805874421788463,0.28422873380969,"3|1|41|6"]
[10,3,1,41,46,7,552.12,1496.19,0.770231451928423,0.369017303952038,"3|1|41|7"]
[10,3,1,41,46,8,552.12,1024.69,0.684866226882949,0.53881661770877,"3|1|41|8"]
[10,3,1,41,46,9,552.12,526.5,0.513813933970274,1.04866096866097,"3|1|41|9"]
[10,3,1,41,46,10,552.12,0,0,0,"3|1|41|10"]
[10,3,1,42,47,1,551.92,655.24,0,0.842317318845003,"3|1|42|1"]
[10,3,1,42,47,2,551.92,1620.83,2.47364324522312,0.340516895664567,"3|1|42|2"]
[10,3,1,42,47,3,551.92,2704.98,1.66888569436647,0.204038477179129,"3|1|42|3"]
[10,3,1,42,47,4,551.92,2853.56,1.05492831739976,0.193414541835462,"3|1|42|4"]
[10,3,1,42,47,5,551.92,2410.44,0.844713270441133,0.228970644363685,"3|1|42|5"]
[10,3,1,42,47,6,551.92,1942.47,0.805857021954498,0.284133088284504,"3|1|42|6"]
[10,3,1,42,47,7,551.92,1496.24,0.770277018435291,0.368871304068866,"3|1|42|7"]
[10,3,1,42,47,8,551.92,1024.79,0.684910174838261,0.538568877526127,"3|1|42|8"]
[10,3,1,42,47,9,551.92,526.59,0.513851618380351,1.04810193888984,"3|1|42|9"]
[10,3,1,42,47,10,551.92,0,0,0,"3|1|42|10"]
[10,3,1,43,48,1,551.7,655.24,0,0.841981564007081,"3|1|43|1"]
[10,3,1,43,48,2,551.7,1620.84,2.47365850680667,0.340379062708225,"3|1|43|2"]
[10,3,1,43,48,3,551.7,2705,1.66888773722267,0.203955637707948,"3|1|43|3"]
[10,3,1,43,48,4,551.7,2853.56,1.05492051756007,0.193337445156226,"3|1|43|4"]
[10,3,1,43,48,5,551.7,2410.44,0.844713270441133,0.228879374719968,"3|1|43|5"]
[10,3,1,43,48,6,551.7,1942.41,0.805832130233484,0.284028603641868,"3|1|43|6"]
[10,3,1,43,48,7,551.7,1496.29,0.770326553096411,0.368711947550274,"3|1|43|7"]
[10,3,1,43,48,8,551.7,1024.91,0.684967486249323,0.5382911670293,"3|1|43|8"]
[10,3,1,43,48,9,551.7,526.7,0.513898781356412,1.04746535029429,"3|1|43|9"]
[10,3,1,43,48,10,551.7,0,0,0,"3|1|43|10"]
[10,3,1,44,49,1,551.46,655.25,0,0.841602441816101,"3|1|44|1"]
[10,3,1,44,49,2,551.46,1620.85,2.47363601678749,0.340228892247895,"3|1|44|2"]
[10,3,1,44,49,3,551.46,2705.02,1.66888978005368,0.203865405801066,"3|1|44|3"]
[10,3,1,44,49,4,551.46,2853.56,1.05491271783573,0.193253339687969,"3|1|44|4"]
[10,3,1,44,49,5,551.46,2410.43,0.844709766046622,0.228780756960376,"3|1|44|5"]
[10,3,1,44,49,6,551.46,1942.35,0.805810581514502,0.283913815738667,"3|1|44|6"]
[10,3,1,44,49,7,551.46,1496.36,0.77038638762324,0.368534309925419,"3|1|44|7"]
[10,3,1,44,49,8,551.46,1025.03,0.685015637948087,0.537994009931417,"3|1|44|8"]
[10,3,1,44,49,9,551.46,526.81,0.513945933289757,1.04679106319166,"3|1|44|9"]
[10,3,1,44,49,10,551.46,0,0,0,"3|1|44|10"]
[10,3,1,45,50,1,551.2,655.25,0,0.841205646699733,"3|1|45|1"]
[10,3,1,45,50,2,551.2,1620.87,2.47366653948874,0.340064286463442,"3|1|45|2"]
[10,3,1,45,50,3,551.2,2705.04,1.66888152658757,0.203767781622453,"3|1|45|3"]
[10,3,1,45,50,4,551.2,2853.56,1.05490491822672,0.19316222543069,"3|1|45|4"]
[10,3,1,45,50,5,551.2,2410.42,0.844706261652112,0.22867384107334,"3|1|45|5"]
[10,3,1,45,50,6,551.2,1942.29,0.805789032616722,0.283788723620057,"3|1|45|6"]
[10,3,1,45,50,7,551.2,1496.42,0.770441077285061,0.368345785274188,"3|1|45|7"]
[10,3,1,45,50,8,551.2,1025.17,0.685081728391762,0.537666923534633,"3|1|45|8"]
[10,3,1,45,50,9,551.2,526.93,0.513992801193948,1.04605924885658,"3|1|45|9"]
[10,3,1,45,50,10,551.2,0,0,0,"3|1|45|10"]
[10,3,1,46,51,1,550.92,655.26,0,0.840765497665049,"3|1|46|1"]
[10,3,1,46,51,2,550.92,1620.88,2.4736440496902,0.339889442771828,"3|1|46|2"]
[10,3,1,46,51,3,550.92,2705.06,1.66888356941908,0.203662765336074,"3|1|46|3"]
[10,3,1,46,51,4,550.92,2853.57,1.05490081550871,0.19306342581398,"3|1|46|4"]
[10,3,1,46,51,5,550.92,2410.42,0.844703301478499,0.228557678744783,"3|1|46|5"]
[10,3,1,46,51,6,550.92,1942.22,0.805759992034583,0.283654786790374,"3|1|46|6"]
[10,3,1,46,51,7,550.92,1496.5,0.770510034908507,0.368138990978951,"3|1|46|7"]
[10,3,1,46,51,8,550.92,1025.31,0.685138656866021,0.537320420165608,"3|1|46|8"]
[10,3,1,46,51,9,550.92,527.06,0.514049409446899,1.04526998823663,"3|1|46|9"]
[10,3,1,46,51,10,550.92,0,0,0,"3|1|46|10"]
[10,3,1,47,52,1,550.61,655.26,0,0.840292403015597,"3|1|47|1"]
[10,3,1,47,52,2,550.61,1620.9,2.47367457192565,0.33969399716207,"3|1|47|2"]
[10,3,1,47,52,3,550.61,2705.09,1.66888148559442,0.203545907899552,"3|1|47|3"]
[10,3,1,47,52,4,550.61,2853.57,1.05488911644345,0.192954789964851,"3|1|47|4"]
[10,3,1,47,52,5,550.61,2410.41,0.844699797096269,0.228430018129696,"3|1|47|5"]
[10,3,1,47,52,6,550.61,1942.14,0.80573014549392,0.283506853264955,"3|1|47|6"]
[10,3,1,47,52,7,550.61,1496.58,0.770582965182737,0.367912173087974,"3|1|47|7"]
[10,3,1,47,52,8,550.61,1025.48,0.685215624958238,0.536929047860514,"3|1|47|8"]
[10,3,1,47,52,9,550.61,527.2,0.514100713812069,1.04440440060698,"3|1|47|9"]
[10,3,1,47,52,10,550.61,0,0,0,"3|1|47|10"]
[10,3,1,48,53,1,550.28,655.27,0,0.839775970210753,"3|1|48|1"]
[10,3,1,48,53,2,550.28,1620.92,2.47366734323256,0.339486217703526,"3|1|48|2"]
[10,3,1,48,53,3,550.28,2705.12,1.66887940182119,0.203421659667593,"3|1|48|3"]
[10,3,1,48,53,4,550.28,2853.57,1.05487741763766,0.192839145351262,"3|1|48|4"]
[10,3,1,48,53,5,550.28,2410.4,0.844696292714039,0.228294059077332,"3|1|48|5"]
[10,3,1,48,53,6,550.28,1942.06,0.805700298705609,0.283348609208778,"3|1|48|6"]
[10,3,1,48,53,7,550.28,1496.66,0.770655901465454,0.36767201635642,"3|1|48|7"]
[10,3,1,48,53,8,550.28,1025.65,0.685292584822204,0.536518305464827,"3|1|48|8"]
[10,3,1,48,53,9,550.28,527.36,0.514171500999366,1.04346177184466,"3|1|48|9"]
[10,3,1,48,53,10,550.28,0,0,0,"3|1|48|10"]
[10,3,1,49,54,1,549.92,655.28,0,0.839213771212306,"3|1|49|1"]
[10,3,1,49,54,2,549.92,1620.93,2.47364485410817,0.339262028588526,"3|1|49|2"]
[10,3,1,49,54,3,549.92,2705.15,1.66888761390066,0.203286324233407,"3|1|49|3"]
[10,3,1,49,54,4,549.92,2853.57,1.05486571909136,0.192712987590982,"3|1|49|4"]
[10,3,1,49,54,5,549.92,2410.4,0.844696292714039,0.228144706272818,"3|1|49|5"]
[10,3,1,49,54,6,549.92,1941.96,0.805658811815466,0.283177820346454,"3|1|49|6"]
[10,3,1,49,54,7,549.92,1496.76,0.770747080269419,0.367406932307117,"3|1|49|7"]
[10,3,1,49,54,8,549.92,1025.83,0.685367059515219,0.536073228507647,"3|1|49|8"]
[10,3,1,49,54,9,549.92,527.52,0.514237251786358,1.04246284501062,"3|1|49|9"]
[10,3,1,49,54,10,549.92,0,0,0,"3|1|49|10"]
[10,3,1,50,55,1,549.53,655.28,0,0.838618605786839,"3|1|50|1"]
[10,3,1,50,55,2,549.53,1620.96,2.47369063606397,0.339015151515151,"3|1|50|2"]
[10,3,1,50,55,3,549.53,2705.18,1.66887523442898,0.203139901965858,"3|1|50|3"]
[10,3,1,50,55,4,549.53,2853.57,1.05485402080453,0.192576316684013,"3|1|50|4"]
[10,3,1,50,55,5,549.53,2410.39,0.844692788331809,0.227983853235369,"3|1|50|5"]
[10,3,1,50,55,6,549.53,1941.87,0.805624815901161,0.282990107473724,"3|1|50|6"]
[10,3,1,50,55,7,549.53,1496.85,0.770829149222142,0.367124294351471,"3|1|50|7"]
[10,3,1,50,55,8,549.53,1026.03,0.68545946487624,0.535588628012826,"3|1|50|8"]
[10,3,1,50,55,9,549.53,527.7,0.514312447004474,1.04136820162971,"3|1|50|9"]
[10,3,1,50,55,10,549.53,0,0,0,"3|1|50|10"]
[10,3,1,51,56,1,549.11,655.29,0,0.837964870515344,"3|1|51|1"]
[10,3,1,51,56,2,549.11,1620.98,2.47368340734637,0.338751866155042,"3|1|51|2"]
[10,3,1,51,56,3,549.11,2705.21,1.66887315081,0.202982393233797,"3|1|51|3"]
[10,3,1,51,56,4,549.11,2853.58,1.05484601934785,0.192428458287485,"3|1|51|4"]
[10,3,1,51,56,5,549.11,2410.38,0.844686323845836,0.227810552692936,"3|1|51|5"]
[10,3,1,51,56,6,549.11,1941.76,0.805582522257901,0.282789840145023,"3|1|51|6"]
[10,3,1,51,56,7,549.11,1496.96,0.770929466051417,0.366816748610517,"3|1|51|7"]
[10,3,1,51,56,8,549.11,1026.25,0.685556060282172,0.535064555420219,"3|1|51|8"]
[10,3,1,51,56,9,549.11,527.89,0.514387332521315,1.04019776847449,"3|1|51|9"]
[10,3,1,51,56,10,549.11,0,0,0,"3|1|51|10"]
[10,3,1,52,57,1,548.64,655.3,0,0.837234854265222,"3|1|52|1"]
[10,3,1,52,57,2,548.64,1621,2.47367617884938,0.338457742134485,"3|1|52|2"]
[10,3,1,52,57,3,548.64,2705.25,1.66887723627391,0.202805655669531,"3|1|52|3"]
[10,3,1,52,57,4,548.64,2853.58,1.05483042232696,0.192263752899866,"3|1|52|4"]
[10,3,1,52,57,5,548.64,2410.37,0.844682819475886,0.227616507009297,"3|1|52|5"]
[10,3,1,52,57,6,548.64,1941.64,0.805536079523061,0.282565254115078,"3|1|52|6"]
[10,3,1,52,57,7,548.64,1497.08,0.771038915555922,0.366473401555027,"3|1|52|7"]
[10,3,1,52,57,8,548.64,1026.5,0.685668100569108,0.534476376035071,"3|1|52|8"]
[10,3,1,52,57,9,548.64,528.12,0.514486117876279,1.03885480572597,"3|1|52|9"]
[10,3,1,52,57,10,548.64,0,0,0,"3|1|52|10"]
[10,3,1,53,58,1,548.13,655.31,0,0.836443820481909,"3|1|53|1"]
[10,3,1,53,58,2,548.13,1621.03,2.47368421052632,0.33813686359907,"3|1|53|2"]
[10,3,1,53,58,3,548.13,2705.29,1.66887102644615,0.202614137486184,"3|1|53|3"]
[10,3,1,53,58,4,548.13,2853.58,1.05481482576729,0.19208503003245,"3|1|53|4"]
[10,3,1,53,58,5,548.13,2410.35,0.844675810735988,0.227406808139897,"3|1|53|5"]
[10,3,1,53,58,6,548.13,1941.51,0.805488829423113,0.28232149203455,"3|1|53|6"]
[10,3,1,53,58,7,548.13,1497.23,0.771167802380621,0.366096057385973,"3|1|53|7"]
[10,3,1,53,58,8,548.13,1026.8,0.685799776921381,0.533823529411765,"3|1|53|8"]
[10,3,1,53,58,9,548.13,528.4,0.514608492403584,1.03733913701741,"3|1|53|9"]
[10,3,1,53,58,10,548.13,0,0,0,"3|1|53|10"]
[10,3,1,54,59,1,547.54,655.32,0,0.83553073307697,"3|1|54|1"]
[10,3,1,54,59,2,547.54,1621.06,2.47369224195813,0.337766646515243,"3|1|54|2"]
[10,3,1,54,59,3,547.54,2705.33,1.66886481684824,0.202393053712486,"3|1|54|3"]
[10,3,1,54,59,4,547.54,2853.58,1.05479922966884,0.19187827220544,"3|1|54|4"]
[10,3,1,54,59,5,547.54,2410.34,0.844672306366039,0.227162972858601,"3|1|54|5"]
[10,3,1,54,59,6,547.54,1941.37,0.805434088136943,0.282037942277876,"3|1|54|6"]
[10,3,1,54,59,7,547.54,1497.41,0.77131613242195,0.365658036209188,"3|1|54|7"]
[10,3,1,54,59,8,547.54,1027.16,0.685957753721426,0.533062035125978,"3|1|54|8"]
[10,3,1,54,59,9,547.54,528.73,0.514749406129522,1.03557581374236,"3|1|54|9"]
[10,3,1,54,59,10,547.54,0,0,0,"3|1|54|10"]
[10,3,1,55,60,1,546.85,655.33,0,0.834465078662659,"3|1|55|1"]
[10,3,1,55,60,2,546.85,1621.08,2.47368501365724,0.337336837170282,"3|1|55|2"]
[10,3,1,55,60,3,546.85,2705.38,1.66887507094036,0.202134265796302,"3|1|55|3"]
[10,3,1,55,60,4,546.85,2853.58,1.05477973519432,0.191636470678937,"3|1|55|4"]
[10,3,1,55,60,5,546.85,2410.32,0.84466529762614,0.226878588735106,"3|1|55|5"]
[10,3,1,55,60,6,546.85,1941.22,0.805378538949185,0.281704289055336,"3|1|55|6"]
[10,3,1,55,60,7,546.85,1497.64,0.77149421497821,0.365141155417857,"3|1|55|7"]
[10,3,1,55,60,8,546.85,1027.61,0.686152880532037,0.532157141327936,"3|1|55|8"]
[10,3,1,55,60,9,546.85,529.14,0.514922976615642,1.03346940318252,"3|1|55|9"]
[10,3,1,55,60,10,546.85,0,0,0,"3|1|55|10"]
[10,3,1,56,61,1,546.05,655.34,0,0.833231604968413,"3|1|56|1"]
[10,3,1,56,61,2,546.05,1621.12,2.47370830408643,0.336835027635215,"3|1|56|2"]
[10,3,1,56,61,3,546.05,2705.43,1.66886473549151,0.201834828474586,"3|1|56|3"]
[10,3,1,56,61,4,546.05,2853.58,1.05476024144036,0.19135612108299,"3|1|56|4"]
[10,3,1,56,61,5,546.05,2410.31,0.844661793256191,0.226547622504989,"3|1|56|5"]
[10,3,1,56,61,6,546.05,1941.06,0.805315498836249,0.281315363770311,"3|1|56|6"]
[10,3,1,56,61,7,546.05,1497.94,0.771712363347862,0.364533959971694,"3|1|56|7"]
[10,3,1,56,61,8,546.05,1028.16,0.68638263214815,0.531094382197323,"3|1|56|8"]
[10,3,1,56,61,9,546.05,529.64,0.515133831310302,1.03098330941772,"3|1|56|9"]
[10,3,1,56,61,10,546.05,0,0,0,"3|1|56|10"]
[10,3,1,57,62,1,545.11,655.35,0,0.831784542610819,"3|1|57|1"]
[10,3,1,57,62,2,545.11,1621.16,2.47373159380484,0.336246884946581,"3|1|57|2"]
[10,3,1,57,62,3,545.11,2705.49,1.6688605689753,0.201482910674222,"3|1|57|3"]
[10,3,1,57,62,4,545.11,2853.59,1.05474054607483,0.191026040881837,"3|1|57|4"]
[10,3,1,57,62,5,545.11,2410.3,0.844655328901489,0.22615856947268,"3|1|57|5"]
[10,3,1,57,62,6,545.11,1940.87,0.805240011616811,0.280858584037056,"3|1|57|6"]
[10,3,1,57,62,7,545.11,1498.3,0.771973393375136,0.363818994860842,"3|1|57|7"]
[10,3,1,57,62,8,545.11,1028.81,0.686651538410198,0.529845160914066,"3|1|57|8"]
[10,3,1,57,62,9,545.11,530.22,0.515372128964532,1.02808268266003,"3|1|57|9"]
[10,3,1,57,62,10,545.11,0,0,0,"3|1|57|10"]
[10,3,1,58,63,1,544.02,655.37,0,0.830095976318721,"3|1|58|1"]
[10,3,1,58,63,2,544.02,1621.21,2.47373239544074,0.33556417737369,"3|1|58|2"]
[10,3,1,58,63,3,544.02,2705.57,1.66885844523535,0.201074080507989,"3|1|58|3"]
[10,3,1,58,63,4,544.02,2853.61,1.05471675099887,0.190642729735318,"3|1|58|4"]
[10,3,1,58,63,5,544.02,2410.3,0.844649408994221,0.225706343608679,"3|1|58|5"]
[10,3,1,58,63,6,544.02,1940.68,0.805161183255196,0.280324422367418,"3|1|58|6"]
[10,3,1,58,63,7,544.02,1498.72,0.772265391512253,0.362989751254404,"3|1|58|7"]
[10,3,1,58,63,8,544.02,1029.56,0.686959538806448,0.528400481759198,"3|1|58|8"]
[10,3,1,58,63,9,544.02,530.88,0.515637748164264,1.0247513562387,"3|1|58|9"]
[10,3,1,58,63,10,544.02,0,0,0,"3|1|58|10"]
[10,3,1,59,64,1,542.77,655.4,0,0.828150747635032,"3|1|59|1"]
[10,3,1,59,64,2,542.77,1621.28,2.47372596887397,0.334778693378072,"3|1|59|2"]
[10,3,1,59,64,3,542.77,2705.68,1.66885423862627,0.200603914727536,"3|1|59|3"]
[10,3,1,59,64,4,542.77,2853.65,1.05468865497768,0.190202021971861,"3|1|59|4"]
[10,3,1,59,64,5,542.77,2410.32,0.844644577996601,0.225185867436689,"3|1|59|5"]
[10,3,1,59,64,6,542.77,1940.45,0.805059079292376,0.279713468525342,"3|1|59|6"]
[10,3,1,59,64,7,542.77,1499.19,0.772599139374887,0.362042169438163,"3|1|59|7"]
[10,3,1,59,64,8,542.77,1030.39,0.687297807482707,0.526761711584934,"3|1|59|8"]
[10,3,1,59,64,9,542.77,531.6,0.51592115606712,1.02101203912716,"3|1|59|9"]
[10,3,1,59,64,10,542.77,0,0,0,"3|1|59|10"]
[10,3,1,60,65,1,541.35,655.43,0,0.825946325313153,"3|1|60|1"]
[10,3,1,60,65,2,541.35,1621.36,2.47373480005493,0.333886367000543,"3|1|60|2"]
[10,3,1,60,65,3,541.35,2705.81,1.6688520748014,0.200069480118708,"3|1|60|3"]
[10,3,1,60,65,4,541.35,2853.71,1.05466015721725,0.18970042506071,"3|1|60|4"]
[10,3,1,60,65,5,541.35,2410.34,0.844633827543794,0.224594870433217,"3|1|60|5"]
[10,3,1,60,65,6,541.35,1940.2,0.804948679439415,0.279017627048758,"3|1|60|6"]
[10,3,1,60,65,7,541.35,1499.71,0.772966704463457,0.360969787492249,"3|1|60|7"]
[10,3,1,60,65,8,541.35,1031.3,0.687666282147882,0.5249200038786,"3|1|60|8"]
[10,3,1,60,65,9,541.35,532.39,0.516231940269563,1.01682976765153,"3|1|60|9"]
[10,3,1,60,65,10,541.35,0,0,0,"3|1|60|10"]
[10,3,1,61,66,1,539.73,655.47,0,0.823424413016614,"3|1|61|1"]
[10,3,1,61,66,2,539.73,1621.47,2.47375165911483,0.332864622842236,"3|1|61|2"]
[10,3,1,61,66,3,539.73,2705.97,1.66883753630964,0.199458974046275,"3|1|61|3"]
[10,3,1,61,66,4,539.73,2853.77,1.05461996991837,0.189128766508864,"3|1|61|4"]
[10,3,1,61,66,5,539.73,2410.37,0.844626581679673,0.223919979090347,"3|1|61|5"]
[10,3,1,61,66,6,539.73,1939.9,0.80481419865,0.278225681736172,"3|1|61|6"]
[10,3,1,61,66,7,539.73,1500.27,0.773374916232795,0.35975524405607,"3|1|61|7"]
[10,3,1,61,66,8,539.73,1032.32,0.688089477227432,0.522832067575945,"3|1|61|8"]
[10,3,1,61,66,9,539.73,533.29,0.516593691878487,1.01207598117347,"3|1|61|9"]
[10,3,1,61,66,10,539.73,0,0,0,"3|1|61|10"]
[10,3,1,62,67,1,537.88,655.52,0,0.820539419087137,"3|1|62|1"]
[10,3,1,62,67,2,537.88,1621.59,2.47374603368318,0.331699134799795,"3|1|62|2"]
[10,3,1,62,67,3,537.88,2706.14,1.6688188753014,0.198762813453849,"3|1|62|3"]
[10,3,1,62,67,4,537.88,2853.84,1.05457958568293,0.188475878115101,"3|1|62|4"]
[10,3,1,62,67,5,537.88,2410.4,0.84461637653127,0.223149684699635,"3|1|62|5"]
[10,3,1,62,67,6,537.88,1939.55,0.804658977763027,0.277322059240545,"3|1|62|6"]
[10,3,1,62,67,7,537.88,1500.93,0.773854760124771,0.35836448068864,"3|1|62|7"]
[10,3,1,62,67,8,537.88,1033.52,0.688586409759283,0.520435018190262,"3|1|62|8"]
[10,3,1,62,67,9,537.88,534.39,0.517058208839693,1.00653081083104,"3|1|62|9"]
[10,3,1,62,67,10,537.88,0,0,0,"3|1|62|10"]
[10,3,1,63,68,1,535.7,655.58,0,0.817139021934775,"3|1|63|1"]
[10,3,1,63,68,2,535.7,1621.73,2.47373318283047,0.330326256528522,"3|1|63|2"]
[10,3,1,63,68,3,535.7,2706.34,1.66879813532462,0.197942608837027,"3|1|63|3"]
[10,3,1,63,68,4,535.7,2853.91,1.0545275168678,0.187707390912818,"3|1|63|4"]
[10,3,1,63,68,5,535.7,2410.42,0.84460266791875,0.2222434264568,"3|1|63|5"]
[10,3,1,63,68,6,535.7,1939.14,0.804482206420458,0.276256484833483,"3|1|63|6"]
[10,3,1,63,68,7,535.7,1501.74,0.774436090225564,0.356719538668478,"3|1|63|7"]
[10,3,1,63,68,8,535.7,1035.02,0.689213845272817,0.517574539622423,"3|1|63|8"]
[10,3,1,63,68,9,535.7,535.78,0.517651832814825,0.999850684982642,"3|1|63|9"]
[10,3,1,63,68,10,535.7,0,0,0,"3|1|63|10"]
[10,3,1,64,69,1,533.09,655.64,0,0.813083399426515,"3|1|64|1"]
[10,3,1,64,69,2,533.09,1621.87,2.47372033432981,0.328688489213069,"3|1|64|2"]
[10,3,1,64,69,3,533.09,2706.54,1.6687773989284,0.196963651008298,"3|1|64|3"]
[10,3,1,64,69,4,533.09,2853.96,1.05446806623955,0.186789583596126,"3|1|64|4"]
[10,3,1,64,69,5,533.09,2410.43,0.844591374791518,0.22115971009322,"3|1|64|5"]
[10,3,1,64,69,6,533.09,1938.66,0.804279734321262,0.274978593461463,"3|1|64|6"]
[10,3,1,64,69,7,533.09,1502.78,0.775164288735518,0.354735889484821,"3|1|64|7"]
[10,3,1,64,69,8,533.09,1036.95,0.690021160782017,0.51409421862192,"3|1|64|8"]
[10,3,1,64,69,9,533.09,537.55,0.518395293890737,0.99170309738629,"3|1|64|9"]
[10,3,1,64,69,10,533.09,0,0,0,"3|1|64|10"]
[10,3,1,65,70,1,529.91,655.71,0,0.80814689420628,"3|1|65|1"]
[10,3,1,65,70,2,529.91,1622.02,2.47368501319181,0.326697574629166,"3|1|65|2"]
[10,3,1,65,70,3,529.91,2706.77,1.66876487342943,0.195772082592906,"3|1|65|3"]
[10,3,1,65,70,4,529.91,2854.02,1.05440063248817,0.185671438882699,"3|1|65|4"]
[10,3,1,65,70,5,529.91,2410.42,0.844570115135843,0.219841355448428,"3|1|65|5"]
[10,3,1,65,70,6,529.91,1938.1,0.804050746342961,0.273417264331046,"3|1|65|6"]
[10,3,1,65,70,7,529.91,1504.12,0.776079665651927,0.352305667101029,"3|1|65|7"]
[10,3,1,65,70,8,529.91,1039.39,0.691028641331809,0.509827879814122,"3|1|65|8"]
[10,3,1,65,70,9,529.91,539.79,0.519333455199684,0.981696585709257,"3|1|65|9"]
[10,3,1,65,70,10,529.91,0,0,0,"3|1|65|10"]
[10,5,1,0,5,1,882.6,570.9,0,1.54598003152916,"5|1|0|1"]
[10,5,1,0,5,2,882.6,1486,2.60290768961289,0.593943472409152,"5|1|0|2"]
[10,5,1,0,5,3,882.6,2517.75,1.6943135935397,0.35055108728031,"5|1|0|3"]
[10,5,1,0,5,4,882.6,3647.37,1.44866249627644,0.241982579228321,"5|1|0|4"]
[10,5,1,0,5,5,882.6,3881.44,1.06417500829365,0.227389834700524,"5|1|0|5"]
[10,5,1,0,5,6,882.6,3094.78,0.797327795869574,0.285189900412953,"5|1|0|6"]
[10,5,1,0,5,7,882.6,2382.17,0.769738075081266,0.370502525008711,"5|1|0|7"]
[10,5,1,0,5,8,882.6,1630.3,0.684376010108431,0.541372753480954,"5|1|0|8"]
[10,5,1,0,5,9,882.6,837.01,0.513408575108876,1.05446768855808,"5|1|0|9"]
[10,5,1,0,5,10,882.6,0,0,0,"5|1|0|10"]
[10,5,1,1,6,1,882.64,570.94,0,1.54594178022209,"5|1|1|1"]
[10,5,1,1,6,2,882.64,1486.07,2.60284793498441,0.593942411864852,"5|1|1|2"]
[10,5,1,1,6,3,882.64,2517.84,1.69429434683427,0.350554443491246,"5|1|1|3"]
[10,5,1,1,6,4,882.64,3647.47,1.44865043052775,0.241986911475626,"5|1|1|4"]
[10,5,1,1,6,5,882.64,3881.53,1.0641705072283,0.227394867487821,"5|1|1|5"]
[10,5,1,1,6,6,882.64,3094.9,0.797340224086894,0.285191767100714,"5|1|1|6"]
[10,5,1,1,6,7,882.64,2382.26,0.769737309767682,0.370505318479091,"5|1|1|7"]
[10,5,1,1,6,8,882.64,1630.37,0.684379538757314,0.541374043928679,"5|1|1|8"]
[10,5,1,1,6,9,882.64,837.04,0.513404932622656,1.05447768326484,"5|1|1|9"]
[10,5,1,1,6,10,882.64,0,0,0,"5|1|1|10"]
[10,5,1,2,7,1,882.67,570.97,0,1.54591309525895,"5|1|2|1"]
[10,5,1,2,7,2,882.67,1486.12,2.60279874599366,0.593942615670336,"5|1|2|2"]
[10,5,1,2,7,3,882.67,2517.9,1.69427771646973,0.350558004686445,"5|1|2|3"]
[10,5,1,2,7,4,882.67,3647.53,1.44863973946543,0.241991155658761,"5|1|2|4"]
[10,5,1,2,7,5,882.67,3881.59,1.06416945165633,0.227399081304311,"5|1|2|5"]
[10,5,1,2,7,6,882.67,3094.97,0.797345932981072,0.285195009967786,"5|1|2|6"]
[10,5,1,2,7,7,882.67,2382.33,0.769742517698071,0.370507024635546,"5|1|2|7"]
[10,5,1,2,7,8,882.67,1630.42,0.68438041749044,0.541375841807632,"5|1|2|8"]
[10,5,1,2,7,9,882.67,837.07,0.5134075882288,1.05447573082299,"5|1|2|9"]
[10,5,1,2,7,10,882.67,0,0,0,"5|1|2|10"]
[10,5,1,3,8,1,882.67,570.99,0,1.54585894674162,"5|1|3|1"]
[10,5,1,3,8,2,882.67,1486.14,2.6027426049493,0.593934622579299,"5|1|3|2"]
[10,5,1,3,8,3,882.67,2517.93,1.69427510194194,0.350553827945972,"5|1|3|3"]
[10,5,1,3,8,4,882.67,3647.56,1.44863439412533,0.241989165359857,"5|1|3|4"]
[10,5,1,3,8,5,882.67,3881.63,1.0641716654421,0.227396737968328,"5|1|3|5"]
[10,5,1,3,8,6,882.67,3095.01,0.79734802132094,0.285191324099114,"5|1|3|6"]
[10,5,1,3,8,7,882.67,2382.37,0.769745493552525,0.370500803821405,"5|1|3|7"]
[10,5,1,3,8,8,882.67,1630.46,0.684385716744251,0.541362560259068,"5|1|3|8"]
[10,5,1,3,8,9,882.67,837.1,0.513413392539529,1.0544379405089,"5|1|3|9"]
[10,5,1,3,8,10,882.67,0,0,0,"5|1|3|10"]
[10,5,1,4,9,1,882.67,571,0,1.54583187390543,"5|1|4|1"]
[10,5,1,4,9,2,882.67,1486.16,2.60273204903678,0.593926629703397,"5|1|4|2"]
[10,5,1,4,9,3,882.67,2517.95,1.69426575873392,0.350551043507615,"5|1|4|3"]
[10,5,1,4,9,4,882.67,3647.58,1.44863083063603,0.241987838512109,"5|1|4|4"]
[10,5,1,4,9,5,882.67,3881.65,1.06417131358325,0.227395566318447,"5|1|4|5"]
[10,5,1,4,9,6,882.67,3095.04,0.797351641698762,0.285188559760132,"5|1|4|6"]
[10,5,1,4,9,7,882.67,2382.4,0.769747725392887,0.370496138347884,"5|1|4|7"]
[10,5,1,4,9,8,882.67,1630.48,0.684385493619879,0.54135591972916,"5|1|4|8"]
[10,5,1,4,9,9,882.67,837.12,0.513419361169717,1.05441274847095,"5|1|4|9"]
[10,5,1,4,9,10,882.67,0,0,0,"5|1|4|10"]
[10,5,1,5,10,1,882.66,571.01,0,1.54578728918933,"5|1|5|1"]
[10,5,1,5,10,2,882.66,1486.17,2.60270398066584,0.593915904640788,"5|1|5|2"]
[10,5,1,5,10,3,882.66,2517.96,1.69426108722421,0.350545679836058,"5|1|5|3"]
[10,5,1,5,10,4,882.66,3647.6,1.44863302038158,0.241983770150236,"5|1|5|4"]
[10,5,1,5,10,5,882.66,3881.67,1.06417096172826,0.227391818469885,"5|1|5|5"]
[10,5,1,5,10,6,882.66,3095.05,0.797350109617768,0.28518440736014,"5|1|5|6"]
[10,5,1,5,10,7,882.66,2382.42,0.769751700295633,0.370488830684766,"5|1|5|7"]
[10,5,1,5,10,8,882.66,1630.51,0.684392340561278,0.541339826189352,"5|1|5|8"]
[10,5,1,5,10,9,882.66,837.13,0.513416047739664,1.05438820732742,"5|1|5|9"]
[10,5,1,5,10,10,882.66,0,0,0,"5|1|5|10"]
[10,5,1,6,11,1,882.65,571.01,0,1.54576977636118,"5|1|6|1"]
[10,5,1,6,11,2,882.65,1486.18,2.60272149349398,0.59390517972251,"5|1|6|2"]
[10,5,1,6,11,3,882.65,2517.97,1.69425641577736,0.350540316207103,"5|1|6|3"]
[10,5,1,6,11,4,882.65,3647.61,1.44863123865654,0.241980365225449,"5|1|6|4"]
[10,5,1,6,11,5,882.65,3881.68,1.06417078580221,0.227388656458028,"5|1|6|5"]
[10,5,1,6,11,6,882.65,3095.06,0.79735063168525,0.285180254986979,"5|1|6|6"]
[10,5,1,6,11,7,882.65,2382.44,0.769755675172695,0.370481523144339,"5|1|6|7"]
[10,5,1,6,11,8,882.65,1630.53,0.684394990010242,0.541327053166762,"5|1|6|8"]
[10,5,1,6,11,9,882.65,837.15,0.513422016154257,1.05435107208983,"5|1|6|9"]
[10,5,1,6,11,10,882.65,0,0,0,"5|1|6|10"]
[10,5,1,7,12,1,882.63,571.01,0,1.54573475070489,"5|1|7|1"]
[10,5,1,7,12,2,882.63,1486.18,2.60272149349398,0.593891722402401,"5|1|7|2"]
[10,5,1,7,12,3,882.63,2517.98,1.69426314443742,0.350530981183329,"5|1|7|3"]
[10,5,1,7,12,4,882.63,3647.62,1.44862945694565,0.241974218805687,"5|1|7|4"]
[10,5,1,7,12,5,882.63,3881.68,1.06416786836348,0.227383504049793,"5|1|7|5"]
[10,5,1,7,12,6,882.63,3095.06,0.79735063168525,0.285173793076709,"5|1|7|6"]
[10,5,1,7,12,7,882.63,2382.45,0.769758906127829,0.370471573380344,"5|1|7|7"]
[10,5,1,7,12,8,882.63,1630.54,0.684396314718042,0.541311467366639,"5|1|7|8"]
[10,5,1,7,12,9,882.63,837.16,0.513425000306647,1.05431458741459,"5|1|7|9"]
[10,5,1,7,12,10,882.63,0,0,0,"5|1|7|10"]
[10,5,1,8,13,1,882.61,571.02,0,1.545672655949,"5|1|8|1"]
[10,5,1,8,13,2,882.61,1486.19,2.60269342579945,0.593874269104219,"5|1|8|2"]
[10,5,1,8,13,3,882.61,2517.99,1.69425847300816,0.350521646233702,"5|1|8|3"]
[10,5,1,8,13,4,882.61,3647.62,1.44862370382726,0.241968735778398,"5|1|8|4"]
[10,5,1,8,13,5,882.61,3881.69,1.06417060987713,0.227377765870021,"5|1|8|5"]
[10,5,1,8,13,6,882.61,3095.06,0.797348577552561,0.285167331166439,"5|1|8|6"]
[10,5,1,8,13,7,882.61,2382.46,0.769762137082964,0.370461623699873,"5|1|8|7"]
[10,5,1,8,13,8,882.61,1630.55,0.684397639414723,0.541295881757689,"5|1|8|8"]
[10,5,1,8,13,9,882.61,837.16,0.513421851522492,1.05429069711883,"5|1|8|9"]
[10,5,1,8,13,10,882.61,0,0,0,"5|1|8|10"]
[10,5,1,9,14,1,882.58,571.02,0,1.54562011838465,"5|1|9|1"]
[10,5,1,9,14,2,882.58,1486.19,2.60269342579945,0.593854083259879,"5|1|9|2"]
[10,5,1,9,14,3,882.58,2517.99,1.69425847300816,0.350509731968753,"5|1|9|3"]
[10,5,1,9,14,4,882.58,3647.62,1.44862370382726,0.241960511237464,"5|1|9|4"]
[10,5,1,9,14,5,882.58,3881.69,1.06417060987713,0.227370037277578,"5|1|9|5"]
[10,5,1,9,14,6,882.58,3095.06,0.797348577552561,0.285157638301035,"5|1|9|6"]
[10,5,1,9,14,7,882.58,2382.46,0.769762137082964,0.370449031673145,"5|1|9|7"]
[10,5,1,9,14,8,882.58,1630.56,0.684401836756965,0.541274163477578,"5|1|9|8"]
[10,5,1,9,14,9,882.58,837.17,0.51342483563929,1.05424226859539,"5|1|9|9"]
[10,5,1,9,14,10,882.58,0,0,0,"5|1|9|10"]
[10,5,1,10,15,1,882.56,571.02,0,1.54558509334174,"5|1|10|1"]
[10,5,1,10,15,2,882.56,1486.19,2.60269342579945,0.593840626030319,"5|1|10|2"]
[10,5,1,10,15,3,882.56,2517.99,1.69425847300816,0.350501789125453,"5|1|10|3"]
[10,5,1,10,15,4,882.56,3647.62,1.44862370382726,0.241955028210175,"5|1|10|4"]
[10,5,1,10,15,5,882.56,3881.69,1.06417060987713,0.227364884882616,"5|1|10|5"]
[10,5,1,10,15,6,882.56,3095.05,0.79734600135508,0.285152097704399,"5|1|10|6"]
[10,5,1,10,15,7,882.56,2382.47,0.769767855123504,0.370439082129051,"5|1|10|7"]
[10,5,1,10,15,8,882.56,1630.57,0.684403161424908,0.541258578288574,"5|1|10|8"]
[10,5,1,10,15,9,882.56,837.18,0.513427819719485,1.0542057860914,"5|1|10|9"]
[10,5,1,10,15,10,882.56,0,0,0,"5|1|10|10"]
[10,5,1,11,16,1,882.54,571.02,0,1.54555006829883,"5|1|11|1"]
[10,5,1,11,16,2,882.54,1486.19,2.60269342579945,0.593827168800759,"5|1|11|2"]
[10,5,1,11,16,3,882.54,2517.99,1.69425847300816,0.350493846282154,"5|1|11|3"]
[10,5,1,11,16,4,882.54,3647.62,1.44862370382726,0.241949545182886,"5|1|11|4"]
[10,5,1,11,16,5,882.54,3881.69,1.06417060987713,0.227359732487654,"5|1|11|5"]
[10,5,1,11,16,6,882.54,3095.04,0.797343425157599,0.28514655707196,"5|1|11|6"]
[10,5,1,11,16,7,882.54,2382.47,0.769770342224979,0.3704306874798,"5|1|11|7"]
[10,5,1,11,16,8,882.54,1630.58,0.684407358749533,0.541242993290731,"5|1|11|8"]
[10,5,1,11,16,9,882.54,837.19,0.513430803763078,1.05416930445896,"5|1|11|9"]
[10,5,1,11,16,10,882.54,0,0,0,"5|1|11|10"]
[10,5,1,12,17,1,882.51,571.02,0,1.54549753073448,"5|1|12|1"]
[10,5,1,12,17,2,882.51,1486.19,2.60269342579945,0.593806982956419,"5|1|12|2"]
[10,5,1,12,17,3,882.51,2517.99,1.69425847300816,0.350481932017204,"5|1|12|3"]
[10,5,1,12,17,4,882.51,3647.62,1.44862370382726,0.241941320641953,"5|1|12|4"]
[10,5,1,12,17,5,882.51,3881.69,1.06417060987713,0.227352003895211,"5|1|12|5"]
[10,5,1,12,17,6,882.51,3095.03,0.797340848960118,0.285137785417266,"5|1|12|6"]
[10,5,1,12,17,7,882.51,2382.47,0.769772829342526,0.370418095505925,"5|1|12|7"]
[10,5,1,12,17,8,882.51,1630.58,0.684407358749533,0.541224594929412,"5|1|12|8"]
[10,5,1,12,17,9,882.51,837.19,0.513430803763078,1.05413347029945,"5|1|12|9"]
[10,5,1,12,17,10,882.51,0,0,0,"5|1|12|10"]
[10,5,1,13,18,1,882.49,571.02,0,1.54546250569157,"5|1|13|1"]
[10,5,1,13,18,2,882.49,1486.19,2.60269342579945,0.593793525726859,"5|1|13|2"]
[10,5,1,13,18,3,882.49,2517.98,1.69425174439338,0.350475381059421,"5|1|13|3"]
[10,5,1,13,18,4,882.49,3647.62,1.44862945694565,0.241935837614664,"5|1|13|4"]
[10,5,1,13,18,5,882.49,3881.69,1.06417060987713,0.227346851500249,"5|1|13|5"]
[10,5,1,13,18,6,882.49,3095.02,0.797338272762637,0.285132244702781,"5|1|13|6"]
[10,5,1,13,18,7,882.49,2382.47,0.769775316476145,0.370409700856674,"5|1|13|7"]
[10,5,1,13,18,8,882.49,1630.59,0.684411556074158,0.541209010235559,"5|1|13|8"]
[10,5,1,13,18,9,882.49,837.2,0.513433787770071,1.05409698996656,"5|1|13|9"]
[10,5,1,13,18,10,882.49,0,0,0,"5|1|13|10"]
[10,5,1,14,19,1,882.46,571.02,0,1.54540996812721,"5|1|14|1"]
[10,5,1,14,19,2,882.46,1486.19,2.60269342579945,0.593773339882518,"5|1|14|2"]
[10,5,1,14,19,3,882.46,2517.98,1.69425174439338,0.350463466747154,"5|1|14|3"]
[10,5,1,14,19,4,882.46,3647.61,1.44862548550822,0.241928276323401,"5|1|14|4"]
[10,5,1,14,19,5,882.46,3881.68,1.06417078580221,0.22733970857979,"5|1|14|5"]
[10,5,1,14,19,6,882.46,3095.01,0.797337750664661,0.28512347294516,"5|1|14|6"]
[10,5,1,14,19,7,882.46,2382.47,0.769777803625836,0.370397108882798,"5|1|14|7"]
[10,5,1,14,19,8,882.46,1630.59,0.684411556074158,0.541190611987072,"5|1|14|8"]
[10,5,1,14,19,9,882.46,837.2,0.513433787770071,1.05406115623507,"5|1|14|9"]
[10,5,1,14,19,10,882.46,0,0,0,"5|1|14|10"]
[10,5,1,15,20,1,882.44,571.01,0,1.54540200697011,"5|1|15|1"]
[10,5,1,15,20,2,882.44,1486.18,2.60272149349398,0.593763877861363,"5|1|15|2"]
[10,5,1,15,20,3,882.44,2517.98,1.69426314443742,0.35045552387231,"5|1|15|3"]
[10,5,1,15,20,4,882.44,3647.61,1.44862548550822,0.24192279328108,"5|1|15|4"]
[10,5,1,15,20,5,882.44,3881.68,1.06417078580221,0.227334556171555,"5|1|15|5"]
[10,5,1,15,20,6,882.44,3095,0.797335174460543,0.285117932148627,"5|1|15|6"]
[10,5,1,15,20,7,882.44,2382.47,0.769780290791599,0.370388714233548,"5|1|15|7"]
[10,5,1,15,20,8,882.44,1630.6,0.684415753398784,0.541175027597204,"5|1|15|8"]
[10,5,1,15,20,9,882.44,837.21,0.513436771740464,1.05402467720166,"5|1|15|9"]
[10,5,1,15,20,10,882.44,0,0,0,"5|1|15|10"]
[10,5,1,16,21,1,882.41,571.01,0,1.54534946848567,"5|1|16|1"]
[10,5,1,16,21,2,882.41,1486.18,2.60272149349398,0.593743691881199,"5|1|16|2"]
[10,5,1,16,21,3,882.41,2517.97,1.69425641577736,0.350445001330437,"5|1|16|3"]
[10,5,1,16,21,4,882.41,3647.6,1.44862726720334,0.241915231933326,"5|1|16|4"]
[10,5,1,16,21,5,882.41,3881.67,1.06417096172826,0.227327413201019,"5|1|16|5"]
[10,5,1,16,21,6,882.41,3094.99,0.79733465235324,0.285109160288078,"5|1|16|6"]
[10,5,1,16,21,7,882.41,2382.47,0.769782777973435,0.370376122259672,"5|1|16|7"]
[10,5,1,16,21,8,882.41,1630.6,0.684415753398784,0.541156629461548,"5|1|16|8"]
[10,5,1,16,21,9,882.41,837.22,0.513442904452349,1.05397625474786,"5|1|16|9"]
[10,5,1,16,21,10,882.41,0,0,0,"5|1|16|10"]
[10,5,1,17,22,1,882.39,571.01,0,1.54531444282937,"5|1|17|1"]
[10,5,1,17,22,2,882.39,1486.18,2.60272149349398,0.593730234561089,"5|1|17|2"]
[10,5,1,17,22,3,882.39,2517.97,1.69425641577736,0.350437058424048,"5|1|17|3"]
[10,5,1,17,22,4,882.39,3647.6,1.44862726720334,0.241909748875973,"5|1|17|4"]
[10,5,1,17,22,5,882.39,3881.67,1.06417096172826,0.22732226077951,"5|1|17|5"]
[10,5,1,17,22,6,882.39,3094.97,0.79732949993173,0.285104540593285,"5|1|17|6"]
[10,5,1,17,22,7,882.39,2382.47,0.769787752385322,0.370367727610421,"5|1|17|7"]
[10,5,1,17,22,8,882.39,1630.61,0.684419950723409,0.541141045375657,"5|1|17|8"]
[10,5,1,17,22,9,882.39,837.22,0.513439755674257,1.05395236616421,"5|1|17|9"]
[10,5,1,17,22,10,882.39,0,0,0,"5|1|17|10"]
[10,5,1,18,23,1,882.36,571.01,0,1.54526190434493,"5|1|18|1"]
[10,5,1,18,23,2,882.36,1486.18,2.60272149349398,0.593710048580926,"5|1|18|2"]
[10,5,1,18,23,3,882.36,2517.97,1.69425641577736,0.350425144064465,"5|1|18|3"]
[10,5,1,18,23,4,882.36,3647.6,1.44862726720334,0.241901524289944,"5|1|18|4"]
[10,5,1,18,23,5,882.36,3881.66,1.06416822019958,0.227315117758897,"5|1|18|5"]
[10,5,1,18,23,6,882.36,3094.96,0.797328977808463,0.285095768604441,"5|1|18|6"]
[10,5,1,18,23,7,882.36,2382.47,0.769790239615375,0.370355135636545,"5|1|18|7"]
[10,5,1,18,23,8,882.36,1630.62,0.684424148048034,0.541119328844243,"5|1|18|8"]
[10,5,1,18,23,9,882.36,837.23,0.513442739571451,1.05390394515247,"5|1|18|9"]
[10,5,1,18,23,10,882.36,0,0,0,"5|1|18|10"]
[10,5,1,19,24,1,882.33,571.01,0,1.54520936586049,"5|1|19|1"]
[10,5,1,19,24,2,882.33,1486.17,2.60270398066584,0.593693857364904,"5|1|19|2"]
[10,5,1,19,24,3,882.33,2517.96,1.69426108722421,0.350414621360149,"5|1|19|3"]
[10,5,1,19,24,4,882.33,3647.59,1.44862904891261,0.241893962863151,"5|1|19|4"]
[10,5,1,19,24,5,882.33,3881.66,1.06417113765527,0.227307389106722,"5|1|19|5"]
[10,5,1,19,24,6,882.33,3094.95,0.797326401591072,0.285086996558911,"5|1|19|6"]
[10,5,1,19,24,7,882.33,2382.47,0.7697927268615,0.370342543662669,"5|1|19|7"]
[10,5,1,19,24,8,882.33,1630.63,0.68442834537266,0.541097612579187,"5|1|19|8"]
[10,5,1,19,24,9,882.33,837.24,0.513445723432048,1.05385552529741,"5|1|19|9"]
[10,5,1,19,24,10,882.33,0,0,0,"5|1|19|10"]
[10,5,1,20,25,1,882.3,571.01,0,1.54515682737605,"5|1|20|1"]
[10,5,1,20,25,2,882.3,1486.17,2.60270398066584,0.593673671248915,"5|1|20|2"]
[10,5,1,20,25,3,882.3,2517.96,1.69426108722421,0.350402706953248,"5|1|20|3"]
[10,5,1,20,25,4,882.3,3647.59,1.44862904891261,0.241885738254574,"5|1|20|4"]
[10,5,1,20,25,5,882.3,3881.65,1.06416839611908,0.227300246029395,"5|1|20|5"]
[10,5,1,20,25,6,882.3,3094.94,0.797325879458478,0.285078224456694,"5|1|20|6"]
[10,5,1,20,25,7,882.3,2382.47,0.769795214123699,0.370329951688794,"5|1|20|7"]
[10,5,1,20,25,8,882.3,1630.64,0.684432542697285,0.541075896580484,"5|1|20|8"]
[10,5,1,20,25,9,882.3,837.25,0.513448707256047,1.05380710659898,"5|1|20|9"]
[10,5,1,20,25,10,882.3,0,0,0,"5|1|20|10"]
[10,5,1,21,26,1,882.27,571.01,0,1.54510428889161,"5|1|21|1"]
[10,5,1,21,26,2,882.27,1486.17,2.60270398066584,0.593653485132925,"5|1|21|2"]
[10,5,1,21,26,3,882.27,2517.96,1.69426108722421,0.350390792546347,"5|1|21|3"]
[10,5,1,21,26,4,882.27,3647.58,1.44862507744364,0.241878176763772,"5|1|21|4"]
[10,5,1,21,26,5,882.27,3881.65,1.06417131358325,0.227292517357309,"5|1|21|5"]
[10,5,1,21,26,6,882.27,3094.92,0.797320727010421,0.285070373386065,"5|1|21|6"]
[10,5,1,21,26,7,882.27,2382.47,0.769800188696315,0.370317359714918,"5|1|21|7"]
[10,5,1,21,26,8,882.27,1630.65,0.68443674002191,0.541054180848128,"5|1|21|8"]
[10,5,1,21,26,9,882.27,837.27,0.513457823567289,1.0537461034075,"5|1|21|9"]
[10,5,1,21,26,10,882.27,0,0,0,"5|1|21|10"]
[10,5,1,22,27,1,882.23,571.01,0,1.54503423757903,"5|1|22|1"]
[10,5,1,22,27,2,882.23,1486.17,2.60270398066584,0.593626570311606,"5|1|22|2"]
[10,5,1,22,27,3,882.23,2517.95,1.69425435851888,0.350376298179074,"5|1|22|3"]
[10,5,1,22,27,4,882.23,3647.58,1.44863083063603,0.241867210588938,"5|1|22|4"]
[10,5,1,22,27,5,882.23,3881.65,1.06417131358325,0.227282212461196,"5|1|22|5"]
[10,5,1,22,27,6,882.23,3094.91,0.797318150786392,0.285058370033377,"5|1|22|6"]
[10,5,1,22,27,7,882.23,2382.48,0.769805907118462,0.370299016151237,"5|1|22|7"]
[10,5,1,22,27,8,882.23,1630.67,0.6844422618448,0.541023015079691,"5|1|22|8"]
[10,5,1,22,27,9,882.23,837.29,0.513463790957091,1.05367315983709,"5|1|22|9"]
[10,5,1,22,27,10,882.23,0,0,0,"5|1|22|10"]
[10,5,1,23,28,1,882.18,571,0,1.54497373029772,"5|1|23|1"]
[10,5,1,23,28,2,882.18,1486.16,2.60273204903678,0.593596920923723,"5|1|23|2"]
[10,5,1,23,28,3,882.18,2517.95,1.69426575873392,0.350356440755376,"5|1|23|3"]
[10,5,1,23,28,4,882.18,3647.57,1.44862685915129,0.241854165924163,"5|1|23|4"]
[10,5,1,23,28,5,882.18,3881.64,1.0641714895122,0.227269916839274,"5|1|23|5"]
[10,5,1,23,28,6,882.18,3094.9,0.797317628631197,0.285043135480953,"5|1|23|6"]
[10,5,1,23,28,7,882.18,2382.49,0.769811625577563,0.370276475452153,"5|1|23|7"]
[10,5,1,23,28,8,882.18,1630.7,0.684451980910728,0.540982400196235,"5|1|23|8"]
[10,5,1,23,28,9,882.18,837.31,0.513466609431532,1.05358827674338,"5|1|23|9"]
[10,5,1,23,28,10,882.18,0,0,0,"5|1|23|10"]
[10,5,1,24,29,1,882.13,571,0,1.54488616462347,"5|1|24|1"]
[10,5,1,24,29,2,882.13,1486.16,2.60273204903678,0.593563277170695,"5|1|24|2"]
[10,5,1,24,29,3,882.13,2517.95,1.69426575873392,0.350336583331679,"5|1|24|3"]
[10,5,1,24,29,4,882.13,3647.57,1.44862685915129,0.241840458168041,"5|1|24|4"]
[10,5,1,24,29,5,882.13,3881.64,1.0641714895122,0.227257035685947,"5|1|24|5"]
[10,5,1,24,29,6,882.13,3094.88,0.797312476169866,0.285028821795999,"5|1|24|6"]
[10,5,1,24,29,7,882.13,2382.51,0.769823062606628,0.37025238089242,"5|1|24|7"]
[10,5,1,24,29,8,882.13,1630.73,0.684458827035353,0.540941786807135,"5|1|24|8"]
[10,5,1,24,29,9,882.13,837.34,0.513475560025265,1.05349081615592,"5|1|24|9"]
[10,5,1,24,29,10,882.13,0,0,0,"5|1|24|10"]
[10,5,1,25,30,1,882.07,571,0,1.54478108581436,"5|1|25|1"]
[10,5,1,25,30,2,882.07,1486.16,2.60273204903678,0.593522904667061,"5|1|25|2"]
[10,5,1,25,30,3,882.07,2517.94,1.69425902998331,0.350314145690525,"5|1|25|3"]
[10,5,1,25,30,4,882.07,3647.57,1.44863261237361,0.241824008860694,"5|1|25|4"]
[10,5,1,25,30,5,882.07,3881.64,1.0641714895122,0.227241578301955,"5|1|25|5"]
[10,5,1,25,30,6,882.07,3094.87,0.797309899939201,0.285010355846934,"5|1|25|6"]
[10,5,1,25,30,7,882.07,2382.53,0.769832012330082,0.370224089518285,"5|1|25|7"]
[10,5,1,25,30,8,882.07,1630.77,0.684469870263963,0.540891725994469,"5|1|25|8"]
[10,5,1,25,30,9,882.07,837.37,0.513481361565395,1.05338142039958,"5|1|25|9"]
[10,5,1,25,30,10,882.07,0,0,0,"5|1|25|10"]
[10,5,1,26,31,1,882,571,0,1.5446584938704,"5|1|26|1"]
[10,5,1,26,31,2,882,1486.16,2.60273204903678,0.593475803412822,"5|1|26|2"]
[10,5,1,26,31,3,882,2517.94,1.69425902998331,0.350286345186939,"5|1|26|3"]
[10,5,1,26,31,4,882,3647.56,1.44862864087309,0.241805480924234,"5|1|26|4"]
[10,5,1,26,31,5,882,3881.63,1.0641716654421,0.227224130069069,"5|1|26|5"]
[10,5,1,26,31,6,882,3094.85,0.797306801524102,0.284989579462656,"5|1|26|6"]
[10,5,1,26,31,7,882,2382.55,0.769843449601758,0.370191601435437,"5|1|26|7"]
[10,5,1,26,31,8,882,1630.81,0.684480913307171,0.540835535715381,"5|1|26|8"]
[10,5,1,26,31,9,882,837.41,0.513493294743103,1.05324751316559,"5|1|26|9"]
[10,5,1,26,31,10,882,0,0,0,"5|1|26|10"]
[10,5,1,27,32,1,881.92,571,0,1.54451838879159,"5|1|27|1"]
[10,5,1,27,32,2,881.92,1486.16,2.60273204903678,0.593421973407978,"5|1|27|2"]
[10,5,1,27,32,3,881.92,2517.94,1.69425902998331,0.35025457318284,"5|1|27|3"]
[10,5,1,27,32,4,881.92,3647.56,1.44862864087309,0.241783548454309,"5|1|27|4"]
[10,5,1,27,32,5,881.92,3881.63,1.0641716654421,0.22720352017065,"5|1|27|5"]
[10,5,1,27,32,6,881.92,3094.83,0.797301649049497,0.284965571614596,"5|1|27|6"]
[10,5,1,27,32,7,881.92,2382.57,0.769854887021258,0.37015491674956,"5|1|27|7"]
[10,5,1,27,32,8,881.92,1630.86,0.684496153313439,0.540769900543272,"5|1|27|8"]
[10,5,1,27,32,9,881.92,837.46,0.513508210392063,1.05308910276312,"5|1|27|9"]
[10,5,1,27,32,10,881.92,0,0,0,"5|1|27|10"]
[10,5,1,28,33,1,881.82,571,0,1.54434325744308,"5|1|28|1"]
[10,5,1,28,33,2,881.82,1486.16,2.60273204903678,0.593354685901922,"5|1|28|2"]
[10,5,1,28,33,3,881.82,2517.94,1.69425902998331,0.350214858177717,"5|1|28|3"]
[10,5,1,28,33,4,881.82,3647.56,1.44862864087309,0.241756132866903,"5|1|28|4"]
[10,5,1,28,33,5,881.82,3881.63,1.0641716654421,0.227177757797626,"5|1|28|5"]
[10,5,1,28,33,6,881.82,3094.81,0.797296496574892,0.284935101023972,"5|1|28|6"]
[10,5,1,28,33,7,881.82,2382.6,0.769869555804718,0.370108285066734,"5|1|28|7"]
[10,5,1,28,33,8,881.82,1630.92,0.684512717199698,0.540688691045545,"5|1|28|8"]
[10,5,1,28,33,9,881.82,837.51,0.513519976455007,1.05290683096321,"5|1|28|9"]
[10,5,1,28,33,10,881.82,0,0,0,"5|1|28|10"]
[10,5,1,29,34,1,881.71,571,0,1.54415061295972,"5|1|29|1"]
[10,5,1,29,34,2,881.71,1486.16,2.60273204903678,0.59328066964526,"5|1|29|2"]
[10,5,1,29,34,3,881.71,2517.94,1.69425902998331,0.350171171672081,"5|1|29|3"]
[10,5,1,29,34,4,881.71,3647.56,1.44862864087309,0.241725975720756,"5|1|29|4"]
[10,5,1,29,34,5,881.71,3881.63,1.0641716654421,0.2271494191873,"5|1|29|5"]
[10,5,1,29,34,6,881.71,3094.78,0.797288767862985,0.284902319389423,"5|1|29|6"]
[10,5,1,29,34,7,881.71,2382.63,0.769886712464214,0.370057457515435,"5|1|29|7"]
[10,5,1,29,34,8,881.71,1630.98,0.684529280668841,0.540601356239807,"5|1|29|8"]
[10,5,1,29,34,9,881.71,837.56,0.513531741652258,1.0527126414824,"5|1|29|9"]
[10,5,1,29,34,10,881.71,0,0,0,"5|1|29|10"]
[10,5,1,30,35,1,881.59,571,0,1.54394045534151,"5|1|30|1"]
[10,5,1,30,35,2,881.59,1486.15,2.60271453590193,0.593203916159203,"5|1|30|2"]
[10,5,1,30,35,3,881.59,2517.93,1.69426370151061,0.35012490418717,"5|1|30|3"]
[10,5,1,30,35,4,881.59,3647.55,1.44863042260905,0.241693739633453,"5|1|30|4"]
[10,5,1,30,35,5,881.59,3881.62,1.06417184137298,0.227119089452342,"5|1|30|5"]
[10,5,1,30,35,6,881.59,3094.75,0.797283093141523,0.284866305840536,"5|1|30|6"]
[10,5,1,30,35,7,881.59,2382.67,0.769907100735116,0.370000881364184,"5|1|30|7"]
[10,5,1,30,35,8,881.59,1631.05,0.684547167673241,0.540504582937372,"5|1|30|8"]
[10,5,1,30,35,9,881.59,837.62,0.513546488458355,1.05249397101311,"5|1|30|9"]
[10,5,1,30,35,10,881.59,0,0,0,"5|1|30|10"]
[10,5,1,31,36,1,881.45,571,0,1.54369527145359,"5|1|31|1"]
[10,5,1,31,36,2,881.45,1486.15,2.60271453590193,0.593109713016856,"5|1|31|2"]
[10,5,1,31,36,3,881.45,2517.93,1.69426370151061,0.350069302959177,"5|1|31|3"]
[10,5,1,31,36,4,881.45,3647.55,1.44863042260905,0.241655357705857,"5|1|31|4"]
[10,5,1,31,36,5,881.45,3881.62,1.06417184137298,0.227083022037191,"5|1|31|5"]
[10,5,1,31,36,6,881.45,3094.72,0.797275364409705,0.284823828973219,"5|1|31|6"]
[10,5,1,31,36,7,881.45,2382.7,0.7699242580912,0.369937465900029,"5|1|31|7"]
[10,5,1,31,36,8,881.45,1631.12,0.684567927141478,0.540395556427485,"5|1|31|8"]
[10,5,1,31,36,9,881.45,837.69,0.513567364755505,1.05223889505664,"5|1|31|9"]
[10,5,1,31,36,10,881.45,0,0,0,"5|1|31|10"]
[10,5,1,32,37,1,881.3,571,0,1.54343257443082,"5|1|32|1"]
[10,5,1,32,37,2,881.3,1486.15,2.60271453590193,0.593008781078626,"5|1|32|2"]
[10,5,1,32,37,3,881.3,2517.93,1.69426370151061,0.350009730214899,"5|1|32|3"]
[10,5,1,32,37,4,881.3,3647.54,1.44862645109276,0.241614896615253,"5|1|32|4"]
[10,5,1,32,37,5,881.3,3881.61,1.06417201730481,0.227044963301311,"5|1|32|5"]
[10,5,1,32,37,6,881.3,3094.67,0.79726453713794,0.284779960383498,"5|1|32|6"]
[10,5,1,32,37,7,881.3,2382.74,0.769949623061586,0.369868302878199,"5|1|32|7"]
[10,5,1,32,37,8,881.3,1631.19,0.684585812971621,0.540280408781319,"5|1|32|8"]
[10,5,1,32,37,9,881.3,837.76,0.513588239260908,1.05197192513369,"5|1|32|9"]
[10,5,1,32,37,10,881.3,0,0,0,"5|1|32|10"]
[10,5,1,33,38,1,881.13,571,0,1.54313485113835,"5|1|33|1"]
[10,5,1,33,38,2,881.13,1486.15,2.60271453590193,0.592894391548632,"5|1|33|2"]
[10,5,1,33,38,3,881.13,2517.92,1.69425697271473,0.349943604244773,"5|1|33|3"]
[10,5,1,33,38,4,881.13,3647.53,1.4486282328271,0.241568952140215,"5|1|33|4"]
[10,5,1,33,38,5,881.13,3881.61,1.0641749348189,0.227001167041511,"5|1|33|5"]
[10,5,1,33,38,6,881.13,3094.63,0.797254232135634,0.284728707470683,"5|1|33|6"]
[10,5,1,33,38,7,881.13,2382.77,0.769969269347224,0.369792300557754,"5|1|33|7"]
[10,5,1,33,38,8,881.13,1631.27,0.684610768139602,0.540149699314031,"5|1|33|8"]
[10,5,1,33,38,9,881.13,837.83,0.513605963451789,1.05168112862991,"5|1|33|9"]
[10,5,1,33,38,10,881.13,0,0,0,"5|1|33|10"]
[10,5,1,34,39,1,880.95,570.99,0,1.5428466347922,"5|1|34|1"]
[10,5,1,34,39,2,880.95,1486.15,2.60276011839086,0.592773273222757,"5|1|34|2"]
[10,5,1,34,39,3,880.95,2517.92,1.69425697271473,0.349872116667726,"5|1|34|3"]
[10,5,1,34,39,4,880.95,3647.53,1.4486282328271,0.241519603677009,"5|1|34|4"]
[10,5,1,34,39,5,880.95,3881.6,1.06417219323762,0.226955379225062,"5|1|34|5"]
[10,5,1,34,39,6,880.95,3094.57,0.79724082852432,0.284676061617608,"5|1|34|6"]
[10,5,1,34,39,7,880.95,2382.81,0.76999712399461,0.369710551827464,"5|1|34|7"]
[10,5,1,34,39,8,880.95,1631.36,0.684637046176573,0.540009562573558,"5|1|34|8"]
[10,5,1,34,39,9,880.95,837.9,0.513620537465673,1.05137844611529,"5|1|34|9"]
[10,5,1,34,39,10,880.95,0,0,0,"5|1|34|10"]
[10,5,1,35,40,1,880.75,570.99,0,1.54249636596088,"5|1|35|1"]
[10,5,1,35,40,2,880.75,1486.14,2.6027426049493,0.592642685076776,"5|1|35|2"]
[10,5,1,35,40,3,880.75,2517.91,1.69426164425963,0.349794075244945,"5|1|35|3"]
[10,5,1,35,40,4,880.75,3647.51,1.44862604302775,0.241466096049086,"5|1|35|4"]
[10,5,1,35,40,5,880.75,3881.59,1.06417528670244,0.226904438644988,"5|1|35|5"]
[10,5,1,35,40,6,880.75,3094.51,0.797227424843943,0.284616950664241,"5|1|35|6"]
[10,5,1,35,40,7,880.75,2382.85,0.770024979722153,0.369620412531213,"5|1|35|7"]
[10,5,1,35,40,8,880.75,1631.45,0.684663323331305,0.539857182261179,"5|1|35|8"]
[10,5,1,35,40,9,880.75,837.99,0.513647368904962,1.05102686189573,"5|1|35|9"]
[10,5,1,35,40,10,880.75,0,0,0,"5|1|35|10"]
[10,5,1,36,41,1,880.53,570.99,0,1.54211107024641,"5|1|36|1"]
[10,5,1,36,41,2,880.53,1486.13,2.60272509150773,0.592498637400497,"5|1|36|2"]
[10,5,1,36,41,3,880.53,2517.9,1.69426631586739,0.349708090075063,"5|1|36|3"]
[10,5,1,36,41,4,880.53,3647.5,1.44862782477461,0.24140644276902,"5|1|36|4"]
[10,5,1,36,41,5,880.53,3881.57,1.06417272104181,0.226848929685668,"5|1|36|5"]
[10,5,1,36,41,6,880.53,3094.44,0.797213498661624,0.284552293791445,"5|1|36|6"]
[10,5,1,36,41,7,880.53,2382.89,0.770055325034578,0.36952188309154,"5|1|36|7"]
[10,5,1,36,41,8,880.53,1631.54,0.684689599603842,0.539692560403055,"5|1|36|8"]
[10,5,1,36,41,9,880.53,838.08,0.513674197384067,1.05065148911798,"5|1|36|9"]
[10,5,1,36,41,10,880.53,0,0,0,"5|1|36|10"]
[10,5,1,37,42,1,880.29,570.98,0,1.54171774843252,"5|1|37|1"]
[10,5,1,37,42,2,880.29,1486.13,2.60277067497986,0.592337144126019,"5|1|37|2"]
[10,5,1,37,42,3,880.29,2517.88,1.69425285809451,0.349615549589337,"5|1|37|3"]
[10,5,1,37,42,4,880.29,3647.48,1.4486313883108,0.241341967605031,"5|1|37|4"]
[10,5,1,37,42,5,880.29,3881.56,1.06417581453497,0.22678768330259,"5|1|37|5"]
[10,5,1,37,42,6,880.29,3094.36,0.797194942239718,0.284482089995993,"5|1|37|6"]
[10,5,1,37,42,7,880.29,2382.92,0.770084928709006,0.369416514192671,"5|1|37|7"]
[10,5,1,37,42,8,880.29,1631.64,0.684722944958286,0.539512392439509,"5|1|37|8"]
[10,5,1,37,42,9,880.29,838.17,0.513697874531147,1.05025233544508,"5|1|37|9"]
[10,5,1,37,42,10,880.29,0,0,0,"5|1|37|10"]
[10,5,1,38,43,1,880.03,570.98,0,1.54126239097692,"5|1|38|1"]
[10,5,1,38,43,2,880.03,1486.12,2.60275316123157,0.592166177697629,"5|1|38|2"]
[10,5,1,38,43,3,880.03,2517.87,1.69425752967459,0.349513676242221,"5|1|38|3"]
[10,5,1,38,43,4,880.03,3647.46,1.4486291984892,0.241272008466165,"5|1|38|4"]
[10,5,1,38,43,5,880.03,3881.54,1.06417616642814,0.226721868124507,"5|1|38|5"]
[10,5,1,38,43,6,880.03,3094.28,0.797178439485359,0.284405419031245,"5|1|38|6"]
[10,5,1,38,43,7,880.03,2382.96,0.770117765683778,0.369301205223755,"5|1|38|7"]
[10,5,1,38,43,8,880.03,1631.75,0.68475761238124,0.539316684541137,"5|1|38|8"]
[10,5,1,38,43,9,880.03,838.27,0.513724528880037,1.0498168847746,"5|1|38|9"]
[10,5,1,38,43,10,880.03,0,0,0,"5|1|38|10"]
[10,5,1,39,44,1,879.75,570.97,0,1.54079899119043,"5|1|39|1"]
[10,5,1,39,44,2,879.75,1486.11,2.60278123193863,0.591981751014393,"5|1|39|2"]
[10,5,1,39,44,3,879.75,2517.85,1.69425547234054,0.349405246539707,"5|1|39|3"]
[10,5,1,39,44,4,879.75,3647.44,1.44863276207876,0.241196565262211,"5|1|39|4"]
[10,5,1,39,44,5,879.75,3881.51,1.06417377667624,0.226651483572115,"5|1|39|5"]
[10,5,1,39,44,6,879.75,3094.18,0.797158837668845,0.28432411818317,"5|1|39|6"]
[10,5,1,39,44,7,879.75,2383,0.77015558241602,0.369177507343684,"5|1|39|7"]
[10,5,1,39,44,8,879.75,1631.86,0.684792278640369,0.539108747073891,"5|1|39|8"]
[10,5,1,39,44,9,879.75,838.38,0.513757307612173,1.04934516567666,"5|1|39|9"]
[10,5,1,39,44,10,879.75,0,0,0,"5|1|39|10"]
[10,5,1,40,45,1,879.45,570.97,0,1.54027356953956,"5|1|40|1"]
[10,5,1,40,45,2,879.45,1486.09,2.60274620382857,0.591787845958186,"5|1|40|2"]
[10,5,1,40,45,3,879.45,2517.83,1.69426481572449,0.349288871766561,"5|1|40|3"]
[10,5,1,40,45,4,879.45,3647.41,1.44863235405091,0.241116298962826,"5|1|40|4"]
[10,5,1,40,45,5,879.45,3881.49,1.06417704617797,0.226575361523539,"5|1|40|5"]
[10,5,1,40,45,6,879.45,3094.08,0.797137181855421,0.284236348122867,"5|1|40|6"]
[10,5,1,40,45,7,879.45,2383.05,0.770196633571207,0.369043872348461,"5|1|40|7"]
[10,5,1,40,45,8,879.45,1631.99,0.684832462600449,0.538881978443495,"5|1|40|8"]
[10,5,1,40,45,9,879.45,838.49,0.513783785439862,1.04884971794535,"5|1|40|9"]
[10,5,1,40,45,10,879.45,0,0,0,"5|1|40|10"]
[10,5,1,41,46,1,879.13,570.96,0,1.53974008687123,"5|1|41|1"]
[10,5,1,41,46,2,879.13,1486.08,2.60277427490542,0.591576496554694,"5|1|41|2"]
[10,5,1,41,46,3,879.13,2517.81,1.69426275839793,0.349164551733451,"5|1|41|3"]
[10,5,1,41,46,4,879.13,3647.39,1.44863591772215,0.241029887124766,"5|1|41|4"]
[10,5,1,41,46,5,879.13,3881.46,1.06417465639814,0.226494669531568,"5|1|41|5"]
[10,5,1,41,46,6,879.13,3093.97,0.797115003117384,0.284143026596897,"5|1|41|6"]
[10,5,1,41,46,7,879.13,2383.1,0.770240176860151,0.368901850530821,"5|1|41|7"]
[10,5,1,41,46,8,879.13,1632.13,0.684876841089337,0.538639691691225,"5|1|41|8"]
[10,5,1,41,46,9,879.13,838.62,0.513819364879023,1.04830554959338,"5|1|41|9"]
[10,5,1,41,46,10,879.13,0,0,0,"5|1|41|10"]
[10,5,1,42,47,1,878.77,570.95,0,1.53913652684123,"5|1|42|1"]
[10,5,1,42,47,2,878.77,1486.07,2.60280234696558,0.591338227674336,"5|1|42|2"]
[10,5,1,42,47,3,878.77,2517.79,1.69426070104369,0.3490243427768,"5|1|42|3"]
[10,5,1,42,47,4,878.77,3647.35,1.44863153797576,0.24093382867013,"5|1|42|4"]
[10,5,1,42,47,5,878.77,3881.43,1.06417810190961,0.226403670812046,"5|1|42|5"]
[10,5,1,42,47,6,878.77,3093.85,0.797090247666453,0.284037687670702,"5|1|42|6"]
[10,5,1,42,47,7,878.77,2383.15,0.770286212970894,0.368743050164698,"5|1|42|7"]
[10,5,1,42,47,8,878.77,1632.28,0.684925413843023,0.538369642463303,"5|1|42|8"]
[10,5,1,42,47,9,878.77,838.76,0.513857916533928,1.04770136868711,"5|1|42|9"]
[10,5,1,42,47,10,878.77,0,0,0,"5|1|42|10"]
[10,5,1,43,48,1,878.38,570.95,0,1.53845345476837,"5|1|43|1"]
[10,5,1,43,48,2,878.38,1486.05,2.60276731762851,0.591083745499815,"5|1|43|2"]
[10,5,1,43,48,3,878.38,2517.76,1.69426331550082,0.348873601931876,"5|1|43|3"]
[10,5,1,43,48,4,878.38,3647.32,1.44863688357905,0.240828882576796,"5|1|43|4"]
[10,5,1,43,48,5,878.38,3881.4,1.06417862978845,0.226304941515948,"5|1|43|5"]
[10,5,1,43,48,6,878.38,3093.72,0.797062915442881,0.283923561278978,"5|1|43|6"]
[10,5,1,43,48,7,878.38,2383.22,0.770341207349081,0.368568575288895,"5|1|43|7"]
[10,5,1,43,48,8,878.38,1632.44,0.68497243225552,0.538077969174977,"5|1|43|8"]
[10,5,1,43,48,9,878.38,838.92,0.51390556467619,1.04703666618986,"5|1|43|9"]
[10,5,1,43,48,10,878.38,0,0,0,"5|1|43|10"]
[10,5,1,44,49,1,877.96,570.94,0,1.53774477177987,"5|1|44|1"]
[10,5,1,44,49,2,877.96,1486.03,2.6027778750832,0.590809068457568,"5|1|44|2"]
[10,5,1,44,49,3,877.96,2517.73,1.69426593002833,0.348710941999341,"5|1|44|3"]
[10,5,1,44,49,4,877.96,3647.28,1.44863825747797,0.240716369458884,"5|1|44|4"]
[10,5,1,44,49,5,877.96,3881.36,1.06417933364041,0.226199064245522,"5|1|44|5"]
[10,5,1,44,49,6,877.96,3093.58,0.79703505987592,0.283800645207171,"5|1|44|6"]
[10,5,1,44,49,7,877.96,2383.28,0.770395464154798,0.368383068712027,"5|1|44|7"]
[10,5,1,44,49,8,877.96,1632.62,0.685030713974019,0.537761389668141,"5|1|44|8"]
[10,5,1,44,49,9,877.96,839.09,0.513953032548909,1.04632399385048,"5|1|44|9"]
[10,5,1,44,49,10,877.96,0,0,0,"5|1|44|10"]
[10,5,1,45,50,1,877.51,570.93,0,1.53698351811956,"5|1|45|1"]
[10,5,1,45,50,2,877.51,1486.01,2.60278843290771,0.590514195732196,"5|1|45|2"]
[10,5,1,45,50,3,877.51,2517.7,1.69426854462621,0.348536362553124,"5|1|45|3"]
[10,5,1,45,50,4,877.51,3647.25,1.44864360328872,0.240594968812119,"5|1|45|4"]
[10,5,1,45,50,5,877.51,3881.33,1.06417986153952,0.226084872968802,"5|1|45|5"]
[10,5,1,45,50,6,877.51,3093.42,0.796999997423564,0.283669854077364,"5|1|45|6"]
[10,5,1,45,50,7,877.51,2383.36,0.770461172424048,0.368181894468314,"5|1|45|7"]
[10,5,1,45,50,8,877.51,1632.82,0.685091635338346,0.53741992381279,"5|1|45|8"]
[10,5,1,45,50,9,877.51,839.27,0.514000318467437,1.04556340629356,"5|1|45|9"]
[10,5,1,45,50,10,877.51,0,0,0,"5|1|45|10"]
[10,5,1,46,51,1,877.01,570.92,0,1.53613465984726,"5|1|46|1"]
[10,5,1,46,51,2,877.01,1485.99,2.60279899110208,0.59018566746748,"5|1|46|2"]
[10,5,1,46,51,3,877.01,2517.67,1.69427115929448,0.348341919314287,"5|1|46|3"]
[10,5,1,46,51,4,877.01,3647.21,1.44864497730044,0.240460516394724,"5|1|46|4"]
[10,5,1,46,51,5,877.01,3881.29,1.0641805654185,0.22595837981702,"5|1|46|5"]
[10,5,1,46,51,6,877.01,3093.26,0.796966987779836,0.283522885240814,"5|1|46|6"]
[10,5,1,46,51,7,877.01,2383.44,0.770526887490867,0.3679597556473,"5|1|46|7"]
[10,5,1,46,51,8,877.01,1633.03,0.68515674822945,0.537044634819936,"5|1|46|8"]
[10,5,1,46,51,9,877.01,839.47,0.514056692161197,1.04471869155539,"5|1|46|9"]
[10,5,1,46,51,10,877.01,0,0,0,"5|1|46|10"]
[10,5,1,47,52,1,876.47,570.9,0,1.53524259940445,"5|1|47|1"]
[10,5,1,47,52,2,876.47,1485.97,2.60285514100543,0.589830211915449,"5|1|47|2"]
[10,5,1,47,52,3,876.47,2517.64,1.69427377403312,0.348131583546496,"5|1|47|3"]
[10,5,1,47,52,4,876.47,3647.16,1.44864237937116,0.240315752530736,"5|1|47|4"]
[10,5,1,47,52,5,876.47,3881.24,1.06418144528894,0.22582215992827,"5|1|47|5"]
[10,5,1,47,52,6,876.47,3093.08,0.796930877760716,0.283364801427703,"5|1|47|6"]
[10,5,1,47,52,7,876.47,2383.52,0.770597592044176,0.367720849835537,"5|1|47|7"]
[10,5,1,47,52,8,876.47,1633.26,0.685230247700879,0.536638379682353,"5|1|47|8"]
[10,5,1,47,52,9,876.47,839.69,0.514119001261281,1.04380187926497,"5|1|47|9"]
[10,5,1,47,52,10,876.47,0,0,0,"5|1|47|10"]
[10,5,1,48,53,1,875.88,570.89,0,1.53423601744644,"5|1|48|1"]
[10,5,1,48,53,2,875.88,1485.95,2.60286570092312,0.589441098287291,"5|1|48|2"]
[10,5,1,48,53,3,875.88,2517.6,1.69426965914062,0.347902764537655,"5|1|48|3"]
[10,5,1,48,53,4,875.88,3647.11,1.44864553543057,0.240157275212428,"5|1|48|4"]
[10,5,1,48,53,5,875.88,3881.2,1.06418506708051,0.225672472431207,"5|1|48|5"]
[10,5,1,48,53,6,875.88,3092.88,0.796887560548284,0.283192364398231,"5|1|48|6"]
[10,5,1,48,53,7,875.88,2383.62,0.77067975479165,0.367457900168651,"5|1|48|7"]
[10,5,1,48,53,8,875.88,1633.51,0.685306382728791,0.53619506461546,"5|1|48|8"]
[10,5,1,48,53,9,875.88,839.92,0.514181119185068,1.04281360129536,"5|1|48|9"]
[10,5,1,48,53,10,875.88,0,0,0,"5|1|48|10"]
[10,5,1,49,54,1,875.25,570.88,0,1.53315933295964,"5|1|49|1"]
[10,5,1,49,54,2,875.25,1485.92,2.60285874439462,0.589029019058899,"5|1|49|2"]
[10,5,1,49,54,3,875.25,2517.56,1.69427694626898,0.347658049857799,"5|1|49|3"]
[10,5,1,49,54,4,875.25,3647.06,1.44864869159027,0.239987825810379,"5|1|49|4"]
[10,5,1,49,54,5,875.25,3881.15,1.06418594703679,0.225513056697113,"5|1|49|5"]
[10,5,1,49,54,6,875.25,3092.67,0.796843719000812,0.28300788638943,"5|1|49|6"]
[10,5,1,49,54,7,875.25,2383.72,0.770764420387561,0.367178192069538,"5|1|49|7"]
[10,5,1,49,54,8,875.25,1633.78,0.685390901615962,0.535720843687645,"5|1|49|8"]
[10,5,1,49,54,9,875.25,840.17,0.514249164514194,1.04175345465799,"5|1|49|9"]
[10,5,1,49,54,10,875.25,0,0,0,"5|1|49|10"]
[10,5,1,50,55,1,874.56,570.87,0,1.53197750801408,"5|1|50|1"]
[10,5,1,50,55,2,874.56,1485.9,2.60286930474539,0.58857258227337,"5|1|50|2"]
[10,5,1,50,55,3,874.56,2517.52,1.69427283128071,0.347389494423083,"5|1|50|3"]
[10,5,1,50,55,4,874.56,3647.01,1.44865184785027,0.239801919928928,"5|1|50|4"]
[10,5,1,50,55,5,874.56,3881.09,1.06418408504501,0.225338757926253,"5|1|50|5"]
[10,5,1,50,55,6,874.56,3092.44,0.796796776163397,0.282805810298664,"5|1|50|6"]
[10,5,1,50,55,7,874.56,2383.82,0.770854082860136,0.366873337752011,"5|1|50|7"]
[10,5,1,50,55,8,874.56,1634.06,0.685479608359692,0.53520678555255,"5|1|50|8"]
[10,5,1,50,55,9,874.56,840.44,0.514326279328788,1.04059778211413,"5|1|50|9"]
[10,5,1,50,55,10,874.56,0,0,0,"5|1|50|10"]
[10,5,1,51,56,1,873.81,570.85,0,1.53071735131821,"5|1|51|1"]
[10,5,1,51,56,2,873.81,1485.87,2.6029079442936,0.588079710876456,"5|1|51|2"]
[10,5,1,51,56,3,873.81,2517.47,1.69427338865446,0.347098475850755,"5|1|51|3"]
[10,5,1,51,56,4,873.81,3646.94,1.44865281413483,0.239600870867083,"5|1|51|4"]
[10,5,1,51,56,5,873.81,3881.03,1.06418805903031,0.225148993952636,"5|1|51|5"]
[10,5,1,51,56,6,873.81,3092.18,0.796742101967777,0.282587042151492,"5|1|51|6"]
[10,5,1,51,56,7,873.81,2383.93,0.770954472249352,0.366541802821392,"5|1|51|7"]
[10,5,1,51,56,8,873.81,1634.37,0.685578016133024,0.534646377503258,"5|1|51|8"]
[10,5,1,51,56,9,873.81,840.73,0.514406162619236,1.03934675817444,"5|1|51|9"]
[10,5,1,51,56,10,873.81,0,0,0,"5|1|51|10"]
[10,5,1,52,57,1,872.99,570.83,0,1.52933447786556,"5|1|52|1"]
[10,5,1,52,57,2,872.99,1485.83,2.60292906819894,0.58754366246475,"5|1|52|2"]
[10,5,1,52,57,3,872.99,2517.41,1.69427861868451,0.346781016997629,"5|1|52|3"]
[10,5,1,52,57,4,872.99,3646.87,1.44865953499827,0.23938061954498,"5|1|52|4"]
[10,5,1,52,57,5,872.99,3880.96,1.06418929109072,0.224941766985488,"5|1|52|5"]
[10,5,1,52,57,6,872.99,3091.91,0.796686902209762,0.282346510732848,"5|1|52|6"]
[10,5,1,52,57,7,872.99,2384.06,0.771063840797436,0.366177864651057,"5|1|52|7"]
[10,5,1,52,57,8,872.99,1634.73,0.685691635277636,0.534027025869716,"5|1|52|8"]
[10,5,1,52,57,9,872.99,841.08,0.5145069828045,1.03793931611737,"5|1|52|9"]
[10,5,1,52,57,10,872.99,0,0,0,"5|1|52|10"]
[10,5,1,53,58,1,872.08,570.81,0,1.52779383682837,"5|1|53|1"]
[10,5,1,53,58,2,872.08,1485.8,2.60296771254883,0.586943060977251,"5|1|53|2"]
[10,5,1,53,58,3,872.08,2517.36,1.69427917620137,0.346426414974418,"5|1|53|3"]
[10,5,1,53,58,4,872.08,3646.8,1.44866050147774,0.239135680596687,"5|1|53|4"]
[10,5,1,53,58,5,872.08,3880.89,1.06419052319842,0.224711341985988,"5|1|53|5"]
[10,5,1,53,58,6,872.08,3091.61,0.79662397027486,0.282079563722462,"5|1|53|6"]
[10,5,1,53,58,7,872.08,2384.23,0.771193649910564,0.365770080906624,"5|1|53|7"]
[10,5,1,53,58,8,872.08,1635.17,0.685827290152376,0.533326810056447,"5|1|53|8"]
[10,5,1,53,58,9,872.08,841.5,0.514625390632167,1.03633986928105,"5|1|53|9"]
[10,5,1,53,58,10,872.08,0,0,0,"5|1|53|10"]
[10,5,1,54,59,1,871.04,570.79,0,1.52602533330997,"5|1|54|1"]
[10,5,1,54,59,2,871.04,1485.76,2.60298884002873,0.58625888434202,"5|1|54|2"]
[10,5,1,54,59,3,871.04,2517.29,1.69427767607151,0.346022905584974,"5|1|54|3"]
[10,5,1,54,59,4,871.04,3646.71,1.4486650326343,0.238856393845411,"5|1|54|4"]
[10,5,1,54,59,5,871.04,3880.8,1.0641921074064,0.22444856730571,"5|1|54|5"]
[10,5,1,54,59,6,871.04,3091.28,0.796557410843125,0.281773246034005,"5|1|54|6"]
[10,5,1,54,59,7,871.04,2384.45,0.771347144225046,0.365300174044329,"5|1|54|7"]
[10,5,1,54,59,8,871.04,1635.71,0.685990479984902,0.532514932353535,"5|1|54|8"]
[10,5,1,54,59,9,871.04,842.02,0.514773401153016,1.03446473955488,"5|1|54|9"]
[10,5,1,54,59,10,871.04,0,0,0,"5|1|54|10"]
[10,5,1,55,60,1,869.84,570.77,0,1.52397638278116,"5|1|55|1"]
[10,5,1,55,60,2,869.84,1485.71,2.60299244879724,0.585470919627653,"5|1|55|2"]
[10,5,1,55,60,3,869.84,2517.22,1.69428757967571,0.345555811569907,"5|1|55|3"]
[10,5,1,55,60,4,869.84,3646.62,1.44866956404287,0.238533217061279,"5|1|55|4"]
[10,5,1,55,60,5,869.84,3880.71,1.06419369169258,0.224144550868269,"5|1|55|5"]
[10,5,1,55,60,6,869.84,3090.93,0.796485694628045,0.281416919826719,"5|1|55|6"]
[10,5,1,55,60,7,869.84,2384.76,0.77153478079413,0.364749492611416,"5|1|55|7"]
[10,5,1,55,60,8,869.84,1636.39,0.686186450628155,0.531560324861433,"5|1|55|8"]
[10,5,1,55,60,9,869.84,842.67,0.514956703475333,1.0322427522043,"5|1|55|9"]
[10,5,1,55,60,10,869.84,0,0,0,"5|1|55|10"]
[10,5,1,56,61,1,868.44,570.75,0,1.52157687253614,"5|1|56|1"]
[10,5,1,56,61,2,868.44,1485.66,2.60299605781866,0.584548281571827,"5|1|56|2"]
[10,5,1,56,61,3,868.44,2517.15,1.69429748394653,0.345009236636672,"5|1|56|3"]
[10,5,1,56,61,4,868.44,3646.53,1.44867409570347,0.238155177662051,"5|1|56|4"]
[10,5,1,56,61,5,868.44,3880.62,1.06419527605696,0.223788982172952,"5|1|56|5"]
[10,5,1,56,61,6,868.44,3090.54,0.796403667455201,0.280999436991594,"5|1|56|6"]
[10,5,1,56,61,7,868.44,2385.15,0.771758333495117,0.364102886610905,"5|1|56|7"]
[10,5,1,56,61,8,868.44,1637.23,0.686426430203551,0.530432498793694,"5|1|56|8"]
[10,5,1,56,61,9,868.44,843.45,0.515168913347544,1.02962831228881,"5|1|56|9"]
[10,5,1,56,61,10,868.44,0,0,0,"5|1|56|10"]
[10,5,1,57,62,1,866.79,570.72,0,1.51876576955425,"5|1|57|1"]
[10,5,1,57,62,2,866.79,1485.62,2.60306279786936,0.583453373002518,"5|1|57|2"]
[10,5,1,57,62,3,866.79,2517.08,1.69429598416823,0.344363309866989,"5|1|57|3"]
[10,5,1,57,62,4,866.79,3646.44,1.44867862761613,0.2377085595814,"5|1|57|4"]
[10,5,1,57,62,5,866.79,3880.54,1.06419960290036,0.223368397181836,"5|1|57|5"]
[10,5,1,57,62,6,866.79,3090.11,0.796309276543986,0.28050457750695,"5|1|57|6"]
[10,5,1,57,62,7,866.79,2385.64,0.772024296869691,0.363336463171308,"5|1|57|7"]
[10,5,1,57,62,8,866.79,1638.24,0.686708807699401,0.529098300615294,"5|1|57|8"]
[10,5,1,57,62,9,866.79,844.37,0.515412882117394,1.02655234079847,"5|1|57|9"]
[10,5,1,57,62,10,866.79,0,0,0,"5|1|57|10"]
[10,5,1,58,63,1,864.88,570.7,0,1.51547222708954,"5|1|58|1"]
[10,5,1,58,63,2,864.88,1485.58,2.60308393201332,0.582183389652526,"5|1|58|2"]
[10,5,1,58,63,3,864.88,2517.01,1.69429448430916,0.343614050003774,"5|1|58|3"]
[10,5,1,58,63,4,864.88,3646.35,1.44868315978085,0.237190615272807,"5|1|58|4"]
[10,5,1,58,63,5,864.88,3880.46,1.06420392995735,0.222880792483365,"5|1|58|5"]
[10,5,1,58,63,6,864.88,3089.64,0.796204573684563,0.279929053223029,"5|1|58|6"]
[10,5,1,58,63,7,864.88,2386.22,0.772329462332181,0.362447720662806,"5|1|58|7"]
[10,5,1,58,63,8,864.88,1639.38,0.687019637753434,0.52756529907648,"5|1|58|8"]
[10,5,1,58,63,9,864.88,845.4,0.515682758115873,1.02304234681807,"5|1|58|9"]
[10,5,1,58,63,10,864.88,0,0,0,"5|1|58|10"]
[10,5,1,59,64,1,862.68,570.68,0,1.51167028807738,"5|1|59|1"]
[10,5,1,59,64,2,862.68,1485.54,2.60310506763861,0.580718122702855,"5|1|59|2"]
[10,5,1,59,64,3,862.68,2516.95,1.69429971592821,0.342748167424859,"5|1|59|3"]
[10,5,1,59,64,4,862.68,3646.27,1.44868590953336,0.236592462982719,"5|1|59|4"]
[10,5,1,59,64,5,862.68,3880.38,1.0642053386063,0.222318432730815,"5|1|59|5"]
[10,5,1,59,64,6,862.68,3089.1,0.796081827037558,0.279265805574439,"5|1|59|6"]
[10,5,1,59,64,7,862.68,2386.86,0.772671651937458,0.361428822804857,"5|1|59|7"]
[10,5,1,59,64,8,862.68,1640.64,0.687363314144944,0.52581919251024,"5|1|59|8"]
[10,5,1,59,64,9,862.68,846.52,0.515969377803784,1.01908992108869,"5|1|59|9"]
[10,5,1,59,64,10,862.68,0,0,0,"5|1|59|10"]
[10,5,1,60,65,1,860.18,570.66,0,1.50734237549504,"5|1|60|1"]
[10,5,1,60,65,2,860.18,1485.51,2.60314372831458,0.579046926644721,"5|1|60|2"]
[10,5,1,60,65,3,860.18,2516.9,1.69430027397998,0.341761690969049,"5|1|60|3"]
[10,5,1,60,65,4,860.18,3646.2,1.44868687671342,0.235911359771817,"5|1|60|4"]
[10,5,1,60,65,5,860.18,3880.31,1.06420657122484,0.221678164888888,"5|1|60|5"]
[10,5,1,60,65,6,860.18,3088.47,0.795933830029044,0.278513309178979,"5|1|60|6"]
[10,5,1,60,65,7,860.18,2387.54,0.773049438718848,0.360278780669643,"5|1|60|7"]
[10,5,1,60,65,8,860.18,1642.01,0.687741357212863,0.523857954580057,"5|1|60|8"]
[10,5,1,60,65,9,860.18,847.76,0.516294054238403,1.014650372747,"5|1|60|9"]
[10,5,1,60,65,10,860.18,0,0,0,"5|1|60|10"]
[10,5,1,61,66,1,857.34,570.64,0,1.50241833730548,"5|1|61|1"]
[10,5,1,61,66,2,857.34,1485.48,2.60318239170055,0.577146780838517,"5|1|61|2"]
[10,5,1,61,66,3,857.34,2516.84,1.6942941002235,0.34064143926511,"5|1|61|3"]
[10,5,1,61,66,4,857.34,3646.11,1.44868565343844,0.23513827065009,"5|1|61|4"]
[10,5,1,61,66,5,857.34,3880.22,1.06420815608964,0.220951389354212,"5|1|61|5"]
[10,5,1,61,66,6,857.34,3087.74,0.795764157702398,0.277659388420009,"5|1|61|6"]
[10,5,1,61,66,7,857.34,2388.27,0.773468621062654,0.358979512366692,"5|1|61|7"]
[10,5,1,61,66,8,857.34,1643.54,0.688171772873251,0.521642308675177,"5|1|61|8"]
[10,5,1,61,66,9,857.34,849.17,0.516671331394429,1.00962115948514,"5|1|61|9"]
[10,5,1,61,66,10,857.34,0,0,0,"5|1|61|10"]
[10,5,1,62,67,1,854.07,570.62,0,1.49674038764852,"5|1|62|1"]
[10,5,1,62,67,2,854.07,1485.45,2.60322105779678,0.574957083712006,"5|1|62|2"]
[10,5,1,62,67,3,854.07,2516.77,1.6942811942509,0.339351629270851,"5|1|62|3"]
[10,5,1,62,67,4,854.07,3645.99,1.44867826619039,0.234249133980071,"5|1|62|4"]
[10,5,1,62,67,5,854.07,3880.11,1.06421301210371,0.220114893649922,"5|1|62|5"]
[10,5,1,62,67,6,854.07,3086.88,0.795565074186041,0.276677421862852,"5|1|62|6"]
[10,5,1,62,67,7,854.07,2389.12,0.773959467164256,0.357483090008036,"5|1|62|7"]
[10,5,1,62,67,8,854.07,1645.36,0.68868872220734,0.519077891768367,"5|1|62|8"]
[10,5,1,62,67,9,854.07,850.88,0.517139106335392,1.00374905979692,"5|1|62|9"]
[10,5,1,62,67,10,854.07,0,0,0,"5|1|62|10"]
[10,5,1,63,68,1,850.25,570.6,0,1.49009814230634,"5|1|63|1"]
[10,5,1,63,68,2,850.25,1485.4,2.60322467577988,0.572404739464117,"5|1|63|2"]
[10,5,1,63,68,3,850.25,2516.67,1.69427090346035,0.337847234639424,"5|1|63|3"]
[10,5,1,63,68,4,850.25,3645.84,1.4486762269189,0.233211002128453,"5|1|63|4"]
[10,5,1,63,68,5,850.25,3879.95,1.06421291115353,0.219139421899767,"5|1|63|5"]
[10,5,1,63,68,6,850.25,3085.88,0.795340146135904,0.275529184543793,"5|1|63|6"]
[10,5,1,63,68,7,850.25,2390.19,0.774557014530701,0.355724858693242,"5|1|63|7"]
[10,5,1,63,68,8,850.25,1647.65,0.689338504470356,0.516037993505902,"5|1|63|8"]
[10,5,1,63,68,9,850.25,853.07,0.517749522046551,0.996694292379289,"5|1|63|9"]
[10,5,1,63,68,10,850.25,0,0,0,"5|1|63|10"]
[10,5,1,64,69,1,845.66,570.56,0,1.48215787997757,"5|1|64|1"]
[10,5,1,64,69,2,845.66,1485.32,2.603266965788,0.569345326259661,"5|1|64|2"]
[10,5,1,64,69,3,845.66,2516.53,1.69426790186626,0.336042089702884,"5|1|64|3"]
[10,5,1,64,69,4,845.66,3645.63,1.44867337166654,0.23196539418427,"5|1|64|4"]
[10,5,1,64,69,5,845.66,3879.74,1.06421661002351,0.21796821436488,"5|1|64|5"]
[10,5,1,64,69,6,845.66,3084.72,0.795084206673643,0.274144817033637,"5|1|64|6"]
[10,5,1,64,69,7,845.66,2391.62,0.7753118597474,0.35359296209264,"5|1|64|7"]
[10,5,1,64,69,8,845.66,1650.61,0.690163989262508,0.51233180460557,"5|1|64|8"]
[10,5,1,64,69,9,845.66,855.88,0.518523454965134,0.988059073701921,"5|1|64|9"]
[10,5,1,64,69,10,845.66,0,0,0,"5|1|64|10"]
[10,5,1,65,70,1,840.09,570.52,0,1.47249877304915,"5|1|65|1"]
[10,5,1,65,70,2,840.09,1485.23,2.60329173385683,0.565629565791157,"5|1|65|2"]
[10,5,1,65,70,3,840.09,2516.35,1.6942493755176,0.333852603970036,"5|1|65|3"]
[10,5,1,65,70,4,840.09,3645.38,1.4486776481809,0.230453340941136,"5|1|65|4"]
[10,5,1,65,70,5,840.09,3879.49,1.0642210139958,0.216546504824088,"5|1|65|5"]
[10,5,1,65,70,6,840.09,3083.39,0.794792614493142,0.272456614310872,"5|1|65|6"]
[10,5,1,65,70,7,840.09,2393.51,0.77625924712735,0.350986626335382,"5|1|65|7"]
[10,5,1,65,70,8,840.09,1654.41,0.691206637950123,0.50778827497416,"5|1|65|8"]
[10,5,1,65,70,9,840.09,859.44,0.519484287449907,0.977485339290701,"5|1|65|9"]
[10,5,1,65,70,10,840.09,0,0,0,"5|1|65|10"]