{"text_format":"1","workbook":"xlsx","n_sheets":5,"sheets":["home","base","fun","基本保险金额表","现金价值表"],"not_rendered":{"charts":0,"images":0,"macros":1,"external_links":2,"defined_names":120,"comments":2,"pivot_tables":0},"unopened":[],"bounds":{"document_bytes":16777216,"sheet_cells":100000,"rows_first":2000,"rows_last":500,"rows_between":2000,"halvings":0,"cell_chars":16384,"cell_head_chars":4096},"cells_cut":0,"cells_raw":0,"read":"whole","date_system":"1900"}

{"sheet":"home","index":0,"n_rows":119,"n_cols":19,"rows_kept":119,"cut":false,"hidden":false,"merged":[[4,2,4,15],[5,2,5,15],[7,2,7,3],[8,2,8,3],[118,2,118,15]]}
[]
[]
[]
[]
[null,null,"计划书"]
[]
[null,null,"尊敬的","（         ）","先生/女士，您的利益演示如下："]
[null,null,"投保年龄",null,"性   别",null,null,null,null,"年交保费","交费方式","基本保额","累计保费",null,null,null,null,null,"是"]
[null,null,0,null,"男",null,null,null,null,400000,"B-5年交",{"$f":"bv","v":1588400},{"$f":"sv*ppp","v":2000000},null,null,null,null,null,"否"]
[]
[]
[null,null,"保单\n年度","年龄","年交保费","累计保费","减保前\n有效保额","减保前身故或全残保险金","减保前高铁、航空意外身故或全残保险金","减保前\n现金价值","减保领取现金价值","累计减保领取现金价值","减保后\n有效保额","减保后身故或全残保险金","减保后高铁、航空意外身故或全残保险金","减保后现金价值","年化单利","IRR"]
[null,null,{"$f":"IF(base!B4=\"\",\"\",base!B4)","v":1},{"$f":"IF(base!C4=\"\",\"\",base!C4+1)","v":1},{"$f":"IF(base!D4=\"\",\"\",base!D4)","v":400000},{"$f":"IF(C13=\"\",\"\",E13+IFERROR(F12+0,0))","v":400000},{"$f":"ROUND(base!F4,0)","v":1588400},{"$f":"ROUND(base!G4,0)","v":400000},{"$f":"ROUND(base!H4,0)","v":1588400},{"$f":"ROUND(base!I4,0)","v":45812},0,{"$f":"SUM($K$13:K13)","v":0},{"$f":"ROUND(base!O4,0)","v":1588400},{"$f":"ROUND(base!P4,0)","v":400000},{"$f":"ROUND(base!Q4,0)","v":1588400},{"$f":"ROUND(base!R4,0)","v":45812}]
[null,null,{"$f":"IF(base!B5=\"\",\"\",base!B5)","v":2},{"$f":"IF(base!C5=\"\",\"\",base!C5+1)","v":2},{"$f":"IF(base!D5=\"\",\"\",base!D5)","v":400000},{"$f":"IF(C14=\"\",\"\",E14+IFERROR(F13+0,0))","v":800000},{"$f":"ROUND(base!F5,0)","v":1643994},{"$f":"ROUND(base!G5,0)","v":800000},{"$f":"ROUND(base!H5,0)","v":1643994},{"$f":"ROUND(base!I5,0)","v":119212},0,{"$f":"SUM($K$13:K14)","v":0},{"$f":"ROUND(base!O5,0)","v":1643994},{"$f":"ROUND(base!P5,0)","v":800000},{"$f":"ROUND(base!Q5,0)","v":1643994},{"$f":"ROUND(base!R5,0)","v":119212}]
[null,null,{"$f":"IF(base!B6=\"\",\"\",base!B6)","v":3},{"$f":"IF(base!C6=\"\",\"\",base!C6+1)","v":3},{"$f":"IF(base!D6=\"\",\"\",base!D6)","v":400000},1200000,{"$f":"ROUND(base!F6,0)","v":1701534},{"$f":"ROUND(base!G6,0)","v":1200000},{"$f":"ROUND(base!H6,0)","v":1701534},{"$f":"ROUND(base!I6,0)","v":224804},0,{"$f":"SUM($K$13:K15)","v":0},{"$f":"ROUND(base!O6,0)","v":1701534},{"$f":"ROUND(base!P6,0)","v":1200000},{"$f":"ROUND(base!Q6,0)","v":1701534},{"$f":"ROUND(base!R6,0)","v":224804}]
[null,null,{"$f":"IF(base!B7=\"\",\"\",base!B7)","v":4},{"$f":"IF(base!C7=\"\",\"\",base!C7+1)","v":4},{"$f":"IF(base!D7=\"\",\"\",base!D7)","v":400000},1600000,{"$f":"ROUND(base!F7,0)","v":1761087},{"$f":"ROUND(base!G7,0)","v":1600000},{"$f":"ROUND(base!H7,0)","v":1761087},{"$f":"ROUND(base!I7,0)","v":382488},0,{"$f":"SUM($K$13:K16)","v":0},{"$f":"ROUND(base!O7,0)","v":1761087},{"$f":"ROUND(base!P7,0)","v":1600000},{"$f":"ROUND(base!Q7,0)","v":1761087},{"$f":"ROUND(base!R7,0)","v":382488}]
[null,null,{"$f":"IF(base!B8=\"\",\"\",base!B8)","v":5},{"$f":"IF(base!C8=\"\",\"\",base!C8+1)","v":5},{"$f":"IF(base!D8=\"\",\"\",base!D8)","v":400000},2000000,{"$f":"ROUND(base!F8,0)","v":1822726},{"$f":"ROUND(base!G8,0)","v":2000000},{"$f":"ROUND(base!H8,0)","v":1822726},{"$f":"ROUND(base!I8,0)","v":560980},0,{"$f":"SUM($K$13:K17)","v":0},{"$f":"ROUND(base!O8,0)","v":1822726},{"$f":"ROUND(base!P8,0)","v":2000000},{"$f":"ROUND(base!Q8,0)","v":1822726},{"$f":"ROUND(base!R8,0)","v":560980}]
[null,null,{"$f":"IF(base!B9=\"\",\"\",base!B9)","v":6},{"$f":"IF(base!C9=\"\",\"\",base!C9+1)","v":6},{"$f":"IF(base!D9=\"\",\"\",base!D9)","v":0},2000000,{"$f":"ROUND(base!F9,0)","v":1886521},{"$f":"ROUND(base!G9,0)","v":2191132},{"$f":"ROUND(base!H9,0)","v":1886521},{"$f":"ROUND(base!I9,0)","v":2191132},0,{"$f":"SUM($K$13:K18)","v":0},{"$f":"ROUND(base!O9,0)","v":1886521},{"$f":"ROUND(base!P9,0)","v":2191132},{"$f":"ROUND(base!Q9,0)","v":1886521},{"$f":"ROUND(base!R9,0)","v":2191132}]
[null,null,{"$f":"IF(base!B10=\"\",\"\",base!B10)","v":7},{"$f":"IF(base!C10=\"\",\"\",base!C10+1)","v":7},{"$f":"IF(base!D10=\"\",\"\",base!D10)","v":0},2000000,{"$f":"ROUND(base!F10,0)","v":1952549},{"$f":"ROUND(base!G10,0)","v":2267788},{"$f":"ROUND(base!H10,0)","v":1952549},{"$f":"ROUND(base!I10,0)","v":2267788},0,{"$f":"SUM($K$13:K19)","v":0},{"$f":"ROUND(base!O10,0)","v":1952549},{"$f":"ROUND(base!P10,0)","v":2267788},{"$f":"ROUND(base!Q10,0)","v":1952549},{"$f":"ROUND(base!R10,0)","v":2267788}]
[null,null,{"$f":"IF(base!B11=\"\",\"\",base!B11)","v":8},{"$f":"IF(base!C11=\"\",\"\",base!C11+1)","v":8},{"$f":"IF(base!D11=\"\",\"\",base!D11)","v":0},2000000,{"$f":"ROUND(base!F11,0)","v":2020888},{"$f":"ROUND(base!G11,0)","v":2347128},{"$f":"ROUND(base!H11,0)","v":2020888},{"$f":"ROUND(base!I11,0)","v":2347128},0,{"$f":"SUM($K$13:K20)","v":0},{"$f":"ROUND(base!O11,0)","v":2020888},{"$f":"ROUND(base!P11,0)","v":2347128},{"$f":"ROUND(base!Q11,0)","v":2020888},{"$f":"ROUND(base!R11,0)","v":2347128}]
[null,null,{"$f":"IF(base!B12=\"\",\"\",base!B12)","v":9},{"$f":"IF(base!C12=\"\",\"\",base!C12+1)","v":9},{"$f":"IF(base!D12=\"\",\"\",base!D12)","v":0},2000000,{"$f":"ROUND(base!F12,0)","v":2091619},{"$f":"ROUND(base!G12,0)","v":2429240},{"$f":"ROUND(base!H12,0)","v":2091619},{"$f":"ROUND(base!I12,0)","v":2429240},0,{"$f":"SUM($K$13:K21)","v":0},{"$f":"ROUND(base!O12,0)","v":2091619},{"$f":"ROUND(base!P12,0)","v":2429240},{"$f":"ROUND(base!Q12,0)","v":2091619},{"$f":"ROUND(base!R12,0)","v":2429240}]
[null,null,{"$f":"IF(base!B13=\"\",\"\",base!B13)","v":10},{"$f":"IF(base!C13=\"\",\"\",base!C13+1)","v":10},{"$f":"IF(base!D13=\"\",\"\",base!D13)","v":0},2000000,{"$f":"ROUND(base!F13,0)","v":2164826},{"$f":"ROUND(base!G13,0)","v":2514228},{"$f":"ROUND(base!H13,0)","v":2164826},{"$f":"ROUND(base!I13,0)","v":2514228},0,{"$f":"SUM($K$13:K22)","v":0},{"$f":"ROUND(base!O13,0)","v":2164826},{"$f":"ROUND(base!P13,0)","v":2514228},{"$f":"ROUND(base!Q13,0)","v":2164826},{"$f":"ROUND(base!R13,0)","v":2514228}]
[null,null,{"$f":"IF(base!B14=\"\",\"\",base!B14)","v":11},{"$f":"IF(base!C14=\"\",\"\",base!C14+1)","v":11},{"$f":"IF(base!D14=\"\",\"\",base!D14)","v":0},2000000,{"$f":"ROUND(base!F14,0)","v":2240595},{"$f":"ROUND(base!G14,0)","v":2602184},{"$f":"ROUND(base!H14,0)","v":2240595},{"$f":"ROUND(base!I14,0)","v":2602184},0,{"$f":"SUM($K$13:K23)","v":0},{"$f":"ROUND(base!O14,0)","v":2240595},{"$f":"ROUND(base!P14,0)","v":2602184},{"$f":"ROUND(base!Q14,0)","v":2240595},{"$f":"ROUND(base!R14,0)","v":2602184}]
[null,null,{"$f":"IF(base!B15=\"\",\"\",base!B15)","v":12},{"$f":"IF(base!C15=\"\",\"\",base!C15+1)","v":12},{"$f":"IF(base!D15=\"\",\"\",base!D15)","v":0},2000000,{"$f":"ROUND(base!F15,0)","v":2319016},{"$f":"ROUND(base!G15,0)","v":2693220},{"$f":"ROUND(base!H15,0)","v":2319016},{"$f":"ROUND(base!I15,0)","v":2693220},0,{"$f":"SUM($K$13:K24)","v":0},{"$f":"ROUND(base!O15,0)","v":2319016},{"$f":"ROUND(base!P15,0)","v":2693220},{"$f":"ROUND(base!Q15,0)","v":2319016},{"$f":"ROUND(base!R15,0)","v":2693220}]
[null,null,{"$f":"IF(base!B16=\"\",\"\",base!B16)","v":13},{"$f":"IF(base!C16=\"\",\"\",base!C16+1)","v":13},{"$f":"IF(base!D16=\"\",\"\",base!D16)","v":0},2000000,{"$f":"ROUND(base!F16,0)","v":2400181},{"$f":"ROUND(base!G16,0)","v":2787440},{"$f":"ROUND(base!H16,0)","v":2400181},{"$f":"ROUND(base!I16,0)","v":2787440},0,{"$f":"SUM($K$13:K25)","v":0},{"$f":"ROUND(base!O16,0)","v":2400181},{"$f":"ROUND(base!P16,0)","v":2787440},{"$f":"ROUND(base!Q16,0)","v":2400181},{"$f":"ROUND(base!R16,0)","v":2787440}]
[null,null,{"$f":"IF(base!B17=\"\",\"\",base!B17)","v":14},{"$f":"IF(base!C17=\"\",\"\",base!C17+1)","v":14},{"$f":"IF(base!D17=\"\",\"\",base!D17)","v":0},2000000,{"$f":"ROUND(base!F17,0)","v":2484188},{"$f":"ROUND(base!G17,0)","v":2884952},{"$f":"ROUND(base!H17,0)","v":2484188},{"$f":"ROUND(base!I17,0)","v":2884952},0,{"$f":"SUM($K$13:K26)","v":0},{"$f":"ROUND(base!O17,0)","v":2484188},{"$f":"ROUND(base!P17,0)","v":2884952},{"$f":"ROUND(base!Q17,0)","v":2484188},{"$f":"ROUND(base!R17,0)","v":2884952}]
[null,null,{"$f":"IF(base!B18=\"\",\"\",base!B18)","v":15},{"$f":"IF(base!C18=\"\",\"\",base!C18+1)","v":15},{"$f":"IF(base!D18=\"\",\"\",base!D18)","v":0},2000000,{"$f":"ROUND(base!F18,0)","v":2571134},{"$f":"ROUND(base!G18,0)","v":2985872},{"$f":"ROUND(base!H18,0)","v":2571134},{"$f":"ROUND(base!I18,0)","v":2985872},200000,{"$f":"SUM($K$13:K27)","v":200000},{"$f":"ROUND(base!O18,0)","v":2398914},{"$f":"ROUND(base!P18,0)","v":2785872},{"$f":"ROUND(base!Q18,0)","v":2398914},{"$f":"ROUND(base!R18,0)","v":2785872}]
[null,null,{"$f":"IF(base!B19=\"\",\"\",base!B19)","v":16},{"$f":"IF(base!C19=\"\",\"\",base!C19+1)","v":16},{"$f":"IF(base!D19=\"\",\"\",base!D19)","v":0},2000000,{"$f":"ROUND(base!F19,0)","v":2661124},{"$f":"ROUND(base!G19,0)","v":3090324},{"$f":"ROUND(base!H19,0)","v":2661124},{"$f":"ROUND(base!I19,0)","v":3090324},200000,{"$f":"SUM($K$13:K28)","v":400000},{"$f":"ROUND(base!O19,0)","v":2310653},{"$f":"ROUND(base!P19,0)","v":2683328},{"$f":"ROUND(base!Q19,0)","v":2310653},{"$f":"ROUND(base!R19,0)","v":2683328}]
[null,null,{"$f":"IF(base!B20=\"\",\"\",base!B20)","v":17},{"$f":"IF(base!C20=\"\",\"\",base!C20+1)","v":17},{"$f":"IF(base!D20=\"\",\"\",base!D20)","v":0},2000000,{"$f":"ROUND(base!F20,0)","v":2754263},{"$f":"ROUND(base!G20,0)","v":3198428},{"$f":"ROUND(base!H20,0)","v":2754263},{"$f":"ROUND(base!I20,0)","v":3198428},200000,{"$f":"SUM($K$13:K29)","v":600000},{"$f":"ROUND(base!O20,0)","v":2219300},{"$f":"ROUND(base!P20,0)","v":2577194},{"$f":"ROUND(base!Q20,0)","v":2219300},{"$f":"ROUND(base!R20,0)","v":2577194}]
[null,null,{"$f":"IF(base!B21=\"\",\"\",base!B21)","v":18},{"$f":"IF(base!C21=\"\",\"\",base!C21+1)","v":18},{"$f":"IF(base!D21=\"\",\"\",base!D21)","v":0},2000000,{"$f":"ROUND(base!F21,0)","v":2850663},{"$f":"ROUND(base!G21,0)","v":3310312},{"$f":"ROUND(base!H21,0)","v":2850663},{"$f":"ROUND(base!I21,0)","v":3310312},200000,{"$f":"SUM($K$13:K30)","v":800000},{"$f":"ROUND(base!O21,0)","v":2124747},{"$f":"ROUND(base!P21,0)","v":2467347},{"$f":"ROUND(base!Q21,0)","v":2124747},{"$f":"ROUND(base!R21,0)","v":2467347}]
[null,null,{"$f":"IF(base!B22=\"\",\"\",base!B22)","v":19},{"$f":"IF(base!C22=\"\",\"\",base!C22+1)","v":19},{"$f":"IF(base!D22=\"\",\"\",base!D22)","v":0},2000000,{"$f":"ROUND(base!F22,0)","v":2950436},{"$f":"ROUND(base!G22,0)","v":3426112},{"$f":"ROUND(base!H22,0)","v":2950436},{"$f":"ROUND(base!I22,0)","v":3426112},200000,{"$f":"SUM($K$13:K31)","v":1000000},{"$f":"ROUND(base!O22,0)","v":2026880},{"$f":"ROUND(base!P22,0)","v":2353659},{"$f":"ROUND(base!Q22,0)","v":2026880},{"$f":"ROUND(base!R22,0)","v":2353659}]
[null,null,{"$f":"IF(base!B23=\"\",\"\",base!B23)","v":20},{"$f":"IF(base!C23=\"\",\"\",base!C23+1)","v":20},{"$f":"IF(base!D23=\"\",\"\",base!D23)","v":0},2000000,{"$f":"ROUND(base!F23,0)","v":3053701},{"$f":"ROUND(base!G23,0)","v":3545956},{"$f":"ROUND(base!H23,0)","v":3053701},{"$f":"ROUND(base!I23,0)","v":3545956},200000,{"$f":"SUM($K$13:K32)","v":1200000},{"$f":"ROUND(base!O23,0)","v":1925585},{"$f":"ROUND(base!P23,0)","v":2235989},{"$f":"ROUND(base!Q23,0)","v":1925585},{"$f":"ROUND(base!R23,0)","v":2235989}]
[null,null,{"$f":"IF(base!B24=\"\",\"\",base!B24)","v":21},{"$f":"IF(base!C24=\"\",\"\",base!C24+1)","v":21},{"$f":"IF(base!D24=\"\",\"\",base!D24)","v":0},2000000,{"$f":"ROUND(base!F24,0)","v":3160581},{"$f":"ROUND(base!G24,0)","v":3669996},{"$f":"ROUND(base!H24,0)","v":3160581},{"$f":"ROUND(base!I24,0)","v":3669996},200000,{"$f":"SUM($K$13:K33)","v":1400000},{"$f":"ROUND(base!O24,0)","v":1820742},{"$f":"ROUND(base!P24,0)","v":2114205},{"$f":"ROUND(base!Q24,0)","v":1820742},{"$f":"ROUND(base!R24,0)","v":2114205}]
[null,null,{"$f":"IF(base!B25=\"\",\"\",base!B25)","v":22},{"$f":"IF(base!C25=\"\",\"\",base!C25+1)","v":22},{"$f":"IF(base!D25=\"\",\"\",base!D25)","v":0},2000000,{"$f":"ROUND(base!F25,0)","v":3271201},{"$f":"ROUND(base!G25,0)","v":3798368},{"$f":"ROUND(base!H25,0)","v":3271201},{"$f":"ROUND(base!I25,0)","v":3798368},500000,{"$f":"SUM($K$13:K34)","v":1900000},{"$f":"ROUND(base!O25,0)","v":1453862},{"$f":"ROUND(base!P25,0)","v":1688157},{"$f":"ROUND(base!Q25,0)","v":1453862},{"$f":"ROUND(base!R25,0)","v":1688157}]
[null,null,{"$f":"IF(base!B26=\"\",\"\",base!B26)","v":23},{"$f":"IF(base!C26=\"\",\"\",base!C26+1)","v":23},{"$f":"IF(base!D26=\"\",\"\",base!D26)","v":0},2000000,{"$f":"ROUND(base!F26,0)","v":3385693},{"$f":"ROUND(base!G26,0)","v":3931236},{"$f":"ROUND(base!H26,0)","v":3385693},{"$f":"ROUND(base!I26,0)","v":3931236},500000,{"$f":"SUM($K$13:K35)","v":2400000},{"$f":"ROUND(base!O26,0)","v":1074133},{"$f":"ROUND(base!P26,0)","v":1247210},{"$f":"ROUND(base!Q26,0)","v":1074133},{"$f":"ROUND(base!R26,0)","v":1247210}]
[null,null,{"$f":"IF(base!B27=\"\",\"\",base!B27)","v":24},{"$f":"IF(base!C27=\"\",\"\",base!C27+1)","v":24},{"$f":"IF(base!D27=\"\",\"\",base!D27)","v":0},2000000,{"$f":"ROUND(base!F27,0)","v":3504192},{"$f":"ROUND(base!G27,0)","v":4068744},{"$f":"ROUND(base!H27,0)","v":3504192},{"$f":"ROUND(base!I27,0)","v":4068744},500000,{"$f":"SUM($K$13:K36)","v":2900000},{"$f":"ROUND(base!O27,0)","v":681104},{"$f":"ROUND(base!P27,0)","v":790835},{"$f":"ROUND(base!Q27,0)","v":681104},{"$f":"ROUND(base!R27,0)","v":790835}]
[null,null,{"$f":"IF(base!B28=\"\",\"\",base!B28)","v":25},{"$f":"IF(base!C28=\"\",\"\",base!C28+1)","v":25},{"$f":"IF(base!D28=\"\",\"\",base!D28)","v":0},2000000,{"$f":"ROUND(base!F28,0)","v":3626839},{"$f":"ROUND(base!G28,0)","v":4211064},{"$f":"ROUND(base!H28,0)","v":3626839},{"$f":"ROUND(base!I28,0)","v":4211064},0,{"$f":"SUM($K$13:K37)","v":2900000},{"$f":"ROUND(base!O28,0)","v":704943},{"$f":"ROUND(base!P28,0)","v":818497},{"$f":"ROUND(base!Q28,0)","v":704943},{"$f":"ROUND(base!R28,0)","v":818497}]
[null,null,{"$f":"IF(base!B29=\"\",\"\",base!B29)","v":26},{"$f":"IF(base!C29=\"\",\"\",base!C29+1)","v":26},{"$f":"IF(base!D29=\"\",\"\",base!D29)","v":0},2000000,{"$f":"ROUND(base!F29,0)","v":3753778},{"$f":"ROUND(base!G29,0)","v":4358360},{"$f":"ROUND(base!H29,0)","v":3753778},{"$f":"ROUND(base!I29,0)","v":4358360},0,{"$f":"SUM($K$13:K38)","v":2900000},{"$f":"ROUND(base!O29,0)","v":729616},{"$f":"ROUND(base!P29,0)","v":847127},{"$f":"ROUND(base!Q29,0)","v":729616},{"$f":"ROUND(base!R29,0)","v":847127}]
[null,null,{"$f":"IF(base!B30=\"\",\"\",base!B30)","v":27},{"$f":"IF(base!C30=\"\",\"\",base!C30+1)","v":27},{"$f":"IF(base!D30=\"\",\"\",base!D30)","v":0},2000000,{"$f":"ROUND(base!F30,0)","v":3885161},{"$f":"ROUND(base!G30,0)","v":4510804},{"$f":"ROUND(base!H30,0)","v":3885161},{"$f":"ROUND(base!I30,0)","v":4510804},0,{"$f":"SUM($K$13:K39)","v":2900000},{"$f":"ROUND(base!O30,0)","v":755152},{"$f":"ROUND(base!P30,0)","v":876757},{"$f":"ROUND(base!Q30,0)","v":755152},{"$f":"ROUND(base!R30,0)","v":876757}]
[null,null,{"$f":"IF(base!B31=\"\",\"\",base!B31)","v":28},{"$f":"IF(base!C31=\"\",\"\",base!C31+1)","v":28},{"$f":"IF(base!D31=\"\",\"\",base!D31)","v":0},2000000,{"$f":"ROUND(base!F31,0)","v":4021141},{"$f":"ROUND(base!G31,0)","v":4668576},{"$f":"ROUND(base!H31,0)","v":4021141},{"$f":"ROUND(base!I31,0)","v":4668576},0,{"$f":"SUM($K$13:K40)","v":2900000},{"$f":"ROUND(base!O31,0)","v":781582},{"$f":"ROUND(base!P31,0)","v":907423},{"$f":"ROUND(base!Q31,0)","v":781582},{"$f":"ROUND(base!R31,0)","v":907423}]
[null,null,{"$f":"IF(base!B32=\"\",\"\",base!B32)","v":29},{"$f":"IF(base!C32=\"\",\"\",base!C32+1)","v":29},{"$f":"IF(base!D32=\"\",\"\",base!D32)","v":0},2000000,{"$f":"ROUND(base!F32,0)","v":4161881},{"$f":"ROUND(base!G32,0)","v":4831868},{"$f":"ROUND(base!H32,0)","v":4161881},{"$f":"ROUND(base!I32,0)","v":4831868},0,{"$f":"SUM($K$13:K41)","v":2900000},{"$f":"ROUND(base!O32,0)","v":808938},{"$f":"ROUND(base!P32,0)","v":939162},{"$f":"ROUND(base!Q32,0)","v":808938},{"$f":"ROUND(base!R32,0)","v":939162}]
[null,null,{"$f":"IF(base!B33=\"\",\"\",base!B33)","v":30},{"$f":"IF(base!C33=\"\",\"\",base!C33+1)","v":30},{"$f":"IF(base!D33=\"\",\"\",base!D33)","v":0},2000000,{"$f":"ROUND(base!F33,0)","v":4307547},{"$f":"ROUND(base!G33,0)","v":5000864},{"$f":"ROUND(base!H33,0)","v":4307547},{"$f":"ROUND(base!I33,0)","v":5000864},null,{"$f":"SUM($K$13:K42)","v":2900000},{"$f":"ROUND(base!O33,0)","v":837251},{"$f":"ROUND(base!P33,0)","v":972010},{"$f":"ROUND(base!Q33,0)","v":837251},{"$f":"ROUND(base!R33,0)","v":972010}]
[null,null,{"$f":"IF(base!B34=\"\",\"\",base!B34)","v":31},{"$f":"IF(base!C34=\"\",\"\",base!C34+1)","v":31},{"$f":"IF(base!D34=\"\",\"\",base!D34)","v":0},2000000,{"$f":"ROUND(base!F34,0)","v":4458311},{"$f":"ROUND(base!G34,0)","v":5175768},{"$f":"ROUND(base!H34,0)","v":4458311},{"$f":"ROUND(base!I34,0)","v":5175768},0,{"$f":"SUM($K$13:K43)","v":2900000},{"$f":"ROUND(base!O34,0)","v":866554},{"$f":"ROUND(base!P34,0)","v":1006005},{"$f":"ROUND(base!Q34,0)","v":866554},{"$f":"ROUND(base!R34,0)","v":1006005}]
[null,null,{"$f":"IF(base!B35=\"\",\"\",base!B35)","v":32},{"$f":"IF(base!C35=\"\",\"\",base!C35+1)","v":32},{"$f":"IF(base!D35=\"\",\"\",base!D35)","v":0},2000000,{"$f":"ROUND(base!F35,0)","v":4614352},{"$f":"ROUND(base!G35,0)","v":5356784},{"$f":"ROUND(base!H35,0)","v":4614352},{"$f":"ROUND(base!I35,0)","v":5356784},0,{"$f":"SUM($K$13:K44)","v":2900000},{"$f":"ROUND(base!O35,0)","v":896884},{"$f":"ROUND(base!P35,0)","v":1041189},{"$f":"ROUND(base!Q35,0)","v":896884},{"$f":"ROUND(base!R35,0)","v":1041189}]
[null,null,{"$f":"IF(base!B36=\"\",\"\",base!B36)","v":33},{"$f":"IF(base!C36=\"\",\"\",base!C36+1)","v":33},{"$f":"IF(base!D36=\"\",\"\",base!D36)","v":0},2000000,{"$f":"ROUND(base!F36,0)","v":4775854},{"$f":"ROUND(base!G36,0)","v":5544128},{"$f":"ROUND(base!H36,0)","v":4775854},{"$f":"ROUND(base!I36,0)","v":5544128},0,{"$f":"SUM($K$13:K45)","v":2900000},{"$f":"ROUND(base!O36,0)","v":928275},{"$f":"ROUND(base!P36,0)","v":1077603},{"$f":"ROUND(base!Q36,0)","v":928275},{"$f":"ROUND(base!R36,0)","v":1077603}]
[null,null,{"$f":"IF(base!B37=\"\",\"\",base!B37)","v":34},{"$f":"IF(base!C37=\"\",\"\",base!C37+1)","v":34},{"$f":"IF(base!D37=\"\",\"\",base!D37)","v":0},2000000,{"$f":"ROUND(base!F37,0)","v":4943009},{"$f":"ROUND(base!G37,0)","v":5738016},{"$f":"ROUND(base!H37,0)","v":4943009},{"$f":"ROUND(base!I37,0)","v":5738016},0,{"$f":"SUM($K$13:K46)","v":2900000},{"$f":"ROUND(base!O37,0)","v":960764},{"$f":"ROUND(base!P37,0)","v":1115289},{"$f":"ROUND(base!Q37,0)","v":960764},{"$f":"ROUND(base!R37,0)","v":1115289}]
[null,null,{"$f":"IF(base!B38=\"\",\"\",base!B38)","v":35},{"$f":"IF(base!C38=\"\",\"\",base!C38+1)","v":35},{"$f":"IF(base!D38=\"\",\"\",base!D38)","v":0},2000000,{"$f":"ROUND(base!F38,0)","v":5116015},{"$f":"ROUND(base!G38,0)","v":5938676},{"$f":"ROUND(base!H38,0)","v":5116015},{"$f":"ROUND(base!I38,0)","v":5938676},0,{"$f":"SUM($K$13:K47)","v":2900000},{"$f":"ROUND(base!O38,0)","v":994391},{"$f":"ROUND(base!P38,0)","v":1154291},{"$f":"ROUND(base!Q38,0)","v":994391},{"$f":"ROUND(base!R38,0)","v":1154291}]
[null,null,{"$f":"IF(base!B39=\"\",\"\",base!B39)","v":36},{"$f":"IF(base!C39=\"\",\"\",base!C39+1)","v":36},{"$f":"IF(base!D39=\"\",\"\",base!D39)","v":0},2000000,{"$f":"ROUND(base!F39,0)","v":5295075},{"$f":"ROUND(base!G39,0)","v":6146348},{"$f":"ROUND(base!H39,0)","v":5295075},{"$f":"ROUND(base!I39,0)","v":6146348},0,{"$f":"SUM($K$13:K48)","v":2900000},{"$f":"ROUND(base!O39,0)","v":1029195},{"$f":"ROUND(base!P39,0)","v":1194655},{"$f":"ROUND(base!Q39,0)","v":1029195},{"$f":"ROUND(base!R39,0)","v":1194655}]
[null,null,{"$f":"IF(base!B40=\"\",\"\",base!B40)","v":37},{"$f":"IF(base!C40=\"\",\"\",base!C40+1)","v":37},{"$f":"IF(base!D40=\"\",\"\",base!D40)","v":0},2000000,{"$f":"ROUND(base!F40,0)","v":5480403},{"$f":"ROUND(base!G40,0)","v":6361272},{"$f":"ROUND(base!H40,0)","v":5480403},{"$f":"ROUND(base!I40,0)","v":6361272},0,{"$f":"SUM($K$13:K49)","v":2900000},{"$f":"ROUND(base!O40,0)","v":1065217},{"$f":"ROUND(base!P40,0)","v":1236430},{"$f":"ROUND(base!Q40,0)","v":1065217},{"$f":"ROUND(base!R40,0)","v":1236430}]
[null,null,{"$f":"IF(base!B41=\"\",\"\",base!B41)","v":38},{"$f":"IF(base!C41=\"\",\"\",base!C41+1)","v":38},{"$f":"IF(base!D41=\"\",\"\",base!D41)","v":0},2000000,{"$f":"ROUND(base!F41,0)","v":5672217},{"$f":"ROUND(base!G41,0)","v":6583700},{"$f":"ROUND(base!H41,0)","v":5672217},{"$f":"ROUND(base!I41,0)","v":6583700},0,{"$f":"SUM($K$13:K50)","v":2900000},{"$f":"ROUND(base!O41,0)","v":1102499},{"$f":"ROUND(base!P41,0)","v":1279663},{"$f":"ROUND(base!Q41,0)","v":1102499},{"$f":"ROUND(base!R41,0)","v":1279663}]
[null,null,{"$f":"IF(base!B42=\"\",\"\",base!B42)","v":39},{"$f":"IF(base!C42=\"\",\"\",base!C42+1)","v":39},{"$f":"IF(base!D42=\"\",\"\",base!D42)","v":0},2000000,{"$f":"ROUND(base!F42,0)","v":5870744},{"$f":"ROUND(base!G42,0)","v":6813892},{"$f":"ROUND(base!H42,0)","v":5870744},{"$f":"ROUND(base!I42,0)","v":6813892},0,{"$f":"SUM($K$13:K51)","v":2900000},{"$f":"ROUND(base!O42,0)","v":1141087},{"$f":"ROUND(base!P42,0)","v":1324405},{"$f":"ROUND(base!Q42,0)","v":1141087},{"$f":"ROUND(base!R42,0)","v":1324405}]
[null,null,{"$f":"IF(base!B43=\"\",\"\",base!B43)","v":40},{"$f":"IF(base!C43=\"\",\"\",base!C43+1)","v":40},{"$f":"IF(base!D43=\"\",\"\",base!D43)","v":0},2000000,{"$f":"ROUND(base!F43,0)","v":6076220},{"$f":"ROUND(base!G43,0)","v":7052120},{"$f":"ROUND(base!H43,0)","v":6076220},{"$f":"ROUND(base!I43,0)","v":7052120},0,{"$f":"SUM($K$13:K52)","v":2900000},{"$f":"ROUND(base!O43,0)","v":1181025},{"$f":"ROUND(base!P43,0)","v":1370709},{"$f":"ROUND(base!Q43,0)","v":1181025},{"$f":"ROUND(base!R43,0)","v":1370709}]
[null,null,{"$f":"IF(base!B44=\"\",\"\",base!B44)","v":41},{"$f":"IF(base!C44=\"\",\"\",base!C44+1)","v":41},{"$f":"IF(base!D44=\"\",\"\",base!D44)","v":0},2000000,{"$f":"ROUND(base!F44,0)","v":6288888},{"$f":"ROUND(base!G44,0)","v":7298656},{"$f":"ROUND(base!H44,0)","v":6288888},{"$f":"ROUND(base!I44,0)","v":7298656},0,{"$f":"SUM($K$13:K53)","v":2900000},{"$f":"ROUND(base!O44,0)","v":1222361},{"$f":"ROUND(base!P44,0)","v":1418628},{"$f":"ROUND(base!Q44,0)","v":1222361},{"$f":"ROUND(base!R44,0)","v":1418628}]
[null,null,{"$f":"IF(base!B45=\"\",\"\",base!B45)","v":42},{"$f":"IF(base!C45=\"\",\"\",base!C45+1)","v":42},{"$f":"IF(base!D45=\"\",\"\",base!D45)","v":0},2000000,{"$f":"ROUND(base!F45,0)","v":6508999},{"$f":"ROUND(base!G45,0)","v":7553796},{"$f":"ROUND(base!H45,0)","v":6508999},{"$f":"ROUND(base!I45,0)","v":7553796},0,{"$f":"SUM($K$13:K54)","v":2900000},{"$f":"ROUND(base!O45,0)","v":1265143},{"$f":"ROUND(base!P45,0)","v":1468219},{"$f":"ROUND(base!Q45,0)","v":1265143},{"$f":"ROUND(base!R45,0)","v":1468219}]
[null,null,{"$f":"IF(base!B46=\"\",\"\",base!B46)","v":43},{"$f":"IF(base!C46=\"\",\"\",base!C46+1)","v":43},{"$f":"IF(base!D46=\"\",\"\",base!D46)","v":0},2000000,{"$f":"ROUND(base!F46,0)","v":6736814},{"$f":"ROUND(base!G46,0)","v":7817828},{"$f":"ROUND(base!H46,0)","v":6736814},{"$f":"ROUND(base!I46,0)","v":7817828},0,{"$f":"SUM($K$13:K55)","v":2900000},{"$f":"ROUND(base!O46,0)","v":1309423},{"$f":"ROUND(base!P46,0)","v":1519538},{"$f":"ROUND(base!Q46,0)","v":1309423},{"$f":"ROUND(base!R46,0)","v":1519538}]
[null,null,{"$f":"IF(base!B47=\"\",\"\",base!B47)","v":44},{"$f":"IF(base!C47=\"\",\"\",base!C47+1)","v":44},{"$f":"IF(base!D47=\"\",\"\",base!D47)","v":0},2000000,{"$f":"ROUND(base!F47,0)","v":6972603},{"$f":"ROUND(base!G47,0)","v":8091060},{"$f":"ROUND(base!H47,0)","v":6972603},{"$f":"ROUND(base!I47,0)","v":8091060},0,{"$f":"SUM($K$13:K56)","v":2900000},{"$f":"ROUND(base!O47,0)","v":1355253},{"$f":"ROUND(base!P47,0)","v":1572646},{"$f":"ROUND(base!Q47,0)","v":1355253},{"$f":"ROUND(base!R47,0)","v":1572646}]
[null,null,{"$f":"IF(base!B48=\"\",\"\",base!B48)","v":45},{"$f":"IF(base!C48=\"\",\"\",base!C48+1)","v":45},{"$f":"IF(base!D48=\"\",\"\",base!D48)","v":0},2000000,{"$f":"ROUND(base!F48,0)","v":7216644},{"$f":"ROUND(base!G48,0)","v":8373812},{"$f":"ROUND(base!H48,0)","v":7216644},{"$f":"ROUND(base!I48,0)","v":8373812},0,{"$f":"SUM($K$13:K57)","v":2900000},{"$f":"ROUND(base!O48,0)","v":1402687},{"$f":"ROUND(base!P48,0)","v":1627604},{"$f":"ROUND(base!Q48,0)","v":1402687},{"$f":"ROUND(base!R48,0)","v":1627604}]
[null,null,{"$f":"IF(base!B49=\"\",\"\",base!B49)","v":46},{"$f":"IF(base!C49=\"\",\"\",base!C49+1)","v":46},{"$f":"IF(base!D49=\"\",\"\",base!D49)","v":0},2000000,{"$f":"ROUND(base!F49,0)","v":7469226},{"$f":"ROUND(base!G49,0)","v":8666408},{"$f":"ROUND(base!H49,0)","v":7469226},{"$f":"ROUND(base!I49,0)","v":8666408},0,{"$f":"SUM($K$13:K58)","v":2900000},{"$f":"ROUND(base!O49,0)","v":1451781},{"$f":"ROUND(base!P49,0)","v":1684475},{"$f":"ROUND(base!Q49,0)","v":1451781},{"$f":"ROUND(base!R49,0)","v":1684475}]
[null,null,{"$f":"IF(base!B50=\"\",\"\",base!B50)","v":47},{"$f":"IF(base!C50=\"\",\"\",base!C50+1)","v":47},{"$f":"IF(base!D50=\"\",\"\",base!D50)","v":0},2000000,{"$f":"ROUND(base!F50,0)","v":7730649},{"$f":"ROUND(base!G50,0)","v":8969184},{"$f":"ROUND(base!H50,0)","v":7730649},{"$f":"ROUND(base!I50,0)","v":8969184},0,{"$f":"SUM($K$13:K59)","v":2900000},{"$f":"ROUND(base!O50,0)","v":1502593},{"$f":"ROUND(base!P50,0)","v":1743325},{"$f":"ROUND(base!Q50,0)","v":1502593},{"$f":"ROUND(base!R50,0)","v":1743325}]
[null,null,{"$f":"IF(base!B51=\"\",\"\",base!B51)","v":48},{"$f":"IF(base!C51=\"\",\"\",base!C51+1)","v":48},{"$f":"IF(base!D51=\"\",\"\",base!D51)","v":0},2000000,{"$f":"ROUND(base!F51,0)","v":8001222},{"$f":"ROUND(base!G51,0)","v":9282488},{"$f":"ROUND(base!H51,0)","v":8001222},{"$f":"ROUND(base!I51,0)","v":9282488},0,{"$f":"SUM($K$13:K60)","v":2900000},{"$f":"ROUND(base!O51,0)","v":1555184},{"$f":"ROUND(base!P51,0)","v":1804222},{"$f":"ROUND(base!Q51,0)","v":1555184},{"$f":"ROUND(base!R51,0)","v":1804222}]
[null,null,{"$f":"IF(base!B52=\"\",\"\",base!B52)","v":49},{"$f":"IF(base!C52=\"\",\"\",base!C52+1)","v":49},{"$f":"IF(base!D52=\"\",\"\",base!D52)","v":0},2000000,{"$f":"ROUND(base!F52,0)","v":8281265},{"$f":"ROUND(base!G52,0)","v":9606688},{"$f":"ROUND(base!H52,0)","v":8281265},{"$f":"ROUND(base!I52,0)","v":9606688},0,{"$f":"SUM($K$13:K61)","v":2900000},{"$f":"ROUND(base!O52,0)","v":1609616},{"$f":"ROUND(base!P52,0)","v":1867236},{"$f":"ROUND(base!Q52,0)","v":1609616},{"$f":"ROUND(base!R52,0)","v":1867236}]
[null,null,{"$f":"IF(base!B53=\"\",\"\",base!B53)","v":50},{"$f":"IF(base!C53=\"\",\"\",base!C53+1)","v":50},{"$f":"IF(base!D53=\"\",\"\",base!D53)","v":0},2000000,{"$f":"ROUND(base!F53,0)","v":8571109},{"$f":"ROUND(base!G53,0)","v":9942144},{"$f":"ROUND(base!H53,0)","v":8571109},{"$f":"ROUND(base!I53,0)","v":9942144},0,{"$f":"SUM($K$13:K62)","v":2900000},{"$f":"ROUND(base!O53,0)","v":1665952},{"$f":"ROUND(base!P53,0)","v":1932438},{"$f":"ROUND(base!Q53,0)","v":1665952},{"$f":"ROUND(base!R53,0)","v":1932438}]
[null,null,{"$f":"IF(base!B54=\"\",\"\",base!B54)","v":51},{"$f":"IF(base!C54=\"\",\"\",base!C54+1)","v":51},{"$f":"IF(base!D54=\"\",\"\",base!D54)","v":0},2000000,{"$f":"ROUND(base!F54,0)","v":8871098},{"$f":"ROUND(base!G54,0)","v":10289256},{"$f":"ROUND(base!H54,0)","v":8871098},{"$f":"ROUND(base!I54,0)","v":10289256},0,{"$f":"SUM($K$13:K63)","v":2900000},{"$f":"ROUND(base!O54,0)","v":1724260},{"$f":"ROUND(base!P54,0)","v":1999905},{"$f":"ROUND(base!Q54,0)","v":1724260},{"$f":"ROUND(base!R54,0)","v":1999905}]
[null,null,{"$f":"IF(base!B55=\"\",\"\",base!B55)","v":52},{"$f":"IF(base!C55=\"\",\"\",base!C55+1)","v":52},{"$f":"IF(base!D55=\"\",\"\",base!D55)","v":0},2000000,{"$f":"ROUND(base!F55,0)","v":9181586},{"$f":"ROUND(base!G55,0)","v":10648408},{"$f":"ROUND(base!H55,0)","v":9181586},{"$f":"ROUND(base!I55,0)","v":10648408},0,{"$f":"SUM($K$13:K64)","v":2900000},{"$f":"ROUND(base!O55,0)","v":1784610},{"$f":"ROUND(base!P55,0)","v":2069713},{"$f":"ROUND(base!Q55,0)","v":1784610},{"$f":"ROUND(base!R55,0)","v":2069713}]
[null,null,{"$f":"IF(base!B56=\"\",\"\",base!B56)","v":53},{"$f":"IF(base!C56=\"\",\"\",base!C56+1)","v":53},{"$f":"IF(base!D56=\"\",\"\",base!D56)","v":0},2000000,{"$f":"ROUND(base!F56,0)","v":9502942},{"$f":"ROUND(base!G56,0)","v":11020028},{"$f":"ROUND(base!H56,0)","v":9502942},{"$f":"ROUND(base!I56,0)","v":11020028},0,{"$f":"SUM($K$13:K65)","v":2900000},{"$f":"ROUND(base!O56,0)","v":1847071},{"$f":"ROUND(base!P56,0)","v":2141944},{"$f":"ROUND(base!Q56,0)","v":1847071},{"$f":"ROUND(base!R56,0)","v":2141944}]
[null,null,{"$f":"IF(base!B57=\"\",\"\",base!B57)","v":54},{"$f":"IF(base!C57=\"\",\"\",base!C57+1)","v":54},{"$f":"IF(base!D57=\"\",\"\",base!D57)","v":0},2000000,{"$f":"ROUND(base!F57,0)","v":9835545},{"$f":"ROUND(base!G57,0)","v":11404528},{"$f":"ROUND(base!H57,0)","v":9835545},{"$f":"ROUND(base!I57,0)","v":11404528},0,{"$f":"SUM($K$13:K66)","v":2900000},{"$f":"ROUND(base!O57,0)","v":1911718},{"$f":"ROUND(base!P57,0)","v":2216679},{"$f":"ROUND(base!Q57,0)","v":1911718},{"$f":"ROUND(base!R57,0)","v":2216679}]
[null,null,{"$f":"IF(base!B58=\"\",\"\",base!B58)","v":55},{"$f":"IF(base!C58=\"\",\"\",base!C58+1)","v":55},{"$f":"IF(base!D58=\"\",\"\",base!D58)","v":0},2000000,{"$f":"ROUND(base!F58,0)","v":10179789},{"$f":"ROUND(base!G58,0)","v":11802364},{"$f":"ROUND(base!H58,0)","v":10179789},{"$f":"ROUND(base!I58,0)","v":11802364},0,{"$f":"SUM($K$13:K67)","v":2900000},{"$f":"ROUND(base!O58,0)","v":1978629},{"$f":"ROUND(base!P58,0)","v":2294006},{"$f":"ROUND(base!Q58,0)","v":1978629},{"$f":"ROUND(base!R58,0)","v":2294006}]
[null,null,{"$f":"IF(base!B59=\"\",\"\",base!B59)","v":56},{"$f":"IF(base!C59=\"\",\"\",base!C59+1)","v":56},{"$f":"IF(base!D59=\"\",\"\",base!D59)","v":0},2000000,{"$f":"ROUND(base!F59,0)","v":10536081},{"$f":"ROUND(base!G59,0)","v":12213980},{"$f":"ROUND(base!H59,0)","v":10536081},{"$f":"ROUND(base!I59,0)","v":12213980},0,{"$f":"SUM($K$13:K68)","v":2900000},{"$f":"ROUND(base!O59,0)","v":2047880},{"$f":"ROUND(base!P59,0)","v":2374011},{"$f":"ROUND(base!Q59,0)","v":2047880},{"$f":"ROUND(base!R59,0)","v":2374011}]
[null,null,{"$f":"IF(base!B60=\"\",\"\",base!B60)","v":57},{"$f":"IF(base!C60=\"\",\"\",base!C60+1)","v":57},{"$f":"IF(base!D60=\"\",\"\",base!D60)","v":0},2000000,{"$f":"ROUND(base!F60,0)","v":10904844},{"$f":"ROUND(base!G60,0)","v":12639856},{"$f":"ROUND(base!H60,0)","v":10904844},{"$f":"ROUND(base!I60,0)","v":12639856},0,{"$f":"SUM($K$13:K69)","v":2900000},{"$f":"ROUND(base!O60,0)","v":2119556},{"$f":"ROUND(base!P60,0)","v":2456788},{"$f":"ROUND(base!Q60,0)","v":2119556},{"$f":"ROUND(base!R60,0)","v":2456788}]
[null,null,{"$f":"IF(base!B61=\"\",\"\",base!B61)","v":58},{"$f":"IF(base!C61=\"\",\"\",base!C61+1)","v":58},{"$f":"IF(base!D61=\"\",\"\",base!D61)","v":0},2000000,{"$f":"ROUND(base!F61,0)","v":11286514},{"$f":"ROUND(base!G61,0)","v":13080476},{"$f":"ROUND(base!H61,0)","v":11286514},{"$f":"ROUND(base!I61,0)","v":13080476},0,{"$f":"SUM($K$13:K70)","v":2900000},{"$f":"ROUND(base!O61,0)","v":2193741},{"$f":"ROUND(base!P61,0)","v":2542430},{"$f":"ROUND(base!Q61,0)","v":2193741},{"$f":"ROUND(base!R61,0)","v":2542430}]
[null,null,{"$f":"IF(base!B62=\"\",\"\",base!B62)","v":59},{"$f":"IF(base!C62=\"\",\"\",base!C62+1)","v":59},{"$f":"IF(base!D62=\"\",\"\",base!D62)","v":0},2000000,{"$f":"ROUND(base!F62,0)","v":11681542},{"$f":"ROUND(base!G62,0)","v":13536324},{"$f":"ROUND(base!H62,0)","v":11681542},{"$f":"ROUND(base!I62,0)","v":13536324},0,{"$f":"SUM($K$13:K71)","v":2900000},{"$f":"ROUND(base!O62,0)","v":2270522},{"$f":"ROUND(base!P62,0)","v":2631033},{"$f":"ROUND(base!Q62,0)","v":2270522},{"$f":"ROUND(base!R62,0)","v":2631033}]
[null,null,{"$f":"IF(base!B63=\"\",\"\",base!B63)","v":60},{"$f":"IF(base!C63=\"\",\"\",base!C63+1)","v":60},{"$f":"IF(base!D63=\"\",\"\",base!D63)","v":0},2000000,{"$f":"ROUND(base!F63,0)","v":12090396},{"$f":"ROUND(base!G63,0)","v":14007904},{"$f":"ROUND(base!H63,0)","v":12090396},{"$f":"ROUND(base!I63,0)","v":14007904},0,{"$f":"SUM($K$13:K72)","v":2900000},{"$f":"ROUND(base!O63,0)","v":2349990},{"$f":"ROUND(base!P63,0)","v":2722693},{"$f":"ROUND(base!Q63,0)","v":2349990},{"$f":"ROUND(base!R63,0)","v":2722693}]
[null,null,{"$f":"IF(base!B64=\"\",\"\",base!B64)","v":61},{"$f":"IF(base!C64=\"\",\"\",base!C64+1)","v":61},{"$f":"IF(base!D64=\"\",\"\",base!D64)","v":0},2000000,{"$f":"ROUND(base!F64,0)","v":12513560},{"$f":"ROUND(base!G64,0)","v":14495724},{"$f":"ROUND(base!H64,0)","v":12513560},{"$f":"ROUND(base!I64,0)","v":14495724},0,{"$f":"SUM($K$13:K73)","v":2900000},{"$f":"ROUND(base!O64,0)","v":2432240},{"$f":"ROUND(base!P64,0)","v":2817510},{"$f":"ROUND(base!Q64,0)","v":2432240},{"$f":"ROUND(base!R64,0)","v":2817510}]
[null,null,{"$f":"IF(base!B65=\"\",\"\",base!B65)","v":62},{"$f":"IF(base!C65=\"\",\"\",base!C65+1)","v":62},{"$f":"IF(base!D65=\"\",\"\",base!D65)","v":0},2000000,{"$f":"ROUND(base!F65,0)","v":12951534},{"$f":"ROUND(base!G65,0)","v":15000300},{"$f":"ROUND(base!H65,0)","v":12951534},{"$f":"ROUND(base!I65,0)","v":15000300},0,{"$f":"SUM($K$13:K74)","v":2900000},{"$f":"ROUND(base!O65,0)","v":2517368},{"$f":"ROUND(base!P65,0)","v":2915583},{"$f":"ROUND(base!Q65,0)","v":2517368},{"$f":"ROUND(base!R65,0)","v":2915583}]
[null,null,{"$f":"IF(base!B66=\"\",\"\",base!B66)","v":63},{"$f":"IF(base!C66=\"\",\"\",base!C66+1)","v":63},{"$f":"IF(base!D66=\"\",\"\",base!D66)","v":0},2000000,{"$f":"ROUND(base!F66,0)","v":13404838},{"$f":"ROUND(base!G66,0)","v":15522148},{"$f":"ROUND(base!H66,0)","v":13404838},{"$f":"ROUND(base!I66,0)","v":15522148},0,{"$f":"SUM($K$13:K75)","v":2900000},{"$f":"ROUND(base!O66,0)","v":2605476},{"$f":"ROUND(base!P66,0)","v":3017014},{"$f":"ROUND(base!Q66,0)","v":2605476},{"$f":"ROUND(base!R66,0)","v":3017014}]
[null,null,{"$f":"IF(base!B67=\"\",\"\",base!B67)","v":64},{"$f":"IF(base!C67=\"\",\"\",base!C67+1)","v":64},{"$f":"IF(base!D67=\"\",\"\",base!D67)","v":0},2000000,{"$f":"ROUND(base!F67,0)","v":13874007},{"$f":"ROUND(base!G67,0)","v":16061808},{"$f":"ROUND(base!H67,0)","v":13874007},{"$f":"ROUND(base!I67,0)","v":16061808},0,{"$f":"SUM($K$13:K76)","v":2900000},{"$f":"ROUND(base!O67,0)","v":2696668},{"$f":"ROUND(base!P67,0)","v":3121907},{"$f":"ROUND(base!Q67,0)","v":2696668},{"$f":"ROUND(base!R67,0)","v":3121907}]
[null,null,{"$f":"IF(base!B68=\"\",\"\",base!B68)","v":65},{"$f":"IF(base!C68=\"\",\"\",base!C68+1)","v":65},{"$f":"IF(base!D68=\"\",\"\",base!D68)","v":0},2000000,{"$f":"ROUND(base!F68,0)","v":14359597},{"$f":"ROUND(base!G68,0)","v":16619828},{"$f":"ROUND(base!H68,0)","v":14359597},{"$f":"ROUND(base!I68,0)","v":16619828},0,{"$f":"SUM($K$13:K77)","v":2900000},{"$f":"ROUND(base!O68,0)","v":2791051},{"$f":"ROUND(base!P68,0)","v":3230368},{"$f":"ROUND(base!Q68,0)","v":2791051},{"$f":"ROUND(base!R68,0)","v":3230368}]
[null,null,{"$f":"IF(base!B69=\"\",\"\",base!B69)","v":66},{"$f":"IF(base!C69=\"\",\"\",base!C69+1)","v":66},{"$f":"IF(base!D69=\"\",\"\",base!D69)","v":0},{"$f":"IF(C78=\"\",\"\",E78+IFERROR(F77+0,0))","v":2000000},{"$f":"ROUND(base!F69,0)","v":14862183},{"$f":"ROUND(base!G69,0)","v":17196752},{"$f":"ROUND(base!H69,0)","v":14862183},{"$f":"ROUND(base!I69,0)","v":17196752},0,{"$f":"SUM($K$13:K78)","v":2900000},{"$f":"ROUND(base!O69,0)","v":2888738},{"$f":"ROUND(base!P69,0)","v":3342504},{"$f":"ROUND(base!Q69,0)","v":2888738},{"$f":"ROUND(base!R69,0)","v":3342504}]
[null,null,{"$f":"IF(base!B70=\"\",\"\",base!B70)","v":67},{"$f":"IF(base!C70=\"\",\"\",base!C70+1)","v":67},{"$f":"IF(base!D70=\"\",\"\",base!D70)","v":0},2000000,{"$f":"ROUND(base!F70,0)","v":15382360},{"$f":"ROUND(base!G70,0)","v":17793136},{"$f":"ROUND(base!H70,0)","v":15382360},{"$f":"ROUND(base!I70,0)","v":17793136},0,{"$f":"SUM($K$13:K79)","v":2900000},{"$f":"ROUND(base!O70,0)","v":2989844},{"$f":"ROUND(base!P70,0)","v":3458422},{"$f":"ROUND(base!Q70,0)","v":2989844},{"$f":"ROUND(base!R70,0)","v":3458422}]
[null,null,{"$f":"IF(base!B71=\"\",\"\",base!B71)","v":68},{"$f":"IF(base!C71=\"\",\"\",base!C71+1)","v":68},{"$f":"IF(base!D71=\"\",\"\",base!D71)","v":0},2000000,{"$f":"ROUND(base!F71,0)","v":15920742},{"$f":"ROUND(base!G71,0)","v":18409536},{"$f":"ROUND(base!H71,0)","v":15920742},{"$f":"ROUND(base!I71,0)","v":18409536},0,{"$f":"SUM($K$13:K80)","v":2900000},{"$f":"ROUND(base!O71,0)","v":3094488},{"$f":"ROUND(base!P71,0)","v":3578231},{"$f":"ROUND(base!Q71,0)","v":3094488},{"$f":"ROUND(base!R71,0)","v":3578231}]
[null,null,{"$f":"IF(base!B72=\"\",\"\",base!B72)","v":69},{"$f":"IF(base!C72=\"\",\"\",base!C72+1)","v":69},{"$f":"IF(base!D72=\"\",\"\",base!D72)","v":0},2000000,{"$f":"ROUND(base!F72,0)","v":16477968},{"$f":"ROUND(base!G72,0)","v":19046500},{"$f":"ROUND(base!H72,0)","v":16477968},{"$f":"ROUND(base!I72,0)","v":19046500},0,{"$f":"SUM($K$13:K81)","v":2900000},{"$f":"ROUND(base!O72,0)","v":3202795},{"$f":"ROUND(base!P72,0)","v":3702036},{"$f":"ROUND(base!Q72,0)","v":3202795},{"$f":"ROUND(base!R72,0)","v":3702036}]
[null,null,{"$f":"IF(base!B73=\"\",\"\",base!B73)","v":70},{"$f":"IF(base!C73=\"\",\"\",base!C73+1)","v":70},{"$f":"IF(base!D73=\"\",\"\",base!D73)","v":0},2000000,{"$f":"ROUND(base!F73,0)","v":17054697},{"$f":"ROUND(base!G73,0)","v":19704576},{"$f":"ROUND(base!H73,0)","v":17054697},{"$f":"ROUND(base!I73,0)","v":19704576},0,{"$f":"SUM($K$13:K82)","v":2900000},{"$f":"ROUND(base!O73,0)","v":3314893},{"$f":"ROUND(base!P73,0)","v":3829945},{"$f":"ROUND(base!Q73,0)","v":3314893},{"$f":"ROUND(base!R73,0)","v":3829945}]
[null,null,{"$f":"IF(base!B74=\"\",\"\",base!B74)","v":71},{"$f":"IF(base!C74=\"\",\"\",base!C74+1)","v":71},{"$f":"IF(base!D74=\"\",\"\",base!D74)","v":0},2000000,{"$f":"ROUND(base!F74,0)","v":17651612},{"$f":"ROUND(base!G74,0)","v":20384296},{"$f":"ROUND(base!H74,0)","v":17651612},{"$f":"ROUND(base!I74,0)","v":20384296},0,{"$f":"SUM($K$13:K83)","v":2900000},{"$f":"ROUND(base!O74,0)","v":3430914},{"$f":"ROUND(base!P74,0)","v":3962061},{"$f":"ROUND(base!Q74,0)","v":3430914},{"$f":"ROUND(base!R74,0)","v":3962061}]
[null,null,{"$f":"IF(base!B75=\"\",\"\",base!B75)","v":72},{"$f":"IF(base!C75=\"\",\"\",base!C75+1)","v":72},{"$f":"IF(base!D75=\"\",\"\",base!D75)","v":0},2000000,{"$f":"ROUND(base!F75,0)","v":18269418},{"$f":"ROUND(base!G75,0)","v":21086196},{"$f":"ROUND(base!H75,0)","v":18269418},{"$f":"ROUND(base!I75,0)","v":21086196},0,{"$f":"SUM($K$13:K84)","v":2900000},{"$f":"ROUND(base!O75,0)","v":3550996},{"$f":"ROUND(base!P75,0)","v":4098489},{"$f":"ROUND(base!Q75,0)","v":3550996},{"$f":"ROUND(base!R75,0)","v":4098489}]
[null,null,{"$f":"IF(base!B76=\"\",\"\",base!B76)","v":73},{"$f":"IF(base!C76=\"\",\"\",base!C76+1)","v":73},{"$f":"IF(base!D76=\"\",\"\",base!D76)","v":0},2000000,{"$f":"ROUND(base!F76,0)","v":18908848},{"$f":"ROUND(base!G76,0)","v":21810800},{"$f":"ROUND(base!H76,0)","v":18908848},{"$f":"ROUND(base!I76,0)","v":21810800},0,{"$f":"SUM($K$13:K85)","v":2900000},{"$f":"ROUND(base!O76,0)","v":3675281},{"$f":"ROUND(base!P76,0)","v":4239329},{"$f":"ROUND(base!Q76,0)","v":3675281},{"$f":"ROUND(base!R76,0)","v":4239329}]
[null,null,{"$f":"IF(base!B77=\"\",\"\",base!B77)","v":74},{"$f":"IF(base!C77=\"\",\"\",base!C77+1)","v":74},{"$f":"IF(base!D77=\"\",\"\",base!D77)","v":0},2000000,{"$f":"ROUND(base!F77,0)","v":19570657},{"$f":"ROUND(base!G77,0)","v":22558636},{"$f":"ROUND(base!H77,0)","v":19570657},{"$f":"ROUND(base!I77,0)","v":22558636},0,{"$f":"SUM($K$13:K86)","v":2900000},{"$f":"ROUND(base!O77,0)","v":3803916},{"$f":"ROUND(base!P77,0)","v":4384684},{"$f":"ROUND(base!Q77,0)","v":3803916},{"$f":"ROUND(base!R77,0)","v":4384684}]
[null,null,{"$f":"IF(base!B78=\"\",\"\",base!B78)","v":75},{"$f":"IF(base!C78=\"\",\"\",base!C78+1)","v":75},{"$f":"IF(base!D78=\"\",\"\",base!D78)","v":0},2000000,{"$f":"ROUND(base!F78,0)","v":20255630},{"$f":"ROUND(base!G78,0)","v":23330212},{"$f":"ROUND(base!H78,0)","v":20000000},{"$f":"ROUND(base!I78,0)","v":23330212},0,{"$f":"SUM($K$13:K87)","v":2900000},{"$f":"ROUND(base!O78,0)","v":3937053},{"$f":"ROUND(base!P78,0)","v":4534654},{"$f":"ROUND(base!Q78,0)","v":3937053},{"$f":"ROUND(base!R78,0)","v":4534654}]
[null,null,{"$f":"IF(base!B79=\"\",\"\",base!B79)","v":76},{"$f":"IF(base!C79=\"\",\"\",base!C79+1)","v":76},{"$f":"IF(base!D79=\"\",\"\",base!D79)","v":0},2000000,{"$f":"ROUND(base!F79,0)","v":20964577},{"$f":"ROUND(base!G79,0)","v":24126036},{"$f":"ROUND(base!H79,0)","v":20000000},{"$f":"ROUND(base!I79,0)","v":24126036},0,{"$f":"SUM($K$13:K88)","v":2900000},{"$f":"ROUND(base!O79,0)","v":4074850},{"$f":"ROUND(base!P79,0)","v":4689337},{"$f":"ROUND(base!Q79,0)","v":4074850},{"$f":"ROUND(base!R79,0)","v":4689337}]
[null,null,{"$f":"IF(base!B80=\"\",\"\",base!B80)","v":77},{"$f":"IF(base!C80=\"\",\"\",base!C80+1)","v":77},{"$f":"IF(base!D80=\"\",\"\",base!D80)","v":0},2000000,{"$f":"ROUND(base!F80,0)","v":21698338},{"$f":"ROUND(base!G80,0)","v":24946592},{"$f":"ROUND(base!H80,0)","v":20000000},{"$f":"ROUND(base!I80,0)","v":24946592},0,{"$f":"SUM($K$13:K89)","v":2900000},{"$f":"ROUND(base!O80,0)","v":4217470},{"$f":"ROUND(base!P80,0)","v":4848827},{"$f":"ROUND(base!Q80,0)","v":4217470},{"$f":"ROUND(base!R80,0)","v":4848827}]
[null,null,{"$f":"IF(base!B81=\"\",\"\",base!B81)","v":78},{"$f":"IF(base!C81=\"\",\"\",base!C81+1)","v":78},{"$f":"IF(base!D81=\"\",\"\",base!D81)","v":0},2000000,{"$f":"ROUND(base!F81,0)","v":22457779},{"$f":"ROUND(base!G81,0)","v":25792336},{"$f":"ROUND(base!H81,0)","v":20000000},{"$f":"ROUND(base!I81,0)","v":25792336},0,{"$f":"SUM($K$13:K90)","v":2900000},{"$f":"ROUND(base!O81,0)","v":4365081},{"$f":"ROUND(base!P81,0)","v":5013213},{"$f":"ROUND(base!Q81,0)","v":4365081},{"$f":"ROUND(base!R81,0)","v":5013213}]
[null,null,{"$f":"IF(base!B82=\"\",\"\",base!B82)","v":79},{"$f":"IF(base!C82=\"\",\"\",base!C82+1)","v":79},{"$f":"IF(base!D82=\"\",\"\",base!D82)","v":0},2000000,{"$f":"ROUND(base!F82,0)","v":23243802},{"$f":"ROUND(base!G82,0)","v":26663700},{"$f":"ROUND(base!H82,0)","v":20000000},{"$f":"ROUND(base!I82,0)","v":26663700},0,{"$f":"SUM($K$13:K91)","v":2900000},{"$f":"ROUND(base!O82,0)","v":4517859},{"$f":"ROUND(base!P82,0)","v":5182579},{"$f":"ROUND(base!Q82,0)","v":4517859},{"$f":"ROUND(base!R82,0)","v":5182579}]
[null,null,{"$f":"IF(base!B83=\"\",\"\",base!B83)","v":80},{"$f":"IF(base!C83=\"\",\"\",base!C83+1)","v":80},{"$f":"IF(base!D83=\"\",\"\",base!D83)","v":0},2000000,{"$f":"ROUND(base!F83,0)","v":24057335},{"$f":"ROUND(base!G83,0)","v":27561056},{"$f":"ROUND(base!H83,0)","v":20000000},{"$f":"ROUND(base!I83,0)","v":27561056},0,{"$f":"SUM($K$13:K92)","v":2900000},{"$f":"ROUND(base!O83,0)","v":4675984},{"$f":"ROUND(base!P83,0)","v":5356996},{"$f":"ROUND(base!Q83,0)","v":4675984},{"$f":"ROUND(base!R83,0)","v":5356996}]
[null,null,{"$f":"IF(base!B84=\"\",\"\",base!B84)","v":81},{"$f":"IF(base!C84=\"\",\"\",base!C84+1)","v":81},{"$f":"IF(base!D84=\"\",\"\",base!D84)","v":0},2000000,{"$f":"ROUND(base!F84,0)","v":24899342},{"$f":"ROUND(base!G84,0)","v":28484760},{"$f":"ROUND(base!H84,0)","v":20000000},{"$f":"ROUND(base!I84,0)","v":28484760},0,{"$f":"SUM($K$13:K93)","v":2900000},{"$f":"ROUND(base!O84,0)","v":4839643},{"$f":"ROUND(base!P84,0)","v":5536535},{"$f":"ROUND(base!Q84,0)","v":4839643},{"$f":"ROUND(base!R84,0)","v":5536535}]
[null,null,{"$f":"IF(base!B85=\"\",\"\",base!B85)","v":82},{"$f":"IF(base!C85=\"\",\"\",base!C85+1)","v":82},{"$f":"IF(base!D85=\"\",\"\",base!D85)","v":0},2000000,{"$f":"ROUND(base!F85,0)","v":25770818},{"$f":"ROUND(base!G85,0)","v":29435092},{"$f":"ROUND(base!H85,0)","v":20000000},{"$f":"ROUND(base!I85,0)","v":29435092},0,{"$f":"SUM($K$13:K94)","v":2900000},{"$f":"ROUND(base!O85,0)","v":5009031},{"$f":"ROUND(base!P85,0)","v":5721250},{"$f":"ROUND(base!Q85,0)","v":5009031},{"$f":"ROUND(base!R85,0)","v":5721250}]
[null,null,{"$f":"IF(base!B86=\"\",\"\",base!B86)","v":83},{"$f":"IF(base!C86=\"\",\"\",base!C86+1)","v":83},{"$f":"IF(base!D86=\"\",\"\",base!D86)","v":0},2000000,{"$f":"ROUND(base!F86,0)","v":26672797},{"$f":"ROUND(base!G86,0)","v":30412300},{"$f":"ROUND(base!H86,0)","v":20000000},{"$f":"ROUND(base!I86,0)","v":30412300},0,{"$f":"SUM($K$13:K95)","v":2900000},{"$f":"ROUND(base!O86,0)","v":5184347},{"$f":"ROUND(base!P86,0)","v":5911188},{"$f":"ROUND(base!Q86,0)","v":5184347},{"$f":"ROUND(base!R86,0)","v":5911188}]
[null,null,{"$f":"IF(base!B87=\"\",\"\",base!B87)","v":84},{"$f":"IF(base!C87=\"\",\"\",base!C87+1)","v":84},{"$f":"IF(base!D87=\"\",\"\",base!D87)","v":0},2000000,{"$f":"ROUND(base!F87,0)","v":27606345},{"$f":"ROUND(base!G87,0)","v":31416572},{"$f":"ROUND(base!H87,0)","v":20000000},{"$f":"ROUND(base!I87,0)","v":31416572},0,{"$f":"SUM($K$13:K96)","v":2900000},{"$f":"ROUND(base!O87,0)","v":5365799},{"$f":"ROUND(base!P87,0)","v":6106387},{"$f":"ROUND(base!Q87,0)","v":5365799},{"$f":"ROUND(base!R87,0)","v":6106387}]
[null,null,{"$f":"IF(base!B88=\"\",\"\",base!B88)","v":85},{"$f":"IF(base!C88=\"\",\"\",base!C88+1)","v":85},{"$f":"IF(base!D88=\"\",\"\",base!D88)","v":0},2000000,{"$f":"ROUND(base!F88,0)","v":28572567},{"$f":"ROUND(base!G88,0)","v":32448028},{"$f":"ROUND(base!H88,0)","v":20000000},{"$f":"ROUND(base!I88,0)","v":32448028},0,{"$f":"SUM($K$13:K97)","v":2900000},{"$f":"ROUND(base!O88,0)","v":5553602},{"$f":"ROUND(base!P88,0)","v":6306869},{"$f":"ROUND(base!Q88,0)","v":5553602},{"$f":"ROUND(base!R88,0)","v":6306869}]
[null,null,{"$f":"IF(base!B89=\"\",\"\",base!B89)","v":86},{"$f":"IF(base!C89=\"\",\"\",base!C89+1)","v":86},{"$f":"IF(base!D89=\"\",\"\",base!D89)","v":0},2000000,{"$f":"ROUND(base!F89,0)","v":29572607},{"$f":"ROUND(base!G89,0)","v":33506720},{"$f":"ROUND(base!H89,0)","v":20000000},{"$f":"ROUND(base!I89,0)","v":33506720},0,{"$f":"SUM($K$13:K98)","v":2900000},{"$f":"ROUND(base!O89,0)","v":5747978},{"$f":"ROUND(base!P89,0)","v":6512645},{"$f":"ROUND(base!Q89,0)","v":5747978},{"$f":"ROUND(base!R89,0)","v":6512645}]
[null,null,{"$f":"IF(base!B90=\"\",\"\",base!B90)","v":87},{"$f":"IF(base!C90=\"\",\"\",base!C90+1)","v":87},{"$f":"IF(base!D90=\"\",\"\",base!D90)","v":0},2000000,{"$f":"ROUND(base!F90,0)","v":30607648},{"$f":"ROUND(base!G90,0)","v":34592596},{"$f":"ROUND(base!H90,0)","v":20000000},{"$f":"ROUND(base!I90,0)","v":34592596},0,{"$f":"SUM($K$13:K99)","v":2900000},{"$f":"ROUND(base!O90,0)","v":5949157},{"$f":"ROUND(base!P90,0)","v":6723705},{"$f":"ROUND(base!Q90,0)","v":5949157},{"$f":"ROUND(base!R90,0)","v":6723705}]
[null,null,{"$f":"IF(base!B91=\"\",\"\",base!B91)","v":88},{"$f":"IF(base!C91=\"\",\"\",base!C91+1)","v":88},{"$f":"IF(base!D91=\"\",\"\",base!D91)","v":0},2000000,{"$f":"ROUND(base!F91,0)","v":31678916},{"$f":"ROUND(base!G91,0)","v":35705484},{"$f":"ROUND(base!H91,0)","v":20000000},{"$f":"ROUND(base!I91,0)","v":35705484},0,{"$f":"SUM($K$13:K100)","v":2900000},{"$f":"ROUND(base!O91,0)","v":6157378},{"$f":"ROUND(base!P91,0)","v":6940015},{"$f":"ROUND(base!Q91,0)","v":6157378},{"$f":"ROUND(base!R91,0)","v":6940015}]
[null,null,{"$f":"IF(base!B92=\"\",\"\",base!B92)","v":89},{"$f":"IF(base!C92=\"\",\"\",base!C92+1)","v":89},{"$f":"IF(base!D92=\"\",\"\",base!D92)","v":0},2000000,{"$f":"ROUND(base!F92,0)","v":32787678},{"$f":"ROUND(base!G92,0)","v":36845076},{"$f":"ROUND(base!H92,0)","v":20000000},{"$f":"ROUND(base!I92,0)","v":36845076},0,{"$f":"SUM($K$13:K101)","v":2900000},{"$f":"ROUND(base!O92,0)","v":6372886},{"$f":"ROUND(base!P92,0)","v":7161516},{"$f":"ROUND(base!Q92,0)","v":6372886},{"$f":"ROUND(base!R92,0)","v":7161516}]
[null,null,{"$f":"IF(base!B93=\"\",\"\",base!B93)","v":90},{"$f":"IF(base!C93=\"\",\"\",base!C93+1)","v":90},{"$f":"IF(base!D93=\"\",\"\",base!D93)","v":0},2000000,{"$f":"ROUND(base!F93,0)","v":33935247},{"$f":"ROUND(base!G93,0)","v":38010888},{"$f":"ROUND(base!H93,0)","v":20000000},{"$f":"ROUND(base!I93,0)","v":38010888},0,{"$f":"SUM($K$13:K102)","v":2900000},{"$f":"ROUND(base!O93,0)","v":6595937},{"$f":"ROUND(base!P93,0)","v":7388113},{"$f":"ROUND(base!Q93,0)","v":6595937},{"$f":"ROUND(base!R93,0)","v":7388113}]
[null,null,{"$f":"IF(base!B94=\"\",\"\",base!B94)","v":91},{"$f":"IF(base!C94=\"\",\"\",base!C94+1)","v":91},{"$f":"IF(base!D94=\"\",\"\",base!D94)","v":0},2000000,{"$f":"ROUND(base!F94,0)","v":35122980},{"$f":"ROUND(base!G94,0)","v":39202252},{"$f":"ROUND(base!H94,0)","v":20000000},{"$f":"ROUND(base!I94,0)","v":39202252},0,{"$f":"SUM($K$13:K103)","v":2900000},{"$f":"ROUND(base!O94,0)","v":6826795},{"$f":"ROUND(base!P94,0)","v":7619676},{"$f":"ROUND(base!Q94,0)","v":6826795},{"$f":"ROUND(base!R94,0)","v":7619676}]
[null,null,{"$f":"IF(base!B95=\"\",\"\",base!B95)","v":92},{"$f":"IF(base!C95=\"\",\"\",base!C95+1)","v":92},{"$f":"IF(base!D95=\"\",\"\",base!D95)","v":0},2000000,{"$f":"ROUND(base!F95,0)","v":36352285},{"$f":"ROUND(base!G95,0)","v":40418304},{"$f":"ROUND(base!H95,0)","v":20000000},{"$f":"ROUND(base!I95,0)","v":40418304},0,{"$f":"SUM($K$13:K104)","v":2900000},{"$f":"ROUND(base!O95,0)","v":7065733},{"$f":"ROUND(base!P95,0)","v":7856038},{"$f":"ROUND(base!Q95,0)","v":7065733},{"$f":"ROUND(base!R95,0)","v":7856038}]
[null,null,{"$f":"IF(base!B96=\"\",\"\",base!B96)","v":93},{"$f":"IF(base!C96=\"\",\"\",base!C96+1)","v":93},{"$f":"IF(base!D96=\"\",\"\",base!D96)","v":0},2000000,{"$f":"ROUND(base!F96,0)","v":37624615},{"$f":"ROUND(base!G96,0)","v":41657976},{"$f":"ROUND(base!H96,0)","v":20000000},{"$f":"ROUND(base!I96,0)","v":41657976},0,{"$f":"SUM($K$13:K105)","v":2900000},{"$f":"ROUND(base!O96,0)","v":7313033},{"$f":"ROUND(base!P96,0)","v":8096991},{"$f":"ROUND(base!Q96,0)","v":7313033},{"$f":"ROUND(base!R96,0)","v":8096991}]
[null,null,{"$f":"IF(base!B97=\"\",\"\",base!B97)","v":94},{"$f":"IF(base!C97=\"\",\"\",base!C97+1)","v":94},{"$f":"IF(base!D97=\"\",\"\",base!D97)","v":0},2000000,{"$f":"ROUND(base!F97,0)","v":38941476},{"$f":"ROUND(base!G97,0)","v":42920032},{"$f":"ROUND(base!H97,0)","v":20000000},{"$f":"ROUND(base!I97,0)","v":42920032},0,{"$f":"SUM($K$13:K106)","v":2900000},{"$f":"ROUND(base!O97,0)","v":7568990},{"$f":"ROUND(base!P97,0)","v":8342295},{"$f":"ROUND(base!Q97,0)","v":7568990},{"$f":"ROUND(base!R97,0)","v":8342295}]
[null,null,{"$f":"IF(base!B98=\"\",\"\",base!B98)","v":95},{"$f":"IF(base!C98=\"\",\"\",base!C98+1)","v":95},{"$f":"IF(base!D98=\"\",\"\",base!D98)","v":0},2000000,{"$f":"ROUND(base!F98,0)","v":40304428},{"$f":"ROUND(base!G98,0)","v":44203076},{"$f":"ROUND(base!H98,0)","v":20000000},{"$f":"ROUND(base!I98,0)","v":44203076},0,{"$f":"SUM($K$13:K107)","v":2900000},{"$f":"ROUND(base!O98,0)","v":7833904},{"$f":"ROUND(base!P98,0)","v":8591678},{"$f":"ROUND(base!Q98,0)","v":7833904},{"$f":"ROUND(base!R98,0)","v":8591678}]
[null,null,{"$f":"IF(base!B99=\"\",\"\",base!B99)","v":96},{"$f":"IF(base!C99=\"\",\"\",base!C99+1)","v":96},{"$f":"IF(base!D99=\"\",\"\",base!D99)","v":0},2000000,{"$f":"ROUND(base!F99,0)","v":41715083},{"$f":"ROUND(base!G99,0)","v":45505592},{"$f":"ROUND(base!H99,0)","v":20000000},{"$f":"ROUND(base!I99,0)","v":45505592},0,{"$f":"SUM($K$13:K108)","v":2900000},{"$f":"ROUND(base!O99,0)","v":8108091},{"$f":"ROUND(base!P99,0)","v":8844846},{"$f":"ROUND(base!Q99,0)","v":8108091},{"$f":"ROUND(base!R99,0)","v":8844846}]
[null,null,{"$f":"IF(base!B100=\"\",\"\",base!B100)","v":97},{"$f":"IF(base!C100=\"\",\"\",base!C100+1)","v":97},{"$f":"IF(base!D100=\"\",\"\",base!D100)","v":0},2000000,{"$f":"ROUND(base!F100,0)","v":43175111},{"$f":"ROUND(base!G100,0)","v":46825988},{"$f":"ROUND(base!H100,0)","v":20000000},{"$f":"ROUND(base!I100,0)","v":46825988},0,{"$f":"SUM($K$13:K109)","v":2900000},{"$f":"ROUND(base!O100,0)","v":8391874},{"$f":"ROUND(base!P100,0)","v":9101489},{"$f":"ROUND(base!Q100,0)","v":8391874},{"$f":"ROUND(base!R100,0)","v":9101489}]
[null,null,{"$f":"IF(base!B101=\"\",\"\",base!B101)","v":98},{"$f":"IF(base!C101=\"\",\"\",base!C101+1)","v":98},{"$f":"IF(base!D101=\"\",\"\",base!D101)","v":0},2000000,{"$f":"ROUND(base!F101,0)","v":44686239},{"$f":"ROUND(base!G101,0)","v":48162616},{"$f":"ROUND(base!H101,0)","v":20000000},{"$f":"ROUND(base!I101,0)","v":48162616},0,{"$f":"SUM($K$13:K110)","v":2900000},{"$f":"ROUND(base!O101,0)","v":8685589},{"$f":"ROUND(base!P101,0)","v":9361287},{"$f":"ROUND(base!Q101,0)","v":8685589},{"$f":"ROUND(base!R101,0)","v":9361287}]
[null,null,{"$f":"IF(base!B102=\"\",\"\",base!B102)","v":99},{"$f":"IF(base!C102=\"\",\"\",base!C102+1)","v":99},{"$f":"IF(base!D102=\"\",\"\",base!D102)","v":0},2000000,{"$f":"ROUND(base!F102,0)","v":46250258},{"$f":"ROUND(base!G102,0)","v":49513812},{"$f":"ROUND(base!H102,0)","v":20000000},{"$f":"ROUND(base!I102,0)","v":49513812},0,{"$f":"SUM($K$13:K111)","v":2900000},{"$f":"ROUND(base!O102,0)","v":8989585},{"$f":"ROUND(base!P102,0)","v":9623917},{"$f":"ROUND(base!Q102,0)","v":8989585},{"$f":"ROUND(base!R102,0)","v":9623917}]
[null,null,{"$f":"IF(base!B103=\"\",\"\",base!B103)","v":100},{"$f":"IF(base!C103=\"\",\"\",base!C103+1)","v":100},{"$f":"IF(base!D103=\"\",\"\",base!D103)","v":0},2000000,{"$f":"ROUND(base!F103,0)","v":47869017},{"$f":"ROUND(base!G103,0)","v":50877896},{"$f":"ROUND(base!H103,0)","v":20000000},{"$f":"ROUND(base!I103,0)","v":50877896},0,{"$f":"SUM($K$13:K112)","v":2900000},{"$f":"ROUND(base!O103,0)","v":9304221},{"$f":"ROUND(base!P103,0)","v":9889051},{"$f":"ROUND(base!Q103,0)","v":9304221},{"$f":"ROUND(base!R103,0)","v":9889051}]
[null,null,{"$f":"IF(base!B104=\"\",\"\",base!B104)","v":101},{"$f":"IF(base!C104=\"\",\"\",base!C104+1)","v":101},{"$f":"IF(base!D104=\"\",\"\",base!D104)","v":0},2000000,{"$f":"ROUND(base!F104,0)","v":49544432},{"$f":"ROUND(base!G104,0)","v":52253196},{"$f":"ROUND(base!H104,0)","v":20000000},{"$f":"ROUND(base!I104,0)","v":52253196},0,{"$f":"SUM($K$13:K113)","v":2900000},{"$f":"ROUND(base!O104,0)","v":9629868},{"$f":"ROUND(base!P104,0)","v":10156366},{"$f":"ROUND(base!Q104,0)","v":9629868},{"$f":"ROUND(base!R104,0)","v":10156366}]
[null,null,{"$f":"IF(base!B105=\"\",\"\",base!B105)","v":102},{"$f":"IF(base!C105=\"\",\"\",base!C105+1)","v":102},{"$f":"IF(base!D105=\"\",\"\",base!D105)","v":0},2000000,{"$f":"ROUND(base!F105,0)","v":51278488},{"$f":"ROUND(base!G105,0)","v":53638052},{"$f":"ROUND(base!H105,0)","v":20000000},{"$f":"ROUND(base!I105,0)","v":53638052},0,{"$f":"SUM($K$13:K114)","v":2900000},{"$f":"ROUND(base!O105,0)","v":9966914},{"$f":"ROUND(base!P105,0)","v":10425538},{"$f":"ROUND(base!Q105,0)","v":9966914},{"$f":"ROUND(base!R105,0)","v":10425538}]
[null,null,{"$f":"IF(base!B106=\"\",\"\",base!B106)","v":103},{"$f":"IF(base!C106=\"\",\"\",base!C106+1)","v":103},{"$f":"IF(base!D106=\"\",\"\",base!D106)","v":0},2000000,{"$f":"ROUND(base!F106,0)","v":53073235},{"$f":"ROUND(base!G106,0)","v":55030836},{"$f":"ROUND(base!H106,0)","v":20000000},{"$f":"ROUND(base!I106,0)","v":55030836},0,{"$f":"SUM($K$13:K115)","v":2900000},{"$f":"ROUND(base!O106,0)","v":10315756},{"$f":"ROUND(base!P106,0)","v":10696251},{"$f":"ROUND(base!Q106,0)","v":10315756},{"$f":"ROUND(base!R106,0)","v":10696251}]
[null,null,{"$f":"IF(base!B107=\"\",\"\",base!B107)","v":104},{"$f":"IF(base!C107=\"\",\"\",base!C107+1)","v":104},{"$f":"IF(base!D107=\"\",\"\",base!D107)","v":0},2000000,{"$f":"ROUND(base!F107,0)","v":54930798},{"$f":"ROUND(base!G107,0)","v":56429960},{"$f":"ROUND(base!H107,0)","v":20000000},{"$f":"ROUND(base!I107,0)","v":56429960},0,{"$f":"SUM($K$13:K116)","v":2900000},{"$f":"ROUND(base!O107,0)","v":10676807},{"$f":"ROUND(base!P107,0)","v":10968197},{"$f":"ROUND(base!Q107,0)","v":10676807},{"$f":"ROUND(base!R107,0)","v":10968197}]
[null,null,{"$f":"IF(base!B108=\"\",\"\",base!B108)","v":105},{"$f":"IF(base!C108=\"\",\"\",base!C108+1)","v":105},{"$f":"IF(base!D108=\"\",\"\",base!D108)","v":0},2000000,{"$f":"ROUND(base!F108,0)","v":56853376},{"$f":"ROUND(base!G108,0)","v":57833892},{"$f":"ROUND(base!H108,0)","v":20000000},{"$f":"ROUND(base!I108,0)","v":57833892},0,{"$f":"SUM($K$13:K117)","v":2900000},{"$f":"ROUND(base!O108,0)","v":11050496},{"$f":"ROUND(base!P108,0)","v":11241077},{"$f":"ROUND(base!Q108,0)","v":11050496},{"$f":"ROUND(base!R108,0)","v":11241077}]
[null,null,{"$f":"IF(base!B109=\"\",\"\",base!B109)","v":106},{"$f":"IF(base!C109=\"\",\"\",base!C109+1)","v":106},{"$f":"IF(base!D109=\"\",\"\",base!D109)","v":0},2000000,{"$f":"ROUND(base!F109,0)","v":58843244},{"$f":"ROUND(base!G109,0)","v":58843244},{"$f":"ROUND(base!H109,0)","v":20000000},{"$f":"ROUND(base!I109,0)","v":58836572},0,{"$f":"SUM($K$13:K118)","v":2900000},{"$f":"ROUND(base!O109,0)","v":11437263},{"$f":"ROUND(base!P109,0)","v":11437263},{"$f":"ROUND(base!Q109,0)","v":11437263},{"$f":"ROUND(base!R109,0)","v":11435966}]
[null,null,"说明：1、演示数据显示到整数位；2、年交保费、累计保费为保单年度初的值，其它为保单年度末的值。"]

{"sheet":"base","index":1,"n_rows":109,"n_cols":21,"rows_kept":109,"cut":false,"hidden":true,"merged":[[1,1,1,8],[1,10,1,17]]}
[]
[null,"未发生减保",null,null,null,null,null,null,null,null,"发生减保"]
[null,"保单年度","年龄","年度保险费","基本保险金额","有效保险金额","身故保险金","高铁、航空意外身故或全残保险金","现金价值",null,"保单年度","年龄","年度保险费","基本保险金额","有效保险金额","身故保险金","高铁、航空意外身故或全残保险金","现金价值","减保金额","减保领取比列",1]
[1,{"$f":"IF(C4<>\"\",A4,\"\")","v":1},{"$f":"fun!$B$1","v":0},{"$f":"IF(B4=\"\",\"\",IF(B4>ppp,0,home!$J$9))","v":400000},{"$f":"IF($B4<>\"\",home!$L$9,\"\")","v":1588400},{"$f":"IF($B4<>\"\",ROUND(home!$L$9*1.035^(B4-1),0),\"\")","v":1588400},{"$f":"IF($B4<>\"\",IF(C4<18,MAX(sv*MIN(B4,ppp),I4),IF(B4<=ppp,MAX(sv*MIN(B4,ppp)*IF(C4<41,160%,IF(C4<61,140%,120%)),I4),MAX(sv*MIN(B4,ppp)*IF(C4<41,160%,IF(C4<61,140%,120%)),I4,F4))),\"\")","v":400000},{"$f":"IF(B4=\"\",\"\",MIN(F4,20000000))","v":1588400},{"$f":"IF(C4<>\"\",ROUND(VLOOKUP(id&\"L\"&B4,现金价值表!$A$7:$K$43716,8,FALSE)*tbfs,2),\"\")","v":45812},null,{"$f":"B4","v":1},{"$f":"C4","v":0},{"$f":"D4","v":400000},{"$f":"IF(C4<>\"\",ROUND(E4*PRODUCT($U$3:$U4),2),\"\")","v":1588400},{"$f":"IF(C4<>\"\",ROUND(F4*PRODUCT($U$3:$U4),2),\"\")","v":1588400},{"$f":"IF(C4<>\"\",ROUND(G4*PRODUCT($U$3:$U4),2),\"\")","v":400000},{"$f":"IF(C4<>\"\",ROUND(MIN(F4*PRODUCT($U$3:$U4),20000000),2),\"\")","v":1588400},{"$f":"IF(C4<>\"\",ROUND(I4*PRODUCT($U$3:$U4),2),\"\")","v":45812},{"$f":"home!K13","v":0},{"$f":"IF(C4<>\"\",S4/(I4*PRODUCT($U$3:U3)),\"\")","v":0},{"$f":"IF(C4<>\"\",1-T4,\"\")","v":1}]
[2,{"$f":"IF(C5<>\"\",A5,\"\")","v":2},{"$f":"IF(C$4+A5-1>105,\"\",C$4+A5-1)","v":1},{"$f":"IF(B5=\"\",\"\",IF(B5>ppp,0,home!$J$9))","v":400000},{"$f":"IF($B5<>\"\",home!$L$9,\"\")","v":1588400},{"$f":"IF($B5<>\"\",ROUND(home!$L$9*1.035^(B5-1),0),\"\")","v":1643994},800000,{"$f":"IF(B5=\"\",\"\",MIN(F5,20000000))","v":1643994},{"$f":"IF(C5<>\"\",ROUND(VLOOKUP(id&\"L\"&B5,现金价值表!$A$7:$K$43716,8,FALSE)*tbfs,2),\"\")","v":119212},null,{"$f":"B5","v":2},{"$f":"C5","v":1},{"$f":"D5","v":400000},{"$f":"IF(C5<>\"\",ROUND(E5*PRODUCT($U$3:$U5),2),\"\")","v":1588400},{"$f":"IF(C5<>\"\",ROUND(F5*PRODUCT($U$3:$U5),2),\"\")","v":1643994},{"$f":"IF(C5<>\"\",ROUND(G5*PRODUCT($U$3:$U5),2),\"\")","v":800000},{"$f":"IF(C5<>\"\",ROUND(MIN(F5*PRODUCT($U$3:$U5),20000000),2),\"\")","v":1643994},{"$f":"IF(C5<>\"\",ROUND(I5*PRODUCT($U$3:$U5),2),\"\")","v":119212},{"$f":"home!K14","v":0},{"$f":"IF(C5<>\"\",S5/(I5*PRODUCT($U$3:U4)),\"\")","v":0},{"$f":"IF(C5<>\"\",1-T5,\"\")","v":1}]
[3,{"$f":"IF(C6<>\"\",A6,\"\")","v":3},{"$f":"IF(C$4+A6-1>105,\"\",C$4+A6-1)","v":2},{"$f":"IF(B6=\"\",\"\",IF(B6>ppp,0,home!$J$9))","v":400000},{"$f":"IF($B6<>\"\",home!$L$9,\"\")","v":1588400},{"$f":"IF($B6<>\"\",ROUND(home!$L$9*1.035^(B6-1),0),\"\")","v":1701534},1200000,1701534,{"$f":"IF(C6<>\"\",ROUND(VLOOKUP(id&\"L\"&B6,现金价值表!$A$7:$K$43716,8,FALSE)*tbfs,2),\"\")","v":224804},null,3,2,400000,{"$f":"IF(C6<>\"\",ROUND(E6*PRODUCT($U$3:$U6),2),\"\")","v":1588400},{"$f":"IF(C6<>\"\",ROUND(F6*PRODUCT($U$3:$U6),2),\"\")","v":1701534},{"$f":"IF(C6<>\"\",ROUND(G6*PRODUCT($U$3:$U6),2),\"\")","v":1200000},{"$f":"IF(C6<>\"\",ROUND(MIN(F6*PRODUCT($U$3:$U6),20000000),2),\"\")","v":1701534},{"$f":"IF(C6<>\"\",ROUND(I6*PRODUCT($U$3:$U6),2),\"\")","v":224804},{"$f":"home!K15","v":0},{"$f":"IF(C6<>\"\",S6/(I6*PRODUCT($U$3:U5)),\"\")","v":0},1]
[4,{"$f":"IF(C7<>\"\",A7,\"\")","v":4},3,{"$f":"IF(B7=\"\",\"\",IF(B7>ppp,0,home!$J$9))","v":400000},{"$f":"IF($B7<>\"\",home!$L$9,\"\")","v":1588400},{"$f":"IF($B7<>\"\",ROUND(home!$L$9*1.035^(B7-1),0),\"\")","v":1761087},1600000,1761087,{"$f":"IF(C7<>\"\",ROUND(VLOOKUP(id&\"L\"&B7,现金价值表!$A$7:$K$43716,8,FALSE)*tbfs,2),\"\")","v":382488},null,4,3,400000,{"$f":"IF(C7<>\"\",ROUND(E7*PRODUCT($U$3:$U7),2),\"\")","v":1588400},{"$f":"IF(C7<>\"\",ROUND(F7*PRODUCT($U$3:$U7),2),\"\")","v":1761087},{"$f":"IF(C7<>\"\",ROUND(G7*PRODUCT($U$3:$U7),2),\"\")","v":1600000},{"$f":"IF(C7<>\"\",ROUND(MIN(F7*PRODUCT($U$3:$U7),20000000),2),\"\")","v":1761087},{"$f":"IF(C7<>\"\",ROUND(I7*PRODUCT($U$3:$U7),2),\"\")","v":382488},{"$f":"home!K16","v":0},{"$f":"IF(C7<>\"\",S7/(I7*PRODUCT($U$3:U6)),\"\")","v":0},1]
[5,5,4,{"$f":"IF(B8=\"\",\"\",IF(B8>ppp,0,home!$J$9))","v":400000},{"$f":"IF($B8<>\"\",home!$L$9,\"\")","v":1588400},{"$f":"IF($B8<>\"\",ROUND(home!$L$9*1.035^(B8-1),0),\"\")","v":1822726},2000000,1822726,{"$f":"IF(C8<>\"\",ROUND(VLOOKUP(id&\"L\"&B8,现金价值表!$A$7:$K$43716,8,FALSE)*tbfs,2),\"\")","v":560980},null,5,4,400000,{"$f":"IF(C8<>\"\",ROUND(E8*PRODUCT($U$3:$U8),2),\"\")","v":1588400},{"$f":"IF(C8<>\"\",ROUND(F8*PRODUCT($U$3:$U8),2),\"\")","v":1822726},{"$f":"IF(C8<>\"\",ROUND(G8*PRODUCT($U$3:$U8),2),\"\")","v":2000000},{"$f":"IF(C8<>\"\",ROUND(MIN(F8*PRODUCT($U$3:$U8),20000000),2),\"\")","v":1822726},{"$f":"IF(C8<>\"\",ROUND(I8*PRODUCT($U$3:$U8),2),\"\")","v":560980},{"$f":"home!K17","v":0},{"$f":"IF(C8<>\"\",S8/(I8*PRODUCT($U$3:U7)),\"\")","v":0},1]
[6,6,5,{"$f":"IF(B9=\"\",\"\",IF(B9>ppp,0,home!$J$9))","v":0},{"$f":"IF($B9<>\"\",home!$L$9,\"\")","v":1588400},{"$f":"IF($B9<>\"\",ROUND(home!$L$9*1.035^(B9-1),0),\"\")","v":1886521},2191132,1886521,{"$f":"IF(C9<>\"\",ROUND(VLOOKUP(id&\"L\"&B9,现金价值表!$A$7:$K$43716,8,FALSE)*tbfs,2),\"\")","v":2191132},null,6,5,0,{"$f":"IF(C9<>\"\",ROUND(E9*PRODUCT($U$3:$U9),2),\"\")","v":1588400},{"$f":"IF(C9<>\"\",ROUND(F9*PRODUCT($U$3:$U9),2),\"\")","v":1886521},{"$f":"IF(C9<>\"\",ROUND(G9*PRODUCT($U$3:$U9),2),\"\")","v":2191132},{"$f":"IF(C9<>\"\",ROUND(MIN(F9*PRODUCT($U$3:$U9),20000000),2),\"\")","v":1886521},{"$f":"IF(C9<>\"\",ROUND(I9*PRODUCT($U$3:$U9),2),\"\")","v":2191132},{"$f":"home!K18","v":0},{"$f":"IF(C9<>\"\",S9/(I9*PRODUCT($U$3:U8)),\"\")","v":0},1]
[7,7,6,{"$f":"IF(B10=\"\",\"\",IF(B10>ppp,0,home!$J$9))","v":0},{"$f":"IF($B10<>\"\",home!$L$9,\"\")","v":1588400},{"$f":"IF($B10<>\"\",ROUND(home!$L$9*1.035^(B10-1),0),\"\")","v":1952549},2267788,1952549,{"$f":"IF(C10<>\"\",ROUND(VLOOKUP(id&\"L\"&B10,现金价值表!$A$7:$K$43716,8,FALSE)*tbfs,2),\"\")","v":2267788},null,7,6,0,{"$f":"IF(C10<>\"\",ROUND(E10*PRODUCT($U$3:$U10),2),\"\")","v":1588400},{"$f":"IF(C10<>\"\",ROUND(F10*PRODUCT($U$3:$U10),2),\"\")","v":1952549},{"$f":"IF(C10<>\"\",ROUND(G10*PRODUCT($U$3:$U10),2),\"\")","v":2267788},{"$f":"IF(C10<>\"\",ROUND(MIN(F10*PRODUCT($U$3:$U10),20000000),2),\"\")","v":1952549},{"$f":"IF(C10<>\"\",ROUND(I10*PRODUCT($U$3:$U10),2),\"\")","v":2267788},{"$f":"home!K19","v":0},{"$f":"IF(C10<>\"\",S10/(I10*PRODUCT($U$3:U9)),\"\")","v":0},1]
[8,8,7,{"$f":"IF(B11=\"\",\"\",IF(B11>ppp,0,home!$J$9))","v":0},{"$f":"IF($B11<>\"\",home!$L$9,\"\")","v":1588400},{"$f":"IF($B11<>\"\",ROUND(home!$L$9*1.035^(B11-1),0),\"\")","v":2020888},2347128,2020888,{"$f":"IF(C11<>\"\",ROUND(VLOOKUP(id&\"L\"&B11,现金价值表!$A$7:$K$43716,8,FALSE)*tbfs,2),\"\")","v":2347128},null,8,7,0,{"$f":"IF(C11<>\"\",ROUND(E11*PRODUCT($U$3:$U11),2),\"\")","v":1588400},{"$f":"IF(C11<>\"\",ROUND(F11*PRODUCT($U$3:$U11),2),\"\")","v":2020888},{"$f":"IF(C11<>\"\",ROUND(G11*PRODUCT($U$3:$U11),2),\"\")","v":2347128},{"$f":"IF(C11<>\"\",ROUND(MIN(F11*PRODUCT($U$3:$U11),20000000),2),\"\")","v":2020888},{"$f":"IF(C11<>\"\",ROUND(I11*PRODUCT($U$3:$U11),2),\"\")","v":2347128},{"$f":"home!K20","v":0},{"$f":"IF(C11<>\"\",S11/(I11*PRODUCT($U$3:U10)),\"\")","v":0},1]
[9,9,8,{"$f":"IF(B12=\"\",\"\",IF(B12>ppp,0,home!$J$9))","v":0},{"$f":"IF($B12<>\"\",home!$L$9,\"\")","v":1588400},{"$f":"IF($B12<>\"\",ROUND(home!$L$9*1.035^(B12-1),0),\"\")","v":2091619},2429240,2091619,{"$f":"IF(C12<>\"\",ROUND(VLOOKUP(id&\"L\"&B12,现金价值表!$A$7:$K$43716,8,FALSE)*tbfs,2),\"\")","v":2429240},null,9,8,0,{"$f":"IF(C12<>\"\",ROUND(E12*PRODUCT($U$3:$U12),2),\"\")","v":1588400},{"$f":"IF(C12<>\"\",ROUND(F12*PRODUCT($U$3:$U12),2),\"\")","v":2091619},{"$f":"IF(C12<>\"\",ROUND(G12*PRODUCT($U$3:$U12),2),\"\")","v":2429240},{"$f":"IF(C12<>\"\",ROUND(MIN(F12*PRODUCT($U$3:$U12),20000000),2),\"\")","v":2091619},{"$f":"IF(C12<>\"\",ROUND(I12*PRODUCT($U$3:$U12),2),\"\")","v":2429240},{"$f":"home!K21","v":0},{"$f":"IF(C12<>\"\",S12/(I12*PRODUCT($U$3:U11)),\"\")","v":0},1]
[10,10,9,{"$f":"IF(B13=\"\",\"\",IF(B13>ppp,0,home!$J$9))","v":0},{"$f":"IF($B13<>\"\",home!$L$9,\"\")","v":1588400},{"$f":"IF($B13<>\"\",ROUND(home!$L$9*1.035^(B13-1),0),\"\")","v":2164826},2514228,2164826,{"$f":"IF(C13<>\"\",ROUND(VLOOKUP(id&\"L\"&B13,现金价值表!$A$7:$K$43716,8,FALSE)*tbfs,2),\"\")","v":2514228},null,10,9,0,{"$f":"IF(C13<>\"\",ROUND(E13*PRODUCT($U$3:$U13),2),\"\")","v":1588400},{"$f":"IF(C13<>\"\",ROUND(F13*PRODUCT($U$3:$U13),2),\"\")","v":2164826},{"$f":"IF(C13<>\"\",ROUND(G13*PRODUCT($U$3:$U13),2),\"\")","v":2514228},{"$f":"IF(C13<>\"\",ROUND(MIN(F13*PRODUCT($U$3:$U13),20000000),2),\"\")","v":2164826},{"$f":"IF(C13<>\"\",ROUND(I13*PRODUCT($U$3:$U13),2),\"\")","v":2514228},{"$f":"home!K22","v":0},{"$f":"IF(C13<>\"\",S13/(I13*PRODUCT($U$3:U12)),\"\")","v":0},1]
[11,11,10,{"$f":"IF(B14=\"\",\"\",IF(B14>ppp,0,home!$J$9))","v":0},{"$f":"IF($B14<>\"\",home!$L$9,\"\")","v":1588400},{"$f":"IF($B14<>\"\",ROUND(home!$L$9*1.035^(B14-1),0),\"\")","v":2240595},2602184,2240595,{"$f":"IF(C14<>\"\",ROUND(VLOOKUP(id&\"L\"&B14,现金价值表!$A$7:$K$43716,8,FALSE)*tbfs,2),\"\")","v":2602184},null,11,10,0,{"$f":"IF(C14<>\"\",ROUND(E14*PRODUCT($U$3:$U14),2),\"\")","v":1588400},{"$f":"IF(C14<>\"\",ROUND(F14*PRODUCT($U$3:$U14),2),\"\")","v":2240595},{"$f":"IF(C14<>\"\",ROUND(G14*PRODUCT($U$3:$U14),2),\"\")","v":2602184},{"$f":"IF(C14<>\"\",ROUND(MIN(F14*PRODUCT($U$3:$U14),20000000),2),\"\")","v":2240595},{"$f":"IF(C14<>\"\",ROUND(I14*PRODUCT($U$3:$U14),2),\"\")","v":2602184},{"$f":"home!K23","v":0},{"$f":"IF(C14<>\"\",S14/(I14*PRODUCT($U$3:U13)),\"\")","v":0},1]
[12,12,11,{"$f":"IF(B15=\"\",\"\",IF(B15>ppp,0,home!$J$9))","v":0},{"$f":"IF($B15<>\"\",home!$L$9,\"\")","v":1588400},{"$f":"IF($B15<>\"\",ROUND(home!$L$9*1.035^(B15-1),0),\"\")","v":2319016},2693220,2319016,{"$f":"IF(C15<>\"\",ROUND(VLOOKUP(id&\"L\"&B15,现金价值表!$A$7:$K$43716,8,FALSE)*tbfs,2),\"\")","v":2693220},null,12,11,0,{"$f":"IF(C15<>\"\",ROUND(E15*PRODUCT($U$3:$U15),2),\"\")","v":1588400},{"$f":"IF(C15<>\"\",ROUND(F15*PRODUCT($U$3:$U15),2),\"\")","v":2319016},{"$f":"IF(C15<>\"\",ROUND(G15*PRODUCT($U$3:$U15),2),\"\")","v":2693220},{"$f":"IF(C15<>\"\",ROUND(MIN(F15*PRODUCT($U$3:$U15),20000000),2),\"\")","v":2319016},{"$f":"IF(C15<>\"\",ROUND(I15*PRODUCT($U$3:$U15),2),\"\")","v":2693220},{"$f":"home!K24","v":0},{"$f":"IF(C15<>\"\",S15/(I15*PRODUCT($U$3:U14)),\"\")","v":0},1]
[13,13,12,{"$f":"IF(B16=\"\",\"\",IF(B16>ppp,0,home!$J$9))","v":0},{"$f":"IF($B16<>\"\",home!$L$9,\"\")","v":1588400},{"$f":"IF($B16<>\"\",ROUND(home!$L$9*1.035^(B16-1),0),\"\")","v":2400181},2787440,2400181,{"$f":"IF(C16<>\"\",ROUND(VLOOKUP(id&\"L\"&B16,现金价值表!$A$7:$K$43716,8,FALSE)*tbfs,2),\"\")","v":2787440},null,13,12,0,{"$f":"IF(C16<>\"\",ROUND(E16*PRODUCT($U$3:$U16),2),\"\")","v":1588400},{"$f":"IF(C16<>\"\",ROUND(F16*PRODUCT($U$3:$U16),2),\"\")","v":2400181},{"$f":"IF(C16<>\"\",ROUND(G16*PRODUCT($U$3:$U16),2),\"\")","v":2787440},{"$f":"IF(C16<>\"\",ROUND(MIN(F16*PRODUCT($U$3:$U16),20000000),2),\"\")","v":2400181},{"$f":"IF(C16<>\"\",ROUND(I16*PRODUCT($U$3:$U16),2),\"\")","v":2787440},{"$f":"home!K25","v":0},{"$f":"IF(C16<>\"\",S16/(I16*PRODUCT($U$3:U15)),\"\")","v":0},1]
[14,14,13,{"$f":"IF(B17=\"\",\"\",IF(B17>ppp,0,home!$J$9))","v":0},{"$f":"IF($B17<>\"\",home!$L$9,\"\")","v":1588400},{"$f":"IF($B17<>\"\",ROUND(home!$L$9*1.035^(B17-1),0),\"\")","v":2484188},2884952,2484188,{"$f":"IF(C17<>\"\",ROUND(VLOOKUP(id&\"L\"&B17,现金价值表!$A$7:$K$43716,8,FALSE)*tbfs,2),\"\")","v":2884952},null,14,13,0,{"$f":"IF(C17<>\"\",ROUND(E17*PRODUCT($U$3:$U17),2),\"\")","v":1588400},{"$f":"IF(C17<>\"\",ROUND(F17*PRODUCT($U$3:$U17),2),\"\")","v":2484188},{"$f":"IF(C17<>\"\",ROUND(G17*PRODUCT($U$3:$U17),2),\"\")","v":2884952},{"$f":"IF(C17<>\"\",ROUND(MIN(F17*PRODUCT($U$3:$U17),20000000),2),\"\")","v":2484188},{"$f":"IF(C17<>\"\",ROUND(I17*PRODUCT($U$3:$U17),2),\"\")","v":2884952},{"$f":"home!K26","v":0},{"$f":"IF(C17<>\"\",S17/(I17*PRODUCT($U$3:U16)),\"\")","v":0},1]
[15,15,14,{"$f":"IF(B18=\"\",\"\",IF(B18>ppp,0,home!$J$9))","v":0},{"$f":"IF($B18<>\"\",home!$L$9,\"\")","v":1588400},{"$f":"IF($B18<>\"\",ROUND(home!$L$9*1.035^(B18-1),0),\"\")","v":2571134},2985872,2571134,{"$f":"IF(C18<>\"\",ROUND(VLOOKUP(id&\"L\"&B18,现金价值表!$A$7:$K$43716,8,FALSE)*tbfs,2),\"\")","v":2985872},null,15,14,0,{"$f":"IF(C18<>\"\",ROUND(E18*PRODUCT($U$3:$U18),2),\"\")","v":1482005.62},{"$f":"IF(C18<>\"\",ROUND(F18*PRODUCT($U$3:$U18),2),\"\")","v":2398914.0299999998},{"$f":"IF(C18<>\"\",ROUND(G18*PRODUCT($U$3:$U18),2),\"\")","v":2785872},{"$f":"IF(C18<>\"\",ROUND(MIN(F18*PRODUCT($U$3:$U18),20000000),2),\"\")","v":2398914.0299999998},{"$f":"IF(C18<>\"\",ROUND(I18*PRODUCT($U$3:$U18),2),\"\")","v":2785872},{"$f":"home!K27","v":200000},{"$f":"IF(C18<>\"\",S18/(I18*PRODUCT($U$3:U17)),\"\")","v":6.6982107739380653E-2},0.93301789226061937]
[16,16,15,{"$f":"IF(B19=\"\",\"\",IF(B19>ppp,0,home!$J$9))","v":0},{"$f":"IF($B19<>\"\",home!$L$9,\"\")","v":1588400},{"$f":"IF($B19<>\"\",ROUND(home!$L$9*1.035^(B19-1),0),\"\")","v":2661124},3090324,2661124,{"$f":"IF(C19<>\"\",ROUND(VLOOKUP(id&\"L\"&B19,现金价值表!$A$7:$K$43716,8,FALSE)*tbfs,2),\"\")","v":3090324},null,16,15,0,{"$f":"IF(C19<>\"\",ROUND(E19*PRODUCT($U$3:$U19),2),\"\")","v":1379207.34},{"$f":"IF(C19<>\"\",ROUND(F19*PRODUCT($U$3:$U19),2),\"\")","v":2310653.33},{"$f":"IF(C19<>\"\",ROUND(G19*PRODUCT($U$3:$U19),2),\"\")","v":2683327.58},{"$f":"IF(C19<>\"\",ROUND(MIN(F19*PRODUCT($U$3:$U19),20000000),2),\"\")","v":2310653.33},{"$f":"IF(C19<>\"\",ROUND(I19*PRODUCT($U$3:$U19),2),\"\")","v":2683327.58},{"$f":"home!K28","v":200000},{"$f":"IF(C19<>\"\",S19/(I19*PRODUCT($U$3:U18)),\"\")","v":6.9364300140095522E-2},0.93063569985990446]
[17,17,16,{"$f":"IF(B20=\"\",\"\",IF(B20>ppp,0,home!$J$9))","v":0},{"$f":"IF($B20<>\"\",home!$L$9,\"\")","v":1588400},{"$f":"IF($B20<>\"\",ROUND(home!$L$9*1.035^(B20-1),0),\"\")","v":2754263},3198428,2754263,{"$f":"IF(C20<>\"\",ROUND(VLOOKUP(id&\"L\"&B20,现金价值表!$A$7:$K$43716,8,FALSE)*tbfs,2),\"\")","v":3198428},null,17,16,0,{"$f":"IF(C20<>\"\",ROUND(E20*PRODUCT($U$3:$U20),2),\"\")","v":1279883.54},{"$f":"IF(C20<>\"\",ROUND(F20*PRODUCT($U$3:$U20),2),\"\")","v":2219299.86},{"$f":"IF(C20<>\"\",ROUND(G20*PRODUCT($U$3:$U20),2),\"\")","v":2577194.2599999998},{"$f":"IF(C20<>\"\",ROUND(MIN(F20*PRODUCT($U$3:$U20),20000000),2),\"\")","v":2219299.86},{"$f":"IF(C20<>\"\",ROUND(I20*PRODUCT($U$3:$U20),2),\"\")","v":2577194.2599999998},{"$f":"home!K29","v":200000},{"$f":"IF(C20<>\"\",S20/(I20*PRODUCT($U$3:U19)),\"\")","v":7.2015127905644516E-2},0.92798487209435554]
[18,18,17,{"$f":"IF(B21=\"\",\"\",IF(B21>ppp,0,home!$J$9))","v":0},{"$f":"IF($B21<>\"\",home!$L$9,\"\")","v":1588400},{"$f":"IF($B21<>\"\",ROUND(home!$L$9*1.035^(B21-1),0),\"\")","v":2850663},3310312,2850663,{"$f":"IF(C21<>\"\",ROUND(VLOOKUP(id&\"L\"&B21,现金价值表!$A$7:$K$43716,8,FALSE)*tbfs,2),\"\")","v":3310312},null,18,17,0,{"$f":"IF(C21<>\"\",ROUND(E21*PRODUCT($U$3:$U21),2),\"\")","v":1183916.76},{"$f":"IF(C21<>\"\",ROUND(F21*PRODUCT($U$3:$U21),2),\"\")","v":2124746.73},{"$f":"IF(C21<>\"\",ROUND(G21*PRODUCT($U$3:$U21),2),\"\")","v":2467346.9300000002},{"$f":"IF(C21<>\"\",ROUND(MIN(F21*PRODUCT($U$3:$U21),20000000),2),\"\")","v":2124746.73},{"$f":"IF(C21<>\"\",ROUND(I21*PRODUCT($U$3:$U21),2),\"\")","v":2467346.9300000002},{"$f":"home!K30","v":200000},{"$f":"IF(C21<>\"\",S21/(I21*PRODUCT($U$3:U20)),\"\")","v":7.498087260188914E-2},0.92501912739811087]
[19,19,18,{"$f":"IF(B22=\"\",\"\",IF(B22>ppp,0,home!$J$9))","v":0},{"$f":"IF($B22<>\"\",home!$L$9,\"\")","v":1588400},{"$f":"IF($B22<>\"\",ROUND(home!$L$9*1.035^(B22-1),0),\"\")","v":2950436},3426112,2950436,{"$f":"IF(C22<>\"\",ROUND(VLOOKUP(id&\"L\"&B22,现金价值表!$A$7:$K$43716,8,FALSE)*tbfs,2),\"\")","v":3426112},null,19,18,0,{"$f":"IF(C22<>\"\",ROUND(E22*PRODUCT($U$3:$U22),2),\"\")","v":1091193.58},{"$f":"IF(C22<>\"\",ROUND(F22*PRODUCT($U$3:$U22),2),\"\")","v":2026880.4},{"$f":"IF(C22<>\"\",ROUND(G22*PRODUCT($U$3:$U22),2),\"\")","v":2353658.66},{"$f":"IF(C22<>\"\",ROUND(MIN(F22*PRODUCT($U$3:$U22),20000000),2),\"\")","v":2026880.4},{"$f":"IF(C22<>\"\",ROUND(I22*PRODUCT($U$3:$U22),2),\"\")","v":2353658.66},{"$f":"home!K31","v":200000},{"$f":"IF(C22<>\"\",S22/(I22*PRODUCT($U$3:U21)),\"\")","v":7.8319002870664067E-2},0.92168099712933593]
[20,20,19,{"$f":"IF(B23=\"\",\"\",IF(B23>ppp,0,home!$J$9))","v":0},{"$f":"IF($B23<>\"\",home!$L$9,\"\")","v":1588400},{"$f":"IF($B23<>\"\",ROUND(home!$L$9*1.035^(B23-1),0),\"\")","v":3053701},3545956,3053701,{"$f":"IF(C23<>\"\",ROUND(VLOOKUP(id&\"L\"&B23,现金价值表!$A$7:$K$43716,8,FALSE)*tbfs,2),\"\")","v":3545956},null,20,19,0,{"$f":"IF(C23<>\"\",ROUND(E23*PRODUCT($U$3:$U23),2),\"\")","v":1001604.2},{"$f":"IF(C23<>\"\",ROUND(F23*PRODUCT($U$3:$U23),2),\"\")","v":1925585.33},{"$f":"IF(C23<>\"\",ROUND(G23*PRODUCT($U$3:$U23),2),\"\")","v":2235988.6800000002},{"$f":"IF(C23<>\"\",ROUND(MIN(F23*PRODUCT($U$3:$U23),20000000),2),\"\")","v":1925585.33},{"$f":"IF(C23<>\"\",ROUND(I23*PRODUCT($U$3:$U23),2),\"\")","v":2235988.6800000002},{"$f":"home!K32","v":200000},{"$f":"IF(C23<>\"\",S23/(I23*PRODUCT($U$3:U22)),\"\")","v":8.2102187741476887E-2},0.91789781225852307]
[21,21,20,{"$f":"IF(B24=\"\",\"\",IF(B24>ppp,0,home!$J$9))","v":0},{"$f":"IF($B24<>\"\",home!$L$9,\"\")","v":1588400},{"$f":"IF($B24<>\"\",ROUND(home!$L$9*1.035^(B24-1),0),\"\")","v":3160581},3669996,3160581,{"$f":"IF(C24<>\"\",ROUND(VLOOKUP(id&\"L\"&B24,现金价值表!$A$7:$K$43716,8,FALSE)*tbfs,2),\"\")","v":3669996},null,21,20,0,{"$f":"IF(C24<>\"\",ROUND(E24*PRODUCT($U$3:$U24),2),\"\")","v":915042.8},{"$f":"IF(C24<>\"\",ROUND(F24*PRODUCT($U$3:$U24),2),\"\")","v":1820742.18},{"$f":"IF(C24<>\"\",ROUND(G24*PRODUCT($U$3:$U24),2),\"\")","v":2114205.12},{"$f":"IF(C24<>\"\",ROUND(MIN(F24*PRODUCT($U$3:$U24),20000000),2),\"\")","v":1820742.18},{"$f":"IF(C24<>\"\",ROUND(I24*PRODUCT($U$3:$U24),2),\"\")","v":2114205.12},{"$f":"home!K33","v":200000},{"$f":"IF(C24<>\"\",S24/(I24*PRODUCT($U$3:U23)),\"\")","v":8.6422762903419645E-2},0.91357723709658034]
[22,22,21,{"$f":"IF(B25=\"\",\"\",IF(B25>ppp,0,home!$J$9))","v":0},{"$f":"IF($B25<>\"\",home!$L$9,\"\")","v":1588400},{"$f":"IF($B25<>\"\",ROUND(home!$L$9*1.035^(B25-1),0),\"\")","v":3271201},3798368,3271201,{"$f":"IF(C25<>\"\",ROUND(VLOOKUP(id&\"L\"&B25,现金价值表!$A$7:$K$43716,8,FALSE)*tbfs,2),\"\")","v":3798368},null,22,21,0,{"$f":"IF(C25<>\"\",ROUND(E25*PRODUCT($U$3:$U25),2),\"\")","v":705953},{"$f":"IF(C25<>\"\",ROUND(F25*PRODUCT($U$3:$U25),2),\"\")","v":1453861.85},{"$f":"IF(C25<>\"\",ROUND(G25*PRODUCT($U$3:$U25),2),\"\")","v":1688157.44},{"$f":"IF(C25<>\"\",ROUND(MIN(F25*PRODUCT($U$3:$U25),20000000),2),\"\")","v":1453861.85},{"$f":"IF(C25<>\"\",ROUND(I25*PRODUCT($U$3:$U25),2),\"\")","v":1688157.44},{"$f":"home!K34","v":500000},{"$f":"IF(C25<>\"\",S25/(I25*PRODUCT($U$3:U24)),\"\")","v":0.22850275333504053},0.77149724666495945]
[23,23,22,{"$f":"IF(B26=\"\",\"\",IF(B26>ppp,0,home!$J$9))","v":0},{"$f":"IF($B26<>\"\",home!$L$9,\"\")","v":1588400},{"$f":"IF($B26<>\"\",ROUND(home!$L$9*1.035^(B26-1),0),\"\")","v":3385693},3931236,3385693,{"$f":"IF(C26<>\"\",ROUND(VLOOKUP(id&\"L\"&B26,现金价值表!$A$7:$K$43716,8,FALSE)*tbfs,2),\"\")","v":3931236},null,23,22,0,{"$f":"IF(C26<>\"\",ROUND(E26*PRODUCT($U$3:$U26),2),\"\")","v":503930.02},{"$f":"IF(C26<>\"\",ROUND(F26*PRODUCT($U$3:$U26),2),\"\")","v":1074132.68},{"$f":"IF(C26<>\"\",ROUND(G26*PRODUCT($U$3:$U26),2),\"\")","v":1247209.67},{"$f":"IF(C26<>\"\",ROUND(MIN(F26*PRODUCT($U$3:$U26),20000000),2),\"\")","v":1074132.68},{"$f":"IF(C26<>\"\",ROUND(I26*PRODUCT($U$3:$U26),2),\"\")","v":1247209.67},{"$f":"home!K35","v":500000},{"$f":"IF(C26<>\"\",S26/(I26*PRODUCT($U$3:U25)),\"\")","v":0.28617057708570665},0.71382942291429341]
[24,24,23,{"$f":"IF(B27=\"\",\"\",IF(B27>ppp,0,home!$J$9))","v":0},{"$f":"IF($B27<>\"\",home!$L$9,\"\")","v":1588400},{"$f":"IF($B27<>\"\",ROUND(home!$L$9*1.035^(B27-1),0),\"\")","v":3504192},4068744,3504192,{"$f":"IF(C27<>\"\",ROUND(VLOOKUP(id&\"L\"&B27,现金价值表!$A$7:$K$43716,8,FALSE)*tbfs,2),\"\")","v":4068744},null,24,23,0,{"$f":"IF(C27<>\"\",ROUND(E27*PRODUCT($U$3:$U27),2),\"\")","v":308734.65000000002},{"$f":"IF(C27<>\"\",ROUND(F27*PRODUCT($U$3:$U27),2),\"\")","v":681103.93},{"$f":"IF(C27<>\"\",ROUND(G27*PRODUCT($U$3:$U27),2),\"\")","v":790834.96},{"$f":"IF(C27<>\"\",ROUND(MIN(F27*PRODUCT($U$3:$U27),20000000),2),\"\")","v":681103.93},{"$f":"IF(C27<>\"\",ROUND(I27*PRODUCT($U$3:$U27),2),\"\")","v":790834.96},{"$f":"home!K36","v":500000},{"$f":"IF(C27<>\"\",S27/(I27*PRODUCT($U$3:U26)),\"\")","v":0.3873461869172658},0.61265381308273414]
[25,25,24,{"$f":"IF(B28=\"\",\"\",IF(B28>ppp,0,home!$J$9))","v":0},{"$f":"IF($B28<>\"\",home!$L$9,\"\")","v":1588400},{"$f":"IF($B28<>\"\",ROUND(home!$L$9*1.035^(B28-1),0),\"\")","v":3626839},4211064,3626839,{"$f":"IF(C28<>\"\",ROUND(VLOOKUP(id&\"L\"&B28,现金价值表!$A$7:$K$43716,8,FALSE)*tbfs,2),\"\")","v":4211064},null,25,24,0,{"$f":"IF(C28<>\"\",ROUND(E28*PRODUCT($U$3:$U28),2),\"\")","v":308734.65000000002},{"$f":"IF(C28<>\"\",ROUND(F28*PRODUCT($U$3:$U28),2),\"\")","v":704942.63},{"$f":"IF(C28<>\"\",ROUND(G28*PRODUCT($U$3:$U28),2),\"\")","v":818497.46},{"$f":"IF(C28<>\"\",ROUND(MIN(F28*PRODUCT($U$3:$U28),20000000),2),\"\")","v":704942.63},{"$f":"IF(C28<>\"\",ROUND(I28*PRODUCT($U$3:$U28),2),\"\")","v":818497.46},{"$f":"home!K37","v":0},{"$f":"IF(C28<>\"\",S28/(I28*PRODUCT($U$3:U27)),\"\")","v":0},1]
[26,26,25,{"$f":"IF(B29=\"\",\"\",IF(B29>ppp,0,home!$J$9))","v":0},{"$f":"IF($B29<>\"\",home!$L$9,\"\")","v":1588400},{"$f":"IF($B29<>\"\",ROUND(home!$L$9*1.035^(B29-1),0),\"\")","v":3753778},4358360,3753778,{"$f":"IF(C29<>\"\",ROUND(VLOOKUP(id&\"L\"&B29,现金价值表!$A$7:$K$43716,8,FALSE)*tbfs,2),\"\")","v":4358360},null,26,25,0,{"$f":"IF(C29<>\"\",ROUND(E29*PRODUCT($U$3:$U29),2),\"\")","v":308734.65000000002},{"$f":"IF(C29<>\"\",ROUND(F29*PRODUCT($U$3:$U29),2),\"\")","v":729615.55},{"$f":"IF(C29<>\"\",ROUND(G29*PRODUCT($U$3:$U29),2),\"\")","v":847127.14},{"$f":"IF(C29<>\"\",ROUND(MIN(F29*PRODUCT($U$3:$U29),20000000),2),\"\")","v":729615.55},{"$f":"IF(C29<>\"\",ROUND(I29*PRODUCT($U$3:$U29),2),\"\")","v":847127.14},{"$f":"home!K38","v":0},{"$f":"IF(C29<>\"\",S29/(I29*PRODUCT($U$3:U28)),\"\")","v":0},1]
[27,27,26,{"$f":"IF(B30=\"\",\"\",IF(B30>ppp,0,home!$J$9))","v":0},{"$f":"IF($B30<>\"\",home!$L$9,\"\")","v":1588400},{"$f":"IF($B30<>\"\",ROUND(home!$L$9*1.035^(B30-1),0),\"\")","v":3885161},4510804,3885161,{"$f":"IF(C30<>\"\",ROUND(VLOOKUP(id&\"L\"&B30,现金价值表!$A$7:$K$43716,8,FALSE)*tbfs,2),\"\")","v":4510804},null,27,26,0,{"$f":"IF(C30<>\"\",ROUND(E30*PRODUCT($U$3:$U30),2),\"\")","v":308734.65000000002},{"$f":"IF(C30<>\"\",ROUND(F30*PRODUCT($U$3:$U30),2),\"\")","v":755152.24},{"$f":"IF(C30<>\"\",ROUND(G30*PRODUCT($U$3:$U30),2),\"\")","v":876757.42},{"$f":"IF(C30<>\"\",ROUND(MIN(F30*PRODUCT($U$3:$U30),20000000),2),\"\")","v":755152.24},{"$f":"IF(C30<>\"\",ROUND(I30*PRODUCT($U$3:$U30),2),\"\")","v":876757.42},{"$f":"home!K39","v":0},{"$f":"IF(C30<>\"\",S30/(I30*PRODUCT($U$3:U29)),\"\")","v":0},1]
[28,28,27,{"$f":"IF(B31=\"\",\"\",IF(B31>ppp,0,home!$J$9))","v":0},{"$f":"IF($B31<>\"\",home!$L$9,\"\")","v":1588400},{"$f":"IF($B31<>\"\",ROUND(home!$L$9*1.035^(B31-1),0),\"\")","v":4021141},4668576,4021141,{"$f":"IF(C31<>\"\",ROUND(VLOOKUP(id&\"L\"&B31,现金价值表!$A$7:$K$43716,8,FALSE)*tbfs,2),\"\")","v":4668576},null,28,27,0,{"$f":"IF(C31<>\"\",ROUND(E31*PRODUCT($U$3:$U31),2),\"\")","v":308734.65000000002},{"$f":"IF(C31<>\"\",ROUND(F31*PRODUCT($U$3:$U31),2),\"\")","v":781582.45},{"$f":"IF(C31<>\"\",ROUND(G31*PRODUCT($U$3:$U31),2),\"\")","v":907423.3},{"$f":"IF(C31<>\"\",ROUND(MIN(F31*PRODUCT($U$3:$U31),20000000),2),\"\")","v":781582.45},{"$f":"IF(C31<>\"\",ROUND(I31*PRODUCT($U$3:$U31),2),\"\")","v":907423.3},{"$f":"home!K40","v":0},{"$f":"IF(C31<>\"\",S31/(I31*PRODUCT($U$3:U30)),\"\")","v":0},1]
[29,29,28,{"$f":"IF(B32=\"\",\"\",IF(B32>ppp,0,home!$J$9))","v":0},{"$f":"IF($B32<>\"\",home!$L$9,\"\")","v":1588400},{"$f":"IF($B32<>\"\",ROUND(home!$L$9*1.035^(B32-1),0),\"\")","v":4161881},4831868,4161881,{"$f":"IF(C32<>\"\",ROUND(VLOOKUP(id&\"L\"&B32,现金价值表!$A$7:$K$43716,8,FALSE)*tbfs,2),\"\")","v":4831868},null,29,28,0,{"$f":"IF(C32<>\"\",ROUND(E32*PRODUCT($U$3:$U32),2),\"\")","v":308734.65000000002},{"$f":"IF(C32<>\"\",ROUND(F32*PRODUCT($U$3:$U32),2),\"\")","v":808937.84},{"$f":"IF(C32<>\"\",ROUND(G32*PRODUCT($U$3:$U32),2),\"\")","v":939162.1},{"$f":"IF(C32<>\"\",ROUND(MIN(F32*PRODUCT($U$3:$U32),20000000),2),\"\")","v":808937.84},{"$f":"IF(C32<>\"\",ROUND(I32*PRODUCT($U$3:$U32),2),\"\")","v":939162.1},{"$f":"home!K41","v":0},{"$f":"IF(C32<>\"\",S32/(I32*PRODUCT($U$3:U31)),\"\")","v":0},1]
[30,30,29,{"$f":"IF(B33=\"\",\"\",IF(B33>ppp,0,home!$J$9))","v":0},{"$f":"IF($B33<>\"\",home!$L$9,\"\")","v":1588400},{"$f":"IF($B33<>\"\",ROUND(home!$L$9*1.035^(B33-1),0),\"\")","v":4307547},5000864,4307547,{"$f":"IF(C33<>\"\",ROUND(VLOOKUP(id&\"L\"&B33,现金价值表!$A$7:$K$43716,8,FALSE)*tbfs,2),\"\")","v":5000864},null,30,29,0,{"$f":"IF(C33<>\"\",ROUND(E33*PRODUCT($U$3:$U33),2),\"\")","v":308734.65000000002},{"$f":"IF(C33<>\"\",ROUND(F33*PRODUCT($U$3:$U33),2),\"\")","v":837250.7},{"$f":"IF(C33<>\"\",ROUND(G33*PRODUCT($U$3:$U33),2),\"\")","v":972009.56},{"$f":"IF(C33<>\"\",ROUND(MIN(F33*PRODUCT($U$3:$U33),20000000),2),\"\")","v":837250.7},{"$f":"IF(C33<>\"\",ROUND(I33*PRODUCT($U$3:$U33),2),\"\")","v":972009.56},{"$f":"home!K42","v":0},{"$f":"IF(C33<>\"\",S33/(I33*PRODUCT($U$3:U32)),\"\")","v":0},1]
[31,31,30,{"$f":"IF(B34=\"\",\"\",IF(B34>ppp,0,home!$J$9))","v":0},{"$f":"IF($B34<>\"\",home!$L$9,\"\")","v":1588400},{"$f":"IF($B34<>\"\",ROUND(home!$L$9*1.035^(B34-1),0),\"\")","v":4458311},5175768,4458311,{"$f":"IF(C34<>\"\",ROUND(VLOOKUP(id&\"L\"&B34,现金价值表!$A$7:$K$43716,8,FALSE)*tbfs,2),\"\")","v":5175768},null,31,30,0,{"$f":"IF(C34<>\"\",ROUND(E34*PRODUCT($U$3:$U34),2),\"\")","v":308734.65000000002},{"$f":"IF(C34<>\"\",ROUND(F34*PRODUCT($U$3:$U34),2),\"\")","v":866554.45},{"$f":"IF(C34<>\"\",ROUND(G34*PRODUCT($U$3:$U34),2),\"\")","v":1006005.36},{"$f":"IF(C34<>\"\",ROUND(MIN(F34*PRODUCT($U$3:$U34),20000000),2),\"\")","v":866554.45},{"$f":"IF(C34<>\"\",ROUND(I34*PRODUCT($U$3:$U34),2),\"\")","v":1006005.36},{"$f":"home!K43","v":0},{"$f":"IF(C34<>\"\",S34/(I34*PRODUCT($U$3:U33)),\"\")","v":0},1]
[32,32,31,{"$f":"IF(B35=\"\",\"\",IF(B35>ppp,0,home!$J$9))","v":0},{"$f":"IF($B35<>\"\",home!$L$9,\"\")","v":1588400},{"$f":"IF($B35<>\"\",ROUND(home!$L$9*1.035^(B35-1),0),\"\")","v":4614352},5356784,4614352,{"$f":"IF(C35<>\"\",ROUND(VLOOKUP(id&\"L\"&B35,现金价值表!$A$7:$K$43716,8,FALSE)*tbfs,2),\"\")","v":5356784},null,32,31,0,{"$f":"IF(C35<>\"\",ROUND(E35*PRODUCT($U$3:$U35),2),\"\")","v":308734.65000000002},{"$f":"IF(C35<>\"\",ROUND(F35*PRODUCT($U$3:$U35),2),\"\")","v":896883.87},{"$f":"IF(C35<>\"\",ROUND(G35*PRODUCT($U$3:$U35),2),\"\")","v":1041189.14},{"$f":"IF(C35<>\"\",ROUND(MIN(F35*PRODUCT($U$3:$U35),20000000),2),\"\")","v":896883.87},{"$f":"IF(C35<>\"\",ROUND(I35*PRODUCT($U$3:$U35),2),\"\")","v":1041189.14},{"$f":"home!K44","v":0},{"$f":"IF(C35<>\"\",S35/(I35*PRODUCT($U$3:U34)),\"\")","v":0},1]
[33,33,32,{"$f":"IF(B36=\"\",\"\",IF(B36>ppp,0,home!$J$9))","v":0},{"$f":"IF($B36<>\"\",home!$L$9,\"\")","v":1588400},{"$f":"IF($B36<>\"\",ROUND(home!$L$9*1.035^(B36-1),0),\"\")","v":4775854},{"$f":"IF($B36<>\"\",IF(C36<18,MAX(sv*MIN(B36,ppp),I36),IF(B36<=ppp,MAX(sv*MIN(B36,ppp)*IF(C36<41,160%,IF(C36<61,140%,120%)),I36),MAX(sv*MIN(B36,ppp)*IF(C36<41,160%,IF(C36<61,140%,120%)),I36,F36))),\"\")","v":5544128},4775854,{"$f":"IF(C36<>\"\",ROUND(VLOOKUP(id&\"L\"&B36,现金价值表!$A$7:$K$43716,8,FALSE)*tbfs,2),\"\")","v":5544128},null,33,32,0,{"$f":"IF(C36<>\"\",ROUND(E36*PRODUCT($U$3:$U36),2),\"\")","v":308734.65000000002},{"$f":"IF(C36<>\"\",ROUND(F36*PRODUCT($U$3:$U36),2),\"\")","v":928274.75},{"$f":"IF(C36<>\"\",ROUND(G36*PRODUCT($U$3:$U36),2),\"\")","v":1077602.8799999999},{"$f":"IF(C36<>\"\",ROUND(MIN(F36*PRODUCT($U$3:$U36),20000000),2),\"\")","v":928274.75},{"$f":"IF(C36<>\"\",ROUND(I36*PRODUCT($U$3:$U36),2),\"\")","v":1077602.8799999999},{"$f":"home!K45","v":0},{"$f":"IF(C36<>\"\",S36/(I36*PRODUCT($U$3:U35)),\"\")","v":0},{"$f":"IF(C36<>\"\",1-T36,\"\")","v":1}]
[34,34,33,{"$f":"IF(B37=\"\",\"\",IF(B37>ppp,0,home!$J$9))","v":0},{"$f":"IF($B37<>\"\",home!$L$9,\"\")","v":1588400},{"$f":"IF($B37<>\"\",ROUND(home!$L$9*1.035^(B37-1),0),\"\")","v":4943009},5738016,4943009,{"$f":"IF(C37<>\"\",ROUND(VLOOKUP(id&\"L\"&B37,现金价值表!$A$7:$K$43716,8,FALSE)*tbfs,2),\"\")","v":5738016},null,{"$f":"B37","v":34},{"$f":"C37","v":33},0,{"$f":"IF(C37<>\"\",ROUND(E37*PRODUCT($U$3:$U37),2),\"\")","v":308734.65000000002},{"$f":"IF(C37<>\"\",ROUND(F37*PRODUCT($U$3:$U37),2),\"\")","v":960764.39},{"$f":"IF(C37<>\"\",ROUND(G37*PRODUCT($U$3:$U37),2),\"\")","v":1115288.57},{"$f":"IF(C37<>\"\",ROUND(MIN(F37*PRODUCT($U$3:$U37),20000000),2),\"\")","v":960764.39},{"$f":"IF(C37<>\"\",ROUND(I37*PRODUCT($U$3:$U37),2),\"\")","v":1115288.57},{"$f":"home!K46","v":0},{"$f":"IF(C37<>\"\",S37/(I37*PRODUCT($U$3:U36)),\"\")","v":0},1]
[35,35,34,{"$f":"IF(B38=\"\",\"\",IF(B38>ppp,0,home!$J$9))","v":0},{"$f":"IF($B38<>\"\",home!$L$9,\"\")","v":1588400},{"$f":"IF($B38<>\"\",ROUND(home!$L$9*1.035^(B38-1),0),\"\")","v":5116015},5938676,5116015,{"$f":"IF(C38<>\"\",ROUND(VLOOKUP(id&\"L\"&B38,现金价值表!$A$7:$K$43716,8,FALSE)*tbfs,2),\"\")","v":5938676},null,35,34,0,{"$f":"IF(C38<>\"\",ROUND(E38*PRODUCT($U$3:$U38),2),\"\")","v":308734.65000000002},{"$f":"IF(C38<>\"\",ROUND(F38*PRODUCT($U$3:$U38),2),\"\")","v":994391.27},{"$f":"IF(C38<>\"\",ROUND(G38*PRODUCT($U$3:$U38),2),\"\")","v":1154290.51},{"$f":"IF(C38<>\"\",ROUND(MIN(F38*PRODUCT($U$3:$U38),20000000),2),\"\")","v":994391.27},{"$f":"IF(C38<>\"\",ROUND(I38*PRODUCT($U$3:$U38),2),\"\")","v":1154290.51},{"$f":"home!K47","v":0},{"$f":"IF(C38<>\"\",S38/(I38*PRODUCT($U$3:U37)),\"\")","v":0},1]
[36,36,35,{"$f":"IF(B39=\"\",\"\",IF(B39>ppp,0,home!$J$9))","v":0},{"$f":"IF($B39<>\"\",home!$L$9,\"\")","v":1588400},{"$f":"IF($B39<>\"\",ROUND(home!$L$9*1.035^(B39-1),0),\"\")","v":5295075},6146348,5295075,{"$f":"IF(C39<>\"\",ROUND(VLOOKUP(id&\"L\"&B39,现金价值表!$A$7:$K$43716,8,FALSE)*tbfs,2),\"\")","v":6146348},null,36,35,0,{"$f":"IF(C39<>\"\",ROUND(E39*PRODUCT($U$3:$U39),2),\"\")","v":308734.65000000002},{"$f":"IF(C39<>\"\",ROUND(F39*PRODUCT($U$3:$U39),2),\"\")","v":1029194.86},{"$f":"IF(C39<>\"\",ROUND(G39*PRODUCT($U$3:$U39),2),\"\")","v":1194655.3700000001},{"$f":"IF(C39<>\"\",ROUND(MIN(F39*PRODUCT($U$3:$U39),20000000),2),\"\")","v":1029194.86},{"$f":"IF(C39<>\"\",ROUND(I39*PRODUCT($U$3:$U39),2),\"\")","v":1194655.3700000001},{"$f":"home!K48","v":0},{"$f":"IF(C39<>\"\",S39/(I39*PRODUCT($U$3:U38)),\"\")","v":0},1]
[37,37,36,{"$f":"IF(B40=\"\",\"\",IF(B40>ppp,0,home!$J$9))","v":0},{"$f":"IF($B40<>\"\",home!$L$9,\"\")","v":1588400},{"$f":"IF($B40<>\"\",ROUND(home!$L$9*1.035^(B40-1),0),\"\")","v":5480403},6361272,5480403,{"$f":"IF(C40<>\"\",ROUND(VLOOKUP(id&\"L\"&B40,现金价值表!$A$7:$K$43716,8,FALSE)*tbfs,2),\"\")","v":6361272},null,37,36,0,{"$f":"IF(C40<>\"\",ROUND(E40*PRODUCT($U$3:$U40),2),\"\")","v":308734.65000000002},{"$f":"IF(C40<>\"\",ROUND(F40*PRODUCT($U$3:$U40),2),\"\")","v":1065216.76},{"$f":"IF(C40<>\"\",ROUND(G40*PRODUCT($U$3:$U40),2),\"\")","v":1236429.79},{"$f":"IF(C40<>\"\",ROUND(MIN(F40*PRODUCT($U$3:$U40),20000000),2),\"\")","v":1065216.76},{"$f":"IF(C40<>\"\",ROUND(I40*PRODUCT($U$3:$U40),2),\"\")","v":1236429.79},{"$f":"home!K49","v":0},{"$f":"IF(C40<>\"\",S40/(I40*PRODUCT($U$3:U39)),\"\")","v":0},1]
[38,38,37,{"$f":"IF(B41=\"\",\"\",IF(B41>ppp,0,home!$J$9))","v":0},{"$f":"IF($B41<>\"\",home!$L$9,\"\")","v":1588400},{"$f":"IF($B41<>\"\",ROUND(home!$L$9*1.035^(B41-1),0),\"\")","v":5672217},6583700,5672217,{"$f":"IF(C41<>\"\",ROUND(VLOOKUP(id&\"L\"&B41,现金价值表!$A$7:$K$43716,8,FALSE)*tbfs,2),\"\")","v":6583700},null,38,37,0,{"$f":"IF(C41<>\"\",ROUND(E41*PRODUCT($U$3:$U41),2),\"\")","v":308734.65000000002},{"$f":"IF(C41<>\"\",ROUND(F41*PRODUCT($U$3:$U41),2),\"\")","v":1102499.32},{"$f":"IF(C41<>\"\",ROUND(G41*PRODUCT($U$3:$U41),2),\"\")","v":1279662.75},{"$f":"IF(C41<>\"\",ROUND(MIN(F41*PRODUCT($U$3:$U41),20000000),2),\"\")","v":1102499.32},{"$f":"IF(C41<>\"\",ROUND(I41*PRODUCT($U$3:$U41),2),\"\")","v":1279662.75},{"$f":"home!K50","v":0},{"$f":"IF(C41<>\"\",S41/(I41*PRODUCT($U$3:U40)),\"\")","v":0},1]
[39,39,38,{"$f":"IF(B42=\"\",\"\",IF(B42>ppp,0,home!$J$9))","v":0},{"$f":"IF($B42<>\"\",home!$L$9,\"\")","v":1588400},{"$f":"IF($B42<>\"\",ROUND(home!$L$9*1.035^(B42-1),0),\"\")","v":5870744},6813892,5870744,{"$f":"IF(C42<>\"\",ROUND(VLOOKUP(id&\"L\"&B42,现金价值表!$A$7:$K$43716,8,FALSE)*tbfs,2),\"\")","v":6813892},null,39,38,0,{"$f":"IF(C42<>\"\",ROUND(E42*PRODUCT($U$3:$U42),2),\"\")","v":308734.65000000002},{"$f":"IF(C42<>\"\",ROUND(F42*PRODUCT($U$3:$U42),2),\"\")","v":1141086.68},{"$f":"IF(C42<>\"\",ROUND(G42*PRODUCT($U$3:$U42),2),\"\")","v":1324404.78},{"$f":"IF(C42<>\"\",ROUND(MIN(F42*PRODUCT($U$3:$U42),20000000),2),\"\")","v":1141086.68},{"$f":"IF(C42<>\"\",ROUND(I42*PRODUCT($U$3:$U42),2),\"\")","v":1324404.78},{"$f":"home!K51","v":0},{"$f":"IF(C42<>\"\",S42/(I42*PRODUCT($U$3:U41)),\"\")","v":0},1]
[40,40,39,{"$f":"IF(B43=\"\",\"\",IF(B43>ppp,0,home!$J$9))","v":0},{"$f":"IF($B43<>\"\",home!$L$9,\"\")","v":1588400},{"$f":"IF($B43<>\"\",ROUND(home!$L$9*1.035^(B43-1),0),\"\")","v":6076220},7052120,6076220,{"$f":"IF(C43<>\"\",ROUND(VLOOKUP(id&\"L\"&B43,现金价值表!$A$7:$K$43716,8,FALSE)*tbfs,2),\"\")","v":7052120},null,40,39,0,{"$f":"IF(C43<>\"\",ROUND(E43*PRODUCT($U$3:$U43),2),\"\")","v":308734.65000000002},{"$f":"IF(C43<>\"\",ROUND(F43*PRODUCT($U$3:$U43),2),\"\")","v":1181024.71},{"$f":"IF(C43<>\"\",ROUND(G43*PRODUCT($U$3:$U43),2),\"\")","v":1370708.76},{"$f":"IF(C43<>\"\",ROUND(MIN(F43*PRODUCT($U$3:$U43),20000000),2),\"\")","v":1181024.71},{"$f":"IF(C43<>\"\",ROUND(I43*PRODUCT($U$3:$U43),2),\"\")","v":1370708.76},{"$f":"home!K52","v":0},{"$f":"IF(C43<>\"\",S43/(I43*PRODUCT($U$3:U42)),\"\")","v":0},1]
[41,41,40,{"$f":"IF(B44=\"\",\"\",IF(B44>ppp,0,home!$J$9))","v":0},{"$f":"IF($B44<>\"\",home!$L$9,\"\")","v":1588400},{"$f":"IF($B44<>\"\",ROUND(home!$L$9*1.035^(B44-1),0),\"\")","v":6288888},7298656,6288888,{"$f":"IF(C44<>\"\",ROUND(VLOOKUP(id&\"L\"&B44,现金价值表!$A$7:$K$43716,8,FALSE)*tbfs,2),\"\")","v":7298656},null,41,40,0,{"$f":"IF(C44<>\"\",ROUND(E44*PRODUCT($U$3:$U44),2),\"\")","v":308734.65000000002},{"$f":"IF(C44<>\"\",ROUND(F44*PRODUCT($U$3:$U44),2),\"\")","v":1222360.6299999999},{"$f":"IF(C44<>\"\",ROUND(G44*PRODUCT($U$3:$U44),2),\"\")","v":1418627.55},{"$f":"IF(C44<>\"\",ROUND(MIN(F44*PRODUCT($U$3:$U44),20000000),2),\"\")","v":1222360.6299999999},{"$f":"IF(C44<>\"\",ROUND(I44*PRODUCT($U$3:$U44),2),\"\")","v":1418627.55},{"$f":"home!K53","v":0},{"$f":"IF(C44<>\"\",S44/(I44*PRODUCT($U$3:U43)),\"\")","v":0},1]
[42,42,41,{"$f":"IF(B45=\"\",\"\",IF(B45>ppp,0,home!$J$9))","v":0},{"$f":"IF($B45<>\"\",home!$L$9,\"\")","v":1588400},{"$f":"IF($B45<>\"\",ROUND(home!$L$9*1.035^(B45-1),0),\"\")","v":6508999},7553796,6508999,{"$f":"IF(C45<>\"\",ROUND(VLOOKUP(id&\"L\"&B45,现金价值表!$A$7:$K$43716,8,FALSE)*tbfs,2),\"\")","v":7553796},null,42,41,0,{"$f":"IF(C45<>\"\",ROUND(E45*PRODUCT($U$3:$U45),2),\"\")","v":308734.65000000002},{"$f":"IF(C45<>\"\",ROUND(F45*PRODUCT($U$3:$U45),2),\"\")","v":1265143.24},{"$f":"IF(C45<>\"\",ROUND(G45*PRODUCT($U$3:$U45),2),\"\")","v":1468218.68},{"$f":"IF(C45<>\"\",ROUND(MIN(F45*PRODUCT($U$3:$U45),20000000),2),\"\")","v":1265143.24},{"$f":"IF(C45<>\"\",ROUND(I45*PRODUCT($U$3:$U45),2),\"\")","v":1468218.68},{"$f":"home!K54","v":0},{"$f":"IF(C45<>\"\",S45/(I45*PRODUCT($U$3:U44)),\"\")","v":0},1]
[43,43,42,{"$f":"IF(B46=\"\",\"\",IF(B46>ppp,0,home!$J$9))","v":0},{"$f":"IF($B46<>\"\",home!$L$9,\"\")","v":1588400},{"$f":"IF($B46<>\"\",ROUND(home!$L$9*1.035^(B46-1),0),\"\")","v":6736814},7817828,6736814,{"$f":"IF(C46<>\"\",ROUND(VLOOKUP(id&\"L\"&B46,现金价值表!$A$7:$K$43716,8,FALSE)*tbfs,2),\"\")","v":7817828},null,43,42,0,{"$f":"IF(C46<>\"\",ROUND(E46*PRODUCT($U$3:$U46),2),\"\")","v":308734.65000000002},{"$f":"IF(C46<>\"\",ROUND(F46*PRODUCT($U$3:$U46),2),\"\")","v":1309423.26},{"$f":"IF(C46<>\"\",ROUND(G46*PRODUCT($U$3:$U46),2),\"\")","v":1519538.14},{"$f":"IF(C46<>\"\",ROUND(MIN(F46*PRODUCT($U$3:$U46),20000000),2),\"\")","v":1309423.26},{"$f":"IF(C46<>\"\",ROUND(I46*PRODUCT($U$3:$U46),2),\"\")","v":1519538.14},{"$f":"home!K55","v":0},{"$f":"IF(C46<>\"\",S46/(I46*PRODUCT($U$3:U45)),\"\")","v":0},1]
[44,44,43,{"$f":"IF(B47=\"\",\"\",IF(B47>ppp,0,home!$J$9))","v":0},{"$f":"IF($B47<>\"\",home!$L$9,\"\")","v":1588400},{"$f":"IF($B47<>\"\",ROUND(home!$L$9*1.035^(B47-1),0),\"\")","v":6972603},8091060,6972603,{"$f":"IF(C47<>\"\",ROUND(VLOOKUP(id&\"L\"&B47,现金价值表!$A$7:$K$43716,8,FALSE)*tbfs,2),\"\")","v":8091060},null,44,43,0,{"$f":"IF(C47<>\"\",ROUND(E47*PRODUCT($U$3:$U47),2),\"\")","v":308734.65000000002},{"$f":"IF(C47<>\"\",ROUND(F47*PRODUCT($U$3:$U47),2),\"\")","v":1355253.17},{"$f":"IF(C47<>\"\",ROUND(G47*PRODUCT($U$3:$U47),2),\"\")","v":1572645.79},{"$f":"IF(C47<>\"\",ROUND(MIN(F47*PRODUCT($U$3:$U47),20000000),2),\"\")","v":1355253.17},{"$f":"IF(C47<>\"\",ROUND(I47*PRODUCT($U$3:$U47),2),\"\")","v":1572645.79},{"$f":"home!K56","v":0},{"$f":"IF(C47<>\"\",S47/(I47*PRODUCT($U$3:U46)),\"\")","v":0},1]
[45,45,44,{"$f":"IF(B48=\"\",\"\",IF(B48>ppp,0,home!$J$9))","v":0},{"$f":"IF($B48<>\"\",home!$L$9,\"\")","v":1588400},{"$f":"IF($B48<>\"\",ROUND(home!$L$9*1.035^(B48-1),0),\"\")","v":7216644},8373812,7216644,{"$f":"IF(C48<>\"\",ROUND(VLOOKUP(id&\"L\"&B48,现金价值表!$A$7:$K$43716,8,FALSE)*tbfs,2),\"\")","v":8373812},null,45,44,0,{"$f":"IF(C48<>\"\",ROUND(E48*PRODUCT($U$3:$U48),2),\"\")","v":308734.65000000002},{"$f":"IF(C48<>\"\",ROUND(F48*PRODUCT($U$3:$U48),2),\"\")","v":1402687.01},{"$f":"IF(C48<>\"\",ROUND(G48*PRODUCT($U$3:$U48),2),\"\")","v":1627603.82},{"$f":"IF(C48<>\"\",ROUND(MIN(F48*PRODUCT($U$3:$U48),20000000),2),\"\")","v":1402687.01},{"$f":"IF(C48<>\"\",ROUND(I48*PRODUCT($U$3:$U48),2),\"\")","v":1627603.82},{"$f":"home!K57","v":0},{"$f":"IF(C48<>\"\",S48/(I48*PRODUCT($U$3:U47)),\"\")","v":0},1]
[46,46,45,{"$f":"IF(B49=\"\",\"\",IF(B49>ppp,0,home!$J$9))","v":0},{"$f":"IF($B49<>\"\",home!$L$9,\"\")","v":1588400},{"$f":"IF($B49<>\"\",ROUND(home!$L$9*1.035^(B49-1),0),\"\")","v":7469226},8666408,7469226,{"$f":"IF(C49<>\"\",ROUND(VLOOKUP(id&\"L\"&B49,现金价值表!$A$7:$K$43716,8,FALSE)*tbfs,2),\"\")","v":8666408},null,46,45,0,{"$f":"IF(C49<>\"\",ROUND(E49*PRODUCT($U$3:$U49),2),\"\")","v":308734.65000000002},{"$f":"IF(C49<>\"\",ROUND(F49*PRODUCT($U$3:$U49),2),\"\")","v":1451780.96},{"$f":"IF(C49<>\"\",ROUND(G49*PRODUCT($U$3:$U49),2),\"\")","v":1684475.22},{"$f":"IF(C49<>\"\",ROUND(MIN(F49*PRODUCT($U$3:$U49),20000000),2),\"\")","v":1451780.96},{"$f":"IF(C49<>\"\",ROUND(I49*PRODUCT($U$3:$U49),2),\"\")","v":1684475.22},{"$f":"home!K58","v":0},{"$f":"IF(C49<>\"\",S49/(I49*PRODUCT($U$3:U48)),\"\")","v":0},1]
[47,47,46,{"$f":"IF(B50=\"\",\"\",IF(B50>ppp,0,home!$J$9))","v":0},{"$f":"IF($B50<>\"\",home!$L$9,\"\")","v":1588400},{"$f":"IF($B50<>\"\",ROUND(home!$L$9*1.035^(B50-1),0),\"\")","v":7730649},8969184,7730649,{"$f":"IF(C50<>\"\",ROUND(VLOOKUP(id&\"L\"&B50,现金价值表!$A$7:$K$43716,8,FALSE)*tbfs,2),\"\")","v":8969184},null,47,46,0,{"$f":"IF(C50<>\"\",ROUND(E50*PRODUCT($U$3:$U50),2),\"\")","v":308734.65000000002},{"$f":"IF(C50<>\"\",ROUND(F50*PRODUCT($U$3:$U50),2),\"\")","v":1502593.31},{"$f":"IF(C50<>\"\",ROUND(G50*PRODUCT($U$3:$U50),2),\"\")","v":1743325.28},{"$f":"IF(C50<>\"\",ROUND(MIN(F50*PRODUCT($U$3:$U50),20000000),2),\"\")","v":1502593.31},{"$f":"IF(C50<>\"\",ROUND(I50*PRODUCT($U$3:$U50),2),\"\")","v":1743325.28},{"$f":"home!K59","v":0},{"$f":"IF(C50<>\"\",S50/(I50*PRODUCT($U$3:U49)),\"\")","v":0},1]
[48,48,47,{"$f":"IF(B51=\"\",\"\",IF(B51>ppp,0,home!$J$9))","v":0},{"$f":"IF($B51<>\"\",home!$L$9,\"\")","v":1588400},{"$f":"IF($B51<>\"\",ROUND(home!$L$9*1.035^(B51-1),0),\"\")","v":8001222},9282488,8001222,{"$f":"IF(C51<>\"\",ROUND(VLOOKUP(id&\"L\"&B51,现金价值表!$A$7:$K$43716,8,FALSE)*tbfs,2),\"\")","v":9282488},null,48,47,0,{"$f":"IF(C51<>\"\",ROUND(E51*PRODUCT($U$3:$U51),2),\"\")","v":308734.65000000002},{"$f":"IF(C51<>\"\",ROUND(F51*PRODUCT($U$3:$U51),2),\"\")","v":1555184.13},{"$f":"IF(C51<>\"\",ROUND(G51*PRODUCT($U$3:$U51),2),\"\")","v":1804221.66},{"$f":"IF(C51<>\"\",ROUND(MIN(F51*PRODUCT($U$3:$U51),20000000),2),\"\")","v":1555184.13},{"$f":"IF(C51<>\"\",ROUND(I51*PRODUCT($U$3:$U51),2),\"\")","v":1804221.66},{"$f":"home!K60","v":0},{"$f":"IF(C51<>\"\",S51/(I51*PRODUCT($U$3:U50)),\"\")","v":0},1]
[49,49,48,{"$f":"IF(B52=\"\",\"\",IF(B52>ppp,0,home!$J$9))","v":0},{"$f":"IF($B52<>\"\",home!$L$9,\"\")","v":1588400},{"$f":"IF($B52<>\"\",ROUND(home!$L$9*1.035^(B52-1),0),\"\")","v":8281265},9606688,8281265,{"$f":"IF(C52<>\"\",ROUND(VLOOKUP(id&\"L\"&B52,现金价值表!$A$7:$K$43716,8,FALSE)*tbfs,2),\"\")","v":9606688},null,49,48,0,{"$f":"IF(C52<>\"\",ROUND(E52*PRODUCT($U$3:$U52),2),\"\")","v":308734.65000000002},{"$f":"IF(C52<>\"\",ROUND(F52*PRODUCT($U$3:$U52),2),\"\")","v":1609615.62},{"$f":"IF(C52<>\"\",ROUND(G52*PRODUCT($U$3:$U52),2),\"\")","v":1867235.87},{"$f":"IF(C52<>\"\",ROUND(MIN(F52*PRODUCT($U$3:$U52),20000000),2),\"\")","v":1609615.62},{"$f":"IF(C52<>\"\",ROUND(I52*PRODUCT($U$3:$U52),2),\"\")","v":1867235.87},{"$f":"home!K61","v":0},{"$f":"IF(C52<>\"\",S52/(I52*PRODUCT($U$3:U51)),\"\")","v":0},1]
[50,50,49,{"$f":"IF(B53=\"\",\"\",IF(B53>ppp,0,home!$J$9))","v":0},{"$f":"IF($B53<>\"\",home!$L$9,\"\")","v":1588400},{"$f":"IF($B53<>\"\",ROUND(home!$L$9*1.035^(B53-1),0),\"\")","v":8571109},9942144,8571109,{"$f":"IF(C53<>\"\",ROUND(VLOOKUP(id&\"L\"&B53,现金价值表!$A$7:$K$43716,8,FALSE)*tbfs,2),\"\")","v":9942144},null,50,49,0,{"$f":"IF(C53<>\"\",ROUND(E53*PRODUCT($U$3:$U53),2),\"\")","v":308734.65000000002},{"$f":"IF(C53<>\"\",ROUND(F53*PRODUCT($U$3:$U53),2),\"\")","v":1665952.11},{"$f":"IF(C53<>\"\",ROUND(G53*PRODUCT($U$3:$U53),2),\"\")","v":1932437.89},{"$f":"IF(C53<>\"\",ROUND(MIN(F53*PRODUCT($U$3:$U53),20000000),2),\"\")","v":1665952.11},{"$f":"IF(C53<>\"\",ROUND(I53*PRODUCT($U$3:$U53),2),\"\")","v":1932437.89},{"$f":"home!K62","v":0},{"$f":"IF(C53<>\"\",S53/(I53*PRODUCT($U$3:U52)),\"\")","v":0},1]
[51,51,50,{"$f":"IF(B54=\"\",\"\",IF(B54>ppp,0,home!$J$9))","v":0},{"$f":"IF($B54<>\"\",home!$L$9,\"\")","v":1588400},{"$f":"IF($B54<>\"\",ROUND(home!$L$9*1.035^(B54-1),0),\"\")","v":8871098},10289256,8871098,{"$f":"IF(C54<>\"\",ROUND(VLOOKUP(id&\"L\"&B54,现金价值表!$A$7:$K$43716,8,FALSE)*tbfs,2),\"\")","v":10289256},null,51,50,0,{"$f":"IF(C54<>\"\",ROUND(E54*PRODUCT($U$3:$U54),2),\"\")","v":308734.65000000002},{"$f":"IF(C54<>\"\",ROUND(F54*PRODUCT($U$3:$U54),2),\"\")","v":1724260.47},{"$f":"IF(C54<>\"\",ROUND(G54*PRODUCT($U$3:$U54),2),\"\")","v":1999905.47},{"$f":"IF(C54<>\"\",ROUND(MIN(F54*PRODUCT($U$3:$U54),20000000),2),\"\")","v":1724260.47},{"$f":"IF(C54<>\"\",ROUND(I54*PRODUCT($U$3:$U54),2),\"\")","v":1999905.47},{"$f":"home!K63","v":0},{"$f":"IF(C54<>\"\",S54/(I54*PRODUCT($U$3:U53)),\"\")","v":0},1]
[52,52,51,{"$f":"IF(B55=\"\",\"\",IF(B55>ppp,0,home!$J$9))","v":0},{"$f":"IF($B55<>\"\",home!$L$9,\"\")","v":1588400},{"$f":"IF($B55<>\"\",ROUND(home!$L$9*1.035^(B55-1),0),\"\")","v":9181586},10648408,9181586,{"$f":"IF(C55<>\"\",ROUND(VLOOKUP(id&\"L\"&B55,现金价值表!$A$7:$K$43716,8,FALSE)*tbfs,2),\"\")","v":10648408},null,52,51,0,{"$f":"IF(C55<>\"\",ROUND(E55*PRODUCT($U$3:$U55),2),\"\")","v":308734.65000000002},{"$f":"IF(C55<>\"\",ROUND(F55*PRODUCT($U$3:$U55),2),\"\")","v":1784609.5},{"$f":"IF(C55<>\"\",ROUND(G55*PRODUCT($U$3:$U55),2),\"\")","v":2069713.24},{"$f":"IF(C55<>\"\",ROUND(MIN(F55*PRODUCT($U$3:$U55),20000000),2),\"\")","v":1784609.5},{"$f":"IF(C55<>\"\",ROUND(I55*PRODUCT($U$3:$U55),2),\"\")","v":2069713.24},{"$f":"home!K64","v":0},{"$f":"IF(C55<>\"\",S55/(I55*PRODUCT($U$3:U54)),\"\")","v":0},1]
[53,53,52,{"$f":"IF(B56=\"\",\"\",IF(B56>ppp,0,home!$J$9))","v":0},{"$f":"IF($B56<>\"\",home!$L$9,\"\")","v":1588400},{"$f":"IF($B56<>\"\",ROUND(home!$L$9*1.035^(B56-1),0),\"\")","v":9502942},11020028,9502942,{"$f":"IF(C56<>\"\",ROUND(VLOOKUP(id&\"L\"&B56,现金价值表!$A$7:$K$43716,8,FALSE)*tbfs,2),\"\")","v":11020028},null,53,52,0,{"$f":"IF(C56<>\"\",ROUND(E56*PRODUCT($U$3:$U56),2),\"\")","v":308734.65000000002},{"$f":"IF(C56<>\"\",ROUND(F56*PRODUCT($U$3:$U56),2),\"\")","v":1847070.93},{"$f":"IF(C56<>\"\",ROUND(G56*PRODUCT($U$3:$U56),2),\"\")","v":2141944.4},{"$f":"IF(C56<>\"\",ROUND(MIN(F56*PRODUCT($U$3:$U56),20000000),2),\"\")","v":1847070.93},{"$f":"IF(C56<>\"\",ROUND(I56*PRODUCT($U$3:$U56),2),\"\")","v":2141944.4},{"$f":"home!K65","v":0},{"$f":"IF(C56<>\"\",S56/(I56*PRODUCT($U$3:U55)),\"\")","v":0},1]
[54,54,53,{"$f":"IF(B57=\"\",\"\",IF(B57>ppp,0,home!$J$9))","v":0},{"$f":"IF($B57<>\"\",home!$L$9,\"\")","v":1588400},{"$f":"IF($B57<>\"\",ROUND(home!$L$9*1.035^(B57-1),0),\"\")","v":9835545},11404528,9835545,{"$f":"IF(C57<>\"\",ROUND(VLOOKUP(id&\"L\"&B57,现金价值表!$A$7:$K$43716,8,FALSE)*tbfs,2),\"\")","v":11404528},null,54,53,0,{"$f":"IF(C57<>\"\",ROUND(E57*PRODUCT($U$3:$U57),2),\"\")","v":308734.65000000002},{"$f":"IF(C57<>\"\",ROUND(F57*PRODUCT($U$3:$U57),2),\"\")","v":1911718.42},{"$f":"IF(C57<>\"\",ROUND(G57*PRODUCT($U$3:$U57),2),\"\")","v":2216679.02},{"$f":"IF(C57<>\"\",ROUND(MIN(F57*PRODUCT($U$3:$U57),20000000),2),\"\")","v":1911718.42},{"$f":"IF(C57<>\"\",ROUND(I57*PRODUCT($U$3:$U57),2),\"\")","v":2216679.02},{"$f":"home!K66","v":0},{"$f":"IF(C57<>\"\",S57/(I57*PRODUCT($U$3:U56)),\"\")","v":0},1]
[55,55,54,{"$f":"IF(B58=\"\",\"\",IF(B58>ppp,0,home!$J$9))","v":0},{"$f":"IF($B58<>\"\",home!$L$9,\"\")","v":1588400},{"$f":"IF($B58<>\"\",ROUND(home!$L$9*1.035^(B58-1),0),\"\")","v":10179789},11802364,10179789,{"$f":"IF(C58<>\"\",ROUND(VLOOKUP(id&\"L\"&B58,现金价值表!$A$7:$K$43716,8,FALSE)*tbfs,2),\"\")","v":11802364},null,55,54,0,{"$f":"IF(C58<>\"\",ROUND(E58*PRODUCT($U$3:$U58),2),\"\")","v":308734.65000000002},{"$f":"IF(C58<>\"\",ROUND(F58*PRODUCT($U$3:$U58),2),\"\")","v":1978628.55},{"$f":"IF(C58<>\"\",ROUND(G58*PRODUCT($U$3:$U58),2),\"\")","v":2294005.7400000002},{"$f":"IF(C58<>\"\",ROUND(MIN(F58*PRODUCT($U$3:$U58),20000000),2),\"\")","v":1978628.55},{"$f":"IF(C58<>\"\",ROUND(I58*PRODUCT($U$3:$U58),2),\"\")","v":2294005.7400000002},{"$f":"home!K67","v":0},{"$f":"IF(C58<>\"\",S58/(I58*PRODUCT($U$3:U57)),\"\")","v":0},1]
[56,56,55,{"$f":"IF(B59=\"\",\"\",IF(B59>ppp,0,home!$J$9))","v":0},{"$f":"IF($B59<>\"\",home!$L$9,\"\")","v":1588400},{"$f":"IF($B59<>\"\",ROUND(home!$L$9*1.035^(B59-1),0),\"\")","v":10536081},12213980,10536081,{"$f":"IF(C59<>\"\",ROUND(VLOOKUP(id&\"L\"&B59,现金价值表!$A$7:$K$43716,8,FALSE)*tbfs,2),\"\")","v":12213980},null,56,55,0,{"$f":"IF(C59<>\"\",ROUND(E59*PRODUCT($U$3:$U59),2),\"\")","v":308734.65000000002},{"$f":"IF(C59<>\"\",ROUND(F59*PRODUCT($U$3:$U59),2),\"\")","v":2047880.43},{"$f":"IF(C59<>\"\",ROUND(G59*PRODUCT($U$3:$U59),2),\"\")","v":2374010.85},{"$f":"IF(C59<>\"\",ROUND(MIN(F59*PRODUCT($U$3:$U59),20000000),2),\"\")","v":2047880.43},{"$f":"IF(C59<>\"\",ROUND(I59*PRODUCT($U$3:$U59),2),\"\")","v":2374010.85},{"$f":"home!K68","v":0},{"$f":"IF(C59<>\"\",S59/(I59*PRODUCT($U$3:U58)),\"\")","v":0},1]
[57,57,56,{"$f":"IF(B60=\"\",\"\",IF(B60>ppp,0,home!$J$9))","v":0},{"$f":"IF($B60<>\"\",home!$L$9,\"\")","v":1588400},{"$f":"IF($B60<>\"\",ROUND(home!$L$9*1.035^(B60-1),0),\"\")","v":10904844},12639856,10904844,{"$f":"IF(C60<>\"\",ROUND(VLOOKUP(id&\"L\"&B60,现金价值表!$A$7:$K$43716,8,FALSE)*tbfs,2),\"\")","v":12639856},null,57,56,0,{"$f":"IF(C60<>\"\",ROUND(E60*PRODUCT($U$3:$U60),2),\"\")","v":308734.65000000002},{"$f":"IF(C60<>\"\",ROUND(F60*PRODUCT($U$3:$U60),2),\"\")","v":2119556.2799999998},{"$f":"IF(C60<>\"\",ROUND(G60*PRODUCT($U$3:$U60),2),\"\")","v":2456787.65},{"$f":"IF(C60<>\"\",ROUND(MIN(F60*PRODUCT($U$3:$U60),20000000),2),\"\")","v":2119556.2799999998},{"$f":"IF(C60<>\"\",ROUND(I60*PRODUCT($U$3:$U60),2),\"\")","v":2456787.65},{"$f":"home!K69","v":0},{"$f":"IF(C60<>\"\",S60/(I60*PRODUCT($U$3:U59)),\"\")","v":0},1]
[58,58,57,{"$f":"IF(B61=\"\",\"\",IF(B61>ppp,0,home!$J$9))","v":0},{"$f":"IF($B61<>\"\",home!$L$9,\"\")","v":1588400},{"$f":"IF($B61<>\"\",ROUND(home!$L$9*1.035^(B61-1),0),\"\")","v":11286514},13080476,11286514,{"$f":"IF(C61<>\"\",ROUND(VLOOKUP(id&\"L\"&B61,现金价值表!$A$7:$K$43716,8,FALSE)*tbfs,2),\"\")","v":13080476},null,58,57,0,{"$f":"IF(C61<>\"\",ROUND(E61*PRODUCT($U$3:$U61),2),\"\")","v":308734.65000000002},{"$f":"IF(C61<>\"\",ROUND(F61*PRODUCT($U$3:$U61),2),\"\")","v":2193740.83},{"$f":"IF(C61<>\"\",ROUND(G61*PRODUCT($U$3:$U61),2),\"\")","v":2542430.23},{"$f":"IF(C61<>\"\",ROUND(MIN(F61*PRODUCT($U$3:$U61),20000000),2),\"\")","v":2193740.83},{"$f":"IF(C61<>\"\",ROUND(I61*PRODUCT($U$3:$U61),2),\"\")","v":2542430.23},{"$f":"home!K70","v":0},{"$f":"IF(C61<>\"\",S61/(I61*PRODUCT($U$3:U60)),\"\")","v":0},1]
[59,59,58,{"$f":"IF(B62=\"\",\"\",IF(B62>ppp,0,home!$J$9))","v":0},{"$f":"IF($B62<>\"\",home!$L$9,\"\")","v":1588400},{"$f":"IF($B62<>\"\",ROUND(home!$L$9*1.035^(B62-1),0),\"\")","v":11681542},13536324,11681542,{"$f":"IF(C62<>\"\",ROUND(VLOOKUP(id&\"L\"&B62,现金价值表!$A$7:$K$43716,8,FALSE)*tbfs,2),\"\")","v":13536324},null,59,58,0,{"$f":"IF(C62<>\"\",ROUND(E62*PRODUCT($U$3:$U62),2),\"\")","v":308734.65000000002},{"$f":"IF(C62<>\"\",ROUND(F62*PRODUCT($U$3:$U62),2),\"\")","v":2270521.77},{"$f":"IF(C62<>\"\",ROUND(G62*PRODUCT($U$3:$U62),2),\"\")","v":2631032.64},{"$f":"IF(C62<>\"\",ROUND(MIN(F62*PRODUCT($U$3:$U62),20000000),2),\"\")","v":2270521.77},{"$f":"IF(C62<>\"\",ROUND(I62*PRODUCT($U$3:$U62),2),\"\")","v":2631032.64},{"$f":"home!K71","v":0},{"$f":"IF(C62<>\"\",S62/(I62*PRODUCT($U$3:U61)),\"\")","v":0},1]
[60,60,59,{"$f":"IF(B63=\"\",\"\",IF(B63>ppp,0,home!$J$9))","v":0},{"$f":"IF($B63<>\"\",home!$L$9,\"\")","v":1588400},{"$f":"IF($B63<>\"\",ROUND(home!$L$9*1.035^(B63-1),0),\"\")","v":12090396},14007904,12090396,{"$f":"IF(C63<>\"\",ROUND(VLOOKUP(id&\"L\"&B63,现金价值表!$A$7:$K$43716,8,FALSE)*tbfs,2),\"\")","v":14007904},null,60,59,0,{"$f":"IF(C63<>\"\",ROUND(E63*PRODUCT($U$3:$U63),2),\"\")","v":308734.65000000002},{"$f":"IF(C63<>\"\",ROUND(F63*PRODUCT($U$3:$U63),2),\"\")","v":2349990.0299999998},{"$f":"IF(C63<>\"\",ROUND(G63*PRODUCT($U$3:$U63),2),\"\")","v":2722692.85},{"$f":"IF(C63<>\"\",ROUND(MIN(F63*PRODUCT($U$3:$U63),20000000),2),\"\")","v":2349990.0299999998},{"$f":"IF(C63<>\"\",ROUND(I63*PRODUCT($U$3:$U63),2),\"\")","v":2722692.85},{"$f":"home!K72","v":0},{"$f":"IF(C63<>\"\",S63/(I63*PRODUCT($U$3:U62)),\"\")","v":0},1]
[61,61,60,{"$f":"IF(B64=\"\",\"\",IF(B64>ppp,0,home!$J$9))","v":0},{"$f":"IF($B64<>\"\",home!$L$9,\"\")","v":1588400},{"$f":"IF($B64<>\"\",ROUND(home!$L$9*1.035^(B64-1),0),\"\")","v":12513560},14495724,12513560,{"$f":"IF(C64<>\"\",ROUND(VLOOKUP(id&\"L\"&B64,现金价值表!$A$7:$K$43716,8,FALSE)*tbfs,2),\"\")","v":14495724},null,61,60,0,{"$f":"IF(C64<>\"\",ROUND(E64*PRODUCT($U$3:$U64),2),\"\")","v":308734.65000000002},{"$f":"IF(C64<>\"\",ROUND(F64*PRODUCT($U$3:$U64),2),\"\")","v":2432239.71},{"$f":"IF(C64<>\"\",ROUND(G64*PRODUCT($U$3:$U64),2),\"\")","v":2817509.61},{"$f":"IF(C64<>\"\",ROUND(MIN(F64*PRODUCT($U$3:$U64),20000000),2),\"\")","v":2432239.71},{"$f":"IF(C64<>\"\",ROUND(I64*PRODUCT($U$3:$U64),2),\"\")","v":2817509.61},{"$f":"home!K73","v":0},{"$f":"IF(C64<>\"\",S64/(I64*PRODUCT($U$3:U63)),\"\")","v":0},1]
[62,62,61,{"$f":"IF(B65=\"\",\"\",IF(B65>ppp,0,home!$J$9))","v":0},{"$f":"IF($B65<>\"\",home!$L$9,\"\")","v":1588400},{"$f":"IF($B65<>\"\",ROUND(home!$L$9*1.035^(B65-1),0),\"\")","v":12951534},15000300,12951534,{"$f":"IF(C65<>\"\",ROUND(VLOOKUP(id&\"L\"&B65,现金价值表!$A$7:$K$43716,8,FALSE)*tbfs,2),\"\")","v":15000300},null,62,61,0,{"$f":"IF(C65<>\"\",ROUND(E65*PRODUCT($U$3:$U65),2),\"\")","v":308734.65000000002},{"$f":"IF(C65<>\"\",ROUND(F65*PRODUCT($U$3:$U65),2),\"\")","v":2517367.98},{"$f":"IF(C65<>\"\",ROUND(G65*PRODUCT($U$3:$U65),2),\"\")","v":2915583.2},{"$f":"IF(C65<>\"\",ROUND(MIN(F65*PRODUCT($U$3:$U65),20000000),2),\"\")","v":2517367.98},{"$f":"IF(C65<>\"\",ROUND(I65*PRODUCT($U$3:$U65),2),\"\")","v":2915583.2},{"$f":"home!K74","v":0},{"$f":"IF(C65<>\"\",S65/(I65*PRODUCT($U$3:U64)),\"\")","v":0},1]
[63,63,62,{"$f":"IF(B66=\"\",\"\",IF(B66>ppp,0,home!$J$9))","v":0},{"$f":"IF($B66<>\"\",home!$L$9,\"\")","v":1588400},{"$f":"IF($B66<>\"\",ROUND(home!$L$9*1.035^(B66-1),0),\"\")","v":13404838},15522148,13404838,{"$f":"IF(C66<>\"\",ROUND(VLOOKUP(id&\"L\"&B66,现金价值表!$A$7:$K$43716,8,FALSE)*tbfs,2),\"\")","v":15522148},null,63,62,0,{"$f":"IF(C66<>\"\",ROUND(E66*PRODUCT($U$3:$U66),2),\"\")","v":308734.65000000002},{"$f":"IF(C66<>\"\",ROUND(F66*PRODUCT($U$3:$U66),2),\"\")","v":2605475.92},{"$f":"IF(C66<>\"\",ROUND(G66*PRODUCT($U$3:$U66),2),\"\")","v":3017013.92},{"$f":"IF(C66<>\"\",ROUND(MIN(F66*PRODUCT($U$3:$U66),20000000),2),\"\")","v":2605475.92},{"$f":"IF(C66<>\"\",ROUND(I66*PRODUCT($U$3:$U66),2),\"\")","v":3017013.92},{"$f":"home!K75","v":0},{"$f":"IF(C66<>\"\",S66/(I66*PRODUCT($U$3:U65)),\"\")","v":0},1]
[64,64,63,{"$f":"IF(B67=\"\",\"\",IF(B67>ppp,0,home!$J$9))","v":0},{"$f":"IF($B67<>\"\",home!$L$9,\"\")","v":1588400},{"$f":"IF($B67<>\"\",ROUND(home!$L$9*1.035^(B67-1),0),\"\")","v":13874007},16061808,13874007,{"$f":"IF(C67<>\"\",ROUND(VLOOKUP(id&\"L\"&B67,现金价值表!$A$7:$K$43716,8,FALSE)*tbfs,2),\"\")","v":16061808},null,64,63,0,{"$f":"IF(C67<>\"\",ROUND(E67*PRODUCT($U$3:$U67),2),\"\")","v":308734.65000000002},{"$f":"IF(C67<>\"\",ROUND(F67*PRODUCT($U$3:$U67),2),\"\")","v":2696667.52},{"$f":"IF(C67<>\"\",ROUND(G67*PRODUCT($U$3:$U67),2),\"\")","v":3121906.74},{"$f":"IF(C67<>\"\",ROUND(MIN(F67*PRODUCT($U$3:$U67),20000000),2),\"\")","v":2696667.52},{"$f":"IF(C67<>\"\",ROUND(I67*PRODUCT($U$3:$U67),2),\"\")","v":3121906.74},{"$f":"home!K76","v":0},{"$f":"IF(C67<>\"\",S67/(I67*PRODUCT($U$3:U66)),\"\")","v":0},1]
[65,65,64,{"$f":"IF(B68=\"\",\"\",IF(B68>ppp,0,home!$J$9))","v":0},{"$f":"IF($B68<>\"\",home!$L$9,\"\")","v":1588400},{"$f":"IF($B68<>\"\",ROUND(home!$L$9*1.035^(B68-1),0),\"\")","v":14359597},{"$f":"IF($B68<>\"\",IF(C68<18,MAX(sv*MIN(B68,ppp),I68),IF(B68<=ppp,MAX(sv*MIN(B68,ppp)*IF(C68<41,160%,IF(C68<61,140%,120%)),I68),MAX(sv*MIN(B68,ppp)*IF(C68<41,160%,IF(C68<61,140%,120%)),I68,F68))),\"\")","v":16619828},14359597,{"$f":"IF(C68<>\"\",ROUND(VLOOKUP(id&\"L\"&B68,现金价值表!$A$7:$K$43716,8,FALSE)*tbfs,2),\"\")","v":16619828},null,65,64,0,{"$f":"IF(C68<>\"\",ROUND(E68*PRODUCT($U$3:$U68),2),\"\")","v":308734.65000000002},{"$f":"IF(C68<>\"\",ROUND(F68*PRODUCT($U$3:$U68),2),\"\")","v":2791050.83},{"$f":"IF(C68<>\"\",ROUND(G68*PRODUCT($U$3:$U68),2),\"\")","v":3230368.15},{"$f":"IF(C68<>\"\",ROUND(MIN(F68*PRODUCT($U$3:$U68),20000000),2),\"\")","v":2791050.83},{"$f":"IF(C68<>\"\",ROUND(I68*PRODUCT($U$3:$U68),2),\"\")","v":3230368.15},{"$f":"home!K77","v":0},{"$f":"IF(C68<>\"\",S68/(I68*PRODUCT($U$3:U67)),\"\")","v":0},{"$f":"IF(C68<>\"\",1-T68,\"\")","v":1}]
[66,66,65,{"$f":"IF(B69=\"\",\"\",IF(B69>ppp,0,home!$J$9))","v":0},{"$f":"IF($B69<>\"\",home!$L$9,\"\")","v":1588400},{"$f":"IF($B69<>\"\",ROUND(home!$L$9*1.035^(B69-1),0),\"\")","v":14862183},17196752,{"$f":"IF(B69=\"\",\"\",MIN(F69,20000000))","v":14862183},{"$f":"IF(C69<>\"\",ROUND(VLOOKUP(id&\"L\"&B69,现金价值表!$A$7:$K$43716,8,FALSE)*tbfs,2),\"\")","v":17196752},null,66,65,{"$f":"D69","v":0},{"$f":"IF(C69<>\"\",ROUND(E69*PRODUCT($U$3:$U69),2),\"\")","v":308734.65000000002},{"$f":"IF(C69<>\"\",ROUND(F69*PRODUCT($U$3:$U69),2),\"\")","v":2888737.63},{"$f":"IF(C69<>\"\",ROUND(G69*PRODUCT($U$3:$U69),2),\"\")","v":3342503.9},{"$f":"IF(C69<>\"\",ROUND(MIN(F69*PRODUCT($U$3:$U69),20000000),2),\"\")","v":2888737.63},{"$f":"IF(C69<>\"\",ROUND(I69*PRODUCT($U$3:$U69),2),\"\")","v":3342503.9},{"$f":"home!K78","v":0},{"$f":"IF(C69<>\"\",S69/(I69*PRODUCT($U$3:U68)),\"\")","v":0},1]
[67,67,{"$f":"IF(C$4+A70-1>105,\"\",C$4+A70-1)","v":66},{"$f":"IF(B70=\"\",\"\",IF(B70>ppp,0,home!$J$9))","v":0},{"$f":"IF($B70<>\"\",home!$L$9,\"\")","v":1588400},{"$f":"IF($B70<>\"\",ROUND(home!$L$9*1.035^(B70-1),0),\"\")","v":15382360},17793136,15382360,{"$f":"IF(C70<>\"\",ROUND(VLOOKUP(id&\"L\"&B70,现金价值表!$A$7:$K$43716,8,FALSE)*tbfs,2),\"\")","v":17793136},null,67,66,0,{"$f":"IF(C70<>\"\",ROUND(E70*PRODUCT($U$3:$U70),2),\"\")","v":308734.65000000002},{"$f":"IF(C70<>\"\",ROUND(F70*PRODUCT($U$3:$U70),2),\"\")","v":2989843.57},{"$f":"IF(C70<>\"\",ROUND(G70*PRODUCT($U$3:$U70),2),\"\")","v":3458422.06},{"$f":"IF(C70<>\"\",ROUND(MIN(F70*PRODUCT($U$3:$U70),20000000),2),\"\")","v":2989843.57},{"$f":"IF(C70<>\"\",ROUND(I70*PRODUCT($U$3:$U70),2),\"\")","v":3458422.06},{"$f":"home!K79","v":0},{"$f":"IF(C70<>\"\",S70/(I70*PRODUCT($U$3:U69)),\"\")","v":0},1]
[68,{"$f":"IF(C71<>\"\",A71,\"\")","v":68},67,{"$f":"IF(B71=\"\",\"\",IF(B71>ppp,0,home!$J$9))","v":0},{"$f":"IF($B71<>\"\",home!$L$9,\"\")","v":1588400},{"$f":"IF($B71<>\"\",ROUND(home!$L$9*1.035^(B71-1),0),\"\")","v":15920742},18409536,15920742,{"$f":"IF(C71<>\"\",ROUND(VLOOKUP(id&\"L\"&B71,现金价值表!$A$7:$K$43716,8,FALSE)*tbfs,2),\"\")","v":18409536},null,{"$f":"B71","v":68},{"$f":"C71","v":67},0,{"$f":"IF(C71<>\"\",ROUND(E71*PRODUCT($U$3:$U71),2),\"\")","v":308734.65000000002},{"$f":"IF(C71<>\"\",ROUND(F71*PRODUCT($U$3:$U71),2),\"\")","v":3094487.97},{"$f":"IF(C71<>\"\",ROUND(G71*PRODUCT($U$3:$U71),2),\"\")","v":3578230.7},{"$f":"IF(C71<>\"\",ROUND(MIN(F71*PRODUCT($U$3:$U71),20000000),2),\"\")","v":3094487.97},{"$f":"IF(C71<>\"\",ROUND(I71*PRODUCT($U$3:$U71),2),\"\")","v":3578230.7},{"$f":"home!K80","v":0},{"$f":"IF(C71<>\"\",S71/(I71*PRODUCT($U$3:U70)),\"\")","v":0},1]
[69,69,68,{"$f":"IF(B72=\"\",\"\",IF(B72>ppp,0,home!$J$9))","v":0},{"$f":"IF($B72<>\"\",home!$L$9,\"\")","v":1588400},{"$f":"IF($B72<>\"\",ROUND(home!$L$9*1.035^(B72-1),0),\"\")","v":16477968},19046500,16477968,{"$f":"IF(C72<>\"\",ROUND(VLOOKUP(id&\"L\"&B72,现金价值表!$A$7:$K$43716,8,FALSE)*tbfs,2),\"\")","v":19046500},null,69,68,0,{"$f":"IF(C72<>\"\",ROUND(E72*PRODUCT($U$3:$U72),2),\"\")","v":308734.65000000002},{"$f":"IF(C72<>\"\",ROUND(F72*PRODUCT($U$3:$U72),2),\"\")","v":3202795.06},{"$f":"IF(C72<>\"\",ROUND(G72*PRODUCT($U$3:$U72),2),\"\")","v":3702036.32},{"$f":"IF(C72<>\"\",ROUND(MIN(F72*PRODUCT($U$3:$U72),20000000),2),\"\")","v":3202795.06},{"$f":"IF(C72<>\"\",ROUND(I72*PRODUCT($U$3:$U72),2),\"\")","v":3702036.32},{"$f":"home!K81","v":0},{"$f":"IF(C72<>\"\",S72/(I72*PRODUCT($U$3:U71)),\"\")","v":0},1]
[70,70,69,{"$f":"IF(B73=\"\",\"\",IF(B73>ppp,0,home!$J$9))","v":0},{"$f":"IF($B73<>\"\",home!$L$9,\"\")","v":1588400},{"$f":"IF($B73<>\"\",ROUND(home!$L$9*1.035^(B73-1),0),\"\")","v":17054697},19704576,17054697,{"$f":"IF(C73<>\"\",ROUND(VLOOKUP(id&\"L\"&B73,现金价值表!$A$7:$K$43716,8,FALSE)*tbfs,2),\"\")","v":19704576},null,70,69,0,{"$f":"IF(C73<>\"\",ROUND(E73*PRODUCT($U$3:$U73),2),\"\")","v":308734.65000000002},{"$f":"IF(C73<>\"\",ROUND(F73*PRODUCT($U$3:$U73),2),\"\")","v":3314892.91},{"$f":"IF(C73<>\"\",ROUND(G73*PRODUCT($U$3:$U73),2),\"\")","v":3829945.45},{"$f":"IF(C73<>\"\",ROUND(MIN(F73*PRODUCT($U$3:$U73),20000000),2),\"\")","v":3314892.91},{"$f":"IF(C73<>\"\",ROUND(I73*PRODUCT($U$3:$U73),2),\"\")","v":3829945.45},{"$f":"home!K82","v":0},{"$f":"IF(C73<>\"\",S73/(I73*PRODUCT($U$3:U72)),\"\")","v":0},1]
[71,71,70,{"$f":"IF(B74=\"\",\"\",IF(B74>ppp,0,home!$J$9))","v":0},{"$f":"IF($B74<>\"\",home!$L$9,\"\")","v":1588400},{"$f":"IF($B74<>\"\",ROUND(home!$L$9*1.035^(B74-1),0),\"\")","v":17651612},20384296,17651612,{"$f":"IF(C74<>\"\",ROUND(VLOOKUP(id&\"L\"&B74,现金价值表!$A$7:$K$43716,8,FALSE)*tbfs,2),\"\")","v":20384296},null,71,70,0,{"$f":"IF(C74<>\"\",ROUND(E74*PRODUCT($U$3:$U74),2),\"\")","v":308734.65000000002},{"$f":"IF(C74<>\"\",ROUND(F74*PRODUCT($U$3:$U74),2),\"\")","v":3430914.28},{"$f":"IF(C74<>\"\",ROUND(G74*PRODUCT($U$3:$U74),2),\"\")","v":3962061.49},{"$f":"IF(C74<>\"\",ROUND(MIN(F74*PRODUCT($U$3:$U74),20000000),2),\"\")","v":3430914.28},{"$f":"IF(C74<>\"\",ROUND(I74*PRODUCT($U$3:$U74),2),\"\")","v":3962061.49},{"$f":"home!K83","v":0},{"$f":"IF(C74<>\"\",S74/(I74*PRODUCT($U$3:U73)),\"\")","v":0},1]
[72,72,71,{"$f":"IF(B75=\"\",\"\",IF(B75>ppp,0,home!$J$9))","v":0},{"$f":"IF($B75<>\"\",home!$L$9,\"\")","v":1588400},{"$f":"IF($B75<>\"\",ROUND(home!$L$9*1.035^(B75-1),0),\"\")","v":18269418},21086196,18269418,{"$f":"IF(C75<>\"\",ROUND(VLOOKUP(id&\"L\"&B75,现金价值表!$A$7:$K$43716,8,FALSE)*tbfs,2),\"\")","v":21086196},null,72,71,0,{"$f":"IF(C75<>\"\",ROUND(E75*PRODUCT($U$3:$U75),2),\"\")","v":308734.65000000002},{"$f":"IF(C75<>\"\",ROUND(F75*PRODUCT($U$3:$U75),2),\"\")","v":3550996.2},{"$f":"IF(C75<>\"\",ROUND(G75*PRODUCT($U$3:$U75),2),\"\")","v":4098488.62},{"$f":"IF(C75<>\"\",ROUND(MIN(F75*PRODUCT($U$3:$U75),20000000),2),\"\")","v":3550996.2},{"$f":"IF(C75<>\"\",ROUND(I75*PRODUCT($U$3:$U75),2),\"\")","v":4098488.62},{"$f":"home!K84","v":0},{"$f":"IF(C75<>\"\",S75/(I75*PRODUCT($U$3:U74)),\"\")","v":0},1]
[73,73,72,{"$f":"IF(B76=\"\",\"\",IF(B76>ppp,0,home!$J$9))","v":0},{"$f":"IF($B76<>\"\",home!$L$9,\"\")","v":1588400},{"$f":"IF($B76<>\"\",ROUND(home!$L$9*1.035^(B76-1),0),\"\")","v":18908848},21810800,18908848,{"$f":"IF(C76<>\"\",ROUND(VLOOKUP(id&\"L\"&B76,现金价值表!$A$7:$K$43716,8,FALSE)*tbfs,2),\"\")","v":21810800},null,73,72,0,{"$f":"IF(C76<>\"\",ROUND(E76*PRODUCT($U$3:$U76),2),\"\")","v":308734.65000000002},{"$f":"IF(C76<>\"\",ROUND(F76*PRODUCT($U$3:$U76),2),\"\")","v":3675281.14},{"$f":"IF(C76<>\"\",ROUND(G76*PRODUCT($U$3:$U76),2),\"\")","v":4239328.6900000004},{"$f":"IF(C76<>\"\",ROUND(MIN(F76*PRODUCT($U$3:$U76),20000000),2),\"\")","v":3675281.14},{"$f":"IF(C76<>\"\",ROUND(I76*PRODUCT($U$3:$U76),2),\"\")","v":4239328.6900000004},{"$f":"home!K85","v":0},{"$f":"IF(C76<>\"\",S76/(I76*PRODUCT($U$3:U75)),\"\")","v":0},1]
[74,74,73,{"$f":"IF(B77=\"\",\"\",IF(B77>ppp,0,home!$J$9))","v":0},{"$f":"IF($B77<>\"\",home!$L$9,\"\")","v":1588400},{"$f":"IF($B77<>\"\",ROUND(home!$L$9*1.035^(B77-1),0),\"\")","v":19570657},22558636,19570657,{"$f":"IF(C77<>\"\",ROUND(VLOOKUP(id&\"L\"&B77,现金价值表!$A$7:$K$43716,8,FALSE)*tbfs,2),\"\")","v":22558636},null,74,73,0,{"$f":"IF(C77<>\"\",ROUND(E77*PRODUCT($U$3:$U77),2),\"\")","v":308734.65000000002},{"$f":"IF(C77<>\"\",ROUND(F77*PRODUCT($U$3:$U77),2),\"\")","v":3803915.84},{"$f":"IF(C77<>\"\",ROUND(G77*PRODUCT($U$3:$U77),2),\"\")","v":4384684.32},{"$f":"IF(C77<>\"\",ROUND(MIN(F77*PRODUCT($U$3:$U77),20000000),2),\"\")","v":3803915.84},{"$f":"IF(C77<>\"\",ROUND(I77*PRODUCT($U$3:$U77),2),\"\")","v":4384684.32},{"$f":"home!K86","v":0},{"$f":"IF(C77<>\"\",S77/(I77*PRODUCT($U$3:U76)),\"\")","v":0},1]
[75,75,74,{"$f":"IF(B78=\"\",\"\",IF(B78>ppp,0,home!$J$9))","v":0},{"$f":"IF($B78<>\"\",home!$L$9,\"\")","v":1588400},{"$f":"IF($B78<>\"\",ROUND(home!$L$9*1.035^(B78-1),0),\"\")","v":20255630},23330212,20000000,{"$f":"IF(C78<>\"\",ROUND(VLOOKUP(id&\"L\"&B78,现金价值表!$A$7:$K$43716,8,FALSE)*tbfs,2),\"\")","v":23330212},null,75,74,0,{"$f":"IF(C78<>\"\",ROUND(E78*PRODUCT($U$3:$U78),2),\"\")","v":308734.65000000002},{"$f":"IF(C78<>\"\",ROUND(F78*PRODUCT($U$3:$U78),2),\"\")","v":3937052.9},{"$f":"IF(C78<>\"\",ROUND(G78*PRODUCT($U$3:$U78),2),\"\")","v":4534654.26},{"$f":"IF(C78<>\"\",ROUND(MIN(F78*PRODUCT($U$3:$U78),20000000),2),\"\")","v":3937052.9},{"$f":"IF(C78<>\"\",ROUND(I78*PRODUCT($U$3:$U78),2),\"\")","v":4534654.26},{"$f":"home!K87","v":0},{"$f":"IF(C78<>\"\",S78/(I78*PRODUCT($U$3:U77)),\"\")","v":0},1]
[76,76,75,{"$f":"IF(B79=\"\",\"\",IF(B79>ppp,0,home!$J$9))","v":0},{"$f":"IF($B79<>\"\",home!$L$9,\"\")","v":1588400},{"$f":"IF($B79<>\"\",ROUND(home!$L$9*1.035^(B79-1),0),\"\")","v":20964577},24126036,20000000,{"$f":"IF(C79<>\"\",ROUND(VLOOKUP(id&\"L\"&B79,现金价值表!$A$7:$K$43716,8,FALSE)*tbfs,2),\"\")","v":24126036},null,76,75,0,{"$f":"IF(C79<>\"\",ROUND(E79*PRODUCT($U$3:$U79),2),\"\")","v":308734.65000000002},{"$f":"IF(C79<>\"\",ROUND(F79*PRODUCT($U$3:$U79),2),\"\")","v":4074849.74},{"$f":"IF(C79<>\"\",ROUND(G79*PRODUCT($U$3:$U79),2),\"\")","v":4689337.2300000004},{"$f":"IF(C79<>\"\",ROUND(MIN(F79*PRODUCT($U$3:$U79),20000000),2),\"\")","v":4074849.74},{"$f":"IF(C79<>\"\",ROUND(I79*PRODUCT($U$3:$U79),2),\"\")","v":4689337.2300000004},{"$f":"home!K88","v":0},{"$f":"IF(C79<>\"\",S79/(I79*PRODUCT($U$3:U78)),\"\")","v":0},1]
[77,77,76,{"$f":"IF(B80=\"\",\"\",IF(B80>ppp,0,home!$J$9))","v":0},{"$f":"IF($B80<>\"\",home!$L$9,\"\")","v":1588400},{"$f":"IF($B80<>\"\",ROUND(home!$L$9*1.035^(B80-1),0),\"\")","v":21698338},24946592,20000000,{"$f":"IF(C80<>\"\",ROUND(VLOOKUP(id&\"L\"&B80,现金价值表!$A$7:$K$43716,8,FALSE)*tbfs,2),\"\")","v":24946592},null,77,76,0,{"$f":"IF(C80<>\"\",ROUND(E80*PRODUCT($U$3:$U80),2),\"\")","v":308734.65000000002},{"$f":"IF(C80<>\"\",ROUND(F80*PRODUCT($U$3:$U80),2),\"\")","v":4217469.6399999997},{"$f":"IF(C80<>\"\",ROUND(G80*PRODUCT($U$3:$U80),2),\"\")","v":4848827.33},{"$f":"IF(C80<>\"\",ROUND(MIN(F80*PRODUCT($U$3:$U80),20000000),2),\"\")","v":4217469.6399999997},{"$f":"IF(C80<>\"\",ROUND(I80*PRODUCT($U$3:$U80),2),\"\")","v":4848827.33},{"$f":"home!K89","v":0},{"$f":"IF(C80<>\"\",S80/(I80*PRODUCT($U$3:U79)),\"\")","v":0},1]
[78,78,77,{"$f":"IF(B81=\"\",\"\",IF(B81>ppp,0,home!$J$9))","v":0},{"$f":"IF($B81<>\"\",home!$L$9,\"\")","v":1588400},{"$f":"IF($B81<>\"\",ROUND(home!$L$9*1.035^(B81-1),0),\"\")","v":22457779},25792336,20000000,{"$f":"IF(C81<>\"\",ROUND(VLOOKUP(id&\"L\"&B81,现金价值表!$A$7:$K$43716,8,FALSE)*tbfs,2),\"\")","v":25792336},null,78,77,0,{"$f":"IF(C81<>\"\",ROUND(E81*PRODUCT($U$3:$U81),2),\"\")","v":308734.65000000002},{"$f":"IF(C81<>\"\",ROUND(F81*PRODUCT($U$3:$U81),2),\"\")","v":4365080.91},{"$f":"IF(C81<>\"\",ROUND(G81*PRODUCT($U$3:$U81),2),\"\")","v":5013213.18},{"$f":"IF(C81<>\"\",ROUND(MIN(F81*PRODUCT($U$3:$U81),20000000),2),\"\")","v":4365080.91},{"$f":"IF(C81<>\"\",ROUND(I81*PRODUCT($U$3:$U81),2),\"\")","v":5013213.18},{"$f":"home!K90","v":0},{"$f":"IF(C81<>\"\",S81/(I81*PRODUCT($U$3:U80)),\"\")","v":0},1]
[79,79,78,{"$f":"IF(B82=\"\",\"\",IF(B82>ppp,0,home!$J$9))","v":0},{"$f":"IF($B82<>\"\",home!$L$9,\"\")","v":1588400},{"$f":"IF($B82<>\"\",ROUND(home!$L$9*1.035^(B82-1),0),\"\")","v":23243802},26663700,20000000,{"$f":"IF(C82<>\"\",ROUND(VLOOKUP(id&\"L\"&B82,现金价值表!$A$7:$K$43716,8,FALSE)*tbfs,2),\"\")","v":26663700},null,79,78,0,{"$f":"IF(C82<>\"\",ROUND(E82*PRODUCT($U$3:$U82),2),\"\")","v":308734.65000000002},{"$f":"IF(C82<>\"\",ROUND(F82*PRODUCT($U$3:$U82),2),\"\")","v":4517858.8899999997},{"$f":"IF(C82<>\"\",ROUND(G82*PRODUCT($U$3:$U82),2),\"\")","v":5182578.74},{"$f":"IF(C82<>\"\",ROUND(MIN(F82*PRODUCT($U$3:$U82),20000000),2),\"\")","v":4517858.8899999997},{"$f":"IF(C82<>\"\",ROUND(I82*PRODUCT($U$3:$U82),2),\"\")","v":5182578.74},{"$f":"home!K91","v":0},{"$f":"IF(C82<>\"\",S82/(I82*PRODUCT($U$3:U81)),\"\")","v":0},1]
[80,80,79,{"$f":"IF(B83=\"\",\"\",IF(B83>ppp,0,home!$J$9))","v":0},{"$f":"IF($B83<>\"\",home!$L$9,\"\")","v":1588400},{"$f":"IF($B83<>\"\",ROUND(home!$L$9*1.035^(B83-1),0),\"\")","v":24057335},27561056,20000000,{"$f":"IF(C83<>\"\",ROUND(VLOOKUP(id&\"L\"&B83,现金价值表!$A$7:$K$43716,8,FALSE)*tbfs,2),\"\")","v":27561056},null,80,79,0,{"$f":"IF(C83<>\"\",ROUND(E83*PRODUCT($U$3:$U83),2),\"\")","v":308734.65000000002},{"$f":"IF(C83<>\"\",ROUND(F83*PRODUCT($U$3:$U83),2),\"\")","v":4675983.9400000004},{"$f":"IF(C83<>\"\",ROUND(G83*PRODUCT($U$3:$U83),2),\"\")","v":5356996.32},{"$f":"IF(C83<>\"\",ROUND(MIN(F83*PRODUCT($U$3:$U83),20000000),2),\"\")","v":4675983.9400000004},{"$f":"IF(C83<>\"\",ROUND(I83*PRODUCT($U$3:$U83),2),\"\")","v":5356996.32},{"$f":"home!K92","v":0},{"$f":"IF(C83<>\"\",S83/(I83*PRODUCT($U$3:U82)),\"\")","v":0},1]
[81,81,80,{"$f":"IF(B84=\"\",\"\",IF(B84>ppp,0,home!$J$9))","v":0},{"$f":"IF($B84<>\"\",home!$L$9,\"\")","v":1588400},{"$f":"IF($B84<>\"\",ROUND(home!$L$9*1.035^(B84-1),0),\"\")","v":24899342},28484760,20000000,{"$f":"IF(C84<>\"\",ROUND(VLOOKUP(id&\"L\"&B84,现金价值表!$A$7:$K$43716,8,FALSE)*tbfs,2),\"\")","v":28484760},null,81,80,0,{"$f":"IF(C84<>\"\",ROUND(E84*PRODUCT($U$3:$U84),2),\"\")","v":308734.65000000002},{"$f":"IF(C84<>\"\",ROUND(F84*PRODUCT($U$3:$U84),2),\"\")","v":4839643.43},{"$f":"IF(C84<>\"\",ROUND(G84*PRODUCT($U$3:$U84),2),\"\")","v":5536535.1200000001},{"$f":"IF(C84<>\"\",ROUND(MIN(F84*PRODUCT($U$3:$U84),20000000),2),\"\")","v":4839643.43},{"$f":"IF(C84<>\"\",ROUND(I84*PRODUCT($U$3:$U84),2),\"\")","v":5536535.1200000001},{"$f":"home!K93","v":0},{"$f":"IF(C84<>\"\",S84/(I84*PRODUCT($U$3:U83)),\"\")","v":0},1]
[82,82,81,{"$f":"IF(B85=\"\",\"\",IF(B85>ppp,0,home!$J$9))","v":0},{"$f":"IF($B85<>\"\",home!$L$9,\"\")","v":1588400},{"$f":"IF($B85<>\"\",ROUND(home!$L$9*1.035^(B85-1),0),\"\")","v":25770818},29435092,20000000,{"$f":"IF(C85<>\"\",ROUND(VLOOKUP(id&\"L\"&B85,现金价值表!$A$7:$K$43716,8,FALSE)*tbfs,2),\"\")","v":29435092},null,82,81,0,{"$f":"IF(C85<>\"\",ROUND(E85*PRODUCT($U$3:$U85),2),\"\")","v":308734.65000000002},{"$f":"IF(C85<>\"\",ROUND(F85*PRODUCT($U$3:$U85),2),\"\")","v":5009030.76},{"$f":"IF(C85<>\"\",ROUND(G85*PRODUCT($U$3:$U85),2),\"\")","v":5721249.5599999996},{"$f":"IF(C85<>\"\",ROUND(MIN(F85*PRODUCT($U$3:$U85),20000000),2),\"\")","v":5009030.76},{"$f":"IF(C85<>\"\",ROUND(I85*PRODUCT($U$3:$U85),2),\"\")","v":5721249.5599999996},{"$f":"home!K94","v":0},{"$f":"IF(C85<>\"\",S85/(I85*PRODUCT($U$3:U84)),\"\")","v":0},1]
[83,83,82,{"$f":"IF(B86=\"\",\"\",IF(B86>ppp,0,home!$J$9))","v":0},{"$f":"IF($B86<>\"\",home!$L$9,\"\")","v":1588400},{"$f":"IF($B86<>\"\",ROUND(home!$L$9*1.035^(B86-1),0),\"\")","v":26672797},30412300,20000000,{"$f":"IF(C86<>\"\",ROUND(VLOOKUP(id&\"L\"&B86,现金价值表!$A$7:$K$43716,8,FALSE)*tbfs,2),\"\")","v":30412300},null,83,82,0,{"$f":"IF(C86<>\"\",ROUND(E86*PRODUCT($U$3:$U86),2),\"\")","v":308734.65000000002},{"$f":"IF(C86<>\"\",ROUND(F86*PRODUCT($U$3:$U86),2),\"\")","v":5184346.91},{"$f":"IF(C86<>\"\",ROUND(G86*PRODUCT($U$3:$U86),2),\"\")","v":5911187.8499999996},{"$f":"IF(C86<>\"\",ROUND(MIN(F86*PRODUCT($U$3:$U86),20000000),2),\"\")","v":5184346.91},{"$f":"IF(C86<>\"\",ROUND(I86*PRODUCT($U$3:$U86),2),\"\")","v":5911187.8499999996},{"$f":"home!K95","v":0},{"$f":"IF(C86<>\"\",S86/(I86*PRODUCT($U$3:U85)),\"\")","v":0},1]
[84,84,83,{"$f":"IF(B87=\"\",\"\",IF(B87>ppp,0,home!$J$9))","v":0},{"$f":"IF($B87<>\"\",home!$L$9,\"\")","v":1588400},{"$f":"IF($B87<>\"\",ROUND(home!$L$9*1.035^(B87-1),0),\"\")","v":27606345},31416572,20000000,{"$f":"IF(C87<>\"\",ROUND(VLOOKUP(id&\"L\"&B87,现金价值表!$A$7:$K$43716,8,FALSE)*tbfs,2),\"\")","v":31416572},null,84,83,0,{"$f":"IF(C87<>\"\",ROUND(E87*PRODUCT($U$3:$U87),2),\"\")","v":308734.65000000002},{"$f":"IF(C87<>\"\",ROUND(F87*PRODUCT($U$3:$U87),2),\"\")","v":5365799.07},{"$f":"IF(C87<>\"\",ROUND(G87*PRODUCT($U$3:$U87),2),\"\")","v":6106386.5099999998},{"$f":"IF(C87<>\"\",ROUND(MIN(F87*PRODUCT($U$3:$U87),20000000),2),\"\")","v":5365799.07},{"$f":"IF(C87<>\"\",ROUND(I87*PRODUCT($U$3:$U87),2),\"\")","v":6106386.5099999998},{"$f":"home!K96","v":0},{"$f":"IF(C87<>\"\",S87/(I87*PRODUCT($U$3:U86)),\"\")","v":0},1]
[85,85,84,{"$f":"IF(B88=\"\",\"\",IF(B88>ppp,0,home!$J$9))","v":0},{"$f":"IF($B88<>\"\",home!$L$9,\"\")","v":1588400},{"$f":"IF($B88<>\"\",ROUND(home!$L$9*1.035^(B88-1),0),\"\")","v":28572567},32448028,20000000,{"$f":"IF(C88<>\"\",ROUND(VLOOKUP(id&\"L\"&B88,现金价值表!$A$7:$K$43716,8,FALSE)*tbfs,2),\"\")","v":32448028},null,85,84,0,{"$f":"IF(C88<>\"\",ROUND(E88*PRODUCT($U$3:$U88),2),\"\")","v":308734.65000000002},{"$f":"IF(C88<>\"\",ROUND(F88*PRODUCT($U$3:$U88),2),\"\")","v":5553602.0199999996},{"$f":"IF(C88<>\"\",ROUND(G88*PRODUCT($U$3:$U88),2),\"\")","v":6306868.8899999997},{"$f":"IF(C88<>\"\",ROUND(MIN(F88*PRODUCT($U$3:$U88),20000000),2),\"\")","v":5553602.0199999996},{"$f":"IF(C88<>\"\",ROUND(I88*PRODUCT($U$3:$U88),2),\"\")","v":6306868.8899999997},{"$f":"home!K97","v":0},{"$f":"IF(C88<>\"\",S88/(I88*PRODUCT($U$3:U87)),\"\")","v":0},1]
[86,86,85,{"$f":"IF(B89=\"\",\"\",IF(B89>ppp,0,home!$J$9))","v":0},{"$f":"IF($B89<>\"\",home!$L$9,\"\")","v":1588400},{"$f":"IF($B89<>\"\",ROUND(home!$L$9*1.035^(B89-1),0),\"\")","v":29572607},33506720,20000000,{"$f":"IF(C89<>\"\",ROUND(VLOOKUP(id&\"L\"&B89,现金价值表!$A$7:$K$43716,8,FALSE)*tbfs,2),\"\")","v":33506720},null,86,85,0,{"$f":"IF(C89<>\"\",ROUND(E89*PRODUCT($U$3:$U89),2),\"\")","v":308734.65000000002},{"$f":"IF(C89<>\"\",ROUND(F89*PRODUCT($U$3:$U89),2),\"\")","v":5747978.1200000001},{"$f":"IF(C89<>\"\",ROUND(G89*PRODUCT($U$3:$U89),2),\"\")","v":6512645.0800000001},{"$f":"IF(C89<>\"\",ROUND(MIN(F89*PRODUCT($U$3:$U89),20000000),2),\"\")","v":5747978.1200000001},{"$f":"IF(C89<>\"\",ROUND(I89*PRODUCT($U$3:$U89),2),\"\")","v":6512645.0800000001},{"$f":"home!K98","v":0},{"$f":"IF(C89<>\"\",S89/(I89*PRODUCT($U$3:U88)),\"\")","v":0},1]
[87,87,86,{"$f":"IF(B90=\"\",\"\",IF(B90>ppp,0,home!$J$9))","v":0},{"$f":"IF($B90<>\"\",home!$L$9,\"\")","v":1588400},{"$f":"IF($B90<>\"\",ROUND(home!$L$9*1.035^(B90-1),0),\"\")","v":30607648},34592596,20000000,{"$f":"IF(C90<>\"\",ROUND(VLOOKUP(id&\"L\"&B90,现金价值表!$A$7:$K$43716,8,FALSE)*tbfs,2),\"\")","v":34592596},null,87,86,0,{"$f":"IF(C90<>\"\",ROUND(E90*PRODUCT($U$3:$U90),2),\"\")","v":308734.65000000002},{"$f":"IF(C90<>\"\",ROUND(F90*PRODUCT($U$3:$U90),2),\"\")","v":5949157.3099999996},{"$f":"IF(C90<>\"\",ROUND(G90*PRODUCT($U$3:$U90),2),\"\")","v":6723704.9800000004},{"$f":"IF(C90<>\"\",ROUND(MIN(F90*PRODUCT($U$3:$U90),20000000),2),\"\")","v":5949157.3099999996},{"$f":"IF(C90<>\"\",ROUND(I90*PRODUCT($U$3:$U90),2),\"\")","v":6723704.9800000004},{"$f":"home!K99","v":0},{"$f":"IF(C90<>\"\",S90/(I90*PRODUCT($U$3:U89)),\"\")","v":0},1]
[88,88,87,{"$f":"IF(B91=\"\",\"\",IF(B91>ppp,0,home!$J$9))","v":0},{"$f":"IF($B91<>\"\",home!$L$9,\"\")","v":1588400},{"$f":"IF($B91<>\"\",ROUND(home!$L$9*1.035^(B91-1),0),\"\")","v":31678916},35705484,20000000,{"$f":"IF(C91<>\"\",ROUND(VLOOKUP(id&\"L\"&B91,现金价值表!$A$7:$K$43716,8,FALSE)*tbfs,2),\"\")","v":35705484},null,88,87,0,{"$f":"IF(C91<>\"\",ROUND(E91*PRODUCT($U$3:$U91),2),\"\")","v":308734.65000000002},{"$f":"IF(C91<>\"\",ROUND(F91*PRODUCT($U$3:$U91),2),\"\")","v":6157377.8799999999},{"$f":"IF(C91<>\"\",ROUND(G91*PRODUCT($U$3:$U91),2),\"\")","v":6940015.1600000001},{"$f":"IF(C91<>\"\",ROUND(MIN(F91*PRODUCT($U$3:$U91),20000000),2),\"\")","v":6157377.8799999999},{"$f":"IF(C91<>\"\",ROUND(I91*PRODUCT($U$3:$U91),2),\"\")","v":6940015.1600000001},{"$f":"home!K100","v":0},{"$f":"IF(C91<>\"\",S91/(I91*PRODUCT($U$3:U90)),\"\")","v":0},1]
[89,89,88,{"$f":"IF(B92=\"\",\"\",IF(B92>ppp,0,home!$J$9))","v":0},{"$f":"IF($B92<>\"\",home!$L$9,\"\")","v":1588400},{"$f":"IF($B92<>\"\",ROUND(home!$L$9*1.035^(B92-1),0),\"\")","v":32787678},36845076,20000000,{"$f":"IF(C92<>\"\",ROUND(VLOOKUP(id&\"L\"&B92,现金价值表!$A$7:$K$43716,8,FALSE)*tbfs,2),\"\")","v":36845076},null,89,88,0,{"$f":"IF(C92<>\"\",ROUND(E92*PRODUCT($U$3:$U92),2),\"\")","v":308734.65000000002},{"$f":"IF(C92<>\"\",ROUND(F92*PRODUCT($U$3:$U92),2),\"\")","v":6372886.0899999999},{"$f":"IF(C92<>\"\",ROUND(G92*PRODUCT($U$3:$U92),2),\"\")","v":7161515.75},{"$f":"IF(C92<>\"\",ROUND(MIN(F92*PRODUCT($U$3:$U92),20000000),2),\"\")","v":6372886.0899999999},{"$f":"IF(C92<>\"\",ROUND(I92*PRODUCT($U$3:$U92),2),\"\")","v":7161515.75},{"$f":"home!K101","v":0},{"$f":"IF(C92<>\"\",S92/(I92*PRODUCT($U$3:U91)),\"\")","v":0},1]
[90,90,89,{"$f":"IF(B93=\"\",\"\",IF(B93>ppp,0,home!$J$9))","v":0},{"$f":"IF($B93<>\"\",home!$L$9,\"\")","v":1588400},{"$f":"IF($B93<>\"\",ROUND(home!$L$9*1.035^(B93-1),0),\"\")","v":33935247},38010888,20000000,{"$f":"IF(C93<>\"\",ROUND(VLOOKUP(id&\"L\"&B93,现金价值表!$A$7:$K$43716,8,FALSE)*tbfs,2),\"\")","v":38010888},null,90,89,0,{"$f":"IF(C93<>\"\",ROUND(E93*PRODUCT($U$3:$U93),2),\"\")","v":308734.65000000002},{"$f":"IF(C93<>\"\",ROUND(F93*PRODUCT($U$3:$U93),2),\"\")","v":6595937.1600000001},{"$f":"IF(C93<>\"\",ROUND(G93*PRODUCT($U$3:$U93),2),\"\")","v":7388112.6799999997},{"$f":"IF(C93<>\"\",ROUND(MIN(F93*PRODUCT($U$3:$U93),20000000),2),\"\")","v":6595937.1600000001},{"$f":"IF(C93<>\"\",ROUND(I93*PRODUCT($U$3:$U93),2),\"\")","v":7388112.6799999997},{"$f":"home!K102","v":0},{"$f":"IF(C93<>\"\",S93/(I93*PRODUCT($U$3:U92)),\"\")","v":0},1]
[91,91,90,{"$f":"IF(B94=\"\",\"\",IF(B94>ppp,0,home!$J$9))","v":0},{"$f":"IF($B94<>\"\",home!$L$9,\"\")","v":1588400},{"$f":"IF($B94<>\"\",ROUND(home!$L$9*1.035^(B94-1),0),\"\")","v":35122980},39202252,20000000,{"$f":"IF(C94<>\"\",ROUND(VLOOKUP(id&\"L\"&B94,现金价值表!$A$7:$K$43716,8,FALSE)*tbfs,2),\"\")","v":39202252},null,91,90,0,{"$f":"IF(C94<>\"\",ROUND(E94*PRODUCT($U$3:$U94),2),\"\")","v":308734.65000000002},{"$f":"IF(C94<>\"\",ROUND(F94*PRODUCT($U$3:$U94),2),\"\")","v":6826794.8300000001},{"$f":"IF(C94<>\"\",ROUND(G94*PRODUCT($U$3:$U94),2),\"\")","v":7619676.0999999996},{"$f":"IF(C94<>\"\",ROUND(MIN(F94*PRODUCT($U$3:$U94),20000000),2),\"\")","v":6826794.8300000001},{"$f":"IF(C94<>\"\",ROUND(I94*PRODUCT($U$3:$U94),2),\"\")","v":7619676.0999999996},{"$f":"home!K103","v":0},{"$f":"IF(C94<>\"\",S94/(I94*PRODUCT($U$3:U93)),\"\")","v":0},1]
[92,92,91,{"$f":"IF(B95=\"\",\"\",IF(B95>ppp,0,home!$J$9))","v":0},{"$f":"IF($B95<>\"\",home!$L$9,\"\")","v":1588400},{"$f":"IF($B95<>\"\",ROUND(home!$L$9*1.035^(B95-1),0),\"\")","v":36352285},40418304,20000000,{"$f":"IF(C95<>\"\",ROUND(VLOOKUP(id&\"L\"&B95,现金价值表!$A$7:$K$43716,8,FALSE)*tbfs,2),\"\")","v":40418304},null,92,91,0,{"$f":"IF(C95<>\"\",ROUND(E95*PRODUCT($U$3:$U95),2),\"\")","v":308734.65000000002},{"$f":"IF(C95<>\"\",ROUND(F95*PRODUCT($U$3:$U95),2),\"\")","v":7065732.79},{"$f":"IF(C95<>\"\",ROUND(G95*PRODUCT($U$3:$U95),2),\"\")","v":7856038.0899999999},{"$f":"IF(C95<>\"\",ROUND(MIN(F95*PRODUCT($U$3:$U95),20000000),2),\"\")","v":7065732.79},{"$f":"IF(C95<>\"\",ROUND(I95*PRODUCT($U$3:$U95),2),\"\")","v":7856038.0899999999},{"$f":"home!K104","v":0},{"$f":"IF(C95<>\"\",S95/(I95*PRODUCT($U$3:U94)),\"\")","v":0},1]
[93,93,92,{"$f":"IF(B96=\"\",\"\",IF(B96>ppp,0,home!$J$9))","v":0},{"$f":"IF($B96<>\"\",home!$L$9,\"\")","v":1588400},{"$f":"IF($B96<>\"\",ROUND(home!$L$9*1.035^(B96-1),0),\"\")","v":37624615},41657976,20000000,{"$f":"IF(C96<>\"\",ROUND(VLOOKUP(id&\"L\"&B96,现金价值表!$A$7:$K$43716,8,FALSE)*tbfs,2),\"\")","v":41657976},null,93,92,0,{"$f":"IF(C96<>\"\",ROUND(E96*PRODUCT($U$3:$U96),2),\"\")","v":308734.65000000002},{"$f":"IF(C96<>\"\",ROUND(F96*PRODUCT($U$3:$U96),2),\"\")","v":7313033.4400000004},{"$f":"IF(C96<>\"\",ROUND(G96*PRODUCT($U$3:$U96),2),\"\")","v":8096991.0700000003},{"$f":"IF(C96<>\"\",ROUND(MIN(F96*PRODUCT($U$3:$U96),20000000),2),\"\")","v":7313033.4400000004},{"$f":"IF(C96<>\"\",ROUND(I96*PRODUCT($U$3:$U96),2),\"\")","v":8096991.0700000003},{"$f":"home!K105","v":0},{"$f":"IF(C96<>\"\",S96/(I96*PRODUCT($U$3:U95)),\"\")","v":0},1]
[94,94,93,{"$f":"IF(B97=\"\",\"\",IF(B97>ppp,0,home!$J$9))","v":0},{"$f":"IF($B97<>\"\",home!$L$9,\"\")","v":1588400},{"$f":"IF($B97<>\"\",ROUND(home!$L$9*1.035^(B97-1),0),\"\")","v":38941476},42920032,20000000,{"$f":"IF(C97<>\"\",ROUND(VLOOKUP(id&\"L\"&B97,现金价值表!$A$7:$K$43716,8,FALSE)*tbfs,2),\"\")","v":42920032},null,94,93,0,{"$f":"IF(C97<>\"\",ROUND(E97*PRODUCT($U$3:$U97),2),\"\")","v":308734.65000000002},{"$f":"IF(C97<>\"\",ROUND(F97*PRODUCT($U$3:$U97),2),\"\")","v":7568989.5099999998},{"$f":"IF(C97<>\"\",ROUND(G97*PRODUCT($U$3:$U97),2),\"\")","v":8342294.7800000003},{"$f":"IF(C97<>\"\",ROUND(MIN(F97*PRODUCT($U$3:$U97),20000000),2),\"\")","v":7568989.5099999998},{"$f":"IF(C97<>\"\",ROUND(I97*PRODUCT($U$3:$U97),2),\"\")","v":8342294.7800000003},{"$f":"home!K106","v":0},{"$f":"IF(C97<>\"\",S97/(I97*PRODUCT($U$3:U96)),\"\")","v":0},1]
[95,95,94,{"$f":"IF(B98=\"\",\"\",IF(B98>ppp,0,home!$J$9))","v":0},{"$f":"IF($B98<>\"\",home!$L$9,\"\")","v":1588400},{"$f":"IF($B98<>\"\",ROUND(home!$L$9*1.035^(B98-1),0),\"\")","v":40304428},44203076,20000000,{"$f":"IF(C98<>\"\",ROUND(VLOOKUP(id&\"L\"&B98,现金价值表!$A$7:$K$43716,8,FALSE)*tbfs,2),\"\")","v":44203076},null,95,94,0,{"$f":"IF(C98<>\"\",ROUND(E98*PRODUCT($U$3:$U98),2),\"\")","v":308734.65000000002},{"$f":"IF(C98<>\"\",ROUND(F98*PRODUCT($U$3:$U98),2),\"\")","v":7833904.21},{"$f":"IF(C98<>\"\",ROUND(G98*PRODUCT($U$3:$U98),2),\"\")","v":8591677.8900000006},{"$f":"IF(C98<>\"\",ROUND(MIN(F98*PRODUCT($U$3:$U98),20000000),2),\"\")","v":7833904.21},{"$f":"IF(C98<>\"\",ROUND(I98*PRODUCT($U$3:$U98),2),\"\")","v":8591677.8900000006},{"$f":"home!K107","v":0},{"$f":"IF(C98<>\"\",S98/(I98*PRODUCT($U$3:U97)),\"\")","v":0},1]
[96,96,95,{"$f":"IF(B99=\"\",\"\",IF(B99>ppp,0,home!$J$9))","v":0},{"$f":"IF($B99<>\"\",home!$L$9,\"\")","v":1588400},{"$f":"IF($B99<>\"\",ROUND(home!$L$9*1.035^(B99-1),0),\"\")","v":41715083},45505592,20000000,{"$f":"IF(C99<>\"\",ROUND(VLOOKUP(id&\"L\"&B99,现金价值表!$A$7:$K$43716,8,FALSE)*tbfs,2),\"\")","v":45505592},null,96,95,0,{"$f":"IF(C99<>\"\",ROUND(E99*PRODUCT($U$3:$U99),2),\"\")","v":308734.65000000002},{"$f":"IF(C99<>\"\",ROUND(F99*PRODUCT($U$3:$U99),2),\"\")","v":8108090.8600000003},{"$f":"IF(C99<>\"\",ROUND(G99*PRODUCT($U$3:$U99),2),\"\")","v":8844845.75},{"$f":"IF(C99<>\"\",ROUND(MIN(F99*PRODUCT($U$3:$U99),20000000),2),\"\")","v":8108090.8600000003},{"$f":"IF(C99<>\"\",ROUND(I99*PRODUCT($U$3:$U99),2),\"\")","v":8844845.75},{"$f":"home!K108","v":0},{"$f":"IF(C99<>\"\",S99/(I99*PRODUCT($U$3:U98)),\"\")","v":0},1]
[97,97,96,{"$f":"IF(B100=\"\",\"\",IF(B100>ppp,0,home!$J$9))","v":0},{"$f":"IF($B100<>\"\",home!$L$9,\"\")","v":1588400},{"$f":"IF($B100<>\"\",ROUND(home!$L$9*1.035^(B100-1),0),\"\")","v":43175111},{"$f":"IF($B100<>\"\",IF(C100<18,MAX(sv*MIN(B100,ppp),I100),IF(B100<=ppp,MAX(sv*MIN(B100,ppp)*IF(C100<41,160%,IF(C100<61,140%,120%)),I100),MAX(sv*MIN(B100,ppp)*IF(C100<41,160%,IF(C100<61,140%,120%)),I100,F100))),\"\")","v":46825988},20000000,{"$f":"IF(C100<>\"\",ROUND(VLOOKUP(id&\"L\"&B100,现金价值表!$A$7:$K$43716,8,FALSE)*tbfs,2),\"\")","v":46825988},null,97,96,0,{"$f":"IF(C100<>\"\",ROUND(E100*PRODUCT($U$3:$U100),2),\"\")","v":308734.65000000002},{"$f":"IF(C100<>\"\",ROUND(F100*PRODUCT($U$3:$U100),2),\"\")","v":8391874.0600000005},{"$f":"IF(C100<>\"\",ROUND(G100*PRODUCT($U$3:$U100),2),\"\")","v":9101488.9100000001},{"$f":"IF(C100<>\"\",ROUND(MIN(F100*PRODUCT($U$3:$U100),20000000),2),\"\")","v":8391874.0600000005},{"$f":"IF(C100<>\"\",ROUND(I100*PRODUCT($U$3:$U100),2),\"\")","v":9101488.9100000001},{"$f":"home!K109","v":0},{"$f":"IF(C100<>\"\",S100/(I100*PRODUCT($U$3:U99)),\"\")","v":0},{"$f":"IF(C100<>\"\",1-T100,\"\")","v":1}]
[98,98,97,{"$f":"IF(B101=\"\",\"\",IF(B101>ppp,0,home!$J$9))","v":0},{"$f":"IF($B101<>\"\",home!$L$9,\"\")","v":1588400},{"$f":"IF($B101<>\"\",ROUND(home!$L$9*1.035^(B101-1),0),\"\")","v":44686239},48162616,20000000,{"$f":"IF(C101<>\"\",ROUND(VLOOKUP(id&\"L\"&B101,现金价值表!$A$7:$K$43716,8,FALSE)*tbfs,2),\"\")","v":48162616},null,{"$f":"B101","v":98},{"$f":"C101","v":97},0,{"$f":"IF(C101<>\"\",ROUND(E101*PRODUCT($U$3:$U101),2),\"\")","v":308734.65000000002},{"$f":"IF(C101<>\"\",ROUND(F101*PRODUCT($U$3:$U101),2),\"\")","v":8685589.4800000004},{"$f":"IF(C101<>\"\",ROUND(G101*PRODUCT($U$3:$U101),2),\"\")","v":9361287.0500000007},{"$f":"IF(C101<>\"\",ROUND(MIN(F101*PRODUCT($U$3:$U101),20000000),2),\"\")","v":8685589.4800000004},{"$f":"IF(C101<>\"\",ROUND(I101*PRODUCT($U$3:$U101),2),\"\")","v":9361287.0500000007},{"$f":"home!K110","v":0},{"$f":"IF(C101<>\"\",S101/(I101*PRODUCT($U$3:U100)),\"\")","v":0},1]
[99,99,98,{"$f":"IF(B102=\"\",\"\",IF(B102>ppp,0,home!$J$9))","v":0},{"$f":"IF($B102<>\"\",home!$L$9,\"\")","v":1588400},{"$f":"IF($B102<>\"\",ROUND(home!$L$9*1.035^(B102-1),0),\"\")","v":46250258},49513812,20000000,{"$f":"IF(C102<>\"\",ROUND(VLOOKUP(id&\"L\"&B102,现金价值表!$A$7:$K$43716,8,FALSE)*tbfs,2),\"\")","v":49513812},null,{"$f":"B102","v":99},98,0,{"$f":"IF(C102<>\"\",ROUND(E102*PRODUCT($U$3:$U102),2),\"\")","v":308734.65000000002},{"$f":"IF(C102<>\"\",ROUND(F102*PRODUCT($U$3:$U102),2),\"\")","v":8989585.2300000004},{"$f":"IF(C102<>\"\",ROUND(G102*PRODUCT($U$3:$U102),2),\"\")","v":9623916.7599999998},{"$f":"IF(C102<>\"\",ROUND(MIN(F102*PRODUCT($U$3:$U102),20000000),2),\"\")","v":8989585.2300000004},{"$f":"IF(C102<>\"\",ROUND(I102*PRODUCT($U$3:$U102),2),\"\")","v":9623916.7599999998},{"$f":"home!K111","v":0},{"$f":"IF(C102<>\"\",S102/(I102*PRODUCT($U$3:U101)),\"\")","v":0},1]
[100,100,99,{"$f":"IF(B103=\"\",\"\",IF(B103>ppp,0,home!$J$9))","v":0},{"$f":"IF($B103<>\"\",home!$L$9,\"\")","v":1588400},{"$f":"IF($B103<>\"\",ROUND(home!$L$9*1.035^(B103-1),0),\"\")","v":47869017},50877896,20000000,{"$f":"IF(C103<>\"\",ROUND(VLOOKUP(id&\"L\"&B103,现金价值表!$A$7:$K$43716,8,FALSE)*tbfs,2),\"\")","v":50877896},null,100,99,0,{"$f":"IF(C103<>\"\",ROUND(E103*PRODUCT($U$3:$U103),2),\"\")","v":308734.65000000002},{"$f":"IF(C103<>\"\",ROUND(F103*PRODUCT($U$3:$U103),2),\"\")","v":9304220.7100000009},{"$f":"IF(C103<>\"\",ROUND(G103*PRODUCT($U$3:$U103),2),\"\")","v":9889051.4800000004},{"$f":"IF(C103<>\"\",ROUND(MIN(F103*PRODUCT($U$3:$U103),20000000),2),\"\")","v":9304220.7100000009},{"$f":"IF(C103<>\"\",ROUND(I103*PRODUCT($U$3:$U103),2),\"\")","v":9889051.4800000004},{"$f":"home!K112","v":0},{"$f":"IF(C103<>\"\",S103/(I103*PRODUCT($U$3:U102)),\"\")","v":0},1]
[101,101,100,{"$f":"IF(B104=\"\",\"\",IF(B104>ppp,0,home!$J$9))","v":0},{"$f":"IF($B104<>\"\",home!$L$9,\"\")","v":1588400},{"$f":"IF($B104<>\"\",ROUND(home!$L$9*1.035^(B104-1),0),\"\")","v":49544432},52253196,20000000,{"$f":"IF(C104<>\"\",ROUND(VLOOKUP(id&\"L\"&B104,现金价值表!$A$7:$K$43716,8,FALSE)*tbfs,2),\"\")","v":52253196},null,101,100,0,{"$f":"IF(C104<>\"\",ROUND(E104*PRODUCT($U$3:$U104),2),\"\")","v":308734.65000000002},{"$f":"IF(C104<>\"\",ROUND(F104*PRODUCT($U$3:$U104),2),\"\")","v":9629868.3200000003},{"$f":"IF(C104<>\"\",ROUND(G104*PRODUCT($U$3:$U104),2),\"\")","v":10156366.24},{"$f":"IF(C104<>\"\",ROUND(MIN(F104*PRODUCT($U$3:$U104),20000000),2),\"\")","v":9629868.3200000003},{"$f":"IF(C104<>\"\",ROUND(I104*PRODUCT($U$3:$U104),2),\"\")","v":10156366.24},{"$f":"home!K113","v":0},{"$f":"IF(C104<>\"\",S104/(I104*PRODUCT($U$3:U103)),\"\")","v":0},1]
[102,102,101,{"$f":"IF(B105=\"\",\"\",IF(B105>ppp,0,home!$J$9))","v":0},{"$f":"IF($B105<>\"\",home!$L$9,\"\")","v":1588400},{"$f":"IF($B105<>\"\",ROUND(home!$L$9*1.035^(B105-1),0),\"\")","v":51278488},53638052,20000000,{"$f":"IF(C105<>\"\",ROUND(VLOOKUP(id&\"L\"&B105,现金价值表!$A$7:$K$43716,8,FALSE)*tbfs,2),\"\")","v":53638052},null,102,101,0,{"$f":"IF(C105<>\"\",ROUND(E105*PRODUCT($U$3:$U105),2),\"\")","v":308734.65000000002},{"$f":"IF(C105<>\"\",ROUND(F105*PRODUCT($U$3:$U105),2),\"\")","v":9966913.8800000008},{"$f":"IF(C105<>\"\",ROUND(G105*PRODUCT($U$3:$U105),2),\"\")","v":10425538.380000001},{"$f":"IF(C105<>\"\",ROUND(MIN(F105*PRODUCT($U$3:$U105),20000000),2),\"\")","v":9966913.8800000008},{"$f":"IF(C105<>\"\",ROUND(I105*PRODUCT($U$3:$U105),2),\"\")","v":10425538.380000001},{"$f":"home!K114","v":0},{"$f":"IF(C105<>\"\",S105/(I105*PRODUCT($U$3:U104)),\"\")","v":0},1]
[103,103,102,{"$f":"IF(B106=\"\",\"\",IF(B106>ppp,0,home!$J$9))","v":0},{"$f":"IF($B106<>\"\",home!$L$9,\"\")","v":1588400},{"$f":"IF($B106<>\"\",ROUND(home!$L$9*1.035^(B106-1),0),\"\")","v":53073235},55030836,20000000,{"$f":"IF(C106<>\"\",ROUND(VLOOKUP(id&\"L\"&B106,现金价值表!$A$7:$K$43716,8,FALSE)*tbfs,2),\"\")","v":55030836},null,103,102,0,{"$f":"IF(C106<>\"\",ROUND(E106*PRODUCT($U$3:$U106),2),\"\")","v":308734.65000000002},{"$f":"IF(C106<>\"\",ROUND(F106*PRODUCT($U$3:$U106),2),\"\")","v":10315755.85},{"$f":"IF(C106<>\"\",ROUND(G106*PRODUCT($U$3:$U106),2),\"\")","v":10696251.48},{"$f":"IF(C106<>\"\",ROUND(MIN(F106*PRODUCT($U$3:$U106),20000000),2),\"\")","v":10315755.85},{"$f":"IF(C106<>\"\",ROUND(I106*PRODUCT($U$3:$U106),2),\"\")","v":10696251.48},{"$f":"home!K115","v":0},{"$f":"IF(C106<>\"\",S106/(I106*PRODUCT($U$3:U105)),\"\")","v":0},1]
[104,104,103,{"$f":"IF(B107=\"\",\"\",IF(B107>ppp,0,home!$J$9))","v":0},{"$f":"IF($B107<>\"\",home!$L$9,\"\")","v":1588400},{"$f":"IF($B107<>\"\",ROUND(home!$L$9*1.035^(B107-1),0),\"\")","v":54930798},56429960,20000000,{"$f":"IF(C107<>\"\",ROUND(VLOOKUP(id&\"L\"&B107,现金价值表!$A$7:$K$43716,8,FALSE)*tbfs,2),\"\")","v":56429960},null,104,103,0,{"$f":"IF(C107<>\"\",ROUND(E107*PRODUCT($U$3:$U107),2),\"\")","v":308734.65000000002},{"$f":"IF(C107<>\"\",ROUND(F107*PRODUCT($U$3:$U107),2),\"\")","v":10676807.26},{"$f":"IF(C107<>\"\",ROUND(G107*PRODUCT($U$3:$U107),2),\"\")","v":10968196.869999999},{"$f":"IF(C107<>\"\",ROUND(MIN(F107*PRODUCT($U$3:$U107),20000000),2),\"\")","v":10676807.26},{"$f":"IF(C107<>\"\",ROUND(I107*PRODUCT($U$3:$U107),2),\"\")","v":10968196.869999999},{"$f":"home!K116","v":0},{"$f":"IF(C107<>\"\",S107/(I107*PRODUCT($U$3:U106)),\"\")","v":0},1]
[105,105,104,{"$f":"IF(B108=\"\",\"\",IF(B108>ppp,0,home!$J$9))","v":0},{"$f":"IF($B108<>\"\",home!$L$9,\"\")","v":1588400},{"$f":"IF($B108<>\"\",ROUND(home!$L$9*1.035^(B108-1),0),\"\")","v":56853376},57833892,20000000,{"$f":"IF(C108<>\"\",ROUND(VLOOKUP(id&\"L\"&B108,现金价值表!$A$7:$K$43716,8,FALSE)*tbfs,2),\"\")","v":57833892},null,105,104,0,{"$f":"IF(C108<>\"\",ROUND(E108*PRODUCT($U$3:$U108),2),\"\")","v":308734.65000000002},{"$f":"IF(C108<>\"\",ROUND(F108*PRODUCT($U$3:$U108),2),\"\")","v":11050495.529999999},{"$f":"IF(C108<>\"\",ROUND(G108*PRODUCT($U$3:$U108),2),\"\")","v":11241076.779999999},{"$f":"IF(C108<>\"\",ROUND(MIN(F108*PRODUCT($U$3:$U108),20000000),2),\"\")","v":11050495.529999999},{"$f":"IF(C108<>\"\",ROUND(I108*PRODUCT($U$3:$U108),2),\"\")","v":11241076.779999999},{"$f":"home!K117","v":0},{"$f":"IF(C108<>\"\",S108/(I108*PRODUCT($U$3:U107)),\"\")","v":0},1]
[106,106,105,{"$f":"IF(B109=\"\",\"\",IF(B109>ppp,0,home!$J$9))","v":0},{"$f":"IF($B109<>\"\",home!$L$9,\"\")","v":1588400},{"$f":"IF($B109<>\"\",ROUND(home!$L$9*1.035^(B109-1),0),\"\")","v":58843244},58843244,20000000,{"$f":"IF(C109<>\"\",ROUND(VLOOKUP(id&\"L\"&B109,现金价值表!$A$7:$K$43716,8,FALSE)*tbfs,2),\"\")","v":58836572},null,106,105,0,{"$f":"IF(C109<>\"\",ROUND(E109*PRODUCT($U$3:$U109),2),\"\")","v":308734.65000000002},{"$f":"IF(C109<>\"\",ROUND(F109*PRODUCT($U$3:$U109),2),\"\")","v":11437262.84},{"$f":"IF(C109<>\"\",ROUND(G109*PRODUCT($U$3:$U109),2),\"\")","v":11437262.84},{"$f":"IF(C109<>\"\",ROUND(MIN(F109*PRODUCT($U$3:$U109),20000000),2),\"\")","v":11437262.84},{"$f":"IF(C109<>\"\",ROUND(I109*PRODUCT($U$3:$U109),2),\"\")","v":11435966.02},{"$f":"home!K118","v":0},{"$f":"IF(C109<>\"\",S109/(I109*PRODUCT($U$3:U108)),\"\")","v":0},1]

{"sheet":"fun","index":2,"n_rows":22,"n_cols":4,"rows_kept":22,"cut":false,"hidden":true,"merged":[]}
["年龄",{"$f":"home!C9","v":0}]
["保险时间",{"$f":"106-$B$1","v":106}]
[]
["性别",null,{"$f":"home!E9","v":"男"},{"$f":"VLOOKUP(C4,A5:B6,2,FALSE)","v":0}]
["男",0]
["女",1]
[]
["缴费年限",null,{"$f":"home!K9","v":"B-5年交"},{"$f":"VLOOKUP(C8,A9:B13,2,FALSE)","v":5}]
["A-3年交",3]
["B-5年交",5]
["C-10年交",10]
["D-15年交",15]
["E-20年交",20]
[]
["基本保险金额",{"$f":"VLOOKUP($B$19,基本保险金额表!$A$7:$F$566,6,FALSE)*tbfs","v":1588400}]
[]
["年交保险费",1000]
[]
["ID",{"$f":"\"A\"&B1&\"S\"&D4&\"Y\"&D8","v":"A0S0Y5"}]
[]
[]
["投保份数",{"$f":"home!J9/1000","v":400}]

{"sheet":"基本保险金额表","index":3,"n_rows":566,"n_cols":6,"rows_kept":566,"cut":false,"hidden":true,"merged":[[1,1,1,5],[2,1,2,5],[4,1,4,5]]}
[]
[null,"鑫利来增额终身寿险"]
[null,"(每千元年交保险费对应的基本保险金额表)"]
[]
[null,"单位：人民币元"]
[null,"交费期间","保险期间","投保年龄","性别","保额"]
[{"$f":"\"A\"&D7&\"S\"&E7&\"Y\"&B7","v":"A0S0Y3"},3,"终身",0,0,2432]
[{"$f":"\"A\"&D8&\"S\"&E8&\"Y\"&B8","v":"A1S0Y3"},3,"终身",1,0,2432]
["A2S0Y3",3,"终身",2,0,2432]
["A3S0Y3",3,"终身",3,0,2432]
["A4S0Y3",3,"终身",4,0,2432]
["A5S0Y3",3,"终身",5,0,2432]
["A6S0Y3",3,"终身",6,0,2432]
["A7S0Y3",3,"终身",7,0,2432]
["A8S0Y3",3,"终身",8,0,2432]
["A9S0Y3",3,"终身",9,0,2432]
["A10S0Y3",3,"终身",10,0,2431]
["A11S0Y3",3,"终身",11,0,2431]
["A12S0Y3",3,"终身",12,0,2430]
["A13S0Y3",3,"终身",13,0,2430]
["A14S0Y3",3,"终身",14,0,2429]
["A15S0Y3",3,"终身",15,0,2428]
["A16S0Y3",3,"终身",16,0,2427]
["A17S0Y3",3,"终身",17,0,2427]
["A18S0Y3",3,"终身",18,0,2426]
["A19S0Y3",3,"终身",19,0,2426]
["A20S0Y3",3,"终身",20,0,2426]
["A21S0Y3",3,"终身",21,0,2425]
["A22S0Y3",3,"终身",22,0,2425]
["A23S0Y3",3,"终身",23,0,2425]
["A24S0Y3",3,"终身",24,0,2424]
["A25S0Y3",3,"终身",25,0,2424]
["A26S0Y3",3,"终身",26,0,2423]
["A27S0Y3",3,"终身",27,0,2423]
["A28S0Y3",3,"终身",28,0,2422]
["A29S0Y3",3,"终身",29,0,2422]
["A30S0Y3",3,"终身",30,0,2422]
["A31S0Y3",3,"终身",31,0,2422]
["A32S0Y3",3,"终身",32,0,2422]
["A33S0Y3",3,"终身",33,0,2421]
["A34S0Y3",3,"终身",34,0,2421]
["A35S0Y3",3,"终身",35,0,2421]
["A36S0Y3",3,"终身",36,0,2421]
["A37S0Y3",3,"终身",37,0,2420]
["A38S0Y3",3,"终身",38,0,2420]
["A39S0Y3",3,"终身",39,0,2420]
["A40S0Y3",3,"终身",40,0,2419]
["A41S0Y3",3,"终身",41,0,2418]
["A42S0Y3",3,"终身",42,0,2416]
["A43S0Y3",3,"终身",43,0,2414]
["A44S0Y3",3,"终身",44,0,2412]
["A45S0Y3",3,"终身",45,0,2410]
["A46S0Y3",3,"终身",46,0,2408]
["A47S0Y3",3,"终身",47,0,2406]
["A48S0Y3",3,"终身",48,0,2403]
["A49S0Y3",3,"终身",49,0,2401]
["A50S0Y3",3,"终身",50,0,2399]
["A51S0Y3",3,"终身",51,0,2398]
["A52S0Y3",3,"终身",52,0,2397]
["A53S0Y3",3,"终身",53,0,2398]
["A54S0Y3",3,"终身",54,0,2400]
["A55S0Y3",3,"终身",55,0,2401]
["A56S0Y3",3,"终身",56,0,2403]
["A57S0Y3",3,"终身",57,0,2405]
["A58S0Y3",3,"终身",58,0,2407]
["A59S0Y3",3,"终身",59,0,2409]
["A60S0Y3",3,"终身",60,0,2410]
["A61S0Y3",3,"终身",61,0,2409]
["A62S0Y3",3,"终身",62,0,2406]
["A63S0Y3",3,"终身",63,0,2401]
["A64S0Y3",3,"终身",64,0,2397]
[{"$f":"\"A\"&D72&\"S\"&E72&\"Y\"&B72","v":"A65S0Y3"},3,"终身",65,0,2391]
["A0S1Y3",3,"终身",0,1,2512]
["A1S1Y3",3,"终身",1,1,2513]
["A2S1Y3",3,"终身",2,1,2513]
["A3S1Y3",3,"终身",3,1,2513]
["A4S1Y3",3,"终身",4,1,2513]
[{"$f":"\"A\"&D78&\"S\"&E78&\"Y\"&B78","v":"A5S1Y3"},3,"终身",5,1,2513]
[{"$f":"\"A\"&D79&\"S\"&E79&\"Y\"&B79","v":"A6S1Y3"},3,"终身",6,1,2513]
["A7S1Y3",3,"终身",7,1,2513]
["A8S1Y3",3,"终身",8,1,2512]
["A9S1Y3",3,"终身",9,1,2512]
["A10S1Y3",3,"终身",10,1,2512]
["A11S1Y3",3,"终身",11,1,2512]
["A12S1Y3",3,"终身",12,1,2512]
["A13S1Y3",3,"终身",13,1,2511]
["A14S1Y3",3,"终身",14,1,2511]
["A15S1Y3",3,"终身",15,1,2511]
["A16S1Y3",3,"终身",16,1,2510]
["A17S1Y3",3,"终身",17,1,2510]
["A18S1Y3",3,"终身",18,1,2510]
["A19S1Y3",3,"终身",19,1,2510]
["A20S1Y3",3,"终身",20,1,2510]
["A21S1Y3",3,"终身",21,1,2510]
["A22S1Y3",3,"终身",22,1,2510]
["A23S1Y3",3,"终身",23,1,2509]
["A24S1Y3",3,"终身",24,1,2509]
["A25S1Y3",3,"终身",25,1,2509]
["A26S1Y3",3,"终身",26,1,2509]
["A27S1Y3",3,"终身",27,1,2509]
["A28S1Y3",3,"终身",28,1,2509]
["A29S1Y3",3,"终身",29,1,2509]
["A30S1Y3",3,"终身",30,1,2509]
["A31S1Y3",3,"终身",31,1,2509]
["A32S1Y3",3,"终身",32,1,2509]
["A33S1Y3",3,"终身",33,1,2509]
["A34S1Y3",3,"终身",34,1,2508]
["A35S1Y3",3,"终身",35,1,2508]
["A36S1Y3",3,"终身",36,1,2508]
["A37S1Y3",3,"终身",37,1,2508]
["A38S1Y3",3,"终身",38,1,2508]
["A39S1Y3",3,"终身",39,1,2508]
["A40S1Y3",3,"终身",40,1,2507]
["A41S1Y3",3,"终身",41,1,2507]
["A42S1Y3",3,"终身",42,1,2506]
["A43S1Y3",3,"终身",43,1,2505]
["A44S1Y3",3,"终身",44,1,2505]
["A45S1Y3",3,"终身",45,1,2504]
["A46S1Y3",3,"终身",46,1,2503]
["A47S1Y3",3,"终身",47,1,2502]
["A48S1Y3",3,"终身",48,1,2500]
["A49S1Y3",3,"终身",49,1,2499]
["A50S1Y3",3,"终身",50,1,2498]
["A51S1Y3",3,"终身",51,1,2497]
["A52S1Y3",3,"终身",52,1,2497]
["A53S1Y3",3,"终身",53,1,2497]
["A54S1Y3",3,"终身",54,1,2498]
["A55S1Y3",3,"终身",55,1,2499]
["A56S1Y3",3,"终身",56,1,2499]
["A57S1Y3",3,"终身",57,1,2500]
["A58S1Y3",3,"终身",58,1,2501]
["A59S1Y3",3,"终身",59,1,2502]
["A60S1Y3",3,"终身",60,1,2502]
["A61S1Y3",3,"终身",61,1,2502]
["A62S1Y3",3,"终身",62,1,2500]
["A63S1Y3",3,"终身",63,1,2497]
["A64S1Y3",3,"终身",64,1,2495]
["A65S1Y3",3,"终身",65,1,2491]
["A0S0Y5",5,"终身",0,0,3971]
["A1S0Y5",5,"终身",1,0,3971]
["A2S0Y5",5,"终身",2,0,3971]
["A3S0Y5",5,"终身",3,0,3971]
[{"$f":"\"A\"&D143&\"S\"&E143&\"Y\"&B143","v":"A4S0Y5"},5,"终身",4,0,3971]
["A5S0Y5",5,"终身",5,0,3971]
["A6S0Y5",5,"终身",6,0,3970]
["A7S0Y5",5,"终身",7,0,3970]
["A8S0Y5",5,"终身",8,0,3970]
["A9S0Y5",5,"终身",9,0,3969]
[{"$f":"\"A\"&D149&\"S\"&E149&\"Y\"&B149","v":"A10S0Y5"},5,"终身",10,0,3968]
["A11S0Y5",5,"终身",11,0,3968]
["A12S0Y5",5,"终身",12,0,3967]
["A13S0Y5",5,"终身",13,0,3966]
["A14S0Y5",5,"终身",14,0,3965]
["A15S0Y5",5,"终身",15,0,3963]
["A16S0Y5",5,"终身",16,0,3962]
["A17S0Y5",5,"终身",17,0,3962]
["A18S0Y5",5,"终身",18,0,3961]
["A19S0Y5",5,"终身",19,0,3961]
["A20S0Y5",5,"终身",20,0,3960]
["A21S0Y5",5,"终身",21,0,3960]
["A22S0Y5",5,"终身",22,0,3959]
["A23S0Y5",5,"终身",23,0,3958]
["A24S0Y5",5,"终身",24,0,3958]
["A25S0Y5",5,"终身",25,0,3957]
["A26S0Y5",5,"终身",26,0,3956]
["A27S0Y5",5,"终身",27,0,3955]
["A28S0Y5",5,"终身",28,0,3955]
["A29S0Y5",5,"终身",29,0,3955]
["A30S0Y5",5,"终身",30,0,3955]
["A31S0Y5",5,"终身",31,0,3954]
["A32S0Y5",5,"终身",32,0,3954]
["A33S0Y5",5,"终身",33,0,3954]
["A34S0Y5",5,"终身",34,0,3954]
["A35S0Y5",5,"终身",35,0,3953]
["A36S0Y5",5,"终身",36,0,3953]
["A37S0Y5",5,"终身",37,0,3953]
["A38S0Y5",5,"终身",38,0,3952]
["A39S0Y5",5,"终身",39,0,3951]
["A40S0Y5",5,"终身",40,0,3949]
["A41S0Y5",5,"终身",41,0,3947]
["A42S0Y5",5,"终身",42,0,3944]
["A43S0Y5",5,"终身",43,0,3942]
["A44S0Y5",5,"终身",44,0,3938]
["A45S0Y5",5,"终身",45,0,3935]
["A46S0Y5",5,"终身",46,0,3932]
["A47S0Y5",5,"终身",47,0,3928]
["A48S0Y5",5,"终身",48,0,3924]
["A49S0Y5",5,"终身",49,0,3921]
["A50S0Y5",5,"终身",50,0,3919]
["A51S0Y5",5,"终身",51,0,3918]
["A52S0Y5",5,"终身",52,0,3919]
["A53S0Y5",5,"终身",53,0,3922]
["A54S0Y5",5,"终身",54,0,3924]
["A55S0Y5",5,"终身",55,0,3928]
["A56S0Y5",5,"终身",56,0,3931]
["A57S0Y5",5,"终身",57,0,3935]
["A58S0Y5",5,"终身",58,0,3938]
["A59S0Y5",5,"终身",59,0,3939]
["A60S0Y5",5,"终身",60,0,3939]
["A0S1Y5",5,"终身",0,1,4102]
["A1S1Y5",5,"终身",1,1,4102]
["A2S1Y5",5,"终身",2,1,4102]
["A3S1Y5",5,"终身",3,1,4102]
["A4S1Y5",5,"终身",4,1,4102]
["A5S1Y5",5,"终身",5,1,4102]
["A6S1Y5",5,"终身",6,1,4102]
["A7S1Y5",5,"终身",7,1,4101]
["A8S1Y5",5,"终身",8,1,4101]
["A9S1Y5",5,"终身",9,1,4101]
["A10S1Y5",5,"终身",10,1,4101]
["A11S1Y5",5,"终身",11,1,4100]
["A12S1Y5",5,"终身",12,1,4100]
[{"$f":"\"A\"&D213&\"S\"&E213&\"Y\"&B213","v":"A13S1Y5"},5,"终身",13,1,4099]
["A14S1Y5",5,"终身",14,1,4099]
["A15S1Y5",5,"终身",15,1,4098]
["A16S1Y5",5,"终身",16,1,4098]
["A17S1Y5",5,"终身",17,1,4098]
["A18S1Y5",5,"终身",18,1,4097]
["A19S1Y5",5,"终身",19,1,4097]
["A20S1Y5",5,"终身",20,1,4097]
["A21S1Y5",5,"终身",21,1,4097]
["A22S1Y5",5,"终身",22,1,4097]
["A23S1Y5",5,"终身",23,1,4097]
["A24S1Y5",5,"终身",24,1,4097]
["A25S1Y5",5,"终身",25,1,4096]
["A26S1Y5",5,"终身",26,1,4096]
["A27S1Y5",5,"终身",27,1,4096]
["A28S1Y5",5,"终身",28,1,4096]
["A29S1Y5",5,"终身",29,1,4096]
["A30S1Y5",5,"终身",30,1,4096]
["A31S1Y5",5,"终身",31,1,4096]
["A32S1Y5",5,"终身",32,1,4096]
["A33S1Y5",5,"终身",33,1,4096]
["A34S1Y5",5,"终身",34,1,4095]
["A35S1Y5",5,"终身",35,1,4095]
["A36S1Y5",5,"终身",36,1,4095]
["A37S1Y5",5,"终身",37,1,4095]
["A38S1Y5",5,"终身",38,1,4095]
["A39S1Y5",5,"终身",39,1,4094]
["A40S1Y5",5,"终身",40,1,4093]
["A41S1Y5",5,"终身",41,1,4092]
["A42S1Y5",5,"终身",42,1,4091]
["A43S1Y5",5,"终身",43,1,4090]
["A44S1Y5",5,"终身",44,1,4089]
["A45S1Y5",5,"终身",45,1,4087]
["A46S1Y5",5,"终身",46,1,4086]
["A47S1Y5",5,"终身",47,1,4084]
["A48S1Y5",5,"终身",48,1,4082]
["A49S1Y5",5,"终身",49,1,4080]
["A50S1Y5",5,"终身",50,1,4079]
["A51S1Y5",5,"终身",51,1,4079]
["A52S1Y5",5,"终身",52,1,4079]
["A53S1Y5",5,"终身",53,1,4080]
["A54S1Y5",5,"终身",54,1,4081]
["A55S1Y5",5,"终身",55,1,4083]
["A56S1Y5",5,"终身",56,1,4084]
["A57S1Y5",5,"终身",57,1,4086]
["A58S1Y5",5,"终身",58,1,4087]
["A59S1Y5",5,"终身",59,1,4087]
["A60S1Y5",5,"终身",60,1,4087]
["A0S0Y10",10,"终身",0,0,7298]
["A1S0Y10",10,"终身",1,0,7299]
["A2S0Y10",10,"终身",2,0,7298]
["A3S0Y10",10,"终身",3,0,7298]
["A4S0Y10",10,"终身",4,0,7298]
["A5S0Y10",10,"终身",5,0,7297]
["A6S0Y10",10,"终身",6,0,7296]
["A7S0Y10",10,"终身",7,0,7295]
["A8S0Y10",10,"终身",8,0,7294]
["A9S0Y10",10,"终身",9,0,7293]
["A10S0Y10",10,"终身",10,0,7291]
["A11S0Y10",10,"终身",11,0,7289]
["A12S0Y10",10,"终身",12,0,7287]
["A13S0Y10",10,"终身",13,0,7286]
["A14S0Y10",10,"终身",14,0,7284]
["A15S0Y10",10,"终身",15,0,7283]
[{"$f":"\"A\"&D277&\"S\"&E277&\"Y\"&B277","v":"A16S0Y10"},10,"终身",16,0,7281]
[{"$f":"\"A\"&D278&\"S\"&E278&\"Y\"&B278","v":"A17S0Y10"},10,"终身",17,0,7280]
[{"$f":"\"A\"&D279&\"S\"&E279&\"Y\"&B279","v":"A18S0Y10"},10,"终身",18,0,7279]
[{"$f":"\"A\"&D280&\"S\"&E280&\"Y\"&B280","v":"A19S0Y10"},10,"终身",19,0,7278]
[{"$f":"\"A\"&D281&\"S\"&E281&\"Y\"&B281","v":"A20S0Y10"},10,"终身",20,0,7277]
["A21S0Y10",10,"终身",21,0,7275]
["A22S0Y10",10,"终身",22,0,7274]
["A23S0Y10",10,"终身",23,0,7272]
["A24S0Y10",10,"终身",24,0,7271]
["A25S0Y10",10,"终身",25,0,7271]
["A26S0Y10",10,"终身",26,0,7270]
["A27S0Y10",10,"终身",27,0,7270]
["A28S0Y10",10,"终身",28,0,7270]
["A29S0Y10",10,"终身",29,0,7269]
["A30S0Y10",10,"终身",30,0,7269]
["A31S0Y10",10,"终身",31,0,7269]
["A32S0Y10",10,"终身",32,0,7268]
["A33S0Y10",10,"终身",33,0,7267]
["A34S0Y10",10,"终身",34,0,7266]
["A35S0Y10",10,"终身",35,0,7265]
["A36S0Y10",10,"终身",36,0,7263]
["A37S0Y10",10,"终身",37,0,7260]
["A38S0Y10",10,"终身",38,0,7258]
["A39S0Y10",10,"终身",39,0,7254]
["A40S0Y10",10,"终身",40,0,7250]
["A41S0Y10",10,"终身",41,0,7245]
["A42S0Y10",10,"终身",42,0,7240]
["A43S0Y10",10,"终身",43,0,7234]
["A44S0Y10",10,"终身",44,0,7228]
["A45S0Y10",10,"终身",45,0,7221]
["A46S0Y10",10,"终身",46,0,7214]
["A47S0Y10",10,"终身",47,0,7209]
["A48S0Y10",10,"终身",48,0,7207]
["A49S0Y10",10,"终身",49,0,7207]
["A50S0Y10",10,"终身",50,0,7210]
["A51S0Y10",10,"终身",51,0,7215]
["A52S0Y10",10,"终身",52,0,7220]
["A53S0Y10",10,"终身",53,0,7225]
["A54S0Y10",10,"终身",54,0,7230]
["A55S0Y10",10,"终身",55,0,7234]
["A0S1Y10",10,"终身",0,1,7539]
["A1S1Y10",10,"终身",1,1,7539]
["A2S1Y10",10,"终身",2,1,7539]
["A3S1Y10",10,"终身",3,1,7539]
["A4S1Y10",10,"终身",4,1,7539]
["A5S1Y10",10,"终身",5,1,7539]
["A6S1Y10",10,"终身",6,1,7538]
["A7S1Y10",10,"终身",7,1,7538]
["A8S1Y10",10,"终身",8,1,7537]
["A9S1Y10",10,"终身",9,1,7537]
["A10S1Y10",10,"终身",10,1,7536]
["A11S1Y10",10,"终身",11,1,7535]
["A12S1Y10",10,"终身",12,1,7534]
["A13S1Y10",10,"终身",13,1,7533]
["A14S1Y10",10,"终身",14,1,7533]
["A15S1Y10",10,"终身",15,1,7532]
["A16S1Y10",10,"终身",16,1,7532]
["A17S1Y10",10,"终身",17,1,7531]
["A18S1Y10",10,"终身",18,1,7531]
["A19S1Y10",10,"终身",19,1,7531]
["A20S1Y10",10,"终身",20,1,7530]
["A21S1Y10",10,"终身",21,1,7530]
["A22S1Y10",10,"终身",22,1,7530]
["A23S1Y10",10,"终身",23,1,7529]
["A24S1Y10",10,"终身",24,1,7529]
["A25S1Y10",10,"终身",25,1,7529]
["A26S1Y10",10,"终身",26,1,7529]
["A27S1Y10",10,"终身",27,1,7529]
[{"$f":"\"A\"&D345&\"S\"&E345&\"Y\"&B345","v":"A28S1Y10"},10,"终身",28,1,7529]
["A29S1Y10",10,"终身",29,1,7529]
["A30S1Y10",10,"终身",30,1,7528]
["A31S1Y10",10,"终身",31,1,7528]
["A32S1Y10",10,"终身",32,1,7528]
["A33S1Y10",10,"终身",33,1,7528]
["A34S1Y10",10,"终身",34,1,7527]
["A35S1Y10",10,"终身",35,1,7527]
["A36S1Y10",10,"终身",36,1,7526]
["A37S1Y10",10,"终身",37,1,7525]
["A38S1Y10",10,"终身",38,1,7523]
["A39S1Y10",10,"终身",39,1,7522]
["A40S1Y10",10,"终身",40,1,7520]
["A41S1Y10",10,"终身",41,1,7518]
["A42S1Y10",10,"终身",42,1,7516]
["A43S1Y10",10,"终身",43,1,7513]
["A44S1Y10",10,"终身",44,1,7510]
["A45S1Y10",10,"终身",45,1,7507]
["A46S1Y10",10,"终身",46,1,7504]
["A47S1Y10",10,"终身",47,1,7501]
["A48S1Y10",10,"终身",48,1,7500]
["A49S1Y10",10,"终身",49,1,7499]
["A50S1Y10",10,"终身",50,1,7500]
["A51S1Y10",10,"终身",51,1,7503]
["A52S1Y10",10,"终身",52,1,7505]
["A53S1Y10",10,"终身",53,1,7508]
["A54S1Y10",10,"终身",54,1,7510]
["A55S1Y10",10,"终身",55,1,7511]
["A0S0Y15",15,"终身",0,0,9799]
["A1S0Y15",15,"终身",1,0,9799]
["A2S0Y15",15,"终身",2,0,9798]
["A3S0Y15",15,"终身",3,0,9797]
["A4S0Y15",15,"终身",4,0,9796]
["A5S0Y15",15,"终身",5,0,9794]
["A6S0Y15",15,"终身",6,0,9792]
["A7S0Y15",15,"终身",7,0,9790]
["A8S0Y15",15,"终身",8,0,9788]
["A9S0Y15",15,"终身",9,0,9786]
["A10S0Y15",15,"终身",10,0,9783]
["A11S0Y15",15,"终身",11,0,9781]
["A12S0Y15",15,"终身",12,0,9779]
["A13S0Y15",15,"终身",13,0,9777]
["A14S0Y15",15,"终身",14,0,9775]
["A15S0Y15",15,"终身",15,0,9772]
["A16S0Y15",15,"终身",16,0,9770]
["A17S0Y15",15,"终身",17,0,9768]
["A18S0Y15",15,"终身",18,0,9766]
["A19S0Y15",15,"终身",19,0,9764]
["A20S0Y15",15,"终身",20,0,9762]
["A21S0Y15",15,"终身",21,0,9760]
["A22S0Y15",15,"终身",22,0,9759]
["A23S0Y15",15,"终身",23,0,9759]
["A24S0Y15",15,"终身",24,0,9759]
["A25S0Y15",15,"终身",25,0,9758]
["A26S0Y15",15,"终身",26,0,9757]
["A27S0Y15",15,"终身",27,0,9757]
["A28S0Y15",15,"终身",28,0,9756]
["A29S0Y15",15,"终身",29,0,9755]
["A30S0Y15",15,"终身",30,0,9753]
["A31S0Y15",15,"终身",31,0,9751]
["A32S0Y15",15,"终身",32,0,9748]
["A33S0Y15",15,"终身",33,0,9745]
["A34S0Y15",15,"终身",34,0,9742]
["A35S0Y15",15,"终身",35,0,9738]
[{"$f":"\"A\"&D409&\"S\"&E409&\"Y\"&B409","v":"A36S0Y15"},15,"终身",36,0,9733]
["A37S0Y15",15,"终身",37,0,9727]
["A38S0Y15",15,"终身",38,0,9721]
["A39S0Y15",15,"终身",39,0,9713]
["A40S0Y15",15,"终身",40,0,9705]
["A41S0Y15",15,"终身",41,0,9696]
["A42S0Y15",15,"终身",42,0,9686]
["A43S0Y15",15,"终身",43,0,9676]
["A44S0Y15",15,"终身",44,0,9669]
["A45S0Y15",15,"终身",45,0,9665]
["A46S0Y15",15,"终身",46,0,9665]
["A47S0Y15",15,"终身",47,0,9668]
["A48S0Y15",15,"终身",48,0,9672]
["A49S0Y15",15,"终身",49,0,9676]
["A50S0Y15",15,"终身",50,0,9680]
["A0S1Y15",15,"终身",0,1,10123]
["A1S1Y15",15,"终身",1,1,10123]
["A2S1Y15",15,"终身",2,1,10123]
["A3S1Y15",15,"终身",3,1,10122]
["A4S1Y15",15,"终身",4,1,10122]
["A5S1Y15",15,"终身",5,1,10121]
["A6S1Y15",15,"终身",6,1,10120]
["A7S1Y15",15,"终身",7,1,10119]
["A8S1Y15",15,"终身",8,1,10118]
["A9S1Y15",15,"终身",9,1,10117]
["A10S1Y15",15,"终身",10,1,10116]
["A11S1Y15",15,"终身",11,1,10115]
["A12S1Y15",15,"终身",12,1,10114]
["A13S1Y15",15,"终身",13,1,10113]
["A14S1Y15",15,"终身",14,1,10112]
["A15S1Y15",15,"终身",15,1,10111]
["A16S1Y15",15,"终身",16,1,10111]
["A17S1Y15",15,"终身",17,1,10110]
["A18S1Y15",15,"终身",18,1,10109]
["A19S1Y15",15,"终身",19,1,10109]
["A20S1Y15",15,"终身",20,1,10108]
["A21S1Y15",15,"终身",21,1,10108]
["A22S1Y15",15,"终身",22,1,10108]
["A23S1Y15",15,"终身",23,1,10108]
["A24S1Y15",15,"终身",24,1,10108]
["A25S1Y15",15,"终身",25,1,10108]
["A26S1Y15",15,"终身",26,1,10108]
["A27S1Y15",15,"终身",27,1,10107]
["A28S1Y15",15,"终身",28,1,10107]
["A29S1Y15",15,"终身",29,1,10107]
["A30S1Y15",15,"终身",30,1,10106]
["A31S1Y15",15,"终身",31,1,10105]
["A32S1Y15",15,"终身",32,1,10104]
["A33S1Y15",15,"终身",33,1,10103]
["A34S1Y15",15,"终身",34,1,10101]
["A35S1Y15",15,"终身",35,1,10099]
["A36S1Y15",15,"终身",36,1,10097]
["A37S1Y15",15,"终身",37,1,10095]
["A38S1Y15",15,"终身",38,1,10092]
["A39S1Y15",15,"终身",39,1,10089]
["A40S1Y15",15,"终身",40,1,10085]
["A41S1Y15",15,"终身",41,1,10081]
["A42S1Y15",15,"终身",42,1,10076]
["A43S1Y15",15,"终身",43,1,10071]
["A44S1Y15",15,"终身",44,1,10068]
["A45S1Y15",15,"终身",45,1,10065]
["A46S1Y15",15,"终身",46,1,10065]
["A47S1Y15",15,"终身",47,1,10066]
["A48S1Y15",15,"终身",48,1,10068]
[{"$f":"\"A\"&D473&\"S\"&E473&\"Y\"&B473","v":"A49S1Y15"},15,"终身",49,1,10070]
["A50S1Y15",15,"终身",50,1,10072]
["A0S0Y20",20,"终身",0,0,11970]
["A1S0Y20",20,"终身",1,0,11969]
["A2S0Y20",20,"终身",2,0,11967]
["A3S0Y20",20,"终身",3,0,11966]
["A4S0Y20",20,"终身",4,0,11964]
["A5S0Y20",20,"终身",5,0,11962]
["A6S0Y20",20,"终身",6,0,11959]
["A7S0Y20",20,"终身",7,0,11957]
["A8S0Y20",20,"终身",8,0,11954]
["A9S0Y20",20,"终身",9,0,11951]
["A10S0Y20",20,"终身",10,0,11949]
["A11S0Y20",20,"终身",11,0,11946]
["A12S0Y20",20,"终身",12,0,11943]
["A13S0Y20",20,"终身",13,0,11940]
["A14S0Y20",20,"终身",14,0,11937]
["A15S0Y20",20,"终身",15,0,11934]
["A16S0Y20",20,"终身",16,0,11931]
["A17S0Y20",20,"终身",17,0,11929]
["A18S0Y20",20,"终身",18,0,11927]
["A19S0Y20",20,"终身",19,0,11925]
["A20S0Y20",20,"终身",20,0,11925]
["A21S0Y20",20,"终身",21,0,11924]
["A22S0Y20",20,"终身",22,0,11924]
["A23S0Y20",20,"终身",23,0,11924]
["A24S0Y20",20,"终身",24,0,11923]
["A25S0Y20",20,"终身",25,0,11922]
["A26S0Y20",20,"终身",26,0,11920]
["A27S0Y20",20,"终身",27,0,11919]
["A28S0Y20",20,"终身",28,0,11917]
["A29S0Y20",20,"终身",29,0,11914]
["A30S0Y20",20,"终身",30,0,11911]
["A31S0Y20",20,"终身",31,0,11907]
["A32S0Y20",20,"终身",32,0,11903]
["A33S0Y20",20,"终身",33,0,11898]
["A34S0Y20",20,"终身",34,0,11893]
["A35S0Y20",20,"终身",35,0,11886]
["A36S0Y20",20,"终身",36,0,11879]
["A37S0Y20",20,"终身",37,0,11871]
["A38S0Y20",20,"终身",38,0,11862]
["A39S0Y20",20,"终身",39,0,11852]
["A40S0Y20",20,"终身",40,0,11840]
["A41S0Y20",20,"终身",41,0,11831]
["A42S0Y20",20,"终身",42,0,11825]
["A43S0Y20",20,"终身",43,0,11823]
["A44S0Y20",20,"终身",44,0,11825]
["A45S0Y20",20,"终身",45,0,11828]
["A0S1Y20",20,"终身",0,1,12367]
["A1S1Y20",20,"终身",1,1,12366]
["A2S1Y20",20,"终身",2,1,12366]
["A3S1Y20",20,"终身",3,1,12365]
["A4S1Y20",20,"终身",4,1,12364]
["A5S1Y20",20,"终身",5,1,12363]
["A6S1Y20",20,"终身",6,1,12362]
["A7S1Y20",20,"终身",7,1,12361]
["A8S1Y20",20,"终身",8,1,12360]
["A9S1Y20",20,"终身",9,1,12358]
["A10S1Y20",20,"终身",10,1,12357]
["A11S1Y20",20,"终身",11,1,12356]
["A12S1Y20",20,"终身",12,1,12355]
["A13S1Y20",20,"终身",13,1,12354]
["A14S1Y20",20,"终身",14,1,12353]
["A15S1Y20",20,"终身",15,1,12352]
[{"$f":"\"A\"&D537&\"S\"&E537&\"Y\"&B537","v":"A16S1Y20"},20,"终身",16,1,12351]
["A17S1Y20",20,"终身",17,1,12350]
["A18S1Y20",20,"终身",18,1,12349]
["A19S1Y20",20,"终身",19,1,12349]
["A20S1Y20",20,"终身",20,1,12349]
["A21S1Y20",20,"终身",21,1,12349]
["A22S1Y20",20,"终身",22,1,12349]
["A23S1Y20",20,"终身",23,1,12349]
["A24S1Y20",20,"终身",24,1,12349]
["A25S1Y20",20,"终身",25,1,12349]
["A26S1Y20",20,"终身",26,1,12349]
["A27S1Y20",20,"终身",27,1,12348]
["A28S1Y20",20,"终身",28,1,12347]
["A29S1Y20",20,"终身",29,1,12346]
["A30S1Y20",20,"终身",30,1,12345]
["A31S1Y20",20,"终身",31,1,12343]
["A32S1Y20",20,"终身",32,1,12342]
["A33S1Y20",20,"终身",33,1,12339]
["A34S1Y20",20,"终身",34,1,12337]
["A35S1Y20",20,"终身",35,1,12334]
["A36S1Y20",20,"终身",36,1,12331]
["A37S1Y20",20,"终身",37,1,12327]
["A38S1Y20",20,"终身",38,1,12323]
["A39S1Y20",20,"终身",39,1,12319]
["A40S1Y20",20,"终身",40,1,12314]
["A41S1Y20",20,"终身",41,1,12309]
["A42S1Y20",20,"终身",42,1,12306]
["A43S1Y20",20,"终身",43,1,12305]
["A44S1Y20",20,"终身",44,1,12305]
["A45S1Y20",20,"终身",45,1,12308]

{"sheet":"现金价值表","index":4,"n_rows":43716,"n_cols":11,"rows_kept":4500,"cut":true,"hidden":true,"merged":[[1,1,1,10],[2,1,2,10],[3,1,3,10],[4,1,4,10]],"bounds":{"rows_first":2000,"rows_last":500,"rows_between":2000,"halvings":0}}
[]
[null,"鑫利来增额终身寿险"]
[null,"(每千元年交保险费对应的现金价值表)"]
[]
[null,"单位：人民币元"]
[null,"交费期间","保险期间","投保年龄","性别","保单年度","现金价值净保费（期初）","保单年度末现金价值","保单年度末生存给付","评估净保费(Alfa&beta)","期末法定责任准备金"]
[{"$f":"\"A\"&D7&\"S\"&E7&\"Y\"&B7&\"L\"&F7","v":"A0S0Y3L1"},3,"终身",0,0,1,164.33,149.58000000000001,0,0.88,859.24]
[{"$f":"\"A\"&D8&\"S\"&E8&\"Y\"&B8&\"L\"&F8","v":"A0S0Y3L2"},3,"终身",0,0,2,234.75,400.14,0,1437.14,1924.22]
["A0S0Y3L3",3,"终身",0,0,3,305.18,773.2,0,1437.14,3026.52]
["A0S0Y3L4",3,"终身",0,0,4,0,814.92,0,0,3132.44]
["A0S0Y3L5",3,"终身",0,0,5,0,859.09,0,0,3242.1]
["A0S0Y3L6",3,"终身",0,0,6,0,3355.52,0,0,3355.52]
["A0S0Y3L7",3,"终身",0,0,7,0,3472.91,0,0,3472.91]
["A0S0Y3L8",3,"终身",0,0,8,0,3594.41,0,0,3594.41]
["A0S0Y3L9",3,"终身",0,0,9,0,3720.16,0,0,3720.16]
["A0S0Y3L10",3,"终身",0,0,10,0,3850.31,0,0,3850.31]
["A0S0Y3L11",3,"终身",0,0,11,0,3985.01,0,0,3985.01]
["A0S0Y3L12",3,"终身",0,0,12,0,4124.42,0,0,4124.42]
["A0S0Y3L13",3,"终身",0,0,13,0,4268.71,0,0,4268.71]
["A0S0Y3L14",3,"终身",0,0,14,0,4418.04,0,0,4418.04]
["A0S0Y3L15",3,"终身",0,0,15,0,4572.6000000000004,0,0,4572.6000000000004]
["A0S0Y3L16",3,"终身",0,0,16,0,4732.55,0,0,4732.55]
["A0S0Y3L17",3,"终身",0,0,17,0,4898.1099999999997,0,0,4898.1099999999997]
["A0S0Y3L18",3,"终身",0,0,18,0,5069.45,0,0,5069.45]
["A0S0Y3L19",3,"终身",0,0,19,0,5246.78,0,0,5246.78]
["A0S0Y3L20",3,"终身",0,0,20,0,5430.31,0,0,5430.31]
["A0S0Y3L21",3,"终身",0,0,21,0,5620.27,0,0,5620.27]
["A0S0Y3L22",3,"终身",0,0,22,0,5816.86,0,0,5816.86]
["A0S0Y3L23",3,"终身",0,0,23,0,6020.33,0,0,6020.33]
["A0S0Y3L24",3,"终身",0,0,24,0,6230.92,0,0,6230.92]
["A0S0Y3L25",3,"终身",0,0,25,0,6448.86,0,0,6448.86]
["A0S0Y3L26",3,"终身",0,0,26,0,6674.43,0,0,6674.43]
["A0S0Y3L27",3,"终身",0,0,27,0,6907.89,0,0,6907.89]
["A0S0Y3L28",3,"终身",0,0,28,0,7149.5,0,0,7149.5]
["A0S0Y3L29",3,"终身",0,0,29,0,7399.57,0,0,7399.57]
["A0S0Y3L30",3,"终身",0,0,30,0,7658.37,0,0,7658.37]
["A0S0Y3L31",3,"终身",0,0,31,0,7926.22,0,0,7926.22]
["A0S0Y3L32",3,"终身",0,0,32,0,8203.43,0,0,8203.43]
["A0S0Y3L33",3,"终身",0,0,33,0,8490.33,0,0,8490.33]
["A0S0Y3L34",3,"终身",0,0,34,0,8787.25,0,0,8787.25]
["A0S0Y3L35",3,"终身",0,0,35,0,9094.5499999999993,0,0,9094.5499999999993]
["A0S0Y3L36",3,"终身",0,0,36,0,9412.58,0,0,9412.58]
["A0S0Y3L37",3,"终身",0,0,37,0,9741.7099999999991,0,0,9741.7099999999991]
["A0S0Y3L38",3,"终身",0,0,38,0,10082.34,0,0,10082.34]
["A0S0Y3L39",3,"终身",0,0,39,0,10434.86,0,0,10434.86]
["A0S0Y3L40",3,"终身",0,0,40,0,10799.68,0,0,10799.68]
["A0S0Y3L41",3,"终身",0,0,41,0,11177.24,0,0,11177.24]
["A0S0Y3L42",3,"终身",0,0,42,0,11567.95,0,0,11567.95]
["A0S0Y3L43",3,"终身",0,0,43,0,11972.3,0,0,11972.3]
["A0S0Y3L44",3,"终身",0,0,44,0,12390.73,0,0,12390.73]
["A0S0Y3L45",3,"终身",0,0,45,0,12823.74,0,0,12823.74]
["A0S0Y3L46",3,"终身",0,0,46,0,13271.82,0,0,13271.82]
["A0S0Y3L47",3,"终身",0,0,47,0,13735.5,0,0,13735.5]
["A0S0Y3L48",3,"终身",0,0,48,0,14215.3,0,0,14215.3]
["A0S0Y3L49",3,"终身",0,0,49,0,14711.77,0,0,14711.77]
["A0S0Y3L50",3,"终身",0,0,50,0,15225.5,0,0,15225.5]
["A0S0Y3L51",3,"终身",0,0,51,0,15757.07,0,0,15757.07]
["A0S0Y3L52",3,"终身",0,0,52,0,16307.08,0,0,16307.08]
["A0S0Y3L53",3,"终身",0,0,53,0,16876.18,0,0,16876.18]
["A0S0Y3L54",3,"终身",0,0,54,0,17465.009999999998,0,0,17465.009999999998]
["A0S0Y3L55",3,"终身",0,0,55,0,18074.25,0,0,18074.25]
["A0S0Y3L56",3,"终身",0,0,56,0,18704.61,0,0,18704.61]
["A0S0Y3L57",3,"终身",0,0,57,0,19356.8,0,0,19356.8]
["A0S0Y3L58",3,"终身",0,0,58,0,20031.57,0,0,20031.57]
["A0S0Y3L59",3,"终身",0,0,59,0,20729.66,0,0,20729.66]
["A0S0Y3L60",3,"终身",0,0,60,0,21451.84,0,0,21451.84]
["A0S0Y3L61",3,"终身",0,0,61,0,22198.9,0,0,22198.9]
["A0S0Y3L62",3,"终身",0,0,62,0,22971.599999999999,0,0,22971.599999999999]
["A0S0Y3L63",3,"终身",0,0,63,0,23770.77,0,0,23770.77]
["A0S0Y3L64",3,"终身",0,0,64,0,24597.21,0,0,24597.21]
["A0S0Y3L65",3,"终身",0,0,65,0,25451.77,0,0,25451.77]
[{"$f":"\"A\"&D72&\"S\"&E72&\"Y\"&B72&\"L\"&F72","v":"A0S0Y3L66"},3,"终身",0,0,66,0,26335.27,0,0,26335.27]
["A0S0Y3L67",3,"终身",0,0,67,0,27248.58,0,0,27248.58]
["A0S0Y3L68",3,"终身",0,0,68,0,28192.54,0,0,28192.55]
["A0S0Y3L69",3,"终身",0,0,69,0,29168,0,0,29168]
["A0S0Y3L70",3,"终身",0,0,70,0,30175.78,0,0,30175.78]
["A0S0Y3L71",3,"终身",0,0,71,0,31216.71,0,0,31216.71]
["A0S0Y3L72",3,"终身",0,0,72,0,32291.61,0,0,32291.61]
["A0S0Y3L73",3,"终身",0,0,73,0,33401.269999999997,0,0,33401.279999999999]
["A0S0Y3L74",3,"终身",0,0,74,0,34546.519999999997,0,0,34546.519999999997]
["A0S0Y3L75",3,"终身",0,0,75,0,35728.120000000003,0,0,35728.120000000003]
["A0S0Y3L76",3,"终身",0,0,76,0,36946.85,0,0,36946.85]
["A0S0Y3L77",3,"终身",0,0,77,0,38203.46,0,0,38203.46]
["A0S0Y3L78",3,"终身",0,0,78,0,39498.639999999999,0,0,39498.639999999999]
["A0S0Y3L79",3,"终身",0,0,79,0,40833.050000000003,0,0,40833.050000000003]
["A0S0Y3L80",3,"终身",0,0,80,0,42207.28,0,0,42207.28]
["A0S0Y3L81",3,"终身",0,0,81,0,43621.84,0,0,43621.84]
["A0S0Y3L82",3,"终身",0,0,82,0,45077.19,0,0,45077.19]
["A0S0Y3L83",3,"终身",0,0,83,0,46573.7,0,0,46573.7]
["A0S0Y3L84",3,"终身",0,0,84,0,48111.65,0,0,48111.65]
["A0S0Y3L85",3,"终身",0,0,85,0,49691.23,0,0,49691.23]
["A0S0Y3L86",3,"终身",0,0,86,0,51312.52,0,0,51312.52]
["A0S0Y3L87",3,"终身",0,0,87,0,52975.44,0,0,52975.44]
["A0S0Y3L88",3,"终身",0,0,88,0,54679.73,0,0,54679.73]
["A0S0Y3L89",3,"终身",0,0,89,0,56424.91,0,0,56424.91]
["A0S0Y3L90",3,"终身",0,0,90,0,58210.25,0,0,58210.25]
["A0S0Y3L91",3,"终身",0,0,91,0,60034.720000000001,0,0,60034.720000000001]
["A0S0Y3L92",3,"终身",0,0,92,0,61896.99,0,0,61896.99]
["A0S0Y3L93",3,"终身",0,0,93,0,63795.43,0,0,63795.44]
["A0S0Y3L94",3,"终身",0,0,94,0,65728.160000000003,0,0,65728.160000000003]
["A0S0Y3L95",3,"终身",0,0,95,0,67693.03,0,0,67693.03]
["A0S0Y3L96",3,"终身",0,0,96,0,69687.710000000006,0,0,69687.710000000006]
["A0S0Y3L97",3,"终身",0,0,97,0,71709.78,0,0,71709.78]
["A0S0Y3L98",3,"终身",0,0,98,0,73756.710000000006,0,0,73756.710000000006]
["A0S0Y3L99",3,"终身",0,0,99,0,75825.94,0,0,75825.94]
["A0S0Y3L100",3,"终身",0,0,100,0,77914.91,0,0,77914.91]
["A0S0Y3L101",3,"终身",0,0,101,0,80021.06,0,0,80021.06]
["A0S0Y3L102",3,"终身",0,0,102,0,82141.84,0,0,82141.850000000006]
["A0S0Y3L103",3,"终身",0,0,103,0,84274.77,0,0,84274.77]
["A0S0Y3L104",3,"终身",0,0,104,0,86417.4,0,0,86417.4]
["A0S0Y3L105",3,"终身",0,0,105,0,88567.39,0,0,88567.39]
["A0S0Y3L106",3,"终身",0,0,106,0,90102.91,0,0,90102.91]
["A1S0Y3L1",3,"终身",1,0,1,167.16,152.36000000000001,0,0.63,859.28]
["A1S0Y3L2",3,"终身",1,0,2,238.8,407.54,0,1437.12,1924.27]
["A1S0Y3L3",3,"终身",1,0,3,310.44,787.36,0,1437.12,3026.58]
["A1S0Y3L4",3,"终身",1,0,4,0,830,0,0,3132.5]
["A1S0Y3L5",3,"终身",1,0,5,0,875.07,0,0,3242.15]
["A1S0Y3L6",3,"终身",1,0,6,0,3355.58,0,0,3355.58]
["A1S0Y3L7",3,"终身",1,0,7,0,3472.98,0,0,3472.98]
["A1S0Y3L8",3,"终身",1,0,8,0,3594.48,0,0,3594.48]
["A1S0Y3L9",3,"终身",1,0,9,0,3720.23,0,0,3720.23]
["A1S0Y3L10",3,"终身",1,0,10,0,3850.38,0,0,3850.38]
["A1S0Y3L11",3,"终身",1,0,11,0,3985.08,0,0,3985.08]
["A1S0Y3L12",3,"终身",1,0,12,0,4124.49,0,0,4124.49]
["A1S0Y3L13",3,"终身",1,0,13,0,4268.78,0,0,4268.78]
["A1S0Y3L14",3,"终身",1,0,14,0,4418.1099999999997,0,0,4418.1099999999997]
["A1S0Y3L15",3,"终身",1,0,15,0,4572.66,0,0,4572.66]
["A1S0Y3L16",3,"终身",1,0,16,0,4732.62,0,0,4732.62]
["A1S0Y3L17",3,"终身",1,0,17,0,4898.17,0,0,4898.17]
["A1S0Y3L18",3,"终身",1,0,18,0,5069.5200000000004,0,0,5069.5200000000004]
["A1S0Y3L19",3,"终身",1,0,19,0,5246.85,0,0,5246.85]
["A1S0Y3L20",3,"终身",1,0,20,0,5430.38,0,0,5430.38]
["A1S0Y3L21",3,"终身",1,0,21,0,5620.34,0,0,5620.34]
["A1S0Y3L22",3,"终身",1,0,22,0,5816.93,0,0,5816.93]
["A1S0Y3L23",3,"终身",1,0,23,0,6020.4,0,0,6020.4]
[{"$f":"\"A\"&D136&\"S\"&E136&\"Y\"&B136&\"L\"&F136","v":"A1S0Y3L24"},3,"终身",1,0,24,0,6230.99,0,0,6230.99]
["A1S0Y3L25",3,"终身",1,0,25,0,6448.93,0,0,6448.93]
["A1S0Y3L26",3,"终身",1,0,26,0,6674.5,0,0,6674.5]
["A1S0Y3L27",3,"终身",1,0,27,0,6907.96,0,0,6907.96]
["A1S0Y3L28",3,"终身",1,0,28,0,7149.57,0,0,7149.57]
["A1S0Y3L29",3,"终身",1,0,29,0,7399.63,0,0,7399.63]
["A1S0Y3L30",3,"终身",1,0,30,0,7658.43,0,0,7658.43]
["A1S0Y3L31",3,"终身",1,0,31,0,7926.28,0,0,7926.28]
["A1S0Y3L32",3,"终身",1,0,32,0,8203.48,0,0,8203.48]
["A1S0Y3L33",3,"终身",1,0,33,0,8490.3700000000008,0,0,8490.3700000000008]
["A1S0Y3L34",3,"终身",1,0,34,0,8787.2900000000009,0,0,8787.2900000000009]
["A1S0Y3L35",3,"终身",1,0,35,0,9094.57,0,0,9094.57]
["A1S0Y3L36",3,"终身",1,0,36,0,9412.59,0,0,9412.59]
["A1S0Y3L37",3,"终身",1,0,37,0,9741.7099999999991,0,0,9741.7099999999991]
["A1S0Y3L38",3,"终身",1,0,38,0,10082.32,0,0,10082.32]
["A1S0Y3L39",3,"终身",1,0,39,0,10434.81,0,0,10434.81]
["A1S0Y3L40",3,"终身",1,0,40,0,10799.61,0,0,10799.61]
["A1S0Y3L41",3,"终身",1,0,41,0,11177.13,0,0,11177.13]
["A1S0Y3L42",3,"终身",1,0,42,0,11567.81,0,0,11567.81]
["A1S0Y3L43",3,"终身",1,0,43,0,11972.1,0,0,11972.1]
["A1S0Y3L44",3,"终身",1,0,44,0,12390.48,0,0,12390.48]
["A1S0Y3L45",3,"终身",1,0,45,0,12823.43,0,0,12823.43]
["A1S0Y3L46",3,"终身",1,0,46,0,13271.44,0,0,13271.44]
["A1S0Y3L47",3,"终身",1,0,47,0,13735.03,0,0,13735.03]
["A1S0Y3L48",3,"终身",1,0,48,0,14214.73,0,0,14214.73]
["A1S0Y3L49",3,"终身",1,0,49,0,14711.1,0,0,14711.1]
["A1S0Y3L50",3,"终身",1,0,50,0,15224.71,0,0,15224.71]
["A1S0Y3L51",3,"终身",1,0,51,0,15756.14,0,0,15756.14]
["A1S0Y3L52",3,"终身",1,0,52,0,16306.01,0,0,16306.01]
["A1S0Y3L53",3,"终身",1,0,53,0,16874.95,0,0,16874.95]
["A1S0Y3L54",3,"终身",1,0,54,0,17463.61,0,0,17463.61]
["A1S0Y3L55",3,"终身",1,0,55,0,18072.669999999998,0,0,18072.669999999998]
["A1S0Y3L56",3,"终身",1,0,56,0,18702.830000000002,0,0,18702.830000000002]
["A1S0Y3L57",3,"终身",1,0,57,0,19354.8,0,0,19354.8]
["A1S0Y3L58",3,"终身",1,0,58,0,20029.3,0,0,20029.3]
["A1S0Y3L59",3,"终身",1,0,59,0,20727.09,0,0,20727.09]
["A1S0Y3L60",3,"终身",1,0,60,0,21448.9,0,0,21448.9]
["A1S0Y3L61",3,"终身",1,0,61,0,22195.5,0,0,22195.5]
["A1S0Y3L62",3,"终身",1,0,62,0,22967.67,0,0,22967.67]
["A1S0Y3L63",3,"终身",1,0,63,0,23766.19,0,0,23766.19]
["A1S0Y3L64",3,"终身",1,0,64,0,24591.87,0,0,24591.87]
["A1S0Y3L65",3,"终身",1,0,65,0,25445.53,0,0,25445.53]
["A1S0Y3L66",3,"终身",1,0,66,0,26327.98,0,0,26327.98]
["A1S0Y3L67",3,"终身",1,0,67,0,27240.05,0,0,27240.05]
["A1S0Y3L68",3,"终身",1,0,68,0,28182.55,0,0,28182.55]
["A1S0Y3L69",3,"终身",1,0,69,0,29156.28,0,0,29156.28]
["A1S0Y3L70",3,"终身",1,0,70,0,30162.05,0,0,30162.05]
["A1S0Y3L71",3,"终身",1,0,71,0,31200.63,0,0,31200.63]
["A1S0Y3L72",3,"终身",1,0,72,0,32272.799999999999,0,0,32272.799999999999]
["A1S0Y3L73",3,"终身",1,0,73,0,33379.35,0,0,33379.35]
["A1S0Y3L74",3,"终身",1,0,74,0,34521.03,0,0,34521.03]
["A1S0Y3L75",3,"终身",1,0,75,0,35698.589999999997,0,0,35698.589999999997]
["A1S0Y3L76",3,"终身",1,0,76,0,36912.74,0,0,36912.74]
["A1S0Y3L77",3,"终身",1,0,77,0,38164.17,0,0,38164.17]
["A1S0Y3L78",3,"终身",1,0,78,0,39453.49,0,0,39453.49]
["A1S0Y3L79",3,"终身",1,0,79,0,40781.29,0,0,40781.29]
["A1S0Y3L80",3,"终身",1,0,80,0,42148.06,0,0,42148.06]
["A1S0Y3L81",3,"终身",1,0,81,0,43554.239999999998,0,0,43554.239999999998]
["A1S0Y3L82",3,"终身",1,0,82,0,45000.19,0,0,45000.19]
["A1S0Y3L83",3,"终身",1,0,83,0,46486.18,0,0,46486.18]
["A1S0Y3L84",3,"终身",1,0,84,0,48012.4,0,0,48012.4]
["A1S0Y3L85",3,"终身",1,0,85,0,49578.91,0,0,49578.91]
["A1S0Y3L86",3,"终身",1,0,86,0,51185.65,0,0,51185.65]
["A1S0Y3L87",3,"终身",1,0,87,0,52832.36,0,0,52832.36]
[{"$f":"\"A\"&D200&\"S\"&E200&\"Y\"&B200&\"L\"&F200","v":"A1S0Y3L88"},3,"终身",1,0,88,0,54518.58,0,0,54518.58]
["A1S0Y3L89",3,"终身",1,0,89,0,56243.6,0,0,56243.6]
["A1S0Y3L90",3,"终身",1,0,90,0,58006.42,0,0,58006.42]
["A1S0Y3L91",3,"终身",1,0,91,0,59805.78,0,0,59805.78]
["A1S0Y3L92",3,"终身",1,0,92,0,61640.09,0,0,61640.09]
["A1S0Y3L93",3,"终身",1,0,93,0,63507.51,0,0,63507.51]
["A1S0Y3L94",3,"终身",1,0,94,0,65406,0,0,65406]
["A1S0Y3L95",3,"终身",1,0,95,0,67333.289999999994,0,0,67333.289999999994]
["A1S0Y3L96",3,"终身",1,0,96,0,69287.039999999994,0,0,69287.039999999994]
["A1S0Y3L97",3,"终身",1,0,97,0,71264.81,0,0,71264.81]
["A1S0Y3L98",3,"终身",1,0,98,0,73264.14,0,0,73264.14]
["A1S0Y3L99",3,"终身",1,0,99,0,75282.53,0,0,75282.53]
["A1S0Y3L100",3,"终身",1,0,100,0,77317.52,0,0,77317.52]
["A1S0Y3L101",3,"终身",1,0,101,0,79366.66,0,0,79366.66]
["A1S0Y3L102",3,"终身",1,0,102,0,81427.520000000004,0,0,81427.520000000004]
["A1S0Y3L103",3,"终身",1,0,103,0,83497.759999999995,0,0,83497.759999999995]
["A1S0Y3L104",3,"终身",1,0,104,0,85575.11,0,0,85575.11]
["A1S0Y3L105",3,"终身",1,0,105,0,87058.75,0,0,87058.75]
["A2S0Y3L1",3,"终身",2,0,1,170.14,155.21,0,0.47,859.3]
["A2S0Y3L2",3,"终身",2,0,2,243.06,415.13,0,1437.11,1924.31]
["A2S0Y3L3",3,"终身",2,0,3,315.97000000000003,801.93,0,1437.11,3026.62]
["A2S0Y3L4",3,"终身",2,0,4,0,845.44,0,0,3132.54]
["A2S0Y3L5",3,"终身",2,0,5,0,891.39,0,0,3242.19]
["A2S0Y3L6",3,"终身",2,0,6,0,3355.62,0,0,3355.62]
["A2S0Y3L7",3,"终身",2,0,7,0,3473.02,0,0,3473.02]
["A2S0Y3L8",3,"终身",2,0,8,0,3594.52,0,0,3594.52]
["A2S0Y3L9",3,"终身",2,0,9,0,3720.27,0,0,3720.27]
["A2S0Y3L10",3,"终身",2,0,10,0,3850.42,0,0,3850.42]
["A2S0Y3L11",3,"终身",2,0,11,0,3985.12,0,0,3985.12]
["A2S0Y3L12",3,"终身",2,0,12,0,4124.53,0,0,4124.53]
["A2S0Y3L13",3,"终身",2,0,13,0,4268.82,0,0,4268.82]
["A2S0Y3L14",3,"终身",2,0,14,0,4418.1499999999996,0,0,4418.1499999999996]
["A2S0Y3L15",3,"终身",2,0,15,0,4572.7,0,0,4572.7]
["A2S0Y3L16",3,"终身",2,0,16,0,4732.66,0,0,4732.66]
["A2S0Y3L17",3,"终身",2,0,17,0,4898.21,0,0,4898.21]
["A2S0Y3L18",3,"终身",2,0,18,0,5069.55,0,0,5069.55]
["A2S0Y3L19",3,"终身",2,0,19,0,5246.89,0,0,5246.89]
["A2S0Y3L20",3,"终身",2,0,20,0,5430.42,0,0,5430.42]
["A2S0Y3L21",3,"终身",2,0,21,0,5620.37,0,0,5620.37]
["A2S0Y3L22",3,"终身",2,0,22,0,5816.97,0,0,5816.97]
["A2S0Y3L23",3,"终身",2,0,23,0,6020.44,0,0,6020.44]
["A2S0Y3L24",3,"终身",2,0,24,0,6231.02,0,0,6231.02]
["A2S0Y3L25",3,"终身",2,0,25,0,6448.97,0,0,6448.97]
["A2S0Y3L26",3,"终身",2,0,26,0,6674.53,0,0,6674.53]
["A2S0Y3L27",3,"终身",2,0,27,0,6907.98,0,0,6907.98]
["A2S0Y3L28",3,"终身",2,0,28,0,7149.59,0,0,7149.59]
["A2S0Y3L29",3,"终身",2,0,29,0,7399.65,0,0,7399.65]
["A2S0Y3L30",3,"终身",2,0,30,0,7658.44,0,0,7658.44]
["A2S0Y3L31",3,"终身",2,0,31,0,7926.28,0,0,7926.28]
["A2S0Y3L32",3,"终身",2,0,32,0,8203.48,0,0,8203.48]
["A2S0Y3L33",3,"终身",2,0,33,0,8490.36,0,0,8490.36]
["A2S0Y3L34",3,"终身",2,0,34,0,8787.26,0,0,8787.26]
["A2S0Y3L35",3,"终身",2,0,35,0,9094.5300000000007,0,0,9094.5300000000007]
["A2S0Y3L36",3,"终身",2,0,36,0,9412.5300000000007,0,0,9412.5300000000007]
["A2S0Y3L37",3,"终身",2,0,37,0,9741.6299999999992,0,0,9741.6299999999992]
["A2S0Y3L38",3,"终身",2,0,38,0,10082.209999999999,0,0,10082.209999999999]
["A2S0Y3L39",3,"终身",2,0,39,0,10434.68,0,0,10434.68]
["A2S0Y3L40",3,"终身",2,0,40,0,10799.44,0,0,10799.44]
["A2S0Y3L41",3,"终身",2,0,41,0,11176.92,0,0,11176.92]
["A2S0Y3L42",3,"终身",2,0,42,0,11567.56,0,0,11567.56]
["A2S0Y3L43",3,"终身",2,0,43,0,11971.8,0,0,11971.8]
["A2S0Y3L44",3,"终身",2,0,44,0,12390.11,0,0,12390.11]
["A2S0Y3L45",3,"终身",2,0,45,0,12822.99,0,0,12822.99]
["A2S0Y3L46",3,"终身",2,0,46,0,13270.91,0,0,13270.91]
[{"$f":"\"A\"&D264&\"S\"&E264&\"Y\"&B264&\"L\"&F264","v":"A2S0Y3L47"},3,"终身",2,0,47,0,13734.4,0,0,13734.4]
["A2S0Y3L48",3,"终身",2,0,48,0,14214,0,0,14214]
["A2S0Y3L49",3,"终身",2,0,49,0,14710.25,0,0,14710.25]
["A2S0Y3L50",3,"终身",2,0,50,0,15223.73,0,0,15223.73]
["A2S0Y3L51",3,"终身",2,0,51,0,15755.02,0,0,15755.02]
["A2S0Y3L52",3,"终身",2,0,52,0,16304.73,0,0,16304.73]
["A2S0Y3L53",3,"终身",2,0,53,0,16873.5,0,0,16873.5]
["A2S0Y3L54",3,"终身",2,0,54,0,17461.98,0,0,17461.98]
["A2S0Y3L55",3,"终身",2,0,55,0,18070.84,0,0,18070.84]
["A2S0Y3L56",3,"终身",2,0,56,0,18700.78,0,0,18700.78]
["A2S0Y3L57",3,"终身",2,0,57,0,19352.5,0,0,19352.5]
["A2S0Y3L58",3,"终身",2,0,58,0,20026.7,0,0,20026.7]
["A2S0Y3L59",3,"终身",2,0,59,0,20724.12,0,0,20724.12]
["A2S0Y3L60",3,"终身",2,0,60,0,21445.5,0,0,21445.5]
["A2S0Y3L61",3,"终身",2,0,61,0,22191.57,0,0,22191.57]
["A2S0Y3L62",3,"终身",2,0,62,0,22963.11,0,0,22963.11]
["A2S0Y3L63",3,"终身",2,0,63,0,23760.89,0,0,23760.89]
["A2S0Y3L64",3,"终身",2,0,64,0,24585.7,0,0,24585.7]
["A2S0Y3L65",3,"终身",2,0,65,0,25438.34,0,0,25438.34]
["A2S0Y3L66",3,"终身",2,0,66,0,26319.59,0,0,26319.59]
["A2S0Y3L67",3,"终身",2,0,67,0,27230.240000000002,0,0,27230.240000000002]
["A2S0Y3L68",3,"终身",2,0,68,0,28171.07,0,0,28171.07]
["A2S0Y3L69",3,"终身",2,0,69,0,29142.84,0,0,29142.84]
["A2S0Y3L70",3,"终身",2,0,70,0,30146.33,0,0,30146.33]
["A2S0Y3L71",3,"终身",2,0,71,0,31182.28,0,0,31182.28]
["A2S0Y3L72",3,"终身",2,0,72,0,32251.43,0,0,32251.43]
["A2S0Y3L73",3,"终身",2,0,73,0,33354.54,0,0,33354.54]
["A2S0Y3L74",3,"终身",2,0,74,0,34492.300000000003,0,0,34492.300000000003]
["A2S0Y3L75",3,"终身",2,0,75,0,35665.43,0,0,35665.43]
["A2S0Y3L76",3,"终身",2,0,76,0,36874.57,0,0,36874.57]
["A2S0Y3L77",3,"终身",2,0,77,0,38120.33,0,0,38120.33]
["A2S0Y3L78",3,"终身",2,0,78,0,39403.26,0,0,39403.26]
["A2S0Y3L79",3,"终身",2,0,79,0,40723.839999999997,0,0,40723.839999999997]
["A2S0Y3L80",3,"终身",2,0,80,0,42082.51,0,0,42082.51]
["A2S0Y3L81",3,"终身",2,0,81,0,43479.59,0,0,43479.59]
["A2S0Y3L82",3,"终身",2,0,82,0,44915.37,0,0,44915.37]
["A2S0Y3L83",3,"终身",2,0,83,0,46390.02,0,0,46390.02]
["A2S0Y3L84",3,"终身",2,0,84,0,47903.6,0,0,47903.6]
["A2S0Y3L85",3,"终身",2,0,85,0,49456.04,0,0,49456.04]
["A2S0Y3L86",3,"终身",2,0,86,0,51047.11,0,0,51047.11]
["A2S0Y3L87",3,"终身",2,0,87,0,52676.35,0,0,52676.35]
["A2S0Y3L88",3,"终身",2,0,88,0,54343.08,0,0,54343.08]
["A2S0Y3L89",3,"终身",2,0,89,0,56046.34,0,0,56046.34]
["A2S0Y3L90",3,"终身",2,0,90,0,57784.89,0,0,57784.89]
["A2S0Y3L91",3,"终身",2,0,91,0,59557.22,0,0,59557.22]
["A2S0Y3L92",3,"终身",2,0,92,0,61361.54,0,0,61361.54]
["A2S0Y3L93",3,"终身",2,0,93,0,63195.87,0,0,63195.87]
["A2S0Y3L94",3,"终身",2,0,94,0,65058.04,0,0,65058.04]
["A2S0Y3L95",3,"终身",2,0,95,0,66945.77,0,0,66945.78]
["A2S0Y3L96",3,"终身",2,0,96,0,68856.72,0,0,68856.72]
["A2S0Y3L97",3,"终身",2,0,97,0,70788.479999999996,0,0,70788.479999999996]
["A2S0Y3L98",3,"终身",2,0,98,0,72738.67,0,0,72738.67]
["A2S0Y3L99",3,"终身",2,0,99,0,74704.899999999994,0,0,74704.899999999994]
["A2S0Y3L100",3,"终身",2,0,100,0,76684.789999999994,0,0,76684.789999999994]
["A2S0Y3L101",3,"终身",2,0,101,0,78676.009999999995,0,0,78676.009999999995]
["A2S0Y3L102",3,"终身",2,0,102,0,80676.3,0,0,80676.3]
["A2S0Y3L103",3,"终身",2,0,103,0,82683.460000000006,0,0,82683.460000000006]
["A2S0Y3L104",3,"终身",2,0,104,0,84116.97,0,0,84116.97]
["A3S0Y3L1",3,"终身",3,0,1,173.24,158.12,0,0.36,859.32]
["A3S0Y3L2",3,"终身",3,0,2,247.49,422.9,0,1437.11,1924.33]
["A3S0Y3L3",3,"终身",3,0,3,321.73,816.85,0,1437.11,3026.65]
["A3S0Y3L4",3,"终身",3,0,4,0,861.22,0,0,3132.57]
["A3S0Y3L5",3,"终身",3,0,5,0,908.05,0,0,3242.22]
["A3S0Y3L6",3,"终身",3,0,6,0,3355.65,0,0,3355.65]
[{"$f":"\"A\"&D328&\"S\"&E328&\"Y\"&B328&\"L\"&F328","v":"A3S0Y3L7"},3,"终身",3,0,7,0,3473.04,0,0,3473.04]
["A3S0Y3L8",3,"终身",3,0,8,0,3594.54,0,0,3594.54]
["A3S0Y3L9",3,"终身",3,0,9,0,3720.29,0,0,3720.29]
["A3S0Y3L10",3,"终身",3,0,10,0,3850.44,0,0,3850.44]
["A3S0Y3L11",3,"终身",3,0,11,0,3985.14,0,0,3985.14]
["A3S0Y3L12",3,"终身",3,0,12,0,4124.55,0,0,4124.55]
["A3S0Y3L13",3,"终身",3,0,13,0,4268.84,0,0,4268.84]
["A3S0Y3L14",3,"终身",3,0,14,0,4418.17,0,0,4418.17]
["A3S0Y3L15",3,"终身",3,0,15,0,4572.72,0,0,4572.72]
["A3S0Y3L16",3,"终身",3,0,16,0,4732.6400000000003,0,0,4732.6400000000003]
["A3S0Y3L17",3,"终身",3,0,17,0,4898.1899999999996,0,0,4898.1899999999996]
["A3S0Y3L18",3,"终身",3,0,18,0,5069.53,0,0,5069.53]
["A3S0Y3L19",3,"终身",3,0,19,0,5246.86,0,0,5246.86]
["A3S0Y3L20",3,"终身",3,0,20,0,5430.39,0,0,5430.39]
["A3S0Y3L21",3,"终身",3,0,21,0,5620.34,0,0,5620.34]
["A3S0Y3L22",3,"终身",3,0,22,0,5816.94,0,0,5816.94]
["A3S0Y3L23",3,"终身",3,0,23,0,6020.4,0,0,6020.4]
["A3S0Y3L24",3,"终身",3,0,24,0,6230.98,0,0,6230.98]
["A3S0Y3L25",3,"终身",3,0,25,0,6448.92,0,0,6448.92]
["A3S0Y3L26",3,"终身",3,0,26,0,6674.48,0,0,6674.48]
["A3S0Y3L27",3,"终身",3,0,27,0,6907.92,0,0,6907.92]
["A3S0Y3L28",3,"终身",3,0,28,0,7149.53,0,0,7149.53]
["A3S0Y3L29",3,"终身",3,0,29,0,7399.57,0,0,7399.57]
["A3S0Y3L30",3,"终身",3,0,30,0,7658.36,0,0,7658.36]
["A3S0Y3L31",3,"终身",3,0,31,0,7926.19,0,0,7926.19]
["A3S0Y3L32",3,"终身",3,0,32,0,8203.3700000000008,0,0,8203.3700000000008]
["A3S0Y3L33",3,"终身",3,0,33,0,8490.23,0,0,8490.23]
["A3S0Y3L34",3,"终身",3,0,34,0,8787.1200000000008,0,0,8787.1200000000008]
["A3S0Y3L35",3,"终身",3,0,35,0,9094.3700000000008,0,0,9094.3700000000008]
["A3S0Y3L36",3,"终身",3,0,36,0,9412.34,0,0,9412.34]
["A3S0Y3L37",3,"终身",3,0,37,0,9741.42,0,0,9741.42]
["A3S0Y3L38",3,"终身",3,0,38,0,10081.969999999999,0,0,10081.969999999999]
["A3S0Y3L39",3,"终身",3,0,39,0,10434.4,0,0,10434.4]
["A3S0Y3L40",3,"终身",3,0,40,0,10799.12,0,0,10799.12]
["A3S0Y3L41",3,"终身",3,0,41,0,11176.55,0,0,11176.55]
["A3S0Y3L42",3,"终身",3,0,42,0,11567.13,0,0,11567.13]
["A3S0Y3L43",3,"终身",3,0,43,0,11971.31,0,0,11971.31]
["A3S0Y3L44",3,"终身",3,0,44,0,12389.55,0,0,12389.55]
["A3S0Y3L45",3,"终身",3,0,45,0,12822.33,0,0,12822.33]
["A3S0Y3L46",3,"终身",3,0,46,0,13270.16,0,0,13270.16]
["A3S0Y3L47",3,"终身",3,0,47,0,13733.54,0,0,13733.54]
["A3S0Y3L48",3,"终身",3,0,48,0,14213.02,0,0,14213.02]
["A3S0Y3L49",3,"终身",3,0,49,0,14709.14,0,0,14709.14]
["A3S0Y3L50",3,"终身",3,0,50,0,15222.47,0,0,15222.47]
["A3S0Y3L51",3,"终身",3,0,51,0,15753.6,0,0,15753.6]
["A3S0Y3L52",3,"终身",3,0,52,0,16303.15,0,0,16303.15]
["A3S0Y3L53",3,"终身",3,0,53,0,16871.73,0,0,16871.73]
["A3S0Y3L54",3,"终身",3,0,54,0,17460.02,0,0,17460.02]
["A3S0Y3L55",3,"终身",3,0,55,0,18068.66,0,0,18068.66]
["A3S0Y3L56",3,"终身",3,0,56,0,18698.349999999999,0,0,18698.349999999999]
["A3S0Y3L57",3,"终身",3,0,57,0,19349.759999999998,0,0,19349.759999999998]
["A3S0Y3L58",3,"终身",3,0,58,0,20023.61,0,0,20023.61]
["A3S0Y3L59",3,"终身",3,0,59,0,20720.599999999999,0,0,20720.599999999999]
["A3S0Y3L60",3,"终身",3,0,60,0,21441.46,0,0,21441.46]
["A3S0Y3L61",3,"终身",3,0,61,0,22186.92,0,0,22186.92]
["A3S0Y3L62",3,"终身",3,0,62,0,22957.73,0,0,22957.73]
["A3S0Y3L63",3,"终身",3,0,63,0,23754.66,0,0,23754.66]
["A3S0Y3L64",3,"终身",3,0,64,0,24578.48,0,0,24578.48]
["A3S0Y3L65",3,"终身",3,0,65,0,25429.94,0,0,25429.94]
["A3S0Y3L66",3,"终身",3,0,66,0,26309.81,0,0,26309.81]
["A3S0Y3L67",3,"终身",3,0,67,0,27218.84,0,0,27218.84]
["A3S0Y3L68",3,"终身",3,0,68,0,28157.77,0,0,28157.77]
["A3S0Y3L69",3,"终身",3,0,69,0,29127.33,0,0,29127.33]
["A3S0Y3L70",3,"终身",3,0,70,0,30128.26,0,0,30128.26]
[{"$f":"\"A\"&D392&\"S\"&E392&\"Y\"&B392&\"L\"&F392","v":"A3S0Y3L71"},3,"终身",3,0,71,0,31161.279999999999,0,0,31161.279999999999]
["A3S0Y3L72",3,"终身",3,0,72,0,32227.1,0,0,32227.1]
["A3S0Y3L73",3,"终身",3,0,73,0,33326.400000000001,0,0,33326.400000000001]
["A3S0Y3L74",3,"终身",3,0,74,0,34459.879999999997,0,0,34459.879999999997]
["A3S0Y3L75",3,"终身",3,0,75,0,35628.14,0,0,35628.14]
["A3S0Y3L76",3,"终身",3,0,76,0,36831.79,0,0,36831.79]
["A3S0Y3L77",3,"终身",3,0,77,0,38071.360000000001,0,0,38071.360000000001]
["A3S0Y3L78",3,"终身",3,0,78,0,39347.31,0,0,39347.31]
["A3S0Y3L79",3,"终身",3,0,79,0,40660.050000000003,0,0,40660.050000000003]
["A3S0Y3L80",3,"终身",3,0,80,0,42009.91,0,0,42009.91]
["A3S0Y3L81",3,"终身",3,0,81,0,43397.15,0,0,43397.15]
["A3S0Y3L82",3,"终身",3,0,82,0,44821.95,0,0,44821.95]
["A3S0Y3L83",3,"终身",3,0,83,0,46284.37,0,0,46284.37]
["A3S0Y3L84",3,"终身",3,0,84,0,47784.34,0,0,47784.34]
["A3S0Y3L85",3,"终身",3,0,85,0,49321.63,0,0,49321.63]
["A3S0Y3L86",3,"终身",3,0,86,0,50895.8,0,0,50895.8]
["A3S0Y3L87",3,"终身",3,0,87,0,52506.19,0,0,52506.19]
["A3S0Y3L88",3,"终身",3,0,88,0,54151.88,0,0,54151.88]
["A3S0Y3L89",3,"终身",3,0,89,0,55831.66,0,0,55831.66]
["A3S0Y3L90",3,"终身",3,0,90,0,57544.08,0,0,57544.08]
["A3S0Y3L91",3,"终身",3,0,91,0,59287.42,0,0,59287.42]
["A3S0Y3L92",3,"终身",3,0,92,0,61059.74,0,0,61059.74]
["A3S0Y3L93",3,"终身",3,0,93,0,62858.97,0,0,62858.97]
["A3S0Y3L94",3,"终身",3,0,94,0,64682.89,0,0,64682.89]
["A3S0Y3L95",3,"终身",3,0,95,0,66529.240000000005,0,0,66529.240000000005]
["A3S0Y3L96",3,"终身",3,0,96,0,68395.710000000006,0,0,68395.710000000006]
["A3S0Y3L97",3,"终身",3,0,97,0,70279.98,0,0,70279.98]
["A3S0Y3L98",3,"终身",3,0,98,0,72179.740000000005,0,0,72179.740000000005]
["A3S0Y3L99",3,"终身",3,0,99,0,74092.710000000006,0,0,74092.710000000006]
["A3S0Y3L100",3,"终身",3,0,100,0,76016.63,0,0,76016.63]
["A3S0Y3L101",3,"终身",3,0,101,0,77949.3,0,0,77949.3]
["A3S0Y3L102",3,"终身",3,0,102,0,79888.61,0,0,79888.62]
["A3S0Y3L103",3,"终身",3,0,103,0,81273.67,0,0,81273.67]
["A4S0Y3L1",3,"终身",4,0,1,176.44,161.1,0,0.3,859.33]
["A4S0Y3L2",3,"终身",4,0,2,252.06,430.82,0,1437.11,1924.35]
["A4S0Y3L3",3,"终身",4,0,3,327.68,832.12,0,1437.11,3026.66]
["A4S0Y3L4",3,"终身",4,0,4,0,877.34,0,0,3132.58]
["A4S0Y3L5",3,"终身",4,0,5,0,925.05,0,0,3242.23]
["A4S0Y3L6",3,"终身",4,0,6,0,3355.66,0,0,3355.66]
["A4S0Y3L7",3,"终身",4,0,7,0,3473.06,0,0,3473.06]
["A4S0Y3L8",3,"终身",4,0,8,0,3594.56,0,0,3594.56]
["A4S0Y3L9",3,"终身",4,0,9,0,3720.31,0,0,3720.31]
["A4S0Y3L10",3,"终身",4,0,10,0,3850.45,0,0,3850.45]
["A4S0Y3L11",3,"终身",4,0,11,0,3985.15,0,0,3985.15]
["A4S0Y3L12",3,"终身",4,0,12,0,4124.5600000000004,0,0,4124.5600000000004]
["A4S0Y3L13",3,"终身",4,0,13,0,4268.84,0,0,4268.84]
["A4S0Y3L14",3,"终身",4,0,14,0,4418.17,0,0,4418.17]
["A4S0Y3L15",3,"终身",4,0,15,0,4572.6099999999997,0,0,4572.6099999999997]
["A4S0Y3L16",3,"终身",4,0,16,0,4732.53,0,0,4732.53]
["A4S0Y3L17",3,"终身",4,0,17,0,4898.08,0,0,4898.08]
["A4S0Y3L18",3,"终身",4,0,18,0,5069.41,0,0,5069.41]
["A4S0Y3L19",3,"终身",4,0,19,0,5246.73,0,0,5246.73]
["A4S0Y3L20",3,"终身",4,0,20,0,5430.26,0,0,5430.26]
["A4S0Y3L21",3,"终身",4,0,21,0,5620.2,0,0,5620.2]
["A4S0Y3L22",3,"终身",4,0,22,0,5816.78,0,0,5816.78]
["A4S0Y3L23",3,"终身",4,0,23,0,6020.24,0,0,6020.24]
["A4S0Y3L24",3,"终身",4,0,24,0,6230.81,0,0,6230.81]
["A4S0Y3L25",3,"终身",4,0,25,0,6448.74,0,0,6448.74]
["A4S0Y3L26",3,"终身",4,0,26,0,6674.29,0,0,6674.29]
["A4S0Y3L27",3,"终身",4,0,27,0,6907.72,0,0,6907.72]
["A4S0Y3L28",3,"终身",4,0,28,0,7149.31,0,0,7149.31]
["A4S0Y3L29",3,"终身",4,0,29,0,7399.34,0,0,7399.34]
["A4S0Y3L30",3,"终身",4,0,30,0,7658.11,0,0,7658.11]
["A4S0Y3L31",3,"终身",4,0,31,0,7925.92,0,0,7925.92]
[{"$f":"\"A\"&D456&\"S\"&E456&\"Y\"&B456&\"L\"&F456","v":"A4S0Y3L32"},3,"终身",4,0,32,0,8203.08,0,0,8203.08]
["A4S0Y3L33",3,"终身",4,0,33,0,8489.93,0,0,8489.93]
["A4S0Y3L34",3,"终身",4,0,34,0,8786.7800000000007,0,0,8786.7800000000007]
["A4S0Y3L35",3,"终身",4,0,35,0,9094.01,0,0,9094.01]
["A4S0Y3L36",3,"终身",4,0,36,0,9411.9500000000007,0,0,9411.9500000000007]
["A4S0Y3L37",3,"终身",4,0,37,0,9740.99,0,0,9740.99]
["A4S0Y3L38",3,"终身",4,0,38,0,10081.5,0,0,10081.5]
["A4S0Y3L39",3,"终身",4,0,39,0,10433.879999999999,0,0,10433.879999999999]
["A4S0Y3L40",3,"终身",4,0,40,0,10798.55,0,0,10798.55]
["A4S0Y3L41",3,"终身",4,0,41,0,11175.92,0,0,11175.92]
["A4S0Y3L42",3,"终身",4,0,42,0,11566.42,0,0,11566.42]
["A4S0Y3L43",3,"终身",4,0,43,0,11970.52,0,0,11970.52]
["A4S0Y3L44",3,"终身",4,0,44,0,12388.66,0,0,12388.66]
["A4S0Y3L45",3,"终身",4,0,45,0,12821.35,0,0,12821.35]
["A4S0Y3L46",3,"终身",4,0,46,0,13269.06,0,0,13269.06]
["A4S0Y3L47",3,"终身",4,0,47,0,13732.32,0,0,13732.32]
["A4S0Y3L48",3,"终身",4,0,48,0,14211.66,0,0,14211.66]
["A4S0Y3L49",3,"终身",4,0,49,0,14707.63,0,0,14707.63]
["A4S0Y3L50",3,"终身",4,0,50,0,15220.8,0,0,15220.8]
["A4S0Y3L51",3,"终身",4,0,51,0,15751.75,0,0,15751.75]
["A4S0Y3L52",3,"终身",4,0,52,0,16301.11,0,0,16301.11]
["A4S0Y3L53",3,"终身",4,0,53,0,16869.5,0,0,16869.5]
["A4S0Y3L54",3,"终身",4,0,54,0,17457.560000000001,0,0,17457.560000000001]
["A4S0Y3L55",3,"终身",4,0,55,0,18065.95,0,0,18065.95]
["A4S0Y3L56",3,"终身",4,0,56,0,18695.330000000002,0,0,18695.330000000002]
["A4S0Y3L57",3,"终身",4,0,57,0,19346.39,0,0,19346.39]
["A4S0Y3L58",3,"终身",4,0,58,0,20019.810000000001,0,0,20019.810000000001]
["A4S0Y3L59",3,"终身",4,0,59,0,20716.28,0,0,20716.28]
["A4S0Y3L60",3,"终身",4,0,60,0,21436.53,0,0,21436.53]
["A4S0Y3L61",3,"终身",4,0,61,0,22181.27,0,0,22181.27]
["A4S0Y3L62",3,"终身",4,0,62,0,22951.25,0,0,22951.25]
["A4S0Y3L63",3,"终身",4,0,63,0,23747.21,0,0,23747.21]
["A4S0Y3L64",3,"终身",4,0,64,0,24569.87,0,0,24569.87]
["A4S0Y3L65",3,"终身",4,0,65,0,25419.98,0,0,25419.98]
["A4S0Y3L66",3,"终身",4,0,66,0,26298.26,0,0,26298.26]
["A4S0Y3L67",3,"终身",4,0,67,0,27205.439999999999,0,0,27205.439999999999]
["A4S0Y3L68",3,"终身",4,0,68,0,28142.21,0,0,28142.21]
["A4S0Y3L69",3,"终身",4,0,69,0,29109.29,0,0,29109.29]
["A4S0Y3L70",3,"终身",4,0,70,0,30107.37,0,0,30107.37]
["A4S0Y3L71",3,"终身",4,0,71,0,31137.14,0,0,31137.14]
["A4S0Y3L72",3,"终身",4,0,72,0,32199.27,0,0,32199.27]
["A4S0Y3L73",3,"终身",4,0,73,0,33294.400000000001,0,0,33294.400000000001]
["A4S0Y3L74",3,"终身",4,0,74,0,34423.160000000003,0,0,34423.160000000003]
["A4S0Y3L75",3,"终身",4,0,75,0,35586.1,0,0,35586.1]
["A4S0Y3L76",3,"终身",4,0,76,0,36783.74,0,0,36783.74]
["A4S0Y3L77",3,"终身",4,0,77,0,38016.54,0,0,38016.54]
["A4S0Y3L78",3,"终身",4,0,78,0,39284.879999999997,0,0,39284.879999999997]
["A4S0Y3L79",3,"终身",4,0,79,0,40589.089999999997,0,0,40589.089999999997]
["A4S0Y3L80",3,"终身",4,0,80,0,41929.410000000003,0,0,41929.410000000003]
["A4S0Y3L81",3,"终身",4,0,81,0,43306.02,0,0,43306.02]
["A4S0Y3L82",3,"终身",4,0,82,0,44718.98,0,0,44718.98]
["A4S0Y3L83",3,"终身",4,0,83,0,46168.22,0,0,46168.22]
["A4S0Y3L84",3,"终身",4,0,84,0,47653.52,0,0,47653.52]
["A4S0Y3L85",3,"终身",4,0,85,0,49174.45,0,0,49174.45]
["A4S0Y3L86",3,"终身",4,0,86,0,50730.37,0,0,50730.37]
["A4S0Y3L87",3,"终身",4,0,87,0,52320.4,0,0,52320.4]
["A4S0Y3L88",3,"终身",4,0,88,0,53943.37,0,0,53943.37]
["A4S0Y3L89",3,"终身",4,0,89,0,55597.87,0,0,55597.87]
["A4S0Y3L90",3,"终身",4,0,90,0,57282.25,0,0,57282.25]
["A4S0Y3L91",3,"终身",4,0,91,0,58994.63,0,0,58994.63]
["A4S0Y3L92",3,"终身",4,0,92,0,60733.01,0,0,60733.01]
["A4S0Y3L93",3,"终身",4,0,93,0,62495.24,0,0,62495.24]
["A4S0Y3L94",3,"终身",4,0,94,0,64279.14,0,0,64279.15]
["A4S0Y3L95",3,"终身",4,0,95,0,66082.490000000005,0,0,66082.490000000005]
[{"$f":"\"A\"&D520&\"S\"&E520&\"Y\"&B520&\"L\"&F520","v":"A4S0Y3L96"},3,"终身",4,0,96,0,67903.03,0,0,67903.03]
["A4S0Y3L97",3,"终身",4,0,97,0,69738.539999999994,0,0,69738.539999999994]
["A4S0Y3L98",3,"终身",4,0,98,0,71586.81,0,0,71586.81]
["A4S0Y3L99",3,"终身",4,0,99,0,73445.66,0,0,73445.66]
["A4S0Y3L100",3,"终身",4,0,100,0,75312.97,0,0,75312.97]
["A4S0Y3L101",3,"终身",4,0,101,0,77186.69,0,0,77186.69]
["A4S0Y3L102",3,"终身",4,0,102,0,78524.899999999994,0,0,78524.899999999994]
["A5S0Y3L1",3,"终身",5,0,1,179.73,164.13,0,0.28000000000000003,859.33]
["A5S0Y3L2",3,"终身",5,0,2,256.76,438.91,0,1437.11,1924.35]
["A5S0Y3L3",3,"终身",5,0,3,333.79,847.72,0,1437.11,3026.67]
["A5S0Y3L4",3,"终身",5,0,4,0,893.79,0,0,3132.59]
["A5S0Y3L5",3,"终身",5,0,5,0,942.38,0,0,3242.24]
["A5S0Y3L6",3,"终身",5,0,6,0,3355.67,0,0,3355.67]
["A5S0Y3L7",3,"终身",5,0,7,0,3473.06,0,0,3473.06]
["A5S0Y3L8",3,"终身",5,0,8,0,3594.56,0,0,3594.56]
["A5S0Y3L9",3,"终身",5,0,9,0,3720.31,0,0,3720.31]
["A5S0Y3L10",3,"终身",5,0,10,0,3850.46,0,0,3850.46]
["A5S0Y3L11",3,"终身",5,0,11,0,3985.15,0,0,3985.15]
["A5S0Y3L12",3,"终身",5,0,12,0,4124.5600000000004,0,0,4124.5600000000004]
["A5S0Y3L13",3,"终身",5,0,13,0,4268.84,0,0,4268.84]
["A5S0Y3L14",3,"终身",5,0,14,0,4417.9799999999996,0,0,4417.9799999999996]
["A5S0Y3L15",3,"终身",5,0,15,0,4572.41,0,0,4572.41]
["A5S0Y3L16",3,"终身",5,0,16,0,4732.32,0,0,4732.32]
["A5S0Y3L17",3,"终身",5,0,17,0,4897.8599999999997,0,0,4897.8599999999997]
["A5S0Y3L18",3,"终身",5,0,18,0,5069.18,0,0,5069.18]
["A5S0Y3L19",3,"终身",5,0,19,0,5246.5,0,0,5246.5]
["A5S0Y3L20",3,"终身",5,0,20,0,5430.01,0,0,5430.01]
["A5S0Y3L21",3,"终身",5,0,21,0,5619.94,0,0,5619.94]
["A5S0Y3L22",3,"终身",5,0,22,0,5816.51,0,0,5816.51]
["A5S0Y3L23",3,"终身",5,0,23,0,6019.96,0,0,6019.96]
["A5S0Y3L24",3,"终身",5,0,24,0,6230.51,0,0,6230.51]
["A5S0Y3L25",3,"终身",5,0,25,0,6448.43,0,0,6448.43]
["A5S0Y3L26",3,"终身",5,0,26,0,6673.96,0,0,6673.96]
["A5S0Y3L27",3,"终身",5,0,27,0,6907.38,0,0,6907.38]
["A5S0Y3L28",3,"终身",5,0,28,0,7148.95,0,0,7148.95]
["A5S0Y3L29",3,"终身",5,0,29,0,7398.96,0,0,7398.96]
["A5S0Y3L30",3,"终身",5,0,30,0,7657.7,0,0,7657.7]
["A5S0Y3L31",3,"终身",5,0,31,0,7925.49,0,0,7925.49]
["A5S0Y3L32",3,"终身",5,0,32,0,8202.6200000000008,0,0,8202.6200000000008]
["A5S0Y3L33",3,"终身",5,0,33,0,8489.44,0,0,8489.44]
["A5S0Y3L34",3,"终身",5,0,34,0,8786.26,0,0,8786.26]
["A5S0Y3L35",3,"终身",5,0,35,0,9093.4500000000007,0,0,9093.4500000000007]
["A5S0Y3L36",3,"终身",5,0,36,0,9411.35,0,0,9411.35]
["A5S0Y3L37",3,"终身",5,0,37,0,9740.34,0,0,9740.34]
["A5S0Y3L38",3,"终身",5,0,38,0,10080.799999999999,0,0,10080.799999999999]
["A5S0Y3L39",3,"终身",5,0,39,0,10433.120000000001,0,0,10433.120000000001]
["A5S0Y3L40",3,"终身",5,0,40,0,10797.72,0,0,10797.72]
["A5S0Y3L41",3,"终身",5,0,41,0,11175.01,0,0,11175.01]
["A5S0Y3L42",3,"终身",5,0,42,0,11565.43,0,0,11565.43]
["A5S0Y3L43",3,"终身",5,0,43,0,11969.43,0,0,11969.43]
["A5S0Y3L44",3,"终身",5,0,44,0,12387.47,0,0,12387.47]
["A5S0Y3L45",3,"终身",5,0,45,0,12820.03,0,0,12820.03]
["A5S0Y3L46",3,"终身",5,0,46,0,13267.61,0,0,13267.61]
["A5S0Y3L47",3,"终身",5,0,47,0,13730.73,0,0,13730.73]
["A5S0Y3L48",3,"终身",5,0,48,0,14209.92,0,0,14209.92]
["A5S0Y3L49",3,"终身",5,0,49,0,14705.72,0,0,14705.72]
["A5S0Y3L50",3,"终身",5,0,50,0,15218.71,0,0,15218.71]
["A5S0Y3L51",3,"终身",5,0,51,0,15749.48,0,0,15749.48]
["A5S0Y3L52",3,"终身",5,0,52,0,16298.63,0,0,16298.63]
["A5S0Y3L53",3,"终身",5,0,53,0,16866.79,0,0,16866.79]
["A5S0Y3L54",3,"终身",5,0,54,0,17454.59,0,0,17454.59]
["A5S0Y3L55",3,"终身",5,0,55,0,18062.68,0,0,18062.68]
["A5S0Y3L56",3,"终身",5,0,56,0,18691.7,0,0,18691.7]
["A5S0Y3L57",3,"终身",5,0,57,0,19342.330000000002,0,0,19342.330000000002]
[{"$f":"\"A\"&D584&\"S\"&E584&\"Y\"&B584&\"L\"&F584","v":"A5S0Y3L58"},3,"终身",5,0,58,0,20015.240000000002,0,0,20015.240000000002]
["A5S0Y3L59",3,"终身",5,0,59,0,20711.11,0,0,20711.11]
["A5S0Y3L60",3,"终身",5,0,60,0,21430.65,0,0,21430.65]
["A5S0Y3L61",3,"终身",5,0,61,0,22174.57,0,0,22174.57]
["A5S0Y3L62",3,"终身",5,0,62,0,22943.59,0,0,22943.59]
["A5S0Y3L63",3,"终身",5,0,63,0,23738.42,0,0,23738.42]
["A5S0Y3L64",3,"终身",5,0,64,0,24559.759999999998,0,0,24559.759999999998]
["A5S0Y3L65",3,"终身",5,0,65,0,25408.32,0,0,25408.32]
["A5S0Y3L66",3,"终身",5,0,66,0,26284.79,0,0,26284.79]
["A5S0Y3L67",3,"终身",5,0,67,0,27189.87,0,0,27189.87]
["A5S0Y3L68",3,"终身",5,0,68,0,28124.22,0,0,28124.22]
["A5S0Y3L69",3,"终身",5,0,69,0,29088.52,0,0,29088.52]
["A5S0Y3L70",3,"终身",5,0,70,0,30083.45,0,0,30083.45]
["A5S0Y3L71",3,"终身",5,0,71,0,31109.63,0,0,31109.63]
["A5S0Y3L72",3,"终身",5,0,72,0,32167.71,0,0,32167.71]
["A5S0Y3L73",3,"终身",5,0,73,0,33258.26,0,0,33258.26]
["A5S0Y3L74",3,"终身",5,0,74,0,34381.85,0,0,34381.85]
["A5S0Y3L75",3,"终身",5,0,75,0,35538.959999999999,0,0,35538.959999999999]
["A5S0Y3L76",3,"终身",5,0,76,0,36730.04,0,0,36730.04]
["A5S0Y3L77",3,"终身",5,0,77,0,37955.46,0,0,37955.46]
["A5S0Y3L78",3,"终身",5,0,78,0,39215.53,0,0,39215.53]
["A5S0Y3L79",3,"终身",5,0,79,0,40510.5,0,0,40510.5]
["A5S0Y3L80",3,"终身",5,0,80,0,41840.53,0,0,41840.53]
["A5S0Y3L81",3,"终身",5,0,81,0,43205.67,0,0,43205.67]
["A5S0Y3L82",3,"终身",5,0,82,0,44605.87,0,0,44605.87]
["A5S0Y3L83",3,"终身",5,0,83,0,46040.9,0,0,46040.9]
["A5S0Y3L84",3,"终身",5,0,84,0,47510.36,0,0,47510.36]
["A5S0Y3L85",3,"终身",5,0,85,0,49013.63,0,0,49013.63]
["A5S0Y3L86",3,"终身",5,0,86,0,50549.85,0,0,50549.85]
["A5S0Y3L87",3,"终身",5,0,87,0,52117.9,0,0,52117.9]
["A5S0Y3L88",3,"终身",5,0,88,0,53716.42,0,0,53716.42]
["A5S0Y3L89",3,"终身",5,0,89,0,55343.79,0,0,55343.79]
["A5S0Y3L90",3,"终身",5,0,90,0,56998.23,0,0,56998.23]
["A5S0Y3L91",3,"终身",5,0,91,0,58677.78,0,0,58677.78]
["A5S0Y3L92",3,"终身",5,0,92,0,60380.38,0,0,60380.38]
["A5S0Y3L93",3,"终身",5,0,93,0,62103.91,0,0,62103.91]
["A5S0Y3L94",3,"终身",5,0,94,0,63846.23,0,0,63846.23]
["A5S0Y3L95",3,"终身",5,0,95,0,65605.16,0,0,65605.16]
["A5S0Y3L96",3,"终身",5,0,96,0,67378.559999999998,0,0,67378.559999999998]
["A5S0Y3L97",3,"终身",5,0,97,0,69164.28,0,0,69164.28]
["A5S0Y3L98",3,"终身",5,0,98,0,70960.23,0,0,70960.23]
["A5S0Y3L99",3,"终身",5,0,99,0,72764.34,0,0,72764.34]
["A5S0Y3L100",3,"终身",5,0,100,0,74574.66,0,0,74574.66]
["A5S0Y3L101",3,"终身",5,0,101,0,75867.58,0,0,75867.58]
["A6S0Y3L1",3,"终身",6,0,1,183.1,167.22,0,0.26,859.33]
["A6S0Y3L2",3,"终身",6,0,2,261.57,447.17,0,1437.11,1924.36]
["A6S0Y3L3",3,"终身",6,0,3,340.04,863.65,0,1437.11,3026.67]
["A6S0Y3L4",3,"终身",6,0,4,0,910.57,0,0,3132.59]
["A6S0Y3L5",3,"终身",6,0,5,0,960.05,0,0,3242.25]
["A6S0Y3L6",3,"终身",6,0,6,0,3355.67,0,0,3355.67]
["A6S0Y3L7",3,"终身",6,0,7,0,3473.07,0,0,3473.07]
["A6S0Y3L8",3,"终身",6,0,8,0,3594.57,0,0,3594.57]
["A6S0Y3L9",3,"终身",6,0,9,0,3720.31,0,0,3720.31]
["A6S0Y3L10",3,"终身",6,0,10,0,3850.46,0,0,3850.46]
["A6S0Y3L11",3,"终身",6,0,11,0,3985.15,0,0,3985.15]
["A6S0Y3L12",3,"终身",6,0,12,0,4124.5600000000004,0,0,4124.5600000000004]
["A6S0Y3L13",3,"终身",6,0,13,0,4268.58,0,0,4268.58]
["A6S0Y3L14",3,"终身",6,0,14,0,4417.71,0,0,4417.71]
["A6S0Y3L15",3,"终身",6,0,15,0,4572.12,0,0,4572.12]
["A6S0Y3L16",3,"终身",6,0,16,0,4732.0200000000004,0,0,4732.0200000000004]
["A6S0Y3L17",3,"终身",6,0,17,0,4897.54,0,0,4897.54]
["A6S0Y3L18",3,"终身",6,0,18,0,5068.8500000000004,0,0,5068.8500000000004]
["A6S0Y3L19",3,"终身",6,0,19,0,5246.15,0,0,5246.15]
["A6S0Y3L20",3,"终身",6,0,20,0,5429.65,0,0,5429.65]
[{"$f":"\"A\"&D648&\"S\"&E648&\"Y\"&B648&\"L\"&F648","v":"A6S0Y3L21"},3,"终身",6,0,21,0,5619.57,0,0,5619.57]
["A6S0Y3L22",3,"终身",6,0,22,0,5816.12,0,0,5816.12]
["A6S0Y3L23",3,"终身",6,0,23,0,6019.55,0,0,6019.55]
["A6S0Y3L24",3,"终身",6,0,24,0,6230.09,0,0,6230.09]
["A6S0Y3L25",3,"终身",6,0,25,0,6447.98,0,0,6447.98]
["A6S0Y3L26",3,"终身",6,0,26,0,6673.49,0,0,6673.49]
["A6S0Y3L27",3,"终身",6,0,27,0,6906.88,0,0,6906.88]
["A6S0Y3L28",3,"终身",6,0,28,0,7148.43,0,0,7148.43]
["A6S0Y3L29",3,"终身",6,0,29,0,7398.42,0,0,7398.42]
["A6S0Y3L30",3,"终身",6,0,30,0,7657.13,0,0,7657.13]
["A6S0Y3L31",3,"终身",6,0,31,0,7924.88,0,0,7924.88]
["A6S0Y3L32",3,"终身",6,0,32,0,8201.98,0,0,8201.98]
["A6S0Y3L33",3,"终身",6,0,33,0,8488.76,0,0,8488.76]
["A6S0Y3L34",3,"终身",6,0,34,0,8785.5400000000009,0,0,8785.5400000000009]
["A6S0Y3L35",3,"终身",6,0,35,0,9092.68,0,0,9092.68]
["A6S0Y3L36",3,"终身",6,0,36,0,9410.5300000000007,0,0,9410.5300000000007]
["A6S0Y3L37",3,"终身",6,0,37,0,9739.4599999999991,0,0,9739.4599999999991]
["A6S0Y3L38",3,"终身",6,0,38,0,10079.86,0,0,10079.86]
["A6S0Y3L39",3,"终身",6,0,39,0,10432.11,0,0,10432.11]
["A6S0Y3L40",3,"终身",6,0,40,0,10796.63,0,0,10796.63]
["A6S0Y3L41",3,"终身",6,0,41,0,11173.83,0,0,11173.83]
["A6S0Y3L42",3,"终身",6,0,42,0,11564.14,0,0,11564.14]
["A6S0Y3L43",3,"终身",6,0,43,0,11968.03,0,0,11968.03]
["A6S0Y3L44",3,"终身",6,0,44,0,12385.94,0,0,12385.94]
["A6S0Y3L45",3,"终身",6,0,45,0,12818.37,0,0,12818.37]
["A6S0Y3L46",3,"终身",6,0,46,0,13265.81,0,0,13265.81]
["A6S0Y3L47",3,"终身",6,0,47,0,13728.77,0,0,13728.77]
["A6S0Y3L48",3,"终身",6,0,48,0,14207.78,0,0,14207.78]
["A6S0Y3L49",3,"终身",6,0,49,0,14703.4,0,0,14703.4]
["A6S0Y3L50",3,"终身",6,0,50,0,15216.2,0,0,15216.2]
["A6S0Y3L51",3,"终身",6,0,51,0,15746.76,0,0,15746.76]
["A6S0Y3L52",3,"终身",6,0,52,0,16295.68,0,0,16295.68]
["A6S0Y3L53",3,"终身",6,0,53,0,16863.580000000002,0,0,16863.580000000002]
["A6S0Y3L54",3,"终身",6,0,54,0,17451.07,0,0,17451.07]
["A6S0Y3L55",3,"终身",6,0,55,0,18058.8,0,0,18058.8]
["A6S0Y3L56",3,"终身",6,0,56,0,18687.400000000001,0,0,18687.400000000001]
["A6S0Y3L57",3,"终身",6,0,57,0,19337.52,0,0,19337.52]
["A6S0Y3L58",3,"终身",6,0,58,0,20009.830000000002,0,0,20009.830000000002]
["A6S0Y3L59",3,"终身",6,0,59,0,20705.009999999998,0,0,20705.009999999998]
["A6S0Y3L60",3,"终身",6,0,60,0,21423.74,0,0,21423.74]
["A6S0Y3L61",3,"终身",6,0,61,0,22166.720000000001,0,0,22166.720000000001]
["A6S0Y3L62",3,"终身",6,0,62,0,22934.63,0,0,22934.63]
["A6S0Y3L63",3,"终身",6,0,63,0,23728.17,0,0,23728.17]
["A6S0Y3L64",3,"终身",6,0,64,0,24548,0,0,24548]
["A6S0Y3L65",3,"终身",6,0,65,0,25394.79,0,0,25394.79]
["A6S0Y3L66",3,"终身",6,0,66,0,26269.22,0,0,26269.22]
["A6S0Y3L67",3,"终身",6,0,67,0,27171.94,0,0,27171.94]
["A6S0Y3L68",3,"终身",6,0,68,0,28103.59,0,0,28103.59]
["A6S0Y3L69",3,"终身",6,0,69,0,29064.82,0,0,29064.82]
["A6S0Y3L70",3,"终身",6,0,70,0,30056.26,0,0,30056.26]
["A6S0Y3L71",3,"终身",6,0,71,0,31078.51,0,0,31078.51]
["A6S0Y3L72",3,"终身",6,0,72,0,32132.14,0,0,32132.14]
["A6S0Y3L73",3,"终身",6,0,73,0,33217.68,0,0,33217.68]
["A6S0Y3L74",3,"终身",6,0,74,0,34335.620000000003,0,0,34335.620000000003]
["A6S0Y3L75",3,"终身",6,0,75,0,35486.36,0,0,35486.36]
["A6S0Y3L76",3,"终身",6,0,76,0,36670.29,0,0,36670.29]
["A6S0Y3L77",3,"终身",6,0,77,0,37887.699999999997,0,0,37887.699999999997]
["A6S0Y3L78",3,"终身",6,0,78,0,39138.82,0,0,39138.82]
["A6S0Y3L79",3,"终身",6,0,79,0,40423.81,0,0,40423.81]
["A6S0Y3L80",3,"终身",6,0,80,0,41742.730000000003,0,0,41742.730000000003]
["A6S0Y3L81",3,"终身",6,0,81,0,43095.519999999997,0,0,43095.519999999997]
["A6S0Y3L82",3,"终身",6,0,82,0,44481.96,0,0,44481.96]
["A6S0Y3L83",3,"终身",6,0,83,0,45901.66,0,0,45901.66]
["A6S0Y3L84",3,"终身",6,0,84,0,47354.03,0,0,47354.03]
[{"$f":"\"A\"&D712&\"S\"&E712&\"Y\"&B712&\"L\"&F712","v":"A6S0Y3L85"},3,"终身",6,0,85,0,48838.239999999998,0,0,48838.239999999998]
["A6S0Y3L86",3,"终身",6,0,86,0,50353.19,0,0,50353.19]
["A6S0Y3L87",3,"终身",6,0,87,0,51897.58,0,0,51897.58]
["A6S0Y3L88",3,"终身",6,0,88,0,53469.85,0,0,53469.85]
["A6S0Y3L89",3,"终身",6,0,89,0,55068.27,0,0,55068.27]
["A6S0Y3L90",3,"终身",6,0,90,0,56690.95,0,0,56690.95]
["A6S0Y3L91",3,"终身",6,0,91,0,58335.9,0,0,58335.9]
["A6S0Y3L92",3,"终身",6,0,92,0,60001.08,0,0,60001.08]
["A6S0Y3L93",3,"终身",6,0,93,0,61684.4,0,0,61684.4]
["A6S0Y3L94",3,"终身",6,0,94,0,63383.78,0,0,63383.78]
["A6S0Y3L95",3,"终身",6,0,95,0,65097.13,0,0,65097.13]
["A6S0Y3L96",3,"终身",6,0,96,0,66822.38,0,0,66822.39]
["A6S0Y3L97",3,"终身",6,0,97,0,68557.52,0,0,68557.52]
["A6S0Y3L98",3,"终身",6,0,98,0,70300.55,0,0,70300.55]
["A6S0Y3L99",3,"终身",6,0,99,0,72049.570000000007,0,0,72049.570000000007]
["A6S0Y3L100",3,"终身",6,0,100,0,73298.710000000006,0,0,73298.710000000006]
["A7S0Y3L1",3,"终身",7,0,1,186.54,170.37,0,0.26,859.34]
["A7S0Y3L2",3,"终身",7,0,2,266.49,455.59,0,1437.11,1924.36]
["A7S0Y3L3",3,"终身",7,0,3,346.44,879.89,0,1437.11,3026.67]
["A7S0Y3L4",3,"终身",7,0,4,0,927.67,0,0,3132.59]
["A7S0Y3L5",3,"终身",7,0,5,0,978.04,0,0,3242.25]
["A7S0Y3L6",3,"终身",7,0,6,0,3355.68,0,0,3355.68]
["A7S0Y3L7",3,"终身",7,0,7,0,3473.07,0,0,3473.07]
["A7S0Y3L8",3,"终身",7,0,8,0,3594.57,0,0,3594.57]
["A7S0Y3L9",3,"终身",7,0,9,0,3720.31,0,0,3720.31]
["A7S0Y3L10",3,"终身",7,0,10,0,3850.45,0,0,3850.45]
["A7S0Y3L11",3,"终身",7,0,11,0,3985.15,0,0,3985.15]
["A7S0Y3L12",3,"终身",7,0,12,0,4124.2299999999996,0,0,4124.2299999999996]
["A7S0Y3L13",3,"终身",7,0,13,0,4268.2299999999996,0,0,4268.2299999999996]
["A7S0Y3L14",3,"终身",7,0,14,0,4417.33,0,0,4417.33]
["A7S0Y3L15",3,"终身",7,0,15,0,4571.7299999999996,0,0,4571.7299999999996]
["A7S0Y3L16",3,"终身",7,0,16,0,4731.6099999999997,0,0,4731.6099999999997]
["A7S0Y3L17",3,"终身",7,0,17,0,4897.1099999999997,0,0,4897.1099999999997]
["A7S0Y3L18",3,"终身",7,0,18,0,5068.41,0,0,5068.41]
["A7S0Y3L19",3,"终身",7,0,19,0,5245.69,0,0,5245.69]
["A7S0Y3L20",3,"终身",7,0,20,0,5429.17,0,0,5429.17]
["A7S0Y3L21",3,"终身",7,0,21,0,5619.07,0,0,5619.07]
["A7S0Y3L22",3,"终身",7,0,22,0,5815.6,0,0,5815.6]
["A7S0Y3L23",3,"终身",7,0,23,0,6019.01,0,0,6019.01]
["A7S0Y3L24",3,"终身",7,0,24,0,6229.52,0,0,6229.52]
["A7S0Y3L25",3,"终身",7,0,25,0,6447.39,0,0,6447.39]
["A7S0Y3L26",3,"终身",7,0,26,0,6672.88,0,0,6672.88]
["A7S0Y3L27",3,"终身",7,0,27,0,6906.24,0,0,6906.24]
["A7S0Y3L28",3,"终身",7,0,28,0,7147.75,0,0,7147.75]
["A7S0Y3L29",3,"终身",7,0,29,0,7397.7,0,0,7397.7]
["A7S0Y3L30",3,"终身",7,0,30,0,7656.38,0,0,7656.38]
["A7S0Y3L31",3,"终身",7,0,31,0,7924.1,0,0,7924.1]
["A7S0Y3L32",3,"终身",7,0,32,0,8201.16,0,0,8201.16]
["A7S0Y3L33",3,"终身",7,0,33,0,8487.8799999999992,0,0,8487.8799999999992]
["A7S0Y3L34",3,"终身",7,0,34,0,8784.61,0,0,8784.61]
["A7S0Y3L35",3,"终身",7,0,35,0,9091.7000000000007,0,0,9091.7000000000007]
["A7S0Y3L36",3,"终身",7,0,36,0,9409.48,0,0,9409.48]
["A7S0Y3L37",3,"终身",7,0,37,0,9738.35,0,0,9738.35]
["A7S0Y3L38",3,"终身",7,0,38,0,10078.66,0,0,10078.66]
["A7S0Y3L39",3,"终身",7,0,39,0,10430.83,0,0,10430.83]
["A7S0Y3L40",3,"终身",7,0,40,0,10795.25,0,0,10795.25]
["A7S0Y3L41",3,"终身",7,0,41,0,11172.34,0,0,11172.34]
["A7S0Y3L42",3,"终身",7,0,42,0,11562.54,0,0,11562.54]
["A7S0Y3L43",3,"终身",7,0,43,0,11966.3,0,0,11966.3]
["A7S0Y3L44",3,"终身",7,0,44,0,12384.08,0,0,12384.08]
["A7S0Y3L45",3,"终身",7,0,45,0,12816.36,0,0,12816.36]
["A7S0Y3L46",3,"终身",7,0,46,0,13263.63,0,0,13263.63]
["A7S0Y3L47",3,"终身",7,0,47,0,13726.42,0,0,13726.42]
["A7S0Y3L48",3,"终身",7,0,48,0,14205.24,0,0,14205.24]
[{"$f":"\"A\"&D776&\"S\"&E776&\"Y\"&B776&\"L\"&F776","v":"A7S0Y3L49"},3,"终身",7,0,49,0,14700.67,0,0,14700.67]
["A7S0Y3L50",3,"终身",7,0,50,0,15213.25,0,0,15213.25]
["A7S0Y3L51",3,"终身",7,0,51,0,15743.57,0,0,15743.57]
["A7S0Y3L52",3,"终身",7,0,52,0,16292.23,0,0,16292.23]
["A7S0Y3L53",3,"终身",7,0,53,0,16859.82,0,0,16859.82]
["A7S0Y3L54",3,"终身",7,0,54,0,17446.96,0,0,17446.96]
["A7S0Y3L55",3,"终身",7,0,55,0,18054.259999999998,0,0,18054.259999999998]
["A7S0Y3L56",3,"终身",7,0,56,0,18682.349999999999,0,0,18682.349999999999]
["A7S0Y3L57",3,"终身",7,0,57,0,19331.89,0,0,19331.89]
["A7S0Y3L58",3,"终身",7,0,58,0,20003.509999999998,0,0,20003.509999999998]
["A7S0Y3L59",3,"终身",7,0,59,0,20697.89,0,0,20697.89]
["A7S0Y3L60",3,"终身",7,0,60,0,21415.7,0,0,21415.7]
["A7S0Y3L61",3,"终身",7,0,61,0,22157.59,0,0,22157.59]
["A7S0Y3L62",3,"终身",7,0,62,0,22924.240000000002,0,0,22924.240000000002]
["A7S0Y3L63",3,"终身",7,0,63,0,23716.3,0,0,23716.3]
["A7S0Y3L64",3,"终身",7,0,64,0,24534.400000000001,0,0,24534.400000000001]
["A7S0Y3L65",3,"终身",7,0,65,0,25379.200000000001,0,0,25379.200000000001]
["A7S0Y3L66",3,"终身",7,0,66,0,26251.33,0,0,26251.33]
["A7S0Y3L67",3,"终身",7,0,67,0,27151.42,0,0,27151.42]
["A7S0Y3L68",3,"终身",7,0,68,0,28080.09,0,0,28080.09]
["A7S0Y3L69",3,"终身",7,0,69,0,29037.94,0,0,29037.94]
["A7S0Y3L70",3,"终身",7,0,70,0,30025.55,0,0,30025.55]
["A7S0Y3L71",3,"终身",7,0,71,0,31043.49,0,0,31043.49]
["A7S0Y3L72",3,"终身",7,0,72,0,32092.25,0,0,32092.25]
["A7S0Y3L73",3,"终身",7,0,73,0,33172.31,0,0,33172.31]
["A7S0Y3L74",3,"终身",7,0,74,0,34284.07,0,0,34284.07]
["A7S0Y3L75",3,"终身",7,0,75,0,35427.879999999997,0,0,35427.879999999997]
["A7S0Y3L76",3,"终身",7,0,76,0,36604.04,0,0,36604.04]
["A7S0Y3L77",3,"终身",7,0,77,0,37812.769999999997,0,0,37812.769999999997]
["A7S0Y3L78",3,"终身",7,0,78,0,39054.230000000003,0,0,39054.230000000003]
["A7S0Y3L79",3,"终身",7,0,79,0,40328.46,0,0,40328.46]
["A7S0Y3L80",3,"终身",7,0,80,0,41635.42,0,0,41635.42]
["A7S0Y3L81",3,"终身",7,0,81,0,42974.879999999997,0,0,42974.879999999997]
["A7S0Y3L82",3,"终身",7,0,82,0,44346.49,0,0,44346.49]
["A7S0Y3L83",3,"终身",7,0,83,0,45749.65,0,0,45749.65]
["A7S0Y3L84",3,"终身",7,0,84,0,47183.57,0,0,47183.57]
["A7S0Y3L85",3,"终身",7,0,85,0,48647.199999999997,0,0,48647.199999999997]
["A7S0Y3L86",3,"终身",7,0,86,0,50139.26,0,0,50139.26]
["A7S0Y3L87",3,"终身",7,0,87,0,51658.26,0,0,51658.27]
["A7S0Y3L88",3,"终身",7,0,88,0,53202.53,0,0,53202.53]
["A7S0Y3L89",3,"终身",7,0,89,0,54770.23,0,0,54770.23]
["A7S0Y3L90",3,"终身",7,0,90,0,56359.45,0,0,56359.45]
["A7S0Y3L91",3,"终身",7,0,91,0,57968.2,0,0,57968.2]
["A7S0Y3L92",3,"终身",7,0,92,0,59594.49,0,0,59594.5]
["A7S0Y3L93",3,"终身",7,0,93,0,61236.3,0,0,61236.3]
["A7S0Y3L94",3,"终身",7,0,94,0,62891.6,0,0,62891.6]
["A7S0Y3L95",3,"终身",7,0,95,0,64558.400000000001,0,0,64558.400000000001]
["A7S0Y3L96",3,"终身",7,0,96,0,66234.75,0,0,66234.75]
["A7S0Y3L97",3,"终身",7,0,97,0,67918.720000000001,0,0,67918.73]
["A7S0Y3L98",3,"终身",7,0,98,0,69608.490000000005,0,0,69608.490000000005]
["A7S0Y3L99",3,"终身",7,0,99,0,70815.31,0,0,70815.31]
["A8S0Y3L1",3,"终身",8,0,1,190.06,173.58,0,0.26,859.34]
["A8S0Y3L2",3,"终身",8,0,2,271.51,464.18,0,1437.11,1924.35]
["A8S0Y3L3",3,"终身",8,0,3,352.97,896.45,0,1437.11,3026.67]
["A8S0Y3L4",3,"终身",8,0,4,0,945.09,0,0,3132.59]
["A8S0Y3L5",3,"终身",8,0,5,0,996.37,0,0,3242.26]
["A8S0Y3L6",3,"终身",8,0,6,0,3355.68,0,0,3355.68]
["A8S0Y3L7",3,"终身",8,0,7,0,3473.07,0,0,3473.07]
["A8S0Y3L8",3,"终身",8,0,8,0,3594.57,0,0,3594.57]
["A8S0Y3L9",3,"终身",8,0,9,0,3720.31,0,0,3720.31]
["A8S0Y3L10",3,"终身",8,0,10,0,3850.45,0,0,3850.45]
["A8S0Y3L11",3,"终身",8,0,11,0,3984.75,0,0,3984.75]
["A8S0Y3L12",3,"终身",8,0,12,0,4123.8,0,0,4123.8]
["A8S0Y3L13",3,"终身",8,0,13,0,4267.78,0,0,4267.78]
[{"$f":"\"A\"&D840&\"S\"&E840&\"Y\"&B840&\"L\"&F840","v":"A8S0Y3L14"},3,"终身",8,0,14,0,4416.8599999999997,0,0,4416.8599999999997]
["A8S0Y3L15",3,"终身",8,0,15,0,4571.2299999999996,0,0,4571.2299999999996]
["A8S0Y3L16",3,"终身",8,0,16,0,4731.09,0,0,4731.09]
["A8S0Y3L17",3,"终身",8,0,17,0,4896.57,0,0,4896.57]
["A8S0Y3L18",3,"终身",8,0,18,0,5067.8500000000004,0,0,5067.8500000000004]
["A8S0Y3L19",3,"终身",8,0,19,0,5245.11,0,0,5245.11]
["A8S0Y3L20",3,"终身",8,0,20,0,5428.57,0,0,5428.57]
["A8S0Y3L21",3,"终身",8,0,21,0,5618.44,0,0,5618.44]
["A8S0Y3L22",3,"终身",8,0,22,0,5814.95,0,0,5814.95]
["A8S0Y3L23",3,"终身",8,0,23,0,6018.32,0,0,6018.32]
["A8S0Y3L24",3,"终身",8,0,24,0,6228.81,0,0,6228.81]
["A8S0Y3L25",3,"终身",8,0,25,0,6446.65,0,0,6446.65]
["A8S0Y3L26",3,"终身",8,0,26,0,6672.1,0,0,6672.1]
["A8S0Y3L27",3,"终身",8,0,27,0,6905.42,0,0,6905.42]
["A8S0Y3L28",3,"终身",8,0,28,0,7146.9,0,0,7146.9]
["A8S0Y3L29",3,"终身",8,0,29,0,7396.81,0,0,7396.81]
["A8S0Y3L30",3,"终身",8,0,30,0,7655.45,0,0,7655.45]
["A8S0Y3L31",3,"终身",8,0,31,0,7923.11,0,0,7923.11]
["A8S0Y3L32",3,"终身",8,0,32,0,8200.1200000000008,0,0,8200.1200000000008]
["A8S0Y3L33",3,"终身",8,0,33,0,8486.7900000000009,0,0,8486.7900000000009]
["A8S0Y3L34",3,"终身",8,0,34,0,8783.4599999999991,0,0,8783.4599999999991]
["A8S0Y3L35",3,"终身",8,0,35,0,9090.48,0,0,9090.48]
["A8S0Y3L36",3,"终身",8,0,36,0,9408.19,0,0,9408.19]
["A8S0Y3L37",3,"终身",8,0,37,0,9736.9699999999993,0,0,9736.9699999999993]
["A8S0Y3L38",3,"终身",8,0,38,0,10077.200000000001,0,0,10077.200000000001]
["A8S0Y3L39",3,"终身",8,0,39,0,10429.26,0,0,10429.26]
["A8S0Y3L40",3,"终身",8,0,40,0,10793.57,0,0,10793.57]
["A8S0Y3L41",3,"终身",8,0,41,0,11170.54,0,0,11170.54]
["A8S0Y3L42",3,"终身",8,0,42,0,11560.61,0,0,11560.61]
["A8S0Y3L43",3,"终身",8,0,43,0,11964.22,0,0,11964.22]
["A8S0Y3L44",3,"终身",8,0,44,0,12381.85,0,0,12381.85]
["A8S0Y3L45",3,"终身",8,0,45,0,12813.96,0,0,12813.96]
["A8S0Y3L46",3,"终身",8,0,46,0,13261.05,0,0,13261.05]
["A8S0Y3L47",3,"终身",8,0,47,0,13723.65,0,0,13723.65]
["A8S0Y3L48",3,"终身",8,0,48,0,14202.27,0,0,14202.27]
["A8S0Y3L49",3,"终身",8,0,49,0,14697.48,0,0,14697.48]
["A8S0Y3L50",3,"终身",8,0,50,0,15209.82,0,0,15209.82]
["A8S0Y3L51",3,"终身",8,0,51,0,15739.88,0,0,15739.88]
["A8S0Y3L52",3,"终身",8,0,52,0,16288.23,0,0,16288.23]
["A8S0Y3L53",3,"终身",8,0,53,0,16855.46,0,0,16855.46]
["A8S0Y3L54",3,"终身",8,0,54,0,17442.169999999998,0,0,17442.169999999998]
["A8S0Y3L55",3,"终身",8,0,55,0,18048.97,0,0,18048.97]
["A8S0Y3L56",3,"终身",8,0,56,0,18676.48,0,0,18676.48]
["A8S0Y3L57",3,"终身",8,0,57,0,19325.34,0,0,19325.34]
["A8S0Y3L58",3,"终身",8,0,58,0,19996.18,0,0,19996.18]
["A8S0Y3L59",3,"终身",8,0,59,0,20689.650000000001,0,0,20689.650000000001]
["A8S0Y3L60",3,"终身",8,0,60,0,21406.39,0,0,21406.39]
["A8S0Y3L61",3,"终身",8,0,61,0,22147.05,0,0,22147.05]
["A8S0Y3L62",3,"终身",8,0,62,0,22912.25,0,0,22912.25]
["A8S0Y3L63",3,"终身",8,0,63,0,23702.62,0,0,23702.62]
["A8S0Y3L64",3,"终身",8,0,64,0,24518.78,0,0,24518.78]
["A8S0Y3L65",3,"终身",8,0,65,0,25361.34,0,0,25361.34]
["A8S0Y3L66",3,"终身",8,0,66,0,26230.91,0,0,26230.92]
["A8S0Y3L67",3,"终身",8,0,67,0,27128.1,0,0,27128.1]
["A8S0Y3L68",3,"终身",8,0,68,0,28053.47,0,0,28053.47]
["A8S0Y3L69",3,"终身",8,0,69,0,29007.599999999999,0,0,29007.599999999999]
["A8S0Y3L70",3,"终身",8,0,70,0,29991.03,0,0,29991.03]
["A8S0Y3L71",3,"终身",8,0,71,0,31004.23,0,0,31004.23]
["A8S0Y3L72",3,"终身",8,0,72,0,32047.67,0,0,32047.67]
["A8S0Y3L73",3,"终身",8,0,73,0,33121.74,0,0,33121.74]
["A8S0Y3L74",3,"终身",8,0,74,0,34226.78,0,0,34226.78]
["A8S0Y3L75",3,"终身",8,0,75,0,35363.06,0,0,35363.07]
["A8S0Y3L76",3,"终身",8,0,76,0,36530.82,0,0,36530.82]
["A8S0Y3L77",3,"终身",8,0,77,0,37730.19,0,0,37730.19]
[{"$f":"\"A\"&D904&\"S\"&E904&\"Y\"&B904&\"L\"&F904","v":"A8S0Y3L78"},3,"终身",8,0,78,0,38961.22,0,0,38961.22]
["A8S0Y3L79",3,"终身",8,0,79,0,40223.86,0,0,40223.86]
["A8S0Y3L80",3,"终身",8,0,80,0,41517.919999999998,0,0,41517.919999999998]
["A8S0Y3L81",3,"终身",8,0,81,0,42843.02,0,0,42843.02]
["A8S0Y3L82",3,"终身",8,0,82,0,44198.61,0,0,44198.62]
["A8S0Y3L83",3,"终身",8,0,83,0,45583.92,0,0,45583.92]
["A8S0Y3L84",3,"终身",8,0,84,0,46997.93,0,0,46997.93]
["A8S0Y3L85",3,"终身",8,0,85,0,48439.4,0,0,48439.41]
["A8S0Y3L86",3,"终身",8,0,86,0,49906.91,0,0,49906.92]
["A8S0Y3L87",3,"终身",8,0,87,0,51398.82,0,0,51398.83]
["A8S0Y3L88",3,"终身",8,0,88,0,52913.37,0,0,52913.38]
["A8S0Y3L89",3,"终身",8,0,89,0,54448.71,0,0,54448.73]
["A8S0Y3L90",3,"终身",8,0,90,0,56002.92,0,0,56002.96]
["A8S0Y3L91",3,"终身",8,0,91,0,57574.080000000002,0,0,57574.14]
["A8S0Y3L92",3,"终身",8,0,92,0,59160.22,0,0,59160.33]
["A8S0Y3L93",3,"终身",8,0,93,0,60759.4,0,0,60759.61]
["A8S0Y3L94",3,"终身",8,0,94,0,62369.7,0,0,62370.1]
["A8S0Y3L95",3,"终身",8,0,95,0,63989.21,0,0,63990.06]
["A8S0Y3L96",3,"终身",8,0,96,0,65616.09,0,0,65618]
["A8S0Y3L97",3,"终身",8,0,97,0,67248.570000000007,0,0,67253.14]
["A8S0Y3L98",3,"终身",8,0,98,0,68414.47,0,0,68414.47]
["A9S0Y3L1",3,"终身",9,0,1,193.65,176.86,0,0.27,859.33]
["A9S0Y3L2",3,"终身",9,0,2,276.64,472.92,0,1437.11,1924.35]
["A9S0Y3L3",3,"终身",9,0,3,359.64,913.32,0,1437.11,3026.66]
["A9S0Y3L4",3,"终身",9,0,4,0,962.84,0,0,3132.59]
["A9S0Y3L5",3,"终身",9,0,5,0,1015.04,0,0,3242.26]
["A9S0Y3L6",3,"终身",9,0,6,0,3355.68,0,0,3355.68]
["A9S0Y3L7",3,"终身",9,0,7,0,3473.07,0,0,3473.07]
["A9S0Y3L8",3,"终身",9,0,8,0,3594.56,0,0,3594.56]
["A9S0Y3L9",3,"终身",9,0,9,0,3720.31,0,0,3720.31]
["A9S0Y3L10",3,"终身",9,0,10,0,3849.99,0,0,3849.99]
["A9S0Y3L11",3,"终身",9,0,11,0,3984.26,0,0,3984.26]
["A9S0Y3L12",3,"终身",9,0,12,0,4123.28,0,0,4123.28]
["A9S0Y3L13",3,"终身",9,0,13,0,4267.22,0,0,4267.2299999999996]
["A9S0Y3L14",3,"终身",9,0,14,0,4416.28,0,0,4416.28]
["A9S0Y3L15",3,"终身",9,0,15,0,4570.62,0,0,4570.62]
["A9S0Y3L16",3,"终身",9,0,16,0,4730.45,0,0,4730.45]
["A9S0Y3L17",3,"终身",9,0,17,0,4895.91,0,0,4895.91]
["A9S0Y3L18",3,"终身",9,0,18,0,5067.16,0,0,5067.16]
["A9S0Y3L19",3,"终身",9,0,19,0,5244.39,0,0,5244.4]
["A9S0Y3L20",3,"终身",9,0,20,0,5427.82,0,0,5427.83]
["A9S0Y3L21",3,"终身",9,0,21,0,5617.67,0,0,5617.67]
["A9S0Y3L22",3,"终身",9,0,22,0,5814.14,0,0,5814.14]
["A9S0Y3L23",3,"终身",9,0,23,0,6017.49,0,0,6017.49]
["A9S0Y3L24",3,"终身",9,0,24,0,6227.94,0,0,6227.94]
["A9S0Y3L25",3,"终身",9,0,25,0,6445.74,0,0,6445.74]
["A9S0Y3L26",3,"终身",9,0,26,0,6671.15,0,0,6671.15]
["A9S0Y3L27",3,"终身",9,0,27,0,6904.43,0,0,6904.43]
["A9S0Y3L28",3,"终身",9,0,28,0,7145.86,0,0,7145.86]
["A9S0Y3L29",3,"终身",9,0,29,0,7395.73,0,0,7395.73]
["A9S0Y3L30",3,"终身",9,0,30,0,7654.31,0,0,7654.31]
["A9S0Y3L31",3,"终身",9,0,31,0,7921.92,0,0,7921.92]
["A9S0Y3L32",3,"终身",9,0,32,0,8198.8700000000008,0,0,8198.8700000000008]
["A9S0Y3L33",3,"终身",9,0,33,0,8485.4699999999993,0,0,8485.4699999999993]
["A9S0Y3L34",3,"终身",9,0,34,0,8782.07,0,0,8782.07]
["A9S0Y3L35",3,"终身",9,0,35,0,9089,0,0,9089]
["A9S0Y3L36",3,"终身",9,0,36,0,9406.6299999999992,0,0,9406.6299999999992]
["A9S0Y3L37",3,"终身",9,0,37,0,9735.31,0,0,9735.31]
["A9S0Y3L38",3,"终身",9,0,38,0,10075.43,0,0,10075.43]
["A9S0Y3L39",3,"终身",9,0,39,0,10427.379999999999,0,0,10427.379999999999]
["A9S0Y3L40",3,"终身",9,0,40,0,10791.57,0,0,10791.57]
["A9S0Y3L41",3,"终身",9,0,41,0,11168.4,0,0,11168.4]
["A9S0Y3L42",3,"终身",9,0,42,0,11558.32,0,0,11558.32]
["A9S0Y3L43",3,"终身",9,0,43,0,11961.77,0,0,11961.78]
[{"$f":"\"A\"&D968&\"S\"&E968&\"Y\"&B968&\"L\"&F968","v":"A9S0Y3L44"},3,"终身",9,0,44,0,12379.23,0,0,12379.23]
["A9S0Y3L45",3,"终身",9,0,45,0,12811.15,0,0,12811.15]
["A9S0Y3L46",3,"终身",9,0,46,0,13258.05,0,0,13258.05]
["A9S0Y3L47",3,"终身",9,0,47,0,13720.44,0,0,13720.44]
["A9S0Y3L48",3,"终身",9,0,48,0,14198.85,0,0,14198.85]
["A9S0Y3L49",3,"终身",9,0,49,0,14693.81,0,0,14693.81]
["A9S0Y3L50",3,"终身",9,0,50,0,15205.88,0,0,15205.88]
["A9S0Y3L51",3,"终身",9,0,51,0,15735.63,0,0,15735.63]
["A9S0Y3L52",3,"终身",9,0,52,0,16283.61,0,0,16283.61]
["A9S0Y3L53",3,"终身",9,0,53,0,16850.419999999998,0,0,16850.419999999998]
["A9S0Y3L54",3,"终身",9,0,54,0,17436.63,0,0,17436.64]
["A9S0Y3L55",3,"终身",9,0,55,0,18042.86,0,0,18042.86]
["A9S0Y3L56",3,"终身",9,0,56,0,18669.7,0,0,18669.7]
["A9S0Y3L57",3,"终身",9,0,57,0,19317.78,0,0,19317.78]
["A9S0Y3L58",3,"终身",9,0,58,0,19987.72,0,0,19987.73]
["A9S0Y3L59",3,"终身",9,0,59,0,20680.150000000001,0,0,20680.150000000001]
["A9S0Y3L60",3,"终身",9,0,60,0,21395.68,0,0,21395.68]
["A9S0Y3L61",3,"终身",9,0,61,0,22134.92,0,0,22134.92]
["A9S0Y3L62",3,"终身",9,0,62,0,22898.48,0,0,22898.48]
["A9S0Y3L63",3,"终身",9,0,63,0,23686.95,0,0,23686.95]
["A9S0Y3L64",3,"终身",9,0,64,0,24500.92,0,0,24500.92]
["A9S0Y3L65",3,"终身",9,0,65,0,25340.99,0,0,25341]
["A9S0Y3L66",3,"终身",9,0,66,0,26207.74,0,0,26207.74]
["A9S0Y3L67",3,"终身",9,0,67,0,27101.72,0,0,27101.72]
["A9S0Y3L68",3,"终身",9,0,68,0,28023.48,0,0,28023.48]
["A9S0Y3L69",3,"终身",9,0,69,0,28973.54,0,0,28973.54]
["A9S0Y3L70",3,"终身",9,0,70,0,29952.37,0,0,29952.37]
["A9S0Y3L71",3,"终身",9,0,71,0,30960.41,0,0,30960.41]
["A9S0Y3L72",3,"终身",9,0,72,0,31998.04,0,0,31998.04]
["A9S0Y3L73",3,"终身",9,0,73,0,33065.589999999997,0,0,33065.589999999997]
["A9S0Y3L74",3,"终身",9,0,74,0,34163.32,0,0,34163.32]
["A9S0Y3L75",3,"终身",9,0,75,0,35291.46,0,0,35291.46]
["A9S0Y3L76",3,"终身",9,0,76,0,36450.14,0,0,36450.14]
["A9S0Y3L77",3,"终身",9,0,77,0,37639.410000000003,0,0,37639.410000000003]
["A9S0Y3L78",3,"终身",9,0,78,0,38859.21,0,0,38859.21]
["A9S0Y3L79",3,"终身",9,0,79,0,40109.360000000001,0,0,40109.370000000003]
["A9S0Y3L80",3,"终身",9,0,80,0,41389.51,0,0,41389.519999999997]
["A9S0Y3L81",3,"终身",9,0,81,0,42699.11,0,0,42699.12]
["A9S0Y3L82",3,"终身",9,0,82,0,44037.42,0,0,44037.43]
["A9S0Y3L83",3,"终身",9,0,83,0,45403.46,0,0,45403.47]
["A9S0Y3L84",3,"终身",9,0,84,0,46796.03,0,0,46796.04]
["A9S0Y3L85",3,"终身",9,0,85,0,48213.75,0,0,48213.77]
["A9S0Y3L86",3,"终身",9,0,86,0,49655.040000000001,0,0,49655.07]
["A9S0Y3L87",3,"终身",9,0,87,0,51118.21,0,0,51118.25]
["A9S0Y3L88",3,"终身",9,0,88,0,52601.46,0,0,52601.52]
["A9S0Y3L89",3,"终身",9,0,89,0,54102.95,0,0,54103.040000000001]
["A9S0Y3L90",3,"终身",9,0,90,0,55620.800000000003,0,0,55620.959999999999]
["A9S0Y3L91",3,"终身",9,0,91,0,57153.13,0,0,57153.41]
["A9S0Y3L92",3,"终身",9,0,92,0,58698.05,0,0,58698.59]
["A9S0Y3L93",3,"终身",9,0,93,0,60253.72,0,0,60254.77]
["A9S0Y3L94",3,"终身",9,0,94,0,61818.29,0,0,61820.49]
["A9S0Y3L95",3,"终身",9,0,95,0,63389.98,0,0,63394.9]
["A9S0Y3L96",3,"终身",9,0,96,0,64967.07,0,0,64978.87]
["A9S0Y3L97",3,"终身",9,0,97,0,66093.42,0,0,66093.42]
["A10S0Y3L1",3,"终身",10,0,1,197.31,180.19,0,0.28999999999999998,859.33]
["A10S0Y3L2",3,"终身",10,0,2,281.87,481.82,0,1437.12,1924.34]
["A10S0Y3L3",3,"终身",10,0,3,366.43,930.5,0,1437.12,3026.66]
["A10S0Y3L4",3,"终身",10,0,4,0,980.92,0,0,3132.58]
["A10S0Y3L5",3,"终身",10,0,5,0,1034.07,0,0,3242.26]
["A10S0Y3L6",3,"终身",10,0,6,0,3355.68,0,0,3355.68]
["A10S0Y3L7",3,"终身",10,0,7,0,3473.07,0,0,3473.07]
["A10S0Y3L8",3,"终身",10,0,8,0,3594.56,0,0,3594.56]
["A10S0Y3L9",3,"终身",10,0,9,0,3719.79,0,0,3719.79]
["A10S0Y3L10",3,"终身",10,0,10,0,3849.43,0,0,3849.43]
[{"$f":"\"A\"&D1032&\"S\"&E1032&\"Y\"&B1032&\"L\"&F1032","v":"A10S0Y3L11"},3,"终身",10,0,11,0,3983.66,0,0,3983.66]
["A10S0Y3L12",3,"终身",10,0,12,0,4122.6499999999996,0,0,4122.6499999999996]
["A10S0Y3L13",3,"终身",10,0,13,0,4266.5600000000004,0,0,4266.5600000000004]
["A10S0Y3L14",3,"终身",10,0,14,0,4415.58,0,0,4415.58]
["A10S0Y3L15",3,"终身",10,0,15,0,4569.8900000000003,0,0,4569.8900000000003]
["A10S0Y3L16",3,"终身",10,0,16,0,4729.6899999999996,0,0,4729.6899999999996]
["A10S0Y3L17",3,"终身",10,0,17,0,4895.12,0,0,4895.12]
["A10S0Y3L18",3,"终身",10,0,18,0,5066.34,0,0,5066.34]
["A10S0Y3L19",3,"终身",10,0,19,0,5243.54,0,0,5243.54]
["A10S0Y3L20",3,"终身",10,0,20,0,5426.94,0,0,5426.94]
["A10S0Y3L21",3,"终身",10,0,21,0,5616.74,0,0,5616.74]
["A10S0Y3L22",3,"终身",10,0,22,0,5813.18,0,0,5813.18]
["A10S0Y3L23",3,"终身",10,0,23,0,6016.49,0,0,6016.49]
["A10S0Y3L24",3,"终身",10,0,24,0,6226.89,0,0,6226.89]
["A10S0Y3L25",3,"终身",10,0,25,0,6444.65,0,0,6444.65]
["A10S0Y3L26",3,"终身",10,0,26,0,6670.02,0,0,6670.02]
["A10S0Y3L27",3,"终身",10,0,27,0,6903.25,0,0,6903.25]
["A10S0Y3L28",3,"终身",10,0,28,0,7144.63,0,0,7144.63]
["A10S0Y3L29",3,"终身",10,0,29,0,7394.43,0,0,7394.43]
["A10S0Y3L30",3,"终身",10,0,30,0,7652.96,0,0,7652.96]
["A10S0Y3L31",3,"终身",10,0,31,0,7920.5,0,0,7920.5]
["A10S0Y3L32",3,"终身",10,0,32,0,8197.3799999999992,0,0,8197.3799999999992]
["A10S0Y3L33",3,"终身",10,0,33,0,8483.9,0,0,8483.9]
["A10S0Y3L34",3,"终身",10,0,34,0,8780.42,0,0,8780.42]
["A10S0Y3L35",3,"终身",10,0,35,0,9087.26,0,0,9087.26]
["A10S0Y3L36",3,"终身",10,0,36,0,9404.7800000000007,0,0,9404.7800000000007]
["A10S0Y3L37",3,"终身",10,0,37,0,9733.36,0,0,9733.36]
["A10S0Y3L38",3,"终身",10,0,38,0,10073.36,0,0,10073.36]
["A10S0Y3L39",3,"终身",10,0,39,0,10425.17,0,0,10425.17]
["A10S0Y3L40",3,"终身",10,0,40,0,10789.21,0,0,10789.21]
["A10S0Y3L41",3,"终身",10,0,41,0,11165.9,0,0,11165.9]
["A10S0Y3L42",3,"终身",10,0,42,0,11555.65,0,0,11555.65]
["A10S0Y3L43",3,"终身",10,0,43,0,11958.93,0,0,11958.93]
["A10S0Y3L44",3,"终身",10,0,44,0,12376.19,0,0,12376.19]
["A10S0Y3L45",3,"终身",10,0,45,0,12807.92,0,0,12807.92]
["A10S0Y3L46",3,"终身",10,0,46,0,13254.61,0,0,13254.61]
["A10S0Y3L47",3,"终身",10,0,47,0,13716.77,0,0,13716.77]
["A10S0Y3L48",3,"终身",10,0,48,0,14194.93,0,0,14194.93]
["A10S0Y3L49",3,"终身",10,0,49,0,14689.62,0,0,14689.62]
["A10S0Y3L50",3,"终身",10,0,50,0,15201.38,0,0,15201.38]
["A10S0Y3L51",3,"终身",10,0,51,0,15730.76,0,0,15730.76]
["A10S0Y3L52",3,"终身",10,0,52,0,16278.32,0,0,16278.32]
["A10S0Y3L53",3,"终身",10,0,53,0,16844.63,0,0,16844.63]
["A10S0Y3L54",3,"终身",10,0,54,0,17430.27,0,0,17430.27]
["A10S0Y3L55",3,"终身",10,0,55,0,18035.830000000002,0,0,18035.830000000002]
["A10S0Y3L56",3,"终身",10,0,56,0,18661.91,0,0,18661.91]
["A10S0Y3L57",3,"终身",10,0,57,0,19309.11,0,0,19309.11]
["A10S0Y3L58",3,"终身",10,0,58,0,19978.02,0,0,19978.02]
["A10S0Y3L59",3,"终身",10,0,59,0,20669.259999999998,0,0,20669.259999999998]
["A10S0Y3L60",3,"终身",10,0,60,0,21383.4,0,0,21383.4]
["A10S0Y3L61",3,"终身",10,0,61,0,22121.03,0,0,22121.03]
["A10S0Y3L62",3,"终身",10,0,62,0,22882.73,0,0,22882.73]
["A10S0Y3L63",3,"终身",10,0,63,0,23669.07,0,0,23669.07]
["A10S0Y3L64",3,"终身",10,0,64,0,24480.62,0,0,24480.62]
["A10S0Y3L65",3,"终身",10,0,65,0,25317.94,0,0,25317.94]
["A10S0Y3L66",3,"终身",10,0,66,0,26181.57,0,0,26181.57]
["A10S0Y3L67",3,"终身",10,0,67,0,27072.04,0,0,27072.04]
["A10S0Y3L68",3,"终身",10,0,68,0,27989.84,0,0,27989.84]
["A10S0Y3L69",3,"终身",10,0,69,0,28935.439999999999,0,0,28935.439999999999]
["A10S0Y3L70",3,"终身",10,0,70,0,29909.25,0,0,29909.25]
["A10S0Y3L71",3,"终身",10,0,71,0,30911.65,0,0,30911.65]
["A10S0Y3L72",3,"终身",10,0,72,0,31942.95,0,0,31942.95]
["A10S0Y3L73",3,"终身",10,0,73,0,33003.42,0,0,33003.42]
["A10S0Y3L74",3,"终身",10,0,74,0,34093.25,0,0,34093.25]
[{"$f":"\"A\"&D1096&\"S\"&E1096&\"Y\"&B1096&\"L\"&F1096","v":"A10S0Y3L75"},3,"终身",10,0,75,0,35212.589999999997,0,0,35212.589999999997]
["A10S0Y3L76",3,"终身",10,0,76,0,36361.480000000003,0,0,36361.480000000003]
["A10S0Y3L77",3,"终身",10,0,77,0,37539.870000000003,0,0,37539.870000000003]
["A10S0Y3L78",3,"终身",10,0,78,0,38747.58,0,0,38747.58]
["A10S0Y3L79",3,"终身",10,0,79,0,39984.269999999997,0,0,39984.269999999997]
["A10S0Y3L80",3,"终身",10,0,80,0,41249.410000000003,0,0,41249.410000000003]
["A10S0Y3L81",3,"终身",10,0,81,0,42542.27,0,0,42542.27]
["A10S0Y3L82",3,"终身",10,0,82,0,43861.93,0,0,43861.93]
["A10S0Y3L83",3,"终身",10,0,83,0,45207.22,0,0,45207.23]
["A10S0Y3L84",3,"终身",10,0,84,0,46576.81,0,0,46576.81]
["A10S0Y3L85",3,"终身",10,0,85,0,47969.17,0,0,47969.17]
["A10S0Y3L86",3,"终身",10,0,86,0,49382.66,0,0,49382.66]
["A10S0Y3L87",3,"终身",10,0,87,0,50815.55,0,0,50815.55]
["A10S0Y3L88",3,"终身",10,0,88,0,52266.06,0,0,52266.06]
["A10S0Y3L89",3,"终身",10,0,89,0,53732.38,0,0,53732.38]
["A10S0Y3L90",3,"终身",10,0,90,0,55212.68,0,0,55212.68]
["A10S0Y3L91",3,"终身",10,0,91,0,56705.15,0,0,56705.15]
["A10S0Y3L92",3,"终身",10,0,92,0,58208,0,0,58208]
["A10S0Y3L93",3,"终身",10,0,93,0,59719.45,0,0,59719.45]
["A10S0Y3L94",3,"终身",10,0,94,0,61237.78,0,0,61237.78]
["A10S0Y3L95",3,"终身",10,0,95,0,62761.32,0,0,62761.32]
["A10S0Y3L96",3,"终身",10,0,96,0,63849.43,0,0,63849.43]
["A11S0Y3L1",3,"终身",11,0,1,201.04,183.59,0,0.32,859.33]
["A11S0Y3L2",3,"终身",11,0,2,287.2,490.9,0,1437.12,1924.34]
["A11S0Y3L3",3,"终身",11,0,3,373.36,948.01,0,1437.12,3026.65]
["A11S0Y3L4",3,"终身",11,0,4,0,999.34,0,0,3132.58]
["A11S0Y3L5",3,"终身",11,0,5,0,1053.46,0,0,3242.26]
["A11S0Y3L6",3,"终身",11,0,6,0,3355.68,0,0,3355.68]
["A11S0Y3L7",3,"终身",11,0,7,0,3473.07,0,0,3473.07]
["A11S0Y3L8",3,"终身",11,0,8,0,3593.98,0,0,3593.98]
["A11S0Y3L9",3,"终身",11,0,9,0,3719.16,0,0,3719.16]
["A11S0Y3L10",3,"终身",11,0,10,0,3848.77,0,0,3848.77]
["A11S0Y3L11",3,"终身",11,0,11,0,3982.96,0,0,3982.96]
["A11S0Y3L12",3,"终身",11,0,12,0,4121.8999999999996,0,0,4121.8999999999996]
["A11S0Y3L13",3,"终身",11,0,13,0,4265.7700000000004,0,0,4265.7700000000004]
["A11S0Y3L14",3,"终身",11,0,14,0,4414.75,0,0,4414.75]
["A11S0Y3L15",3,"终身",11,0,15,0,4569.0200000000004,0,0,4569.03]
["A11S0Y3L16",3,"终身",11,0,16,0,4728.79,0,0,4728.79]
["A11S0Y3L17",3,"终身",11,0,17,0,4894.1899999999996,0,0,4894.1899999999996]
["A11S0Y3L18",3,"终身",11,0,18,0,5065.37,0,0,5065.37]
["A11S0Y3L19",3,"终身",11,0,19,0,5242.54,0,0,5242.54]
["A11S0Y3L20",3,"终身",11,0,20,0,5425.89,0,0,5425.89]
["A11S0Y3L21",3,"终身",11,0,21,0,5615.66,0,0,5615.66]
["A11S0Y3L22",3,"终身",11,0,22,0,5812.05,0,0,5812.05]
["A11S0Y3L23",3,"终身",11,0,23,0,6015.31,0,0,6015.31]
["A11S0Y3L24",3,"终身",11,0,24,0,6225.67,0,0,6225.67]
["A11S0Y3L25",3,"终身",11,0,25,0,6443.38,0,0,6443.38]
["A11S0Y3L26",3,"终身",11,0,26,0,6668.69,0,0,6668.69]
["A11S0Y3L27",3,"终身",11,0,27,0,6901.86,0,0,6901.86]
["A11S0Y3L28",3,"终身",11,0,28,0,7143.18,0,0,7143.18]
["A11S0Y3L29",3,"终身",11,0,29,0,7392.92,0,0,7392.92]
["A11S0Y3L30",3,"终身",11,0,30,0,7651.37,0,0,7651.37]
["A11S0Y3L31",3,"终身",11,0,31,0,7918.84,0,0,7918.84]
["A11S0Y3L32",3,"终身",11,0,32,0,8195.6299999999992,0,0,8195.6299999999992]
["A11S0Y3L33",3,"终身",11,0,33,0,8482.07,0,0,8482.07]
["A11S0Y3L34",3,"终身",11,0,34,0,8778.48,0,0,8778.48]
["A11S0Y3L35",3,"终身",11,0,35,0,9085.2199999999993,0,0,9085.2199999999993]
["A11S0Y3L36",3,"终身",11,0,36,0,9402.6299999999992,0,0,9402.6299999999992]
["A11S0Y3L37",3,"终身",11,0,37,0,9731.08,0,0,9731.08]
["A11S0Y3L38",3,"终身",11,0,38,0,10070.94,0,0,10070.94]
["A11S0Y3L39",3,"终身",11,0,39,0,10422.61,0,0,10422.61]
["A11S0Y3L40",3,"终身",11,0,40,0,10786.49,0,0,10786.49]
["A11S0Y3L41",3,"终身",11,0,41,0,11163,0,0,11163]
["A11S0Y3L42",3,"终身",11,0,42,0,11552.58,0,0,11552.58]
[{"$f":"\"A\"&D1160&\"S\"&E1160&\"Y\"&B1160&\"L\"&F1160","v":"A11S0Y3L43"},3,"终身",11,0,43,0,11955.66,0,0,11955.66]
["A11S0Y3L44",3,"终身",11,0,44,0,12372.72,0,0,12372.72]
["A11S0Y3L45",3,"终身",11,0,45,0,12804.23,0,0,12804.23]
["A11S0Y3L46",3,"终身",11,0,46,0,13250.69,0,0,13250.69]
["A11S0Y3L47",3,"终身",11,0,47,0,13712.6,0,0,13712.6]
["A11S0Y3L48",3,"终身",11,0,48,0,14190.48,0,0,14190.48]
["A11S0Y3L49",3,"终身",11,0,49,0,14684.85,0,0,14684.85]
["A11S0Y3L50",3,"终身",11,0,50,0,15196.25,0,0,15196.25]
["A11S0Y3L51",3,"终身",11,0,51,0,15725.2,0,0,15725.2]
["A11S0Y3L52",3,"终身",11,0,52,0,16272.27,0,0,16272.27]
["A11S0Y3L53",3,"终身",11,0,53,0,16838.009999999998,0,0,16838.009999999998]
["A11S0Y3L54",3,"终身",11,0,54,0,17423,0,0,17423]
["A11S0Y3L55",3,"终身",11,0,55,0,18027.8,0,0,18027.8]
["A11S0Y3L56",3,"终身",11,0,56,0,18653.009999999998,0,0,18653.009999999998]
["A11S0Y3L57",3,"终身",11,0,57,0,19299.189999999999,0,0,19299.2]
["A11S0Y3L58",3,"终身",11,0,58,0,19966.939999999999,0,0,19966.939999999999]
["A11S0Y3L59",3,"终身",11,0,59,0,20656.82,0,0,20656.82]
["A11S0Y3L60",3,"终身",11,0,60,0,21369.39,0,0,21369.39]
["A11S0Y3L61",3,"终身",11,0,61,0,22105.21,0,0,22105.21]
["A11S0Y3L62",3,"终身",11,0,62,0,22864.83,0,0,22864.83]
["A11S0Y3L63",3,"终身",11,0,63,0,23648.799999999999,0,0,23648.799999999999]
["A11S0Y3L64",3,"终身",11,0,64,0,24457.67,0,0,24457.67]
["A11S0Y3L65",3,"终身",11,0,65,0,25291.95,0,0,25291.95]
["A11S0Y3L66",3,"终身",11,0,66,0,26152.16,0,0,26152.16]
["A11S0Y3L67",3,"终身",11,0,67,0,27038.78,0,0,27038.78]
["A11S0Y3L68",3,"终身",11,0,68,0,27952.25,0,0,27952.25]
["A11S0Y3L69",3,"终身",11,0,69,0,28892.97,0,0,28892.97]
["A11S0Y3L70",3,"终身",11,0,70,0,29861.31,0,0,29861.31]
["A11S0Y3L71",3,"终身",11,0,71,0,30857.57,0,0,30857.57]
["A11S0Y3L72",3,"终身",11,0,72,0,31882,0,0,31882]
["A11S0Y3L73",3,"终身",11,0,73,0,32934.81,0,0,32934.81]
["A11S0Y3L74",3,"终身",11,0,74,0,34016.11,0,0,34016.11]
["A11S0Y3L75",3,"终身",11,0,75,0,35125.96,0,0,35125.96]
["A11S0Y3L76",3,"终身",11,0,76,0,36264.31,0,0,36264.32]
["A11S0Y3L77",3,"终身",11,0,77,0,37430.99,0,0,37430.99]
["A11S0Y3L78",3,"终身",11,0,78,0,38625.65,0,0,38625.65]
["A11S0Y3L79",3,"终身",11,0,79,0,39847.800000000003,0,0,39847.800000000003]
["A11S0Y3L80",3,"终身",11,0,80,0,41096.74,0,0,41096.74]
["A11S0Y3L81",3,"终身",11,0,81,0,42371.56,0,0,42371.56]
["A11S0Y3L82",3,"终身",11,0,82,0,43671.14,0,0,43671.14]
["A11S0Y3L83",3,"终身",11,0,83,0,44994.18,0,0,44994.19]
["A11S0Y3L84",3,"终身",11,0,84,0,46339.23,0,0,46339.24]
["A11S0Y3L85",3,"终身",11,0,85,0,47704.69,0,0,47704.71]
["A11S0Y3L86",3,"终身",11,0,86,0,49088.9,0,0,49088.92]
["A11S0Y3L87",3,"终身",11,0,87,0,50490.12,0,0,50490.16]
["A11S0Y3L88",3,"终身",11,0,88,0,51906.61,0,0,51906.68]
["A11S0Y3L89",3,"终身",11,0,89,0,53336.62,0,0,53336.73]
["A11S0Y3L90",3,"终身",11,0,90,0,54778.38,0,0,54778.59]
["A11S0Y3L91",3,"终身",11,0,91,0,56230.16,0,0,56230.58]
["A11S0Y3L92",3,"终身",11,0,92,0,57690.25,0,0,57691.14]
["A11S0Y3L93",3,"终身",11,0,93,0,59156.99,0,0,59158.98]
["A11S0Y3L94",3,"终身",11,0,94,0,60628.77,0,0,60633.53]
["A11S0Y3L95",3,"终身",11,0,95,0,61679.91,0,0,61679.91]
["A12S0Y3L1",3,"终身",12,0,1,204.85,187.05,0,0.34,859.32]
["A12S0Y3L2",3,"终身",12,0,2,292.64,500.14,0,1437.13,1924.33]
["A12S0Y3L3",3,"终身",12,0,3,380.43,965.86,0,1437.13,3026.64]
["A12S0Y3L4",3,"终身",12,0,4,0,1018.12,0,0,3132.57]
["A12S0Y3L5",3,"终身",12,0,5,0,1073.23,0,0,3242.26]
["A12S0Y3L6",3,"终身",12,0,6,0,3355.68,0,0,3355.68]
["A12S0Y3L7",3,"终身",12,0,7,0,3472.43,0,0,3472.43]
["A12S0Y3L8",3,"终身",12,0,8,0,3593.29,0,0,3593.29]
["A12S0Y3L9",3,"终身",12,0,9,0,3718.43,0,0,3718.43]
["A12S0Y3L10",3,"终身",12,0,10,0,3847.99,0,0,3847.99]
["A12S0Y3L11",3,"终身",12,0,11,0,3982.13,0,0,3982.13]
[{"$f":"\"A\"&D1224&\"S\"&E1224&\"Y\"&B1224&\"L\"&F1224","v":"A12S0Y3L12"},3,"终身",12,0,12,0,4121.03,0,0,4121.03]
["A12S0Y3L13",3,"终身",12,0,13,0,4264.8599999999997,0,0,4264.8599999999997]
["A12S0Y3L14",3,"终身",12,0,14,0,4413.79,0,0,4413.79]
["A12S0Y3L15",3,"终身",12,0,15,0,4568.0200000000004,0,0,4568.0200000000004]
["A12S0Y3L16",3,"终身",12,0,16,0,4727.75,0,0,4727.75]
["A12S0Y3L17",3,"终身",12,0,17,0,4893.1099999999997,0,0,4893.1099999999997]
["A12S0Y3L18",3,"终身",12,0,18,0,5064.25,0,0,5064.25]
["A12S0Y3L19",3,"终身",12,0,19,0,5241.37,0,0,5241.37]
["A12S0Y3L20",3,"终身",12,0,20,0,5424.68,0,0,5424.68]
["A12S0Y3L21",3,"终身",12,0,21,0,5614.4,0,0,5614.4]
["A12S0Y3L22",3,"终身",12,0,22,0,5810.74,0,0,5810.74]
["A12S0Y3L23",3,"终身",12,0,23,0,6013.95,0,0,6013.95]
["A12S0Y3L24",3,"终身",12,0,24,0,6224.25,0,0,6224.25]
["A12S0Y3L25",3,"终身",12,0,25,0,6441.9,0,0,6441.9]
["A12S0Y3L26",3,"终身",12,0,26,0,6667.15,0,0,6667.15]
["A12S0Y3L27",3,"终身",12,0,27,0,6900.26,0,0,6900.26]
["A12S0Y3L28",3,"终身",12,0,28,0,7141.5,0,0,7141.5]
["A12S0Y3L29",3,"终身",12,0,29,0,7391.16,0,0,7391.16]
["A12S0Y3L30",3,"终身",12,0,30,0,7649.54,0,0,7649.54]
["A12S0Y3L31",3,"终身",12,0,31,0,7916.91,0,0,7916.91]
["A12S0Y3L32",3,"终身",12,0,32,0,8193.61,0,0,8193.61]
["A12S0Y3L33",3,"终身",12,0,33,0,8479.9500000000007,0,0,8479.9500000000007]
["A12S0Y3L34",3,"终身",12,0,34,0,8776.25,0,0,8776.25]
["A12S0Y3L35",3,"终身",12,0,35,0,9082.86,0,0,9082.86]
["A12S0Y3L36",3,"终身",12,0,36,0,9400.14,0,0,9400.14]
["A12S0Y3L37",3,"终身",12,0,37,0,9728.4500000000007,0,0,9728.4500000000007]
["A12S0Y3L38",3,"终身",12,0,38,0,10068.16,0,0,10068.16]
["A12S0Y3L39",3,"终身",12,0,39,0,10419.67,0,0,10419.67]
["A12S0Y3L40",3,"终身",12,0,40,0,10783.37,0,0,10783.37]
["A12S0Y3L41",3,"终身",12,0,41,0,11159.7,0,0,11159.7]
["A12S0Y3L42",3,"终身",12,0,42,0,11549.08,0,0,11549.08]
["A12S0Y3L43",3,"终身",12,0,43,0,11951.95,0,0,11951.95]
["A12S0Y3L44",3,"终身",12,0,44,0,12368.79,0,0,12368.79]
["A12S0Y3L45",3,"终身",12,0,45,0,12800.06,0,0,12800.06]
["A12S0Y3L46",3,"终身",12,0,46,0,13246.26,0,0,13246.26]
["A12S0Y3L47",3,"终身",12,0,47,0,13707.89,0,0,13707.89]
["A12S0Y3L48",3,"终身",12,0,48,0,14185.45,0,0,14185.45]
["A12S0Y3L49",3,"终身",12,0,49,0,14679.45,0,0,14679.45]
["A12S0Y3L50",3,"终身",12,0,50,0,15190.42,0,0,15190.42]
["A12S0Y3L51",3,"终身",12,0,51,0,15718.89,0,0,15718.89]
["A12S0Y3L52",3,"终身",12,0,52,0,16265.39,0,0,16265.39]
["A12S0Y3L53",3,"终身",12,0,53,0,16830.48,0,0,16830.48]
["A12S0Y3L54",3,"终身",12,0,54,0,17414.71,0,0,17414.71]
["A12S0Y3L55",3,"终身",12,0,55,0,18018.66,0,0,18018.66]
["A12S0Y3L56",3,"终身",12,0,56,0,18642.87,0,0,18642.87]
["A12S0Y3L57",3,"终身",12,0,57,0,19287.91,0,0,19287.91]
["A12S0Y3L58",3,"终身",12,0,58,0,19954.32,0,0,19954.32]
["A12S0Y3L59",3,"终身",12,0,59,0,20642.66,0,0,20642.66]
["A12S0Y3L60",3,"终身",12,0,60,0,21353.45,0,0,21353.45]
["A12S0Y3L61",3,"终身",12,0,61,0,22087.24,0,0,22087.24]
["A12S0Y3L62",3,"终身",12,0,62,0,22844.560000000001,0,0,22844.560000000001]
["A12S0Y3L63",3,"终身",12,0,63,0,23625.91,0,0,23625.91]
["A12S0Y3L64",3,"终身",12,0,64,0,24431.83,0,0,24431.83]
["A12S0Y3L65",3,"终身",12,0,65,0,25262.78,0,0,25262.78]
["A12S0Y3L66",3,"终身",12,0,66,0,26119.25,0,0,26119.25]
["A12S0Y3L67",3,"终身",12,0,67,0,27001.65,0,0,27001.65]
["A12S0Y3L68",3,"终身",12,0,68,0,27910.38,0,0,27910.38]
["A12S0Y3L69",3,"终身",12,0,69,0,28845.79,0,0,28845.79]
["A12S0Y3L70",3,"终身",12,0,70,0,29808.17,0,0,29808.17]
["A12S0Y3L71",3,"终身",12,0,71,0,30797.759999999998,0,0,30797.759999999998]
["A12S0Y3L72",3,"终身",12,0,72,0,31814.76,0,0,31814.76]
["A12S0Y3L73",3,"终身",12,0,73,0,32859.29,0,0,32859.29]
["A12S0Y3L74",3,"终身",12,0,74,0,33931.4,0,0,33931.4]
["A12S0Y3L75",3,"终身",12,0,75,0,35031.040000000001,0,0,35031.040000000001]
[{"$f":"\"A\"&D1288&\"S\"&E1288&\"Y\"&B1288&\"L\"&F1288","v":"A12S0Y3L76"},3,"终身",12,0,76,0,36158.04,0,0,36158.04]
["A12S0Y3L77",3,"终身",12,0,77,0,37312.07,0,0,37312.07]
["A12S0Y3L78",3,"终身",12,0,78,0,38492.660000000003,0,0,38492.660000000003]
["A12S0Y3L79",3,"终身",12,0,79,0,39699.129999999997,0,0,39699.129999999997]
["A12S0Y3L80",3,"终身",12,0,80,0,40930.589999999997,0,0,40930.589999999997]
["A12S0Y3L81",3,"终身",12,0,81,0,42185.98,0,0,42185.98]
["A12S0Y3L82",3,"终身",12,0,82,0,43464.03,0,0,43464.03]
["A12S0Y3L83",3,"终身",12,0,83,0,44763.33,0,0,44763.33]
["A12S0Y3L84",3,"终身",12,0,84,0,46082.36,0,0,46082.36]
["A12S0Y3L85",3,"终身",12,0,85,0,47419.49,0,0,47419.49]
["A12S0Y3L86",3,"终身",12,0,86,0,48773.06,0,0,48773.06]
["A12S0Y3L87",3,"终身",12,0,87,0,50141.38,0,0,50141.38]
["A12S0Y3L88",3,"终身",12,0,88,0,51522.75,0,0,51522.75]
["A12S0Y3L89",3,"终身",12,0,89,0,52915.48,0,0,52915.48]
["A12S0Y3L90",3,"终身",12,0,90,0,54317.89,0,0,54317.89]
["A12S0Y3L91",3,"终身",12,0,91,0,55728.33,0,0,55728.33]
["A12S0Y3L92",3,"终身",12,0,92,0,57145.19,0,0,57145.19]
["A12S0Y3L93",3,"终身",12,0,93,0,58566.91,0,0,58566.91]
["A12S0Y3L94",3,"终身",12,0,94,0,59582.3,0,0,59582.3]
["A13S0Y3L1",3,"终身",13,0,1,208.72,190.57,0,0.37,859.32]
["A13S0Y3L2",3,"终身",13,0,2,298.17,509.57,0,1437.13,1924.32]
["A13S0Y3L3",3,"终身",13,0,3,387.63,984.06,0,1437.13,3026.63]
["A13S0Y3L4",3,"终身",13,0,4,0,1037.28,0,0,3132.57]
["A13S0Y3L5",3,"终身",13,0,5,0,1093.4000000000001,0,0,3242.26]
["A13S0Y3L6",3,"终身",13,0,6,0,3354.98,0,0,3354.98]
["A13S0Y3L7",3,"终身",13,0,7,0,3471.68,0,0,3471.68]
["A13S0Y3L8",3,"终身",13,0,8,0,3592.5,0,0,3592.5]
["A13S0Y3L9",3,"终身",13,0,9,0,3717.58,0,0,3717.58]
["A13S0Y3L10",3,"终身",13,0,10,0,3847.09,0,0,3847.09]
["A13S0Y3L11",3,"终身",13,0,11,0,3981.18,0,0,3981.18]
["A13S0Y3L12",3,"终身",13,0,12,0,4120.03,0,0,4120.03]
["A13S0Y3L13",3,"终身",13,0,13,0,4263.8100000000004,0,0,4263.8100000000004]
["A13S0Y3L14",3,"终身",13,0,14,0,4412.6899999999996,0,0,4412.6899999999996]
["A13S0Y3L15",3,"终身",13,0,15,0,4566.87,0,0,4566.87]
["A13S0Y3L16",3,"终身",13,0,16,0,4726.55,0,0,4726.55]
["A13S0Y3L17",3,"终身",13,0,17,0,4891.87,0,0,4891.87]
["A13S0Y3L18",3,"终身",13,0,18,0,5062.96,0,0,5062.96]
["A13S0Y3L19",3,"终身",13,0,19,0,5240.03,0,0,5240.03]
["A13S0Y3L20",3,"终身",13,0,20,0,5423.29,0,0,5423.29]
["A13S0Y3L21",3,"终身",13,0,21,0,5612.95,0,0,5612.95]
["A13S0Y3L22",3,"终身",13,0,22,0,5809.24,0,0,5809.24]
["A13S0Y3L23",3,"终身",13,0,23,0,6012.38,0,0,6012.38]
["A13S0Y3L24",3,"终身",13,0,24,0,6222.62,0,0,6222.62]
["A13S0Y3L25",3,"终身",13,0,25,0,6440.2,0,0,6440.2]
["A13S0Y3L26",3,"终身",13,0,26,0,6665.38,0,0,6665.38]
["A13S0Y3L27",3,"终身",13,0,27,0,6898.41,0,0,6898.41]
["A13S0Y3L28",3,"终身",13,0,28,0,7139.58,0,0,7139.58]
["A13S0Y3L29",3,"终身",13,0,29,0,7389.15,0,0,7389.15]
["A13S0Y3L30",3,"终身",13,0,30,0,7647.43,0,0,7647.43]
["A13S0Y3L31",3,"终身",13,0,31,0,7914.71,0,0,7914.71]
["A13S0Y3L32",3,"终身",13,0,32,0,8191.3,0,0,8191.3]
["A13S0Y3L33",3,"终身",13,0,33,0,8477.51,0,0,8477.51]
["A13S0Y3L34",3,"终身",13,0,34,0,8773.69,0,0,8773.69]
["A13S0Y3L35",3,"终身",13,0,35,0,9080.17,0,0,9080.17]
["A13S0Y3L36",3,"终身",13,0,36,0,9397.2999999999993,0,0,9397.2999999999993]
["A13S0Y3L37",3,"终身",13,0,37,0,9725.4500000000007,0,0,9725.4500000000007]
["A13S0Y3L38",3,"终身",13,0,38,0,10064.99,0,0,10064.99]
["A13S0Y3L39",3,"终身",13,0,39,0,10416.32,0,0,10416.32]
["A13S0Y3L40",3,"终身",13,0,40,0,10779.83,0,0,10779.83]
["A13S0Y3L41",3,"终身",13,0,41,0,11155.96,0,0,11155.96]
["A13S0Y3L42",3,"终身",13,0,42,0,11545.12,0,0,11545.12]
["A13S0Y3L43",3,"终身",13,0,43,0,11947.76,0,0,11947.76]
["A13S0Y3L44",3,"终身",13,0,44,0,12364.36,0,0,12364.36]
["A13S0Y3L45",3,"终身",13,0,45,0,12795.37,0,0,12795.37]
[{"$f":"\"A\"&D1352&\"S\"&E1352&\"Y\"&B1352&\"L\"&F1352","v":"A13S0Y3L46"},3,"终身",13,0,46,0,13241.29,0,0,13241.29]
["A13S0Y3L47",3,"终身",13,0,47,0,13702.59,0,0,13702.59]
["A13S0Y3L48",3,"终身",13,0,48,0,14179.78,0,0,14179.78]
["A13S0Y3L49",3,"终身",13,0,49,0,14673.35,0,0,14673.35]
["A13S0Y3L50",3,"终身",13,0,50,0,15183.83,0,0,15183.83]
["A13S0Y3L51",3,"终身",13,0,51,0,15711.73,0,0,15711.73]
["A13S0Y3L52",3,"终身",13,0,52,0,16257.58,0,0,16257.58]
["A13S0Y3L53",3,"终身",13,0,53,0,16821.93,0,0,16821.93]
["A13S0Y3L54",3,"终身",13,0,54,0,17405.32,0,0,17405.32]
["A13S0Y3L55",3,"终身",13,0,55,0,18008.28,0,0,18008.28]
["A13S0Y3L56",3,"终身",13,0,56,0,18631.36,0,0,18631.36]
["A13S0Y3L57",3,"终身",13,0,57,0,19275.09,0,0,19275.09]
["A13S0Y3L58",3,"终身",13,0,58,0,19940,0,0,19940]
["A13S0Y3L59",3,"终身",13,0,59,0,20626.599999999999,0,0,20626.599999999999]
["A13S0Y3L60",3,"终身",13,0,60,0,21335.41,0,0,21335.41]
["A13S0Y3L61",3,"终身",13,0,61,0,22066.95,0,0,22066.95]
["A13S0Y3L62",3,"终身",13,0,62,0,22821.71,0,0,22821.71]
["A13S0Y3L63",3,"终身",13,0,63,0,23600.18,0,0,23600.19]
["A13S0Y3L64",3,"终身",13,0,64,0,24402.86,0,0,24402.86]
["A13S0Y3L65",3,"终身",13,0,65,0,25230.17,0,0,25230.17]
["A13S0Y3L66",3,"终身",13,0,66,0,26082.53,0,0,26082.54]
["A13S0Y3L67",3,"终身",13,0,67,0,26960.34,0,0,26960.34]
["A13S0Y3L68",3,"终身",13,0,68,0,27863.9,0,0,27863.9]
["A13S0Y3L69",3,"终身",13,0,69,0,28793.52,0,0,28793.52]
["A13S0Y3L70",3,"终身",13,0,70,0,29749.43,0,0,29749.43]
["A13S0Y3L71",3,"终身",13,0,71,0,30731.81,0,0,30731.81]
["A13S0Y3L72",3,"终身",13,0,72,0,31740.79,0,0,31740.79]
["A13S0Y3L73",3,"终身",13,0,73,0,32776.410000000003,0,0,32776.410000000003]
["A13S0Y3L74",3,"终身",13,0,74,0,33838.61,0,0,33838.620000000003]
["A13S0Y3L75",3,"终身",13,0,75,0,34927.25,0,0,34927.25]
["A13S0Y3L76",3,"终身",13,0,76,0,36042,0,0,36042]
["A13S0Y3L77",3,"终身",13,0,77,0,37182.400000000001,0,0,37182.400000000001]
["A13S0Y3L78",3,"终身",13,0,78,0,38347.800000000003,0,0,38347.800000000003]
["A13S0Y3L79",3,"终身",13,0,79,0,39537.339999999997,0,0,39537.35]
["A13S0Y3L80",3,"终身",13,0,80,0,40750,0,0,40750]
["A13S0Y3L81",3,"终身",13,0,81,0,41984.55,0,0,41984.55]
["A13S0Y3L82",3,"终身",13,0,82,0,43239.62,0,0,43239.64]
["A13S0Y3L83",3,"终身",13,0,83,0,44513.75,0,0,44513.77]
["A13S0Y3L84",3,"终身",13,0,84,0,45805.37,0,0,45805.39]
["A13S0Y3L85",3,"终身",13,0,85,0,47112.86,0,0,47112.91]
["A13S0Y3L86",3,"终身",13,0,86,0,48434.61,0,0,48434.68]
["A13S0Y3L87",3,"终身",13,0,87,0,49768.959999999999,0,0,49769.09]
["A13S0Y3L88",3,"终身",13,0,88,0,51114.28,0,0,51114.53]
["A13S0Y3L89",3,"终身",13,0,89,0,52468.959999999999,0,0,52469.440000000002]
["A13S0Y3L90",3,"终身",13,0,90,0,53831.38,0,0,53832.39]
["A13S0Y3L91",3,"终身",13,0,91,0,55200.01,0,0,55202.27]
["A13S0Y3L92",3,"终身",13,0,92,0,56573.34,0,0,56578.77]
["A13S0Y3L93",3,"终身",13,0,93,0,57554.17,0,0,57554.17]
["A14S0Y3L1",3,"终身",14,0,1,212.69,194.18,0,0.4,859.31]
["A14S0Y3L2",3,"终身",14,0,2,303.83999999999997,519.22,0,1437.13,1924.32]
["A14S0Y3L3",3,"终身",14,0,3,395,1002.7,0,1437.13,3026.62]
["A14S0Y3L4",3,"终身",14,0,4,0,1056.9100000000001,0,0,3132.56]
["A14S0Y3L5",3,"终身",14,0,5,0,1113.21,0,0,3241.39]
["A14S0Y3L6",3,"终身",14,0,6,0,3354.06,0,0,3354.06]
["A14S0Y3L7",3,"终身",14,0,7,0,3470.7,0,0,3470.7]
["A14S0Y3L8",3,"终身",14,0,8,0,3591.45,0,0,3591.45]
["A14S0Y3L9",3,"终身",14,0,9,0,3716.48,0,0,3716.48]
["A14S0Y3L10",3,"终身",14,0,10,0,3845.93,0,0,3845.93]
["A14S0Y3L11",3,"终身",14,0,11,0,3979.96,0,0,3979.96]
["A14S0Y3L12",3,"终身",14,0,12,0,4118.74,0,0,4118.74]
["A14S0Y3L13",3,"终身",14,0,13,0,4262.45,0,0,4262.45]
["A14S0Y3L14",3,"终身",14,0,14,0,4411.2700000000004,0,0,4411.2700000000004]
["A14S0Y3L15",3,"终身",14,0,15,0,4565.3900000000003,0,0,4565.3900000000003]
["A14S0Y3L16",3,"终身",14,0,16,0,4725.0200000000004,0,0,4725.0200000000004]
[{"$f":"\"A\"&D1416&\"S\"&E1416&\"Y\"&B1416&\"L\"&F1416","v":"A14S0Y3L17"},3,"终身",14,0,17,0,4890.2700000000004,0,0,4890.2700000000004]
["A14S0Y3L18",3,"终身",14,0,18,0,5061.3,0,0,5061.3]
["A14S0Y3L19",3,"终身",14,0,19,0,5238.3100000000004,0,0,5238.3100000000004]
["A14S0Y3L20",3,"终身",14,0,20,0,5421.51,0,0,5421.51]
["A14S0Y3L21",3,"终身",14,0,21,0,5611.1,0,0,5611.1]
["A14S0Y3L22",3,"终身",14,0,22,0,5807.31,0,0,5807.31]
["A14S0Y3L23",3,"终身",14,0,23,0,6010.38,0,0,6010.38]
["A14S0Y3L24",3,"终身",14,0,24,0,6220.54,0,0,6220.54]
["A14S0Y3L25",3,"终身",14,0,25,0,6438.04,0,0,6438.04]
["A14S0Y3L26",3,"终身",14,0,26,0,6663.12,0,0,6663.12]
["A14S0Y3L27",3,"终身",14,0,27,0,6896.06,0,0,6896.06]
["A14S0Y3L28",3,"终身",14,0,28,0,7137.12,0,0,7137.12]
["A14S0Y3L29",3,"终身",14,0,29,0,7386.59,0,0,7386.59]
["A14S0Y3L30",3,"终身",14,0,30,0,7644.75,0,0,7644.75]
["A14S0Y3L31",3,"终身",14,0,31,0,7911.91,0,0,7911.91]
["A14S0Y3L32",3,"终身",14,0,32,0,8188.37,0,0,8188.37]
["A14S0Y3L33",3,"终身",14,0,33,0,8474.44,0,0,8474.44]
["A14S0Y3L34",3,"终身",14,0,34,0,8770.4599999999991,0,0,8770.4599999999991]
["A14S0Y3L35",3,"终身",14,0,35,0,9076.7800000000007,0,0,9076.7800000000007]
["A14S0Y3L36",3,"终身",14,0,36,0,9393.73,0,0,9393.73]
["A14S0Y3L37",3,"终身",14,0,37,0,9721.7000000000007,0,0,9721.7000000000007]
["A14S0Y3L38",3,"终身",14,0,38,0,10061.040000000001,0,0,10061.040000000001]
["A14S0Y3L39",3,"终身",14,0,39,0,10412.16,0,0,10412.16]
["A14S0Y3L40",3,"终身",14,0,40,0,10775.45,0,0,10775.45]
["A14S0Y3L41",3,"终身",14,0,41,0,11151.34,0,0,11151.34]
["A14S0Y3L42",3,"终身",14,0,42,0,11540.25,0,0,11540.25]
["A14S0Y3L43",3,"终身",14,0,43,0,11942.64,0,0,11942.64]
["A14S0Y3L44",3,"终身",14,0,44,0,12358.95,0,0,12358.95]
["A14S0Y3L45",3,"终身",14,0,45,0,12789.66,0,0,12789.66]
["A14S0Y3L46",3,"终身",14,0,46,0,13235.23,0,0,13235.23]
["A14S0Y3L47",3,"终身",14,0,47,0,13696.14,0,0,13696.14]
["A14S0Y3L48",3,"终身",14,0,48,0,14172.88,0,0,14172.88]
["A14S0Y3L49",3,"终身",14,0,49,0,14665.94,0,0,14665.94]
["A14S0Y3L50",3,"终身",14,0,50,0,15175.84,0,0,15175.84]
["A14S0Y3L51",3,"终身",14,0,51,0,15703.07,0,0,15703.07]
["A14S0Y3L52",3,"终身",14,0,52,0,16248.17,0,0,16248.17]
["A14S0Y3L53",3,"终身",14,0,53,0,16811.66,0,0,16811.66]
["A14S0Y3L54",3,"终身",14,0,54,0,17394.060000000001,0,0,17394.060000000001]
["A14S0Y3L55",3,"终身",14,0,55,0,17995.89,0,0,17995.89]
["A14S0Y3L56",3,"终身",14,0,56,0,18617.66,0,0,18617.66]
["A14S0Y3L57",3,"终身",14,0,57,0,19259.89,0,0,19259.89]
["A14S0Y3L58",3,"终身",14,0,58,0,19923.07,0,0,19923.07]
["A14S0Y3L59",3,"终身",14,0,59,0,20607.71,0,0,20607.71]
["A14S0Y3L60",3,"终身",14,0,60,0,21314.29,0,0,21314.29]
["A14S0Y3L61",3,"终身",14,0,61,0,22043.31,0,0,22043.31]
["A14S0Y3L62",3,"终身",14,0,62,0,22795.24,0,0,22795.24]
["A14S0Y3L63",3,"终身",14,0,63,0,23570.53,0,0,23570.53]
["A14S0Y3L64",3,"终身",14,0,64,0,24369.62,0,0,24369.62]
["A14S0Y3L65",3,"终身",14,0,65,0,25192.92,0,0,25192.92]
["A14S0Y3L66",3,"终身",14,0,66,0,26040.78,0,0,26040.78]
["A14S0Y3L67",3,"终身",14,0,67,0,26913.53,0,0,26913.53]
["A14S0Y3L68",3,"终身",14,0,68,0,27811.439999999999,0,0,27811.439999999999]
["A14S0Y3L69",3,"终身",14,0,69,0,28734.75,0,0,28734.75]
["A14S0Y3L70",3,"终身",14,0,70,0,29683.62,0,0,29683.62]
["A14S0Y3L71",3,"终身",14,0,71,0,30658.18,0,0,30658.19]
["A14S0Y3L72",3,"终身",14,0,72,0,31658.48,0,0,31658.48]
["A14S0Y3L73",3,"终身",14,0,73,0,32684.46,0,0,32684.46]
["A14S0Y3L74",3,"终身",14,0,74,0,33735.96,0,0,33735.96]
["A14S0Y3L75",3,"终身",14,0,75,0,34812.69,0,0,34812.69]
["A14S0Y3L76",3,"终身",14,0,76,0,35914.199999999997,0,0,35914.199999999997]
["A14S0Y3L77",3,"终身",14,0,77,0,37039.839999999997,0,0,37039.839999999997]
["A14S0Y3L78",3,"终身",14,0,78,0,38188.82,0,0,38188.82]
["A14S0Y3L79",3,"终身",14,0,79,0,39360.11,0,0,39360.11]
["A14S0Y3L80",3,"终身",14,0,80,0,40552.550000000003,0,0,40552.550000000003]
[{"$f":"\"A\"&D1480&\"S\"&E1480&\"Y\"&B1480&\"L\"&F1480","v":"A14S0Y3L81"},3,"终身",14,0,81,0,41764.82,0,0,41764.82]
["A14S0Y3L82",3,"终身",14,0,82,0,42995.49,0,0,42995.49]
["A14S0Y3L83",3,"终身",14,0,83,0,44243.05,0,0,44243.05]
["A14S0Y3L84",3,"终身",14,0,84,0,45505.95,0,0,45505.95]
["A14S0Y3L85",3,"终身",14,0,85,0,46782.61,0,0,46782.62]
["A14S0Y3L86",3,"终身",14,0,86,0,48071.46,0,0,48071.46]
["A14S0Y3L87",3,"终身",14,0,87,0,49370.89,0,0,49370.89]
["A14S0Y3L88",3,"终身",14,0,88,0,50679.360000000001,0,0,50679.360000000001]
["A14S0Y3L89",3,"终身",14,0,89,0,51995.32,0,0,51995.32]
["A14S0Y3L90",3,"终身",14,0,90,0,53317.27,0,0,53317.27]
["A14S0Y3L91",3,"终身",14,0,91,0,54643.76,0,0,54643.76]
["A14S0Y3L92",3,"终身",14,0,92,0,55591.13,0,0,55591.13]
["A15S0Y3L1",3,"终身",15,0,1,216.73,197.86,0,0.42,859.31]
["A15S0Y3L2",3,"终身",15,0,2,309.62,529.04999999999995,0,1437.14,1924.31]
["A15S0Y3L3",3,"终身",15,0,3,402.5,1021.7,0,1437.14,3026.62]
["A15S0Y3L4",3,"终身",15,0,4,0,1076.05,0,0,3131.69]
["A15S0Y3L5",3,"终身",15,0,5,0,1133.3399999999999,0,0,3240.47]
["A15S0Y3L6",3,"终身",15,0,6,0,3353.07,0,0,3353.07]
["A15S0Y3L7",3,"终身",15,0,7,0,3469.65,0,0,3469.65]
["A15S0Y3L8",3,"终身",15,0,8,0,3590.34,0,0,3590.34]
["A15S0Y3L9",3,"终身",15,0,9,0,3715.3,0,0,3715.3]
["A15S0Y3L10",3,"终身",15,0,10,0,3844.68,0,0,3844.68]
["A15S0Y3L11",3,"终身",15,0,11,0,3978.64,0,0,3978.64]
["A15S0Y3L12",3,"终身",15,0,12,0,4117.3599999999997,0,0,4117.3599999999997]
["A15S0Y3L13",3,"终身",15,0,13,0,4261,0,0,4261]
["A15S0Y3L14",3,"终身",15,0,14,0,4409.76,0,0,4409.76]
["A15S0Y3L15",3,"终身",15,0,15,0,4563.8100000000004,0,0,4563.8100000000004]
["A15S0Y3L16",3,"终身",15,0,16,0,4723.3599999999997,0,0,4723.3599999999997]
["A15S0Y3L17",3,"终身",15,0,17,0,4888.5600000000004,0,0,4888.5600000000004]
["A15S0Y3L18",3,"终身",15,0,18,0,5059.53,0,0,5059.53]
["A15S0Y3L19",3,"终身",15,0,19,0,5236.47,0,0,5236.47]
["A15S0Y3L20",3,"终身",15,0,20,0,5419.59,0,0,5419.59]
["A15S0Y3L21",3,"终身",15,0,21,0,5609.11,0,0,5609.11]
["A15S0Y3L22",3,"终身",15,0,22,0,5805.24,0,0,5805.24]
["A15S0Y3L23",3,"终身",15,0,23,0,6008.23,0,0,6008.23]
["A15S0Y3L24",3,"终身",15,0,24,0,6218.3,0,0,6218.3]
["A15S0Y3L25",3,"终身",15,0,25,0,6435.71,0,0,6435.71]
["A15S0Y3L26",3,"终身",15,0,26,0,6660.7,0,0,6660.7]
["A15S0Y3L27",3,"终身",15,0,27,0,6893.53,0,0,6893.53]
["A15S0Y3L28",3,"终身",15,0,28,0,7134.49,0,0,7134.49]
["A15S0Y3L29",3,"终身",15,0,29,0,7383.84,0,0,7383.84]
["A15S0Y3L30",3,"终身",15,0,30,0,7641.87,0,0,7641.87]
["A15S0Y3L31",3,"终身",15,0,31,0,7908.89,0,0,7908.89]
["A15S0Y3L32",3,"终身",15,0,32,0,8185.2,0,0,8185.2]
["A15S0Y3L33",3,"终身",15,0,33,0,8471.1299999999992,0,0,8471.1299999999992]
["A15S0Y3L34",3,"终身",15,0,34,0,8766.98,0,0,8766.98]
["A15S0Y3L35",3,"终身",15,0,35,0,9073.1200000000008,0,0,9073.1200000000008]
["A15S0Y3L36",3,"终身",15,0,36,0,9389.89,0,0,9389.89]
["A15S0Y3L37",3,"终身",15,0,37,0,9717.65,0,0,9717.65]
["A15S0Y3L38",3,"终身",15,0,38,0,10056.790000000001,0,0,10056.790000000001]
["A15S0Y3L39",3,"终身",15,0,39,0,10407.68,0,0,10407.68]
["A15S0Y3L40",3,"终身",15,0,40,0,10770.74,0,0,10770.74]
["A15S0Y3L41",3,"终身",15,0,41,0,11146.38,0,0,11146.38]
["A15S0Y3L42",3,"终身",15,0,42,0,11535.03,0,0,11535.03]
["A15S0Y3L43",3,"终身",15,0,43,0,11937.14,0,0,11937.14]
["A15S0Y3L44",3,"终身",15,0,44,0,12353.14,0,0,12353.14]
["A15S0Y3L45",3,"终身",15,0,45,0,12783.5,0,0,12783.5]
["A15S0Y3L46",3,"终身",15,0,46,0,13228.68,0,0,13228.68]
["A15S0Y3L47",3,"终身",15,0,47,0,13689.15,0,0,13689.15]
["A15S0Y3L48",3,"终身",15,0,48,0,14165.39,0,0,14165.39]
["A15S0Y3L49",3,"终身",15,0,49,0,14657.88,0,0,14657.88]
["A15S0Y3L50",3,"终身",15,0,50,0,15167.12,0,0,15167.12]
["A15S0Y3L51",3,"终身",15,0,51,0,15693.62,0,0,15693.62]
["A15S0Y3L52",3,"终身",15,0,52,0,16237.87,0,0,16237.87]
[{"$f":"\"A\"&D1544&\"S\"&E1544&\"Y\"&B1544&\"L\"&F1544","v":"A15S0Y3L53"},3,"终身",15,0,53,0,16800.39,0,0,16800.39]
["A15S0Y3L54",3,"终身",15,0,54,0,17381.68,0,0,17381.68]
["A15S0Y3L55",3,"终身",15,0,55,0,17982.240000000002,0,0,17982.240000000002]
["A15S0Y3L56",3,"终身",15,0,56,0,18602.54,0,0,18602.54]
["A15S0Y3L57",3,"终身",15,0,57,0,19243.09,0,0,19243.09]
["A15S0Y3L58",3,"终身",15,0,58,0,19904.36,0,0,19904.36]
["A15S0Y3L59",3,"终身",15,0,59,0,20586.830000000002,0,0,20586.830000000002]
["A15S0Y3L60",3,"终身",15,0,60,0,21290.959999999999,0,0,21290.959999999999]
["A15S0Y3L61",3,"终身",15,0,61,0,22017.23,0,0,22017.23]
["A15S0Y3L62",3,"终身",15,0,62,0,22766.06,0,0,22766.06]
["A15S0Y3L63",3,"终身",15,0,63,0,23537.88,0,0,23537.88]
["A15S0Y3L64",3,"终身",15,0,64,0,24333.08,0,0,24333.08]
["A15S0Y3L65",3,"终身",15,0,65,0,25152,0,0,25152]
["A15S0Y3L66",3,"终身",15,0,66,0,25994.959999999999,0,0,25994.959999999999]
["A15S0Y3L67",3,"终身",15,0,67,0,26862.23,0,0,26862.23]
["A15S0Y3L68",3,"终身",15,0,68,0,27754.02,0,0,27754.02]
["A15S0Y3L69",3,"终身",15,0,69,0,28670.51,0,0,28670.51]
["A15S0Y3L70",3,"终身",15,0,70,0,29611.81,0,0,29611.81]
["A15S0Y3L71",3,"终身",15,0,71,0,30577.96,0,0,30577.96]
["A15S0Y3L72",3,"终身",15,0,72,0,31568.92,0,0,31568.92]
["A15S0Y3L73",3,"终身",15,0,73,0,32584.54,0,0,32584.54]
["A15S0Y3L74",3,"终身",15,0,74,0,33624.519999999997,0,0,33624.519999999997]
["A15S0Y3L75",3,"终身",15,0,75,0,34688.43,0,0,34688.43]
["A15S0Y3L76",3,"终身",15,0,76,0,35775.660000000003,0,0,35775.660000000003]
["A15S0Y3L77",3,"终身",15,0,77,0,36885.42,0,0,36885.42]
["A15S0Y3L78",3,"终身",15,0,78,0,38016.730000000003,0,0,38016.730000000003]
["A15S0Y3L79",3,"终身",15,0,79,0,39168.480000000003,0,0,39168.480000000003]
["A15S0Y3L80",3,"终身",15,0,80,0,40339.370000000003,0,0,40339.370000000003]
["A15S0Y3L81",3,"终身",15,0,81,0,41528.04,0,0,41528.04]
["A15S0Y3L82",3,"终身",15,0,82,0,42733.02,0,0,42733.02]
["A15S0Y3L83",3,"终身",15,0,83,0,43952.82,0,0,43952.82]
["A15S0Y3L84",3,"终身",15,0,84,0,45185.91,0,0,45185.91]
["A15S0Y3L85",3,"终身",15,0,85,0,46430.76,0,0,46430.76]
["A15S0Y3L86",3,"终身",15,0,86,0,47685.84,0,0,47685.84]
["A15S0Y3L87",3,"终身",15,0,87,0,48949.65,0,0,48949.66]
["A15S0Y3L88",3,"终身",15,0,88,0,50220.7,0,0,50220.7]
["A15S0Y3L89",3,"终身",15,0,89,0,51497.53,0,0,51497.53]
["A15S0Y3L90",3,"终身",15,0,90,0,52778.74,0,0,52778.74]
["A15S0Y3L91",3,"终身",15,0,91,0,53693.78,0,0,53693.78]
["A16S0Y3L1",3,"终身",16,0,1,220.85,201.61,0,0.45,859.31]
["A16S0Y3L2",3,"终身",16,0,2,315.5,539.08000000000004,0,1437.14,1924.3]
["A16S0Y3L3",3,"终身",16,0,3,410.15,1040.2,0,1437.14,3025.75]
["A16S0Y3L4",3,"终身",16,0,4,0,1095.5,0,0,3130.76]
["A16S0Y3L5",3,"终身",16,0,5,0,1153.8,0,0,3239.47]
["A16S0Y3L6",3,"终身",16,0,6,0,3352.01,0,0,3352.01]
["A16S0Y3L7",3,"终身",16,0,7,0,3468.52,0,0,3468.52]
["A16S0Y3L8",3,"终身",16,0,8,0,3589.14,0,0,3589.14]
["A16S0Y3L9",3,"终身",16,0,9,0,3714.03,0,0,3714.03]
["A16S0Y3L10",3,"终身",16,0,10,0,3843.35,0,0,3843.35]
["A16S0Y3L11",3,"终身",16,0,11,0,3977.24,0,0,3977.24]
["A16S0Y3L12",3,"终身",16,0,12,0,4115.88,0,0,4115.88]
["A16S0Y3L13",3,"终身",16,0,13,0,4259.45,0,0,4259.45]
["A16S0Y3L14",3,"终身",16,0,14,0,4408.12,0,0,4408.12]
["A16S0Y3L15",3,"终身",16,0,15,0,4562.1000000000004,0,0,4562.1000000000004]
["A16S0Y3L16",3,"终身",16,0,16,0,4721.59,0,0,4721.59]
["A16S0Y3L17",3,"终身",16,0,17,0,4886.72,0,0,4886.72]
["A16S0Y3L18",3,"终身",16,0,18,0,5057.62,0,0,5057.62]
["A16S0Y3L19",3,"终身",16,0,19,0,5234.4799999999996,0,0,5234.4799999999996]
["A16S0Y3L20",3,"终身",16,0,20,0,5417.53,0,0,5417.53]
["A16S0Y3L21",3,"终身",16,0,21,0,5606.97,0,0,5606.97]
["A16S0Y3L22",3,"终身",16,0,22,0,5803.02,0,0,5803.02]
["A16S0Y3L23",3,"终身",16,0,23,0,6005.92,0,0,6005.92]
["A16S0Y3L24",3,"终身",16,0,24,0,6215.9,0,0,6215.9]
["A16S0Y3L25",3,"终身",16,0,25,0,6433.2,0,0,6433.2]
[{"$f":"\"A\"&D1608&\"S\"&E1608&\"Y\"&B1608&\"L\"&F1608","v":"A16S0Y3L26"},3,"终身",16,0,26,0,6658.08,0,0,6658.08]
["A16S0Y3L27",3,"终身",16,0,27,0,6890.81,0,0,6890.81]
["A16S0Y3L28",3,"终身",16,0,28,0,7131.64,0,0,7131.64]
["A16S0Y3L29",3,"终身",16,0,29,0,7380.87,0,0,7380.87]
["A16S0Y3L30",3,"终身",16,0,30,0,7638.77,0,0,7638.77]
["A16S0Y3L31",3,"终身",16,0,31,0,7905.64,0,0,7905.64]
["A16S0Y3L32",3,"终身",16,0,32,0,8181.8,0,0,8181.8]
["A16S0Y3L33",3,"终身",16,0,33,0,8467.5499999999993,0,0,8467.5499999999993]
["A16S0Y3L34",3,"终身",16,0,34,0,8763.23,0,0,8763.23]
["A16S0Y3L35",3,"终身",16,0,35,0,9069.18,0,0,9069.18]
["A16S0Y3L36",3,"终身",16,0,36,0,9385.75,0,0,9385.75]
["A16S0Y3L37",3,"终身",16,0,37,0,9713.2999999999993,0,0,9713.2999999999993]
["A16S0Y3L38",3,"终身",16,0,38,0,10052.209999999999,0,0,10052.209999999999]
["A16S0Y3L39",3,"终身",16,0,39,0,10402.870000000001,0,0,10402.870000000001]
["A16S0Y3L40",3,"终身",16,0,40,0,10765.68,0,0,10765.68]
["A16S0Y3L41",3,"终身",16,0,41,0,11141.05,0,0,11141.05]
["A16S0Y3L42",3,"终身",16,0,42,0,11529.42,0,0,11529.42]
["A16S0Y3L43",3,"终身",16,0,43,0,11931.22,0,0,11931.22]
["A16S0Y3L44",3,"终身",16,0,44,0,12346.88,0,0,12346.88]
["A16S0Y3L45",3,"终身",16,0,45,0,12776.86,0,0,12776.86]
["A16S0Y3L46",3,"终身",16,0,46,0,13221.6,0,0,13221.6]
["A16S0Y3L47",3,"终身",16,0,47,0,13681.57,0,0,13681.57]
["A16S0Y3L48",3,"终身",16,0,48,0,14157.24,0,0,14157.24]
["A16S0Y3L49",3,"终身",16,0,49,0,14649.09,0,0,14649.09]
["A16S0Y3L50",3,"终身",16,0,50,0,15157.6,0,0,15157.6]
["A16S0Y3L51",3,"终身",16,0,51,0,15683.27,0,0,15683.27]
["A16S0Y3L52",3,"终身",16,0,52,0,16226.58,0,0,16226.58]
["A16S0Y3L53",3,"终身",16,0,53,0,16788.009999999998,0,0,16788.009999999998]
["A16S0Y3L54",3,"终身",16,0,54,0,17368.060000000001,0,0,17368.060000000001]
["A16S0Y3L55",3,"终身",16,0,55,0,17967.18,0,0,17967.18]
["A16S0Y3L56",3,"终身",16,0,56,0,18585.849999999999,0,0,18585.849999999999]
["A16S0Y3L57",3,"终身",16,0,57,0,19224.53,0,0,19224.53]
["A16S0Y3L58",3,"终身",16,0,58,0,19883.689999999999,0,0,19883.689999999999]
["A16S0Y3L59",3,"终身",16,0,59,0,20563.77,0,0,20563.77]
["A16S0Y3L60",3,"终身",16,0,60,0,21265.23,0,0,21265.23]
["A16S0Y3L61",3,"终身",16,0,61,0,21988.49,0,0,21988.49]
["A16S0Y3L62",3,"终身",16,0,62,0,22733.95,0,0,22733.95]
["A16S0Y3L63",3,"终身",16,0,63,0,23501.98,0,0,23501.98]
["A16S0Y3L64",3,"终身",16,0,64,0,24292.94,0,0,24292.94]
["A16S0Y3L65",3,"终身",16,0,65,0,25107.11,0,0,25107.11]
["A16S0Y3L66",3,"终身",16,0,66,0,25944.75,0,0,25944.75]
["A16S0Y3L67",3,"终身",16,0,67,0,26806.09,0,0,26806.09]
["A16S0Y3L68",3,"终身",16,0,68,0,27691.27,0,0,27691.27]
["A16S0Y3L69",3,"终身",16,0,69,0,28600.42,0,0,28600.42]
["A16S0Y3L70",3,"终身",16,0,70,0,29533.58,0,0,29533.58]
["A16S0Y3L71",3,"终身",16,0,71,0,30490.69,0,0,30490.69]
["A16S0Y3L72",3,"终身",16,0,72,0,31471.62,0,0,31471.62]
["A16S0Y3L73",3,"终身",16,0,73,0,32476.080000000002,0,0,32476.080000000002]
["A16S0Y3L74",3,"终身",16,0,74,0,33503.65,0,0,33503.65]
["A16S0Y3L75",3,"终身",16,0,75,0,34553.75,0,0,34553.75]
["A16S0Y3L76",3,"终身",16,0,76,0,35625.599999999999,0,0,35625.599999999999]
["A16S0Y3L77",3,"终身",16,0,77,0,36718.28,0,0,36718.28]
["A16S0Y3L78",3,"终身",16,0,78,0,37830.68,0,0,37830.68]
["A16S0Y3L79",3,"终身",16,0,79,0,38961.589999999997,0,0,38961.589999999997]
["A16S0Y3L80",3,"终身",16,0,80,0,40109.65,0,0,40109.65]
["A16S0Y3L81",3,"终身",16,0,81,0,41273.480000000003,0,0,41273.480000000003]
["A16S0Y3L82",3,"终身",16,0,82,0,42451.61,0,0,42451.61]
["A16S0Y3L83",3,"终身",16,0,83,0,43642.59,0,0,43642.59]
["A16S0Y3L84",3,"终身",16,0,84,0,44844.92,0,0,44844.92]
["A16S0Y3L85",3,"终身",16,0,85,0,46057.14,0,0,46057.14]
["A16S0Y3L86",3,"终身",16,0,86,0,47277.79,0,0,47277.79]
["A16S0Y3L87",3,"终身",16,0,87,0,48505.42,0,0,48505.42]
["A16S0Y3L88",3,"终身",16,0,88,0,49738.64,0,0,49738.64]
["A16S0Y3L89",3,"终身",16,0,89,0,50976.09,0,0,50976.09]
[{"$f":"\"A\"&D1672&\"S\"&E1672&\"Y\"&B1672&\"L\"&F1672","v":"A16S0Y3L90"},3,"终身",16,0,90,0,51859.88,0,0,51859.88]
["A17S0Y3L1",3,"终身",17,0,1,225.01,205.4,0,0.47,859.3]
["A17S0Y3L2",3,"终身",17,0,2,321.44,548.66,0,1437.14,1923.72]
["A17S0Y3L3",3,"终身",17,0,3,417.87,1059.1099999999999,0,1437.14,3025.11]
["A17S0Y3L4",3,"终身",17,0,4,0,1115.3900000000001,0,0,3130.07]
["A17S0Y3L5",3,"终身",17,0,5,0,1174.72,0,0,3238.72]
["A17S0Y3L6",3,"终身",17,0,6,0,3351.2,0,0,3351.2]
["A17S0Y3L7",3,"终身",17,0,7,0,3467.66,0,0,3467.66]
["A17S0Y3L8",3,"终身",17,0,8,0,3588.22,0,0,3588.22]
["A17S0Y3L9",3,"终身",17,0,9,0,3713.05,0,0,3713.05]
["A17S0Y3L10",3,"终身",17,0,10,0,3842.29,0,0,3842.3]
["A17S0Y3L11",3,"终身",17,0,11,0,3976.12,0,0,3976.12]
["A17S0Y3L12",3,"终身",17,0,12,0,4114.7,0,0,4114.7]
["A17S0Y3L13",3,"终身",17,0,13,0,4258.2,0,0,4258.2]
["A17S0Y3L14",3,"终身",17,0,14,0,4406.8100000000004,0,0,4406.8100000000004]
["A17S0Y3L15",3,"终身",17,0,15,0,4560.72,0,0,4560.72]
["A17S0Y3L16",3,"终身",17,0,16,0,4720.1499999999996,0,0,4720.1499999999996]
["A17S0Y3L17",3,"终身",17,0,17,0,4885.22,0,0,4885.22]
["A17S0Y3L18",3,"终身",17,0,18,0,5056.0600000000004,0,0,5056.0600000000004]
["A17S0Y3L19",3,"终身",17,0,19,0,5232.87,0,0,5232.87]
["A17S0Y3L20",3,"终身",17,0,20,0,5415.85,0,0,5415.85]
["A17S0Y3L21",3,"终身",17,0,21,0,5605.22,0,0,5605.22]
["A17S0Y3L22",3,"终身",17,0,22,0,5801.2,0,0,5801.2]
["A17S0Y3L23",3,"终身",17,0,23,0,6004.02,0,0,6004.02]
["A17S0Y3L24",3,"终身",17,0,24,0,6213.92,0,0,6213.92]
["A17S0Y3L25",3,"终身",17,0,25,0,6431.14,0,0,6431.14]
["A17S0Y3L26",3,"终身",17,0,26,0,6655.93,0,0,6655.93]
["A17S0Y3L27",3,"终身",17,0,27,0,6888.56,0,0,6888.56]
["A17S0Y3L28",3,"终身",17,0,28,0,7129.28,0,0,7129.28]
["A17S0Y3L29",3,"终身",17,0,29,0,7378.39,0,0,7378.39]
["A17S0Y3L30",3,"终身",17,0,30,0,7636.17,0,0,7636.17]
["A17S0Y3L31",3,"终身",17,0,31,0,7902.91,0,0,7902.91]
["A17S0Y3L32",3,"终身",17,0,32,0,8178.93,0,0,8178.93]
["A17S0Y3L33",3,"终身",17,0,33,0,8464.5300000000007,0,0,8464.5300000000007]
["A17S0Y3L34",3,"终身",17,0,34,0,8760.0499999999993,0,0,8760.0499999999993]
["A17S0Y3L35",3,"终身",17,0,35,0,9065.83,0,0,9065.83]
["A17S0Y3L36",3,"终身",17,0,36,0,9382.2099999999991,0,0,9382.2199999999993]
["A17S0Y3L37",3,"终身",17,0,37,0,9709.57,0,0,9709.57]
["A17S0Y3L38",3,"终身",17,0,38,0,10048.280000000001,0,0,10048.280000000001]
["A17S0Y3L39",3,"终身",17,0,39,0,10398.719999999999,0,0,10398.719999999999]
["A17S0Y3L40",3,"终身",17,0,40,0,10761.3,0,0,10761.31]
["A17S0Y3L41",3,"终身",17,0,41,0,11136.44,0,0,11136.44]
["A17S0Y3L42",3,"终身",17,0,42,0,11524.54,0,0,11524.54]
["A17S0Y3L43",3,"终身",17,0,43,0,11926.03,0,0,11926.03]
["A17S0Y3L44",3,"终身",17,0,44,0,12341.35,0,0,12341.35]
["A17S0Y3L45",3,"终身",17,0,45,0,12770.93,0,0,12770.93]
["A17S0Y3L46",3,"终身",17,0,46,0,13215.23,0,0,13215.23]
["A17S0Y3L47",3,"终身",17,0,47,0,13674.68,0,0,13674.68]
["A17S0Y3L48",3,"终身",17,0,48,0,14149.77,0,0,14149.77]
["A17S0Y3L49",3,"终身",17,0,49,0,14640.95,0,0,14640.95]
["A17S0Y3L50",3,"终身",17,0,50,0,15148.7,0,0,15148.7]
["A17S0Y3L51",3,"终身",17,0,51,0,15673.49,0,0,15673.49]
["A17S0Y3L52",3,"终身",17,0,52,0,16215.78,0,0,16215.78]
["A17S0Y3L53",3,"终身",17,0,53,0,16776.05,0,0,16776.060000000001]
["A17S0Y3L54",3,"终身",17,0,54,0,17354.75,0,0,17354.759999999998]
["A17S0Y3L55",3,"终身",17,0,55,0,17952.34,0,0,17952.34]
["A17S0Y3L56",3,"终身",17,0,56,0,18569.25,0,0,18569.25]
["A17S0Y3L57",3,"终身",17,0,57,0,19205.939999999999,0,0,19205.939999999999]
["A17S0Y3L58",3,"终身",17,0,58,0,19862.84,0,0,19862.849999999999]
["A17S0Y3L59",3,"终身",17,0,59,0,20540.39,0,0,20540.39]
["A17S0Y3L60",3,"终身",17,0,60,0,21239,0,0,21239]
["A17S0Y3L61",3,"终身",17,0,61,0,21959.05,0,0,21959.05]
["A17S0Y3L62",3,"终身",17,0,62,0,22700.9,0,0,22700.9]
["A17S0Y3L63",3,"终身",17,0,63,0,23464.9,0,0,23464.9]
[{"$f":"\"A\"&D1736&\"S\"&E1736&\"Y\"&B1736&\"L\"&F1736","v":"A17S0Y3L64"},3,"终身",17,0,64,0,24251.31,0,0,24251.32]
["A17S0Y3L65",3,"终身",17,0,65,0,25060.41,0,0,25060.41]
["A17S0Y3L66",3,"终身",17,0,66,0,25892.38,0,0,25892.38]
["A17S0Y3L67",3,"终身",17,0,67,0,26747.4,0,0,26747.4]
["A17S0Y3L68",3,"终身",17,0,68,0,27625.56,0,0,27625.56]
["A17S0Y3L69",3,"终身",17,0,69,0,28526.91,0,0,28526.91]
["A17S0Y3L70",3,"终身",17,0,70,0,29451.4,0,0,29451.4]
["A17S0Y3L71",3,"终身",17,0,71,0,30398.89,0,0,30398.89]
["A17S0Y3L72",3,"终身",17,0,72,0,31369.11,0,0,31369.11]
["A17S0Y3L73",3,"终身",17,0,73,0,32361.66,0,0,32361.66]
["A17S0Y3L74",3,"终身",17,0,74,0,33375.96,0,0,33375.96]
["A17S0Y3L75",3,"终身",17,0,75,0,34411.279999999999,0,0,34411.279999999999]
["A17S0Y3L76",3,"终身",17,0,76,0,35466.71,0,0,35466.720000000001]
["A17S0Y3L77",3,"终身",17,0,77,0,36541.199999999997,0,0,36541.21]
["A17S0Y3L78",3,"终身",17,0,78,0,37633.550000000003,0,0,37633.57]
["A17S0Y3L79",3,"终身",17,0,79,0,38742.49,0,0,38742.51]
["A17S0Y3L80",3,"终身",17,0,80,0,39866.65,0,0,39866.67]
["A17S0Y3L81",3,"终身",17,0,81,0,41004.620000000003,0,0,41004.67]
["A17S0Y3L82",3,"终身",17,0,82,0,42155,0,0,42155.08]
["A17S0Y3L83",3,"终身",17,0,83,0,43316.35,0,0,43316.49]
["A17S0Y3L84",3,"终身",17,0,84,0,44487.25,0,0,44487.51]
["A17S0Y3L85",3,"终身",17,0,85,0,45666.29,0,0,45666.8]
["A17S0Y3L86",3,"终身",17,0,86,0,46852.08,0,0,46853.14]
["A17S0Y3L87",3,"终身",17,0,87,0,48043.26,0,0,48045.65]
["A17S0Y3L88",3,"终身",17,0,88,0,49238.54,0,0,49244.26]
["A17S0Y3L89",3,"终身",17,0,89,0,50092.2,0,0,50092.2]
["A18S0Y3L1",3,"终身",18,0,1,229.2,208.97,0,0.77,859.01]
["A18S0Y3L2",3,"终身",18,0,2,327.42,558.55999999999995,0,1437,1923.4]
["A18S0Y3L3",3,"终身",18,0,3,425.65,1078.45,0,1437,3024.74]
["A18S0Y3L4",3,"终身",18,0,4,0,1135.73,0,0,3129.65]
["A18S0Y3L5",3,"终身",18,0,5,0,1196.1199999999999,0,0,3238.25]
["A18S0Y3L6",3,"终身",18,0,6,0,3350.69,0,0,3350.69]
["A18S0Y3L7",3,"终身",18,0,7,0,3467.09,0,0,3467.09]
["A18S0Y3L8",3,"终身",18,0,8,0,3587.6,0,0,3587.6]
["A18S0Y3L9",3,"终身",18,0,9,0,3712.37,0,0,3712.37]
["A18S0Y3L10",3,"终身",18,0,10,0,3841.56,0,0,3841.56]
["A18S0Y3L11",3,"终身",18,0,11,0,3975.33,0,0,3975.33]
["A18S0Y3L12",3,"终身",18,0,12,0,4113.8500000000004,0,0,4113.8500000000004]
["A18S0Y3L13",3,"终身",18,0,13,0,4257.29,0,0,4257.29]
["A18S0Y3L14",3,"终身",18,0,14,0,4405.84,0,0,4405.84]
["A18S0Y3L15",3,"终身",18,0,15,0,4559.71,0,0,4559.71]
["A18S0Y3L16",3,"终身",18,0,16,0,4719.09,0,0,4719.09]
["A18S0Y3L17",3,"终身",18,0,17,0,4884.12,0,0,4884.12]
["A18S0Y3L18",3,"终身",18,0,18,0,5054.91,0,0,5054.91]
["A18S0Y3L19",3,"终身",18,0,19,0,5231.67,0,0,5231.67]
["A18S0Y3L20",3,"终身",18,0,20,0,5414.6,0,0,5414.6]
["A18S0Y3L21",3,"终身",18,0,21,0,5603.92,0,0,5603.92]
["A18S0Y3L22",3,"终身",18,0,22,0,5799.84,0,0,5799.84]
["A18S0Y3L23",3,"终身",18,0,23,0,6002.6,0,0,6002.6]
["A18S0Y3L24",3,"终身",18,0,24,0,6212.43,0,0,6212.43]
["A18S0Y3L25",3,"终身",18,0,25,0,6429.58,0,0,6429.58]
["A18S0Y3L26",3,"终身",18,0,26,0,6654.29,0,0,6654.29]
["A18S0Y3L27",3,"终身",18,0,27,0,6886.83,0,0,6886.83]
["A18S0Y3L28",3,"终身",18,0,28,0,7127.47,0,0,7127.47]
["A18S0Y3L29",3,"终身",18,0,29,0,7376.48,0,0,7376.48]
["A18S0Y3L30",3,"终身",18,0,30,0,7634.15,0,0,7634.15]
["A18S0Y3L31",3,"终身",18,0,31,0,7900.78,0,0,7900.78]
["A18S0Y3L32",3,"终身",18,0,32,0,8176.67,0,0,8176.67]
["A18S0Y3L33",3,"终身",18,0,33,0,8462.14,0,0,8462.14]
["A18S0Y3L34",3,"终身",18,0,34,0,8757.52,0,0,8757.52]
["A18S0Y3L35",3,"终身",18,0,35,0,9063.15,0,0,9063.15]
["A18S0Y3L36",3,"终身",18,0,36,0,9379.3700000000008,0,0,9379.3700000000008]
["A18S0Y3L37",3,"终身",18,0,37,0,9706.56,0,0,9706.56]
["A18S0Y3L38",3,"终身",18,0,38,0,10045.08,0,0,10045.08]
[{"$f":"\"A\"&D1800&\"S\"&E1800&\"Y\"&B1800&\"L\"&F1800","v":"A18S0Y3L39"},3,"终身",18,0,39,0,10395.34,0,0,10395.34]
["A18S0Y3L40",3,"终身",18,0,40,0,10757.71,0,0,10757.71]
["A18S0Y3L41",3,"终身",18,0,41,0,11132.61,0,0,11132.61]
["A18S0Y3L42",3,"终身",18,0,42,0,11520.45,0,0,11520.45]
["A18S0Y3L43",3,"终身",18,0,43,0,11921.65,0,0,11921.65]
["A18S0Y3L44",3,"终身",18,0,44,0,12336.62,0,0,12336.62]
["A18S0Y3L45",3,"终身",18,0,45,0,12765.8,0,0,12765.8]
["A18S0Y3L46",3,"终身",18,0,46,0,13209.63,0,0,13209.63]
["A18S0Y3L47",3,"终身",18,0,47,0,13668.56,0,0,13668.56]
["A18S0Y3L48",3,"终身",18,0,48,0,14143.04,0,0,14143.04]
["A18S0Y3L49",3,"终身",18,0,49,0,14633.52,0,0,14633.52]
["A18S0Y3L50",3,"终身",18,0,50,0,15140.46,0,0,15140.46]
["A18S0Y3L51",3,"终身",18,0,51,0,15664.32,0,0,15664.32]
["A18S0Y3L52",3,"终身",18,0,52,0,16205.54,0,0,16205.54]
["A18S0Y3L53",3,"终身",18,0,53,0,16764.560000000001,0,0,16764.560000000001]
["A18S0Y3L54",3,"终身",18,0,54,0,17341.810000000001,0,0,17341.810000000001]
["A18S0Y3L55",3,"终身",18,0,55,0,17937.75,0,0,17937.75]
["A18S0Y3L56",3,"终身",18,0,56,0,18552.79,0,0,18552.79]
["A18S0Y3L57",3,"终身",18,0,57,0,19187.349999999999,0,0,19187.349999999999]
["A18S0Y3L58",3,"终身",18,0,58,0,19841.86,0,0,19841.86]
["A18S0Y3L59",3,"终身",18,0,59,0,20516.7,0,0,20516.7]
["A18S0Y3L60",3,"终身",18,0,60,0,21212.26,0,0,21212.26]
["A18S0Y3L61",3,"终身",18,0,61,0,21928.89,0,0,21928.89]
["A18S0Y3L62",3,"终身",18,0,62,0,22666.9,0,0,22666.9]
["A18S0Y3L63",3,"终身",18,0,63,0,23426.58,0,0,23426.58]
["A18S0Y3L64",3,"终身",18,0,64,0,24208.16,0,0,24208.16]
["A18S0Y3L65",3,"终身",18,0,65,0,25011.84,0,0,25011.84]
["A18S0Y3L66",3,"终身",18,0,66,0,25837.77,0,0,25837.77]
["A18S0Y3L67",3,"终身",18,0,67,0,26686.07,0,0,26686.07]
["A18S0Y3L68",3,"终身",18,0,68,0,27556.77,0,0,27556.77]
["A18S0Y3L69",3,"终身",18,0,69,0,28449.82,0,0,28449.82]
["A18S0Y3L70",3,"终身",18,0,70,0,29365.08,0,0,29365.08]
["A18S0Y3L71",3,"终身",18,0,71,0,30302.31,0,0,30302.31]
["A18S0Y3L72",3,"终身",18,0,72,0,31261.11,0,0,31261.11]
["A18S0Y3L73",3,"终身",18,0,73,0,32240.91,0,0,32240.91]
["A18S0Y3L74",3,"终身",18,0,74,0,33241.019999999997,0,0,33241.019999999997]
["A18S0Y3L75",3,"终身",18,0,75,0,34260.559999999998,0,0,34260.559999999998]
["A18S0Y3L76",3,"终身",18,0,76,0,35298.51,0,0,35298.51]
["A18S0Y3L77",3,"终身",18,0,77,0,36353.72,0,0,36353.72]
["A18S0Y3L78",3,"终身",18,0,78,0,37424.94,0,0,37424.94]
["A18S0Y3L79",3,"终身",18,0,79,0,38510.86,0,0,38510.870000000003]
["A18S0Y3L80",3,"终身",18,0,80,0,39610.14,0,0,39610.14]
["A18S0Y3L81",3,"终身",18,0,81,0,40721.4,0,0,40721.4]
["A18S0Y3L82",3,"终身",18,0,82,0,41843.26,0,0,41843.26]
["A18S0Y3L83",3,"终身",18,0,83,0,42974.34,0,0,42974.34]
["A18S0Y3L84",3,"终身",18,0,84,0,44113.279999999999,0,0,44113.279999999999]
["A18S0Y3L85",3,"终身",18,0,85,0,45258.74,0,0,45258.74]
["A18S0Y3L86",3,"终身",18,0,86,0,46409.41,0,0,46409.41]
["A18S0Y3L87",3,"终身",18,0,87,0,47564.04,0,0,47564.04]
["A18S0Y3L88",3,"终身",18,0,88,0,48388.67,0,0,48388.67]
["A19S0Y3L1",3,"终身",19,0,1,233.42,212.8,0,0.8,859]
["A19S0Y3L2",3,"终身",19,0,2,333.45,568.82000000000005,0,1437,1923.36]
["A19S0Y3L3",3,"终身",19,0,3,433.49,1098.25,0,1437,3024.66]
["A19S0Y3L4",3,"终身",19,0,4,0,1156.55,0,0,3129.53]
["A19S0Y3L5",3,"终身",19,0,5,0,1218.02,0,0,3238.1]
["A19S0Y3L6",3,"终身",19,0,6,0,3350.49,0,0,3350.49]
["A19S0Y3L7",3,"终身",19,0,7,0,3466.85,0,0,3466.85]
["A19S0Y3L8",3,"终身",19,0,8,0,3587.32,0,0,3587.32]
["A19S0Y3L9",3,"终身",19,0,9,0,3712.05,0,0,3712.05]
["A19S0Y3L10",3,"终身",19,0,10,0,3841.19,0,0,3841.19]
["A19S0Y3L11",3,"终身",19,0,11,0,3974.9,0,0,3974.9]
["A19S0Y3L12",3,"终身",19,0,12,0,4113.37,0,0,4113.37]
["A19S0Y3L13",3,"终身",19,0,13,0,4256.76,0,0,4256.76]
["A19S0Y3L14",3,"终身",19,0,14,0,4405.2700000000004,0,0,4405.2700000000004]
[{"$f":"\"A\"&D1864&\"S\"&E1864&\"Y\"&B1864&\"L\"&F1864","v":"A19S0Y3L15"},3,"终身",19,0,15,0,4559.09,0,0,4559.09]
["A19S0Y3L16",3,"终身",19,0,16,0,4718.4399999999996,0,0,4718.4399999999996]
["A19S0Y3L17",3,"终身",19,0,17,0,4883.4399999999996,0,0,4883.4399999999996]
["A19S0Y3L18",3,"终身",19,0,18,0,5054.2,0,0,5054.2]
["A19S0Y3L19",3,"终身",19,0,19,0,5230.93,0,0,5230.93]
["A19S0Y3L20",3,"终身",19,0,20,0,5413.82,0,0,5413.82]
["A19S0Y3L21",3,"终身",19,0,21,0,5603.1,0,0,5603.1]
["A19S0Y3L22",3,"终身",19,0,22,0,5798.98,0,0,5798.98]
["A19S0Y3L23",3,"终身",19,0,23,0,6001.7,0,0,6001.7]
["A19S0Y3L24",3,"终身",19,0,24,0,6211.48,0,0,6211.48]
["A19S0Y3L25",3,"终身",19,0,25,0,6428.57,0,0,6428.57]
["A19S0Y3L26",3,"终身",19,0,26,0,6653.22,0,0,6653.22]
["A19S0Y3L27",3,"终身",19,0,27,0,6885.7,0,0,6885.7]
["A19S0Y3L28",3,"终身",19,0,28,0,7126.26,0,0,7126.26]
["A19S0Y3L29",3,"终身",19,0,29,0,7375.19,0,0,7375.19]
["A19S0Y3L30",3,"终身",19,0,30,0,7632.77,0,0,7632.77]
["A19S0Y3L31",3,"终身",19,0,31,0,7899.31,0,0,7899.31]
["A19S0Y3L32",3,"终身",19,0,32,0,8175.09,0,0,8175.09]
["A19S0Y3L33",3,"终身",19,0,33,0,8460.4500000000007,0,0,8460.4500000000007]
["A19S0Y3L34",3,"终身",19,0,34,0,8755.7099999999991,0,0,8755.7099999999991]
["A19S0Y3L35",3,"终身",19,0,35,0,9061.2099999999991,0,0,9061.2099999999991]
["A19S0Y3L36",3,"终身",19,0,36,0,9377.2999999999993,0,0,9377.2999999999993]
["A19S0Y3L37",3,"终身",19,0,37,0,9704.34,0,0,9704.34]
["A19S0Y3L38",3,"终身",19,0,38,0,10042.709999999999,0,0,10042.709999999999]
["A19S0Y3L39",3,"终身",19,0,39,0,10392.790000000001,0,0,10392.790000000001]
["A19S0Y3L40",3,"终身",19,0,40,0,10754.98,0,0,10754.98]
["A19S0Y3L41",3,"终身",19,0,41,0,11129.66,0,0,11129.66]
["A19S0Y3L42",3,"终身",19,0,42,0,11517.25,0,0,11517.25]
["A19S0Y3L43",3,"终身",19,0,43,0,11918.15,0,0,11918.15]
["A19S0Y3L44",3,"终身",19,0,44,0,12332.77,0,0,12332.77]
["A19S0Y3L45",3,"终身",19,0,45,0,12761.55,0,0,12761.55]
["A19S0Y3L46",3,"终身",19,0,46,0,13204.91,0,0,13204.91]
["A19S0Y3L47",3,"终身",19,0,47,0,13663.29,0,0,13663.29]
["A19S0Y3L48",3,"终身",19,0,48,0,14137.13,0,0,14137.13]
["A19S0Y3L49",3,"终身",19,0,49,0,14626.88,0,0,14626.88]
["A19S0Y3L50",3,"终身",19,0,50,0,15132.96,0,0,15132.96]
["A19S0Y3L51",3,"终身",19,0,51,0,15655.82,0,0,15655.82]
["A19S0Y3L52",3,"终身",19,0,52,0,16195.88,0,0,16195.88]
["A19S0Y3L53",3,"终身",19,0,53,0,16753.560000000001,0,0,16753.560000000001]
["A19S0Y3L54",3,"终身",19,0,54,0,17329.28,0,0,17329.28]
["A19S0Y3L55",3,"终身",19,0,55,0,17923.45,0,0,17923.45]
["A19S0Y3L56",3,"终身",19,0,56,0,18536.490000000002,0,0,18536.490000000002]
["A19S0Y3L57",3,"终身",19,0,57,0,19168.79,0,0,19168.79]
["A19S0Y3L58",3,"终身",19,0,58,0,19820.75,0,0,19820.75]
["A19S0Y3L59",3,"终身",19,0,59,0,20492.71,0,0,20492.71]
["A19S0Y3L60",3,"终身",19,0,60,0,21185.03,0,0,21185.03]
["A19S0Y3L61",3,"终身",19,0,61,0,21898.01,0,0,21898.01]
["A19S0Y3L62",3,"终身",19,0,62,0,22631.919999999998,0,0,22631.919999999998]
["A19S0Y3L63",3,"终身",19,0,63,0,23386.98,0,0,23386.98]
["A19S0Y3L64",3,"终身",19,0,64,0,24163.4,0,0,24163.4]
["A19S0Y3L65",3,"终身",19,0,65,0,24961.32,0,0,24961.32]
["A19S0Y3L66",3,"终身",19,0,66,0,25780.84,0,0,25780.84]
["A19S0Y3L67",3,"终身",19,0,67,0,26622,0,0,26622]
["A19S0Y3L68",3,"终身",19,0,68,0,27484.76,0,0,27484.76]
["A19S0Y3L69",3,"终身",19,0,69,0,28368.98,0,0,28368.98]
["A19S0Y3L70",3,"终身",19,0,70,0,29274.42,0,0,29274.42]
["A19S0Y3L71",3,"终身",19,0,71,0,30200.69,0,0,30200.69]
["A19S0Y3L72",3,"终身",19,0,72,0,31147.26,0,0,31147.26]
["A19S0Y3L73",3,"终身",19,0,73,0,32113.439999999999,0,0,32113.439999999999]
["A19S0Y3L74",3,"终身",19,0,74,0,33098.400000000001,0,0,33098.400000000001]
["A19S0Y3L75",3,"终身",19,0,75,0,34101.129999999997,0,0,34101.129999999997]
["A19S0Y3L76",3,"终身",19,0,76,0,35120.550000000003,0,0,35120.550000000003]
["A19S0Y3L77",3,"终身",19,0,77,0,36155.43,0,0,36155.43]
["A19S0Y3L78",3,"终身",19,0,78,0,37204.519999999997,0,0,37204.519999999997]
[{"$f":"\"A\"&D1928&\"S\"&E1928&\"Y\"&B1928&\"L\"&F1928","v":"A19S0Y3L79"},3,"终身",19,0,79,0,38266.51,0,0,38266.51]
["A19S0Y3L80",3,"终身",19,0,80,0,39340.07,0,0,39340.080000000002]
["A19S0Y3L81",3,"终身",19,0,81,0,40423.870000000003,0,0,40423.89]
["A19S0Y3L82",3,"终身",19,0,82,0,41516.589999999997,0,0,41516.61]
["A19S0Y3L83",3,"终身",19,0,83,0,42616.89,0,0,42616.94]
["A19S0Y3L84",3,"终身",19,0,84,0,43723.5,0,0,43723.59]
["A19S0Y3L85",3,"终身",19,0,85,0,44835.14,0,0,44835.35]
["A19S0Y3L86",3,"终身",19,0,86,0,45950.6,0,0,45951.1]
["A19S0Y3L87",3,"终身",19,0,87,0,46747.26,0,0,46747.26]
["A20S0Y3L1",3,"终身",20,0,1,237.71,216.71,0,0.83,858.99]
["A20S0Y3L2",3,"终身",20,0,2,339.59,579.26,0,1436.99,1923.32]
["A20S0Y3L3",3,"终身",20,0,3,441.47,1118.4100000000001,0,1436.99,3024.58]
["A20S0Y3L4",3,"终身",20,0,4,0,1177.75,0,0,3129.42]
["A20S0Y3L5",3,"终身",20,0,5,0,1240.31,0,0,3237.94]
["A20S0Y3L6",3,"终身",20,0,6,0,3350.29,0,0,3350.29]
["A20S0Y3L7",3,"终身",20,0,7,0,3466.6,0,0,3466.6]
["A20S0Y3L8",3,"终身",20,0,8,0,3587.02,0,0,3587.02]
["A20S0Y3L9",3,"终身",20,0,9,0,3711.69,0,0,3711.69]
["A20S0Y3L10",3,"终身",20,0,10,0,3840.78,0,0,3840.78]
["A20S0Y3L11",3,"终身",20,0,11,0,3974.44,0,0,3974.44]
["A20S0Y3L12",3,"终身",20,0,12,0,4112.8500000000004,0,0,4112.8500000000004]
["A20S0Y3L13",3,"终身",20,0,13,0,4256.1899999999996,0,0,4256.1899999999996]
["A20S0Y3L14",3,"终身",20,0,14,0,4404.6499999999996,0,0,4404.6499999999996]
["A20S0Y3L15",3,"终身",20,0,15,0,4558.42,0,0,4558.42]
["A20S0Y3L16",3,"终身",20,0,16,0,4717.74,0,0,4717.74]
["A20S0Y3L17",3,"终身",20,0,17,0,4882.7,0,0,4882.7]
["A20S0Y3L18",3,"终身",20,0,18,0,5053.43,0,0,5053.43]
["A20S0Y3L19",3,"终身",20,0,19,0,5230.12,0,0,5230.12]
["A20S0Y3L20",3,"终身",20,0,20,0,5412.98,0,0,5412.98]
["A20S0Y3L21",3,"终身",20,0,21,0,5602.21,0,0,5602.21]
["A20S0Y3L22",3,"终身",20,0,22,0,5798.04,0,0,5798.05]
["A20S0Y3L23",3,"终身",20,0,23,0,6000.71,0,0,6000.71]
["A20S0Y3L24",3,"终身",20,0,24,0,6210.43,0,0,6210.43]
["A20S0Y3L25",3,"终身",20,0,25,0,6427.46,0,0,6427.46]
["A20S0Y3L26",3,"终身",20,0,26,0,6652.05,0,0,6652.05]
["A20S0Y3L27",3,"终身",20,0,27,0,6884.45,0,0,6884.45]
["A20S0Y3L28",3,"终身",20,0,28,0,7124.93,0,0,7124.94]
["A20S0Y3L29",3,"终身",20,0,29,0,7373.78,0,0,7373.78]
["A20S0Y3L30",3,"终身",20,0,30,0,7631.27,0,0,7631.27]
["A20S0Y3L31",3,"终身",20,0,31,0,7897.69,0,0,7897.69]
["A20S0Y3L32",3,"终身",20,0,32,0,8173.37,0,0,8173.37]
["A20S0Y3L33",3,"终身",20,0,33,0,8458.61,0,0,8458.61]
["A20S0Y3L34",3,"终身",20,0,34,0,8753.74,0,0,8753.74]
["A20S0Y3L35",3,"终身",20,0,35,0,9059.11,0,0,9059.11]
["A20S0Y3L36",3,"终身",20,0,36,0,9375.0499999999993,0,0,9375.0499999999993]
["A20S0Y3L37",3,"终身",20,0,37,0,9701.94,0,0,9701.94]
["A20S0Y3L38",3,"终身",20,0,38,0,10040.14,0,0,10040.14]
["A20S0Y3L39",3,"终身",20,0,39,0,10390.040000000001,0,0,10390.040000000001]
["A20S0Y3L40",3,"终身",20,0,40,0,10752.01,0,0,10752.01]
["A20S0Y3L41",3,"终身",20,0,41,0,11126.44,0,0,11126.44]
["A20S0Y3L42",3,"终身",20,0,42,0,11513.74,0,0,11513.74]
["A20S0Y3L43",3,"终身",20,0,43,0,11914.29,0,0,11914.29]
["A20S0Y3L44",3,"终身",20,0,44,0,12328.52,0,0,12328.52]
["A20S0Y3L45",3,"终身",20,0,45,0,12756.83,0,0,12756.83]
["A20S0Y3L46",3,"终身",20,0,46,0,13199.66,0,0,13199.66]
["A20S0Y3L47",3,"终身",20,0,47,0,13657.43,0,0,13657.43]
["A20S0Y3L48",3,"终身",20,0,48,0,14130.56,0,0,14130.56]
["A20S0Y3L49",3,"终身",20,0,49,0,14619.47,0,0,14619.47]
["A20S0Y3L50",3,"终身",20,0,50,0,15124.59,0,0,15124.59]
["A20S0Y3L51",3,"终身",20,0,51,0,15646.32,0,0,15646.32]
["A20S0Y3L52",3,"终身",20,0,52,0,16185.07,0,0,16185.07]
["A20S0Y3L53",3,"终身",20,0,53,0,16741.259999999998,0,0,16741.259999999998]
["A20S0Y3L54",3,"终身",20,0,54,0,17315.27,0,0,17315.27]
["A20S0Y3L55",3,"终身",20,0,55,0,17907.509999999998,0,0,17907.509999999998]
[{"$f":"\"A\"&D1992&\"S\"&E1992&\"Y\"&B1992&\"L\"&F1992","v":"A20S0Y3L56"},3,"终身",20,0,56,0,18518.349999999999,0,0,18518.349999999999]
["A20S0Y3L57",3,"终身",20,0,57,0,19148.189999999999,0,0,19148.189999999999]
["A20S0Y3L58",3,"终身",20,0,58,0,19797.349999999999,0,0,19797.349999999999]
["A20S0Y3L59",3,"终身",20,0,59,0,20466.18,0,0,20466.18]
["A20S0Y3L60",3,"终身",20,0,60,0,21154.959999999999,0,0,21154.959999999999]
["A20S0Y3L61",3,"终身",20,0,61,0,21863.97,0,0,21863.97]
["A20S0Y3L62",3,"终身",20,0,62,0,22593.41,0,0,22593.41]
["A20S0Y3L63",3,"终身",20,0,63,0,23343.48,0,0,23343.48]
["A20S0Y3L64",3,"终身",20,0,64,0,24114.33,0,0,24114.33]
["A20S0Y3L70",3,"终身",20,0,70,0,29175.91,0,0,29175.91]
["A21S0Y3L15",3,"终身",21,0,15,0,4557.6899999999996,0,0,4557.6899999999996]
["A21S0Y3L31",3,"终身",21,0,31,0,7895.92,0,0,7895.92]
["A21S0Y3L48",3,"终身",21,0,48,0,14123.2,0,0,14123.2]
["A21S0Y3L63",3,"终身",21,0,63,0,23295.759999999998,0,0,23295.759999999998]
["A21S0Y3L84",3,"终身",21,0,84,0,42884.51,0,0,42884.51]
["A22S0Y3L32",3,"终身",22,0,32,0,8169.39,0,0,8169.39]
["A22S0Y3L46",3,"终身",22,0,46,0,13187.28,0,0,13187.28]
["A22S0Y3L65",3,"终身",22,0,65,0,24779.68,0,0,24779.68]
["A22S0Y3L80",3,"终身",22,0,80,0,38422.49,0,0,38422.5]
["A23S0Y3L35",3,"终身",23,0,35,0,9051.5300000000007,0,0,9051.5300000000007]
["A23S0Y3L50",3,"终身",23,0,50,0,15092.82,0,0,15092.82]
["A23S0Y3L62",3,"终身",23,0,62,0,22453.65,0,0,22453.65]
["A23S0Y3L79",3,"终身",23,0,79,0,37116.9,0,0,37117.51]
["A24S0Y3L15",3,"终身",24,0,15,0,4554.9399999999996,0,0,4554.9399999999996]
["A24S0Y3L52",3,"终身",24,0,52,0,16127.28,0,0,16127.28]
["A24S0Y3L69",3,"终身",24,0,69,0,27846.68,0,0,27846.68]
["A24S0Y3L79",3,"终身",24,0,79,0,36785.9,0,0,36785.9]
["A25S0Y3L16",3,"终身",25,0,16,0,4712.8500000000004,0,0,4712.8500000000004]
["A25S0Y3L56",3,"终身",25,0,56,0,18393.04,0,0,18393.05]
["A25S0Y3L70",3,"终身",25,0,70,0,28542.6,0,0,28542.62]
["A26S0Y3L8",3,"终身",26,0,8,0,3584.39,0,0,3584.39]
["A26S0Y3L36",3,"终身",26,0,36,0,9356.41,0,0,9356.41]
["A26S0Y3L37",3,"终身",26,0,37,0,9681.92,0,0,9681.92]
["A26S0Y3L77",3,"终身",26,0,77,0,34325.4,0,0,34325.4]
["A27S0Y3L9",3,"终身",27,0,9,0,3707.84,0,0,3707.84]
["A27S0Y3L26",3,"终身",27,0,26,0,6640.14,0,0,6640.14]
["A27S0Y3L45",3,"终身",27,0,45,0,12705.53,0,0,12705.54]
["A27S0Y3L62",3,"终身",27,0,62,0,22201.08,0,0,22201.09]
["A28S0Y3L20",3,"终身",28,0,20,0,5403.35,0,0,5403.35]
["A28S0Y3L30",3,"终身",28,0,30,0,7614.17,0,0,7614.17]
["A28S0Y3L49",3,"终身",28,0,49,0,14521.45,0,0,14521.45]
["A28S0Y3L68",3,"终身",28,0,68,0,26488.880000000001,0,0,26488.880000000001]
["A29S0Y3L25",3,"终身",29,0,25,0,6413.6,0,0,6413.6]
["A29S0Y3L40",3,"终身",29,0,40,0,10711.24,0,0,10711.24]
["A29S0Y3L52",3,"终身",29,0,52,0,16019.07,0,0,16019.07]
["A29S0Y3L73",3,"终身",29,0,73,0,30164.61,0,0,30164.61]
["A30S0Y3L15",3,"终身",30,0,15,0,4549.67,0,0,4549.67]
["A30S0Y3L48",3,"终身",30,0,48,0,14013.52,0,0,14013.52]
["A30S0Y3L65",3,"终身",30,0,65,0,24016.46,0,0,24016.46]
["A30S0Y3L75",3,"终身",30,0,75,0,31422.37,0,0,31422.37]
["A31S0Y3L22",3,"终身",31,0,22,0,5784.53,0,0,5784.53]
["A31S0Y3L41",3,"终身",31,0,41,0,11068.38,0,0,11068.38]
["A31S0Y3L72",3,"终身",31,0,72,0,28886.3,0,0,28886.65]
["A32S0Y3L16",3,"终身",32,0,16,0,4707.3500000000004,0,0,4707.3500000000004]
["A32S0Y3L44",3,"终身",32,0,44,0,12234.83,0,0,12234.83]
["A32S0Y3L49",3,"终身",32,0,49,0,14445.23,0,0,14445.23]
["A33S0Y3L11",3,"终身",33,0,11,0,3964.29,0,0,3964.29]
["A33S0Y3L23",3,"终身",33,0,23,0,5984,0,0,5984]
["A33S0Y3L44",3,"终身",33,0,44,0,12222.09,0,0,12222.09]
["A33S0Y3L63",3,"终身",33,0,63,0,22294.57,0,0,22294.57]
["A34S0Y3L3",3,"终身",34,0,3,568.80999999999995,1438.04,0,1436.91,3022.14]
["A34S0Y3L40",3,"终身",34,0,40,0,10677.4,0,0,10677.4]
["A34S0Y3L50",3,"终身",34,0,50,0,14870.02,0,0,14870.02]
["A35S0Y3L1",3,"终身",35,0,1,311.77999999999997,283.77999999999997,0,1.78,858.53]
["A35S0Y3L20",3,"终身",35,0,20,0,5396.78,0,0,5396.78]
["A35S0Y3L51",3,"终身",35,0,51,0,15321.37,0,0,15321.37]
["A35S0Y3L70",3,"终身",35,0,70,0,26445.279999999999,0,0,26445.65]
["A36S0Y3L7",3,"终身",36,0,7,0,3457.74,0,0,3457.74]
["A36S0Y3L32",3,"终身",36,0,32,0,8132.34,0,0,8132.34]
["A36S0Y3L47",3,"终身",36,0,47,0,13434.51,0,0,13434.51]
[{"$f":"\"A\"&D3272&\"S\"&E3272&\"Y\"&B3272&\"L\"&F3272","v":"A37S0Y3L10"},3,"终身",37,0,10,0,3828.68,0,0,3828.68]
["A37S0Y3L31",3,"终身",37,0,31,0,7856.25,0,0,7856.25]
["A37S0Y3L37",3,"终身",37,0,37,0,9626.8799999999992,0,0,9626.8799999999992]
["A37S0Y3L64",3,"终身",37,0,64,0,22299.01,0,0,22299.01]
["A38S0Y3L10",3,"终身",38,0,10,0,3827.95,0,0,3827.95]
["A38S0Y3L41",3,"终身",38,0,41,0,10992.23,0,0,10992.23]
["A38S0Y3L64",3,"终身",38,0,64,0,22112.53,0,0,22112.57]
["A39S0Y3L4",3,"终身",39,0,4,0,1649.86,0,0,3124.4]
["A39S0Y3L29",3,"终身",39,0,29,0,7331.52,0,0,7331.52]
["A39S0Y3L44",3,"终身",39,0,44,0,12111.57,0,0,12111.57]
["A40S0Y3L6",3,"终身",40,0,6,0,3341.83,0,0,3341.83]
["A40S0Y3L31",3,"终身",40,0,31,0,7840.97,0,0,7840.97]
["A40S0Y3L57",3,"终身",40,0,57,0,18011.97,0,0,18011.98]
["A40S0Y3L64",3,"终身",40,0,64,0,21706.21,0,0,21707]
["A41S0Y3L34",3,"终身",41,0,34,0,8666.51,0,0,8666.51]
["A41S0Y3L40",3,"终身",41,0,40,0,10581.28,0,0,10581.28]
["A42S0Y3L2",3,"终身",42,0,2,503.84,856.38,0,1436.98,1921.26]
["A42S0Y3L17",3,"终身",42,0,17,0,4855.08,0,0,4855.08]
["A42S0Y3L48",3,"终身",42,0,48,0,13633.39,0,0,13633.39]
["A43S0Y3L7",3,"终身",43,0,7,0,3451.27,0,0,3451.27]
["A43S0Y3L15",3,"终身",43,0,15,0,4529.62,0,0,4529.62]
["A43S0Y3L40",3,"终身",43,0,40,0,10531.43,0,0,10531.43]
["A43S0Y3L55",3,"终身",43,0,55,0,16678.169999999998,0,0,16678.169999999998]
["A44S0Y3L21",3,"终身",44,0,21,0,5556.23,0,0,5556.23]
["A44S0Y3L46",3,"终身",44,0,46,0,12707.54,0,0,12707.54]
["A44S0Y3L52",3,"终身",44,0,52,0,15213.12,0,0,15213.12]
["A45S0Y3L17",3,"终身",45,0,17,0,4841.08,0,0,4841.08]
["A45S0Y3L32",3,"终身",45,0,32,0,8051.08,0,0,8051.08]
["A46S0Y3L2",3,"终身",46,0,2,540.04999999999995,915.75,0,1436.94,1919.76]
["A46S0Y3L25",3,"终身",46,0,25,0,6350.43,0,0,6350.43]
["A46S0Y3L29",3,"终身",46,0,29,0,7268.18,0,0,7268.18]
["A46S0Y3L58",3,"终身",46,0,58,0,17579.919999999998,0,0,17579.93]
["A47S0Y3L13",3,"终身",47,0,13,0,4212.32,0,0,4212.32]
["A47S0Y3L42",3,"终身",47,0,42,0,11079.68,0,0,11079.68]
["A48S0Y3L8",3,"终身",48,0,8,0,3554.2,0,0,3554.2]
["A48S0Y3L30",3,"终身",48,0,30,0,7486.08,0,0,7486.08]
["A48S0Y3L41",3,"终身",48,0,41,0,10694.07,0,0,10694.07]
["A48S0Y3L56",3,"终身",48,0,56,0,16378.47,0,0,16378.47]
["A49S0Y3L25",3,"终身",49,0,25,0,6319.23,0,0,6319.23]
["A49S0Y3L52",3,"终身",49,0,52,0,14637.41,0,0,14637.5]
["A50S0Y3L10",3,"终身",50,0,10,0,3790.76,0,0,3790.76]
["A50S0Y3L41",3,"终身",50,0,41,0,10601.7,0,0,10601.7]
["A50S0Y3L43",3,"终身",50,0,43,0,11265.81,0,0,11265.82]
["A51S0Y3L12",3,"终身",51,0,12,0,4053.92,0,0,4053.92]
["A51S0Y3L41",3,"终身",51,0,41,0,10556.04,0,0,10556.05]
["A52S0Y3L1",3,"终身",52,0,1,417.36,377.21,0,6.95,856.56]
["A52S0Y3L30",3,"终身",52,0,30,0,7426.9,0,0,7426.9]
["A52S0Y3L34",3,"终身",52,0,34,0,8454.23,0,0,8454.23]
["A53S0Y3L3",3,"终身",53,0,3,787.26,1970.43,0,1436.79,3009.86]
["A53S0Y3L34",3,"终身",53,0,34,0,8435.64,0,0,8435.64]
["A53S0Y3L49",3,"终身",53,0,49,0,13080.01,0,0,13080.01]
["A54S0Y3L23",3,"终身",54,0,23,0,5880.93,0,0,5880.93]
["A54S0Y3L50",3,"终身",54,0,50,0,13302.85,0,0,13303.98]
["A55S0Y3L18",3,"终身",55,0,18,0,4971.03,0,0,4971.03]
["A55S0Y3L27",3,"终身",55,0,27,0,6708.73,0,0,6708.73]
["A55S0Y3L46",3,"终身",55,0,46,0,11909.34,0,0,11909.34]
["A56S0Y3L20",3,"终身",56,0,20,0,5316.64,0,0,5316.64]
["A56S0Y3L49",3,"终身",56,0,49,0,12744.81,0,0,12745.77]
["A57S0Y3L17",3,"终身",57,0,17,0,4806.99,0,0,4806.99]
["A57S0Y3L28",3,"终身",57,0,28,0,6914.31,0,0,6914.31]
["A57S0Y3L47",3,"终身",57,0,47,0,12024.58,0,0,12025.11]
["A58S0Y3L21",3,"终身",58,0,21,0,5494.47,0,0,5494.47]
["A58S0Y3L48",3,"终身",58,0,48,0,12124.18,0,0,12124.18]
["A59S0Y3L19",3,"终身",59,0,19,0,5140.24,0,0,5140.24]
["A59S0Y3L46",3,"终身",59,0,46,0,11525.91,0,0,11525.91]
["A60S0Y3L5",3,"终身",60,0,5,0,2394.5700000000002,0,0,3209.33]
["A60S0Y3L26",3,"终身",60,0,26,0,6454,0,0,6454]
["A61S0Y3L9",3,"终身",61,0,9,0,3665.42,0,0,3665.42]
["A61S0Y3L28",3,"终身",61,0,28,0,6853.88,0,0,6853.88]
["A62S0Y3L8",3,"终身",62,0,8,0,3536.41,0,0,3536.41]
["A62S0Y3L16",3,"终身",62,0,16,0,4628.99,0,0,4628.99]
["A62S0Y3L35",3,"终身",62,0,35,0,8403.94,0,0,8403.9500000000007]
["A63S0Y3L22",3,"终身",63,0,22,0,5617.06,0,0,5617.06]
["A63S0Y3L41",3,"终身",63,0,41,0,9768.56,0,0,9768.56]
["A64S0Y3L21",3,"终身",64,0,21,0,5416.25,0,0,5416.25]
["A65S0Y3L6",3,"终身",65,0,6,0,3288.92,0,0,3288.92]
["A65S0Y3L26",3,"终身",65,0,26,0,6307.38,0,0,6307.38]
["A65S0Y3L39",3,"终身",65,0,39,0,9079.2000000000007,0,0,9079.2800000000007]
["A0S1Y3L17",3,"终身",0,1,17,0,4898.28,0,0,4898.28]
["A0S1Y3L38",3,"终身",0,1,38,0,10084.129999999999,0,0,10084.129999999999]
["A0S1Y3L67",3,"终身",0,1,67,0,27297.57,0,0,27297.57]
["A0S1Y3L85",3,"终身",0,1,85,0,50092.74,0,0,50092.74]
["A0S1Y3L100",3,"终身",0,1,100,0,79778.149999999994,0,0,79778.149999999994]
["A1S1Y3L13",3,"终身",1,1,13,0,4268.8599999999997,0,0,4268.8599999999997]
["A1S1Y3L32",3,"终身",1,1,32,0,8204.42,0,0,8204.42]
["A1S1Y3L63",3,"终身",1,1,63,0,23799.64,0,0,23799.64]
["A1S1Y3L79",3,"终身",1,1,79,0,41004.22,0,0,41004.230000000003]
["A1S1Y3L96",3,"终身",1,1,96,0,70603.240000000005,0,0,70603.55]
["A2S1Y3L6",3,"终身",2,1,6,0,3355.63,0,0,3355.63]
["A2S1Y3L27",3,"终身",2,1,27,0,6908.51,0,0,6908.51]
[{"$f":"\"A\"&D5128&\"S\"&E5128&\"Y\"&B5128&\"L\"&F5128","v":"A2S1Y3L60"},3,"终身",2,1,60,0,21471.21,0,0,21471.22]
["A2S1Y3L79",3,"终身",2,1,79,0,40965.269999999997,0,0,40965.29]
["A2S1Y3L100",3,"终身",2,1,100,0,78792.83,0,0,78795.02]
["A3S1Y3L4",3,"终身",3,1,4,0,772.52,0,0,3132.58]
["A3S1Y3L23",3,"终身",3,1,23,0,6020.75,0,0,6020.75]
["A3S1Y3L58",3,"终身",3,1,58,0,20045.84,0,0,20045.84]
["A3S1Y3L73",3,"终身",3,1,73,0,33455.599999999999,0,0,33455.61]
["A3S1Y3L96",3,"终身",3,1,96,0,69912.789999999994,0,0,69913.27]
["A4S1Y3L3",3,"终身",4,1,3,293.83,746.42,0,1437.1,3026.68]
["A4S1Y3L40",3,"终身",4,1,40,0,10801.53,0,0,10801.53]
["A4S1Y3L57",3,"终身",4,1,57,0,19368.03,0,0,19368.03]
["A4S1Y3L72",3,"终身",4,1,72,0,32324.38,0,0,32324.39]
["A4S1Y3L93",3,"终身",4,1,93,0,63682.61,0,0,63682.83]
["A5S1Y3L3",3,"终身",5,1,3,299.35000000000002,760.54,0,1437.09,3026.69]
["A5S1Y3L38",3,"终身",5,1,38,0,10083.549999999999,0,0,10083.549999999999]
["A5S1Y3L57",3,"终身",5,1,57,0,19366.03,0,0,19366.04]
["A5S1Y3L72",3,"终身",5,1,72,0,32304.65,0,0,32304.66]
["A5S1Y3L91",3,"终身",5,1,91,0,59709.26,0,0,59709.42]
["A6S1Y3L25",3,"终身",6,1,25,0,6448.92,0,0,6448.92]
["A6S1Y3L41",3,"终身",6,1,41,0,11178.28,0,0,11178.28]
["A6S1Y3L58",3,"终身",6,1,58,0,20038.96,0,0,20038.96]
["A6S1Y3L73",3,"终身",6,1,73,0,33386.300000000003,0,0,33386.31]
["A6S1Y3L90",3,"终身",6,1,90,0,57689.08,0,0,57689.26]
["A7S1Y3L27",3,"终身",7,1,27,0,6907.68,0,0,6907.68]
["A7S1Y3L42",3,"终身",7,1,42,0,11568.34,0,0,11568.35]
["A7S1Y3L63",3,"终身",7,1,63,0,23772.83,0,0,23772.84]
["A7S1Y3L75",3,"终身",7,1,75,0,35658.71,0,0,35658.720000000001]
["A7S1Y3L94",3,"终身",7,1,94,0,64512.25,0,0,64513.62]
["A8S1Y3L30",3,"终身",8,1,30,0,7657.77,0,0,7657.77]
["A8S1Y3L45",3,"终身",8,1,45,0,12823.21,0,0,12823.21]
["A8S1Y3L64",3,"终身",8,1,64,0,24589.040000000001,0,0,24589.040000000001]
["A8S1Y3L78",3,"终身",8,1,78,0,39304.14,0,0,39304.14]
["A8S1Y3L95",3,"终身",8,1,95,0,65874.78,0,0,65874.78]
["A9S1Y3L34",3,"终身",9,1,34,0,8785.99,0,0,8785.99]
["A9S1Y3L49",3,"终身",9,1,49,0,14709.68,0,0,14709.68]
["A9S1Y3L66",3,"终身",9,1,66,0,26306.05,0,0,26306.05]
["A9S1Y3L82",3,"终身",9,1,82,0,44580.26,0,0,44580.26]
["A10S1Y3L20",3,"终身",10,1,20,0,5428.88,0,0,5428.88]
["A10S1Y3L39",3,"终身",10,1,39,0,10432.31,0,0,10432.31]
["A10S1Y3L54",3,"终身",10,1,54,0,17459.490000000002,0,0,17459.490000000002]
["A10S1Y3L73",3,"终身",10,1,73,0,33241.78,0,0,33241.78]
["A10S1Y3L87",3,"终身",10,1,87,0,51794.75,0,0,51794.75]
["A11S1Y3L24",3,"终身",11,1,24,0,6228.72,0,0,6228.72]
["A11S1Y3L45",3,"终身",11,1,45,0,12818.48,0,0,12818.48]
["A11S1Y3L60",3,"终身",11,1,60,0,21430.54,0,0,21430.54]
["A11S1Y3L77",3,"终身",11,1,77,0,37816.17,0,0,37816.18]
["A11S1Y3L93",3,"终身",11,1,93,0,61022.54,0,0,61023.66]
["A12S1Y3L29",3,"终身",12,1,29,0,7396.16,0,0,7396.16]
["A12S1Y3L52",3,"终身",12,1,52,0,16295.79,0,0,16295.79]
["A12S1Y3L67",3,"终身",12,1,67,0,27149.919999999998,0,0,27149.919999999998]
["A12S1Y3L82",3,"终身",12,1,82,0,44138.17,0,0,44138.23]
["A13S1Y3L6",3,"终身",13,1,6,0,3355.3,0,0,3355.3]
["A13S1Y3L42",3,"终身",13,1,42,0,11559.88,0,0,11559.88]
["A13S1Y3L61",3,"终身",13,1,61,0,22151.69,0,0,22151.69]
["A13S1Y3L75",3,"终身",13,1,75,0,35294.629999999997,0,0,35294.629999999997]
["A14S1Y3L15",3,"终身",14,1,15,0,4569.12,0,0,4569.12]
["A14S1Y3L36",3,"终身",14,1,36,0,9404.9500000000007,0,0,9404.9500000000007]
["A14S1Y3L51",3,"终身",14,1,51,0,15738.63,0,0,15738.63]
["A14S1Y3L68",3,"终身",14,1,68,0,28010.97,0,0,28010.97]
["A14S1Y3L84",3,"终身",14,1,84,0,46475.21,0,0,46475.21]
["A15S1Y3L23",3,"终身",15,1,23,0,6014.73,0,0,6014.73]
["A15S1Y3L42",3,"终身",15,1,42,0,11555,0,0,11555.01]
["A15S1Y3L61",3,"终身",15,1,61,0,22122.87,0,0,22122.87]
["A15S1Y3L76",3,"终身",15,1,76,0,36242.65,0,0,36242.67]
["A16S1Y3L3",3,"终身",16,1,3,368.29,934.99,0,1437.11,3026.2]
["A16S1Y3L32",3,"终身",16,1,32,0,8193.92,0,0,8193.92]
["A16S1Y3L53",3,"终身",16,1,53,0,16841.98,0,0,16841.98]
["A16S1Y3L72",3,"终身",16,1,72,0,31819.11,0,0,31819.11]
["A16S1Y3L85",3,"终身",16,1,85,0,47291.93,0,0,47291.93]
["A17S1Y3L15",3,"终身",17,1,15,0,4566.91,0,0,4566.91]
["A17S1Y3L42",3,"终身",17,1,42,0,11550.11,0,0,11550.11]
["A17S1Y3L65",3,"终身",17,1,65,0,25253.32,0,0,25253.32]
["A17S1Y3L84",3,"终身",17,1,84,0,45687.26,0,0,45687.360000000001]
["A18S1Y3L6",3,"终身",18,1,6,0,3353.08,0,0,3353.08]
["A18S1Y3L45",3,"终身",18,1,45,0,12800.16,0,0,12800.16]
["A18S1Y3L64",3,"终身",18,1,64,0,24397.62,0,0,24397.62]
["A18S1Y3L79",3,"终身",18,1,79,0,39296.9,0,0,39296.980000000003]
["A19S1Y3L9",3,"终身",19,1,9,0,3716.24,0,0,3716.24]
["A19S1Y3L38",3,"终身",19,1,38,0,10065.790000000001,0,0,10065.799999999999]
["A19S1Y3L59",3,"终身",19,1,59,0,20617.79,0,0,20617.79]
["A19S1Y3L78",3,"终身",19,1,78,0,37967.33,0,0,37967.43]
["A20S1Y3L4",3,"终身",20,1,4,0,1060.93,0,0,3130.99]
["A20S1Y3L20",3,"终身",20,1,20,0,5422.59,0,0,5422.59]
["A20S1Y3L51",3,"终身",20,1,51,0,15710.25,0,0,15710.25]
["A20S1Y3L74",3,"终身",20,1,74,0,33492.33,0,0,33492.370000000003]
["A21S1Y3L7",3,"终身",21,1,7,0,3469.81,0,0,3469.81]
["A21S1Y3L18",3,"终身",21,1,18,0,5062.03,0,0,5062.03]
["A21S1Y3L36",3,"终身",21,1,36,0,9396.1,0,0,9396.1]
["A21S1Y3L65",3,"终身",21,1,65,0,25103.22,0,0,25103.23]
["A22S1Y3L5",3,"终身",22,1,5,0,1160.43,0,0,3239.98]
["A22S1Y3L24",3,"终身",22,1,24,0,6221.21,0,0,6221.21]
["A22S1Y3L33",3,"终身",22,1,33,0,8475.5300000000007,0,0,8475.5400000000009]
["A22S1Y3L53",3,"终身",22,1,53,0,16801.82,0,0,16801.82]
["A22S1Y3L80",3,"终身",22,1,80,0,39550.21,0,0,39551.5]
["A23S1Y3L23",3,"终身",23,1,23,0,6010.6,0,0,6010.6]
["A23S1Y3L38",3,"终身",23,1,38,0,10061.5,0,0,10061.5]
["A23S1Y3L49",3,"终身",23,1,49,0,14659.58,0,0,14659.58]
["A23S1Y3L71",3,"终身",23,1,71,0,30205.29,0,0,30205.29]
["A24S1Y3L7",3,"终身",24,1,7,0,3469.57,0,0,3469.57]
["A24S1Y3L39",3,"终身",24,1,39,0,10411.040000000001,0,0,10411.040000000001]
["A24S1Y3L57",3,"终身",24,1,57,0,19193.73,0,0,19193.73]
["A25S1Y3L4",3,"终身",25,1,4,0,1164.17,0,0,3130.82]
["A25S1Y3L8",3,"终身",25,1,8,0,3590.37,0,0,3590.37]
["A25S1Y3L48",3,"终身",25,1,48,0,14157.14,0,0,14157.14]
["A25S1Y3L57",3,"终身",25,1,57,0,19171.66,0,0,19171.66]
["A25S1Y3L77",3,"终身",25,1,77,0,35666.769999999997,0,0,35666.769999999997]
["A26S1Y3L23",3,"终身",26,1,23,0,6008.95,0,0,6008.95]
["A26S1Y3L29",3,"终身",26,1,29,0,7384.4,0,0,7384.4]
["A26S1Y3L65",3,"终身",26,1,65,0,24807.98,0,0,24807.98]
["A26S1Y3L76",3,"终身",26,1,76,0,34458.53,0,0,34458.53]
["A27S1Y3L18",3,"终身",27,1,18,0,5059.8100000000004,0,0,5059.82]
["A27S1Y3L43",3,"终身",27,1,43,0,11930.18,0,0,11930.18]
["A27S1Y3L72",3,"终身",27,1,72,0,30573.1,0,0,30573.16]
["A28S1Y3L8",3,"终身",28,1,8,0,3589.77,0,0,3589.77]
["A28S1Y3L17",3,"终身",28,1,17,0,4888.55,0,0,4888.55]
["A28S1Y3L41",3,"终身",28,1,41,0,11139.35,0,0,11139.35]
["A28S1Y3L68",3,"终身",28,1,68,0,27024.15,0,0,27024.19]
["A29S1Y3L17",3,"终身",29,1,17,0,4888.33,0,0,4888.33]
["A29S1Y3L32",3,"终身",29,1,32,0,8182.86,0,0,8182.87]
["A29S1Y3L59",3,"终身",29,1,59,0,20333.28,0,0,20333.29]
["A29S1Y3L65",3,"终身",29,1,65,0,24565.49,0,0,24565.51]
["A30S1Y3L13",3,"终身",30,1,13,0,4260.21,0,0,4260.21]
["A30S1Y3L42",3,"终身",30,1,42,0,11519.11,0,0,11519.11]
["A30S1Y3L57",3,"终身",30,1,57,0,19020.98,0,0,19020.990000000002]
["A31S1Y3L6",3,"终身",31,1,6,0,3351.66,0,0,3351.66]
["A31S1Y3L14",3,"终身",31,1,14,0,4409,0,0,4409]
["A31S1Y3L50",3,"终身",31,1,50,0,15082.39,0,0,15082.4]
["A31S1Y3L59",3,"终身",31,1,59,0,20234.54,0,0,20234.55]
["A32S1Y3L8",3,"终身",32,1,8,0,3588.34,0,0,3588.34]
["A32S1Y3L35",3,"终身",32,1,35,0,9064.98,0,0,9064.98]
["A32S1Y3L41",3,"终身",32,1,41,0,11125.05,0,0,11125.05]
["A33S1Y3L3",3,"终身",33,1,3,504.97,1280.8699999999999,0,1437.01,3024.99]
["A33S1Y3L10",3,"终身",33,1,10,0,3842.48,0,0,3842.48]
["A33S1Y3L36",3,"终身",33,1,36,0,9378.11,0,0,9378.11]
["A33S1Y3L61",3,"终身",33,1,61,0,21405.63,0,0,21405.67]
["A33S1Y3L69",3,"终身",33,1,69,0,27079.25,0,0,27080.080000000002]
["A34S1Y3L32",3,"终身",34,1,32,0,8176.92,0,0,8176.92]
["A34S1Y3L37",3,"终身",34,1,37,0,9700.83,0,0,9700.83]
["A34S1Y3L65",3,"终身",34,1,65,0,24026.12,0,0,24026.12]
["A35S1Y3L16",3,"终身",35,1,16,0,4721.34,0,0,4721.34]
["A35S1Y3L26",3,"终身",35,1,26,0,6655.66,0,0,6655.66]
["A35S1Y3L62",3,"终身",35,1,62,0,21883.97,0,0,21883.97]
["A35S1Y3L69",3,"终身",35,1,69,0,26687.37,0,0,26687.37]
["A36S1Y3L24",3,"终身",36,1,24,0,6213.34,0,0,6213.34]
["A36S1Y3L45",3,"终身",36,1,45,0,12696.53,0,0,12696.53]
["A36S1Y3L57",3,"终身",36,1,57,0,18716.5,0,0,18716.5]
[{"$f":"\"A\"&D8136&\"S\"&E8136&\"Y\"&B8136&\"L\"&F8136","v":"A37S1Y3L23"},3,"终身",37,1,23,0,6002.85,0,0,6002.85]
["A37S1Y3L48",3,"终身",37,1,48,0,14002.83,0,0,14002.83]
["A37S1Y3L56",3,"终身",37,1,56,0,18082.45,0,0,18082.45]
["A38S1Y3L2",3,"终身",38,1,2,425.98,726.92,0,1436.99,1923.12]
["A38S1Y3L32",3,"终身",38,1,32,0,8168.26,0,0,8168.26]
["A38S1Y3L56",3,"终身",38,1,56,0,18018.12,0,0,18018.13]
["A39S1Y3L11",3,"终身",39,1,11,0,3974.53,0,0,3974.53]
["A39S1Y3L21",3,"终身",39,1,21,0,5602.91,0,0,5602.91]
["A39S1Y3L36",3,"终身",39,1,36,0,9355.17,0,0,9355.18]
["A39S1Y3L64",3,"终身",39,1,64,0,22633.52,0,0,22634.33]
["A40S1Y3L23",3,"终身",40,1,23,0,5999.41,0,0,5999.41]
["A40S1Y3L44",3,"终身",40,1,44,0,12217.88,0,0,12217.88]
["A40S1Y3L56",3,"终身",40,1,56,0,17873.75,0,0,17873.75]
["A41S1Y3L26",3,"终身",41,1,26,0,6646.48,0,0,6646.48]
["A41S1Y3L31",3,"终身",41,1,31,0,7883.97,0,0,7883.97]
["A41S1Y3L59",3,"终身",41,1,59,0,19424.57,0,0,19424.66]
["A42S1Y3L13",3,"终身",42,1,13,0,4253.7299999999996,0,0,4253.7299999999996]
["A42S1Y3L23",3,"终身",42,1,23,0,5994.97,0,0,5994.97]
["A42S1Y3L63",3,"终身",42,1,63,0,21516.94,0,0,21516.94]
["A43S1Y3L2",3,"终身",43,1,2,466.91,796.28,0,1437.03,1922.93]
["A43S1Y3L32",3,"终身",43,1,32,0,8144.88,0,0,8144.88]
["A43S1Y3L49",3,"终身",43,1,49,0,14243.34,0,0,14243.34]
["A44S1Y3L19",3,"终身",44,1,19,0,5222.2,0,0,5222.2]
["A44S1Y3L38",3,"终身",44,1,38,0,9953.73,0,0,9953.73]
["A44S1Y3L59",3,"终身",44,1,59,0,19032.57,0,0,19033.689999999999]
["A45S1Y3L5",3,"终身",45,1,5,0,1764.67,0,0,3234.79]
["A45S1Y3L24",3,"终身",45,1,24,0,6193.97,0,0,6193.97]
["A45S1Y3L59",3,"终身",45,1,59,0,18883.240000000002,0,0,18884.89]
["A46S1Y3L17",3,"终身",46,1,17,0,4871.2700000000004,0,0,4871.2700000000004]
["A46S1Y3L36",3,"终身",46,1,36,0,9284.84,0,0,9284.84]
["A46S1Y3L46",3,"终身",46,1,46,0,12832.56,0,0,12832.57]
["A47S1Y3L5",3,"终身",47,1,5,0,1827.05,0,0,3233.19]
["A47S1Y3L29",3,"终身",47,1,29,0,7331.12,0,0,7331.12]
["A47S1Y3L59",3,"终身",47,1,59,0,18397.02,0,0,18397.02]
["A48S1Y3L17",3,"终身",48,1,17,0,4865.76,0,0,4865.76]
["A48S1Y3L29",3,"终身",48,1,29,0,7323.35,0,0,7323.35]
["A48S1Y3L48",3,"终身",48,1,48,0,13535.88,0,0,13535.89]
["A49S1Y3L12",3,"终身",49,1,12,0,4096.68,0,0,4096.68]
["A49S1Y3L40",3,"终身",49,1,40,0,10511.67,0,0,10511.68]
["A50S1Y3L2",3,"终身",50,1,2,529.71,901.16,0,1436.99,1921.46]
["A50S1Y3L16",3,"终身",50,1,16,0,4696.2700000000004,0,0,4696.2700000000004]
["A50S1Y3L35",3,"终身",50,1,35,0,8918.06,0,0,8918.06]
["A50S1Y3L55",3,"终身",50,1,55,0,16288.15,0,0,16288.15]
["A51S1Y3L29",3,"终身",51,1,29,0,7297.92,0,0,7297.92]
["A51S1Y3L46",3,"终身",51,1,46,0,12565.94,0,0,12565.94]
["A52S1Y3L7",3,"终身",52,1,7,0,3451.81,0,0,3451.81]
["A52S1Y3L26",3,"终身",52,1,26,0,6592.39,0,0,6592.39]
["A53S1Y3L10",3,"终身",53,1,10,0,3820.86,0,0,3820.86]
["A53S1Y3L22",3,"终身",53,1,22,0,5755.79,0,0,5755.79]
["A53S1Y3L37",3,"终身",53,1,37,0,9450.39,0,0,9450.39]
["A54S1Y3L2",3,"终身",54,1,2,567.70000000000005,964.19,0,1436.94,1920.25]
["A54S1Y3L38",3,"终身",54,1,38,0,9727.2900000000009,0,0,9727.2900000000009]
["A55S1Y3L5",3,"终身",55,1,5,0,2087.81,0,0,3224.23]
["A55S1Y3L19",3,"终身",55,1,19,0,5196.42,0,0,5196.42]
["A55S1Y3L38",3,"终身",55,1,38,0,9698.43,0,0,9698.44]
["A56S1Y3L7",3,"终身",56,1,7,0,3449.13,0,0,3449.13]
["A56S1Y3L37",3,"终身",56,1,37,0,9373.26,0,0,9373.26]
["A57S1Y3L4",3,"终身",57,1,4,0,2052.02,0,0,3116.66]
["A57S1Y3L20",3,"终身",57,1,20,0,5373.01,0,0,5373.01]
["A57S1Y3L35",3,"终身",57,1,35,0,8781.2900000000009,0,0,8781.2900000000009]
["A58S1Y3L8",3,"终身",58,1,8,0,3570.65,0,0,3570.65]
["A58S1Y3L40",3,"终身",58,1,40,0,10188.89,0,0,10188.89]
["A59S1Y3L7",3,"终身",59,1,7,0,3451.51,0,0,3451.51]
["A59S1Y3L25",3,"终身",59,1,25,0,6341.88,0,0,6341.88]
["A59S1Y3L40",3,"终身",59,1,40,0,10140.77,0,0,10140.77]
[{"$f":"\"A\"&D9480&\"S\"&E9480&\"Y\"&B9480&\"L\"&F9480","v":"A60S1Y3L33"},3,"终身",60,1,33,0,8177.63,0,0,8177.63]
["A61S1Y3L1",3,"终身",61,1,1,446.82,405.25,0,5.84,857.63]
["A61S1Y3L14",3,"终身",61,1,14,0,4378.16,0,0,4378.17]
["A61S1Y3L34",3,"终身",61,1,34,0,8400.01,0,0,8400.0400000000009]
["A62S1Y3L25",3,"终身",62,1,25,0,6303.09,0,0,6303.09]
["A62S1Y3L42",3,"终身",62,1,42,0,10504.99,0,0,10505.92]
["A63S1Y3L14",3,"终身",63,1,14,0,4365.8100000000004,0,0,4365.8100000000004]
["A63S1Y3L29",3,"终身",63,1,29,0,7135.19,0,0,7135.19]
["A64S1Y3L4",3,"终身",64,1,4,0,2293.06,0,0,3113.45]
["A64S1Y3L40",3,"终身",64,1,40,0,9786.89,0,0,9787.76]
["A65S1Y3L13",3,"终身",65,1,13,0,4205.3,0,0,4205.3]
["A65S1Y3L31",3,"终身",65,1,31,0,7515.01,0,0,7515.01]
["A0S0Y5L5",5,"终身",0,0,5,334.31,1402.45,0,1213.46,5292.67]
["A0S0Y5L25",5,"终身",0,0,25,0,10527.66,0,0,10527.66]
["A0S0Y5L59",5,"终身",0,0,59,0,33840.81,0,0,33840.81]
["A0S0Y5L72",5,"终身",0,0,72,0,52715.49,0,0,52715.49]
[{"$f":"\"A\"&D9800&\"S\"&E9800&\"Y\"&B9800&\"L\"&F9800","v":"A0S0Y5L92"},5,"终身",0,0,92,0,101045.75999999999,0,0,101045.77]
["A1S0Y5L1",5,"终身",1,0,1,132.30000000000001,116.75,0,0.65,810.91]
["A1S0Y5L19",5,"终身",1,0,19,0,8565.35,0,0,8565.35]
["A1S0Y5L55",5,"终身",1,0,55,0,29503.19,0,0,29503.19]
["A1S0Y5L70",5,"终身",1,0,70,0,49238.79,0,0,49238.8]
["A1S0Y5L88",5,"终身",1,0,88,0,89000.24,0,0,89000.24]
["A1S0Y5L103",5,"终身",1,0,103,0,136308.03,0,0,136313.01999999999]
["A2S0Y5L34",5,"终身",2,0,34,0,14344.93,0,0,14344.93]
["A2S0Y5L52",5,"终身",2,0,52,0,26616.98,0,0,26616.98]
["A2S0Y5L65",5,"终身",2,0,65,0,41527.31,0,0,41527.31]
["A2S0Y5L85",5,"终身",2,0,85,0,80735.490000000005,0,0,80735.490000000005]
["A2S0Y5L100",5,"终身",2,0,100,0,125185.59,0,0,125186.34]
["A3S0Y5L34",5,"终身",3,0,34,0,14344.52,0,0,14344.53]
["A3S0Y5L50",5,"终身",3,0,50,0,24849.91,0,0,24849.91]
["A3S0Y5L61",5,"终身",3,0,61,0,36219.019999999997,0,0,36219.019999999997]
["A3S0Y5L83",5,"终身",3,0,83,0,75556.91,0,0,75556.91]
["A3S0Y5L98",5,"终身",3,0,98,0,117829.79,0,0,117830.14]
["A4S0Y5L31",5,"终身",4,0,31,0,12938.51,0,0,12938.51]
["A4S0Y5L49",5,"终身",4,0,49,0,24009.16,0,0,24009.17]
[{"$f":"\"A\"&D10184&\"S\"&E10184&\"Y\"&B10184&\"L\"&F10184","v":"A4S0Y5L58"},5,"终身",4,0,58,0,32680.92,0,0,32680.92]
["A4S0Y5L82",5,"终身",4,0,82,0,73000.59,0,0,73000.59]
["A4S0Y5L97",5,"终身",4,0,97,0,113843.25,0,0,113843.68]
["A5S0Y5L29",5,"终身",5,0,29,0,12078.12,0,0,12078.13]
["A5S0Y5L49",5,"终身",5,0,49,0,24005.74,0,0,24005.74]
["A5S0Y5L64",5,"终身",5,0,64,0,40091.56,0,0,40091.56]
["A5S0Y5L82",5,"终身",5,0,82,0,72815.009999999995,0,0,72815.009999999995]
["A6S0Y5L17",5,"终身",6,0,17,0,7994.68,0,0,7994.68]
["A6S0Y5L28",5,"终身",6,0,28,0,11669,0,0,11669]
["A6S0Y5L50",5,"终身",6,0,50,0,24838.720000000001,0,0,24838.720000000001]
["A6S0Y5L65",5,"终身",6,0,65,0,41454.120000000003,0,0,41454.120000000003]
["A6S0Y5L81",5,"终身",6,0,81,0,70348.55,0,0,70348.55]
["A7S0Y5L19",5,"终身",7,0,19,0,8562.8700000000008,0,0,8562.8700000000008]
["A7S0Y5L28",5,"终身",7,0,28,0,11667.73,0,0,11667.73]
["A7S0Y5L48",5,"终身",7,0,48,0,23188.12,0,0,23188.12]
["A7S0Y5L67",5,"终身",7,0,67,0,44320.98,0,0,44320.98]
["A8S0Y5L2",5,"终身",8,0,2,215.03,346.42,0,1213.4000000000001,1874.26]
["A8S0Y5L22",5,"终身",8,0,22,0,9491.9599999999991,0,0,9491.9599999999991]
["A8S0Y5L29",5,"终身",8,0,29,0,12074.1,0,0,12074.1]
["A8S0Y5L51",5,"终身",8,0,51,0,25692.81,0,0,25692.81]
["A8S0Y5L70",5,"终身",8,0,70,0,48955.5,0,0,48955.51]
["A9S0Y5L4",5,"终身",9,0,4,394.37,1130.5999999999999,0,1213.4100000000001,4113.8500000000004]
["A9S0Y5L26",5,"终身",9,0,26,0,10889.4,0,0,10889.4]
["A9S0Y5L31",5,"终身",9,0,31,0,12931.05,0,0,12931.05]
["A9S0Y5L55",5,"终身",9,0,55,0,29451.57,0,0,29451.57]
["A9S0Y5L74",5,"终身",9,0,74,0,55765.2,0,0,55765.2]
["A10S0Y5L7",5,"终身",10,0,7,0,5669.64,0,0,5669.64]
["A10S0Y5L27",5,"终身",10,0,27,0,11268.07,0,0,11268.07]
["A10S0Y5L46",5,"终身",10,0,46,0,21635.29,0,0,21635.29]
["A10S0Y5L60",5,"终身",10,0,60,0,34903.78,0,0,34903.78]
["A10S0Y5L79",5,"终身",10,0,79,0,65265.68,0,0,65265.68]
["A11S0Y5L11",5,"终身",11,0,11,0,6501.65,0,0,6501.65]
["A11S0Y5L33",5,"终身",11,0,33,0,13844.89,0,0,13844.89]
["A11S0Y5L52",5,"终身",11,0,52,0,26560.48,0,0,26560.48]
["A11S0Y5L64",5,"终身",11,0,64,0,39921.129999999997,0,0,39921.129999999997]
["A11S0Y5L85",5,"终身",11,0,85,0,77866.19,0,0,77866.22]
["A12S0Y5L16",5,"终身",12,0,16,0,7716.75,0,0,7716.75]
["A12S0Y5L40",5,"终身",12,0,40,0,17600.87,0,0,17600.87]
["A12S0Y5L59",5,"终身",12,0,59,0,33693.410000000003,0,0,33693.410000000003]
["A12S0Y5L89",5,"终身",12,0,89,0,86369.84,0,0,86370.02]
["A13S0Y5L15",5,"终身",13,0,15,0,7454.12,0,0,7454.12]
["A13S0Y5L22",5,"终身",13,0,22,0,9481.77,0,0,9481.77]
["A13S0Y5L48",5,"终身",13,0,48,0,23144.07,0,0,23144.07]
["A13S0Y5L67",5,"终身",13,0,67,0,44004.35,0,0,44004.35]
["A14S0Y5L2",5,"终身",14,0,2,240.63,387.43,0,1213.45,1874.22]
["A14S0Y5L24",5,"终身",14,0,24,0,10152.959999999999,0,0,10152.959999999999]
["A14S0Y5L29",5,"终身",14,0,29,0,12056.15,0,0,12056.15]
["A14S0Y5L57",5,"终身",14,0,57,0,31435.360000000001,0,0,31435.360000000001]
["A14S0Y5L72",5,"终身",14,0,72,0,51671.92,0,0,51671.92]
["A15S0Y5L10",5,"终身",15,0,10,0,6276.06,0,0,6276.06]
["A15S0Y5L34",5,"终身",15,0,34,0,14309.79,0,0,14309.79]
["A15S0Y5L57",5,"终身",15,0,57,0,31409.26,0,0,31409.26]
["A15S0Y5L67",5,"终身",15,0,67,0,43845.49,0,0,43845.49]
["A15S0Y5L82",5,"终身",15,0,82,0,69750.36,0,0,69750.36]
["A16S0Y5L19",5,"终身",16,0,19,0,8544.7999999999993,0,0,8544.7999999999993]
["A16S0Y5L45",5,"终身",16,0,45,0,20857.02,0,0,20857.02]
["A16S0Y5L64",5,"终身",16,0,64,0,39655.93,0,0,39655.93]
["A17S0Y5L2",5,"终身",17,0,2,254.44,409.07,0,1213.46,1873.63]
["A17S0Y5L3",5,"终身",17,0,3,330.77,770.35,0,1213.46,2973.22]
["A17S0Y5L29",5,"终身",17,0,29,0,12045.42,0,0,12045.42]
["A17S0Y5L57",5,"终身",17,0,57,0,31354.19,0,0,31354.19]
["A17S0Y5L72",5,"终身",17,0,72,0,51210.879999999997,0,0,51210.879999999997]
["A18S0Y5L13",5,"终身",18,0,13,0,6950.84,0,0,6950.84]
["A18S0Y5L37",5,"终身",18,0,37,0,15846.81,0,0,15846.81]
["A18S0Y5L40",5,"终身",18,0,40,0,17562.91,0,0,17562.91]
["A18S0Y5L70",5,"终身",18,0,70,0,47941.09,0,0,47941.09]
["A18S0Y5L85",5,"终身",18,0,85,0,73888.88,0,0,73888.88]
["A19S0Y5L25",5,"终身",19,0,25,0,10495.19,0,0,10495.19]
["A19S0Y5L51",5,"终身",19,0,51,0,25559.48,0,0,25559.48]
["A19S0Y5L56",5,"终身",19,0,56,0,30262.42,0,0,30262.42]
["A19S0Y5L84",5,"终身",19,0,84,0,71382.399999999994,0,0,71383.77]
["A20S0Y5L12",5,"终身",20,0,12,0,6715.21,0,0,6715.21]
["A20S0Y5L38",5,"终身",20,0,38,0,16391.37,0,0,16391.37]
["A20S0Y5L66",5,"终身",20,0,66,0,41987.85,0,0,41987.85]
["A20S0Y5L69",5,"终身",20,0,69,0,46171.199999999997,0,0,46171.199999999997]
["A21S0Y5L13",5,"终身",21,0,13,0,6948.08,0,0,6948.08]
["A21S0Y5L28",5,"终身",21,0,28,0,11629.62,0,0,11629.62]
["A21S0Y5L52",5,"终身",21,0,52,0,26403.62,0,0,26403.62]
["A21S0Y5L82",5,"终身",21,0,82,0,66618.98,0,0,66620.350000000006]
["A22S0Y5L12",5,"终身",22,0,12,0,6713.29,0,0,6713.29]
["A22S0Y5L40",5,"终身",22,0,40,0,17542.21,0,0,17542.21]
["A22S0Y5L45",5,"终身",22,0,45,0,20808.32,0,0,20808.32]
["A22S0Y5L71",5,"终身",22,0,71,0,48717.23,0,0,48717.24]
["A23S0Y5L15",5,"终身",23,0,15,0,7438.16,0,0,7438.16]
["A23S0Y5L30",5,"终身",23,0,30,0,12449.47,0,0,12449.47]
["A23S0Y5L56",5,"终身",23,0,56,0,30122.35,0,0,30122.35]
["A23S0Y5L63",5,"终身",23,0,63,0,37853,0,0,37853]
["A24S0Y5L4",5,"终身",24,0,4,520.47,1486.62,0,1213.4100000000001,4109.67]
["A24S0Y5L34",5,"终身",24,0,34,0,14274.67,0,0,14274.67]
["A24S0Y5L49",5,"终身",24,0,49,0,23802.03,0,0,23802.03]
["A24S0Y5L73",5,"终身",24,0,73,0,51101,0,0,51101.04]
["A24S0Y5L82",5,"终身",24,0,82,0,64208.1,0,0,64208.1]
["A25S0Y5L22",5,"终身",25,0,22,0,9455.01,0,0,9455.01]
["A25S0Y5L54",5,"终身",25,0,54,0,28107.97,0,0,28107.97]
["A25S0Y5L69",5,"终身",25,0,69,0,45244.85,0,0,45244.86]
["A26S0Y5L14",5,"终身",26,0,14,0,7182.36,0,0,7182.36]
["A26S0Y5L21",5,"终身",26,0,21,0,9133.66,0,0,9133.66]
["A26S0Y5L61",5,"终身",26,0,61,0,35226.959999999999,0,0,35226.959999999999]
["A26S0Y5L75",5,"终身",26,0,75,0,53211.42,0,0,53211.45]
["A27S0Y5L10",5,"终身",27,0,10,0,6264.34,0,0,6264.34]
["A27S0Y5L34",5,"终身",27,0,34,0,14260.46,0,0,14260.46]
["A27S0Y5L64",5,"终身",27,0,64,0,38566,0,0,38566]
["A27S0Y5L79",5,"终身",27,0,79,0,57881.65,0,0,57881.65]
["A28S0Y5L8",5,"终身",28,0,8,0,5851.23,0,0,5851.23]
["A28S0Y5L33",5,"终身",28,0,33,0,13777.05,0,0,13777.05]
["A28S0Y5L55",5,"终身",28,0,55,0,28904.51,0,0,28904.51]
["A29S0Y5L9",5,"终身",29,0,9,0,6052.05,0,0,6052.05]
["A29S0Y5L24",5,"终身",29,0,24,0,10119.02,0,0,10119.02]
["A29S0Y5L50",5,"终身",29,0,50,0,24483.65,0,0,24483.65]
["A29S0Y5L57",5,"终身",29,0,57,0,30767.18,0,0,30767.18]
["A29S0Y5L77",5,"终身",29,0,77,0,54026.04,0,0,54026.04]
["A30S0Y5L34",5,"终身",30,0,34,0,14249.12,0,0,14249.12]
["A30S0Y5L49",5,"终身",30,0,49,0,23654.5,0,0,23654.5]
["A30S0Y5L73",5,"终身",30,0,73,0,48820.2,0,0,48820.9]
["A31S0Y5L6",5,"终身",31,0,6,0,5464.72,0,0,5464.72]
["A31S0Y5L24",5,"终身",31,0,24,0,10115.75,0,0,10115.75]
["A31S0Y5L56",5,"终身",31,0,56,0,29649.15,0,0,29649.15]
["A31S0Y5L75",5,"终身",31,0,75,0,50428.55,0,0,50428.55]
["A32S0Y5L22",5,"终身",32,0,22,0,9443.64,0,0,9443.64]
["A32S0Y5L33",5,"终身",32,0,33,0,13762.23,0,0,13762.23]
["A32S0Y5L69",5,"终身",32,0,69,0,43268.82,0,0,43268.82]
["A33S0Y5L9",5,"终身",33,0,9,0,6046.42,0,0,6046.42]
["A33S0Y5L28",5,"终身",33,0,28,0,11596.64,0,0,11596.64]
["A33S0Y5L48",5,"终身",33,0,48,0,22787.93,0,0,22787.93]
["A33S0Y5L61",5,"终身",33,0,61,0,34336.21,0,0,34336.21]
["A34S0Y5L22",5,"终身",34,0,22,0,9440.09,0,0,9440.09]
["A34S0Y5L38",5,"终身",34,0,38,0,16297.35,0,0,16297.35]
[{"$f":"\"A\"&D12808&\"S\"&E12808&\"Y\"&B12808&\"L\"&F12808","v":"A34S0Y5L57"},5,"终身",34,0,57,0,30299.1,0,0,30299.11]
["A35S0Y5L3",5,"终身",35,0,3,458.09,1062.6400000000001,0,1213.51,2969.85]
["A35S0Y5L35",5,"终身",35,0,35,0,14713.22,0,0,14713.22]
["A35S0Y5L54",5,"终身",35,0,54,0,27511.88,0,0,27511.88]
["A36S0Y5L5",5,"终身",36,0,5,645.58000000000004,2690.84,0,1213.53,5278.56]
["A36S0Y5L16",5,"终身",36,0,16,0,7681.44,0,0,7681.44]
["A36S0Y5L32",5,"终身",36,0,32,0,13280.08,0,0,13280.08]
["A36S0Y5L66",5,"终身",36,0,66,0,38692.86,0,0,38692.910000000003]
["A37S0Y5L15",5,"终身",37,0,15,0,7420.87,0,0,7420.87]
["A37S0Y5L35",5,"终身",37,0,35,0,14694.95,0,0,14694.95]
["A37S0Y5L44",5,"终身",37,0,44,0,19851,0,0,19851]
["A37S0Y5L62",5,"终身",37,0,62,0,34506.129999999997,0,0,34506.199999999997]
["A38S0Y5L29",5,"终身",38,0,29,0,11978.35,0,0,11978.35]
["A38S0Y5L48",5,"终身",38,0,48,0,22556.75,0,0,22556.75]
["A38S0Y5L66",5,"终身",38,0,66,0,37988.69,0,0,37989.75]
["A39S0Y5L9",5,"终身",39,0,9,0,6041.99,0,0,6041.99]
["A39S0Y5L45",5,"终身",39,0,45,0,20428.48,0,0,20428.48]
["A39S0Y5L63",5,"终身",39,0,63,0,34877.89,0,0,34878.239999999998]
["A40S0Y5L15",5,"终身",40,0,15,0,7411.93,0,0,7411.93]
["A40S0Y5L31",5,"终身",40,0,31,0,12801.42,0,0,12801.42]
["A40S0Y5L44",5,"终身",40,0,44,0,19729.740000000002,0,0,19729.740000000002]
["A41S0Y5L12",5,"终身",41,0,12,0,6683.55,0,0,6683.55]
["A41S0Y5L32",5,"终身",41,0,32,0,13227.16,0,0,13227.16]
["A41S0Y5L47",5,"终身",41,0,47,0,21653.599999999999,0,0,21653.599999999999]
["A41S0Y5L65",5,"终身",41,0,65,0,35681.449999999997,0,0,35681.449999999997]
["A42S0Y5L15",5,"终身",42,0,15,0,7401.36,0,0,7401.36]
["A42S0Y5L55",5,"终身",42,0,55,0,27419.29,0,0,27419.29]
["A43S0Y5L9",5,"终身",43,0,9,0,6029.01,0,0,6029.01]
["A43S0Y5L20",5,"终身",43,0,20,0,8775.4699999999993,0,0,8775.4699999999993]
["A43S0Y5L36",5,"终身",43,0,36,0,15074.35,0,0,15074.35]
["A44S0Y5L11",5,"终身",44,0,11,0,6444.58,0,0,6444.58]
["A44S0Y5L26",5,"终身",44,0,26,0,10755,0,0,10755]
["A44S0Y5L46",5,"终身",44,0,46,0,20746.810000000001,0,0,20746.810000000001]
["A44S0Y5L59",5,"终身",44,0,59,0,30036.51,0,0,30036.51]
["A45S0Y5L31",5,"终身",45,0,31,0,12712.51,0,0,12712.51]
["A45S0Y5L51",5,"终身",45,0,51,0,23977.85,0,0,23977.85]
["A46S0Y5L5",5,"终身",46,0,5,768.68,3183.01,0,1214.01,5268.45]
["A46S0Y5L23",5,"终身",46,0,23,0,9688.14,0,0,9688.14]
["A46S0Y5L38",5,"终身",46,0,38,0,15980.27,0,0,15980.27]
["A47S0Y5L10",5,"终身",47,0,10,0,6213.81,0,0,6213.81]
["A47S0Y5L32",5,"终身",47,0,32,0,13091.91,0,0,13091.91]
["A47S0Y5L47",5,"终身",47,0,47,0,21073.79,0,0,21073.79]
["A48S0Y5L4",5,"终身",48,0,4,795.02,2243.4299999999998,0,1214.1400000000001,4094.71]
["A48S0Y5L21",5,"终身",48,0,21,0,9026.73,0,0,9026.73]
["A48S0Y5L55",5,"终身",48,0,55,0,26080.83,0,0,26080.83]
["A49S0Y5L17",5,"终身",49,0,17,0,7867.81,0,0,7867.81]
["A49S0Y5L32",5,"终身",49,0,32,0,13032.28,0,0,13032.28]
["A49S0Y5L46",5,"终身",49,0,46,0,20223.68,0,0,20223.68]
["A50S0Y5L8",5,"终身",50,0,8,0,5798.3,0,0,5798.3]
["A50S0Y5L40",5,"终身",50,0,40,0,16793.810000000001,0,0,16793.810000000001]
["A51S0Y5L6",5,"终身",51,0,6,0,5427.99,0,0,5427.99]
["A51S0Y5L21",5,"终身",51,0,21,0,8999.7000000000007,0,0,8999.7000000000007]
["A51S0Y5L33",5,"终身",51,0,33,0,13408.75,0,0,13408.75]
["A51S0Y5L54",5,"终身",51,0,54,0,24683.8,0,0,24683.8]
["A52S0Y5L35",5,"终身",52,0,35,0,14268.21,0,0,14268.21]
["A52S0Y5L51",5,"终身",52,0,51,0,22698.26,0,0,22698.26]
["A53S0Y5L14",5,"终身",53,0,14,0,7095.19,0,0,7095.19]
["A53S0Y5L28",5,"终身",53,0,28,0,11358.58,0,0,11358.58]
["A53S0Y5L47",5,"终身",53,0,47,0,20288.060000000001,0,0,20288.12]
["A54S0Y5L30",5,"终身",54,0,30,0,12112.67,0,0,12112.67]
["A54S0Y5L44",5,"终身",54,0,44,0,18569.11,0,0,18569.11]
["A55S0Y5L11",5,"终身",55,0,11,0,6411.21,0,0,6411.22]
["A55S0Y5L43",5,"终身",55,0,43,0,17955.77,0,0,17955.79]
["A55S0Y5L44",5,"终身",55,0,44,0,18459.509999999998,0,0,18459.55]
["A56S0Y5L29",5,"终身",56,0,29,0,11698.73,0,0,11698.73]
["A56S0Y5L45",5,"终身",56,0,45,0,18839.23,0,0,18839.23]
["A57S0Y5L12",5,"终身",57,0,12,0,6641.54,0,0,6641.54]
["A57S0Y5L42",5,"终身",57,0,42,0,17265.52,0,0,17265.52]
["A58S0Y5L17",5,"终身",58,0,17,0,7865.74,0,0,7865.74]
["A58S0Y5L32",5,"终身",58,0,32,0,12815.31,0,0,12815.31]
["A58S0Y5L46",5,"终身",58,0,46,0,19025.259999999998,0,0,19025.34]
["A59S0Y5L17",5,"终身",59,0,17,0,7861.58,0,0,7861.58]
["A59S0Y5L45",5,"终身",59,0,45,0,18387.97,0,0,18387.97]
["A60S0Y5L24",5,"终身",60,0,24,0,9889.7800000000007,0,0,9889.7800000000007]
["A60S0Y5L39",5,"终身",60,0,39,0,15586.7,0,0,15586.72]
["A0S1Y5L5",5,"终身",0,1,5,299.61,1257.6099999999999,0,1213.42,5292.72]
["A0S1Y5L26",5,"终身",0,1,26,0,10896.65,0,0,10896.65]
["A0S1Y5L62",5,"终身",0,1,62,0,37546.1,0,0,37546.11]
["A0S1Y5L78",5,"终身",0,1,78,0,64778.93,0,0,64778.94]
["A0S1Y5L95",5,"终身",0,1,95,0,112302.72,0,0,112302.88]
["A0S1Y5L105",5,"终身",0,1,105,0,149356.26,0,0,149371.39000000001]
[{"$f":"\"A\"&D14472&\"S\"&E14472&\"Y\"&B14472&\"L\"&F14472","v":"A1S1Y5L22"},5,"终身",1,1,22,0,9496.4599999999991,0,0,9496.4599999999991]
["A1S1Y5L58",5,"终身",1,1,58,0,32728.61,0,0,32728.61]
["A1S1Y5L72",5,"终身",1,1,72,0,52841.57,0,0,52841.58]
["A1S1Y5L91",5,"终身",1,1,91,0,98900.57,0,0,98900.62]
["A2S1Y5L14",5,"终身",2,1,14,0,7212.63,0,0,7212.63]
["A2S1Y5L36",5,"终身",2,1,36,0,15368.19,0,0,15368.19]
["A2S1Y5L55",5,"终身",2,1,55,0,29524.11,0,0,29524.11]
["A2S1Y5L67",5,"终身",2,1,67,0,44546.21,0,0,44546.21]
["A2S1Y5L88",5,"终身",2,1,88,0,89718.96,0,0,89718.98]
["A3S1Y5L10",5,"终身",3,1,10,0,6285.77,0,0,6285.77]
["A3S1Y5L34",5,"终身",3,1,34,0,14346.77,0,0,14346.78]
["A3S1Y5L53",5,"终身",3,1,53,0,27563.07,0,0,27563.07]
["A3S1Y5L63",5,"终身",3,1,63,0,38842.300000000003,0,0,38842.300000000003]
["A3S1Y5L86",5,"终身",3,1,86,0,83966.48,0,0,83966.5]
["A4S1Y5L7",5,"终身",4,1,7,0,5669.65,0,0,5669.65]
["A4S1Y5L33",5,"终身",4,1,33,0,13861.58,0,0,13861.58]
["A4S1Y5L52",5,"终身",4,1,52,0,26630.9,0,0,26630.9]
["A4S1Y5L60",5,"终身",4,1,60,0,35043.379999999997,0,0,35043.379999999997]
["A4S1Y5L81",5,"终身",4,1,81,0,71265.7,0,0,71265.710000000006]
["A4S1Y5L100",5,"终身",4,1,100,0,126776.79,0,0,126780.51]
["A5S1Y5L31",5,"终身",5,1,31,0,12940,0,0,12940]
["A5S1Y5L52",5,"终身",5,1,52,0,26628.81,0,0,26628.82]
["A5S1Y5L58",5,"终身",5,1,58,0,32716.81,0,0,32716.81]
["A5S1Y5L81",5,"终身",5,1,81,0,71143.27,0,0,71143.28]
["A5S1Y5L100",5,"终身",5,1,100,0,125757.98,0,0,125766.7]
["A6S1Y5L30",5,"终身",6,1,30,0,12502.1,0,0,12502.1]
["A6S1Y5L53",5,"终身",6,1,53,0,27556.2,0,0,27556.2]
["A6S1Y5L77",5,"终身",6,1,77,0,62281.8,0,0,62281.81]
["A6S1Y5L82",5,"终身",6,1,82,0,73338.05,0,0,73338.080000000002]
["A7S1Y5L1",5,"终身",7,1,1,132.55000000000001,117.32,0,0.18,810.97]
["A7S1Y5L30",5,"终身",7,1,30,0,12501.4,0,0,12501.4]
["A7S1Y5L51",5,"终身",7,1,51,0,25724.959999999999,0,0,25724.959999999999]
["A7S1Y5L77",5,"终身",7,1,77,0,62194.32,0,0,62194.32]
["A7S1Y5L84",5,"终身",7,1,84,0,77964,0,0,77964]
["A8S1Y5L25",5,"终身",8,1,25,0,10526.11,0,0,10526.11]
["A8S1Y5L31",5,"终身",8,1,31,0,12937.79,0,0,12937.79]
["A8S1Y5L54",5,"终身",8,1,54,0,28510.71,0,0,28510.71]
["A8S1Y5L78",5,"终身",8,1,78,0,64160.07,0,0,64160.07]
["A8S1Y5L87",5,"终身",8,1,87,0,85277.29,0,0,85277.29]
["A9S1Y5L25",5,"终身",9,1,25,0,10525.28,0,0,10525.28]
["A9S1Y5L33",5,"终身",9,1,33,0,13857.48,0,0,13857.48]
["A9S1Y5L58",5,"终身",9,1,58,0,32692.45,0,0,32692.45]
["A9S1Y5L80",5,"终身",9,1,80,0,68293.899999999994,0,0,68293.899999999994]
["A10S1Y5L15",5,"终身",10,1,15,0,7462.21,0,0,7462.21]
["A10S1Y5L30",5,"终身",10,1,30,0,12498.31,0,0,12498.31]
["A10S1Y5L56",5,"终身",10,1,56,0,30521.66,0,0,30521.66]
["A10S1Y5L63",5,"终身",10,1,63,0,38762.35,0,0,38762.35]
["A10S1Y5L82",5,"终身",10,1,82,0,72549.279999999999,0,0,72549.31]
["A11S1Y5L13",5,"终身",11,1,13,0,6965.93,0,0,6965.93]
["A11S1Y5L36",5,"终身",11,1,36,0,15359.32,0,0,15359.32]
["A11S1Y5L60",5,"终身",11,1,60,0,34982.33,0,0,34982.33]
["A11S1Y5L69",5,"终身",11,1,69,0,47438.43,0,0,47438.43]
[{"$f":"\"A\"&D15560&\"S\"&E15560&\"Y\"&B15560&\"L\"&F15560","v":"A12S1Y5L10"},5,"终身",12,1,10,0,6283.45,0,0,6283.46]
["A12S1Y5L18",5,"终身",12,1,18,0,8271.14,0,0,8271.14]
["A12S1Y5L43",5,"终身",12,1,43,0,19532.27,0,0,19532.28]
["A12S1Y5L65",5,"终身",12,1,65,0,41431.33,0,0,41431.339999999997]
["A12S1Y5L76",5,"终身",12,1,76,0,59635.94,0,0,59635.95]
["A13S1Y5L18",5,"终身",13,1,18,0,8270.0300000000007,0,0,8270.0300000000007]
["A13S1Y5L24",5,"终身",13,1,24,0,10164.870000000001,0,0,10164.870000000001]
["A13S1Y5L51",5,"终身",13,1,51,0,25697.759999999998,0,0,25697.759999999998]
["A13S1Y5L71",5,"终身",13,1,71,0,50570.11,0,0,50570.11]
["A13S1Y5L84",5,"终身",13,1,84,0,76234.14,0,0,76234.14]
["A14S1Y5L27",5,"终身",14,1,27,0,11267.33,0,0,11267.33]
["A14S1Y5L31",5,"终身",14,1,31,0,12928.16,0,0,12928.16]
["A14S1Y5L60",5,"终身",14,1,60,0,34930.870000000003,0,0,34930.870000000003]
["A14S1Y5L82",5,"终身",14,1,82,0,71467.509999999995,0,0,71467.570000000007]
["A15S1Y5L1",5,"终身",15,1,1,154.12,136.38,0,0.27,810.96]
["A15S1Y5L37",5,"终身",15,1,37,0,15885.76,0,0,15885.76]
["A15S1Y5L59",5,"终身",15,1,59,0,33745.32,0,0,33745.32]
["A15S1Y5L70",5,"终身",15,1,70,0,48771.82,0,0,48771.82]
["A15S1Y5L85",5,"终身",15,1,85,0,77674.44,0,0,77674.44]
["A16S1Y5L21",5,"终身",16,1,21,0,9164.64,0,0,9164.64]
["A16S1Y5L48",5,"终身",16,1,48,0,23169.09,0,0,23169.09]
["A16S1Y5L72",5,"终身",16,1,72,0,51943.35,0,0,51943.360000000001]
["A16S1Y5L81",5,"终身",16,1,81,0,68732.67,0,0,68732.72]
["A17S1Y5L6",5,"终身",17,1,6,0,5474.82,0,0,5474.82]
["A17S1Y5L31",5,"终身",17,1,31,0,12922.9,0,0,12922.9]
["A17S1Y5L60",5,"终身",17,1,60,0,34863.97,0,0,34863.980000000003]
["A17S1Y5L82",5,"终身",17,1,82,0,70434.649999999994,0,0,70435.02]
["A18S1Y5L4",5,"终身",18,1,4,419.15,1200.33,0,1213.3599999999999,4112.1499999999996]
["A18S1Y5L19",5,"终身",18,1,19,0,8554.2099999999991,0,0,8554.2099999999991]
["A18S1Y5L42",5,"终身",18,1,42,0,18853.41,0,0,18853.41]
["A18S1Y5L73",5,"终身",18,1,73,0,53347.67,0,0,53347.67]
["A19S1Y5L5",5,"终身",19,1,5,426.98,1792.36,0,1213.3599999999999,5290.17]
["A19S1Y5L18",5,"终身",19,1,18,0,8264.7900000000009,0,0,8264.7900000000009]
["A19S1Y5L33",5,"终身",19,1,33,0,13840.09,0,0,13840.09]
["A19S1Y5L58",5,"终身",19,1,58,0,32543.71,0,0,32543.71]
["A19S1Y5L87",5,"终身",19,1,87,0,78952.539999999994,0,0,78952.539999999994]
["A20S1Y5L18",5,"终身",20,1,18,0,8264.44,0,0,8264.44]
["A20S1Y5L33",5,"终身",20,1,33,0,13839.1,0,0,13839.1]
["A20S1Y5L69",5,"终身",20,1,69,0,46734.07,0,0,46734.080000000002]
["A20S1Y5L71",5,"终身",20,1,71,0,49798.63,0,0,49798.63]
["A21S1Y5L16",5,"终身",21,1,16,0,7714.9,0,0,7714.9]
[{"$f":"\"A\"&D16392&\"S\"&E16392&\"Y\"&B16392&\"L\"&F16392","v":"A21S1Y5L32"},5,"终身",21,1,32,0,13370.75,0,0,13370.75]
["A21S1Y5L45",5,"终身",21,1,45,0,20887.21,0,0,20887.21]
["A21S1Y5L85",5,"终身",21,1,85,0,73699.44,0,0,73699.44]
["A22S1Y5L20",5,"终身",22,1,20,0,8851.74,0,0,8851.74]
["A22S1Y5L33",5,"终身",22,1,33,0,13836.74,0,0,13836.74]
["A22S1Y5L48",5,"终身",22,1,48,0,23138.06,0,0,23138.06]
["A22S1Y5L73",5,"终身",22,1,73,0,52627.28,0,0,52627.29]
["A23S1Y5L18",5,"终身",23,1,18,0,8263.0400000000009,0,0,8263.0400000000009]
["A23S1Y5L36",5,"终身",23,1,36,0,15336.28,0,0,15336.28]
["A23S1Y5L51",5,"终身",23,1,51,0,25617.01,0,0,25617.01]
["A23S1Y5L66",5,"终身",23,1,66,0,42147.08,0,0,42147.09]
["A24S1Y5L6",5,"终身",24,1,6,0,5474.11,0,0,5474.11]
["A24S1Y5L37",5,"终身",24,1,37,0,15869.55,0,0,15869.55]
["A24S1Y5L53",5,"终身",24,1,53,0,27396.03,0,0,27396.03]
["A24S1Y5L66",5,"终身",24,1,66,0,42038.33,0,0,42038.35]
["A25S1Y5L3",5,"终身",25,1,3,344.71,804.06,0,1213.3599999999999,2973.62]
["A25S1Y5L24",5,"终身",25,1,24,0,10153.75,0,0,10153.75]
["A25S1Y5L57",5,"终身",25,1,57,0,31298.32,0,0,31298.32]
["A25S1Y5L71",5,"终身",25,1,71,0,48921.09,0,0,48921.1]
["A26S1Y5L5",5,"终身",26,1,5,486.25,2041.22,0,1213.3699999999999,5289.72]
["A26S1Y5L24",5,"终身",26,1,24,0,10152.83,0,0,10152.83]
["A26S1Y5L43",5,"终身",26,1,43,0,19482.36,0,0,19482.36]
["A26S1Y5L78",5,"终身",26,1,78,0,59394.89,0,0,59394.89]
["A27S1Y5L10",5,"终身",27,1,10,0,6276.89,0,0,6276.89]
["A27S1Y5L27",5,"终身",27,1,27,0,11254.07,0,0,11254.07]
["A27S1Y5L46",5,"终身",27,1,46,0,21573.4,0,0,21573.4]
["A28S1Y5L4",5,"终身",28,1,4,504.64,1445.14,0,1213.3699999999999,4111.67]
["A28S1Y5L17",5,"终身",28,1,17,0,7981.01,0,0,7981.01]
["A28S1Y5L36",5,"终身",28,1,36,0,15325.37,0,0,15325.37]
["A28S1Y5L57",5,"终身",28,1,57,0,31166.33,0,0,31166.34]
["A28S1Y5L69",5,"终身",28,1,69,0,45463.76,0,0,45463.8]
["A29S1Y5L26",5,"终身",29,1,26,0,10872.64,0,0,10872.64]
["A29S1Y5L41",5,"终身",29,1,41,0,18181.43,0,0,18181.43]
["A29S1Y5L60",5,"终身",29,1,60,0,34278.949999999997,0,0,34278.949999999997]
["A30S1Y5L2",5,"终身",30,1,2,290.94,468.18,0,1213.3800000000001,1873.58]
["A30S1Y5L33",5,"终身",30,1,33,0,13824.09,0,0,13824.09]
["A30S1Y5L49",5,"终身",30,1,49,0,23835.17,0,0,23835.17]
["A30S1Y5L66",5,"终身",30,1,66,0,41185.43,0,0,41185.47]
["A31S1Y5L9",5,"终身",31,1,9,0,6063.28,0,0,6063.28]
["A31S1Y5L26",5,"终身",31,1,26,0,10871.04,0,0,10871.04]
[{"$f":"\"A\"&D17224&\"S\"&E17224&\"Y\"&B17224&\"L\"&F17224","v":"A31S1Y5L59"},5,"终身",31,1,59,0,33035.31,0,0,33035.32]
["A31S1Y5L73",5,"终身",31,1,73,0,50004.88,0,0,50006.48]
["A32S1Y5L17",5,"终身",32,1,17,0,7979.56,0,0,7979.56]
["A32S1Y5L36",5,"终身",32,1,36,0,15314.77,0,0,15314.77]
["A32S1Y5L71",5,"终身",32,1,71,0,47031.08,0,0,47032.2]
["A33S1Y5L12",5,"终身",33,1,12,0,6719.36,0,0,6719.36]
["A33S1Y5L24",5,"终身",33,1,24,0,10147.77,0,0,10147.77]
["A33S1Y5L45",5,"终身",33,1,45,0,20785.7,0,0,20785.7]
["A33S1Y5L60",5,"终身",33,1,60,0,33883.99,0,0,33884.019999999997]
["A34S1Y5L24",5,"终身",34,1,24,0,10146.75,0,0,10146.75]
["A34S1Y5L41",5,"终身",34,1,41,0,18145.93,0,0,18145.93]
["A34S1Y5L60",5,"终身",34,1,60,0,33764.720000000001,0,0,33764.720000000001]
["A35S1Y5L5",5,"终身",35,1,5,574.42999999999995,2408.2600000000002,0,1213.4000000000001,5287.42]
["A35S1Y5L38",5,"终身",35,1,38,0,16380.48,0,0,16380.48]
["A35S1Y5L52",5,"终身",35,1,52,0,26143.21,0,0,26143.21]
["A35S1Y5L71",5,"终身",35,1,71,0,45510.16,0,0,45510.16]
["A36S1Y5L19",5,"终身",36,1,19,0,8544.25,0,0,8544.25]
["A36S1Y5L34",5,"终身",36,1,34,0,14287.85,0,0,14287.85]
["A36S1Y5L69",5,"终身",36,1,69,0,43219.92,0,0,43219.92]
["A37S1Y5L11",5,"终身",37,1,11,0,6490.9,0,0,6490.9]
["A37S1Y5L32",5,"终身",37,1,32,0,13340.5,0,0,13340.5]
["A37S1Y5L47",5,"终身",37,1,47,0,22123.03,0,0,22123.03]
["A37S1Y5L64",5,"终身",37,1,64,0,37459.85,0,0,37459.949999999997]
["A38S1Y5L32",5,"终身",38,1,32,0,13336.05,0,0,13336.05]
["A38S1Y5L42",5,"终身",38,1,42,0,18712.28,0,0,18712.28]
["A38S1Y5L65",5,"终身",38,1,65,0,38249.31,0,0,38250.559999999998]
["A39S1Y5L12",5,"终身",39,1,12,0,6715.42,0,0,6715.42]
["A39S1Y5L47",5,"终身",39,1,47,0,22046.9,0,0,22046.9]
["A39S1Y5L66",5,"终身",39,1,66,0,38971.699999999997,0,0,38971.699999999997]
["A40S1Y5L11",5,"终身",40,1,11,0,6487.8,0,0,6487.8]
["A40S1Y5L32",5,"终身",40,1,32,0,13324.04,0,0,13324.04]
["A40S1Y5L47",5,"终身",40,1,47,0,22001.39,0,0,22001.39]
["A41S1Y5L14",5,"终身",41,1,14,0,7189.32,0,0,7189.32]
["A41S1Y5L35",5,"终身",41,1,35,0,14742.98,0,0,14742.98]
["A41S1Y5L45",5,"终身",41,1,45,0,20572.93,0,0,20572.93]
["A42S1Y5L3",5,"终身",42,1,3,471.78,1097.8499999999999,0,1213.52,2972.14]
["A42S1Y5L18",5,"终身",42,1,18,0,8244.74,0,0,8244.74]
["A42S1Y5L49",5,"终身",42,1,49,0,23329.35,0,0,23329.35]
["A43S1Y5L8",5,"终身",43,1,8,0,5851.74,0,0,5851.74]
["A43S1Y5L23",5,"终身",43,1,23,0,9782.41,0,0,9782.41]
["A43S1Y5L38",5,"终身",43,1,38,0,16272.9,0,0,16272.9]
["A43S1Y5L56",5,"终身",43,1,56,0,28743.51,0,0,28743.51]
["A44S1Y5L26",5,"终身",44,1,26,0,10833.37,0,0,10833.38]
["A44S1Y5L47",5,"终身",44,1,47,0,21764.41,0,0,21764.42]
["A44S1Y5L62",5,"终身",44,1,62,0,33338.49,0,0,33338.49]
["A45S1Y5L13",5,"终身",45,1,13,0,6936.06,0,0,6936.06]
["A45S1Y5L33",5,"终身",45,1,33,0,13727.66,0,0,13727.66]
["A46S1Y5L3",5,"终身",46,1,3,507.33,1178.3,0,1213.6199999999999,2970.78]
["A46S1Y5L26",5,"终身",46,1,26,0,10818.86,0,0,10818.86]
["A46S1Y5L41",5,"终身",46,1,41,0,17864.689999999999,0,0,17864.7]
["A46S1Y5L56",5,"终身",46,1,56,0,28200.16,0,0,28200.54]
["A47S1Y5L35",5,"终身",47,1,35,0,14639.59,0,0,14639.59]
["A47S1Y5L43",5,"终身",47,1,43,0,18997,0,0,18997]
["A48S1Y5L9",5,"终身",48,1,9,0,6043.04,0,0,6043.04]
["A48S1Y5L24",5,"终身",48,1,24,0,10090.9,0,0,10090.9]
["A48S1Y5L57",5,"终身",48,1,57,0,28512.05,0,0,28512.06]
["A49S1Y5L20",5,"终身",49,1,20,0,8797.3799999999992,0,0,8797.3799999999992]
["A49S1Y5L26",5,"终身",49,1,26,0,10791.51,0,0,10791.51]
["A49S1Y5L53",5,"终身",49,1,53,0,25402.400000000001,0,0,25402.400000000001]
["A50S1Y5L11",5,"终身",50,1,11,0,6460.73,0,0,6460.73]
["A50S1Y5L42",5,"终身",50,1,42,0,18228.25,0,0,18228.25]
["A51S1Y5L9",5,"终身",51,1,9,0,6034.21,0,0,6034.21]
["A51S1Y5L24",5,"终身",51,1,24,0,10069.82,0,0,10069.82]
["A51S1Y5L39",5,"终身",51,1,39,0,16533.560000000001,0,0,16533.57]
["A52S1Y5L2",5,"终身",52,1,2,433.94,693.52,0,1213.83,1870.79]
["A52S1Y5L31",5,"终身",52,1,31,0,12726.2,0,0,12726.2]
["A53S1Y5L2",5,"终身",53,1,2,441.43,705.07,0,1213.8699999999999,1870.48]
["A53S1Y5L17",5,"终身",53,1,17,0,7931.72,0,0,7931.72]
["A53S1Y5L30",5,"终身",53,1,30,0,12298.77,0,0,12298.77]
["A53S1Y5L50",5,"终身",53,1,50,0,22749.08,0,0,22749.22]
["A54S1Y5L24",5,"终身",54,1,24,0,10057.41,0,0,10057.41]
["A54S1Y5L51",5,"终身",54,1,51,0,23188.66,0,0,23188.66]
["A55S1Y5L14",5,"终身",55,1,14,0,7160.35,0,0,7160.35]
["A55S1Y5L25",5,"终身",55,1,25,0,10396,0,0,10396.01]
["A55S1Y5L47",5,"终身",55,1,47,0,20675.490000000002,0,0,20675.89]
["A56S1Y5L21",5,"终身",56,1,21,0,9083.9699999999993,0,0,9083.9699999999993]
["A56S1Y5L46",5,"终身",56,1,46,0,19983.96,0,0,19983.96]
["A57S1Y5L15",5,"终身",57,1,15,0,7410.64,0,0,7410.64]
["A57S1Y5L44",5,"终身",57,1,44,0,18784.439999999999,0,0,18784.52]
["A57S1Y5L48",5,"终身",57,1,48,0,20938.919999999998,0,0,20939.689999999999]
["A58S1Y5L22",5,"终身",58,1,22,0,9386.7199999999993,0,0,9386.7199999999993]
[{"$f":"\"A\"&D18888&\"S\"&E18888&\"Y\"&B18888&\"L\"&F18888","v":"A59S1Y5L1"},5,"终身",59,1,1,341.87,299.3,0,5.54,808.98]
["A59S1Y5L20",5,"终身",59,1,20,0,8770.93,0,0,8770.93]
["A59S1Y5L47",5,"终身",59,1,47,0,19892.68,0,0,19892.68]
["A60S1Y5L23",5,"终身",60,1,23,0,9682.89,0,0,9682.89]
["A60S1Y5L27",5,"终身",60,1,27,0,11039.36,0,0,11039.36]
["A0S0Y10L10",10,"终身",0,0,10,329.86,11553.89,0,1076.8800000000001,11553.89]
["A0S0Y10L29",10,"终身",0,0,29,0,22204.2,0,0,22204.2]
["A0S0Y10L54",10,"终身",0,0,54,0,52407.99,0,0,52407.99]
["A0S0Y10L79",10,"终身",0,0,79,0,122529.46,0,0,122529.46]
["A0S0Y10L98",10,"终身",0,0,98,0,221324.87,0,0,221324.87]
["A1S0Y10L1",10,"终身",1,0,1,74.63,64.010000000000005,0,0.69,604.52]
["A1S0Y10L25",10,"终身",1,0,25,0,19351.14,0,0,19351.14]
["A1S0Y10L48",10,"终身",1,0,48,0,42653.760000000002,0,0,42653.760000000002]
["A1S0Y10L75",10,"终身",1,0,75,0,107119.79,0,0,107119.79]
["A1S0Y10L94",10,"终身",1,0,94,0,196261.99,0,0,196262.03]
["A2S0Y10L16",10,"终身",2,0,16,0,14201.66,0,0,14201.66]
["A2S0Y10L18",10,"终身",2,0,18,0,15211.57,0,0,15211.57]
["A2S0Y10L43",10,"终身",2,0,43,0,35921.96,0,0,35921.96]
["A2S0Y10L72",10,"终身",2,0,72,0,96771.98,0,0,96771.98]
["A2S0Y10L91",10,"终身",2,0,91,0,178704.3,0,0,178704.3]
["A3S0Y10L12",10,"终身",3,0,12,0,12376.9,0,0,12376.9]
["A3S0Y10L16",10,"终身",3,0,16,0,14200.89,0,0,14200.89]
["A3S0Y10L39",10,"终身",3,0,39,0,31307.25,0,0,31307.25]
["A3S0Y10L70",10,"终身",3,0,70,0,90396.44,0,0,90396.44]
["A3S0Y10L85",10,"终身",3,0,85,0,147983.96,0,0,147983.96]
["A4S0Y10L9",10,"终身",4,0,9,354.89,9726.4599999999991,0,1076.8599999999999,10163.89]
["A4S0Y10L36",10,"终身",4,0,36,0,28237.87,0,0,28237.88]
["A4S0Y10L56",10,"终身",4,0,56,0,56090.02,0,0,56090.02]
["A4S0Y10L69",10,"终身",4,0,69,0,87334.13,0,0,87334.13]
["A4S0Y10L84",10,"终身",4,0,84,0,142970.79,0,0,142970.79999999999]
["A5S0Y10L7",10,"终身",5,0,7,361.56,6419.52,0,1076.8599999999999,7521.9]
["A5S0Y10L36",10,"终身",5,0,36,0,28234.34,0,0,28234.34]
["A5S0Y10L55",10,"终身",5,0,55,0,54188.59,0,0,54188.59]
["A5S0Y10L60",10,"终身",5,0,60,0,64292.62,0,0,64292.62]
["A5S0Y10L84",10,"终身",5,0,84,0,142532.57,0,0,142532.57]
["A6S0Y10L6",10,"终身",6,0,6,368.36,4930.82,0,1076.8599999999999,6267.54]
["A6S0Y10L37",10,"终身",6,0,37,0,29216.76,0,0,29216.76]
["A6S0Y10L52",10,"终身",6,0,52,0,48884.32,0,0,48884.32]
["A6S0Y10L79",10,"终身",6,0,79,0,121264.7,0,0,121264.7]
["A6S0Y10L85",10,"终身",6,0,85,0,146506.57,0,0,146506.57]
["A7S0Y10L6",10,"终身",7,0,6,375.31,4930.79,0,1076.8699999999999,6267.54]
["A7S0Y10L39",10,"终身",7,0,39,0,31288.52,0,0,31288.52]
["A7S0Y10L54",10,"终身",7,0,54,0,52334.23,0,0,52334.23]
["A7S0Y10L79",10,"终身",7,0,79,0,120970.04,0,0,120970.04]
["A7S0Y10L87",10,"终身",7,0,87,0,154955.13,0,0,154955.13]
["A8S0Y10L7",10,"终身",8,0,7,382.41,6419.46,0,1076.8800000000001,7521.94]
["A8S0Y10L42",10,"终身",8,0,42,0,34674.76,0,0,34674.76]
["A8S0Y10L57",10,"终身",8,0,57,0,57964.19,0,0,57964.19]
["A8S0Y10L80",10,"终身",8,0,80,0,124528.35,0,0,124528.35]
["A8S0Y10L90",10,"终身",8,0,90,0,167974.5,0,0,167974.5]
["A9S0Y10L13",10,"终身",9,0,13,0,12801.9,0,0,12801.9]
["A9S0Y10L46",10,"终身",9,0,46,0,39762.730000000003,0,0,39762.730000000003]
["A9S0Y10L61",10,"终身",9,0,61,0,66385.67,0,0,66385.67]
["A9S0Y10L82",10,"终身",9,0,82,0,132074.29,0,0,132074.29999999999]
["A9S0Y10L94",10,"终身",9,0,94,0,185401.56,0,0,185403.66]
["A10S0Y10L33",10,"终身",10,0,33,0,25442.27,0,0,25442.27]
["A10S0Y10L38",10,"终身",10,0,38,0,30208.86,0,0,30208.86]
["A10S0Y10L66",10,"终身",10,0,66,0,78515.58,0,0,78515.58]
["A10S0Y10L89",10,"终身",10,0,89,0,161137.35999999999,0,0,161137.38]
["A11S0Y10L3",10,"终身",11,0,3,179.79,359.62,0,1076.9000000000001,2753.51]
["A11S0Y10L39",10,"终身",11,0,39,0,31253.78,0,0,31253.78]
["A11S0Y10L62",10,"终身",11,0,62,0,68563.679999999993,0,0,68563.679999999993]
["A11S0Y10L72",10,"终身",11,0,72,0,95603.05,0,0,95603.05]
["A11S0Y10L93",10,"终身",11,0,93,0,177391.27,0,0,177391.27]
["A12S0Y10L31",10,"终身",12,0,31,0,23739.1,0,0,23739.1]
[{"$f":"\"A\"&D20232&\"S\"&E20232&\"Y\"&B20232&\"L\"&F20232","v":"A12S0Y10L46"},10,"终身",12,0,46,0,39719.31,0,0,39719.31]
["A12S0Y10L67",10,"终身",12,0,67,0,80965.240000000005,0,0,80965.240000000005]
["A12S0Y10L79",10,"终身",12,0,79,0,119039,0,0,119039]
["A13S0Y10L4",10,"终身",13,0,4,419.91,791.33,0,1076.9100000000001,3884.67]
["A13S0Y10L39",10,"终身",13,0,39,0,31233.66,0,0,31233.66]
["A13S0Y10L54",10,"终身",13,0,54,0,52190.400000000001,0,0,52190.400000000001]
["A13S0Y10L77",10,"终身",13,0,77,0,111492.63,0,0,111492.63]
["A13S0Y10L87",10,"终身",13,0,87,0,149233.82999999999,0,0,149233.97]
["A14S0Y10L11",10,"终身",14,0,11,0,11941.64,0,0,11941.64]
["A14S0Y10L48",10,"终身",14,0,48,0,42501.35,0,0,42501.35]
["A14S0Y10L63",10,"终身",14,0,63,0,70682.850000000006,0,0,70682.850000000006]
["A14S0Y10L84",10,"终身",14,0,84,0,136462.37,0,0,136462.37]
["A15S0Y10L4",10,"终身",15,0,4,435.76,819.97,0,1076.93,3883.47]
["A15S0Y10L39",10,"终身",15,0,39,0,31214.07,0,0,31214.07]
["A15S0Y10L58",10,"终身",15,0,58,0,59695.91,0,0,59695.91]
["A15S0Y10L73",10,"终身",15,0,73,0,97725.51,0,0,97725.51]
["A16S0Y10L1",10,"终身",16,0,1,98.64,84.94,0,0.51,604.63]
["A16S0Y10L15",10,"终身",16,0,15,0,13688.03,0,0,13688.03]
["A16S0Y10L51",10,"终身",16,0,51,0,47043.72,0,0,47043.72]
["A16S0Y10L54",10,"终身",16,0,54,0,52097.42,0,0,52097.43]
["A16S0Y10L84",10,"终身",16,0,84,0,134517.35999999999,0,0,134517.35999999999]
["A17S0Y10L11",10,"终身",17,0,11,0,11935.91,0,0,11935.91]
["A17S0Y10L27",10,"终身",17,0,27,0,20665.099999999999,0,0,20665.099999999999]
["A17S0Y10L63",10,"终身",17,0,63,0,70392.740000000005,0,0,70392.740000000005]
["A17S0Y10L84",10,"终身",17,0,84,0,133458.07,0,0,133458.10999999999]
["A18S0Y10L7",10,"终身",18,0,7,460.47,6409.39,0,1076.9100000000001,7511.77]
["A18S0Y10L22",10,"终身",18,0,22,0,17399.689999999999,0,0,17399.689999999999]
["A18S0Y10L57",10,"终身",18,0,57,0,57562.64,0,0,57562.64]
["A18S0Y10L76",10,"终身",18,0,76,0,105896.6,0,0,105896.61]
["A19S0Y10L7",10,"终身",19,0,7,468.95,6408.97,0,1076.9100000000001,7511.37]
["A19S0Y10L21",10,"终身",19,0,21,0,16808.91,0,0,16808.91]
["A19S0Y10L34",10,"终身",19,0,34,0,26266.51,0,0,26266.51]
["A19S0Y10L71",10,"终身",19,0,71,0,90599.93,0,0,90599.93]
["A20S0Y10L3",10,"终身",20,0,3,212.26,422.21,0,1076.92,2751.36]
["A20S0Y10L20",10,"终身",20,0,20,0,16237.9,0,0,16237.9]
["A20S0Y10L36",10,"终身",20,0,36,0,28123.37,0,0,28123.37]
["A20S0Y10L67",10,"终身",20,0,67,0,79651.38,0,0,79651.38]
["A20S0Y10L86",10,"终身",20,0,86,0,135474.49,0,0,135474.49]
["A21S0Y10L19",10,"终身",21,0,19,0,15685.97,0,0,15685.97]
["A21S0Y10L34",10,"终身",21,0,34,0,26251.9,0,0,26251.9]
["A21S0Y10L48",10,"终身",21,0,48,0,42364.98,0,0,42364.99]
["A21S0Y10L67",10,"终身",21,0,67,0,79419.429999999993,0,0,79419.44]
["A22S0Y10L22",10,"终身",22,0,22,0,17384.78,0,0,17384.78]
["A22S0Y10L36",10,"终身",22,0,36,0,28105.23,0,0,28105.23]
["A22S0Y10L49",10,"终身",22,0,49,0,43798.52,0,0,43798.52]
["A22S0Y10L65",10,"终身",22,0,65,0,74327.039999999994,0,0,74327.039999999994]
["A23S0Y10L21",10,"终身",23,0,21,0,16793.689999999999,0,0,16793.689999999999]
["A23S0Y10L38",10,"终身",23,0,38,0,30087.119999999999,0,0,30087.119999999999]
["A23S0Y10L50",10,"终身",23,0,50,0,45270.18,0,0,45270.18]
["A23S0Y10L65",10,"终身",23,0,65,0,74109.789999999994,0,0,74109.789999999994]
["A23S0Y10L83",10,"终身",23,0,83,0,122120.35,0,0,122120.35]
["A24S0Y10L40",10,"终身",24,0,40,0,32205.49,0,0,32205.49]
["A24S0Y10L55",10,"终身",24,0,55,0,53463.3,0,0,53463.3]
["A24S0Y10L69",10,"终身",24,0,69,0,83528.289999999994,0,0,83528.289999999994]
["A25S0Y10L20",10,"终身",25,0,20,0,16220.85,0,0,16220.85]
["A25S0Y10L41",10,"终身",25,0,41,0,33311.69,0,0,33311.69]
["A25S0Y10L60",10,"终身",25,0,60,0,62854.83,0,0,62854.83]
["A25S0Y10L73",10,"终身",25,0,73,0,93295.43,0,0,93295.48]
["A26S0Y10L8",10,"终身",26,0,8,532.6,7996.83,0,1076.96,8800.65]
["A26S0Y10L39",10,"终身",26,0,39,0,31103.87,0,0,31103.87]
["A26S0Y10L62",10,"终身",26,0,62,0,66822.53,0,0,66822.53]
["A26S0Y10L77",10,"终身",26,0,77,0,102989.77,0,0,102989.77]
["A27S0Y10L12",10,"终身",27,0,12,0,12330.25,0,0,12330.25]
["A27S0Y10L30",10,"终身",27,0,30,0,22854.6,0,0,22854.6]
["A27S0Y10L59",10,"终身",27,0,59,0,60584.77,0,0,60584.77]
["A28S0Y10L5",10,"终身",28,0,5,552.08000000000004,1634.75,0,1076.99,5047.16]
["A28S0Y10L20",10,"终身",28,0,20,0,16215.79,0,0,16215.79]
["A28S0Y10L33",10,"终身",28,0,33,0,25322.9,0,0,25322.9]
["A28S0Y10L53",10,"终身",28,0,53,0,49760.65,0,0,49760.65]
["A28S0Y10L72",10,"终身",28,0,72,0,88879.72,0,0,88879.83]
["A29S0Y10L28",10,"终身",29,0,28,0,21333.200000000001,0,0,21333.200000000001]
["A29S0Y10L44",10,"终身",29,0,44,0,36811.660000000003,0,0,36811.660000000003]
["A29S0Y10L55",10,"终身",29,0,55,0,53024.01,0,0,53024.01]
["A29S0Y10L77",10,"终身",29,0,77,0,99302.73,0,0,99302.73]
["A30S0Y10L36",10,"终身",30,0,36,0,28041.31,0,0,28041.31]
["A30S0Y10L51",10,"终身",30,0,51,0,46447.73,0,0,46447.73]
["A30S0Y10L69",10,"终身",30,0,69,0,80738.05,0,0,80738.06]
["A31S0Y10L22",10,"终身",31,0,22,0,17360.82,0,0,17360.82]
["A31S0Y10L26",10,"终身",31,0,26,0,19912.68,0,0,19912.68]
["A31S0Y10L62",10,"终身",31,0,62,0,65627.48,0,0,65627.490000000005]
["A31S0Y10L75",10,"终身",31,0,75,0,92690.43,0,0,92690.43]
[{"$f":"\"A\"&D21896&\"S\"&E21896&\"Y\"&B21896&\"L\"&F21896","v":"A32S0Y10L20"},10,"终身",32,0,20,0,16207.09,0,0,16207.09]
["A32S0Y10L51",10,"终身",32,0,51,0,46288.12,0,0,46288.12]
["A32S0Y10L53",10,"终身",32,0,53,0,49386.54,0,0,49386.54]
["A33S0Y10L15",10,"终身",33,0,15,0,13648.96,0,0,13648.96]
["A33S0Y10L26",10,"终身",33,0,26,0,19903.79,0,0,19903.79]
["A33S0Y10L48",10,"终身",33,0,48,0,41883.949999999997,0,0,41883.949999999997]
["A34S0Y10L4",10,"终身",34,0,4,614.30999999999995,1146.96,0,1077.0999999999999,3876.43]
["A34S0Y10L8",10,"终身",34,0,8,614.30999999999995,7984.19,0,1077.0999999999999,8788.44]
["A34S0Y10L44",10,"终身",34,0,44,0,36637.03,0,0,36637.03]
["A34S0Y10L53",10,"终身",34,0,53,0,49137.45,0,0,49137.45]
["A35S0Y10L5",10,"终身",35,0,5,625.28,1843.86,0,1077.1300000000001,5041.6099999999997]
["A35S0Y10L20",10,"终身",35,0,20,0,16194.57,0,0,16194.57]
["A35S0Y10L54",10,"终身",35,0,54,0,50556.84,0,0,50556.84]
["A36S0Y10L3",10,"终身",36,0,3,282.85000000000002,558.11,0,1077.1600000000001,2747.91]
["A36S0Y10L14",10,"终身",36,0,14,0,13178.78,0,0,13178.78]
["A36S0Y10L36",10,"终身",36,0,36,0,27947.54,0,0,27947.54]
["A36S0Y10L51",10,"终身",36,0,51,0,45848.85,0,0,45848.85]
["A37S0Y10L13",10,"终身",37,0,13,0,12732.52,0,0,12732.52]
["A37S0Y10L35",10,"终身",37,0,35,0,26993.51,0,0,26993.51]
[{"$f":"\"A\"&D22280&\"S\"&E22280&\"Y\"&B22280&\"L\"&F22280","v":"A37S0Y10L44"},10,"终身",37,0,44,0,36464.79,0,0,36464.79]
["A37S0Y10L68",10,"终身",37,0,68,0,74036.100000000006,0,0,74036.100000000006]
["A38S0Y10L35",10,"终身",38,0,35,0,26966.03,0,0,26966.03]
["A38S0Y10L44",10,"终身",38,0,44,0,36392.400000000001,0,0,36392.410000000003]
["A38S0Y10L68",10,"终身",38,0,68,0,72743.259999999995,0,0,72743.259999999995]
["A39S0Y10L27",10,"终身",39,0,27,0,20532.5,0,0,20532.5]
["A39S0Y10L33",10,"终身",39,0,33,0,25176.400000000001,0,0,25176.400000000001]
["A40S0Y10L2",10,"终身",40,0,2,189.63,303.75,0,1077.3399999999999,1657.64]
["A40S0Y10L13",10,"终身",40,0,13,0,12712.23,0,0,12712.23]
["A40S0Y10L35",10,"终身",40,0,35,0,26898.47,0,0,26898.47]
["A40S0Y10L60",10,"终身",40,0,60,0,58659.46,0,0,58659.48]
["A41S0Y10L2",10,"终身",41,0,2,192.96,308.97000000000003,0,1077.44,1657.73]
["A41S0Y10L38",10,"终身",41,0,38,0,29682.73,0,0,29682.73]
["A41S0Y10L47",10,"终身",41,0,47,0,39748.28,0,0,39748.29]
["A42S0Y10L6",10,"终身",42,0,6,706.83,4901.5600000000004,0,1077.51,6241.11]
["A42S0Y10L21",10,"终身",42,0,21,0,16682.77,0,0,16682.77]
["A42S0Y10L55",10,"终身",42,0,55,0,50327.27,0,0,50327.28]
["A43S0Y10L11",10,"终身",43,0,11,0,11859.36,0,0,11859.36]
["A43S0Y10L18",10,"终身",43,0,18,0,15040.65,0,0,15040.65]
["A43S0Y10L44",10,"终身",43,0,44,0,35893,0,0,35893]
["A43S0Y10L59",10,"终身",43,0,59,0,55654.41,0,0,55654.49]
["A44S0Y10L28",10,"终身",44,0,28,0,21120.880000000001,0,0,21120.880000000001]
["A44S0Y10L50",10,"终身",44,0,50,0,42990.63,0,0,42990.63]
["A44S0Y10L55",10,"终身",44,0,55,0,49595.25,0,0,49595.29]
["A45S0Y10L21",10,"终身",45,0,21,0,16627.349999999999,0,0,16627.349999999999]
["A45S0Y10L36",10,"终身",45,0,36,0,27541.599999999999,0,0,27541.599999999999]
["A46S0Y10L5",10,"终身",46,0,5,756.74,2205.08,0,1077.83,5028.49]
["A46S0Y10L29",10,"终身",46,0,29,0,21773.599999999999,0,0,21773.599999999999]
["A46S0Y10L52",10,"终身",46,0,52,0,44949.17,0,0,44949.17]
["A46S0Y10L58",10,"终身",46,0,58,0,52664.91,0,0,52664.91]
["A47S0Y10L17",10,"终身",47,0,17,0,14473.31,0,0,14473.31]
["A47S0Y10L45",10,"终身",47,0,45,0,36420.959999999999,0,0,36420.959999999999]
["A48S0Y10L12",10,"终身",48,0,12,0,12203.85,0,0,12203.85]
["A48S0Y10L33",10,"终身",48,0,33,0,24790.92,0,0,24790.92]
["A48S0Y10L41",10,"终身",48,0,41,0,32067.09,0,0,32067.09]
["A49S0Y10L2",10,"终身",49,0,2,220.78,347.51,0,1078.1199999999999,1654.24]
["A49S0Y10L28",10,"终身",49,0,28,0,20977.68,0,0,20977.68]
["A49S0Y10L52",10,"终身",49,0,52,0,43939.9,0,0,43940]
["A50S0Y10L18",10,"终身",50,0,18,0,14963.38,0,0,14963.38]
["A50S0Y10L28",10,"终身",50,0,28,0,20964.169999999998,0,0,20964.169999999998]
["A51S0Y10L12",10,"终身",51,0,12,0,12198.07,0,0,12198.07]
["A51S0Y10L15",10,"终身",51,0,15,0,13514.05,0,0,13514.05]
["A51S0Y10L41",10,"终身",51,0,41,0,31762.68,0,0,31762.69]
["A52S0Y10L5",10,"终身",52,0,5,832.98,2398.62,0,1078.45,5010.67]
["A52S0Y10L33",10,"终身",52,0,33,0,24656.46,0,0,24656.46]
["A53S0Y10L5",10,"终身",53,0,5,845.92,2431,0,1078.57,5007.29]
["A53S0Y10L26",10,"终身",53,0,26,0,19590.12,0,0,19590.12]
["A53S0Y10L34",10,"终身",53,0,34,0,25415.57,0,0,25415.57]
["A53S0Y10L53",10,"终身",53,0,53,0,43227.89,0,0,43227.89]
["A54S0Y10L26",10,"终身",54,0,26,0,19576.98,0,0,19576.98]
["A54S0Y10L50",10,"终身",54,0,50,0,40082.949999999997,0,0,40082.949999999997]
["A55S0Y10L21",10,"终身",55,0,21,0,16565.86,0,0,16565.86]
["A55S0Y10L31",10,"终身",55,0,31,0,23007,0,0,23007]
["A55S0Y10L50",10,"终身",55,0,50,0,39710.959999999999,0,0,39712.85]
["A0S1Y10L23",10,"终身",0,1,23,0,18066.29,0,0,18066.29]
["A0S1Y10L49",10,"终身",0,1,49,0,44164.46,0,0,44164.46]
["A0S1Y10L70",10,"终身",0,1,70,0,90757.56,0,0,90757.56]
["A0S1Y10L82",10,"终身",0,1,82,0,136134.25,0,0,136134.25]
["A0S1Y10L101",10,"终身",0,1,101,0,246288.43,0,0,246288.43]
["A1S1Y10L17",10,"终身",1,1,17,0,14698.51,0,0,14698.51]
["A1S1Y10L45",10,"终身",1,1,45,0,38491.279999999999,0,0,38491.279999999999]
["A1S1Y10L64",10,"终身",1,1,64,0,73904.52,0,0,73904.52]
[{"$f":"\"A\"&D23560&\"S\"&E23560&\"Y\"&B23560&\"L\"&F23560","v":"A1S1Y10L78"},10,"终身",1,1,78,0,118982.17,0,0,118982.17]
["A2S1Y10L9",10,"终身",2,1,9,306.76,9726.24,0,1076.83,10163.6]
["A2S1Y10L12",10,"终身",2,1,12,0,12376.77,0,0,12376.77]
["A2S1Y10L42",10,"终身",2,1,42,0,34718.949999999997,0,0,34718.949999999997]
["A2S1Y10L61",10,"终身",2,1,61,0,66674.44,0,0,66674.44]
["A2S1Y10L85",10,"终身",2,1,85,0,149775.04999999999,0,0,149775.04999999999]
["A3S1Y10L7",10,"终身",3,1,7,312.5,6419.58,0,1076.83,7521.81]
["A3S1Y10L28",10,"终身",3,1,28,0,21454.25,0,0,21454.25]
["A3S1Y10L40",10,"终身",3,1,40,0,32410.959999999999,0,0,32410.959999999999]
["A3S1Y10L55",10,"终身",3,1,55,0,54263.09,0,0,54263.09]
["A3S1Y10L81",10,"终身",3,1,81,0,131189.92000000001,0,0,131189.92000000001]
["A4S1Y10L6",10,"终身",4,1,6,318.39,4931.03,0,1076.83,6267.55]
["A4S1Y10L25",10,"终身",4,1,25,0,19350.650000000001,0,0,19350.650000000001]
["A4S1Y10L39",10,"终身",4,1,39,0,31314.13,0,0,31314.13]
["A4S1Y10L54",10,"终身",4,1,54,0,52426.76,0,0,52426.76]
["A4S1Y10L78",10,"终身",4,1,78,0,118629.78,0,0,118629.78]
["A5S1Y10L6",10,"终身",5,1,6,324.42,4931.08,0,1076.83,6267.57]
["A5S1Y10L23",10,"终身",5,1,23,0,18063.650000000001,0,0,18063.650000000001]
["A5S1Y10L39",10,"终身",5,1,39,0,31312.09,0,0,31312.09]
["A5S1Y10L54",10,"终身",5,1,54,0,52420.88,0,0,52420.89]
["A5S1Y10L76",10,"终身",5,1,76,0,110858.77,0,0,110858.78]
["A6S1Y10L7",10,"终身",6,1,7,330.57,6419.75,0,1076.83,7521.91]
["A6S1Y10L26",10,"终身",6,1,26,0,20025.14,0,0,20025.14]
["A6S1Y10L40",10,"终身",6,1,40,0,32404.45,0,0,32404.45]
["A6S1Y10L55",10,"终身",6,1,55,0,54243.77,0,0,54243.77]
[{"$f":"\"A\"&D24072&\"S\"&E24072&\"Y\"&B24072&\"L\"&F24072","v":"A6S1Y10L75"},10,"终身",6,1,75,0,107104.49,0,0,107104.49]
["A7S1Y10L9",10,"终身",7,1,9,336.85,9726.52,0,1076.83,10163.86]
["A7S1Y10L26",10,"终身",7,1,26,0,20023.509999999998,0,0,20023.509999999998]
["A7S1Y10L42",10,"终身",7,1,42,0,34706.58,0,0,34706.58]
["A7S1Y10L57",10,"终身",7,1,57,0,58084.84,0,0,58084.84]
["A7S1Y10L79",10,"终身",7,1,79,0,122049.79,0,0,122049.8]
["A8S1Y10L12",10,"终身",8,1,12,0,12374.98,0,0,12374.98]
["A8S1Y10L27",10,"终身",8,1,27,0,20721.97,0,0,20721.97]
["A8S1Y10L49",10,"终身",8,1,49,0,44134.76,0,0,44134.76]
["A8S1Y10L81",10,"终身",8,1,81,0,129911.26,0,0,129911.26]
["A9S1Y10L2",10,"终身",9,1,2,97.16,158.27000000000001,0,1076.8399999999999,1660.64]
["A9S1Y10L16",10,"终身",9,1,16,0,14195.17,0,0,14195.17]
["A9S1Y10L31",10,"终身",9,1,31,0,23774.32,0,0,23774.32]
["A9S1Y10L51",10,"终身",9,1,51,0,47263.32,0,0,47263.32]
["A9S1Y10L85",10,"终身",9,1,85,0,146840.76,0,0,146840.85]
["A10S1Y10L5",10,"终身",10,1,5,356.44,1063.73,0,1076.8399999999999,5055.71]
["A10S1Y10L21",10,"终身",10,1,21,0,16855.18,0,0,16855.18]
["A10S1Y10L36",10,"终身",10,1,36,0,28229,0,0,28229]
["A10S1Y10L58",10,"终身",10,1,58,0,60062.37,0,0,60062.37]
["A10S1Y10L90",10,"终身",10,1,90,0,169631.15,0,0,169631.46]
["A11S1Y10L9",10,"终身",11,1,9,363.23,9724.0300000000007,0,1076.8499999999999,10161.370000000001]
["A11S1Y10L27",10,"终身",11,1,27,0,20714.29,0,0,20714.29]
["A11S1Y10L42",10,"终身",11,1,42,0,34686.81,0,0,34686.81]
["A11S1Y10L62",10,"终身",11,1,62,0,68816.240000000005,0,0,68816.240000000005]
["A12S1Y10L1",10,"终身",12,1,1,82.25,70.95,0,0.26,604.63]
["A12S1Y10L14",10,"终身",12,1,14,0,13248.06,0,0,13248.06]
["A12S1Y10L34",10,"终身",12,1,34,0,26346.23,0,0,26346.23]
["A12S1Y10L49",10,"终身",12,1,49,0,44102.55,0,0,44102.55]
["A12S1Y10L67",10,"终身",12,1,67,0,81440.039999999994,0,0,81440.039999999994]
["A13S1Y10L9",10,"终身",13,1,9,377.14,9721.67,0,1076.8599999999999,10158.99]
["A13S1Y10L24",10,"终身",13,1,24,0,18679.63,0,0,18679.63]
["A13S1Y10L46",10,"终身",13,1,46,0,39780.71,0,0,39780.71]
["A13S1Y10L57",10,"终身",13,1,57,0,57985.64,0,0,57985.64]
["A13S1Y10L93",10,"终身",13,1,93,0,178444.26,0,0,178444.26]
["A14S1Y10L18",10,"终身",14,1,18,0,15196.03,0,0,15196.03]
["A14S1Y10L33",10,"终身",14,1,33,0,25449.69,0,0,25449.69]
["A14S1Y10L53",10,"终身",14,1,53,0,50559.94,0,0,50559.94]
["A14S1Y10L66",10,"终身",14,1,66,0,78603.31,0,0,78603.320000000007]
["A15S1Y10L8",10,"终身",15,1,8,391.52,8011.44,0,1076.8599999999999,8814.9699999999993]
["A15S1Y10L24",10,"终身",15,1,24,0,18675.740000000002,0,0,18675.740000000002]
[{"$f":"\"A\"&D24904&\"S\"&E24904&\"Y\"&B24904&\"L\"&F24904","v":"A15S1Y10L43"},10,"终身",15,1,43,0,35876.58,0,0,35876.58]
["A15S1Y10L61",10,"终身",15,1,61,0,66370.009999999995,0,0,66370.009999999995]
["A15S1Y10L76",10,"终身",15,1,76,0,108730.24000000001,0,0,108730.24000000001]
["A16S1Y10L17",10,"终身",16,1,17,0,14680.09,0,0,14680.09]
["A16S1Y10L35",10,"终身",16,1,35,0,27254.13,0,0,27254.13]
["A16S1Y10L54",10,"终身",16,1,54,0,52287.47,0,0,52287.47]
["A16S1Y10L70",10,"终身",16,1,70,0,89477.33,0,0,89477.34]
["A17S1Y10L18",10,"终身",17,1,18,0,15192.19,0,0,15192.19]
["A17S1Y10L27",10,"终身",17,1,27,0,20701.080000000002,0,0,20701.080000000002]
["A17S1Y10L47",10,"终身",17,1,47,0,41140.949999999997,0,0,41140.949999999997]
["A17S1Y10L66",10,"终身",17,1,66,0,78329.83,0,0,78329.83]
["A18S1Y10L11",10,"终身",18,1,11,0,11946.89,0,0,11946.89]
["A18S1Y10L27",10,"终身",18,1,27,0,20699.59,0,0,20699.59]
["A18S1Y10L46",10,"终身",18,1,46,0,39747.99,0,0,39747.99]
["A18S1Y10L64",10,"终身",18,1,64,0,73208.02,0,0,73208.02]
["A18S1Y10L79",10,"终身",18,1,79,0,117915.12,0,0,117915.16]
["A19S1Y10L23",10,"终身",19,1,23,0,18039.41,0,0,18039.41]
["A19S1Y10L41",10,"终身",19,1,41,0,33479.43,0,0,33479.43]
["A19S1Y10L60",10,"终身",19,1,60,0,63981.55,0,0,63981.55]
["A19S1Y10L76",10,"终身",19,1,76,0,107251.76,0,0,107251.83]
["A20S1Y10L6",10,"终身",20,1,6,429.65,4927.08,0,1076.8499999999999,6263.59]
["A20S1Y10L36",10,"终身",20,1,36,0,28195.82,0,0,28195.82]
["A20S1Y10L56",10,"终身",20,1,56,0,55868.68,0,0,55868.68]
["A20S1Y10L75",10,"终身",20,1,75,0,103620.98,0,0,103620.98]
["A21S1Y10L3",10,"终身",21,1,3,194.54,388.58,0,1076.8499999999999,2752.46]
["A21S1Y10L39",10,"终身",21,1,39,0,31250.78,0,0,31250.78]
["A21S1Y10L50",10,"终身",21,1,50,0,45542.93,0,0,45542.93]
["A21S1Y10L72",10,"终身",21,1,72,0,94137.06,0,0,94137.06]
["A22S1Y10L6",10,"终身",22,1,6,445.92,4926.91,0,1076.8499999999999,6263.44]
["A22S1Y10L18",10,"终身",22,1,18,0,15187.46,0,0,15187.46]
["A22S1Y10L56",10,"终身",22,1,56,0,55791.19,0,0,55791.199999999997]
["A22S1Y10L65",10,"终身",22,1,65,0,75174.55,0,0,75174.559999999998]
["A23S1Y10L5",10,"终身",23,1,5,454.29,1352.56,0,1076.8499999999999,5052.71]
["A23S1Y10L20",10,"终身",23,1,20,0,16266.91,0,0,16266.91]
["A23S1Y10L54",10,"终身",23,1,54,0,52114.29,0,0,52114.29]
["A23S1Y10L74",10,"终身",23,1,74,0,99258.84,0,0,99258.84]
["A23S1Y10L81",10,"终身",23,1,81,0,121045.51,0,0,121045.51]
["A24S1Y10L24",10,"终身",24,1,24,0,18663.02,0,0,18663.02]
["A24S1Y10L39",10,"终身",24,1,39,0,31236.93,0,0,31236.93]
["A24S1Y10L71",10,"终身",24,1,71,0,90281.72,0,0,90281.74]
["A25S1Y10L11",10,"终身",25,1,11,0,11943.81,0,0,11943.81]
["A25S1Y10L30",10,"终身",25,1,30,0,22933.59,0,0,22933.59]
["A25S1Y10L42",10,"终身",25,1,42,0,34612.28,0,0,34612.28]
["A25S1Y10L59",10,"终身",25,1,59,0,61461.760000000002,0,0,61461.77]
["A26S1Y10L8",10,"终身",26,1,8,480.29,8008.28,0,1076.8599999999999,8811.82]
["A26S1Y10L32",10,"终身",26,1,32,0,24562.17,0,0,24562.17]
["A26S1Y10L47",10,"终身",26,1,47,0,41041.49,0,0,41041.49]
["A26S1Y10L61",10,"终身",26,1,61,0,65502.13,0,0,65502.14]
["A26S1Y10L80",10,"终身",26,1,80,0,114026.26,0,0,114026.26]
["A27S1Y10L28",10,"终身",27,1,28,0,21408.65,0,0,21408.66]
["A27S1Y10L54",10,"终身",27,1,54,0,51939.8,0,0,51939.8]
["A27S1Y10L69",10,"终身",27,1,69,0,83934.81,0,0,83934.88]
["A28S1Y10L2",10,"终身",28,1,2,138.44999999999999,224.82,0,1076.8699999999999,1659.97]
["A28S1Y10L23",10,"终身",28,1,23,0,18029.13,0,0,18029.13]
["A28S1Y10L53",10,"终身",28,1,53,0,50183.16,0,0,50183.17]
["A28S1Y10L77",10,"终身",28,1,77,0,104630.27,0,0,104635.55]
["A29S1Y10L14",10,"终身",29,1,14,0,13232.33,0,0,13232.33]
["A29S1Y10L44",10,"终身",29,1,44,0,37016.58,0,0,37016.58]
["A29S1Y10L47",10,"终身",29,1,47,0,40982.720000000001,0,0,40982.720000000001]
["A29S1Y10L75",10,"终身",29,1,75,0,98462.51,0,0,98465.61]
["A30S1Y10L24",10,"终身",30,1,24,0,18656.95,0,0,18656.95]
["A30S1Y10L39",10,"终身",30,1,39,0,31204.48,0,0,31204.48]
["A30S1Y10L67",10,"终身",30,1,67,0,78009.06,0,0,78009.06]
["A31S1Y10L17",10,"终身",31,1,17,0,14667.87,0,0,14667.87]
["A31S1Y10L32",10,"终身",31,1,32,0,24550.12,0,0,24550.12]
["A31S1Y10L44",10,"终身",31,1,44,0,36982.58,0,0,36982.58]
["A31S1Y10L65",10,"终身",31,1,65,0,73140.98,0,0,73140.98]
["A32S1Y10L20",10,"终身",32,1,20,0,16259.43,0,0,16259.43]
["A32S1Y10L44",10,"终身",32,1,44,0,36961.97,0,0,36961.97]
["A32S1Y10L59",10,"终身",32,1,59,0,60552.71,0,0,60552.71]
["A32S1Y10L69",10,"终身",32,1,69,0,81792.14,0,0,81792.149999999994]
["A33S1Y10L18",10,"终身",33,1,18,0,15178.4,0,0,15178.4]
["A33S1Y10L46",10,"终身",33,1,46,0,39511.699999999997,0,0,39511.699999999997]
["A33S1Y10L72",10,"终身",33,1,72,0,88086.34,0,0,88088.63]
["A34S1Y10L14",10,"终身",34,1,14,0,13228.32,0,0,13228.32]
["A34S1Y10L42",10,"终身",34,1,42,0,34500.71,0,0,34500.71]
["A34S1Y10L47",10,"终身",34,1,47,0,40817,0,0,40817]
["A35S1Y10L1",10,"终身",35,1,1,126.04,108.4,0,0.8,604.37]
["A35S1Y10L29",10,"终身",35,1,29,0,22135.33,0,0,22135.33]
["A35S1Y10L44",10,"终身",35,1,44,0,36879.01,0,0,36879.01]
["A35S1Y10L54",10,"终身",35,1,54,0,51244.160000000003,0,0,51244.17]
[{"$f":"\"A\"&D26568&\"S\"&E26568&\"Y\"&B26568&\"L\"&F26568","v":"A36S1Y10L6"},10,"终身",36,1,6,577.70000000000005,4922.5,0,1076.95,6259.33]
["A36S1Y10L30",10,"终身",36,1,30,0,22900.959999999999,0,0,22900.959999999999]
["A36S1Y10L60",10,"终身",36,1,60,0,61562.32,0,0,61562.35]
["A37S1Y10L5",10,"终身",37,1,5,588.41,1747.5,0,1076.96,5049.6099999999997]
["A37S1Y10L33",10,"终身",37,1,33,0,25366.080000000002,0,0,25366.080000000002]
["A37S1Y10L38",10,"终身",37,1,38,0,30071.11,0,0,30071.119999999999]
["A37S1Y10L60",10,"终身",37,1,60,0,61284.23,0,0,61284.29]
["A38S1Y10L19",10,"终身",38,1,19,0,15695.36,0,0,15695.36]
["A38S1Y10L38",10,"终身",38,1,38,0,30049.88,0,0,30049.88]
["A38S1Y10L64",10,"终身",38,1,64,0,68379.61,0,0,68379.61]
["A39S1Y10L3",10,"终身",39,1,3,271.27999999999997,539.96,0,1077,2751.06]
["A39S1Y10L39",10,"终身",39,1,39,0,31055.279999999999,0,0,31055.279999999999]
["A39S1Y10L49",10,"终身",39,1,49,0,43218.55,0,0,43218.55]
["A40S1Y10L5",10,"终身",40,1,5,621.64,1844.49,0,1077.02,5049.1899999999996]
["A40S1Y10L29",10,"终身",40,1,29,0,22096.82,0,0,22096.82]
["A40S1Y10L38",10,"终身",40,1,38,0,29997.83,0,0,29997.83]
["A41S1Y10L8",10,"终身",41,1,8,633.08000000000004,7997.21,0,1077.07,8801.5300000000007]
["A41S1Y10L16",10,"终身",41,1,16,0,14145.98,0,0,14145.98]
["A41S1Y10L41",10,"终身",41,1,41,0,33127.160000000003,0,0,33127.160000000003]
["A41S1Y10L63",10,"终身",41,1,63,0,65069.06,0,0,65069.29]
["A42S1Y10L26",10,"终身",42,1,26,0,19922.34,0,0,19922.34]
["A42S1Y10L45",10,"终身",42,1,45,0,37709.53,0,0,37709.54]
["A43S1Y10L7",10,"终身",43,1,7,656.51,6401.36,0,1077.1300000000001,7504.72]
["A43S1Y10L14",10,"终身",43,1,14,0,13197.65,0,0,13197.65]
["A43S1Y10L34",10,"终身",43,1,34,0,26134.2,0,0,26134.2]
["A44S1Y10L1",10,"终身",44,1,1,148.55000000000001,127.35,0,1.5,604.29999999999995]
["A44S1Y10L20",10,"终身",44,1,20,0,16205.53,0,0,16205.53]
["A44S1Y10L44",10,"终身",44,1,44,0,36331.57,0,0,36331.57]
["A44S1Y10L49",10,"终身",44,1,49,0,42557.83,0,0,42557.83]
["A45S1Y10L9",10,"终身",45,1,9,680.62,9690.6200000000008,0,1077.2,10128.73]
["A45S1Y10L41",10,"终身",45,1,41,0,32886.68,0,0,32886.68]
["A45S1Y10L60",10,"终身",45,1,60,0,58132.88,0,0,58132.959999999999]
["A46S1Y10L21",10,"终身",46,1,21,0,16750.849999999999,0,0,16750.849999999999]
["A46S1Y10L28",10,"终身",46,1,28,0,21268.28,0,0,21268.28]
["A47S1Y10L8",10,"终身",47,1,8,705.38,7981.95,0,1077.29,8787.1]
["A47S1Y10L14",10,"终身",47,1,14,0,13171.63,0,0,13171.63]
["A47S1Y10L41",10,"终身",47,1,41,0,32729.66,0,0,32729.66]
["A48S1Y10L2",10,"终身",48,1,2,199.43,320.45,0,1077.33,1658.15]
["A48S1Y10L32",10,"终身",48,1,32,0,24296.86,0,0,24296.86]
["A48S1Y10L51",10,"终身",48,1,51,0,44375.5,0,0,44375.64]
["A48S1Y10L55",10,"终身",48,1,55,0,49664.61,0,0,49665.58]
["A49S1Y10L22",10,"终身",49,1,22,0,17310.57,0,0,17310.57]
["A49S1Y10L44",10,"终身",49,1,44,0,35780.879999999997,0,0,35780.879999999997]
["A50S1Y10L19",10,"终身",50,1,19,0,15623.69,0,0,15623.69]
["A50S1Y10L38",10,"终身",50,1,38,0,29517.42,0,0,29517.42]
["A51S1Y10L4",10,"终身",51,1,4,756.23,1405.52,0,1077.49,3872.75]
["A51S1Y10L11",10,"终身",51,1,11,0,11881.33,0,0,11881.33]
["A51S1Y10L31",10,"终身",51,1,31,0,23436.41,0,0,23436.41]
["A52S1Y10L10",10,"终身",52,1,10,769.25,11484.22,0,1077.55,11484.22]
["A52S1Y10L29",10,"终身",52,1,29,0,21909.73,0,0,21909.73]
["A52S1Y10L49",10,"终身",52,1,49,0,40980.800000000003,0,0,40980.800000000003]
["A53S1Y10L4",10,"终身",53,1,4,782.46,1450.86,0,1077.6199999999999,3870.56]
["A53S1Y10L22",10,"终身",53,1,22,0,17302.64,0,0,17302.64]
["A54S1Y10L5",10,"终身",54,1,5,795.85,2330.77,0,1077.69,5032.09]
["A54S1Y10L20",10,"终身",54,1,20,0,16164.1,0,0,16164.11]
["A54S1Y10L42",10,"终身",54,1,42,0,33071.269999999997,0,0,33071.31]
["A55S1Y10L1",10,"终身",55,1,1,179.88,152.61000000000001,0,4.01,603.66]
["A55S1Y10L20",10,"终身",55,1,20,0,16159.71,0,0,16159.71]
["A55S1Y10L43",10,"终身",55,1,43,0,33924.639999999999,0,0,33924.639999999999]
["A0S0Y15L19",15,"终身",0,0,19,0,21140.42,0,0,21140.42]
["A0S0Y15L39",15,"终身",0,0,39,0,42040.45,0,0,42040.45]
["A0S0Y15L52",15,"终身",0,0,52,0,65698.720000000001,0,0,65698.720000000001]
["A0S0Y15L88",15,"终身",0,0,88,0,220296.23,0,0,220296.23]
["A0S0Y15L92",15,"终身",0,0,92,0,249373.44,0,0,249373.44]
["A1S0Y15L15",15,"终身",1,0,15,312.69,18425.82,0,1007.33,18425.82]
["A1S0Y15L33",15,"终身",1,0,33,0,34204.04,0,0,34204.04]
["A1S0Y15L48",15,"终身",1,0,48,0,57264.99,0,0,57265]
["A1S0Y15L84",15,"终身",1,0,84,0,193421.14,0,0,193421.14]
["A2S0Y15L1",15,"终身",2,0,1,70.78,60.29,0,0.55000000000000004,82.74]
["A2S0Y15L12",15,"终身",2,0,12,318.49,12869.7,0,1007.33,13720.24]
["A2S0Y15L28",15,"终身",2,0,28,0,28799.79,0,0,28799.79]
["A2S0Y15L45",15,"终身",2,0,45,0,51653.19,0,0,51653.19]
["A2S0Y15L81",15,"终身",2,0,81,0,175143.29,0,0,175143.3]
["A2S0Y15L101",15,"终身",2,0,101,0,316920.53000000003,0,0,316920.8]
["A3S0Y15L10",15,"终身",3,0,10,324.45,9646.51,0,1007.34,10841.87]
["A3S0Y15L28",15,"终身",3,0,28,0,28796.1,0,0,28796.1]
["A3S0Y15L64",15,"终身",3,0,64,0,98994.54,0,0,98994.54]
["A3S0Y15L79",15,"终身",3,0,79,0,163766.14000000001,0,0,163766.14000000001]
["A3S0Y15L97",15,"终身",3,0,97,0,283066.11,0,0,283066.15999999997]
["A4S0Y15L9",15,"终身",4,0,9,330.55,8167.6,0,1007.34,9475.2800000000007]
["A4S0Y15L25",15,"终身",4,0,25,0,25970.14,0,0,25970.14]
["A4S0Y15L63",15,"终身",4,0,63,0,95633.9,0,0,95633.9]
["A4S0Y15L78",15,"终身",4,0,78,0,158206.66,0,0,158206.66]
["A4S0Y15L94",15,"终身",4,0,94,0,258862.69,0,0,258862.79]
["A5S0Y15L9",15,"终身",5,0,9,336.78,8167.63,0,1007.34,9475.32]
["A5S0Y15L45",15,"终身",5,0,45,0,51621.35,0,0,51621.35]
["A5S0Y15L65",15,"终身",5,0,65,0,102309.58,0,0,102309.58]
["A5S0Y15L78",15,"终身",5,0,78,0,157905.95000000001,0,0,157905.95000000001]
["A5S0Y15L96",15,"终身",5,0,96,0,271307.68,0,0,271307.68]
["A6S0Y15L10",15,"终身",6,0,10,343.14,9646.65,0,1007.35,10842.06]
["A6S0Y15L46",15,"终身",6,0,46,0,53408.94,0,0,53408.94]
["A6S0Y15L64",15,"终身",6,0,64,0,98831.7,0,0,98831.7]
["A6S0Y15L79",15,"终身",6,0,79,0,162748.69,0,0,162748.69]
[{"$f":"\"A\"&D28488&\"S\"&E28488&\"Y\"&B28488&\"L\"&F28488","v":"A6S0Y15L95"},15,"终身",6,0,95,0,262084.92,0,0,262084.92]
["A7S0Y15L12",15,"终身",7,0,12,349.62,12867.31,0,1007.35,13717.82]
["A7S0Y15L48",15,"终身",7,0,48,0,57183.24,0,0,57183.24]
["A7S0Y15L68",15,"终身",7,0,68,0,113036.46,0,0,113036.46]
["A7S0Y15L81",15,"终身",7,0,81,0,172995.49,0,0,172995.49]
["A7S0Y15L95",15,"终身",7,0,95,0,259879.99,0,0,259879.99]
["A8S0Y15L15",15,"终身",8,0,15,356.23,18410.12,0,1007.35,18410.12]
["A8S0Y15L51",15,"终身",8,0,51,0,63352.33,0,0,63352.33]
["A8S0Y15L69",15,"终身",8,0,69,0,116754.35,0,0,116754.35]
["A8S0Y15L84",15,"终身",8,0,84,0,189164.62,0,0,189164.62]
["A8S0Y15L96",15,"终身",8,0,96,0,264101.94,0,0,264101.94]
["A9S0Y15L19",15,"终身",9,0,19,0,21108.9,0,0,21108.9]
["A9S0Y15L55",15,"终身",9,0,55,0,72613.13,0,0,72613.13]
["A9S0Y15L71",15,"终身",9,0,71,0,124599.58,0,0,124599.58]
["A9S0Y15L88",15,"终身",9,0,88,0,211693.56,0,0,211693.59]
["A10S0Y15L6",15,"终身",10,0,6,369.79,4218.43,0,1007.36,5646.68]
["A10S0Y15L27",15,"终身",10,0,27,0,27779.43,0,0,27779.43]
["A10S0Y15L60",15,"终身",10,0,60,0,86049.13,0,0,86049.13]
["A10S0Y15L74",15,"终身",10,0,74,0,137194.97,0,0,137194.97]
["A10S0Y15L93",15,"终身",10,0,93,0,240317.58,0,0,240317.58]
["A11S0Y15L12",15,"终身",11,0,12,376.74,12854.5,0,1007.36,13704.68]
["A11S0Y15L51",15,"终身",11,0,51,0,63275.89,0,0,63275.89]
["A11S0Y15L66",15,"终身",11,0,66,0,105232.44,0,0,105232.44]
["A11S0Y15L78",15,"终身",11,0,78,0,155423.92000000001,0,0,155423.92000000001]
["A11S0Y15L95",15,"终身",11,0,95,0,248190.85,0,0,248190.85]
["A12S0Y15L19",15,"终身",12,0,19,0,21093.38,0,0,21093.38]
["A12S0Y15L56",15,"终身",12,0,56,0,75013.72,0,0,75013.72]
["A12S0Y15L73",15,"终身",12,0,73,0,132216.67000000001,0,0,132216.67000000001]
["A12S0Y15L83",15,"终身",12,0,83,0,180115.21,0,0,180115.21]
["A13S0Y15L8",15,"终身",13,0,8,390.98,6765.41,0,1007.37,8147.93]
["A13S0Y15L48",15,"终身",13,0,48,0,57055.57,0,0,57055.57]
["A13S0Y15L62",15,"终身",13,0,62,0,91828.35,0,0,91828.36]
["A13S0Y15L81",15,"终身",13,0,81,0,168934.42,0,0,168934.43]
["A14S0Y15L16",15,"终身",14,0,16,0,19026.02,0,0,19026.02]
["A14S0Y15L17",15,"终身",14,0,17,0,19687.95,0,0,19687.95]
["A14S0Y15L57",15,"终身",14,0,57,0,77502.36,0,0,77502.36]
["A14S0Y15L69",15,"终身",14,0,69,0,115629.46,0,0,115629.46]
["A14S0Y15L86",15,"终身",14,0,86,0,193440.93,0,0,193441.2]
["A15S0Y15L24",15,"终身",15,0,24,0,25025.15,0,0,25025.15]
["A15S0Y15L48",15,"终身",15,0,48,0,57007.66,0,0,57007.66]
["A15S0Y15L67",15,"终身",15,0,67,0,108105.24,0,0,108105.24]
["A15S0Y15L77",15,"终身",15,0,77,0,148442.9,0,0,148442.9]
["A16S0Y15L5",15,"终身",16,0,5,413.22,1181.08,0,1007.37,4451.97]
["A16S0Y15L24",15,"终身",16,0,24,0,25018.67,0,0,25018.67]
["A16S0Y15L59",15,"终身",16,0,59,0,82768.14,0,0,82768.14]
["A16S0Y15L78",15,"终身",16,0,78,0,152266.57,0,0,152266.57]
["A16S0Y15L86",15,"终身",16,0,86,0,190290.68,0,0,190290.69]
["A17S0Y15L17",15,"终身",17,0,17,0,19675.57,0,0,19675.57]
["A17S0Y15L36",15,"终身",17,0,36,0,37765.160000000003,0,0,37765.160000000003]
["A17S0Y15L69",15,"终身",17,0,69,0,114826.11,0,0,114826.11]
["A17S0Y15L86",15,"终身",17,0,86,0,188588.35,0,0,188588.37]
["A18S0Y15L7",15,"终身",18,0,7,428.65,5446.65,0,1007.36,6868.43]
["A18S0Y15L30",15,"终身",18,0,30,0,30728.29,0,0,30728.29]
[{"$f":"\"A\"&D29576&\"S\"&E29576&\"Y\"&B29576&\"L\"&F29576","v":"A18S0Y15L49"},15,"终身",18,0,49,0,58901.51,0,0,58901.51]
["A18S0Y15L80",15,"终身",18,0,80,0,159435.10999999999,0,0,159435.13]
["A19S0Y15L11",15,"终身",19,0,11,436.54,11184.59,0,1007.36,12227.43]
["A19S0Y15L39",15,"终身",19,0,39,0,41827.64,0,0,41827.64]
["A19S0Y15L44",15,"终身",19,0,44,0,49635.42,0,0,49635.42]
["A19S0Y15L80",15,"终身",19,0,80,0,158331.1,0,0,158331.16]
["A20S0Y15L5",15,"终身",20,0,5,444.56,1269.03,0,1007.36,4450.13]
["A20S0Y15L26",15,"终身",20,0,26,0,26770.49,0,0,26770.49]
["A20S0Y15L52",15,"终身",20,0,52,0,65135.16,0,0,65135.16]
["A20S0Y15L59",15,"终身",20,0,59,0,82364.039999999994,0,0,82364.039999999994]
["A21S0Y15L9",15,"终身",21,0,9,452.7,8147.51,0,1007.36,9454.4599999999991]
["A21S0Y15L19",15,"终身",21,0,19,0,21047.8,0,0,21047.8]
["A21S0Y15L42",15,"终身",21,0,42,0,46319.59,0,0,46319.59]
["A21S0Y15L61",15,"终身",21,0,61,0,87837.15,0,0,87837.15]
["A22S0Y15L7",15,"终身",22,0,7,460.96,5444.6,0,1007.37,6866.36]
["A22S0Y15L26",15,"终身",22,0,26,0,26760.45,0,0,26760.45]
["A22S0Y15L34",15,"终身",22,0,34,0,35211.629999999997,0,0,35211.629999999997]
["A22S0Y15L59",15,"终身",22,0,59,0,82118.58,0,0,82118.58]
["A22S0Y15L74",15,"终身",22,0,74,0,131187.87,0,0,131187.87]
["A23S0Y15L23",15,"终身",23,0,23,0,24138.32,0,0,24138.32]
["A23S0Y15L44",15,"终身",23,0,44,0,49558.77,0,0,49558.77]
["A23S0Y15L50",15,"终身",23,0,50,0,60749.07,0,0,60749.07]
["A23S0Y15L77",15,"终身",23,0,77,0,141708.91,0,0,141708.91]
["A24S0Y15L9",15,"终身",24,0,9,477.83,8143.97,0,1007.38,9450.84]
["A24S0Y15L40",15,"终身",24,0,40,0,43221.63,0,0,43221.63]
["A24S0Y15L63",15,"终身",24,0,63,0,93087.17,0,0,93087.17]
["A25S0Y15L5",15,"终身",25,0,5,486.48,1387.24,0,1007.38,4448.58]
["A25S0Y15L14",15,"终身",25,0,14,486.48,16404.07,0,1007.38,16734.62]
["A25S0Y15L29",15,"终身",25,0,29,0,29649.72,0,0,29649.72]
["A25S0Y15L58",15,"终身",25,0,58,0,79066.48,0,0,79066.48]
["A26S0Y15L2",15,"终身",26,0,2,137.57,218.5,0,1007.39,1119.4000000000001]
["A26S0Y15L28",15,"终身",26,0,28,0,28645.37,0,0,28645.37]
["A26S0Y15L35",15,"终身",26,0,35,0,36409.69,0,0,36409.69]
["A26S0Y15L71",15,"终身",26,0,71,0,117615.33,0,0,117615.34]
[{"$f":"\"A\"&D30280&\"S\"&E30280&\"Y\"&B30280&\"L\"&F30280","v":"A26S0Y15L77"},15,"终身",26,0,77,0,138223.89000000001,0,0,138223.89000000001]
["A27S0Y15L24",15,"终身",27,0,24,0,24968.47,0,0,24968.47]
["A27S0Y15L39",15,"终身",27,0,39,0,41730.58,0,0,41730.58]
["A27S0Y15L70",15,"终身",27,0,70,0,113630.5,0,0,113630.51]
["A28S0Y15L14",15,"终身",28,0,14,513.26,16392.330000000002,0,1007.4,16722.86]
["A28S0Y15L22",15,"终身",28,0,22,0,23308.09,0,0,23308.09]
["A28S0Y15L47",15,"终身",28,0,47,0,54694.7,0,0,54694.7]
["A28S0Y15L62",15,"终身",28,0,62,0,89111.66,0,0,89111.66]
["A29S0Y15L13",15,"终身",29,0,13,522.48,14549.26,0,1007.41,15162.12]
["A29S0Y15L38",15,"终身",29,0,38,0,40297.97,0,0,40297.97]
["A29S0Y15L44",15,"终身",29,0,44,0,49397.2,0,0,49397.2]
["A29S0Y15L71",15,"终身",29,0,71,0,115228.49,0,0,115228.6]
["A30S0Y15L9",15,"终身",30,0,9,531.85,8132.2,0,1007.42,9438.81]
["A30S0Y15L36",15,"终身",30,0,36,0,37623.99,0,0,37623.99]
["A30S0Y15L63",15,"终身",30,0,63,0,91141.59,0,0,91141.59]
["A30S0Y15L67",15,"终身",30,0,67,0,102448.44,0,0,102448.44]
["A31S0Y15L20",15,"终身",31,0,20,0,21745.59,0,0,21745.59]
["A31S0Y15L35",15,"终身",31,0,35,0,36344.089999999997,0,0,36344.089999999997]
["A31S0Y15L64",15,"终身",31,0,64,0,93420,0,0,93420.01]
["A32S0Y15L14",15,"终身",32,0,14,551.04,16382.04,0,1007.44,16712.72]
["A32S0Y15L36",15,"终身",32,0,36,0,37581.85,0,0,37581.85]
["A32S0Y15L47",15,"终身",32,0,47,0,54432.17,0,0,54432.17]
["A32S0Y15L62",15,"终身",32,0,62,0,87618.4,0,0,87618.4]
["A33S0Y15L15",15,"终身",33,0,15,560.85,18318.13,0,1007.45,18318.13]
["A33S0Y15L42",15,"终身",33,0,42,0,46002.16,0,0,46002.16]
["A33S0Y15L62",15,"终身",33,0,62,0,87158.95,0,0,87158.95]
["A33S0Y15L71",15,"终身",33,0,71,0,111267.74,0,0,111267.74]
["A34S0Y15L17",15,"终身",34,0,17,0,19598.169999999998,0,0,19598.169999999998]
["A34S0Y15L42",15,"终身",34,0,42,0,45945.55,0,0,45945.55]
["A34S0Y15L71",15,"终身",34,0,71,0,110138.68,0,0,110140.74]
["A35S0Y15L14",15,"终身",35,0,14,580.91999999999996,16365.79,0,1007.48,16696.57]
["A35S0Y15L43",15,"终身",35,0,43,0,47437.09,0,0,47437.09]
["A35S0Y15L47",15,"终身",35,0,47,0,54136.81,0,0,54136.82]
["A35S0Y15L70",15,"终身",35,0,70,0,106367.69,0,0,106372.48]
["A36S0Y15L30",15,"终身",36,0,30,0,30543.11,0,0,30543.11]
["A36S0Y15L45",15,"终身",36,0,45,0,50591.72,0,0,50591.72]
["A37S0Y15L2",15,"终身",37,0,2,167.1,263.41000000000003,0,1007.52,1118.78]
["A37S0Y15L29",15,"终身",37,0,29,0,29493.11,0,0,29493.11]
["A37S0Y15L49",15,"终身",37,0,49,0,57465.36,0,0,57465.36]
["A37S0Y15L58",15,"终身",37,0,58,0,75810.039999999994,0,0,75810.039999999994]
["A38S0Y15L8",15,"终身",38,0,8,612.1,6731.66,0,1007.54,8114.31]
["A38S0Y15L33",15,"终身",38,0,33,0,33755.39,0,0,33755.39]
["A38S0Y15L62",15,"终身",38,0,62,0,84251.28,0,0,84251.39]
["A39S0Y15L12",15,"终身",39,0,12,622.77,12765.76,0,1007.56,13615.84]
["A39S0Y15L23",15,"终身",39,0,23,0,23981.94,0,0,23981.94]
["A39S0Y15L42",15,"终身",39,0,42,0,45540.42,0,0,45540.42]
["A39S0Y15L65",15,"终身",39,0,65,0,90218.22,0,0,90218.22]
["A40S0Y15L29",15,"终身",40,0,29,0,29396.69,0,0,29396.69]
["A40S0Y15L45",15,"终身",40,0,45,0,50080.84,0,0,50080.84]
["A40S0Y15L58",15,"终身",40,0,58,0,74335,0,0,74335]
["A41S0Y15L11",15,"终身",41,0,11,644.53,11109.83,0,1007.65,12153.19]
["A41S0Y15L32",15,"终身",41,0,32,0,32494.65,0,0,32494.65]
["A41S0Y15L61",15,"终身",41,0,61,0,79912.23,0,0,79912.23]
["A42S0Y15L15",15,"终身",42,0,15,655.61,18210.3,0,1007.69,18210.3]
["A42S0Y15L40",15,"终身",42,0,40,0,42326.81,0,0,42326.81]
["A42S0Y15L48",15,"终身",42,0,48,0,54658.559999999998,0,0,54658.559999999998]
["A43S0Y15L3",15,"终身",43,0,3,296.35000000000002,565.59,0,1007.72,2187.71]
["A43S0Y15L34",15,"终身",43,0,34,0,34623.61,0,0,34623.61]
["A43S0Y15L53",15,"终身",43,0,53,0,63157.63,0,0,63157.63]
["A44S0Y15L13",15,"终身",44,0,13,678,14429.49,0,1007.76,15043.13]
["A44S0Y15L40",15,"终身",44,0,40,0,42097.72,0,0,42097.72]
["A44S0Y15L60",15,"终身",44,0,60,0,75615.27,0,0,75615.27]
["A45S0Y15L11",15,"终身",45,0,11,689.21,11064.46,0,1007.8,12108.19]
["A45S0Y15L30",15,"终身",45,0,30,0,30192.57,0,0,30192.57]
["A45S0Y15L51",15,"终身",45,0,51,0,58890.63,0,0,58890.63]
["A46S0Y15L19",15,"终身",46,0,19,0,20780.16,0,0,20780.16]
["A46S0Y15L37",15,"终身",46,0,37,0,38025.22,0,0,38025.22]
["A46S0Y15L52",15,"终身",46,0,52,0,60218.86,0,0,60218.879999999997]
["A47S0Y15L11",15,"终身",47,0,11,711.62,11037.83,0,1007.88,12081.77]
["A47S0Y15L30",15,"终身",47,0,30,0,30147.56,0,0,30147.56]
["A48S0Y15L2",15,"终身",48,0,2,200.8,310.77,0,1007.92,1117.8800000000001]
["A48S0Y15L18",15,"终身",48,0,18,0,20087.740000000002,0,0,20087.740000000002]
["A48S0Y15L35",15,"终身",48,0,35,0,35524.980000000003,0,0,35524.980000000003]
["A48S0Y15L50",15,"终身",48,0,50,0,56259.34,0,0,56259.34]
["A49S0Y15L13",15,"终身",49,0,13,734.25,14358.47,0,1007.97,14973]
["A49S0Y15L46",15,"终身",49,0,46,0,49908.31,0,0,49908.31]
["A50S0Y15L3",15,"终身",50,0,3,331.43,620.12,0,1008.02,2180.62]
["A50S0Y15L22",15,"终身",50,0,22,0,23011.21,0,0,23011.21]
["A50S0Y15L37",15,"终身",50,0,37,0,37750.639999999999,0,0,37750.639999999999]
["A50S0Y15L56",15,"终身",50,0,56,0,64207.92,0,0,64207.92]
["A0S1Y15L35",15,"终身",0,1,35,0,36647.56,0,0,36647.57]
["A0S1Y15L50",15,"终身",0,1,50,0,61372.6,0,0,61372.6]
["A0S1Y15L73",15,"终身",0,1,73,0,134977.63,0,0,134977.63]
["A0S1Y15L83",15,"终身",0,1,83,0,188953.72,0,0,188953.72]
["A1S1Y15L14",15,"终身",1,1,14,280.52,16471.96,0,1007.32,16802.919999999998]
["A1S1Y15L31",15,"终身",1,1,31,0,31937.68,0,0,31937.68]
["A1S1Y15L46",15,"终身",1,1,46,0,53488.28,0,0,53488.28]
["A1S1Y15L67",15,"终身",1,1,67,0,109961.21,0,0,109961.21]
["A1S1Y15L79",15,"终身",1,1,79,0,165202.65,0,0,165202.65]
["A2S1Y15L9",15,"终身",2,1,9,285.77,8167.67,0,1007.32,9475.2000000000007]
["A2S1Y15L28",15,"终身",2,1,28,0,28806.18,0,0,28806.18]
["A2S1Y15L43",15,"终身",2,1,43,0,48245.15,0,0,48245.15]
["A2S1Y15L62",15,"终身",2,1,62,0,92641.82,0,0,92641.83]
["A2S1Y15L97",15,"终身",2,1,97,0,291513.37,0,0,291513.93]
["A3S1Y15L9",15,"终身",3,1,9,291.14999999999998,8167.89,0,1007.32,9475.36]
["A3S1Y15L26",15,"终身",3,1,26,0,26890.15,0,0,26890.15]
["A3S1Y15L41",15,"终身",3,1,41,0,45036.7,0,0,45036.7]
["A3S1Y15L58",15,"终身",3,1,58,0,80754.509999999995,0,0,80754.509999999995]
["A3S1Y15L95",15,"终身",3,1,95,0,273517.15999999997,0,0,273517.15999999997]
["A4S1Y15L6",15,"终身",4,1,6,296.64999999999998,4219.24,0,1007.32,5647.05]
["A4S1Y15L25",15,"终身",4,1,25,0,25979.26,0,0,25979.27]
["A4S1Y15L40",15,"终身",4,1,40,0,43511.11,0,0,43511.11]
["A4S1Y15L75",15,"终身",4,1,75,0,144070.35999999999,0,0,144070.37]
["A4S1Y15L94",15,"终身",4,1,94,0,264251.90999999997,0,0,264252.31]
["A5S1Y15L7",15,"终身",5,1,7,302.27999999999997,5457.65,0,1007.32,6879.57]
["A5S1Y15L26",15,"终身",5,1,26,0,26885.69,0,0,26885.69]
["A5S1Y15L40",15,"终身",5,1,40,0,43506.7,0,0,43506.7]
["A5S1Y15L57",15,"终身",5,1,57,0,78005.820000000007,0,0,78005.820000000007]
["A5S1Y15L94",15,"终身",5,1,94,0,262882.05,0,0,262882.28000000003]
["A6S1Y15L8",15,"终身",6,1,8,308.02,6772.81,0,1007.33,8155.22]
["A6S1Y15L25",15,"终身",6,1,25,0,25974.34,0,0,25974.34]
["A6S1Y15L41",15,"终身",6,1,41,0,45022.81,0,0,45022.81]
["A6S1Y15L76",15,"终身",6,1,76,0,148653.9,0,0,148653.9]
["A6S1Y15L95",15,"终身",6,1,95,0,268938.46000000002,0,0,268938.55]
["A7S1Y15L10",15,"终身",7,1,10,313.87,9647.0400000000009,0,1007.33,10842.19]
["A7S1Y15L29",15,"终身",7,1,29,0,29800.71,0,0,29800.71]
["A7S1Y15L43",15,"终身",7,1,43,0,48219.61,0,0,48219.61]
["A7S1Y15L76",15,"终身",7,1,76,0,148458.37,0,0,148458.37]
["A7S1Y15L97",15,"终身",7,1,97,0,282088.68,0,0,282088.68]
["A8S1Y15L13",15,"终身",8,1,13,319.83999999999997,14617.09,0,1007.33,15230.58]
["A8S1Y15L30",15,"终身",8,1,30,0,30839.37,0,0,30839.37]
["A8S1Y15L46",15,"终身",8,1,46,0,53446.239999999998,0,0,53446.239999999998]
["A8S1Y15L77",15,"终身",8,1,77,0,153194.01999999999,0,0,153194.01999999999]
["A9S1Y15L2",15,"终身",9,1,2,90.53,145.04,0,1007.33,1120.42]
["A9S1Y15L17",15,"终身",9,1,17,0,19724.009999999998,0,0,19724.009999999998]
["A9S1Y15L32",15,"终身",9,1,32,0,33030.32,0,0,33030.32]
["A9S1Y15L50",15,"终身",9,1,50,0,61304.58,0,0,61304.58]
["A9S1Y15L86",15,"终身",9,1,86,0,203247.31,0,0,203247.32]
["A10S1Y15L8",15,"终身",10,1,8,332.1,6772.56,0,1007.33,8155.11]
["A10S1Y15L22",15,"终身",10,1,22,0,23417.61,0,0,23417.61]
["A10S1Y15L55",15,"终身",10,1,55,0,72757.919999999998,0,0,72757.919999999998]
["A10S1Y15L76",15,"终身",10,1,76,0,147731.20000000001,0,0,147731.20000000001]
["A10S1Y15L91",15,"终身",10,1,91,0,234270.73,0,0,234270.92]
["A11S1Y15L12",15,"终身",11,1,12,338.39,12862,0,1007.34,13712.13]
["A11S1Y15L28",15,"终身",11,1,28,0,28779.63,0,0,28779.63]
["A11S1Y15L59",15,"终身",11,1,59,0,83401.62,0,0,83401.62]
[{"$f":"\"A\"&D33096&\"S\"&E33096&\"Y\"&B33096&\"L\"&F33096","v":"A11S1Y15L82"},15,"终身",11,1,82,0,178374.15,0,0,178374.16]
["A12S1Y15L2",15,"终身",12,1,2,95.78,153.38,0,1007.34,1120.42]
["A12S1Y15L17",15,"终身",12,1,17,0,19717.7,0,0,19717.7]
["A12S1Y15L35",15,"终身",12,1,35,0,36604.54,0,0,36604.54]
["A12S1Y15L64",15,"终身",12,1,64,0,98809.51,0,0,98809.51]
["A12S1Y15L85",15,"终身",12,1,85,0,194665.68,0,0,194665.68]
["A13S1Y15L10",15,"终身",13,1,10,351.3,9640.07,0,1007.34,10834.96]
["A13S1Y15L23",15,"终身",13,1,23,0,24228.77,0,0,24228.77]
["A13S1Y15L43",15,"终身",13,1,43,0,48176.639999999999,0,0,48176.639999999999]
["A13S1Y15L70",15,"终身",13,1,70,0,120700.6,0,0,120700.6]
["A13S1Y15L93",15,"终身",13,1,93,0,239550.78,0,0,239550.78]
["A14S1Y15L19",15,"终身",14,1,19,0,21115.01,0,0,21115.01]
["A14S1Y15L30",15,"终身",14,1,30,0,30817.61,0,0,30817.61]
["A14S1Y15L69",15,"终身",14,1,69,0,116609.27,0,0,116609.27]
["A14S1Y15L77",15,"终身",14,1,77,0,151085.32999999999,0,0,151085.32999999999]
["A15S1Y15L10",15,"终身",15,1,10,364.67,9638.07,0,1007.34,10832.87]
["A15S1Y15L29",15,"终身",15,1,29,0,29773.14,0,0,29773.14]
["A15S1Y15L58",15,"终身",15,1,58,0,80475.77,0,0,80475.77]
["A15S1Y15L79",15,"终身",15,1,79,0,160267.29999999999,0,0,160267.29999999999]
["A16S1Y15L7",15,"终身",16,1,7,371.53,5453.08,0,1007.34,6874.85]
["A16S1Y15L20",15,"终身",16,1,20,0,21848.81,0,0,21848.81]
["A16S1Y15L40",15,"终身",16,1,40,0,43442.39,0,0,43442.39]
["A16S1Y15L67",15,"终身",16,1,67,0,108839.52,0,0,108839.53]
["A16S1Y15L90",15,"终身",16,1,90,0,216010.45,0,0,216010.45]
["A17S1Y15L19",15,"终身",17,1,19,0,21109.62,0,0,21109.62]
["A17S1Y15L30",15,"终身",17,1,30,0,30807.99,0,0,30807.99]
["A17S1Y15L48",15,"终身",17,1,48,0,57153.89,0,0,57153.89]
["A17S1Y15L77",15,"终身",17,1,77,0,149589.97,0,0,149589.97]
["A18S1Y15L13",15,"终身",18,1,13,385.62,14603.73,0,1007.33,15217]
["A18S1Y15L32",15,"终身",18,1,32,0,32996.42,0,0,32996.42]
["A18S1Y15L41",15,"终身",18,1,41,0,44947.54,0,0,44947.54]
["A18S1Y15L61",15,"终身",18,1,61,0,88897.22,0,0,88897.22]
["A18S1Y15L88",15,"终身",18,1,88,0,201621.09,0,0,201621.09]
["A19S1Y15L27",15,"终身",19,1,27,0,27784.44,0,0,27784.44]
["A19S1Y15L42",15,"终身",19,1,42,0,46510.06,0,0,46510.06]
["A19S1Y15L53",15,"终身",19,1,53,0,67765.009999999995,0,0,67765.009999999995]
["A19S1Y15L75",15,"终身",19,1,75,0,139626.21,0,0,139626.23999999999]
["A20S1Y15L13",15,"终身",20,1,13,400.21,14602.65,0,1007.33,15215.91]
["A20S1Y15L42",15,"终身",20,1,42,0,46503.1,0,0,46503.1]
["A20S1Y15L57",15,"终身",20,1,57,0,77572.25,0,0,77572.25]
["A20S1Y15L86",15,"终身",20,1,86,0,188193.87,0,0,188193.87]
["A21S1Y15L4",15,"终身",21,1,4,407.71,744.12,0,1007.33,3303.86]
["A21S1Y15L44",15,"终身",21,1,44,0,49795.519999999997,0,0,49795.519999999997]
["A21S1Y15L53",15,"终身",21,1,53,0,67706.009999999995,0,0,67706.009999999995]
[{"$f":"\"A\"&D33992&\"S\"&E33992&\"Y\"&B33992&\"L\"&F33992","v":"A21S1Y15L73"},15,"终身",21,1,73,0,130330.75,0,0,130330.77]
["A22S1Y15L15",15,"终身",22,1,15,415.33,18398.13,0,1007.33,18398.13]
["A22S1Y15L21",15,"终身",22,1,21,0,22602.12,0,0,22602.12]
["A22S1Y15L57",15,"终身",22,1,57,0,77455.5,0,0,77455.509999999995]
["A22S1Y15L68",15,"终身",22,1,68,0,111111.45,0,0,111111.47]
["A23S1Y15L6",15,"终身",23,1,6,423.09,4214.8900000000003,0,1007.33,5642.56]
["A23S1Y15L31",15,"终身",23,1,31,0,31869.03,0,0,31869.040000000001]
["A23S1Y15L60",15,"终身",23,1,60,0,85520.79,0,0,85520.8]
["A23S1Y15L75",15,"终身",23,1,75,0,137263.66,0,0,137263.81]
["A24S1Y15L1",15,"终身",24,1,1,95.77,81.72,0,0.56999999999999995,82.72]
["A24S1Y15L25",15,"终身",24,1,25,0,25931.49,0,0,25931.49]
["A24S1Y15L48",15,"终身",24,1,48,0,57050.03,0,0,57050.04]
["A24S1Y15L79",15,"终身",24,1,79,0,152838.79,0,0,152840.28]
["A25S1Y15L12",15,"终身",25,1,12,439.03,12850.03,0,1007.34,13699.88]
["A25S1Y15L39",15,"终身",25,1,39,0,41931.07,0,0,41931.07]
["A25S1Y15L45",15,"终身",25,1,45,0,51486.67,0,0,51486.67]
["A25S1Y15L70",15,"终身",25,1,70,0,117105.91,0,0,117105.97]
["A26S1Y15L18",15,"终身",26,1,18,0,20384.96,0,0,20384.97]
["A26S1Y15L33",15,"终身",26,1,33,0,34127.32,0,0,34127.33]
["A26S1Y15L58",15,"终身",26,1,58,0,79724.160000000003,0,0,79724.17]
["A26S1Y15L66",15,"终身",26,1,66,0,103127.26,0,0,103127.3]
["A27S1Y15L9",15,"终身",27,1,9,455.56,8156.35,0,1007.34,9463.33]
["A27S1Y15L40",15,"终身",27,1,40,0,43377.86,0,0,43377.86]
["A27S1Y15L55",15,"终身",27,1,55,0,72092.100000000006,0,0,72092.100000000006]
["A28S1Y15L3",15,"终身",28,1,3,206.24,402.06,0,1007.34,2193.02]
["A28S1Y15L9",15,"终身",28,1,9,464.05,8155.63,0,1007.34,9462.58]
["A28S1Y15L45",15,"终身",28,1,45,0,51433.97,0,0,51433.97]
["A28S1Y15L52",15,"终身",28,1,52,0,65155.19,0,0,65155.19]
["A28S1Y15L78",15,"终身",28,1,78,0,142899.85999999999,0,0,142899.85999999999]
["A29S1Y15L25",15,"终身",29,1,25,0,25922.71,0,0,25922.71]
["A29S1Y15L33",15,"终身",29,1,33,0,34115.19,0,0,34115.199999999997]
["A29S1Y15L69",15,"终身",29,1,69,0,111652.15,0,0,111652.31]
["A29S1Y15L74",15,"终身",29,1,74,0,128672.45,0,0,128674]
["A30S1Y15L25",15,"终身",30,1,25,0,25919.58,0,0,25919.58]
[{"$f":"\"A\"&D34696&\"S\"&E34696&\"Y\"&B34696&\"L\"&F34696","v":"A30S1Y15L48"},15,"终身",30,1,48,0,56865.45,0,0,56865.45]
["A30S1Y15L58",15,"终身",30,1,58,0,79137.649999999994,0,0,79137.649999999994]
["A31S1Y15L18",15,"终身",31,1,18,0,20376.71,0,0,20376.71]
["A31S1Y15L25",15,"终身",31,1,25,0,25915.82,0,0,25915.82]
["A31S1Y15L51",15,"终身",31,1,51,0,62809.96,0,0,62809.96]
["A31S1Y15L72",15,"终身",31,1,72,0,120099.24,0,0,120099.24]
["A32S1Y15L9",15,"终身",32,1,9,499.57,8151.29,0,1007.36,9458.11]
["A32S1Y15L45",15,"终身",32,1,45,0,51314.53,0,0,51314.53]
["A32S1Y15L70",15,"终身",32,1,70,0,112887.53,0,0,112887.53]
["A33S1Y15L4",15,"终身",33,1,4,508.84,927.67,0,1007.37,3302.72]
["A33S1Y15L23",15,"终身",33,1,23,0,24186.959999999999,0,0,24186.959999999999]
["A33S1Y15L54",15,"终身",33,1,54,0,69086.45,0,0,69086.460000000006]
["A33S1Y15L73",15,"终身",33,1,73,0,120265.85,0,0,120265.85]
["A34S1Y15L23",15,"终身",34,1,23,0,24181.61,0,0,24181.61]
["A34S1Y15L33",15,"终身",34,1,33,0,34073.51,0,0,34073.51]
["A34S1Y15L48",15,"终身",34,1,48,0,56628.68,0,0,56628.68]
["A35S1Y15L4",15,"终身",35,1,4,527.87,961.63,0,1007.38,3302.18]
["A35S1Y15L30",15,"终身",35,1,30,0,30736.52,0,0,30736.52]
["A35S1Y15L51",15,"终身",35,1,51,0,62408.92,0,0,62408.92]
["A35S1Y15L63",15,"终身",35,1,63,0,90763.05,0,0,90763.05]
["A36S1Y15L28",15,"终身",36,1,28,0,28690.54,0,0,28690.54]
["A36S1Y15L33",15,"终身",36,1,33,0,34045.910000000003,0,0,34045.910000000003]
["A36S1Y15L61",15,"终身",36,1,61,0,85112.42,0,0,85112.42]
["A37S1Y15L10",15,"终身",37,1,10,547.52,9621.7000000000007,0,1007.4,10816.47]
["A37S1Y15L20",15,"终身",37,1,20,0,21796.32,0,0,21796.33]
["A37S1Y15L60",15,"终身",37,1,60,0,82213.899999999994,0,0,82213.98]
["A37S1Y15L63",15,"终身",37,1,63,0,89758.33,0,0,89758.6]
["A38S1Y15L24",15,"终身",38,1,24,0,24994.58,0,0,24994.58]
["A38S1Y15L41",15,"终身",38,1,41,0,44598.63,0,0,44598.63]
["A39S1Y15L6",15,"终身",39,1,6,567.82000000000005,4209.0600000000004,0,1007.42,5637.22]
["A39S1Y15L25",15,"终身",39,1,25,0,25855.32,0,0,25855.32]
["A39S1Y15L46",15,"终身",39,1,46,0,52580.480000000003,0,0,52580.480000000003]
["A39S1Y15L58",15,"终身",39,1,58,0,76701.56,0,0,76701.64]
["A40S1Y15L6",15,"终身",40,1,6,578.20000000000005,4208.22,0,1007.43,5636.5]
["A40S1Y15L41",15,"终身",40,1,41,0,44486.79,0,0,44486.79]
["A40S1Y15L60",15,"终身",40,1,60,0,80879.45,0,0,80879.490000000005]
["A41S1Y15L13",15,"终身",41,1,13,588.75,14558.47,0,1007.46,15171.9]
["A41S1Y15L23",15,"终身",41,1,23,0,24117.93,0,0,24117.93]
["A41S1Y15L42",15,"终身",41,1,42,0,45919.040000000001,0,0,45919.040000000001]
["A42S1Y15L1",15,"终身",42,1,1,133.21,113.32,0,1.28,113.32]
["A42S1Y15L31",15,"终身",42,1,31,0,31678.41,0,0,31678.41]
["A42S1Y15L48",15,"终身",42,1,48,0,55667.79,0,0,55667.79]
["A42S1Y15L60",15,"终身",42,1,60,0,79808.98,0,0,79808.98]
["A43S1Y15L15",15,"终身",43,1,15,610.33000000000004,18323.93,0,1007.49,18323.93]
["A43S1Y15L37",15,"终身",43,1,37,0,38753.26,0,0,38753.26]
["A44S1Y15L2",15,"终身",44,1,2,172.58,273.79000000000002,0,1007.51,1119.83]
["A44S1Y15L21",15,"终身",44,1,21,0,22481.89,0,0,22481.89]
[{"$f":"\"A\"&D35656&\"S\"&E35656&\"Y\"&B35656&\"L\"&F35656","v":"A44S1Y15L35"},15,"终身",44,1,35,0,36194.6,0,0,36194.6]
["A44S1Y15L54",15,"终身",44,1,54,0,66387.649999999994,0,0,66387.72]
["A45S1Y15L12",15,"终身",45,1,12,632.37,12792.64,0,1007.52,13642.85]
["A45S1Y15L42",15,"终身",45,1,42,0,45551.89,0,0,45551.89]
["A45S1Y15L59",15,"终身",45,1,59,0,75918.679999999993,0,0,75918.679999999993]
["A46S1Y15L14",15,"终身",46,1,14,643.54,16356.16,0,1007.54,16687.09]
["A46S1Y15L33",15,"终身",46,1,33,0,33778.81,0,0,33778.81]
["A47S1Y15L11",15,"终身",47,1,11,654.78,11136.15,0,1007.57,12179.57]
["A47S1Y15L23",15,"终身",47,1,23,0,24056.26,0,0,24056.26]
["A47S1Y15L38",15,"终身",47,1,38,0,39842.26,0,0,39842.26]
["A47S1Y15L56",15,"终身",47,1,56,0,68996.09,0,0,68996.09]
["A48S1Y15L33",15,"终身",48,1,33,0,33728.15,0,0,33728.15]
["A48S1Y15L52",15,"终身",48,1,52,0,61319.65,0,0,61319.65]
["A49S1Y15L8",15,"终身",49,1,8,677.65,6725.14,0,1007.61,8108.38]
["A49S1Y15L21",15,"终身",49,1,21,0,22465.49,0,0,22465.49]
["A49S1Y15L41",15,"终身",49,1,41,0,43727.71,0,0,43727.71]
["A50S1Y15L20",15,"终身",50,1,20,0,21709.41,0,0,21709.41]
["A50S1Y15L37",15,"终身",50,1,37,0,38377.85,0,0,38377.85]
["A50S1Y15L53",15,"终身",50,1,53,0,62265.04,0,0,62265.25]
["A0S0Y20L16",20,"终身",0,0,16,311.14999999999998,18427.2,0,980.27,19572.849999999999]
["A0S0Y20L34",20,"终身",0,0,34,0,43244.91,0,0,43244.91]
["A0S0Y20L66",20,"终身",0,0,66,0,129604.38,0,0,129604.38]
["A0S0Y20L81",20,"终身",0,0,81,0,214677.15,0,0,214677.15]
["A0S0Y20L99",20,"终身",0,0,99,0,373163.92,0,0,373164.06]
["A1S0Y20L8",20,"终身",1,0,8,316.89,6069.44,0,980.28,7889.79]
["A1S0Y20L48",20,"终身",1,0,48,0,69947.38,0,0,69947.38]
["A1S0Y20L62",20,"终身",1,0,62,0,113018.53,0,0,113018.53]
["A1S0Y20L75",20,"终身",1,0,75,0,175664.42,0,0,175664.42]
["A1S0Y20L95",20,"终身",1,0,95,0,331331.40000000002,0,0,331331.43]
["A2S0Y20L26",20,"终身",2,0,26,0,32839.269999999997,0,0,32839.269999999997]
["A2S0Y20L43",20,"终身",2,0,43,0,58902.28,0,0,58902.28]
["A2S0Y20L59",20,"终身",2,0,59,0,101964.48,0,0,101964.48]
["A2S0Y20L74",20,"终身",2,0,74,0,169705.11,0,0,169705.11]
["A2S0Y20L92",20,"终身",2,0,92,0,301904.08,0,0,301904.08]
["A3S0Y20L24",20,"终身",3,0,24,0,30652.42,0,0,30652.42]
["A3S0Y20L39",20,"终身",3,0,39,0,51330.26,0,0,51330.26]
["A3S0Y20L57",20,"终身",3,0,57,0,95187.85,0,0,95187.85]
["A3S0Y20L70",20,"终身",3,0,70,0,148210.82,0,0,148210.82]
["A3S0Y20L90",20,"终身",3,0,90,0,283078.23,0,0,283078.24]
["A4S0Y20L23",20,"终身",4,0,23,0,29611.95,0,0,29611.95]
[{"$f":"\"A\"&D36488&\"S\"&E36488&\"Y\"&B36488&\"L\"&F36488","v":"A4S0Y20L36"},20,"终身",4,0,36,0,46293.17,0,0,46293.17]
["A4S0Y20L56",20,"终身",4,0,56,0,91953.97,0,0,91953.97]
["A4S0Y20L71",20,"终身",4,0,71,0,153149.64000000001,0,0,153149.64000000001]
["A4S0Y20L89",20,"终身",4,0,89,0,273461.03000000003,0,0,273461.03999999998]
["A5S0Y20L23",20,"终身",5,0,23,0,29605.91,0,0,29605.91]
["A5S0Y20L38",20,"终身",5,0,38,0,49575.02,0,0,49575.02]
["A5S0Y20L56",20,"终身",5,0,56,0,91921.44,0,0,91921.45]
["A5S0Y20L71",20,"终身",5,0,71,0,152989.94,0,0,152989.94]
["A6S0Y20L6",20,"终身",6,0,6,347.75,3713.16,0,980.29,5438.7]
["A6S0Y20L24",20,"终身",6,0,24,0,30633.47,0,0,30633.47]
["A6S0Y20L37",20,"终身",6,0,37,0,47888.79,0,0,47888.79]
["A6S0Y20L57",20,"终身",6,0,57,0,95082.3,0,0,95082.3]
["A6S0Y20L72",20,"终身",6,0,72,0,157993.26,0,0,157993.26]
["A7S0Y20L10",20,"终身",7,0,10,354.3,8696.08,0,980.29,10516.52]
["A7S0Y20L26",20,"终身",7,0,26,0,32805.589999999997,0,0,32805.589999999997]
["A7S0Y20L37",20,"终身",7,0,37,0,47876.24,0,0,47876.24]
["A7S0Y20L59",20,"终身",7,0,59,0,101756.23,0,0,101756.23]
["A7S0Y20L74",20,"终身",7,0,74,0,168549.37,0,0,168549.37]
["A8S0Y20L11",20,"终身",8,0,11,360.97,10114.129999999999,0,980.29,11896.05]
["A8S0Y20L29",20,"终身",8,0,29,0,36359.94,0,0,36359.94]
["A8S0Y20L38",20,"终身",8,0,38,0,49535.71,0,0,49535.71]
["A8S0Y20L62",20,"终身",8,0,62,0,112628,0,0,112628]
["A8S0Y20L77",20,"终身",8,0,77,0,185467.4,0,0,185467.4]
["A9S0Y20L13",20,"终身",9,0,13,367.75,13177.15,0,980.29,14797.53]
["A9S0Y20L33",20,"终身",9,0,33,0,41706.839999999997,0,0,41706.839999999997]
["A9S0Y20L60",20,"终身",9,0,60,0,105161.63,0,0,105161.63]
["A9S0Y20L62",20,"终身",9,0,62,0,112548.01,0,0,112548.01]
["A10S0Y20L5",20,"终身",10,0,5,374.64,946.53,0,980.29,4274.5200000000004]
["A10S0Y20L16",20,"终身",10,0,16,374.64,18396.73,0,980.29,19541.18]
["A10S0Y20L38",20,"终身",10,0,38,0,49507.13,0,0,49507.13]
["A10S0Y20L53",20,"终身",10,0,53,0,82785.66,0,0,82785.66]
["A10S0Y20L69",20,"终身",10,0,69,0,142207.89000000001,0,0,142207.89000000001]
["A11S0Y20L11",20,"终身",11,0,11,381.65,10105.26,0,980.29,11886.58]
["A11S0Y20L20",20,"终身",11,0,20,381.65,26675.14,0,980.29,26675.14]
["A11S0Y20L44",20,"终身",11,0,44,0,60803.96,0,0,60803.96]
["A11S0Y20L59",20,"终身",11,0,59,0,101514.96,0,0,101514.96]
["A11S0Y20L93",20,"终身",11,0,93,0,290718.52,0,0,290719.96999999997]
["A12S0Y20L18",20,"终身",12,0,18,388.78,22326.95,0,980.29,22978.26]
["A12S0Y20L25",20,"终身",12,0,25,0,31656.66,0,0,31656.66]
["A12S0Y20L47",20,"终身",12,0,47,0,67363.070000000007,0,0,67363.070000000007]
["A12S0Y20L66",20,"终身",12,0,66,0,128354.73,0,0,128354.73]
["A13S0Y20L4",20,"终身",13,0,4,396.03,605.54,0,980.29,3149.88]
["A13S0Y20L26",20,"终身",13,0,26,0,32754.66,0,0,32754.66]
["A13S0Y20L31",20,"终身",13,0,31,0,38894.06,0,0,38894.06]
["A13S0Y20L55",20,"终身",13,0,55,0,88495.4,0,0,88495.4]
["A13S0Y20L74",20,"终身",13,0,74,0,166288.03,0,0,166288.03]
["A14S0Y20L11",20,"终身",14,0,11,403.4,10097.51,0,980.29,11878.3]
["A14S0Y20L31",20,"终身",14,0,31,0,38882.67,0,0,38882.67]
["A14S0Y20L58",20,"终身",14,0,58,0,97910.92,0,0,97910.92]
["A14S0Y20L64",20,"终身",14,0,64,0,119763.27,0,0,119763.27]
["A14S0Y20L83",20,"终身",14,0,83,0,217430.21,0,0,217430.21]
["A15S0Y20L19",20,"终身",15,0,19,410.88,24428.66,0,980.29,24775.03]
["A15S0Y20L41",20,"终身",15,0,41,0,54782.69,0,0,54782.69]
["A15S0Y20L60",20,"终身",15,0,60,0,104641.71,0,0,104641.71]
["A15S0Y20L72",20,"终身",15,0,72,0,155156.26,0,0,155156.26]
["A16S0Y20L2",20,"终身",16,0,2,93,142.81,0,980.29,1013.99]
["A16S0Y20L28",20,"终身",16,0,28,0,35054.400000000001,0,0,35054.400000000001]
["A16S0Y20L52",20,"终身",16,0,52,0,79759.05,0,0,79759.05]
["A16S0Y20L71",20,"终身",16,0,71,0,149871.92000000001,0,0,149871.92000000001]
["A17S0Y20L11",20,"终身",17,0,11,426.22,10091.51,0,980.29,11871.86]
["A17S0Y20L31",20,"终身",17,0,31,0,38847.19,0,0,38847.19]
["A17S0Y20L38",20,"终身",17,0,38,0,49392.85,0,0,49392.85]
["A17S0Y20L64",20,"终身",17,0,64,0,119208.63,0,0,119208.63]
["A17S0Y20L83",20,"终身",17,0,83,0,212923.84,0,0,212924]
["A18S0Y20L22",20,"终身",18,0,22,0,28514.16,0,0,28514.16]
["A18S0Y20L44",20,"终身",18,0,44,0,60642.81,0,0,60642.81]
["A18S0Y20L49",20,"终身",18,0,49,0,71933.62,0,0,71933.62]
["A18S0Y20L77",20,"终身",18,0,77,0,178703.01,0,0,178703.03]
["A19S0Y20L8",20,"终身",19,0,8,441.95,6055.65,0,980.27,7874.72]
["A19S0Y20L34",20,"终身",19,0,34,0,43040.33,0,0,43040.33]
["A19S0Y20L58",20,"终身",19,0,58,0,97432.58,0,0,97432.58]
["A19S0Y20L81",20,"终身",19,0,81,0,198711.09,0,0,198711.09]
["A20S0Y20L4",20,"终身",20,0,4,449.98,684.45,0,980.27,3146.25]
["A20S0Y20L19",20,"终身",20,0,19,449.98,24399.86,0,980.27,24746.080000000002]
["A20S0Y20L47",20,"终身",20,0,47,0,67140.11,0,0,67140.11]
["A20S0Y20L73",20,"终身",20,0,73,0,157191.01,0,0,157191.01999999999]
["A21S0Y20L6",20,"终身",21,0,6,458.12,3704.03,0,980.27,5429.2]
["A21S0Y20L34",20,"终身",21,0,34,0,43027.63,0,0,43027.63]
["A21S0Y20L35",20,"终身",21,0,35,0,44528.26,0,0,44528.26]
["A21S0Y20L61",20,"终身",21,0,61,0,107310.91,0,0,107310.91]
["A22S0Y20L4",20,"终身",22,0,4,466.4,709.16,0,980.27,3145.86]
["A22S0Y20L19",20,"终身",22,0,19,466.4,24385.01,0,980.27,24731.15]
["A22S0Y20L49",20,"终身",22,0,49,0,71799.67,0,0,71799.67]
["A22S0Y20L73",20,"终身",22,0,73,0,155696.62,0,0,155696.62]
["A22S0Y20L76",20,"终身",22,0,76,0,169643.33,0,0,169643.33]
["A23S0Y20L22",20,"终身",23,0,22,0,28496.46,0,0,28496.46]
["A23S0Y20L37",20,"终身",23,0,37,0,47669.53,0,0,47669.53]
["A23S0Y20L65",20,"终身",23,0,65,0,121507.37,0,0,121507.37]
["A24S0Y20L8",20,"终身",24,0,8,483.37,6051.49,0,980.26,7870.19]
["A24S0Y20L29",20,"终身",24,0,29,0,36231.21,0,0,36231.21]
["A24S0Y20L41",20,"终身",24,0,41,0,54642.01,0,0,54642.01]
["A24S0Y20L56",20,"终身",24,0,56,0,90614.16,0,0,90614.16]
["A24S0Y20L82",20,"终身",24,0,82,0,193440.57,0,0,193440.57]
["A25S0Y20L28",20,"终身",25,0,28,0,35003.01,0,0,35003.01]
["A25S0Y20L31",20,"终身",25,0,31,0,38795.379999999997,0,0,38795.379999999997]
["A25S0Y20L61",20,"终身",25,0,61,0,106427.71,0,0,106427.71]
["A25S0Y20L76",20,"终身",25,0,76,0,165972.32,0,0,165972.45000000001]
["A26S0Y20L19",20,"终身",26,0,19,500.91,24373.97,0,980.26,24720.21]
["A26S0Y20L49",20,"终身",26,0,49,0,71590.039999999994,0,0,71590.039999999994]
["A26S0Y20L70",20,"终身",26,0,70,0,139636.42000000001,0,0,139636.42000000001]
["A27S0Y20L2",20,"终身",27,0,2,113.31,172.63,0,980.26,1012.82]
["A27S0Y20L17",20,"终身",27,0,17,509.88,20241.97,0,980.26,21157.56]
["A27S0Y20L43",20,"终身",27,0,43,0,58411.59,0,0,58411.59]
["A27S0Y20L71",20,"终身",27,0,71,0,142771.67000000001,0,0,142771.69]
["A28S0Y20L7",20,"终身",28,0,7,519,4841.12,0,980.26,6623.73]
["A28S0Y20L33",20,"终身",28,0,33,0,41510.21,0,0,41510.21]
[{"$f":"\"A\"&D38664&\"S\"&E38664&\"Y\"&B38664&\"L\"&F38664","v":"A28S0Y20L40"},20,"终身",28,0,40,0,52717.87,0,0,52717.87]
["A28S0Y20L64",20,"终身",28,0,64,0,115742.56,0,0,115742.56]
["A29S0Y20L16",20,"终身",29,0,16,528.26,18318.8,0,980.26,19461.64]
["A29S0Y20L31",20,"终身",29,0,31,0,38748.46,0,0,38748.46]
["A29S0Y20L55",20,"终身",29,0,55,0,86904.06,0,0,86904.06]
["A29S0Y20L64",20,"终身",29,0,64,0,115233.69,0,0,115233.69]
["A30S0Y20L9",20,"终身",30,0,9,537.65,7312.08,0,980.25,9141.92]
["A30S0Y20L41",20,"终身",30,0,41,0,54465.89,0,0,54465.89]
["A30S0Y20L56",20,"终身",30,0,56,0,89528.39,0,0,89528.39]
["A31S0Y20L6",20,"终身",31,0,6,547.19000000000005,3696.45,0,980.25,5420.95]
["A31S0Y20L13",20,"终身",31,0,13,547.19000000000005,13110.9,0,980.25,14728.28]
["A31S0Y20L53",20,"终身",31,0,53,0,81080.149999999994,0,0,81080.149999999994]
["A31S0Y20L67",20,"终身",31,0,67,0,124298.49,0,0,124298.49]
["A32S0Y20L7",20,"终身",32,0,7,556.86,4834.93,0,980.25,6616.93]
["A32S0Y20L31",20,"终身",32,0,31,0,38691.17,0,0,38691.17]
["A32S0Y20L61",20,"终身",32,0,61,0,103838.46,0,0,103838.46]
["A33S0Y20L4",20,"终身",33,0,4,566.66999999999996,856.81,0,980.25,3141.19]
["A33S0Y20L20",20,"终身",33,0,20,566.66999999999996,26532.02,0,980.25,26532.02]
["A33S0Y20L35",20,"终身",33,0,35,0,44318.26,0,0,44318.26]
["A33S0Y20L57",20,"终身",33,0,57,0,91505.64,0,0,91505.64]
["A34S0Y20L16",20,"终身",34,0,16,576.61,18284.849999999999,0,980.24,19427.52]
["A34S0Y20L31",20,"终身",34,0,31,0,38638.44,0,0,38638.44]
["A34S0Y20L57",20,"终身",34,0,57,0,91138.98,0,0,91138.98]
["A34S0Y20L64",20,"终身",34,0,64,0,111970.4,0,0,111970.44]
["A35S0Y20L12",20,"终身",35,0,12,586.67999999999995,11532.06,0,980.24,13244.08]
["A35S0Y20L46",20,"终身",35,0,46,0,63948.55,0,0,63948.55]
["A35S0Y20L61",20,"终身",35,0,61,0,102160.48,0,0,102160.48]
["A36S0Y20L14",20,"终身",36,0,14,596.89,14725.48,0,980.24,16216.94]
["A36S0Y20L23",20,"终身",36,0,23,0,29343.63,0,0,29343.63]
["A36S0Y20L41",20,"终身",36,0,41,0,54078.46,0,0,54078.46]
["A37S0Y20L3",20,"终身",37,0,3,168.68,359.4,0,980.23,2056.7600000000002]
["A37S0Y20L22",20,"终身",37,0,22,0,28331.97,0,0,28331.97]
["A37S0Y20L44",20,"终身",37,0,44,0,59619.53,0,0,59619.53]
["A37S0Y20L55",20,"终身",37,0,55,0,84596.83,0,0,84596.83]
["A38S0Y20L22",20,"终身",38,0,22,0,28305.93,0,0,28305.93]
["A38S0Y20L36",20,"终身",38,0,36,0,45584.480000000003,0,0,45584.480000000003]
["A38S0Y20L55",20,"终身",38,0,55,0,84178.73,0,0,84178.73]
["A39S0Y20L7",20,"终身",39,0,7,628.30999999999995,4824.5200000000004,0,980.22,6606.34]
["A39S0Y20L20",20,"终身",39,0,20,628.30999999999995,26411.09,0,980.22,26411.09]
["A39S0Y20L54",20,"终身",39,0,54,0,81262.87,0,0,81262.880000000005]
["A40S0Y20L3",20,"终身",40,0,3,177.51,377.23,0,980.22,2056.4299999999998]
["A40S0Y20L22",20,"终身",40,0,22,0,28244.91,0,0,28244.91]
["A40S0Y20L40",20,"终身",40,0,40,0,51896.27,0,0,51896.27]
["A41S0Y20L6",20,"终身",41,0,6,649.86,3682.38,0,980.23,5406.53]
["A41S0Y20L21",20,"终身",41,0,21,0,27268.19,0,0,27268.19]
["A41S0Y20L39",20,"终身",41,0,39,0,50101.67,0,0,50101.67]
["A41S0Y20L58",20,"终身",41,0,58,0,90008.33,0,0,90008.33]
["A42S0Y20L9",20,"终身",42,0,9,660.71,7270,0,980.23,9098.3700000000008]
["A42S0Y20L43",20,"终身",42,0,43,0,56961.93,0,0,56961.93]
["A42S0Y20L62",20,"终身",42,0,62,0,99061.77,0,0,99061.77]
["A43S0Y20L18",20,"终身",43,0,18,671.57,22000.82,0,980.22,22651.08]
["A43S0Y20L27",20,"终身",43,0,27,0,33415.18,0,0,33415.18]
["A43S0Y20L45",20,"终身",43,0,45,0,60549.65,0,0,60549.65]
["A44S0Y20L18",20,"终身",44,0,18,682.44,21999.09,0,980.21,22649.87]
["A44S0Y20L37",20,"终身",44,0,37,0,46678.239999999998,0,0,46678.239999999998]
["A44S0Y20L55",20,"终身",44,0,55,0,81138.75,0,0,81138.78]
["A45S0Y20L4",20,"终身",45,0,4,693.35,1031.3399999999999,0,980.21,3128.61]
["A45S0Y20L40",20,"终身",45,0,40,0,51391.07,0,0,51391.07]
["A45S0Y20L58",20,"终身",45,0,58,0,87157.64,0,0,87157.64]
["A0S1Y20L16",20,"终身",0,1,16,279.2,18427.189999999999,0,980.28,19572.54]
["A0S1Y20L32",20,"终身",0,1,32,0,40381.97,0,0,40381.97]
["A0S1Y20L45",20,"终身",0,1,45,0,63137.8,0,0,63137.8]
["A0S1Y20L79",20,"终身",0,1,79,0,201992.88,0,0,201992.89]
["A0S1Y20L99",20,"终身",0,1,99,0,381499.74,0,0,381500.47]
["A1S1Y20L8",20,"终身",1,1,8,284.39999999999998,6070.11,0,980.28,7890.3]
["A1S1Y20L26",20,"终身",1,1,26,0,32852.57,0,0,32852.57]
["A1S1Y20L41",20,"终身",1,1,41,0,55023.89,0,0,55023.89]
["A1S1Y20L73",20,"终身",1,1,73,0,164819.93,0,0,164819.93]
["A1S1Y20L95",20,"终身",1,1,95,0,337216.66,0,0,337216.66]
["A2S1Y20L5",20,"终身",2,1,5,289.74,732.46,0,980.29,4274.99]
["A2S1Y20L21",20,"终身",2,1,21,0,27663.55,0,0,27663.55]
["A2S1Y20L59",20,"终身",2,1,59,0,102105.69,0,0,102105.7]
["A2S1Y20L78",20,"终身",2,1,78,0,194979.63,0,0,194979.64]
["A2S1Y20L94",20,"终身",2,1,94,0,325798.88,0,0,325799.06]
["A3S1Y20L3",20,"终身",3,1,3,82,178.96,0,980.29,2064]
["A3S1Y20L37",20,"终身",3,1,37,0,47947.5,0,0,47947.5]
["A3S1Y20L57",20,"终身",3,1,57,0,95319.56,0,0,95319.56]
["A3S1Y20L72",20,"终身",3,1,72,0,159155.07999999999,0,0,159155.09]
["A3S1Y20L90",20,"终身",3,1,90,0,287132.13,0,0,287132.14]
["A4S1Y20L2",20,"终身",4,1,2,66.84,102.88,0,980.29,1014.27]
["A4S1Y20L34",20,"终身",4,1,34,0,43244.71,0,0,43244.71]
["A4S1Y20L56",20,"终身",4,1,56,0,92089.73,0,0,92089.73]
["A4S1Y20L71",20,"终身",4,1,71,0,153762.23999999999,0,0,153762.23999999999]
["A4S1Y20L87",20,"终身",4,1,87,0,260577.4,0,0,260577.4]
["A5S1Y20L2",20,"终身",5,1,2,68.11,104.9,0,980.29,1014.29]
["A5S1Y20L36",20,"终身",5,1,36,0,46318.04,0,0,46318.04]
["A5S1Y20L56",20,"终身",5,1,56,0,92074.25,0,0,92074.25]
["A5S1Y20L71",20,"终身",5,1,71,0,153667.81,0,0,153667.81]
["A5S1Y20L85",20,"终身",5,1,85,0,243904.05,0,0,243904.05]
["A6S1Y20L3",20,"终身",6,1,3,86.75,189.71,0,980.29,2064.12]
["A6S1Y20L35",20,"终身",6,1,35,0,44747.71,0,0,44747.71]
["A6S1Y20L57",20,"终身",6,1,57,0,95268.94,0,0,95268.94]
["A6S1Y20L72",20,"终身",6,1,72,0,158827.71,0,0,158827.71]
["A6S1Y20L84",20,"终身",6,1,84,0,235634.92,0,0,235634.93]
["A7S1Y20L5",20,"终身",7,1,5,318.22000000000003,805.49,0,980.29,4275.24]
["A7S1Y20L41",20,"终身",7,1,41,0,54990.05,0,0,54990.05]
["A7S1Y20L57",20,"终身",7,1,57,0,95248.73,0,0,95248.73]
["A7S1Y20L74",20,"终身",7,1,74,0,169682.04,0,0,169682.04]
["A7S1Y20L88",20,"终身",7,1,88,0,266012.51,0,0,266012.57]
["A8S1Y20L8",20,"终身",8,1,8,324.26,6070.88,0,980.29,7890.71]
["A8S1Y20L44",20,"终身",8,1,44,0,60952.59,0,0,60952.59]
["A8S1Y20L58",20,"终身",8,1,58,0,98545.25,0,0,98545.25]
["A8S1Y20L77",20,"终身",8,1,77,0,187134.13,0,0,187134.15]
["A9S1Y20L11",20,"终身",9,1,11,330.4,10114.74,0,980.29,11896.35]
["A9S1Y20L12",20,"终身",9,1,12,330.4,11609.9,0,980.29,13325.43]
["A9S1Y20L48",20,"终身",9,1,48,0,69918.179999999993,0,0,69918.179999999993]
["A9S1Y20L60",20,"终身",9,1,60,0,105493.1,0,0,105493.1]
["A9S1Y20L81",20,"终身",9,1,81,0,212469.96,0,0,212469.96]
[{"$f":"\"A\"&D40904&\"S\"&E40904&\"Y\"&B40904&\"L\"&F40904","v":"A10S1Y20L14"},20,"终身",10,1,14,336.66,14838.63,0,980.29,16333.22]
["A10S1Y20L38",20,"终身",10,1,38,0,49584.12,0,0,49584.12]
["A10S1Y20L53",20,"终身",10,1,53,0,82990.63,0,0,82990.63]
["A10S1Y20L67",20,"终身",10,1,67,0,133770.25,0,0,133770.25]
["A10S1Y20L86",20,"终身",10,1,86,0,247249.93,0,0,247249.94]
["A11S1Y20L18",20,"终身",11,1,18,343.02,22356.23,0,980.29,23007.78]
["A11S1Y20L44",20,"终身",11,1,44,0,60926.17,0,0,60926.17]
["A11S1Y20L59",20,"终身",11,1,59,0,101881.88,0,0,101881.88]
["A11S1Y20L71",20,"终身",11,1,71,0,152820.48000000001,0,0,152820.48000000001]
["A11S1Y20L92",20,"终身",11,1,92,0,292208.78999999998,0,0,292208.78999999998]
["A12S1Y20L23",20,"终身",12,1,23,0,29601.43,0,0,29601.43]
["A12S1Y20L47",20,"终身",12,1,47,0,67525.87,0,0,67525.87]
["A12S1Y20L66",20,"终身",12,1,66,0,129135.47,0,0,129135.47]
["A12S1Y20L76",20,"终身",12,1,76,0,179713.32,0,0,179713.32]
["A13S1Y20L5",20,"终身",13,1,5,356.1,900.69,0,980.29,4274.91]
["A13S1Y20L41",20,"终身",13,1,41,0,54945.35,0,0,54945.35]
["A13S1Y20L55",20,"终身",13,1,55,0,88809.96,0,0,88809.96]
["A13S1Y20L74",20,"终身",13,1,74,0,168101.86,0,0,168101.86]
["A14S1Y20L9",20,"终身",14,1,9,362.81,7342.69,0,980.29,9174.69]
["A14S1Y20L14",20,"终身",14,1,14,362.81,14832.2,0,980.29,16326.53]
["A14S1Y20L50",20,"终身",14,1,50,0,74817.52,0,0,74817.52]
["A14S1Y20L62",20,"终身",14,1,62,0,112659.27,0,0,112659.27]
["A14S1Y20L83",20,"终身",14,1,83,0,221951.25,0,0,221951.25]
["A15S1Y20L17",20,"终身",15,1,17,369.64,20327.259999999998,0,980.29,21244]
["A15S1Y20L41",20,"终身",15,1,41,0,54929.54,0,0,54929.54]
["A15S1Y20L60",20,"终身",15,1,60,0,105215.83,0,0,105215.83]
["A15S1Y20L70",20,"终身",15,1,70,0,146994.37,0,0,146994.37]
["A16S1Y20L2",20,"终身",16,1,2,83.69,128.85,0,980.29,1014.2]
["A16S1Y20L26",20,"终身",16,1,26,0,32802.71,0,0,32802.71]
["A16S1Y20L52",20,"终身",16,1,52,0,80081.03,0,0,80081.03]
["A16S1Y20L71",20,"终身",16,1,71,0,151579.5,0,0,151579.5]
["A16S1Y20L79",20,"终身",16,1,79,0,195025.68,0,0,195025.7]
["A17S1Y20L10",20,"终身",17,1,10,383.67,8686.6200000000008,0,980.29,10506.11]
["A17S1Y20L36",20,"终身",17,1,36,0,46249.55,0,0,46249.55]
["A17S1Y20L64",20,"终身",17,1,64,0,120185.36,0,0,120185.36]
["A17S1Y20L83",20,"终身",17,1,83,0,218503.64,0,0,218503.71]
["A17S1Y20L89",20,"终身",17,1,89,0,254927,0,0,254927]
["A18S1Y20L23",20,"终身",18,1,23,0,29583.08,0,0,29583.08]
[{"$f":"\"A\"&D41672&\"S\"&E41672&\"Y\"&B41672&\"L\"&F41672","v":"A18S1Y20L42"},20,"终身",18,1,42,0,56823.64,0,0,56823.64]
["A18S1Y20L73",20,"终身",18,1,73,0,160788.35,0,0,160788.35]
["A19S1Y20L8",20,"终身",19,1,8,398.16,6063.85,0,980.28,7883.28]
["A19S1Y20L32",20,"终身",19,1,32,0,40304.78,0,0,40304.78]
["A19S1Y20L37",20,"终身",19,1,37,0,47856.73,0,0,47856.73]
["A19S1Y20L56",20,"终身",19,1,56,0,91668.08,0,0,91668.08]
["A19S1Y20L85",20,"终身",19,1,85,0,227822.64,0,0,227822.64]
["A20S1Y20L19",20,"终身",20,1,19,405.59,24459.96,0,980.28,24806.46]
["A20S1Y20L45",20,"终身",20,1,45,0,62965.85,0,0,62965.85]
["A20S1Y20L52",20,"终身",20,1,52,0,79983.47,0,0,79983.47]
["A21S1Y20L6",20,"终身",21,1,6,413.14,3709.38,0,980.28,5434.68]
["A21S1Y20L12",20,"终身",21,1,12,413.14,11597.89,0,980.28,13312.77]
["A21S1Y20L35",20,"终身",21,1,35,0,44675.34,0,0,44675.34]
["A21S1Y20L59",20,"终身",21,1,59,0,101285.23,0,0,101285.23]
["A21S1Y20L68",20,"终身",21,1,68,0,136096.29,0,0,136096.29]
["A22S1Y20L23",20,"终身",22,1,23,0,29580.04,0,0,29580.04]
["A22S1Y20L27",20,"终身",22,1,27,0,33939.160000000003,0,0,33939.160000000003]
["A22S1Y20L52",20,"终身",22,1,52,0,79922.929999999993,0,0,79922.929999999993]
["A22S1Y20L74",20,"终身",22,1,74,0,163519.92000000001,0,0,163519.92000000001]
["A23S1Y20L22",20,"终身",23,1,22,0,28579.8,0,0,28579.8]
["A23S1Y20L37",20,"终身",23,1,37,0,47844.17,0,0,47844.17]
["A23S1Y20L63",20,"终身",23,1,63,0,115315.26,0,0,115315.26]
["A23S1Y20L70",20,"终身",23,1,70,0,144121.51999999999,0,0,144121.51999999999]
["A24S1Y20L7",20,"终身",24,1,7,436.66,4853.93,0,980.28,6637.31]
[{"$f":"\"A\"&D42184&\"S\"&E42184&\"Y\"&B42184&\"L\"&F42184","v":"A24S1Y20L41"},20,"终身",24,1,41,0,54872.01,0,0,54872.01]
["A24S1Y20L56",20,"终身",24,1,56,0,91353.83,0,0,91353.83]
["A24S1Y20L80",20,"终身",24,1,80,0,191823.74,0,0,191823.74]
["A25S1Y20L7",20,"终身",25,1,7,444.79,4853.72,0,980.28,6637.05]
["A25S1Y20L43",20,"终身",25,1,43,0,58748.97,0,0,58748.97]
["A25S1Y20L51",20,"终身",25,1,51,0,77140.63,0,0,77140.63]
["A25S1Y20L76",20,"终身",25,1,76,0,170702.39,0,0,170702.39]
["A26S1Y20L17",20,"终身",26,1,17,453.06,20309.89,0,980.28,21226.33]
["A26S1Y20L28",20,"终身",26,1,28,0,35116.79,0,0,35116.79]
["A26S1Y20L64",20,"终身",26,1,64,0,118294.49,0,0,118294.51]
[{"$f":"\"A\"&D42376&\"S\"&E42376&\"Y\"&B42376&\"L\"&F42376","v":"A26S1Y20L70"},20,"终身",26,1,70,0,142489.65,0,0,142489.73000000001]
["A27S1Y20L17",20,"终身",27,1,17,461.49,20308.68,0,980.28,21225.13]
["A27S1Y20L37",20,"终身",27,1,37,0,47819.34,0,0,47819.34]
["A27S1Y20L50",20,"终身",27,1,50,0,74481,0,0,74481]
["A28S1Y20L7",20,"终身",28,1,7,470.06,4852.78,0,980.28,6635.95]
["A28S1Y20L11",20,"终身",28,1,11,470.06,10098.02,0,980.28,11878.37]
["A28S1Y20L40",20,"终身",28,1,40,0,52980.49,0,0,52980.49]
["A28S1Y20L62",20,"终身",28,1,62,0,110416.75,0,0,110416.75]
["A28S1Y20L73",20,"终身",28,1,73,0,153941.35999999999,0,0,153941.35999999999]
["A29S1Y20L31",20,"终身",29,1,31,0,38911.279999999999,0,0,38911.279999999999]
["A29S1Y20L53",20,"终身",29,1,53,0,82205.8,0,0,82205.8]
["A29S1Y20L64",20,"终身",29,1,64,0,117212.87,0,0,117212.87]
["A30S1Y20L7",20,"终身",30,1,7,487.66,4851.8100000000004,0,980.28,6634.83]
["A30S1Y20L20",20,"终身",30,1,20,487.66,26666,0,980.28,26666]
["A30S1Y20L56",20,"终身",30,1,56,0,90604.2,0,0,90604.2]
[{"$f":"\"A\"&D42696&\"S\"&E42696&\"Y\"&B42696&\"L\"&F42696","v":"A30S1Y20L76"},20,"终身",30,1,76,0,162935.25,0,0,162935.25]
["A31S1Y20L13",20,"终身",31,1,13,496.69,13158.48,0,980.28,14777.56]
["A31S1Y20L28",20,"终身",31,1,28,0,35090.589999999997,0,0,35090.589999999997]
["A31S1Y20L53",20,"终身",31,1,53,0,81974.429999999993,0,0,81974.429999999993]
["A32S1Y20L7",20,"终身",32,1,7,505.86,4850.46,0,980.28,6633.3]
["A32S1Y20L29",20,"终身",32,1,29,0,36307.31,0,0,36307.31]
["A32S1Y20L40",20,"终身",32,1,40,0,52899.63,0,0,52899.63]
["A32S1Y20L55",20,"终身",32,1,55,0,87350.76,0,0,87350.77]
["A33S1Y20L4",20,"终身",33,1,4,515.19000000000005,786.09,0,980.27,3147.04]
["A33S1Y20L35",20,"终身",33,1,35,0,44580.02,0,0,44580.02]
["A33S1Y20L55",20,"终身",33,1,55,0,87152.65,0,0,87152.65]
["A33S1Y20L68",20,"终身",33,1,68,0,129532.76,0,0,129532.77]
["A34S1Y20L10",20,"终身",34,1,10,524.67999999999995,8675.11,0,980.27,10493.58]
["A34S1Y20L35",20,"终身",34,1,35,0,44561.36,0,0,44561.36]
["A34S1Y20L64",20,"终身",34,1,64,0,114754.28,0,0,114754.29]
["A35S1Y20L10",20,"终身",35,1,10,534.30999999999995,8673.9699999999993,0,980.27,10492.4]
["A35S1Y20L25",20,"终身",35,1,25,0,31623.41,0,0,31623.41]
["A35S1Y20L61",20,"终身",35,1,61,0,104426.5,0,0,104426.5]
["A35S1Y20L63",20,"终身",35,1,63,0,110848.26,0,0,110848.26]
["A36S1Y20L23",20,"终身",36,1,23,0,29515.48,0,0,29515.48]
["A36S1Y20L39",20,"终身",36,1,39,0,51002.78,0,0,51002.78]
["A36S1Y20L56",20,"终身",36,1,56,0,89191,0,0,89191.01]
["A37S1Y20L22",20,"终身",37,1,22,0,28509,0,0,28509]
["A37S1Y20L42",20,"终身",37,1,42,0,56385.08,0,0,56385.08]
["A37S1Y20L55",20,"终身",37,1,55,0,86149.6,0,0,86149.6]
["A38S1Y20L1",20,"终身",38,1,1,94.02,79.5,0,1.05,79.5]
["A38S1Y20L17",20,"终身",38,1,17,564.15,20261.04,0,980.27,21177.32]
["A38S1Y20L18",20,"终身",38,1,18,564.15,22273.86,0,980.27,22925.1]
["A38S1Y20L19",20,"终身",38,1,19,564.15,24388.07,0,980.27,24734.59]
["A38S1Y20L20",20,"终身",38,1,20,564.15,26608.32,0,980.27,26608.32]
["A38S1Y20L21",20,"终身",38,1,21,0,27535.85,0,0,27535.85]
["A38S1Y20L22",20,"终身",38,1,22,0,28497.33,0,0,28497.33]
["A38S1Y20L23",20,"终身",38,1,23,0,29492.15,0,0,29492.15]
["A38S1Y20L24",20,"终身",38,1,24,0,30521.439999999999,0,0,30521.439999999999]
["A38S1Y20L25",20,"终身",38,1,25,0,31586.32,0,0,31586.32]
["A38S1Y20L26",20,"终身",38,1,26,0,32687.94,0,0,32687.94]
["A38S1Y20L27",20,"终身",38,1,27,0,33827.5,0,0,33827.5]
["A38S1Y20L28",20,"终身",38,1,28,0,35006.19,0,0,35006.19]
["A38S1Y20L29",20,"终身",38,1,29,0,36225.25,0,0,36225.25]
["A38S1Y20L30",20,"终身",38,1,30,0,37485.93,0,0,37485.93]
["A38S1Y20L31",20,"终身",38,1,31,0,38789.47,0,0,38789.47]
["A38S1Y20L32",20,"终身",38,1,32,0,40137.14,0,0,40137.14]
["A38S1Y20L33",20,"终身",38,1,33,0,41530.22,0,0,41530.22]
["A38S1Y20L34",20,"终身",38,1,34,0,42969.97,0,0,42969.97]
["A38S1Y20L35",20,"终身",38,1,35,0,44457.68,0,0,44457.68]
["A38S1Y20L36",20,"终身",38,1,36,0,45994.6,0,0,45994.6]
["A38S1Y20L37",20,"终身",38,1,37,0,47581.99,0,0,47581.99]
["A38S1Y20L38",20,"终身",38,1,38,0,49221.09,0,0,49221.09]
["A38S1Y20L39",20,"终身",38,1,39,0,50913.09,0,0,50913.09]
["A38S1Y20L40",20,"终身",38,1,40,0,52659.16,0,0,52659.16]
["A38S1Y20L41",20,"终身",38,1,41,0,54460.39,0,0,54460.39]
["A38S1Y20L42",20,"终身",38,1,42,0,56317.81,0,0,56317.81]
["A38S1Y20L43",20,"终身",38,1,43,0,58232.34,0,0,58232.34]
["A38S1Y20L44",20,"终身",38,1,44,0,60204.79,0,0,60204.79]
["A38S1Y20L45",20,"终身",38,1,45,0,62235.82,0,0,62235.82]
["A38S1Y20L46",20,"终身",38,1,46,0,64325.96,0,0,64325.96]
["A38S1Y20L47",20,"终身",38,1,47,0,66475.59,0,0,66475.59]
["A38S1Y20L48",20,"终身",38,1,48,0,68684.990000000005,0,0,68684.990000000005]
["A38S1Y20L49",20,"终身",38,1,49,0,70954.36,0,0,70954.36]
["A38S1Y20L50",20,"终身",38,1,50,0,73283.91,0,0,73283.91]
["A38S1Y20L51",20,"终身",38,1,51,0,75673.86,0,0,75673.86]
["A38S1Y20L52",20,"终身",38,1,52,0,78124.509999999995,0,0,78124.509999999995]
["A38S1Y20L53",20,"终身",38,1,53,0,80636.12,0,0,80636.12]
["A38S1Y20L54",20,"终身",38,1,54,0,83208.899999999994,0,0,83208.899999999994]
["A38S1Y20L55",20,"终身",38,1,55,0,85842.8,0,0,85842.8]
["A38S1Y20L56",20,"终身",38,1,56,0,88537.35,0,0,88537.35]
["A38S1Y20L57",20,"终身",38,1,57,0,91291.520000000004,0,0,91291.520000000004]
["A38S1Y20L58",20,"终身",38,1,58,0,94103.57,0,0,94103.57]
["A38S1Y20L59",20,"终身",38,1,59,0,96970.99,0,0,96971]
["A38S1Y20L60",20,"终身",38,1,60,0,99890.52,0,0,99890.52]
["A38S1Y20L61",20,"终身",38,1,61,0,102858.21,0,0,102858.21]
["A38S1Y20L62",20,"终身",38,1,62,0,105869.63,0,0,105869.63]
["A38S1Y20L63",20,"终身",38,1,63,0,108920,0,0,108920]
["A38S1Y20L64",20,"终身",38,1,64,0,112004.4,0,0,112004.4]
["A38S1Y20L65",20,"终身",38,1,65,0,115117.87,0,0,115117.87]
["A38S1Y20L66",20,"终身",38,1,66,0,118255.5,0,0,118255.5]
["A38S1Y20L67",20,"终身",38,1,67,0,121412.55,0,0,121412.55]
["A38S1Y20L68",20,"终身",38,1,68,0,123517.51,0,0,123517.51]
["A39S1Y20L1",20,"终身",39,1,1,95.73,80.900000000000006,0,1.1399999999999999,80.900000000000006]
["A39S1Y20L2",20,"终身",39,1,2,127.64,194.97,0,980.26,1012.87]
["A39S1Y20L3",20,"终身",39,1,3,159.56,345.31,0,980.26,2061.04]
[{"$f":"\"A\"&D43272&\"S\"&E43272&\"Y\"&B43272&\"L\"&F43272","v":"A39S1Y20L4"},20,"终身",39,1,4,574.4,874.26,0,980.26,3145.44]
["A39S1Y20L5",20,"终身",39,1,5,574.4,1443.93,0,980.26,4267.28]
["A39S1Y20L6",20,"终身",39,1,6,574.4,3703.05,0,980.26,5427.82]
["A39S1Y20L7",20,"终身",39,1,7,574.4,4845.68,0,980.26,6628.39]
["A39S1Y20L8",20,"终身",39,1,8,574.4,6051.91,0,980.26,7870.33]
["A39S1Y20L9",20,"终身",39,1,9,574.4,7324.39,0,980.26,9155.06]
["A39S1Y20L10",20,"终身",39,1,10,574.4,8665.8799999999992,0,980.26,10484.08]
["A39S1Y20L11",20,"终身",39,1,11,574.4,10079.290000000001,0,980.26,11858.94]
["A39S1Y20L12",20,"终身",39,1,12,574.4,11567.67,0,980.26,13281.28]
["A39S1Y20L13",20,"终身",39,1,13,574.4,13134.22,0,980.26,14752.8]
["A39S1Y20L14",20,"终身",39,1,14,574.4,14782.31,0,980.26,16275.33]
["A39S1Y20L15",20,"终身",39,1,15,574.4,16515.509999999998,0,980.26,17850.78]
["A39S1Y20L16",20,"终身",39,1,16,574.4,18337.54,0,980.26,19481.169999999998]
["A39S1Y20L17",20,"终身",39,1,17,574.4,20252.39,0,980.26,21168.639999999999]
["A39S1Y20L18",20,"终身",39,1,18,574.4,22264.23,0,980.26,22915.45]
["A39S1Y20L19",20,"终身",39,1,19,574.4,24377.45,0,980.26,24723.97]
["A39S1Y20L20",20,"终身",39,1,20,574.4,26596.720000000001,0,980.26,26596.720000000001]
["A39S1Y20L21",20,"终身",39,1,21,0,27523.47,0,0,27523.47]
["A39S1Y20L22",20,"终身",39,1,22,0,28484.3,0,0,28484.3]
["A39S1Y20L23",20,"终身",39,1,23,0,29478.41,0,0,29478.41]
["A39S1Y20L24",20,"终身",39,1,24,0,30506.89,0,0,30506.9]
["A39S1Y20L25",20,"终身",39,1,25,0,31570.87,0,0,31570.87]
["A39S1Y20L26",20,"终身",39,1,26,0,32671.48,0,0,32671.49]
["A39S1Y20L27",20,"终身",39,1,27,0,33809.9,0,0,33809.9]
["A39S1Y20L28",20,"终身",39,1,28,0,34987.300000000003,0,0,34987.300000000003]
["A39S1Y20L29",20,"终身",39,1,29,0,36204.89,0,0,36204.9]
["A39S1Y20L30",20,"终身",39,1,30,0,37463.89,0,0,37463.89]
["A39S1Y20L31",20,"终身",39,1,31,0,38765.5,0,0,38765.51]
["A39S1Y20L32",20,"终身",39,1,32,0,40110.97,0,0,40110.980000000003]
["A39S1Y20L33",20,"终身",39,1,33,0,41501.53,0,0,41501.53]
["A39S1Y20L34",20,"终身",39,1,34,0,42938.39,0,0,42938.39]
["A39S1Y20L35",20,"终身",39,1,35,0,44422.79,0,0,44422.79]
["A39S1Y20L36",20,"终身",39,1,36,0,45955.94,0,0,45955.94]
["A39S1Y20L37",20,"终身",39,1,37,0,47539.02,0,0,47539.02]
["A39S1Y20L38",20,"终身",39,1,38,0,49173.2,0,0,49173.2]
["A39S1Y20L39",20,"终身",39,1,39,0,50859.6,0,0,50859.6]
["A39S1Y20L40",20,"终身",39,1,40,0,52599.28,0,0,52599.28]
["A39S1Y20L41",20,"终身",39,1,41,0,54393.22,0,0,54393.22]
["A39S1Y20L42",20,"终身",39,1,42,0,56242.32,0,0,56242.33]
["A39S1Y20L43",20,"终身",39,1,43,0,58147.360000000001,0,0,58147.37]
["A39S1Y20L44",20,"终身",39,1,44,0,60108.99,0,0,60108.99]
["A39S1Y20L45",20,"终身",39,1,45,0,62127.7,0,0,62127.7]
["A39S1Y20L46",20,"终身",39,1,46,0,64203.87,0,0,64203.88]
["A39S1Y20L47",20,"终身",39,1,47,0,66337.77,0,0,66337.77]
["A39S1Y20L48",20,"终身",39,1,48,0,68529.59,0,0,68529.59]
["A39S1Y20L49",20,"终身",39,1,49,0,70779.520000000004,0,0,70779.53]
["A39S1Y20L50",20,"终身",39,1,50,0,73087.81,0,0,73087.81]
["A39S1Y20L51",20,"终身",39,1,51,0,75454.7,0,0,75454.710000000006]
["A39S1Y20L52",20,"终身",39,1,52,0,77880.490000000005,0,0,77880.5]
["A39S1Y20L53",20,"终身",39,1,53,0,80365.350000000006,0,0,80365.36]
["A39S1Y20L54",20,"终身",39,1,54,0,82909.23,0,0,82909.25]
["A39S1Y20L55",20,"终身",39,1,55,0,85511.7,0,0,85511.72]
["A39S1Y20L56",20,"终身",39,1,56,0,88171.75,0,0,88171.78]
["A39S1Y20L57",20,"终身",39,1,57,0,90887.7,0,0,90887.74]
["A39S1Y20L58",20,"终身",39,1,58,0,93657.13,0,0,93657.19]
["A39S1Y20L59",20,"终身",39,1,59,0,96476.88,0,0,96476.97]
["A39S1Y20L60",20,"终身",39,1,60,0,99343.16,0,0,99343.28]
["A39S1Y20L61",20,"终身",39,1,61,0,102251.67,0,0,102251.85]
["A39S1Y20L62",20,"终身",39,1,62,0,105197.8,0,0,105198.09]
["A39S1Y20L63",20,"终身",39,1,63,0,108176.79,0,0,108177.28]
["A39S1Y20L64",20,"终身",39,1,64,0,111183.86,0,0,111184.7]
["A39S1Y20L65",20,"终身",39,1,65,0,114214.27,0,0,114215.8]
["A39S1Y20L66",20,"终身",39,1,66,0,117263.43,0,0,117266.4]
["A39S1Y20L67",20,"终身",39,1,67,0,119296.46,0,0,119296.46]
[{"$f":"\"A\"&D43336&\"S\"&E43336&\"Y\"&B43336&\"L\"&F43336","v":"A40S1Y20L1"},20,"终身",40,1,1,97.47,82.3,0,1.23,82.3]
["A40S1Y20L2",20,"终身",40,1,2,129.96,198.56,0,980.26,1013.02]
["A40S1Y20L3",20,"终身",40,1,3,162.44999999999999,351.43,0,980.26,2061.02]
["A40S1Y20L4",20,"终身",40,1,4,584.80999999999995,889.68,0,980.26,3145.19]
["A40S1Y20L5",20,"终身",40,1,5,584.80999999999995,1469.3,0,980.26,4266.74]
["A40S1Y20L6",20,"终身",40,1,6,584.80999999999995,3702.12,0,980.26,5426.92]
["A40S1Y20L7",20,"终身",40,1,7,584.80999999999995,4844.34,0,980.26,6627.04]
["A40S1Y20L8",20,"终身",40,1,8,584.80999999999995,6050.08,0,980.26,7868.45]
["A40S1Y20L9",20,"终身",40,1,9,584.80999999999995,7321.98,0,980.26,9152.59]
["A40S1Y20L10",20,"终身",40,1,10,584.80999999999995,8662.81,0,980.26,10480.93]
["A40S1Y20L11",20,"终身",40,1,11,584.80999999999995,10075.48,0,980.26,11855.03]
["A40S1Y20L12",20,"终身",40,1,12,584.80999999999995,11563.04,0,980.26,13276.54]
["A40S1Y20L13",20,"终身",40,1,13,584.80999999999995,13128.69,0,980.26,14747.17]
["A40S1Y20L14",20,"终身",40,1,14,584.80999999999995,14775.84,0,980.26,16268.76]
["A40S1Y20L15",20,"终身",40,1,15,584.80999999999995,16508.03,0,980.26,17843.22]
["A40S1Y20L16",20,"终身",40,1,16,584.80999999999995,18329.03,0,980.26,19472.59]
["A40S1Y20L17",20,"终身",40,1,17,584.80999999999995,20242.82,0,980.26,21159.02]
["A40S1Y20L18",20,"终身",40,1,18,584.80999999999995,22253.56,0,980.26,22904.76]
["A40S1Y20L19",20,"终身",40,1,19,584.80999999999995,24365.66,0,980.26,24712.17]
["A40S1Y20L20",20,"终身",40,1,20,584.80999999999995,26583.78,0,980.26,26583.79]
["A40S1Y20L21",20,"终身",40,1,21,0,27509.61,0,0,27509.61]
["A40S1Y20L22",20,"终身",40,1,22,0,28469.7,0,0,28469.7]
["A40S1Y20L23",20,"终身",40,1,23,0,29463,0,0,29463]
["A40S1Y20L24",20,"终身",40,1,24,0,30490.57,0,0,30490.57]
["A40S1Y20L25",20,"终身",40,1,25,0,31553.52,0,0,31553.52]
["A40S1Y20L26",20,"终身",40,1,26,0,32652.98,0,0,32652.98]
["A40S1Y20L27",20,"终身",40,1,27,0,33790.089999999997,0,0,33790.089999999997]
["A40S1Y20L28",20,"终身",40,1,28,0,34966.019999999997,0,0,34966.019999999997]
["A40S1Y20L29",20,"终身",40,1,29,0,36181.93,0,0,36181.93]
["A40S1Y20L30",20,"终身",40,1,30,0,37439.01,0,0,37439.01]
["A40S1Y20L31",20,"终身",40,1,31,0,38738.44,0,0,38738.44]
["A40S1Y20L32",20,"终身",40,1,32,0,40081.410000000003,0,0,40081.410000000003]
["A40S1Y20L33",20,"终身",40,1,33,0,41469.11,0,0,41469.11]
["A40S1Y20L34",20,"终身",40,1,34,0,42902.71,0,0,42902.71]
["A40S1Y20L35",20,"终身",40,1,35,0,44383.4,0,0,44383.4]
["A40S1Y20L36",20,"终身",40,1,36,0,45912.31,0,0,45912.31]
["A40S1Y20L37",20,"终身",40,1,37,0,47490.57,0,0,47490.57]
["A40S1Y20L38",20,"终身",40,1,38,0,49119.26,0,0,49119.27]
["A40S1Y20L39",20,"终身",40,1,39,0,50799.41,0,0,50799.42]
["A40S1Y20L40",20,"终身",40,1,40,0,52531.97,0,0,52531.97]
["A40S1Y20L41",20,"终身",40,1,41,0,54317.8,0,0,54317.81]
["A40S1Y20L42",20,"终身",40,1,42,0,56157.65,0,0,56157.66]
["A40S1Y20L43",20,"终身",40,1,43,0,58052.15,0,0,58052.160000000003]
["A40S1Y20L44",20,"终身",40,1,44,0,60001.79,0,0,60001.79]
["A40S1Y20L45",20,"终身",40,1,45,0,62006.92,0,0,62006.92]
["A40S1Y20L46",20,"终身",40,1,46,0,64067.79,0,0,64067.8]
["A40S1Y20L47",20,"终身",40,1,47,0,66184.61,0,0,66184.62]
["A40S1Y20L48",20,"终身",40,1,48,0,68357.56,0,0,68357.570000000007]
["A40S1Y20L49",20,"终身",40,1,49,0,70586.86,0,0,70586.87]
["A40S1Y20L50",20,"终身",40,1,50,0,72872.759999999995,0,0,72872.78]
["A40S1Y20L51",20,"终身",40,1,51,0,75215.539999999994,0,0,75215.56]
["A40S1Y20L52",20,"终身",40,1,52,0,77615.37,0,0,77615.39]
["A40S1Y20L53",20,"终身",40,1,53,0,80072.210000000006,0,0,80072.23]
["A40S1Y20L54",20,"终身",40,1,54,0,82585.62,0,0,82585.66]
["A40S1Y20L55",20,"终身",40,1,55,0,85154.65,0,0,85154.69]
["A40S1Y20L56",20,"终身",40,1,56,0,87777.67,0,0,87777.73]
["A40S1Y20L57",20,"终身",40,1,57,0,90452.34,0,0,90452.41]
["A40S1Y20L58",20,"终身",40,1,58,0,93175.6,0,0,93175.71]
["A40S1Y20L59",20,"终身",40,1,59,0,95943.79,0,0,95943.96]
["A40S1Y20L60",20,"终身",40,1,60,0,98752.78,0,0,98753.03]
["A40S1Y20L61",20,"终身",40,1,61,0,101598.1,0,0,101598.5]
["A40S1Y20L62",20,"终身",40,1,62,0,104475.16,0,0,104475.81]
["A40S1Y20L63",20,"终身",40,1,63,0,107379.33,0,0,107380.46]
["A40S1Y20L64",20,"终身",40,1,64,0,110306.04,0,0,110308.12]
[{"$f":"\"A\"&D43400&\"S\"&E43400&\"Y\"&B43400&\"L\"&F43400","v":"A40S1Y20L65"},20,"终身",40,1,65,0,113250.86,0,0,113254.88]
["A40S1Y20L66",20,"终身",40,1,66,0,115214.32,0,0,115214.32]
["A41S1Y20L1",20,"终身",41,1,1,99.23,83.85,0,1.19,83.85]
["A41S1Y20L2",20,"终身",41,1,2,132.30000000000001,202.06,0,980.27,1012.88]
["A41S1Y20L3",20,"终身",41,1,3,165.38,357.46,0,980.27,2060.69]
["A41S1Y20L4",20,"终身",41,1,4,595.36,905.09,0,980.27,3144.61]
["A41S1Y20L5",20,"终身",41,1,5,595.36,1494.73,0,980.27,4265.83]
["A41S1Y20L6",20,"终身",41,1,6,595.36,3700.92,0,980.27,5425.6]
["A41S1Y20L7",20,"终身",41,1,7,595.36,4842.68,0,980.27,6625.24]
["A41S1Y20L8",20,"终身",41,1,8,595.36,6047.87,0,980.27,7866.08]
["A41S1Y20L9",20,"终身",41,1,9,595.36,7319.14,0,980.27,9149.57]
["A41S1Y20L10",20,"终身",41,1,10,595.36,8659.25,0,980.27,10477.18]
["A41S1Y20L11",20,"终身",41,1,11,595.36,10071.120000000001,0,980.27,11850.47]
["A41S1Y20L12",20,"终身",41,1,12,595.36,11557.79,0,980.27,13271.09]
["A41S1Y20L13",20,"终身",41,1,13,595.36,13122.49,0,980.27,14740.78]
["A41S1Y20L14",20,"终身",41,1,14,595.36,14768.61,0,980.27,16261.36]
["A41S1Y20L15",20,"终身",41,1,15,595.36,16499.740000000002,0,980.27,17834.78]
["A41S1Y20L16",20,"终身",41,1,16,595.36,18319.63,0,980.27,19463.060000000001]
["A41S1Y20L17",20,"终身",41,1,17,595.36,20232.240000000002,0,980.27,21148.35]
["A41S1Y20L18",20,"终身",41,1,18,595.36,22241.73,0,980.27,22892.86]
["A41S1Y20L19",20,"终身",41,1,19,595.36,24352.5,0,980.27,24698.99]
["A41S1Y20L20",20,"终身",41,1,20,595.36,26569.279999999999,0,980.27,26569.279999999999]
["A41S1Y20L21",20,"终身",41,1,21,0,27496.560000000001,0,0,27496.560000000001]
["A41S1Y20L22",20,"终身",41,1,22,0,28455.9,0,0,28455.9]
["A41S1Y20L23",20,"终身",41,1,23,0,29448.35,0,0,29448.35]
["A41S1Y20L24",20,"终身",41,1,24,0,30474.959999999999,0,0,30474.959999999999]
["A41S1Y20L25",20,"终身",41,1,25,0,31536.84,0,0,31536.84]
["A41S1Y20L26",20,"终身",41,1,26,0,32635.09,0,0,32635.09]
["A41S1Y20L27",20,"终身",41,1,27,0,33770.82,0,0,33770.82]
["A41S1Y20L28",20,"终身",41,1,28,0,34945.17,0,0,34945.17]
["A41S1Y20L29",20,"终身",41,1,29,0,36159.279999999999,0,0,36159.279999999999]
["A41S1Y20L30",20,"终身",41,1,30,0,37414.29,0,0,37414.29]
["A41S1Y20L31",20,"终身",41,1,31,0,38711.360000000001,0,0,38711.360000000001]
["A41S1Y20L32",20,"终身",41,1,32,0,40051.620000000003,0,0,40051.620000000003]
["A41S1Y20L33",20,"终身",41,1,33,0,41436.22,0,0,41436.22]
["A41S1Y20L34",20,"终身",41,1,34,0,42866.29,0,0,42866.29]
["A41S1Y20L35",20,"终身",41,1,35,0,44342.94,0,0,44342.94]
["A41S1Y20L36",20,"终身",41,1,36,0,45867.26,0,0,45867.26]
["A41S1Y20L37",20,"终身",41,1,37,0,47440.28,0,0,47440.28]
["A41S1Y20L38",20,"终身",41,1,38,0,49063,0,0,49063]
["A41S1Y20L39",20,"终身",41,1,39,0,50736.34,0,0,50736.34]
["A41S1Y20L40",20,"终身",41,1,40,0,52461.120000000003,0,0,52461.120000000003]
["A41S1Y20L41",20,"终身",41,1,41,0,54238.09,0,0,54238.09]
["A41S1Y20L42",20,"终身",41,1,42,0,56067.83,0,0,56067.83]
["A41S1Y20L43",20,"终身",41,1,43,0,57950.82,0,0,57950.82]
["A41S1Y20L44",20,"终身",41,1,44,0,59887.41,0,0,59887.41]
["A41S1Y20L45",20,"终身",41,1,45,0,61877.84,0,0,61877.84]
["A41S1Y20L46",20,"终身",41,1,46,0,63922.31,0,0,63922.31]
["A41S1Y20L47",20,"终身",41,1,47,0,66020.98,0,0,66020.98]
["A41S1Y20L48",20,"终身",41,1,48,0,68174.070000000007,0,0,68174.080000000002]
["A41S1Y20L49",20,"终身",41,1,49,0,70381.84,0,0,70381.850000000006]
["A41S1Y20L50",20,"终身",41,1,50,0,72644.539999999994,0,0,72644.539999999994]
["A41S1Y20L51",20,"终身",41,1,51,0,74962.34,0,0,74962.350000000006]
["A41S1Y20L52",20,"终身",41,1,52,0,77335.199999999997,0,0,77335.199999999997]
["A41S1Y20L53",20,"终身",41,1,53,0,79762.7,0,0,79762.710000000006]
["A41S1Y20L54",20,"终身",41,1,54,0,82243.92,0,0,82243.92]
["A41S1Y20L55",20,"终身",41,1,55,0,84777.27,0,0,84777.279999999999]
["A41S1Y20L56",20,"终身",41,1,56,0,87360.51,0,0,87360.53]
["A41S1Y20L57",20,"终身",41,1,57,0,89990.69,0,0,89990.720000000001]
["A41S1Y20L58",20,"终身",41,1,58,0,92664.27,0,0,92664.3]
["A41S1Y20L59",20,"终身",41,1,59,0,95377.23,0,0,95377.29]
["A41S1Y20L60",20,"终身",41,1,60,0,98125.3,0,0,98125.38]
["A41S1Y20L61",20,"终身",41,1,61,0,100904.01,0,0,100904.15]
["A41S1Y20L62",20,"终身",41,1,62,0,103708.91,0,0,103709.15]
[{"$f":"\"A\"&D43464&\"S\"&E43464&\"Y\"&B43464&\"L\"&F43464","v":"A41S1Y20L63"},20,"终身",41,1,63,0,106535.59,0,0,106536.01]
["A41S1Y20L64",20,"终身",41,1,64,0,109379.75,0,0,109380.57]
["A41S1Y20L65",20,"终身",41,1,65,0,111276.1,0,0,111276.1]
["A42S1Y20L1",20,"终身",42,1,1,101,85.28,0,1.3,85.28]
["A42S1Y20L2",20,"终身",42,1,2,134.66999999999999,205.45,0,980.27,1012.72]
["A42S1Y20L3",20,"终身",42,1,3,168.34,363.36,0,980.27,2060.3000000000002]
["A42S1Y20L4",20,"终身",42,1,4,606.01,920.41,0,980.27,3143.92]
["A42S1Y20L5",20,"终身",42,1,5,606.01,1520.11,0,980.27,4264.76]
["A42S1Y20L6",20,"终身",42,1,6,606.01,3699.42,0,980.27,5424.08]
["A42S1Y20L7",20,"终身",42,1,7,606.01,4840.67,0,980.27,6623.17]
["A42S1Y20L8",20,"终身",42,1,8,606.01,6045.27,0,980.27,7863.39]
["A42S1Y20L9",20,"终身",42,1,9,606.01,7315.84,0,980.27,9146.16]
["A42S1Y20L10",20,"终身",42,1,10,606.01,8655.18,0,980.27,10472.969999999999]
["A42S1Y20L11",20,"终身",42,1,11,606.01,10066.17,0,980.27,11845.38]
["A42S1Y20L12",20,"终身",42,1,12,606.01,11551.9,0,980.27,13265.05]
["A42S1Y20L13",20,"终身",42,1,13,606.01,13115.58,0,980.27,14733.72]
["A42S1Y20L14",20,"终身",42,1,14,606.01,14760.62,0,980.27,16253.22]
["A42S1Y20L15",20,"终身",42,1,15,606.01,16490.59,0,980.27,17825.5]
["A42S1Y20L16",20,"终身",42,1,16,606.01,18309.240000000002,0,980.27,19452.560000000001]
["A42S1Y20L17",20,"终身",42,1,17,606.01,20220.509999999998,0,980.27,21136.53]
["A42S1Y20L18",20,"终身",42,1,18,606.01,22228.52,0,980.27,22879.61]
["A42S1Y20L19",20,"终身",42,1,19,606.01,24337.73,0,980.27,24684.2]
["A42S1Y20L20",20,"终身",42,1,20,606.01,26560.17,0,980.27,26560.17]
["A42S1Y20L21",20,"终身",42,1,21,0,27486.84,0,0,27486.84]
["A42S1Y20L22",20,"终身",42,1,22,0,28445.48,0,0,28445.48]
["A42S1Y20L23",20,"终身",42,1,23,0,29437.14,0,0,29437.14]
["A42S1Y20L24",20,"终身",42,1,24,0,30462.86,0,0,30462.86]
["A42S1Y20L25",20,"终身",42,1,25,0,31523.7,0,0,31523.7]
["A42S1Y20L26",20,"终身",42,1,26,0,32620.76,0,0,32620.76]
["A42S1Y20L27",20,"终身",42,1,27,0,33755.11,0,0,33755.120000000003]
["A42S1Y20L28",20,"终身",42,1,28,0,34927.879999999997,0,0,34927.879999999997]
["A42S1Y20L29",20,"终身",42,1,29,0,36140.15,0,0,36140.15]
["A42S1Y20L30",20,"终身",42,1,30,0,37393.040000000001,0,0,37393.050000000003]
["A42S1Y20L31",20,"终身",42,1,31,0,38687.67,0,0,38687.67]
["A42S1Y20L32",20,"终身",42,1,32,0,40025.120000000003,0,0,40025.120000000003]
["A42S1Y20L33",20,"终身",42,1,33,0,41406.49,0,0,41406.49]
["A42S1Y20L34",20,"终身",42,1,34,0,42832.85,0,0,42832.85]
["A42S1Y20L35",20,"终身",42,1,35,0,44305.25,0,0,44305.25]
["A42S1Y20L36",20,"终身",42,1,36,0,45824.71,0,0,45824.71]
["A42S1Y20L37",20,"终身",42,1,37,0,47392.160000000003,0,0,47392.160000000003]
["A42S1Y20L38",20,"终身",42,1,38,0,49008.51,0,0,49008.52]
["A42S1Y20L39",20,"终身",42,1,39,0,50674.559999999998,0,0,50674.57]
["A42S1Y20L40",20,"终身",42,1,40,0,52391.01,0,0,52391.01]
["A42S1Y20L41",20,"终身",42,1,41,0,54158.44,0,0,54158.44]
["A42S1Y20L42",20,"终身",42,1,42,0,55977.31,0,0,55977.31]
["A42S1Y20L43",20,"终身",42,1,43,0,57847.95,0,0,57847.95]
["A42S1Y20L44",20,"终身",42,1,44,0,59770.6,0,0,59770.6]
["A42S1Y20L45",20,"终身",42,1,45,0,61745.440000000002,0,0,61745.440000000002]
["A42S1Y20L46",20,"终身",42,1,46,0,63772.639999999999,0,0,63772.639999999999]
["A42S1Y20L47",20,"终身",42,1,47,0,65852.41,0,0,65852.42]
["A42S1Y20L48",20,"终身",42,1,48,0,67985,0,0,67985]
["A42S1Y20L49",20,"终身",42,1,49,0,70170.64,0,0,70170.64]
["A42S1Y20L50",20,"终身",42,1,50,0,72409.5,0,0,72409.509999999995]
["A42S1Y20L51",20,"终身",42,1,51,0,74701.55,0,0,74701.56]
["A42S1Y20L52",20,"终身",42,1,52,0,77046.39,0,0,77046.399999999994]
["A42S1Y20L53",20,"终身",42,1,53,0,79443.11,0,0,79443.12]
["A42S1Y20L54",20,"终身",42,1,54,0,81890.19,0,0,81890.210000000006]
["A42S1Y20L55",20,"终身",42,1,55,0,84385.46,0,0,84385.48]
["A42S1Y20L56",20,"终身",42,1,56,0,86926.07,0,0,86926.1]
["A42S1Y20L57",20,"终身",42,1,57,0,89508.59,0,0,89508.64]
["A42S1Y20L58",20,"终身",42,1,58,0,92129.17,0,0,92129.24]
["A42S1Y20L59",20,"终身",42,1,59,0,94783.65,0,0,94783.75]
["A42S1Y20L60",20,"终身",42,1,60,0,97467.73,0,0,97467.91]
["A42S1Y20L61",20,"终身",42,1,61,0,100177.11,0,0,100177.43]
[{"$f":"\"A\"&D43528&\"S\"&E43528&\"Y\"&B43528&\"L\"&F43528","v":"A42S1Y20L62"},20,"终身",42,1,62,0,102907.52,0,0,102908.11]
["A42S1Y20L63",20,"终身",42,1,63,0,105654.83,0,0,105655.96]
["A42S1Y20L64",20,"终身",42,1,64,0,107486.6,0,0,107486.6]
["A43S1Y20L1",20,"终身",43,1,1,102.79,86.72,0,1.42,86.72]
["A43S1Y20L2",20,"终身",43,1,2,137.06,208.84,0,980.26,1012.53]
["A43S1Y20L3",20,"终身",43,1,3,171.32,369.25,0,980.26,2059.86]
["A43S1Y20L4",20,"终身",43,1,4,616.75,935.76,0,980.26,3143.15]
["A43S1Y20L5",20,"终身",43,1,5,616.75,1545.55,0,980.26,4263.58]
["A43S1Y20L6",20,"终身",43,1,6,616.75,3697.76,0,980.26,5422.4]
["A43S1Y20L7",20,"终身",43,1,7,616.75,4838.47,0,980.26,6620.91]
["A43S1Y20L8",20,"终身",43,1,8,616.75,6042.42,0,980.26,7860.45]
["A43S1Y20L9",20,"终身",43,1,9,616.75,7312.26,0,980.26,9142.4599999999991]
["A43S1Y20L10",20,"终身",43,1,10,616.75,8650.76,0,980.26,10468.41]
["A43S1Y20L11",20,"终身",43,1,11,616.75,10060.84,0,980.26,11839.89]
["A43S1Y20L12",20,"终身",43,1,12,616.75,11545.56,0,980.26,13258.54]
["A43S1Y20L13",20,"终身",43,1,13,616.75,13108.17,0,980.26,14726.13]
["A43S1Y20L14",20,"终身",43,1,14,616.75,14752.05,0,980.26,16244.48]
["A43S1Y20L15",20,"终身",43,1,15,616.75,16480.759999999998,0,980.26,17815.5]
["A43S1Y20L16",20,"终身",43,1,16,616.75,18298.009999999998,0,980.26,19441.189999999999]
["A43S1Y20L17",20,"终身",43,1,17,616.75,20207.7,0,980.26,21123.62]
["A43S1Y20L18",20,"终身",43,1,18,616.75,22213.98,0,980.26,22865.01]
["A43S1Y20L19",20,"终身",43,1,19,616.75,24332.639999999999,0,980.26,24679.21]
["A43S1Y20L20",20,"终身",43,1,20,616.75,26554.720000000001,0,980.26,26554.720000000001]
["A43S1Y20L21",20,"终身",43,1,21,0,27480.86,0,0,27480.86]
["A43S1Y20L22",20,"终身",43,1,22,0,28438.89,0,0,28438.89]
["A43S1Y20L23",20,"终身",43,1,23,0,29429.82,0,0,29429.82]
["A43S1Y20L24",20,"终身",43,1,24,0,30454.69,0,0,30454.69]
["A43S1Y20L25",20,"终身",43,1,25,0,31514.54,0,0,31514.54]
["A43S1Y20L26",20,"终身",43,1,26,0,32610.43,0,0,32610.43]
["A43S1Y20L27",20,"终身",43,1,27,0,33743.42,0,0,33743.42]
["A43S1Y20L28",20,"终身",43,1,28,0,34914.589999999997,0,0,34914.589999999997]
["A43S1Y20L29",20,"终身",43,1,29,0,36124.99,0,0,36125]
["A43S1Y20L30",20,"终身",43,1,30,0,37375.71,0,0,37375.71]
["A43S1Y20L31",20,"终身",43,1,31,0,38667.81,0,0,38667.81]
["A43S1Y20L32",20,"终身",43,1,32,0,40002.33,0,0,40002.33]
["A43S1Y20L33",20,"终身",43,1,33,0,41380.33,0,0,41380.33]
["A43S1Y20L34",20,"终身",43,1,34,0,42802.8,0,0,42802.8]
["A43S1Y20L35",20,"终身",43,1,35,0,44270.73,0,0,44270.73]
["A43S1Y20L36",20,"终身",43,1,36,0,45785.03,0,0,45785.03]
["A43S1Y20L37",20,"终身",43,1,37,0,47346.57,0,0,47346.57]
["A43S1Y20L38",20,"终身",43,1,38,0,48956.12,0,0,48956.12]
["A43S1Y20L39",20,"终身",43,1,39,0,50614.36,0,0,50614.36]
["A43S1Y20L40",20,"终身",43,1,40,0,52321.85,0,0,52321.86]
["A43S1Y20L41",20,"终身",43,1,41,0,54079.040000000001,0,0,54079.040000000001]
["A43S1Y20L42",20,"终身",43,1,42,0,55886.239999999998,0,0,55886.25]
["A43S1Y20L43",20,"终身",43,1,43,0,57743.69,0,0,57743.7]
["A43S1Y20L44",20,"终身",43,1,44,0,59651.56,0,0,59651.57]
["A43S1Y20L45",20,"终身",43,1,45,0,61610.02,0,0,61610.03]
["A43S1Y20L46",20,"终身",43,1,46,0,63619.26,0,0,63619.27]
["A43S1Y20L47",20,"终身",43,1,47,0,65679.53,0,0,65679.539999999994]
["A43S1Y20L48",20,"终身",43,1,48,0,67791.05,0,0,67791.06]
["A43S1Y20L49",20,"终身",43,1,49,0,69954,0,0,69954.009999999995]
["A43S1Y20L50",20,"终身",43,1,50,0,72168.320000000007,0,0,72168.34]
["A43S1Y20L51",20,"终身",43,1,51,0,74433.64,0,0,74433.66]
["A43S1Y20L52",20,"终身",43,1,52,0,76749.08,0,0,76749.11]
["A43S1Y20L53",20,"终身",43,1,53,0,79113.179999999993,0,0,79113.22]
["A43S1Y20L54",20,"终身",43,1,54,0,81523.83,0,0,81523.89]
["A43S1Y20L55",20,"终身",43,1,55,0,83978.28,0,0,83978.36]
["A43S1Y20L56",20,"终身",43,1,56,0,86473.23,0,0,86473.35]
["A43S1Y20L57",20,"终身",43,1,57,0,89004.94,0,0,89005.119999999995]
["A43S1Y20L58",20,"终身",43,1,58,0,91569.4,0,0,91569.68]
["A43S1Y20L59",20,"终身",43,1,59,0,94162.47,0,0,94162.93]
["A43S1Y20L60",20,"终身",43,1,60,0,96779.97,0,0,96780.77]
["A43S1Y20L61",20,"终身",43,1,61,0,99417.79,0,0,99419.25]
[{"$f":"\"A\"&D43592&\"S\"&E43592&\"Y\"&B43592&\"L\"&F43592","v":"A43S1Y20L62"},20,"终身",43,1,62,0,102071.93,0,0,102074.75]
["A43S1Y20L63",20,"终身",43,1,63,0,103841.58,0,0,103841.58]
["A44S1Y20L1",20,"终身",44,1,1,104.6,88.15,0,1.56,88.15]
["A44S1Y20L2",20,"终身",44,1,2,139.46,212.23,0,980.26,1012.33]
["A44S1Y20L3",20,"终身",44,1,3,174.33,375.11,0,980.26,2059.38]
["A44S1Y20L4",20,"终身",44,1,4,627.58000000000004,951.13,0,980.26,3142.31]
["A44S1Y20L5",20,"终身",44,1,5,627.58000000000004,1571.04,0,980.26,4262.29]
["A44S1Y20L6",20,"终身",44,1,6,627.58000000000004,3695.95,0,980.26,5420.57]
["A44S1Y20L7",20,"终身",44,1,7,627.58000000000004,4836.0600000000004,0,980.26,6618.45]
["A44S1Y20L8",20,"终身",44,1,8,627.58000000000004,6039.33,0,980.26,7857.27]
["A44S1Y20L9",20,"终身",44,1,9,627.58000000000004,7308.38,0,980.26,9138.4500000000007]
["A44S1Y20L10",20,"终身",44,1,10,627.58000000000004,8646.01,0,980.26,10463.5]
["A44S1Y20L11",20,"终身",44,1,11,627.58000000000004,10055.120000000001,0,980.26,11833.98]
["A44S1Y20L12",20,"终身",44,1,12,627.58000000000004,11538.8,0,980.26,13251.57]
["A44S1Y20L13",20,"终身",44,1,13,627.58000000000004,13100.26,0,980.26,14718]
["A44S1Y20L14",20,"终身",44,1,14,627.58000000000004,14742.88,0,980.26,16235.08]
["A44S1Y20L15",20,"终身",44,1,15,627.58000000000004,16470.150000000001,0,980.26,17804.689999999999]
["A44S1Y20L16",20,"终身",44,1,16,627.58000000000004,18285.759999999998,0,980.26,19428.759999999998]
["A44S1Y20L17",20,"终身",44,1,17,627.58000000000004,20193.59,0,980.26,21109.38]
["A44S1Y20L18",20,"终身",44,1,18,627.58000000000004,22212.560000000001,0,980.26,22863.82]
["A44S1Y20L19",20,"终身",44,1,19,627.58000000000004,24331.21,0,980.26,24677.93]
["A44S1Y20L20",20,"终身",44,1,20,627.58000000000004,26553.06,0,980.26,26553.06]
["A44S1Y20L21",20,"终身",44,1,21,0,27478.74,0,0,27478.74]
["A44S1Y20L22",20,"终身",44,1,22,0,28436.22,0,0,28436.22]
["A44S1Y20L23",20,"终身",44,1,23,0,29426.49,0,0,29426.49]
["A44S1Y20L24",20,"终身",44,1,24,0,30450.560000000001,0,0,30450.560000000001]
["A44S1Y20L25",20,"终身",44,1,25,0,31509.45,0,0,31509.45]
["A44S1Y20L26",20,"终身",44,1,26,0,32604.19,0,0,32604.19]
["A44S1Y20L27",20,"终身",44,1,27,0,33735.81,0,0,33735.81]
["A44S1Y20L28",20,"终身",44,1,28,0,34905.35,0,0,34905.35]
["A44S1Y20L29",20,"终身",44,1,29,0,36113.85,0,0,36113.85]
["A44S1Y20L30",20,"终身",44,1,30,0,37362.32,0,0,37362.32]
["A44S1Y20L31",20,"终身",44,1,31,0,38651.79,0,0,38651.79]
["A44S1Y20L32",20,"终身",44,1,32,0,39983.26,0,0,39983.26]
["A44S1Y20L33",20,"终身",44,1,33,0,41357.71,0,0,41357.71]
["A44S1Y20L34",20,"终身",44,1,34,0,42776.07,0,0,42776.07]
["A44S1Y20L35",20,"终身",44,1,35,0,44239.25,0,0,44239.25]
["A44S1Y20L36",20,"终身",44,1,36,0,45748.07,0,0,45748.07]
["A44S1Y20L37",20,"终身",44,1,37,0,47303.28,0,0,47303.28]
["A44S1Y20L38",20,"终身",44,1,38,0,48905.53,0,0,48905.53]
["A44S1Y20L39",20,"终身",44,1,39,0,50555.38,0,0,50555.38]
["A44S1Y20L40",20,"终身",44,1,40,0,52253.24,0,0,52253.24]
["A44S1Y20L41",20,"终身",44,1,41,0,53999.43,0,0,53999.43]
["A44S1Y20L42",20,"终身",44,1,42,0,55794.17,0,0,55794.17]
["A44S1Y20L43",20,"终身",44,1,43,0,57637.63,0,0,57637.63]
["A44S1Y20L44",20,"终身",44,1,44,0,59529.96,0,0,59529.96]
["A44S1Y20L45",20,"终身",44,1,45,0,61471.37,0,0,61471.37]
["A44S1Y20L46",20,"终身",44,1,46,0,63462.080000000002,0,0,63462.080000000002]
["A44S1Y20L47",20,"终身",44,1,47,0,65502.31,0,0,65502.31]
["A44S1Y20L48",20,"终身",44,1,48,0,67592.23,0,0,67592.23]
["A44S1Y20L49",20,"终身",44,1,49,0,69731.8,0,0,69731.8]
["A44S1Y20L50",20,"终身",44,1,50,0,71920.63,0,0,71920.63]
["A44S1Y20L51",20,"终身",44,1,51,0,74157.899999999994,0,0,74157.899999999994]
["A44S1Y20L52",20,"终身",44,1,52,0,76442.19,0,0,76442.19]
["A44S1Y20L53",20,"终身",44,1,53,0,78771.45,0,0,78771.45]
["A44S1Y20L54",20,"终身",44,1,54,0,81143.03,0,0,81143.03]
["A44S1Y20L55",20,"终身",44,1,55,0,83553.75,0,0,83553.75]
["A44S1Y20L56",20,"终身",44,1,56,0,85999.98,0,0,85999.98]
["A44S1Y20L57",20,"终身",44,1,57,0,88477.86,0,0,88477.86]
["A44S1Y20L58",20,"终身",44,1,58,0,90983.38,0,0,90983.38]
["A44S1Y20L59",20,"终身",44,1,59,0,93512.51,0,0,93512.52]
["A44S1Y20L60",20,"终身",44,1,60,0,96061.28,0,0,96061.28]
["A44S1Y20L61",20,"终身",44,1,61,0,98625.81,0,0,98625.81]
["A44S1Y20L62",20,"终身",44,1,62,0,100335.71,0,0,100335.71]
[{"$f":"\"A\"&D43656&\"S\"&E43656&\"Y\"&B43656&\"L\"&F43656","v":"A45S1Y20L1"},20,"终身",45,1,1,106.42,89.59,0,1.71,89.59]
["A45S1Y20L2",20,"终身",45,1,2,141.88999999999999,215.61,0,980.26,1012.1]
["A45S1Y20L3",20,"终身",45,1,3,177.36,380.96,0,980.26,2058.85]
["A45S1Y20L4",20,"终身",45,1,4,638.5,966.52,0,980.26,3141.38]
["A45S1Y20L5",20,"终身",45,1,5,638.5,1596.61,0,980.26,4260.88]
["A45S1Y20L6",20,"终身",45,1,6,638.5,3693.98,0,980.26,5418.58]
["A45S1Y20L7",20,"终身",45,1,7,638.5,4833.47,0,980.26,6615.78]
["A45S1Y20L8",20,"终身",45,1,8,638.5,6036.01,0,980.26,7853.83]
["A45S1Y20L9",20,"终身",45,1,9,638.5,7304.24,0,980.26,9134.15]
["A45S1Y20L10",20,"终身",45,1,10,638.5,8640.9500000000007,0,980.26,10458.24]
["A45S1Y20L11",20,"终身",45,1,11,638.5,10049.049999999999,0,980.26,11827.68]
["A45S1Y20L12",20,"终身",45,1,12,638.5,11531.61,0,980.26,13244.12]
["A45S1Y20L13",20,"终身",45,1,13,638.5,13091.82,0,980.26,14709.28]
["A45S1Y20L14",20,"终身",45,1,14,638.5,14733,0,980.26,16224.93]
["A45S1Y20L15",20,"终身",45,1,15,638.5,16458.59,0,980.26,17792.87]
["A45S1Y20L16",20,"终身",45,1,16,638.5,18272.259999999998,0,980.26,19415.04]
["A45S1Y20L17",20,"终身",45,1,17,638.5,20194.490000000002,0,980.26,21110.63]
["A45S1Y20L18",20,"终身",45,1,18,638.5,22213.72,0,980.26,22865.27]
["A45S1Y20L19",20,"终身",45,1,19,638.5,24332.47,0,980.26,24679.37]
["A45S1Y20L20",20,"终身",45,1,20,638.5,26554.17,0,980.26,26554.17]
["A45S1Y20L21",20,"终身",45,1,21,0,27479.43,0,0,27479.43]
["A45S1Y20L22",20,"终身",45,1,22,0,28436.38,0,0,28436.38]
["A45S1Y20L23",20,"终身",45,1,23,0,29425.99,0,0,29425.99]
["A45S1Y20L24",20,"终身",45,1,24,0,30449.25,0,0,30449.25]
["A45S1Y20L25",20,"终身",45,1,25,0,31507.16,0,0,31507.16]
["A45S1Y20L26",20,"终身",45,1,26,0,32600.71,0,0,32600.71]
["A45S1Y20L27",20,"终身",45,1,27,0,33730.9,0,0,33730.9]
["A45S1Y20L28",20,"终身",45,1,28,0,34898.730000000003,0,0,34898.730000000003]
["A45S1Y20L29",20,"终身",45,1,29,0,36105.19,0,0,36105.19]
["A45S1Y20L30",20,"终身",45,1,30,0,37351.269999999997,0,0,37351.279999999999]
["A45S1Y20L31",20,"终身",45,1,31,0,38637.94,0,0,38637.949999999997]
["A45S1Y20L32",20,"终身",45,1,32,0,39966.15,0,0,39966.15]
["A45S1Y20L33",20,"终身",45,1,33,0,41336.79,0,0,41336.79]
["A45S1Y20L34",20,"终身",45,1,34,0,42750.74,0,0,42750.74]
["A45S1Y20L35",20,"终身",45,1,35,0,44208.79,0,0,44208.79]
["A45S1Y20L36",20,"终身",45,1,36,0,45711.67,0,0,45711.67]
["A45S1Y20L37",20,"终身",45,1,37,0,47260.01,0,0,47260.02]
["A45S1Y20L38",20,"终身",45,1,38,0,48854.35,0,0,48854.35]
["A45S1Y20L39",20,"终身",45,1,39,0,50495.08,0,0,50495.09]
["A45S1Y20L40",20,"终身",45,1,40,0,52182.52,0,0,52182.52]
["A45S1Y20L41",20,"终身",45,1,41,0,53916.87,0,0,53916.87]
["A45S1Y20L42",20,"终身",45,1,42,0,55698.3,0,0,55698.3]
["A45S1Y20L43",20,"终身",45,1,43,0,57526.96,0,0,57526.97]
["A45S1Y20L44",20,"终身",45,1,44,0,59403.05,0,0,59403.06]
["A45S1Y20L45",20,"终身",45,1,45,0,61326.77,0,0,61326.79]
["A45S1Y20L46",20,"终身",45,1,46,0,63298.36,0,0,63298.38]
["A45S1Y20L47",20,"终身",45,1,47,0,65317.96,0,0,65317.98]
["A45S1Y20L48",20,"终身",45,1,48,0,67385.539999999994,0,0,67385.56]
["A45S1Y20L49",20,"终身",45,1,49,0,69500.73,0,0,69500.759999999995]
["A45S1Y20L50",20,"终身",45,1,50,0,71662.720000000001,0,0,71662.75]
["A45S1Y20L51",20,"终身",45,1,51,0,73870.14,0,0,73870.19]
["A45S1Y20L52",20,"终身",45,1,52,0,76121.03,0,0,76121.11]
["A45S1Y20L53",20,"终身",45,1,53,0,78412.820000000007,0,0,78412.929999999993]
["A45S1Y20L54",20,"终身",45,1,54,0,80742.42,0,0,80742.58]
["A45S1Y20L55",20,"终身",45,1,55,0,83106.350000000006,0,0,83106.58]
["A45S1Y20L56",20,"终身",45,1,56,0,85500.86,0,0,85501.23]
["A45S1Y20L57",20,"终身",45,1,57,0,87922.07,0,0,87922.69]
["A45S1Y20L58",20,"终身",45,1,58,0,90366.11,0,0,90367.17]
["A45S1Y20L59",20,"终身",45,1,59,0,92829.11,0,0,92831.05]
["A45S1Y20L60",20,"终身",45,1,60,0,95307.35,0,0,95311.11]
["A45S1Y20L61",20,"终身",45,1,61,0,96959.72,0,0,96959.72]