{"text_format":"1","workbook":"xlsx","n_sheets":20,"sheets":["经代vs个险费用比较","重疾轻症明细","重疾种类比较","备忘","SA&Table","Assumption","Mortality&Morbidity","重疾发生率","癌症发生率","尊享世家发生率","中再报价","GP","CSV","Reserve","Sheet1","年金利益演示","万能利益演示","年金万能利益演示","Sheet2","Sys GP"],"not_rendered":{"charts":1,"images":4,"macros":1,"external_links":2,"defined_names":119,"comments":4,"pivot_tables":0},"unopened":[],"bounds":{"document_bytes":16777216,"sheet_cells":100000,"rows_first":2000,"rows_last":500,"rows_between":2000,"halvings":0,"cell_chars":16384,"cell_head_chars":4096},"cells_cut":0,"cells_raw":0,"read":"whole","date_system":"1900"}

{"sheet":"经代vs个险费用比较","index":0,"n_rows":14,"n_cols":19,"rows_kept":14,"cut":false,"hidden":true,"merged":[]}
[null,"个险佣金",null,null,null,null,null,"个险获得费用",null,null,null,null,null,"个险总费用"]
[null,1,3,5,10,15,20,1,3,5,10,15,20,1,3,5,10,15,20]
[1,{"$f":"2.5%*1.8","v":0.045},{"$f":"6%*1.8","v":0.108},{"$f":"10%*1.8","v":0.18},{"$f":"20%*1.8","v":0.36},{"$f":"30%*1.8","v":0.54},{"$f":"35%*1.8","v":0.63},0.0462,0.2614,0.3148,0.4476,0.4476,0.4765,{"$f":"B3+H3","v":0.0912},{"$f":"C3+I3","v":0.3694},0.4948,0.8076,0.9876,1.1065]
[2,null,{"$f":"2%*2","v":0.04},{"$f":"3%*2","v":0.06},{"$f":"4%*2","v":0.08},{"$f":"5%*2","v":0.1},{"$f":"8%*2","v":0.16}]
[3,null,0.01,0.02,0.03,0.04,0.05]
[4,null,null,null,0.01,0.02,0.03]
[5]
[null,"经代佣金",null,null,null,null,null,"经代获得费用",null,null,null,null,null,"经代总费用"]
[null,1,3,5,10,15,20,1,3,5,10,15,20,1,3,5,10,15,20]
[1,0.08,0.2,0.33,0.6,0.75,0.9,0.0248,0.152,0.1768,0.2382,0.2382,0.2565,{"$f":"B10+H10","v":0.1048},{"$f":"C10+I10","v":0.352},0.5068,0.8382,0.9882,1.1565]
[2,null,0.083,0.09,0.095,0.13,0.17]
[3,null,0.02,0.025,0.03,0.04,0.03]
[4,null,null,0.025,0.03,0.03,0.03]
[5,null,null,0.02,0.03,0.03,0.03]

{"sheet":"重疾轻症明细","index":1,"n_rows":55,"n_cols":9,"rows_kept":55,"cut":false,"hidden":true,"merged":[]}
[null,"轻症",26,null,null,"重疾",61,74]
[1,"极早期恶性肿瘤或恶性病变","√",null,"1-25","行业定义","√","√"]
[2,"不典型的急性心肌梗塞","√",null,26,"严重多发性硬化","√","√"]
[3,"轻微脑中风","√",null,27,"终末期肺病","√","√","与慢性呼吸功能衰竭建议只保留一个"]
[4,"冠状动脉介入手术（非开胸手术）","√",null,28,"颅脑手术","√","√"]
[5,"心脏瓣膜介入手术（非开胸手术）","√",null,29,"严重Ｉ型糖尿病","√","√"]
[6,"视力严重受损（三岁开始）","√",null,30,"严重类风湿性关节炎","√","√"]
[7,"主动脉内手术（非开胸手术）","√",null,31,"急性出血坏死性胰腺炎开腹手术/II级重症急性胰腺炎","√","√"]
[8,"脑垂体瘤、脑囊肿、脑动脉瘤及脑血管瘤","√",null,32,"侵蚀性葡萄胎（或称恶性葡萄胎）","√","√"]
[9,"较小面积III度烧伤","√",null,33,"经输血导致的感染艾滋病病毒或者患艾滋病","√","√"]
[10,"轻度颅脑手术","√",null,34,"系统性红斑狼疮并发重度的肾功能损害","√","√"]
[11,"重度头部外伤","√",null,35,"重症肌无力","√","√"]
[12,"单个肢体缺失","√",null,36,"持续植物人状态","√","√"]
[13,"单侧肺脏切除","√",null,37,"严重心肌病","√","√"]
[14,"肝脏手术","√",null,38,"严重溃疡性结肠炎","√","√"]
[15,"早期运动神经性疾病","√",null,39,"溶血性链球菌引起的坏疽","√","√"]
[16,"特定周围动脉疾病的血管介入治疗","√",null,40,"坏死性筋膜炎","√","√"]
[17,"原发性肺动脉高压","√",null,41,"系统性硬皮病","√","√"]
[18,"轻度瘫痪","√",null,42,"严重克隆病","√","√"]
[19,"胆道重建手术","√",null,43,"象皮病","√","√"]
[20,"单眼视力丧失","√",null,44,"肾髓质囊性病","√","√"]
[21,"面部重建手术","√",null,45,"慢性复发性胰腺炎","√","√"]
[22,"双侧睾丸切除手术","√",null,46,"原发性硬化性胆管炎","√","√"]
[23,"肾脏切除","√",null,47,"原发性慢性肾上腺皮质功能减退","√","√"]
[24,"单耳失聪","√",null,48,"胰腺移植","√","√"]
[25,"轻度面部烧伤","√",null,49,"因职业关系导致的人类免疫缺陷病毒感染","√","√"]
[26,"III度房室传导阻滞","√",null,50,"非阿尔茨海默病所致严重痴呆","√","√"]
["上述22种轻症，每种最多赔付1次，轻症赔付累计以3次为限",null,null,null,51,"严重川崎病","√","√"]
[null,null,null,null,52,"疯牛病（克雅氏病）","√","√"]
[null,null,null,null,53,"嗜铬细胞瘤","√","√"]
[null,null,null,null,54,"埃博拉病毒","√","√"]
[null,null,null,null,55,"进行性核上性麻痹","√","√"]
[null,null,null,null,56,"肺泡蛋白质沉积症","√","√"]
[null,null,null,null,57,"严重面部烧伤","√","√"]
[null,null,null,null,58,"肺淋巴管肌瘤病","√","√"]
[null,null,null,null,59,"失去一肢及一眼","√","√"]
[null,null,null,null,60,"严重传染心内膜炎","√","√"]
[null,null,null,null,61,"严重心肌炎","√","√"]
[null,null,null,null,62,"脊髓灰质炎",null,"√","脊髓灰质炎是由于脊髓灰质炎病毒感染所致的瘫痪性疾病，临床表现为运动功能损害或呼吸无力。脊髓灰质炎必须明确诊断。本保单仅对脊髓灰质炎造成的神经系统功能损害导致被保险人一肢或一肢以上肢体机能永久完全丧失的情况予以理赔。肢体机能永久完全丧失，指疾病确诊180 天后，每肢三大关节中的两大关节仍然完全僵硬，或不能随意识活动。"]
[null,null,null,null,63,"冠状动脉粥样斑块切除术",null,"√","是指有心绞痛等心脏不适症状，经过血管造影技术检查证实同时存在两支(其中一支为左冠状动脉主干、左前降支或左回旋支)或更多支的冠状动脉血管发生严重的狭窄（狭窄程度在70%以上），需要并且已实施冠状动脉粥样斑块切除术以改善血管的血流状况。索赔时必须提供血管造影的影像资料、报告、手术记录和病历。"]
[null,null,null,null,64,"肺源性心脏病",null,"√","定义一：指被保人因慢性肺部疾病导致慢性心功能损害造成永久不可逆性的心功能衰竭。心功能衰竭程度达到纽约心脏病学会的心功能分级标准之心功能IV 级。被保险人永久不可逆性的力活动能力受限，不能从事任何体力活动。"]
[null,null,null,null,null,null,null,null,"定义二：由呼吸专科医生或心内科专科医生确诊为肺源性心脏病。诊断必须基于右心导管（心血管造影）的检查结果，且必须同时满足如下诊断标准：\n（1）肺血管阻力高于3个伍德单位；\n（2）平均肺动脉血压不低于40毫米汞柱；\n（3）肺楔压不高于15毫米汞柱；\n（4）右心室过度肥大和扩张，出现右心衰竭和呼吸困难。\n因左心病变或者先天性心脏病引起的右心衰竭或者肺动脉高压不在保障范围之内。"]
[null,null,null,null,65,"终末期疾病",null,"√","被保险人被确诊为疾病的终末期状态。疾病已经无法以现有的医疗技术医治缓解，并且根据临床医学经验判断被保险人将于未来六个月内死亡。在家属及患者的要求和医师的同意下积极治疗已被放弃，所有治疗措施仅以减轻患者痛苦为目的。此疾病状态必须在被保险人生前已经确诊并且具有医疗证明文件和临床检查依据。"]
[null,null,null,null,null,null,null,null,"被保险人因患慢性呼吸系统疾病或终末期肺病而导致永久不可逆性的慢性呼吸功能衰竭，该病必须由医院的呼吸科专科医生确诊并符合以下各项：\n（1）肺功能测试其FEV1持续低于1升；\n（2）动脉血氧分压（PaO2）< 50mmHg；\n（3）动脉血氧饱和度（SaO2）< 80％；\n（4）气道内阻力增加，至少达到0.5 kPa/l/s；\n（5）残气容积占肺总量(TLC)的60%以上；\n（6）胸内气体容积升高，超过170(基值的百分比)；\n（7）休息时出现呼吸困难，必须接受持续的输氧治疗\n"]
[null,null,null,null,66,"严重哮喘",null,"√","被保险人必须在过去两年内曾发生哮喘持续状态，并符合以下其中两项标准，本公司才承担保险责任：\n（1）运动耐受力永久并持续地减少并且轻微的运动能引起气促；\n（2）长期胸腔过度膨胀而导致胸腔畸形；\n（3）在家及在静息状态下需要吸氧；\n（4）持续的每天服用类固醇药物（至少持续六个月以上）。"]
[null,null,null,null,67,"严重冠心病",null,"√","指经根据冠状动脉造影检查结果明确诊断为三支主要血管严重狭窄性病变（至少一支血管管腔直径减少75％以上和其他两支血管管腔直径减少60％以上）。冠状动脉的主要血管指左冠状动脉主干、前降支、左旋支及右冠状动脉。前降支、左旋支及右冠状动脉的分支血管的狭窄不作为本保障的衡量指标。"]
[null,null,null,null,68,"自主生活能力完全丧失",null,"√","指严重疾病或外伤造成被保险人永久不可逆的身体功能损害，导致自主生活能力完全丧失，被保险人年龄在6 周岁以上且至少持续180 天以上无法独立完成六项基本日常生活活动中的三项或三项以上。"]
[null,null,null,null,69,"破裂脑动脉瘤夹闭手术",null,"√","指因脑动脉瘤破裂造成蛛网膜下腔出血，被保险人实际接受了在全麻下进行的开颅动脉瘤夹闭手术。\n脑动脉瘤（未破裂）预防性手术、颅骨打孔手术、动脉瘤栓塞手术、血管内手术及其他颅脑手术不在本保障范围内。\n"]
[null,null,null,null,70,"主动脉夹层血肿/主动脉夹层瘤",null,"√","是指主动脉壁在受到某些病理因素的破坏后，高速、高压的主动脉血流将其内膜撕裂，以致主动脉腔内的血流通过主动脉内膜的破裂口进入主动脉内壁而形成血肿。被保险人需通过电脑断层扫描（CT）、磁共振扫描（MRI）、磁共振血管检验法（MRA）或血管扫描等检查，并且实施了胸腹切开的直视主动脉手术。"]
[null,null,null,null,71,"肌营养不良症",null,"√","肌营养不良症是一组遗传性肌肉变性性病变，临床特征为与神经系统无关的肌肉无力和肌肉萎缩。须满足自主生活能力完全丧失，无法独立完成六项基本日常生活活动中的三项或三项以上。"]
[null,null,null,null,null,null,null,null,"指一组原发于肌肉的遗传性疾病，临床表现为与神经系统无关的肌肉无力和肌肉萎缩。须满足下列全部条件：\n（1）肌肉组织活检结果满足肌营养不良症的肌肉细胞变性、坏死等阳性改变；\n（2）自主生活能力完全丧失，无法独立完成六项基本日常生活活动中的三项或三项以上。\n本附加合同条款责任免除中的遗传性疾病规定，不适用于本重大疾病。\n"]
[null,null,null,null,72,"雷氏综合征",null,"√","雷氏综合征是线粒体功能障碍性疾病。导致脂肪代谢障碍，引起短链脂肪酸、血氨升高，造成脑水肿。主要临床表现为急性发热、反复呕吐、惊厥及意识障碍等等。肝脏活检是确诊的重要手段。雷氏综合征需由三级医院的儿科专科医生确诊，并符合下列所有条件：\n（1）有脑水肿和颅内压升高的脑脊液检查和影像学检查证据；\n（2）血氨超过正常值的3倍；\n（3）临床出现昏迷，病程至少达到疾病分期第3期。"]
[null,null,null,null,73,"严重自身免疫性肝炎",null,"√","自身免疫性肝炎是一种原因不明的慢性肝脏的坏死性炎性疾病吗，机体免疫机制被破坏，产生针对肝脏自身抗原的抗体导致自身免疫反应，从而破坏干细胞造成肝脏炎症坏死，进而发展为肝硬化。必须满足所有以下条件：\n（1）高γ球蛋白血症；\n（2）血液中存在高水平的自身免疫抗体，如ANA（抗核抗体）、SMA（抗平滑肌抗体）、抗LMK1抗体或抗-SLA/LP抗体；\n（3）肝脏活检证实免疫性肝炎；\n（4）临床已经出现腹水、食道静脉曲张和脾肿大等肝硬化表现。"]
[null,null,null,null,74,"肝豆状核变性",null,"√","指由于先天性铜代谢障碍所引起的一种疾病，其特点为肝硬化与双侧脑基底神经节变性同时存在，且须经专科医生明确诊断，并同时必须具备下列情况：\n（1）临床表现包括：进行性加剧的肢体震颤，肌强直，吞咽及发音困难，精神异常；\n（2）角膜色素环（K-F环）；\n（3）血清铜和血清铜蓝蛋白降低，尿铜增加；\n（4）食管静脉曲张；\n（5）腹水。"]
[null,null,null,null,null,null,null,null,"指一种常染色体隐性遗传的铜代谢缺陷病，以不同程度的肝细胞损害、脑退行性病变和角膜边缘有铜盐沉着环为其临床特征，并须满足下列全部条件：\n（1）典型症状；\n（2）角膜色素环（K-F 环）；\n（3）血清铜和血清铜蓝蛋白降低，尿铜增加；\n（4）经皮做肝脏活检来定量分析肝脏铜的含量。\n本附加合同条款责任免除中的遗传性疾病规定，不适用于本重大疾病。\n"]

{"sheet":"重疾种类比较","index":2,"n_rows":159,"n_cols":22,"rows_kept":159,"cut":false,"hidden":true,"merged":[]}
[null,null,"乐福","康健\n一生 ","守护\n一生","康运\n一生","常青树\n2015","尊享\n世家",null,null,null,"乐福","康健\n一生 ","守护\n一生","康运\n一生","常青树","尊享\n世家","康健一生\n价格"]
[null,"轻症",10,10,14,12,15,26,null,null,"重疾",42,50,50,60,61,60,null,null,null,"M","F"]
[null,null,null,"1次为限","1次为限","3次为限","3次为限",null,null,"1-25","行业定义","√","√","√","√","√","√",18,1,{"$f":"R3&\"_\"&S3","v":"18_1"},210.7,185.2]
[1,"极早期恶性肿瘤或恶性病变","√","√","√","√","√","√",null,26,"严重多发性硬化","√","√","√","√","√","√",19,1,{"$f":"R4&\"_\"&S4","v":"19_1"},215.1,189]
[2,"不典型的急性心肌梗塞","√","√","√","√",null,"√",null,27,"终末期肺病","√","√",null,null,"√","√",20,1,"20_1",221.8,195]
[3,"轻微脑中风","√","√","√","√","√","√",null,28,"颅脑手术","√",null,null,null,null,"√",21,1,"21_1",228.8,201.1]
[4,"冠状动脉介入手术（非开胸手术）","√","√","√",null,"√","√",null,29,"严重Ｉ型糖尿病","√",null,"√","√","√","√",22,1,"22_1",235.9,207.4]
[5,"心脏瓣膜介入手术（非开胸手术）","√","√","√","√","√","√",null,30,"严重类风湿性关节炎","√","√","√","√","√","√",23,1,"23_1",243.2,213.9]
[6,"视力严重受损（三岁开始）","√","√","√","√","√","√",null,31,"急性出血坏死性胰腺炎开腹手术","√","√","√",null,"√","√",24,1,"24_1",250.8,220.6]
[7,"主动脉内手术（非开胸手术）","√","√","√","√","√","√",null,32,"侵蚀性葡萄胎（或称恶性葡萄胎）","√","√",null,null,null,"√",25,1,"25_1",258.5,227.5]
[8,"脑垂体瘤、脑囊肿、脑动脉瘤及脑血管瘤","√","√","√","√","√","√",null,33,"经输血导致的感染艾滋病病毒或者患艾滋病","√","√","√","√","√","√",26,1,"26_1",266.5,234.6]
[9,"较小面积III度烧伤","√","√","√","√","√","√",null,34,"系统性红斑狼疮并发重度的肾功能损害","√","√","√","√","√","√",27,1,"27_1",274.7,242]
[10,"轻度颅脑手术","√",null,null,null,null,"√",null,35,"重症肌无力","√","√","√","√","√","√",28,1,"28_1",283.1,249.5]
[11,"重度头部外伤",null,"√","√","√","√","√",null,36,"持续植物人状态","√","√","√","√","√","√",29,1,"29_1",291.9,257.2]
[12,"单个肢体缺失",null,null,"√","√","√","√",null,37,"严重心肌病","√","√","√","√","√","√",30,1,"30_1",300.8,265.1]
[13,"川崎病合并冠状动脉扩张",null,null,"√",null,null,null,null,38,"严重溃疡性结肠炎","√","√","√","√","√","√",31,1,"31_1",310.1,273.3]
[14,"严重脑炎或脑膜炎",null,null,"√","√",null,null,null,39,"溶血性链球菌引起的坏疽","√",null,null,null,null,"√",32,1,"32_1",319.6,281.6]
[15,"脊髓灰质炎",null,null,"√",null,null,null,null,40,"坏死性筋膜炎","√","√","√","√","√","√",33,1,"33_1",329.4,290.1]
[16,"急性坏死性胰腺炎",null,null,null,"√",null,null,null,41,"系统性硬皮病","√","√","√","√","√","√",34,1,"34_1",339.4,298.8]
[17,"慢性肾功能损害-肾功能衰竭期",null,null,null,null,"√",null,null,42,"严重克隆病","√","√","√","√","√","√",35,1,"35_1",349.7,307.8]
[18,"单侧肺脏切除",null,null,null,null,"√","√",null,43,"象皮病",null,"√","√","√","√","√",36,1,"36_1",360.3,316.9]
[19,"肝脏手术",null,null,null,null,"√","√",null,44,"肾髓质囊性病",null,"√","√","√","√","√",37,1,"37_1",371.1,326.1]
[20,"早期运动神经性疾病",null,null,null,null,"√","√",null,45,"脊髓灰质炎后遗症/严重脊髓灰质炎",null,"√","√","√","√",null,38,1,"38_1",382.2,335.6]
[21,"人工耳蜗植入术",null,null,null,null,"√",null,null,46,"慢性复发性胰腺炎",null,"√","√","√","√","√",39,1,"39_1",393.5,345.2]
[22,"特定周围动脉疾病的血管介入治疗",null,null,null,null,null,"√",null,47,"冠状动脉粥样斑块切除术",null,"√",null,null,null,null,40,1,"40_1",405,355]
[23,"原发性肺动脉高压",null,null,null,null,null,"√",null,48,"原发性硬化性胆管炎",null,"√","√","√","√","√",41,1,"41_1",416.7,365]
[24,"轻度瘫痪",null,null,null,null,null,"√",null,49,"原发性慢性肾上腺皮质功能减退",null,"√",null,"√","√","√",42,1,"42_1",428.6,375.1]
[25,"胆道重建手术",null,null,null,null,null,"√",null,50,"胰腺移植",null,"√","√","√","√","√",43,1,"43_1",440.7,385.4]
[26,"单眼视力丧失",null,null,null,null,null,"√",null,51,"肺源性心脏病",null,"√",null,"√","√",null,44,1,"44_1",452.9,395.9]
[28,"面部重建手术",null,null,null,null,null,"√",null,52,"主动脉夹层瘤",null,"√",null,null,null,null,45,1,"45_1",465.3,406.4]
[29,"双侧睾丸切除手术",null,null,null,null,null,"√",null,53,"终末期疾病",null,"√",null,"√",null,null,46,1,"46_1",477.7,417.2]
[30,"肾脏切除",null,null,null,null,null,"√",null,54,"慢性呼吸功能衰竭",null,null,"√","√",null,null,47,1,"47_1",490.2,428]
[31,"单耳失聪",null,null,null,null,null,"√",null,55,"因职业关系导致的人类免疫缺陷病毒感染",null,null,"√","√","√","√",48,1,"48_1",502.8,439]
[32,"轻度面部烧伤",null,null,null,null,null,"√",null,56,"非阿尔茨海默病所致严重痴呆",null,null,"√","√","√","√",49,1,"49_1",515.4,450.2]
[33,"III度房室传导阻滞",null,null,null,null,null,"√",null,57,"严重哮喘",null,null,"√",null,"√",null,50,1,"50_1",528.1,461.6]
[null,null,null,null,null,null,null,null,null,58,"严重川崎病",null,null,"√","√","√","√",51,1,"51_1",540.7,473.2]
[null,null,null,null,null,null,null,null,null,59,"疯牛病（克雅氏病）",null,null,"√","√","√","√",52,1,"52_1",553.4,485]
[null,null,null,null,null,null,null,null,null,60,"严重冠心病",null,null,null,"√","√",null,53,1,"53_1",566.1,497]
[null,null,null,null,null,null,null,null,null,62,"自主生活能力完全丧失",null,null,null,"√",null,null,54,1,"54_1",578.8,509.2]
[null,null,null,null,null,null,null,null,null,63,"II 级重症急性胰腺炎",null,null,null,"√",null,null,55,1,"55_1",591.4,521.6]
[null,null,null,null,null,null,null,null,null,64,"破裂脑动脉瘤夹闭手术",null,null,null,"√",null,null,56,1,"56_1",604,534.2]
[null,null,null,null,null,null,null,null,null,65,"主动脉夹层血肿",null,null,null,"√",null,null,57,1,"57_1",616.5,547]
[null,null,null,null,null,null,null,null,null,66,"严重心肌炎",null,null,null,"√","√",null,58,1,"58_1",629.1,559.9]
[null,null,null,null,null,null,null,null,null,67,"肌营养不良症",null,null,null,"√","√",null,59,1,"59_1",641.5,573.1]
[null,null,null,null,null,null,null,null,null,68,"嗜铬细胞瘤",null,null,null,"√",null,"√",60,1,"60_1",654,586.4]
[null,null,null,null,null,null,null,null,null,69,"完全性房室传导阻滞",null,null,null,"√",null,null,18,5,"18_5",46.7,41.1]
[null,null,null,null,null,null,null,null,null,70,"埃博拉病毒",null,null,null,null,"√","√",19,5,"19_5",47.3,41.6]
[null,null,null,null,null,null,null,null,null,71,"进行性核上性麻痹",null,null,null,null,"√","√",20,5,"20_5",48.8,42.9]
[null,null,null,null,null,null,null,null,null,72,"雷氏综合征",null,null,null,null,"√",null,21,5,"21_5",50.4,44.3]
[null,null,null,null,null,null,null,null,null,73,"严重自身免疫性肝炎",null,null,null,null,"√",null,22,5,"22_5",52,45.7]
[null,null,null,null,null,null,null,null,null,74,"肌萎缩性侧索硬化症",null,null,null,null,"√",null,23,5,"23_5",53.6,47.1]
[null,null,null,null,null,null,null,null,null,75,"肝豆状核变性",null,null,null,null,"√",null,24,5,"24_5",55.2,48.6]
[null,null,null,null,null,null,null,null,null,75,"肺泡蛋白质沉积症",null,null,null,null,null,"√",25,5,"25_5",57,50.1]
[null,null,null,null,null,null,null,null,null,77,"严重面部烧伤",null,null,null,null,null,"√",26,5,"26_5",58.7,51.7]
[null,null,null,null,null,null,null,null,null,79,"肺淋巴管肌瘤病",null,null,null,null,null,"√",27,5,"27_5",60.5,53.3]
[null,null,null,null,null,null,null,null,null,81,"失去一肢及一眼",null,null,null,null,null,"√",28,5,"28_5",62.4,55]
[null,null,null,null,null,null,null,null,null,83,"严重传染心内膜炎",null,null,null,null,null,"√",29,5,"29_5",64.4,56.7]
[null,null,null,null,null,null,null,null,null,null,null,null,null,null,null,null,null,30,5,"30_5",66.3,58.4]
[null,null,null,null,null,null,null,null,null,null,null,null,null,null,null,null,null,31,5,"31_5",68.4,60.3]
[null,null,null,null,null,null,null,null,null,null,null,null,null,null,null,null,null,32,5,"32_5",70.5,62.1]
[null,null,null,null,null,null,null,null,null,null,null,null,null,null,null,null,null,33,5,"33_5",72.7,64]
[null,null,null,null,null,null,null,null,null,null,null,null,null,null,null,null,null,34,5,"34_5",74.9,66]
[null,null,null,null,null,null,null,null,null,null,null,null,null,null,null,null,null,35,5,"35_5",77.3,68]
[null,null,null,null,null,null,null,null,null,null,null,null,null,null,null,null,null,36,5,"36_5",79.6,70]
[null,null,null,null,null,null,null,null,null,null,null,null,null,null,null,null,null,37,5,"37_5",82.1,72.1]
[null,null,null,null,null,null,null,null,null,null,null,null,null,null,null,null,null,38,5,"38_5",84.6,74.3]
[null,null,null,null,null,null,null,null,null,null,null,null,null,null,null,null,null,39,5,"39_5",87.2,76.5]
[null,null,null,null,null,null,null,null,null,null,null,null,null,null,null,null,null,40,5,{"$f":"R68&\"_\"&S68","v":"40_5"},89.8,78.7]
[null,null,null,null,null,null,null,null,null,null,null,null,null,null,null,null,null,41,5,"41_5",92.6,81]
[null,null,null,null,null,null,null,null,null,null,null,null,null,null,null,null,null,42,5,"42_5",95.3,83.3]
[null,null,null,null,null,null,null,null,null,null,null,null,null,null,null,null,null,43,5,"43_5",98.2,85.6]
[null,null,null,null,null,null,null,null,null,null,null,null,null,null,null,null,null,44,5,"44_5",101.1,88.1]
[null,null,null,null,null,null,null,null,null,null,null,null,null,null,null,null,null,45,5,"45_5",104,90.5]
[null,null,null,null,null,null,null,null,null,null,null,null,null,null,null,null,null,46,5,"46_5",107,93]
[null,null,null,null,null,null,null,null,null,null,null,null,null,null,null,null,null,47,5,"47_5",110.1,95.5]
[null,null,null,null,null,null,null,null,null,null,null,null,null,null,null,null,null,48,5,"48_5",113.1,98.1]
[null,null,null,null,null,null,null,null,null,null,null,null,null,null,null,null,null,49,5,"49_5",116.3,100.7]
[null,null,null,null,null,null,null,null,null,null,null,null,null,null,null,null,null,50,5,"50_5",119.4,103.4]
[null,null,null,null,null,null,null,null,null,null,null,null,null,null,null,null,null,51,5,"51_5",122.6,106.1]
[null,null,null,null,null,null,null,null,null,null,null,null,null,null,null,null,null,52,5,"52_5",125.9,108.9]
[null,null,null,null,null,null,null,null,null,null,null,null,null,null,null,null,null,53,5,"53_5",129.2,111.7]
[null,null,null,null,null,null,null,null,null,null,null,null,null,null,null,null,null,54,5,"54_5",132.5,114.6]
[null,null,null,null,null,null,null,null,null,null,null,null,null,null,null,null,null,55,5,"55_5",135.9,117.6]
[null,null,null,null,null,null,null,null,null,null,null,null,null,null,null,null,null,56,5,"56_5",139.3,120.7]
[null,null,null,null,null,null,null,null,null,null,null,null,null,null,null,null,null,57,5,"57_5",142.7,123.8]
[null,null,null,null,null,null,null,null,null,null,null,null,null,null,null,null,null,58,5,"58_5",146.2,127]
[null,null,null,null,null,null,null,null,null,null,null,null,null,null,null,null,null,59,5,"59_5",149.7,130.3]
[null,null,null,null,null,null,null,null,null,null,null,null,null,null,null,null,null,60,5,"60_5",153.2,133.7]
[null,null,null,null,null,null,null,null,null,null,null,null,null,null,null,null,null,18,10,"18_10",26.5,23.3]
[null,null,null,null,null,null,null,null,null,null,null,null,null,null,null,null,null,19,10,"19_10",26.9,23.6]
[null,null,null,null,null,null,null,null,null,null,null,null,null,null,null,null,null,20,10,"20_10",27.7,24.3]
[null,null,null,null,null,null,null,null,null,null,null,null,null,null,null,null,null,21,10,"21_10",28.6,25.1]
[null,null,null,null,null,null,null,null,null,null,null,null,null,null,null,null,null,22,10,"22_10",29.5,25.9]
[null,null,null,null,null,null,null,null,null,null,null,null,null,null,null,null,null,23,10,"23_10",30.4,26.7]
[null,null,null,null,null,null,null,null,null,null,null,null,null,null,null,null,null,24,10,"24_10",31.4,27.6]
[null,null,null,null,null,null,null,null,null,null,null,null,null,null,null,null,null,25,10,"25_10",32.4,28.5]
[null,null,null,null,null,null,null,null,null,null,null,null,null,null,null,null,null,26,10,"26_10",33.4,29.4]
[null,null,null,null,null,null,null,null,null,null,null,null,null,null,null,null,null,27,10,"27_10",34.4,30.3]
[null,null,null,null,null,null,null,null,null,null,null,null,null,null,null,null,null,28,10,"28_10",35.5,31.3]
[null,null,null,null,null,null,null,null,null,null,null,null,null,null,null,null,null,29,10,"29_10",36.6,32.3]
[null,null,null,null,null,null,null,null,null,null,null,null,null,null,null,null,null,30,10,"30_10",37.8,33.3]
[null,null,null,null,null,null,null,null,null,null,null,null,null,null,null,null,null,31,10,"31_10",39,34.3]
[null,null,null,null,null,null,null,null,null,null,null,null,null,null,null,null,null,32,10,"32_10",40.2,35.4]
[null,null,null,null,null,null,null,null,null,null,null,null,null,null,null,null,null,33,10,"33_10",41.5,36.5]
[null,null,null,null,null,null,null,null,null,null,null,null,null,null,null,null,null,34,10,"34_10",42.8,37.7]
[null,null,null,null,null,null,null,null,null,null,null,null,null,null,null,null,null,35,10,"35_10",44.2,38.8]
[null,null,null,null,null,null,null,null,null,null,null,null,null,null,null,null,null,36,10,"36_10",45.6,40.1]
[null,null,null,null,null,null,null,null,null,null,null,null,null,null,null,null,null,37,10,"37_10",47.1,41.3]
[null,null,null,null,null,null,null,null,null,null,null,null,null,null,null,null,null,38,10,"38_10",48.6,42.6]
[null,null,null,null,null,null,null,null,null,null,null,null,null,null,null,null,null,39,10,"39_10",50.1,43.9]
[null,null,null,null,null,null,null,null,null,null,null,null,null,null,null,null,null,40,10,"40_10",51.8,45.2]
[null,null,null,null,null,null,null,null,null,null,null,null,null,null,null,null,null,41,10,"41_10",53.4,46.6]
[null,null,null,null,null,null,null,null,null,null,null,null,null,null,null,null,null,42,10,"42_10",55.2,48]
[null,null,null,null,null,null,null,null,null,null,null,null,null,null,null,null,null,43,10,"43_10",57,49.4]
[null,null,null,null,null,null,null,null,null,null,null,null,null,null,null,null,null,44,10,"44_10",58.8,50.9]
[null,null,null,null,null,null,null,null,null,null,null,null,null,null,null,null,null,45,10,"45_10",60.7,52.3]
[null,null,null,null,null,null,null,null,null,null,null,null,null,null,null,null,null,46,10,"46_10",62.7,53.9]
[null,null,null,null,null,null,null,null,null,null,null,null,null,null,null,null,null,47,10,"47_10",64.7,55.4]
[null,null,null,null,null,null,null,null,null,null,null,null,null,null,null,null,null,48,10,"48_10",66.7,57]
[null,null,null,null,null,null,null,null,null,null,null,null,null,null,null,null,null,49,10,"49_10",68.8,58.6]
[null,null,null,null,null,null,null,null,null,null,null,null,null,null,null,null,null,50,10,"50_10",71,60.2]
[null,null,null,null,null,null,null,null,null,null,null,null,null,null,null,null,null,51,10,"51_10",73.2,62]
[null,null,null,null,null,null,null,null,null,null,null,null,null,null,null,null,null,52,10,"52_10",75.4,63.7]
[null,null,null,null,null,null,null,null,null,null,null,null,null,null,null,null,null,53,10,"53_10",77.8,65.5]
[null,null,null,null,null,null,null,null,null,null,null,null,null,null,null,null,null,54,10,"54_10",80.1,67.4]
[null,null,null,null,null,null,null,null,null,null,null,null,null,null,null,null,null,55,10,"55_10",82.6,69.4]
[null,null,null,null,null,null,null,null,null,null,null,null,null,null,null,null,null,18,15,"18_15",19.3,16.9]
[null,null,null,null,null,null,null,null,null,null,null,null,null,null,null,null,null,19,15,"19_15",19.6,17.2]
[null,null,null,null,null,null,null,null,null,null,null,null,null,null,null,null,null,20,15,"20_15",20.2,17.7]
[null,null,null,null,null,null,null,null,null,null,null,null,null,null,null,null,null,21,15,"21_15",20.8,18.3]
[null,null,null,null,null,null,null,null,null,null,null,null,null,null,null,null,null,22,15,"22_15",21.5,18.9]
[null,null,null,null,null,null,null,null,null,null,null,null,null,null,null,null,null,23,15,{"$f":"R132&\"_\"&S132","v":"23_15"},22.2,19.5]
[null,null,null,null,null,null,null,null,null,null,null,null,null,null,null,null,null,24,15,"24_15",22.9,20.1]
[null,null,null,null,null,null,null,null,null,null,null,null,null,null,null,null,null,25,15,"25_15",23.6,20.7]
[null,null,null,null,null,null,null,null,null,null,null,null,null,null,null,null,null,26,15,"26_15",24.4,21.4]
[null,null,null,null,null,null,null,null,null,null,null,null,null,null,null,null,null,27,15,"27_15",25.1,22.1]
[null,null,null,null,null,null,null,null,null,null,null,null,null,null,null,null,null,28,15,"28_15",25.9,22.8]
[null,null,null,null,null,null,null,null,null,null,null,null,null,null,null,null,null,29,15,"29_15",26.8,23.6]
[null,null,null,null,null,null,null,null,null,null,null,null,null,null,null,null,null,30,15,"30_15",27.6,24.3]
[null,null,null,null,null,null,null,null,null,null,null,null,null,null,null,null,null,31,15,"31_15",28.5,25.1]
[null,null,null,null,null,null,null,null,null,null,null,null,null,null,null,null,null,32,15,"32_15",29.5,25.9]
[null,null,null,null,null,null,null,null,null,null,null,null,null,null,null,null,null,33,15,"33_15",30.4,26.8]
[null,null,null,null,null,null,null,null,null,null,null,null,null,null,null,null,null,34,15,"34_15",31.4,27.6]
[null,null,null,null,null,null,null,null,null,null,null,null,null,null,null,null,null,35,15,"35_15",32.5,28.5]
[null,null,null,null,null,null,null,null,null,null,null,null,null,null,null,null,null,36,15,"36_15",33.6,29.4]
[null,null,null,null,null,null,null,null,null,null,null,null,null,null,null,null,null,37,15,"37_15",34.7,30.4]
[null,null,null,null,null,null,null,null,null,null,null,null,null,null,null,null,null,38,15,"38_15",35.9,31.3]
[null,null,null,null,null,null,null,null,null,null,null,null,null,null,null,null,null,39,15,"39_15",37.2,32.3]
[null,null,null,null,null,null,null,null,null,null,null,null,null,null,null,null,null,40,15,"40_15",38.5,33.4]
[null,null,null,null,null,null,null,null,null,null,null,null,null,null,null,null,null,41,15,"41_15",39.8,34.4]
[null,null,null,null,null,null,null,null,null,null,null,null,null,null,null,null,null,42,15,"42_15",41.2,35.5]
[null,null,null,null,null,null,null,null,null,null,null,null,null,null,null,null,null,43,15,"43_15",42.7,36.6]
[null,null,null,null,null,null,null,null,null,null,null,null,null,null,null,null,null,44,15,"44_15",44.2,37.7]
[null,null,null,null,null,null,null,null,null,null,null,null,null,null,null,null,null,45,15,"45_15",45.7,38.9]
[null,null,null,null,null,null,null,null,null,null,null,null,null,null,null,null,null,46,15,"46_15",47.4,40.1]
[null,null,null,null,null,null,null,null,null,null,null,null,null,null,null,null,null,47,15,"47_15",49.1,41.3]
[null,null,null,null,null,null,null,null,null,null,null,null,null,null,null,null,null,48,15,"48_15",50.8,42.6]
[null,null,null,null,null,null,null,null,null,null,null,null,null,null,null,null,null,49,15,"49_15",52.6,43.9]
[null,null,null,null,null,null,null,null,null,null,null,null,null,null,null,null,null,50,15,"50_15",54.5,45.2]

{"sheet":"备忘","index":3,"n_rows":11,"n_cols":4,"rows_kept":11,"cut":false,"hidden":true,"merged":[]}
[null,"读表的数值"]
[]
[null,"表名","单元格","所读数值"]
[1,"GP","N2","SA Round"]
[2,"CSV","AI列","CSV"]
[3,"Reserve","AS列","Rsv"]
[4]
[5]
[]
[]
["2017-12-04","上午，读ztj的SA、CSV、Rsv"]

{"sheet":"SA&Table","index":4,"n_rows":676,"n_cols":221,"rows_kept":281,"cut":true,"hidden":true,"merged":[],"bounds":{"rows_first":125,"rows_last":31,"rows_between":125,"halvings":4}}
[null,null,null,null,null,"SA Round","CSV",1,2,3,4,5,6,7,8,9,10,11,12,13,14,15,16,17,18,19,20,21,22,23,24,25,26,27,28,29,30,31,32,33,34,35,36,37,38,39,40,41,42,43,44,45,46,47,48,49,50,51,52,53,54,55,56,57,58,59,60,61,62,63,64,65,66,67,68,69,70,71,72,73,74,75,76,77,78,79,80,81,82,83,84,85,86,87,88,89,90,91,92,93,94,95,96,97,98,99,100,101,102,103,104,105,106,null,"Rsv",1,2,3,4,5,6,7,8,9,10,11,12,13,14,15,16,17,18,19,20,21,22,23,24,25,26,27,28,29,30,31,32,33,34,35,36,37,38,39,40,41,42,43,44,45,46,47,48,49,50,51,52,53,54,55,56,57,58,59,60,61,62,63,64,65,66,67,68,69,70,71,72,73,74,75,76,77,78,79,80,81,82,83,84,85,86,87,88,89,90,91,92,93,94,95,96,97,98,99,100,101,102,103,104,105,106]
[null,null,null,null,{"$f":"Age&\"_\"&PPP&\"_\"&Sex","v":"30_10_M"},{"$f":"VLOOKUP(E2,A:F,6,FALSE)","v":578},null,{"$f":"VLOOKUP($E$2,$A:H,H3,FALSE)","v":382},{"$f":"VLOOKUP($E$2,$A:I,I3,FALSE)","v":884},{"$f":"VLOOKUP($E$2,$A:J,J3,FALSE)","v":1481},{"$f":"VLOOKUP($E$2,$A:K,K3,FALSE)","v":2135},{"$f":"VLOOKUP($E$2,$A:L,L3,FALSE)","v":1878},{"$f":"VLOOKUP($E$2,$A:M,M3,FALSE)","v":2453},{"$f":"VLOOKUP($E$2,$A:N,N3,FALSE)","v":3061},{"$f":"VLOOKUP($E$2,$A:O,O3,FALSE)","v":3704},{"$f":"VLOOKUP($E$2,$A:P,P3,FALSE)","v":4384},{"$f":"VLOOKUP($E$2,$A:Q,Q3,FALSE)","v":5103},{"$f":"VLOOKUP($E$2,$A:R,R3,FALSE)","v":5189},{"$f":"VLOOKUP($E$2,$A:S,S3,FALSE)","v":5279},{"$f":"VLOOKUP($E$2,$A:T,T3,FALSE)","v":5371},{"$f":"VLOOKUP($E$2,$A:U,U3,FALSE)","v":5467},{"$f":"VLOOKUP($E$2,$A:V,V3,FALSE)","v":5567},{"$f":"VLOOKUP($E$2,$A:W,W3,FALSE)","v":5671},{"$f":"VLOOKUP($E$2,$A:X,X3,FALSE)","v":5778},{"$f":"VLOOKUP($E$2,$A:Y,Y3,FALSE)","v":5890},{"$f":"VLOOKUP($E$2,$A:Z,Z3,FALSE)","v":6006},{"$f":"VLOOKUP($E$2,$A:AA,AA3,FALSE)","v":6126},{"$f":"VLOOKUP($E$2,$A:AB,AB3,FALSE)","v":6250},{"$f":"VLOOKUP($E$2,$A:AC,AC3,FALSE)","v":6380},{"$f":"VLOOKUP($E$2,$A:AD,AD3,FALSE)","v":6514},{"$f":"VLOOKUP($E$2,$A:AE,AE3,FALSE)","v":6654},{"$f":"VLOOKUP($E$2,$A:AF,AF3,FALSE)","v":6798},{"$f":"VLOOKUP($E$2,$A:AG,AG3,FALSE)","v":6949},{"$f":"VLOOKUP($E$2,$A:AH,AH3,FALSE)","v":7105},{"$f":"VLOOKUP($E$2,$A:AI,AI3,FALSE)","v":7268},{"$f":"VLOOKUP($E$2,$A:AJ,AJ3,FALSE)","v":7437},{"$f":"VLOOKUP($E$2,$A:AK,AK3,FALSE)","v":7554},{"$f":"VLOOKUP($E$2,$A:AL,AL3,FALSE)","v":7677},{"$f":"VLOOKUP($E$2,$A:AM,AM3,FALSE)","v":7803},{"$f":"VLOOKUP($E$2,$A:AN,AN3,FALSE)","v":7935},{"$f":"VLOOKUP($E$2,$A:AO,AO3,FALSE)","v":8072},{"$f":"VLOOKUP($E$2,$A:AP,AP3,FALSE)","v":8215},{"$f":"VLOOKUP($E$2,$A:AQ,AQ3,FALSE)","v":8363},{"$f":"VLOOKUP($E$2,$A:AR,AR3,FALSE)","v":8516},{"$f":"VLOOKUP($E$2,$A:AS,AS3,FALSE)","v":8677},{"$f":"VLOOKUP($E$2,$A:AT,AT3,FALSE)","v":8844},{"$f":"VLOOKUP($E$2,$A:AU,AU3,FALSE)","v":9018},{"$f":"VLOOKUP($E$2,$A:AV,AV3,FALSE)","v":9199},{"$f":"VLOOKUP($E$2,$A:AW,AW3,FALSE)","v":9389},{"$f":"VLOOKUP($E$2,$A:AX,AX3,FALSE)","v":9587},{"$f":"VLOOKUP($E$2,$A:AY,AY3,FALSE)","v":9795},{"$f":"VLOOKUP($E$2,$A:AZ,AZ3,FALSE)","v":10011},{"$f":"VLOOKUP($E$2,$A:BA,BA3,FALSE)","v":10235},{"$f":"VLOOKUP($E$2,$A:BB,BB3,FALSE)","v":10468},{"$f":"VLOOKUP($E$2,$A:BC,BC3,FALSE)","v":10709},{"$f":"VLOOKUP($E$2,$A:BD,BD3,FALSE)","v":10960},{"$f":"VLOOKUP($E$2,$A:BE,BE3,FALSE)","v":10219},{"$f":"VLOOKUP($E$2,$A:BF,BF3,FALSE)","v":9449},{"$f":"VLOOKUP($E$2,$A:BG,BG3,FALSE)","v":8647},{"$f":"VLOOKUP($E$2,$A:BH,BH3,FALSE)","v":7812},{"$f":"VLOOKUP($E$2,$A:BI,BI3,FALSE)","v":6945},{"$f":"VLOOKUP($E$2,$A:BJ,BJ3,FALSE)","v":6042},{"$f":"VLOOKUP($E$2,$A:BK,BK3,FALSE)","v":5104},{"$f":"VLOOKUP($E$2,$A:BL,BL3,FALSE)","v":4128},{"$f":"VLOOKUP($E$2,$A:BM,BM3,FALSE)","v":3115},{"$f":"VLOOKUP($E$2,$A:BN,BN3,FALSE)","v":2061},{"$f":"VLOOKUP($E$2,$A:BO,BO3,FALSE)","v":1967},{"$f":"VLOOKUP($E$2,$A:BP,BP3,FALSE)","v":1868},{"$f":"VLOOKUP($E$2,$A:BQ,BQ3,FALSE)","v":1766},{"$f":"VLOOKUP($E$2,$A:BR,BR3,FALSE)","v":1659},{"$f":"VLOOKUP($E$2,$A:BS,BS3,FALSE)","v":1548},{"$f":"VLOOKUP($E$2,$A:BT,BT3,FALSE)","v":1433},{"$f":"VLOOKUP($E$2,$A:BU,BU3,FALSE)","v":1313},{"$f":"VLOOKUP($E$2,$A:BV,BV3,FALSE)","v":1188},{"$f":"VLOOKUP($E$2,$A:BW,BW3,FALSE)","v":1058},{"$f":"VLOOKUP($E$2,$A:BX,BX3,FALSE)","v":923},{"$f":"VLOOKUP($E$2,$A:BY,BY3,FALSE)","v":783},{"$f":"VLOOKUP($E$2,$A:BZ,BZ3,FALSE)","v":637},{"$f":"VLOOKUP($E$2,$A:CA,CA3,FALSE)","v":486},{"$f":"VLOOKUP($E$2,$A:CB,CB3,FALSE)","v":330},{"$f":"VLOOKUP($E$2,$A:CC,CC3,FALSE)","v":168},{"$f":"VLOOKUP($E$2,$A:CD,CD3,FALSE)","v":0},{"$f":"VLOOKUP($E$2,$A:CE,CE3,FALSE)","v":0},{"$f":"VLOOKUP($E$2,$A:CF,CF3,FALSE)","v":""},{"$f":"VLOOKUP($E$2,$A:CG,CG3,FALSE)","v":""},{"$f":"VLOOKUP($E$2,$A:CH,CH3,FALSE)","v":""},{"$f":"VLOOKUP($E$2,$A:CI,CI3,FALSE)","v":""},{"$f":"VLOOKUP($E$2,$A:CJ,CJ3,FALSE)","v":""},{"$f":"VLOOKUP($E$2,$A:CK,CK3,FALSE)","v":""},{"$f":"VLOOKUP($E$2,$A:CL,CL3,FALSE)","v":""},{"$f":"VLOOKUP($E$2,$A:CM,CM3,FALSE)","v":""},{"$f":"VLOOKUP($E$2,$A:CN,CN3,FALSE)","v":""},{"$f":"VLOOKUP($E$2,$A:CO,CO3,FALSE)","v":""},{"$f":"VLOOKUP($E$2,$A:CP,CP3,FALSE)","v":""},{"$f":"VLOOKUP($E$2,$A:CQ,CQ3,FALSE)","v":""},{"$f":"VLOOKUP($E$2,$A:CR,CR3,FALSE)","v":""},{"$f":"VLOOKUP($E$2,$A:CS,CS3,FALSE)","v":""},{"$f":"VLOOKUP($E$2,$A:CT,CT3,FALSE)","v":""},{"$f":"VLOOKUP($E$2,$A:CU,CU3,FALSE)","v":""},{"$f":"VLOOKUP($E$2,$A:CV,CV3,FALSE)","v":""},{"$f":"VLOOKUP($E$2,$A:CW,CW3,FALSE)","v":""},{"$f":"VLOOKUP($E$2,$A:CX,CX3,FALSE)","v":""},{"$f":"VLOOKUP($E$2,$A:CY,CY3,FALSE)","v":""},{"$f":"VLOOKUP($E$2,$A:CZ,CZ3,FALSE)","v":""},{"$f":"VLOOKUP($E$2,$A:DA,DA3,FALSE)","v":""},{"$f":"VLOOKUP($E$2,$A:DB,DB3,FALSE)","v":""},{"$f":"VLOOKUP($E$2,$A:DC,DC3,FALSE)","v":""},{"$f":"VLOOKUP($E$2,$A:DD,DD3,FALSE)","v":""},{"$f":"VLOOKUP($E$2,$A:DE,DE3,FALSE)","v":""},{"$f":"VLOOKUP($E$2,$A:DF,DF3,FALSE)","v":""},{"$f":"VLOOKUP($E$2,$A:DG,DG3,FALSE)","v":""},{"$f":"VLOOKUP($E$2,$A:DH,DH3,FALSE)","v":""},{"$f":"VLOOKUP($E$2,$A:DI,DI3,FALSE)","v":""},null,{"$f":"VLOOKUP($E$2,$A:DK,DK3,FALSE)","v":0},{"$f":"VLOOKUP($E$2,$A:DL,DL3,FALSE)","v":558.360556959994},{"$f":"VLOOKUP($E$2,$A:DM,DM3,FALSE)","v":1469.7232847229},{"$f":"VLOOKUP($E$2,$A:DN,DN3,FALSE)","v":2403.81423386781},{"$f":"VLOOKUP($E$2,$A:DO,DO3,FALSE)","v":3361.20600812242},{"$f":"VLOOKUP($E$2,$A:DP,DP3,FALSE)","v":3342.48794096372},{"$f":"VLOOKUP($E$2,$A:DQ,DQ3,FALSE)","v":4207.05988566967},{"$f":"VLOOKUP($E$2,$A:DR,DR3,FALSE)","v":5093.08302135913},{"$f":"VLOOKUP($E$2,$A:DS,DS3,FALSE)","v":6001.08889561827},{"$f":"VLOOKUP($E$2,$A:DT,DT3,FALSE)","v":6931.62279673542},{"$f":"VLOOKUP($E$2,$A:DU,DU3,FALSE)","v":7885.24452995958},{"$f":"VLOOKUP($E$2,$A:DV,DV3,FALSE)","v":7964.98132110345},{"$f":"VLOOKUP($E$2,$A:DW,DW3,FALSE)","v":8046.63214774293},{"$f":"VLOOKUP($E$2,$A:DX,DX3,FALSE)","v":8130.24255180428},{"$f":"VLOOKUP($E$2,$A:DY,DY3,FALSE)","v":8215.85844342789},{"$f":"VLOOKUP($E$2,$A:DZ,DZ3,FALSE)","v":8303.53205961256},{"$f":"VLOOKUP($E$2,$A:EA,EA3,FALSE)","v":8393.31707650447},{"$f":"VLOOKUP($E$2,$A:EB,EB3,FALSE)","v":8485.27106088914},{"$f":"VLOOKUP($E$2,$A:EC,EC3,FALSE)","v":8579.45756813263},{"$f":"VLOOKUP($E$2,$A:ED,ED3,FALSE)","v":8675.94784776478},{"$f":"VLOOKUP($E$2,$A:EE,EE3,FALSE)","v":8774.81964219985},{"$f":"VLOOKUP($E$2,$A:EF,EF3,FALSE)","v":8876.15758602018},{"$f":"VLOOKUP($E$2,$A:EG,EG3,FALSE)","v":8980.05466320695},{"$f":"VLOOKUP($E$2,$A:EH,EH3,FALSE)","v":9086.61041612351},{"$f":"VLOOKUP($E$2,$A:EI,EI3,FALSE)","v":9195.93345125776},{"$f":"VLOOKUP($E$2,$A:EJ,EJ3,FALSE)","v":9308.14083225199},{"$f":"VLOOKUP($E$2,$A:EK,EK3,FALSE)","v":9423.35920107918},{"$f":"VLOOKUP($E$2,$A:EL,EL3,FALSE)","v":9541.72348808586},{"$f":"VLOOKUP($E$2,$A:EM,EM3,FALSE)","v":9663.37844784464},{"$f":"VLOOKUP($E$2,$A:EN,EN3,FALSE)","v":9788.47923041187},{"$f":"VLOOKUP($E$2,$A:EO,EO3,FALSE)","v":9859.39594883424},{"$f":"VLOOKUP($E$2,$A:EP,EP3,FALSE)","v":9932.394947828},{"$f":"VLOOKUP($E$2,$A:EQ,EQ3,FALSE)","v":10007.5905624222},{"$f":"VLOOKUP($E$2,$A:ER,ER3,FALSE)","v":10085.1119031953},{"$f":"VLOOKUP($E$2,$A:ES,ES3,FALSE)","v":10165.1058665278},{"$f":"VLOOKUP($E$2,$A:ET,ET3,FALSE)","v":10247.7402815146},{"$f":"VLOOKUP($E$2,$A:EU,EU3,FALSE)","v":10333.2058423597},{"$f":"VLOOKUP($E$2,$A:EV,EV3,FALSE)","v":10421.7194697206},{"$f":"VLOOKUP($E$2,$A:EW,EW3,FALSE)","v":10513.5283648569},{"$f":"VLOOKUP($E$2,$A:EX,EX3,FALSE)","v":10608.9196678984},{"$f":"VLOOKUP($E$2,$A:EY,EY3,FALSE)","v":10708.2387501714},{"$f":"VLOOKUP($E$2,$A:EZ,EZ3,FALSE)","v":10811.9202877737},{"$f":"VLOOKUP($E$2,$A:FA,FA3,FALSE)","v":10920.532318721},{"$f":"VLOOKUP($E$2,$A:FB,FB3,FALSE)","v":11034.8339017025},{"$f":"VLOOKUP($E$2,$A:FC,FC3,FALSE)","v":11155.8463611415},{"$f":"VLOOKUP($E$2,$A:FD,FD3,FALSE)","v":11281.5763154328},{"$f":"VLOOKUP($E$2,$A:FE,FE3,FALSE)","v":11411.7288259339},{"$f":"VLOOKUP($E$2,$A:FF,FF3,FALSE)","v":11546.3457153364},{"$f":"VLOOKUP($E$2,$A:FG,FG3,FALSE)","v":11685.2914494483},{"$f":"VLOOKUP($E$2,$A:FH,FH3,FALSE)","v":11828.0904891357},{"$f":"VLOOKUP($E$2,$A:FI,FI3,FALSE)","v":10973.971769349},{"$f":"VLOOKUP($E$2,$A:FJ,FJ3,FALSE)","v":10097.9217088437},{"$f":"VLOOKUP($E$2,$A:FK,FK3,FALSE)","v":9198.9334748657},{"$f":"VLOOKUP($E$2,$A:FL,FL3,FALSE)","v":8276.00591587314},{"$f":"VLOOKUP($E$2,$A:FM,FM3,FALSE)","v":7328.05275981862},{"$f":"VLOOKUP($E$2,$A:FN,FN3,FALSE)","v":6354.26857551563},{"$f":"VLOOKUP($E$2,$A:FO,FO3,FALSE)","v":5353.85730117431},{"$f":"VLOOKUP($E$2,$A:FP,FP3,FALSE)","v":4326.39636251427},{"$f":"VLOOKUP($E$2,$A:FQ,FQ3,FALSE)","v":3271.57981944293},{"$f":"VLOOKUP($E$2,$A:FR,FR3,FALSE)","v":2189.83886094532},{"$f":"VLOOKUP($E$2,$A:FS,FS3,FALSE)","v":2082.02806663564},{"$f":"VLOOKUP($E$2,$A:FT,FT3,FALSE)","v":1971.17347449794},{"$f":"VLOOKUP($E$2,$A:FU,FU3,FALSE)","v":1856.96390415157},{"$f":"VLOOKUP($E$2,$A:FV,FV3,FALSE)","v":1739.36161736615},{"$f":"VLOOKUP($E$2,$A:FW,FW3,FALSE)","v":1618.15424570048},{"$f":"VLOOKUP($E$2,$A:FX,FX3,FALSE)","v":1493.06021831569},{"$f":"VLOOKUP($E$2,$A:FY,FY3,FALSE)","v":1363.95593063874},{"$f":"VLOOKUP($E$2,$A:FZ,FZ3,FALSE)","v":1230.70767960075},{"$f":"VLOOKUP($E$2,$A:GA,GA3,FALSE)","v":1093.16504385702},{"$f":"VLOOKUP($E$2,$A:GB,GB3,FALSE)","v":951.147631191769},{"$f":"VLOOKUP($E$2,$A:GC,GC3,FALSE)","v":804.416732231251},{"$f":"VLOOKUP($E$2,$A:GD,GD3,FALSE)","v":653.112269952601},{"$f":"VLOOKUP($E$2,$A:GE,GE3,FALSE)","v":497.056570174787},{"$f":"VLOOKUP($E$2,$A:GF,GF3,FALSE)","v":335.977371771499},{"$f":"VLOOKUP($E$2,$A:GG,GG3,FALSE)","v":170.095607797985},{"$f":"VLOOKUP($E$2,$A:GH,GH3,FALSE)","v":0},{"$f":"VLOOKUP($E$2,$A:GI,GI3,FALSE)","v":0},{"$f":"VLOOKUP($E$2,$A:GJ,GJ3,FALSE)","v":""},{"$f":"VLOOKUP($E$2,$A:GK,GK3,FALSE)","v":""},{"$f":"VLOOKUP($E$2,$A:GL,GL3,FALSE)","v":""},{"$f":"VLOOKUP($E$2,$A:GM,GM3,FALSE)","v":""},{"$f":"VLOOKUP($E$2,$A:GN,GN3,FALSE)","v":""},{"$f":"VLOOKUP($E$2,$A:GO,GO3,FALSE)","v":""},{"$f":"VLOOKUP($E$2,$A:GP,GP3,FALSE)","v":""},{"$f":"VLOOKUP($E$2,$A:GQ,GQ3,FALSE)","v":""},{"$f":"VLOOKUP($E$2,$A:GR,GR3,FALSE)","v":""},{"$f":"VLOOKUP($E$2,$A:GS,GS3,FALSE)","v":""},{"$f":"VLOOKUP($E$2,$A:GT,GT3,FALSE)","v":""},{"$f":"VLOOKUP($E$2,$A:GU,GU3,FALSE)","v":""},{"$f":"VLOOKUP($E$2,$A:GV,GV3,FALSE)","v":""},{"$f":"VLOOKUP($E$2,$A:GW,GW3,FALSE)","v":""},{"$f":"VLOOKUP($E$2,$A:GX,GX3,FALSE)","v":""},{"$f":"VLOOKUP($E$2,$A:GY,GY3,FALSE)","v":""},{"$f":"VLOOKUP($E$2,$A:GZ,GZ3,FALSE)","v":""},{"$f":"VLOOKUP($E$2,$A:HA,HA3,FALSE)","v":""},{"$f":"VLOOKUP($E$2,$A:HB,HB3,FALSE)","v":""},{"$f":"VLOOKUP($E$2,$A:HC,HC3,FALSE)","v":""},{"$f":"VLOOKUP($E$2,$A:HD,HD3,FALSE)","v":""},{"$f":"VLOOKUP($E$2,$A:HE,HE3,FALSE)","v":""},{"$f":"VLOOKUP($E$2,$A:HF,HF3,FALSE)","v":""},{"$f":"VLOOKUP($E$2,$A:HG,HG3,FALSE)","v":""},{"$f":"VLOOKUP($E$2,$A:HH,HH3,FALSE)","v":""},{"$f":"VLOOKUP($E$2,$A:HI,HI3,FALSE)","v":""},{"$f":"VLOOKUP($E$2,$A:HJ,HJ3,FALSE)","v":""},{"$f":"VLOOKUP($E$2,$A:HK,HK3,FALSE)","v":""},{"$f":"VLOOKUP($E$2,$A:HL,HL3,FALSE)","v":""},{"$f":"VLOOKUP($E$2,$A:HM,HM3,FALSE)","v":""}]
[null,null,null,null,null,null,null,8,9,10,11,12,13,14,15,16,17,18,19,20,21,22,23,24,25,26,27,28,29,30,31,32,33,34,35,36,37,38,39,40,41,42,43,44,45,46,47,48,49,50,51,52,53,54,55,56,57,58,59,60,61,62,63,64,65,66,67,68,69,70,71,72,73,74,75,76,77,78,79,80,81,82,83,84,85,86,87,88,89,90,91,92,93,94,95,96,97,98,99,100,101,102,103,104,105,106,107,108,109,110,111,112,113,114,115,116,117,118,119,120,121,122,123,124,125,126,127,128,129,130,131,132,133,134,135,136,137,138,139,140,141,142,143,144,145,146,147,148,149,150,151,152,153,154,155,156,157,158,159,160,161,162,163,164,165,166,167,168,169,170,171,172,173,174,175,176,177,178,179,180,181,182,183,184,185,186,187,188,189,190,191,192,193,194,195,196,197,198,199,200,201,202,203,204,205,206,207,208,209,210,211,212,213,214,215,216,217,218,219,220,221]
["Index","PPP","InsuredAge","InsuredSex",null,"SA Round",0,1,2,3,4,5,6,7,8,9,10,11,12,13,14,15,16,17,18,19,20,21,22,23,24,25,26,27,28,29,30,31,32,33,34,35,36,37,38,39,40,41,42,43,44,45,46,47,48,49,50,51,52,53,54,55,56,57,58,59,60,61,62,63,64,65,66,67,68,69,70,71,72,73,74,75,76,77,78,79,80,81,82,83,84,85,86,87,88,89,90,91,92,93,94,95,96,97,98,99,100,101,102,103,104,105,106,null,0,1,2,3,4,5,6,7,8,9,10,11,12,13,14,15,16,17,18,19,20,21,22,23,24,25,26,27,28,29,30,31,32,33,34,35,36,37,38,39,40,41,42,43,44,45,46,47,48,49,50,51,52,53,54,55,56,57,58,59,60,61,62,63,64,65,66,67,68,69,70,71,72,73,74,75,76,77,78,79,80,81,82,83,84,85,86,87,88,89,90,91,92,93,94,95,96,97,98,99,100,101,102,103,104,105,106]
[{"$f":"C5&\"_\"&B5&\"_\"&D5","v":"0_20_M"},20,0,"M",null,1285,0,327,791,1339,1933,1632,2006,2399,2811,3243,3696,4172,4670,5192,5740,6314,6915,7544,8204,8894,9617,9743,9875,10011,10153,10300,10454,10613,10779,10951,11130,11316,11510,11711,11920,12137,12363,12598,12842,13095,13359,13633,13918,14214,14522,14842,15174,15520,15880,16254,16643,17048,17469,17908,18364,18840,19335,19850,20387,20944,21395,21864,22352,22859,23386,23934,22504,21016,19469,17860,16187,14447,12637,10754,8797,6761,6644,6522,6395,6263,6125,5981,5830,5674,5510,5340,5162,4976,4783,4582,4372,4153,3926,3689,3442,3185,2918,2640,2351,2051,1740,1416,1081,733,373,0,0,null,null,328.382924312536,1232.08159167027,2158.4432074664,3108.01482023932,3081.35533203225,3796.89940661502,4530.3134396388,5282.03609210369,6052.51499553175,6842.20854388982,7651.58756138087,8481.13683445968,9331.35292203447,10202.7484387564,11095.8570542684,12011.2310306647,12949.4298655367,13911.0400987527,14896.6518426246,15906.8788566078,16046.5724967328,16189.7635757033,16336.5427678095,16486.9996202134,16641.2231443801,16799.3056541196,16961.3368378261,17127.4165333858,17297.6483385494,17472.1347239724,17650.9855202888,17834.3153303624,18022.243745092,18214.8955690877,18412.4010567495,18614.8961593096,18822.5216137523,19035.4249921961,19253.7602954598,19477.6891786638,19707.3819905079,19943.0202834629,20184.7970578294,20432.9193687565,20687.6090626279,20949.1055221443,21217.667571615,21493.5742357301,21777.1242217712,22068.6381431526,22368.4598995367,22676.9554640598,22994.5191414326,23321.5699022069,23658.5554394057,24005.9500082358,24363.8909385609,24731.2397292457,25108.178541639,25366.381589508,25631.3087551807,25903.045512152,26181.6502698473,26467.1530765269,26759.5373075386,25058.7174286619,23314.9681862707,21527.1573964999,19694.152950866,17814.8339807061,15888.1189722607,13912.9814074566,11888.4661949675,9813.68403005448,7687.90987877724,7510.61340294531,7330.22905869304,7146.78436549505,6960.22324324525,6770.42841489676,6577.19621549872,6380.29387204285,6179.31804432364,5973.9813769039,5763.83578064529,5548.54838890478,5327.78129512899,5101.09286813531,4868.09939232965,4628.50512274149,4381.99869318937,4128.05763489986,3866.39046836493,3596.6803531843,3318.5636459417,3031.58985771045,2735.45987506159,2429.83292893758,2114.29367333727,1788.28264643617,1451.94434115782,1104.68132022161,746.738583019898,378.153730139119,0,0]
[{"$f":"C6&\"_\"&B6&\"_\"&D6","v":"1_20_M"},20,1,"M",null,1272,0,328,792,1340,1934,1634,2010,2406,2820,3256,3712,4191,4693,5219,5770,6348,6953,7587,8252,8947,9675,9806,9943,10084,10232,10385,10544,10709,10881,11060,11246,11440,11640,11849,12066,12292,12526,12770,13023,13287,13560,13845,14141,14448,14768,15100,15445,15805,16178,16567,16971,17392,17830,18286,18760,19255,19770,20305,20862,21314,21784,22272,22780,23308,23856,22427,20940,19394,17786,16113,14374,12565,10684,8727,6693,6577,6457,6331,6200,6063,5920,5772,5616,5455,5286,5110,4926,4735,4536,4328,4112,3886,3652,3407,3153,2889,2614,2328,2031,1722,1402,1070,726,369,0,0,"",null,null,329.771810878517,1233.18298680546,2159.2195101266,3108.4303248933,3081.38184601105,3799.12866531351,4534.78951582739,5288.80344049597,6061.61955008416,6853.6987301644,7665.51521712376,8497.55463350787,9350.31809830551,10224.3271440822,11120.1215101632,12038.2481544987,12979.2805103656,13943.7955967462,14932.3936660247,15945.6785561428,16088.9208052493,16235.7516328345,16386.2604952829,16540.5362078363,16698.6708834354,16860.7537984004,17026.8845750323,17197.1665902982,17371.701882568,17550.5999427192,17733.9750255001,17921.9463650447,18114.6384002403,18312.1810104756,18514.7097623318,18722.3648953069,18935.29347104,19153.6488635466,19377.5919816175,19607.2922019011,19842.9301810932,20084.6977929657,20332.8007284586,20587.4595331583,20848.912044134,21117.4153897904,21393.2468455126,21676.7034153883,21968.1039516554,22267.7905306478,22576.1273391363,22893.5067233945,23220.3457228069,23557.0900202445,23904.2118804861,24262.1374544131,24629.4725779291,25006.3920069909,25265.8706049705,25532.1003418297,25805.172160834,26085.1403010765,26372.035221125,26665.8472783214,24966.4857326146,23224.2260638396,21437.9369324216,19606.4871081391,17728.7666391442,15803.6858649696,13830.2188509516,11807.3970268674,9734.35877098948,7610.34817715032,7434.85077345275,7256.27794143336,7074.67998982176,6890.0056437979,6702.14533993482,6510.90658892021,6315.9628626379,6117.07676525667,5913.79103535375,5705.7958526665,5492.69796824633,5274.16583587004,5049.76644065455,4819.12803784668,4581.97184231499,4337.85305735959,4086.56847626541,3827.54671248079,3560.67168047569,3285.41770988675,3001.33344137711,2708.1197461199,2405.43739857791,2092.87535164857,1770.32381153332,1437.29696132626,1093.60709452295,739.092161485076,374.328050378956,0,0,""]
["2_20_M",20,2,"M",null,1260,0,328,793,1342,1937,1637,2017,2415,2833,3272,3732,4215,4721,5251,5807,6389,6999,7639,8308,9009,9743,9879,10021,10168,10321,10480,10645,10817,10996,11182,11375,11576,11784,12001,12226,12461,12704,12957,13220,13494,13778,14073,14380,14699,15031,15376,15735,16108,16497,16900,17321,17758,18213,18687,19181,19695,20230,20786,21239,21709,22198,22706,23235,23785,22356,20870,19324,17717,16045,14307,12499,10619,8663,6630,6515,6396,6271,6141,6006,5865,5717,5563,5403,5236,5062,4880,4690,4493,4287,4073,3850,3617,3375,3124,2862,2589,2306,2012,1706,1389,1060,719,366,0,0,"","",null,null,331.731209043523,1235.4264479945,2161.73045907538,3111.19807789445,3084.40565720945,3804.81219703062,4543.18896486267,5299.97637921233,6075.62598337198,6870.6020625197,7685.37992285822,8520.44980696404,9376.32170152191,10253.5234025206,11152.5899686617,12074.0823037118,13018.5649997404,13986.6254280901,14978.8544641866,15995.8583575006,16142.7374345438,16293.2949072294,16447.6194101109,16605.8028711672,16767.9341868674,16934.1127810036,17104.4418272527,17279.0229655368,17457.9653736926,17641.3829857344,17829.3947071023,18022.1246397453,18219.7023175658,18422.262952788,18629.946326459,18842.8990298064,19061.2738591289,19285.2310352447,19514.9390385916,19750.5777000816,19992.3378548332,20240.4239358828,20495.0552894848,20756.4683275392,21024.9186147052,21300.6818134326,21584.0533575023,21875.3504754345,22174.913562594,22483.1051589796,22800.3158054386,23126.960761193,23463.4838561906,23810.3555205956,24168.0857898144,24535.4020570614,24912.3010152977,25172.9541065908,25440.3875997995,25714.6884742116,25995.9168367931,26284.0985322813,26579.2177509795,24881.1970941679,23140.3062375347,21355.4229258645,19525.4091528028,17649.1556238411,15725.5731281505,13753.6358983683,11732.3752528306,9660.92928281982,7538.54183552355,7364.69857325872,7187.81189828476,7007.93458200174,6825.01984716818,6638.92473322119,6449.45061714982,6256.37321429341,6059.36413095834,5858.03406437507,5652.01531569259,5440.91453943401,5224.40049432015,5002.15432105933,4773.72224408714,4538.83709912422,4297.070970465,4048.06934853149,3791.61083890215,3527.26523872605,3254.47503882242,2973.01619486983,2682.67314242486,2382.89789003919,2073.28634609414,1753.74275778952,1423.80878678608,1083.35068488062,732.314774976298,370.796653677268,0,0,"",""]
["3_20_M",20,3,"M",null,1247,0,328,794,1343,1939,1639,2022,2424,2845,3288,3752,4238,4748,5283,5843,6430,7045,7689,8364,9071,9811,9952,10099,10252,10411,10576,10748,10926,11112,11305,11505,11714,11930,12155,12389,12633,12885,13148,13421,13705,14000,14307,14625,14957,15302,15660,16033,16420,16824,17243,17680,18135,18608,19101,19614,20149,20704,21157,21628,22118,22627,23156,23707,22279,20793,19249,17642,15972,14234,12427,10548,8594,6561,6448,6330,6206,6078,5944,5804,5658,5506,5347,5182,5009,4829,4642,4446,4243,4031,3810,3580,3340,3091,2832,2562,2282,1991,1688,1374,1049,711,362,0,0,"","","",null,null,333.45081770178,1237.0990099264,2163.33964695979,3112.73584576259,3085.86469147713,3808.78355221472,4549.72609354951,5309.13466783151,6087.46375442354,6885.17849356074,7702.75839497809,8540.70202312032,9399.52534457479,10279.7516597406,11181.9294490154,12106.6110237207,13054.3709975176,14025.7874491554,15021.4534349414,16041.9814887058,16192.5918610138,16346.9694647555,16505.2060277154,16667.3900350656,16833.6206957424,17004.0009633941,17178.6320465235,17357.62278407,17541.0867628256,17729.1425323943,17921.9138299674,18119.5298154398,18322.1253174287,18529.8396206307,18742.8188069787,18961.2150472569,19185.1878173558,19414.9046272423,19650.54441366,19892.2968870036,20140.3651181228,20394.9671545528,20656.3378648829,20924.731120391,21200.420836898,21483.700747762,21774.8863232634,22074.3161385518,22382.3509504884,22699.3793449798,23025.8146537122,23362.0987003325,23708.6999285792,24066.1260904003,24433.4189520238,24810.2922359956,25072.2187279312,25340.9528456154,25616.581949746,25899.1665563279,26188.7389112058,26485.278310226,24788.7079522643,23049.3059731786,21265.9356539425,19437.4765775507,17562.8020284377,15640.8433808555,13670.5655679505,11651.0001899247,9581.26976011398,7460.64957307638,7288.59001387131,7113.52239113205,6935.5026437219,6754.45504603182,6570.27155070391,6382.76396590566,6191.66785099626,5996.6529052736,5797.39936169306,5593.48366319674,5384.6056488127,5170.36956909738,4950.35425036545,4724.33141263796,4491.81377104472,4252.50256190008,4006.07144587442,3752.14426111225,3490.47939773197,3220.58505031807,2942.06532993031,2654.71336913387,2357.99716625132,2051.54161644132,1735.30382851859,1408.9237412413,1071.89888867862,724.668353441476,366.970973917106,0,0,"","",""]
["4_20_M",20,4,"M",null,1233,0,329,794,1344,1940,1641,2027,2432,2857,3303,3770,4261,4775,5314,5878,6470,7090,7740,8420,9133,9878,10025,10178,10337,10502,10673,10851,11037,11229,11430,11638,11854,12079,12313,12556,12808,13070,13343,13627,13921,14227,14546,14877,15221,15579,15951,16338,16741,17160,17596,18050,18522,19015,19527,20061,20616,21069,21541,22032,22541,23071,23623,22195,20711,19167,17562,15892,14156,12350,10472,8519,6487,6375,6258,6136,6009,5877,5739,5594,5444,5287,5123,4953,4775,4589,4396,4195,3985,3767,3539,3303,3056,2800,2533,2256,1968,1669,1359,1037,703,358,0,0,"","","","",null,null,334.951032452342,1238.23146272332,2164.08955673295,3113.08854095273,3085.80542509262,3811.09181999096,4554.45294014436,5316.33360820507,6097.18895265554,6897.48789768916,7717.71771249724,8558.38265136443,9419.99440107001,10303.0891278175,11208.2070122253,12135.9100370554,13086.7636545525,14061.3479032119,15060.2618664401,16084.1164370641,16238.5505690406,16396.8436443798,16559.083704759,16725.3697272056,16895.8044278703,17070.4885500263,17249.5305670281,17433.0436910922,17621.1460879458,17813.9611012688,18011.6174874556,18214.2496612565,18421.9963720184,18635.0031523493,18853.4214984744,19077.4100830444,19307.1353697651,19542.7753312722,19784.5184654192,20032.5663746287,20287.1357063183,20548.4596653784,20816.790297628,21092.3996359753,21375.5795805576,21666.6437060508,21965.92862513,22273.7931720295,22590.6238248161,22916.8318367524,23252.8568680794,23599.1652204248,23956.2621834489,24323.5309919637,24700.3736233891,24963.6682618462,25233.7999851548,25510.8566112173,25794.9046984354,26085.9720704675,26384.0386217379,24689.0354085393,22951.2274071301,21169.4942551397,19342.6999364239,17469.7370191762,15549.5177755309,13581.0174264542,11563.2678720038,9495.3918956392,7376.66536258752,7206.54001803967,7033.45000590466,6857.42698106479,6678.42566549522,6496.30776643362,6310.8831958112,6121.9407699602,5929.10791976681,5732.06776465322,5530.48159402671,5323.90338449659,5112.0187504577,4894.53154882737,4671.01940158314,4441.11793672233,4204.5616724517,3960.89660141829,3709.93455759553,3451.07682820138,3184.226833547,2908.82954467172,2624.7074224787,2331.37875809216,2028.55606147272,1715.91232397589,1393.03338486078,1059.87376270441,716.558567303248,362.851011098469,0,0,"","","",""]
["5_20_M",20,5,"M",null,1220,0,329,796,1347,1943,1646,2035,2443,2872,3322,3794,4288,4807,5351,5921,6518,7143,7799,8485,9204,9957,10109,10268,10432,10604,10782,10967,11159,11360,11567,11784,12008,12242,12484,12736,12998,13271,13554,13848,14154,14472,14803,15146,15504,15875,16262,16664,17083,17518,17971,18443,18935,19447,19980,20534,20988,21460,21952,22462,22993,23545,22118,20635,19092,17488,15819,14083,12278,10401,8449,6419,6308,6193,6072,5946,5815,5678,5536,5387,5231,5070,4901,4725,4541,4350,4151,3944,3727,3502,3268,3024,2771,2507,2233,1948,1652,1345,1026,696,354,0,0,"","","","","",null,null,337.073828182185,1240.59500440235,2166.69542718866,3115.93834282882,3088.90132284161,3817.02773516104,4563.29337250605,5328.1439278326,6112.03831646518,6915.45306524651,7738.88125933345,8582.82356956791,9447.80439021687,10334.3523932563,11243.0175173591,12174.3532646911,13128.9273531299,14107.3261053345,15110.1473545463,16138.000816534,16296.3495291083,16458.6448824155,16624.9856406027,16795.4743018377,16970.2111803198,17149.3044128342,17332.8668667944,17521.0163546064,17713.875857807,17911.5737615017,18114.2440996613,18322.0251283586,18535.061874116,18753.5052111349,18977.5130709357,19207.250951034,19442.8959342486,19684.6353985975,19932.6695897954,20187.2138621682,20448.4998835821,20716.7780133095,20992.3185448783,21275.4116855078,21566.3692595886,21865.5260680136,22173.2391706219,22489.8931000094,22815.8971917399,23151.6891101844,23497.7331813846,23854.5324234954,24221.7844575181,24598.6083062007,24863.1791196294,25134.6188049794,25413.0113151344,25698.4236438047,25990.8840282252,26290.3793485244,24596.8354592421,22860.5180746494,21080.3076817824,19255.0691487945,17383.6958481502,15465.1117883225,13498.283007941,11482.2418482811,9416.11155065385,7299.15052676077,7130.82643332295,6959.55039660694,6785.37693096943,6608.26564872685,6428.086073041,6244.65941494885,6057.68088592495,5866.88151373944,5671.96495948867,5472.4579462423,5268.07114603189,5058.42379906451,4843.22850090662,4622.07501302263,4394.61615882893,4160.45336060378,3919.45235663729,3671.14578679339,3415.13676685905,3151.16834593559,2878.687239784,2597.5201180379,2307.19382319027,2007.43714037936,1697.95348907304,1378.38600502921,1048.79953700575,708.912145768426,359.025331338307,0,0,"","","","",""]
["6_20_M",20,6,"M",null,1206,0,330,797,1348,1946,1649,2042,2454,2887,3340,3816,4316,4839,5388,5963,6565,7196,7858,8550,9275,10035,10193,10358,10529,10707,10892,11084,11284,11492,11707,11932,12165,12407,12659,12921,13193,13475,13769,14075,14392,14723,15066,15423,15794,16180,16582,16999,17434,17887,18358,18849,19360,19892,20445,20900,21373,21865,22377,22908,23461,22035,20553,19011,17407,15740,14005,12201,10325,8374,6346,6236,6121,6002,5878,5748,5613,5472,5325,5171,5011,4845,4671,4489,4300,4103,3898,3685,3462,3231,2990,2739,2478,2207,1925,1633,1329,1014,688,350,0,0,"","","","","","",null,null,339.006775654791,1242.46298077981,2168.49270877035,3117.6593012004,3090.54089713167,3821.370503918,4570.39991842753,5338.07818025893,6124.87118820121,6931.26096338754,7757.73729122668,8604.81289172793,9473.00506354632,10362.8518150728,11274.8948521219,12209.6897303583,13167.8101617104,14149.8410872521,15156.3789563318,16188.0360848091,16350.388730377,16516.7861219235,16687.3305210931,16862.1217779732,17041.2676648724,17224.8806757819,17413.0782404288,17605.9829480838,17803.7227816476,18006.4313625705,18214.2464130413,18427.3124117869,18645.7795601118,18869.8049881061,19099.5531490636,19335.2001637681,19576.9322000253,19824.9480377326,20079.4616337795,20340.7029953281,20608.9206594478,20884.3830402068,21167.3785151794,21458.2170169407,21757.2313879266,22064.7767695142,22381.235590971,22707.0151141234,23042.5508449056,23388.3049724128,23744.7780582061,24112.0091981478,24488.8097576035,24754.7522534765,25027.5932275882,25307.4222241587,25594.2966587616,25888.256253901,26189.2831244391,24497.3038767565,22762.5851018356,20984.0082986289,19160.4486444989,17290.7823587842,15373.9432004974,13408.8977773454,11394.678807742,9330.40990700522,7215.33196660012,7048.92855935605,6879.63777329279,6707.46976960685,6532.3803457258,6354.27587150418,6172.94339732304,5988.13176757081,5799.5302068477,5606.84584800498,5409.69101095323,5207.63148606083,5000.36917431263,4787.62985149932,4569.0214231008,4344.22222110614,4112.87015614448,3874.53177016594,3629.05056497423,3375.87704963308,3114.74571578313,2845.36740152494,2567.40160285137,2280.42029316742,1984.23105084261,1678.23761314308,1362.49564864869,1036.77441103154,700.802359630198,354.905368519671,0,0,"","","","","",""]
["7_20_M",20,7,"M",null,1191,0,330,798,1350,1948,1652,2048,2464,2901,3359,3839,4343,4871,5424,6004,6612,7249,7917,8615,9347,10114,10278,10449,10627,10811,11003,11203,11410,11626,11850,12083,12325,12576,12838,13109,13392,13685,13990,14307,14637,14980,15336,15707,16092,16493,16910,17344,17796,18266,18756,19267,19798,20351,20807,21280,21773,22285,22817,23371,21946,20465,18924,17321,15655,13921,12119,10244,8294,6267,6158,6046,5928,5805,5677,5544,5404,5259,5107,4949,4785,4613,4434,4247,4053,3850,3639,3419,3191,2953,2705,2448,2180,1902,1613,1313,1002,680,346,0,0,"","","","","","","",null,null,340.764386625124,1243.8616435054,2169.51975913673,3118.30222642618,3090.78773995783,3824.19582557635,4575.86296431022,5346.24455172676,6135.81166051779,6945.04333243099,7774.44072148516,8624.50990007221,9495.7770714238,10388.7723113766,11304.0391848224,12242.1389559882,13203.6438549984,14189.1372657388,15199.2179645735,16234.4932800867,16400.9537141842,16571.5602584874,16746.4122678979,16925.6171262761,17109.2869296599,17297.5386999906,17490.4946085699,17688.2822097718,17891.034685565,18098.8891888445,18311.9896142549,18530.4854452318,18754.5329565526,18984.2954864935,19219.9481289405,19461.6757593722,19709.67559202,19964.1600915039,20225.3574912281,20493.5143819541,20768.8971704636,21051.7922806429,21342.5076251672,21641.3739555941,21948.744365548,22264.9990391178,22590.5430249799,22925.8095256957,23271.2584503751,23627.3877391005,23994.6012820411,24371.3774231344,24638.7900813078,24913.1376624978,25194.5060125095,25482.9587198126,25778.5312306404,26081.2064261996,24390.9118423325,22657.9151529855,20881.0991074742,19059.3402229003,17191.5160367755,15276.5614908804,13313.4318373026,11301.1711323635,9238.90364508079,7125.87138814605,6961.56009769949,6794.36202705914,6624.33226262164,6451.43409999792,6275.54486388418,6096.45140550044,5913.95809880464,5727.7148479851,5537.43545007404,5342.74132670464,5143.21043030509,4938.56097644702,4728.42695783701,4512.52921955489,4290.43657278575,4061.9314909033,3826.63088568198,3584.2561658454,3334.27552726533,3076.45174570741,2810.5415223525,2535.96963315118,2252.59009130253,1959.9402513596,1657.79878290014,1345.95043085651,1024.17595528511,692.229208888567,350.491122642561,0,0,"","","","","","",""]
["8_20_M",20,8,"M",null,1176,0,331,799,1352,1951,1656,2056,2476,2916,3379,3864,4372,4905,5464,6050,6664,7307,7980,8686,9425,10198,10369,10546,10731,10923,11122,11329,11544,11768,12001,12242,12493,12754,13026,13308,13601,13905,14222,14551,14893,15249,15619,16004,16404,16821,17254,17705,18175,18664,19173,19704,20256,20712,21187,21680,22193,22727,23281,21857,20377,18837,17235,15570,13837,12036,10162,8214,6188,6081,5969,5853,5732,5605,5473,5336,5192,5043,4887,4724,4554,4377,4193,4001,3801,3593,3376,3150,2915,2671,2416,2152,1877,1592,1296,989,671,341,0,0,"","","","","","","","",null,null,342.745559982299,1245.64352371919,2171.09422579851,3119.66164221173,3091.92432642323,3828.08844027706,4582.57969822471,5355.85853468729,6148.39359507272,6960.67477411606,7793.19727922885,8646.47584367635,9521.02930884356,10417.3896565023,11336.1061037252,12277.7386010381,13242.8579324937,14232.0498169492,15245.9080911024,16285.0503760955,16455.7172665273,16630.6281819703,16809.8901163072,16993.6147660341,17181.9187436548,17374.9238007845,17572.7570614854,17775.5512663873,17983.4429970708,18196.5755619907,18415.0977244213,18639.1649013333,18868.9393131735,19104.5950240724,19346.315613971,19594.2967278363,19848.749334323,20109.8998889481,20377.9930316771,20653.293157244,20936.0847309184,21226.6736402512,21525.3885403833,21832.5804714448,22148.6273661259,22473.9320534929,22808.9254258835,23154.0651053032,23509.8464025052,23876.8074703752,24253.5520318523,24522.4320680928,24798.2744607481,25081.1749816211,25371.1932620206,25668.3593778436,25972.6687673966,24284.043998374,22552.7537594687,20777.6819736757,18957.7064073782,17091.7058028995,15178.6161346148,13217.3934746477,11207.0825711337,9146.79267044425,7035.77981946897,6873.51007839926,6708.42032059236,6540.52170376249,6369.7744494346,6196.09385616044,6019.28133387877,5839.05198031802,5655.16488999783,5467.21912060795,5274.89980861528,5077.88405087715,4875.83330215493,4668.40306939244,4455.2169046648,4235.97579652998,4010.35077109714,3777.95738415116,3538.51590239155,3291.71382229386,3037.18046274534,2774.44034791182,2503.45051690006,2223.61046789421,1934.79897229261,1636.54940283031,1328.66320347137,1010.95544275123,683.250387724295,346.07687676545,0,0,"","","","","","","",""]
["9_20_M",20,9,"M",null,1161,0,331,800,1355,1955,1661,2065,2489,2934,3401,3891,4404,4943,5507,6099,6719,7368,8049,8761,9508,10289,10466,10650,10842,11041,11248,11463,11686,11918,12160,12411,12671,12942,13224,13517,13821,14137,14466,14807,15163,15532,15916,16316,16732,17165,17615,18084,18572,19080,19610,20161,20619,21094,21588,22102,22636,23191,21768,20289,18750,17149,15485,13753,11953,10081,8134,6109,6003,5893,5778,5659,5534,5404,5268,5126,4978,4824,4664,4496,4322,4140,3950,3753,3547,3333,3110,2878,2637,2386,2125,1853,1572,1280,976,662,337,0,0,"","","","","","","","","",null,null,344.970285299616,1247.84358472126,2173.2665106195,3121.80291694607,3094.03234740607,3833.14983080913,4590.67013051053,5367.05183971059,6162.7738995175,6978.32101037101,7814.19676890592,8670.90917343602,9548.97902599654,10448.9438934244,11371.3518734998,12316.7616106595,13285.7462426523,14278.8866506487,15296.7868548447,16340.0676398715,16515.0423706256,16694.3664205347,16878.1510907775,17066.5125888117,17259.5722511316,17457.4567762345,17660.2984683487,17868.2333431123,18081.4041283941,18299.958873402,18524.0521439304,18753.8450500725,18989.5106338012,19231.2311880557,19479.2007981051,19733.6289464656,19994.7403217446,20262.7776250452,20538.0032517113,20820.6997215004,21111.1709107289,21409.743392846,21716.7661697531,22032.614939278,22357.6903280534,22692.4209364069,23037.2621181681,23392.7065756322,23759.2894952653,24136.0105125021,24406.357495514,24683.7031458431,24968.1395261386,25259.7268827197,25558.5019206705,25864.4554470093,24177.5109407786,22447.9381534165,20674.6222355535,18856.4422665012,16992.2782731575,15081.0673681562,13121.7665871651,11113.4076585656,9055.11231157065,6946.13757876342,6785.95150829756,6622.96983176895,6457.22923339595,6288.66394946446,6117.18775798649,5942.60151755046,5764.67542686646,5583.12872964779,5397.63769962931,5207.84145886753,5013.34163433699,4813.8882203297,4609.04412405778,4398.54471153416,4182.12135548616,3959.33060071626,3729.95842037024,3493.60143121874,3249.96247188749,2998.69552972154,2739.36528125041,2471.68482122326,2195.32038443696,1910.24618404411,1615.72522864778,1311.5298705419,997.979416501451,674.677236982662,341.66263088834,0,0,"","","","","","","","",""]
["10_20_M",20,10,"M",null,1146,0,332,802,1358,1959,1667,2075,2503,2953,3425,3920,4439,4983,5554,6151,6778,7434,8122,8842,9596,10386,10570,10761,10960,11167,11381,11604,11836,12077,12328,12588,12859,13140,13432,13736,14052,14380,14721,15076,15445,15829,16228,16643,17075,17524,17992,18480,18987,19516,20067,20525,21001,21495,22010,22545,23101,21679,20201,18663,17063,15400,13670,11870,9999,8053,6030,5926,5817,5704,5586,5462,5334,5200,5060,4914,4762,4603,4438,4266,4086,3899,3704,3501,3290,3070,2841,2603,2355,2097,1830,1552,1263,964,654,332,0,0,"","","","","","","","","","",null,null,347.451481058712,1250.47009902966,2176.03935045794,3124.72404814614,3097.10595063767,3839.37026622856,4600.11400635282,5379.80544878692,6178.91912661162,6997.94781627412,7837.38904417539,8697.75281515613,9579.56542234105,10483.3635155676,11409.6940359888,12359.1179919224,13332.2038173271,14329.5424194132,15351.7409849181,16399.4164980022,16578.8016452322,16762.645290552,16951.0632354857,17144.1764004845,17342.1110575217,17544.9990734262,17752.9758968086,17966.1836738192,18184.7697383679,18408.8878037336,18638.6978681451,18874.3719498825,19116.0910531586,19364.0477016117,19618.4498896341,19879.5205367055,20147.5004026555,20422.6498808803,20705.2495429777,20995.6012512228,21294.0294943984,21600.8812330925,21916.5299269295,22241.3739966378,22575.8397468551,22920.3802594104,23275.4856239242,23641.6880557939,24018.3790171523,24290.1946928208,24569.0409716667,24855.015591033,25148.1748609043,25448.5561581235,25756.1510285821,24070.8838505927,22343.0254248568,20571.4621144856,18755.0742938426,16892.7432519969,14983.3960655603,13026.0125643469,11019.614549039,8963.32472911556,6856.3834551253,6698.25462318535,6537.37408131108,6373.75421714495,6207.35995903436,6038.11587428952,5865.79100064796,5690.1576929828,5510.93892118306,5327.81649159454,5140.43717725335,4948.50357329909,4751.60967832057,4549.41864193712,4341.69191744068,4128.05593008539,3908.21828985024,3681.84857923807,3448.55122018437,3208.04174286019,2959.99471560436,2704.0085114203,2439.85225322749,2167.28683932949,1885.66629433794,1594.86119251755,1294.83075829406,985.136474470912,665.69841581839,337.24838501123,0,0,"","","","","","","","","",""]
["11_20_M",20,11,"M",null,1130,0,333,804,1360,1963,1672,2085,2518,2972,3449,3949,4474,5024,5600,6205,6838,7501,8196,8924,9686,10484,10675,10874,11080,11294,11517,11749,11989,12240,12500,12770,13051,13342,13646,13961,14289,14629,14984,15352,15735,16133,16548,16979,17428,17895,18382,18888,19416,19966,20424,20901,21397,21912,22448,23005,21584,20107,18570,16971,15309,13580,11782,9912,7968,5946,5843,5736,5624,5508,5386,5259,5127,4989,4846,4696,4539,4376,4206,4029,3845,3653,3452,3244,3027,2801,2566,2322,2068,1804,1530,1246,951,645,328,0,0,"","","","","","","","","","","",null,null,349.794328796637,1252.68072912142,2178.11247278402,3126.65625683636,3098.89512383835,3844.20136257082,4608.0678002838,5390.95893585343,6193.35683926087,7015.74871543449,7858.63392704326,8722.52764111571,9607.95522341798,10515.4520933451,11445.5673175805,12398.857103465,13375.8994480353,14377.2881500721,15403.6263355043,16455.5380681413,16639.4447606017,16827.9230597237,17021.0934423027,17219.0817254821,17422.0193096655,17630.0410387796,17843.2884386272,18061.9080802992,18286.0527679042,18515.8813138853,18751.5646447898,18993.2823904207,19241.2254089363,19495.6001076633,19756.6275193097,20024.5463333371,20299.6148080745,20582.1114374379,20872.335935769,21170.6105686058,21477.2801195494,21792.7156612559,22117.3132619553,22451.4967780436,22795.7168683963,23150.4608363465,23516.2577287767,23892.9199492217,24166.3058817367,24446.7571646808,24734.3671051528,25029.2028649072,25331.297627354,25640.6438008964,23957.16681126,22231.1386817591,20461.4471894458,18646.9742326145,16786.6026209085,14879.260836959,12923.9176143323,10919.6064177371,8865.43522908082,6760.65886679399,6604.7434332168,6446.10405561109,6284.77935826993,6120.70937112871,5953.81868431807,5783.92500589277,5610.76799889627,5434.07833556129,5253.47719811281,5068.67976020379,4879.40312165898,4685.26062652464,4485.94121605562,4281.1148137705,4070.40651149008,3853.52270312039,3630.30813594195,3400.25055403213,3163.09131440696,2918.54580764202,2666.27808996223,2405.85467788101,2137.02316420733,1859.5088609797,1572.98969263478,1277.04256395293,971.58711844892,656.661900473353,332.539856075645,0,0,"","","","","","","","","","",""]
["12_20_M",20,12,"M",null,1113,0,333,805,1363,1967,1677,2094,2532,2991,3473,3979,4509,5065,5648,6258,6898,7569,8271,9007,9777,10584,10782,10988,11202,11425,11656,11896,12146,12405,12675,12956,13247,13550,13865,14192,14532,14885,15253,15636,16033,16447,16877,17325,17792,18277,18783,19310,19858,20318,20796,21292,21808,22345,22903,21484,20007,18471,16874,15213,13485,11689,9820,7877,5856,5755,5650,5540,5425,5305,5180,5050,4914,4773,4625,4471,4311,4143,3969,3787,3598,3401,3195,2982,2759,2528,2287,2037,1777,1507,1227,936,635,323,0,0,"","","","","","","","","","","","",null,null,352.011134488159,1254.49498841827,2179.51370552621,3127.63508055499,3099.44045211574,3847.69682098749,4614.58586471814,5400.57906635608,6206.15346619729,7031.79794635878,7878.01670200359,8745.32398568308,9634.2438839695,10545.3137173823,11479.0776956469,12436.1011167306,13416.9646099843,14422.2576978042,15452.5901969582,16508.5897090203,16697.1332942835,16890.3656616862,17088.4121461511,17291.4036535828,17499.4743866041,17712.7652131217,17931.4218950619,18155.5962719873,18385.4458980754,18621.140541566,18862.858373815,19110.7884854966,19365.1355998254,19626.1187472107,19893.9744199531,20168.9586106359,20451.347608499,20741.4388487364,21039.552237903,21346.030249884,21661.2414247913,21985.5793350748,22319.4652398497,22663.3472277349,23017.70964619,23383.0781805719,23759.7152958237,24034.766672508,24316.9201082735,24606.2747607488,24902.8940573554,25206.812076742,25518.0222241329,23836.444007941,22112.3648756137,20344.6673309175,18532.2257989821,16673.9329265957,14768.7187171988,12815.5409126798,10813.4447527711,8761.53946490018,6659.08185187125,6505.52023435028,6349.26718825882,6190.35929110883,6028.77009569824,5864.39838854792,5697.06602441089,5526.51934132851,5352.49858381722,5174.63795058001,4992.66985818085,4806.24339102923,4614.96850984292,4418.64351981928,4216.84993254603,4009.35725508588,3795.77769116906,3575.80333759378,3349.27022849012,3115.60335184487,2874.72960847063,2626.11799572532,2369.61706849057,2104.77466051664,1831.33898874887,1549.03069626608,1257.50704918311,956.84237586726,646.756350102271,327.537044081587,0,0,"","","","","","","","","","","",""]
["13_20_M",20,13,"M",null,1097,0,334,808,1367,1973,1684,2106,2549,3014,3502,4013,4550,5112,5702,6320,6967,7646,8356,9100,9880,10695,10901,11115,11337,11568,11808,12058,12317,12586,12866,13157,13459,13774,14100,14440,14793,15160,15542,15939,16352,16782,17229,17694,18179,18684,19209,19757,20218,20696,21193,21711,22248,22807,21388,19913,18378,16782,15122,13396,11600,9733,7791,5772,5672,5568,5460,5347,5229,5106,4977,4843,4704,4558,4406,4248,4083,3911,3732,3546,3351,3149,2938,2719,2491,2254,2007,1751,1485,1209,923,626,318,0,0,"","","","","","","","","","","","","",null,null,354.911036553265,1257.62921636006,2182.8887813205,3131.25640913723,3103.31671787606,3855.02615530484,4625.45800817709,5415.07970797629,6224.37022917386,7053.82336511801,7903.94286160391,8775.24212001402,9668.24738525076,10583.4916125938,11521.5281254407,12482.9251342629,13468.2593907275,14478.127304943,15513.1425038724,16573.9367953943,16767.2249428989,16965.3235769696,17168.3631357853,17376.4772158696,17589.8060633054,17808.4946755945,18032.6939813824,18262.5603470916,18498.2624472276,18739.9770764876,18987.8916575458,19242.2093239623,19503.1472164831,19770.939753897,20045.8407903853,20328.1245340543,20618.0862685053,20916.043673169,21222.3370409227,21537.3325205536,21861.4213274883,22195.0222678019,22538.5810021734,22892.5790862771,23257.5390308937,23634.0479413833,23910.6590451044,24194.4109644907,24485.3992583873,24783.6825489216,25089.3065864411,25402.2602267968,23722.4711166338,22000.213873229,20234.3792753098,18423.8432232962,16567.4998235935,14664.2692603084,12713.1323199326,10713.1107217267,8663.32651891673,6563.01976239731,6411.65585148157,6257.65114488905,6101.01948652112,5941.73268168572,5779.68885246963,5614.71055235529,5446.60092258102,5275.06258171506,5099.73858457305,4920.37325830569,4736.63146660941,4548.14420971214,4354.62429709292,4155.77474369166,3951.26743337014,3740.71815020057,3524.00109220469,3300.64905522384,3070.47307267247,2833.05147222858,2588.08845435943,2335.21889484851,2074.3076421519,1804.89246516747,1526.73399049601,1239.56496038632,943.04853356116,637.314164334594,322.828515146003,0,0,"","","","","","","","","","","","",""]
["14_20_M",20,14,"M",null,1080,0,335,810,1371,1978,1692,2119,2567,3037,3531,4048,4591,5160,5757,6382,7037,7723,8442,9195,9984,10809,11023,11245,11475,11715,11964,12223,12492,12771,13062,13364,13677,14004,14343,14695,15061,15443,15839,16251,16680,17126,17591,18075,18578,19103,19650,20111,20590,21089,21607,22145,22705,21288,19813,18279,16684,15026,13300,11506,9641,7700,5682,5584,5482,5375,5264,5148,5026,4900,4768,4631,4488,4338,4182,4020,3851,3674,3491,3299,3100,2893,2677,2452,2219,1976,1724,1462,1190,908,616,313,0,0,"","","","","","","","","","","","","","",null,null,357.687432391576,1260.39220614441,2185.6370982831,3133.99175619742,3106.03846657321,3861.12964732505,4635.02497092087,5428.19366106602,6241.11925968172,7074.29517167599,7928.2242959907,8803.42199099645,9700.41017781251,10619.7304094843,11561.9386890193,12527.599242541,13517.2953154559,14531.6268115064,15571.2112317613,16636.6846588346,16834.8462871717,17037.9446932244,17246.1128368064,17459.4903108965,17678.2213090439,17902.4558010183,18132.3489013691,18368.0681327917,18609.7888388354,18857.6966828712,19111.9931227503,19372.8933063073,19640.6294653751,19915.4531992133,20197.6365224581,20487.4724514411,20785.2763192019,21091.386121956,21406.1654900873,21730.0031579305,22063.3153498551,22406.5451724704,22760.1712434247,23124.7127316475,23500.7522883044,23779.0305519323,24064.4867035588,24357.2119547845,24657.2758750151,24964.7201265425,25279.5345494807,23601.6408593602,21881.3290821851,20117.4847060795,18308.9853798498,16454.7168632274,14553.6209094593,12604.6577795904,10606.8473945814,8559.32492256255,6461.33231641294,6312.31708717836,6160.6929080328,6006.50074870745,5849.68881978371,5690.15707036595,5527.7791185496,5362.27400330365,5193.3976569484,5020.8058933884,4844.1793662124,4663.26625052719,4477.72197065325,4287.17825758375,4091.33876373002,3890.01829344114,3682.73631764087,3469.3874781534,3249.53551376069,3022.81888090734,2789.02340604643,2547.92836012251,2298.98128545807,2042.05913846122,1776.72259293665,1502.77499412731,1220.02944561649,928.3037909795,627.408613963513,317.825703151944,0,0,"","","","","","","","","","","","","",""]
["15_20_M",20,15,"M",null,1062,0,336,812,1374,1984,1698,2131,2584,3060,3560,4083,4633,5209,5812,6445,7108,7803,8530,9292,10090,10925,11147,11377,11616,11865,12123,12392,12671,12961,13262,13575,13901,14239,14591,14957,15337,15733,16145,16573,17018,17482,17964,18467,18991,19537,19998,20479,20978,21497,22037,22598,21181,19707,18175,16581,14924,13200,11407,9543,7604,5588,5491,5391,5286,5176,5062,4943,4819,4689,4554,4413,4266,4113,3953,3787,3613,3433,3245,3049,2845,2632,2412,2182,1943,1695,1438,1170,893,606,308,0,0,"","","","","","","","","","","","","","","",null,null,360.372697334455,1262.81154953279,2187.78542584913,3135.861731774,3107.6246633322,3866.016662305,4643.29229460496,5439.92499897704,6256.39800313493,7093.20388409859,7950.84730048029,8829.8393571403,9730.71003849018,10654.003348898,11600.2712314293,12570.0840059318,13564.0281013855,14582.7069702286,15626.7420467718,16696.7737518234,16899.9365124494,17108.1640018065,17321.5951233421,17540.3732215274,17764.6472532072,17994.5710100742,18230.3107979597,18472.0404269358,18719.9437009807,18974.2203071571,19235.0832870581,19502.762561156,19777.507345643,20059.5873373136,20349.2931567954,20646.9376579457,20952.8564106439,21267.410384604,21590.985693225,21923.9958337765,22266.8812152837,22620.1173519588,22984.2198824748,23359.7667515579,23639.8133985575,23927.072770868,24221.6462894727,24523.5998915399,24832.9702296414,25149.7535729367,23473.8800393241,21755.6349004343,19993.8970179869,18187.5534459454,16335.4918598191,14436.6447003891,12489.9834869232,10494.5296443455,8449.40441637082,6353.84713790185,6207.32355098441,6058.22794115779,5906.60020249983,5752.4234714024,5595.57381694997,5435.88440015653,5273.12020426684,5107.04848310347,4937.34033666002,4763.69656969617,4585.80108115666,4403.3107897881,4215.97326417032,4023.41255030418,3825.45861621338,3621.65303017043,3411.74689906789,3195.46887395706,2972.5060368081,2742.72016315255,2505.45879328441,2260.66462089884,2008.04763856341,1747.24747619141,1477.76867205837,1199.83906943501,912.985718625624,617.039698989026,312.528608099412,0,0,"","","","","","","","","","","","","","",""]
["16_20_M",20,16,"M",null,1044,0,337,815,1379,1990,1707,2144,2603,3085,3591,4121,4678,5261,5872,6513,7184,7887,8624,9395,10203,11049,11279,11517,11766,12024,12292,12570,12860,13161,13473,13798,14136,14488,14853,15232,15627,16038,16465,16910,17372,17854,18356,18878,19423,19886,20367,20867,21387,21928,22490,21074,19602,18071,16478,14822,13099,11308,9445,7508,5493,5398,5299,5196,5088,4976,4859,4737,4610,4477,4338,4194,4043,3886,3723,3552,3375,3190,2997,2797,2588,2371,2145,1911,1667,1414,1151,878,596,303,0,0,"","","","","","","","","","","","","","","","",null,null,363.378228995891,1265.75202409816,2190.6585249899,3138.66708490337,3110.35938047067,3872.26969098206,4653.15068447103,5453.47577503004,6273.72760811193,7114.40054668819,7975.99533124761,8859.0308141707,9764.03945343331,10691.5614148102,11642.1546009215,12616.3924946543,13614.8650497192,14638.179624198,15686.961959146,16761.8572044404,16970.1422147754,17183.6251083249,17402.4483786019,17626.7599674817,17856.7123414945,18092.4705872643,18334.2069787535,18582.1034575968,18836.3579370379,19097.1813490424,19364.8012990418,19639.464616257,19921.4386755993,20211.0116977081,20508.4940527172,20814.2188794618,21128.5444818858,21451.854347155,21784.5592398218,22127.0968654895,22479.939628497,22843.5996301651,23218.6501003023,23500.4568736036,23789.5200534623,24085.9376500967,24389.7765568798,24701.0744179719,25019.8286108594,23345.9705955335,21629.7794475239,19870.1426448029,18065.9491001846,16216.088367756,14319.4946711535,12375.1288500282,10382.0245021145,8339.28883171179,6246.17663197133,6102.13607076928,5955.58420348201,5806.54044434653,5654.98936549095,5500.81067259768,5343.84384992021,5183.86338535016,5020.58719166489,4853.75177528689,4683.07765776568,4508.18389413956,4328.82979338229,4144.68867902163,3955.39453598212,3760.79169397015,3560.44267955241,3354.12958103699,3141.62750079554,2922.47428444376,2696.52869959389,2463.41155245814,2222.91355921689,1974.46686177998,1717.99289401433,1453.0867213767,1179.64869325353,897.667646271748,606.67078401454,307.231513046879,0,0,"","","","","","","","","","","","","","","",""]
["17_20_M",20,17,"M",null,1025,0,338,817,1383,1996,1715,2158,2623,3111,3623,4160,4723,5314,5933,6582,7261,7974,8719,9501,10318,11175,11413,11661,11919,12186,12464,12753,13054,13366,13690,14027,14378,14742,15121,15515,15925,16352,16795,17257,17738,18238,18760,19303,19767,20249,20750,21271,21813,22376,20961,19490,17960,16369,14714,12993,11203,9342,7406,5393,5300,5203,5102,4996,4886,4771,4651,4526,4395,4259,4118,3970,3816,3655,3488,3313,3132,2943,2746,2541,2328,2106,1876,1636,1388,1130,862,585,297,0,0,"","","","","","","","","","","","","","","","","",null,null,366.319736215839,1268.3835504236,2192.97325342862,3140.65573333353,3112.01249003472,3877.37045971503,4661.7822021096,5465.72060653112,6289.66992182024,7134.12073547106,7999.58096386967,8886.5717215473,9795.62163227005,10727.2764136556,11682.0968437795,12660.6596283581,13663.5583098431,14691.4042204365,15744.8274811517,16824.4748281456,17038.012942635,17256.8844833039,17481.2363212952,17711.2195250605,17946.9978949983,18188.7420844259,18436.632070072,18690.863893741,18951.6462616039,19219.2043365614,19493.7824294461,19775.6454655263,20065.0791334294,20362.3911829673,20667.9121883109,20981.9976410931,21305.0282579624,21637.4119206517,21979.5834829349,22332.0120684729,22695.2060468811,23069.7336736998,23353.40295613,23644.3704318599,23942.7350573382,24248.5647821625,24561.8983526865,24882.7343824077,23211.0058260008,21496.9935048264,19739.5869187432,17937.6679533588,16090.1365019235,14195.9177395688,12253.9840788305,10263.3571159641,8223.15791537305,6132.62600979774,5991.20760460357,5847.31827806884,5700.97710425103,5552.17017230592,5400.78119289329,5246.65666663272,5089.58163692939,4929.28864500723,4765.53370385879,4597.9823093106,4426.25731253829,4250.12362438096,4069.26221257107,3883.44462075178,3692.29826308333,3495.67738707893,3293.11575660138,3084.38062405554,2869.21936041819,2647.34255264138,2418.39242018826,2182.19629359307,1938.2492684967,1686.58258773886,1426.54689516789,1158.06144606744,881.154187358202,595.432834014008,301.640134935873,0,0,"","","","","","","","","","","","","","","","",""]
["18_20_M",20,18,"M",null,1236,0,338,816,1381,1994,1712,2115,2538,2982,3448,3937,4449,4986,5548,6138,6756,7403,8080,8790,9532,10310,10471,10638,10811,10992,11179,11373,11574,11783,12000,12225,12459,12702,12954,13215,13487,13769,14062,14367,14683,15012,15354,15586,15827,16077,16337,16607,16888,17181,17485,17802,18133,18477,18837,19214,19608,20017,20442,20884,21342,21817,22309,20819,19269,17656,15978,14232,12417,10529,8566,6527,4407,4205,3995,3776,3548,3311,3064,2807,2540,2262,1973,1673,1362,1040,705,359,0,0,"","","","","","","","","","","","","","","","","","",null,null,338,1234.46735247095,2160.038381984,3108.72535301228,3081.1114008761,3805.31407240643,4547.52282767351,5308.18222900063,6087.74174827142,6886.66640021666,7705.43281648648,8544.52309966566,9404.43456196871,10285.6775483232,11188.7762128939,12114.2693332988,13062.7111642998,14034.6723328548,15030.7368159158,16051.5068076393,16202.7607998654,16357.6858145613,16516.3682278192,16678.9045872171,16845.3919466567,17015.9294428689,17190.6284467263,17369.604584366,17552.9820800969,17740.8973824078,17933.5019939502,18130.9606714492,18333.4522441971,18541.1719519182,18754.3290667375,18973.1507490007,19197.8814424886,19428.7845456407,19666.1416450475,19910.255661181,20161.4550889179,20296.5021348202,20435.7152408451,20579.3403974415,20727.6546962907,20880.9746693941,21039.6614303058,21204.1223075099,21374.8187682991,21552.2751736302,21737.1026003018,21930.0426285341,22132.0394128844,22344.3379068064,22568.6087543892,22800.9636907922,23041.5913697557,23290.8420648317,23548.8364934492,23815.2702480045,24089.2702904793,22369.2145962392,20605.1314391652,18794.9336192775,16936.5059305956,15027.8692829702,13067.1569456617,11052.9393232762,8984.22494713189,6860.53074960179,4682.54476432522,4452.14016463636,4215.00035913582,3970.81399616679,3719.22755523336,3459.81405084166,3192.269118303,2916.2398444108,2631.27955102853,2337.12933301069,2033.5198441668,1720.15544441463,1396.67854325008,1062.59337931185,718.354331536103,363.733860273892,0,0,"","","","","","","","","","","","","","","","","",""]
["19_20_M",20,19,"M",null,1223,0,339,818,1385,1999,1718,2126,2553,3002,3472,3965,4483,5025,5593,6189,6812,7466,8150,8866,9616,10401,10568,10741,10921,11108,11301,11503,11711,11928,12153,12386,12629,12880,13141,13412,13694,13987,14290,14606,14934,15276,15508,15750,16001,16261,16532,16814,17107,17412,17729,18060,18405,18766,19143,19537,19948,20374,20817,21276,21752,22246,20758,19209,17597,15921,14177,12363,10477,8516,6478,4361,4161,3953,3737,3511,3276,3032,2778,2513,2238,1953,1656,1348,1029,698,355,0,0,"","","","","","","","","","","","","","","","","","","",null,null,339,1236.81882749942,2162.75890378872,3111.82375940143,3084.59597097556,3811.78119405648,4557.04046410944,5320.81428969462,6103.55783231488,6905.73750081753,7727.82517673524,8570.30728034386,9433.68279464603,10318.4640206868,11225.1773695889,12154.3641930351,13106.5816540339,14082.3997408139,15082.4059851375,16107.2027109277,16262.2595681931,16421.0703709735,16583.7309100886,16750.3372690806,16920.9873955035,17095.7915392269,17274.8639815969,17458.327469361,17646.3169332864,17838.9824125935,18036.4871569556,18239.0084417535,18446.7399996452,18659.8894468647,18878.6823268544,19103.3614064811,19334.1884400771,19571.4431082205,19815.4261514325,20066.4631072111,20202.6126094526,20342.9279144021,20487.6521968355,20637.0594807352,20791.4626015408,20951.2185346805,21116.7303915855,21288.4551483286,21466.9122953739,21652.7069274323,21846.5723602982,22049.4405887453,22262.5388676711,22487.5130474464,22721.5949827132,22963.984331058,23215.0319903694,23474.8604620929,23743.168933441,24019.0559356713,22300.8945099309,20538.7549673202,18730.5633062422,16874.159343553,14967.5634076335,13008.9891694276,10996.9461179744,8930.4484397432,6809.13434006255,4633.49269272174,4405.51258764855,4170.90083370867,3929.20416190558,3680.23606410223,3423.62103145617,3158.8882236568,2885.67683068798,2603.83921001966,2312.9443981088,2012.40092307343,1702.19660951178,1382.03116341851,1051.5191536132,710.70791000128,359.908180513729,0,0,"","","","","","","","","","","","","","","","","","",""]
["20_20_M",20,20,"M",null,1208,0,339,820,1387,2002,1723,2134,2565,3018,3493,3991,4513,5061,5634,6235,6865,7524,8215,8938,9695,10487,10660,10839,11026,11219,11420,11628,11845,12069,12302,12544,12795,13056,13326,13607,13899,14202,14517,14845,15185,15419,15661,15912,16174,16445,16727,17021,17327,17645,17976,18322,18683,19061,19456,19867,20295,20739,21200,21677,22173,20686,19139,17529,15854,14112,12300,10416,8458,6422,4307,4110,3905,3691,3468,3236,2994,2743,2482,2210,1928,1635,1331,1016,689,350,0,0,"","","","","","","","","","","","","","","","","","","","",null,null,339,1237.84490781878,2163.41597457037,3112.10105290995,3084.48157269682,3814.24970300667,4562.14465713481,5328.61170074832,6114.10697550446,6919.09211077687,7744.04259416821,8589.44600386852,9455.80274266001,10343.6268076636,11253.4465975035,12185.8057586677,13141.2602421809,14120.3828659082,15123.7605563709,16151.9954835173,16310.9503648155,16473.7500070141,16640.4893687651,16811.2650196163,16986.1859099341,17165.3647626371,17348.922612261,17536.9926305782,17729.7231601817,17927.2757033042,18129.825733303,18337.5652345331,18550.6999024237,18769.4534042048,18994.0665606505,19224.7992174145,19461.9288430053,19705.7536484784,19956.5957420795,20094.0096159518,20235.5886752091,20381.5728200802,20532.2325062038,20687.876270516,20848.8562759546,21015.5707266528,21188.4713702212,21368.0720252944,21554.9708227983,21749.8914657348,21953.7518164653,22167.7585700893,22393.5287806094,22629.6084020292,22874.0225618151,23127.13903559,23389.0587947196,23659.5060741685,23937.5528400532,22221.6103855199,20461.7167739023,18655.7996402422,16801.7644180703,14897.5883840431,12941.4952639116,10932.0079623608,8868.05700012945,6749.38015140788,4576.49144885352,4351.27373803248,4119.42521872806,3880.65713837891,3634.65063936506,3381.03245322204,3119.58268944571,2849.80742699715,2571.32009376854,2283.96477470049,1987.25964400644,1680.94722944195,1364.74393603338,1038.29864107932,701.729088837008,355.493934636619,0,0,"","","","","","","","","","","","","","","","","","","",""]
["21_20_M",20,21,"M",null,1194,0,340,822,1391,2007,1730,2145,2581,3039,3518,4022,4549,5102,5682,6289,6925,7592,8289,9020,9784,10584,10763,10950,11143,11343,11551,11767,11991,12224,12465,12716,12976,13246,13526,13818,14120,14435,14762,15101,15335,15578,15830,16092,16364,16647,16941,17247,17566,17898,18245,18606,18984,19379,19792,20221,20667,21128,21608,22104,20619,19074,17465,15792,14052,12242,10360,8404,6370,4257,4062,3859,3648,3428,3198,2960,2711,2453,2185,1906,1616,1316,1004,681,346,0,0,"","","","","","","","","","","","","","","","","","","","","",null,null,340,1240.12061468694,2165.94305197565,3114.88343660018,3087.52336281313,3820.33590470493,4571.34341621961,5340.99236041902,6129.73476358085,6938.03583768298,7766.37243969855,8615.23378546293,9485.1221983604,10376.5538944571,11290.0598058064,12226.1827075921,13185.4816034869,14168.5289909234,15175.911881281,16208.2293188164,16371.1602876831,16538.0253265829,16708.9197210297,16883.9512106823,17063.2310663423,17246.8787271066,17435.0257258042,17627.8188243926,17825.4178972158,18027.9967389827,18235.7457056572,18448.868703556,18667.5876525566,18892.1415610874,19122.7884975335,19359.8038703973,19603.4835349617,19854.1464048854,19992.7431136383,20135.5045462971,20282.6675560462,20434.4992783435,20591.3042500906,20753.4301560766,20921.2706351385,21095.2725715612,21275.9445089019,21463.8781005304,21659.7881050495,21864.5792310529,22079.4390340462,22305.95775882,22543.8984497541,22790.2135600728,23045.25116445,23309.1566766064,23581.5806545973,23861.6827104572,22147.8163584201,20390.0181070448,18586.2692638789,16734.4335082798,14832.4916502979,12878.6725050661,10871.5059570212,8809.93205545542,6693.70133525583,4523.34539482107,4300.77178050396,4071.71403315508,3835.75870832669,3592.58254219518,3342.0266663931,3083.48370563922,2816.90991474993,2541.76718145929,2257.62196779203,1964.27408903784,1661.55572489925,1348.85357965286,1026.2735151051,693.619302698781,351.373971817983,0,0,"","","","","","","","","","","","","","","","","","","","",""]
["22_20_M",20,22,"M",null,1179,0,341,824,1394,2012,1736,2156,2596,3059,3543,4052,4585,5144,5730,6343,6986,7659,8364,9102,9874,10682,10868,11061,11261,11468,11684,11908,12140,12381,12631,12890,13160,13440,13730,14032,14346,14672,15011,15246,15489,15742,16004,16277,16561,16856,17163,17482,17815,18162,18524,18902,19298,19712,20143,20589,21053,21533,22031,20548,19004,17398,15726,13988,12180,10300,8346,6315,4204,4012,3811,3602,3385,3158,2923,2678,2423,2158,1882,1596,1300,992,673,342,0,0,"","","","","","","","","","","","","","","","","","","","","","",null,null,341,1241.96433767014,2167.76726587469,3116.6851027833,3089.29752403806,3825.06016586284,4579.08311295843,5351.80898666392,6143.69291821394,6955.20124580685,7786.8122086631,8639.01667499756,9512.31890548309,10407.2373538803,11324.3018780549,12264.0579369832,13227.0638935751,14213.8919223687,15225.1254333149,16261.3718502023,16428.3749090804,16599.3999956422,16774.5535570814,16953.9453136347,17137.6930007346,17325.9264012814,17518.7905899913,17716.4437037158,17919.0577456876,18126.8213345012,18339.9364675126,18558.6232006894,18783.1186094128,19013.678866947,19250.5771846733,19494.1069048878,19744.5835316866,19884.4535794533,20028.488107151,20176.9207233658,20330.0150286538,20488.0713001574,20651.4324541534,20820.4872705152,20995.6774590158,21177.5059520294,21366.5575106802,21563.5373704326,21769.3362262341,21985.1212350956,22212.4540648422,22452.3963325401,22700.7390783433,22957.8681530999,23223.865649947,23498.4563693789,23780.7504792098,22069.1002898551,20313.589282928,18512.1093226638,16662.6330892521,14763.0976429175,12811.7409583975,10807.1051578413,8748.14670517048,6634.52448849618,4466.88323370356,4247.02122879844,4020.81695013882,3787.90786185751,3547.84940132265,3300.50158317043,3045.28716088273,2781.93470065137,2510.13521398125,2229.51616467643,1939.98328955484,1641.11689465632,1332.30836186068,1013.67505935867,685.046151957149,346.959725940872,0,0,"","","","","","","","","","","","","","","","","","","","","",""]
["23_20_M",20,23,"M",null,1163,0,342,826,1397,2016,1742,2166,2611,3078,3568,4082,4621,5186,5777,6397,7047,7727,8439,9184,9964,10781,10973,11173,11380,11595,11818,12050,12291,12540,12799,13068,13347,13637,13939,14252,14577,14915,15150,15394,15648,15911,16185,16469,16765,17072,17392,17726,18073,18436,18815,19211,19627,20058,20506,20971,21453,21953,20472,18930,17325,15656,13919,12114,10236,8284,6255,4147,3957,3759,3553,3339,3115,2883,2641,2390,2128,1857,1575,1282,978,663,337,0,0,"","","","","","","","","","","","","","","","","","","","","","","",null,null,342,1243.37748247221,2168.89097023194,3117.5074975864,3089.8083660162,3828.42775171299,4585.36545545516,5361.06672426961,6155.98758174255,6970.5955026019,7805.3701203234,8660.80396929047,9537.40326313144,10435.6852030857,11356.1819751944,12299.4381048504,13266.0112541091,14256.4695668595,15271.4041764772,16311.4199209968,16482.5845552853,16657.8684737868,16837.3797430195,17021.2342814099,17209.5600055181,17402.5001905959,17600.2111204442,17802.8628876791,18010.6422580036,18223.7491928758,18442.4017604331,18666.8349744998,18897.3029872527,19134.0766668905,19377.446675645,19627.7248812901,19768.9534051434,19914.346159005,20064.1332913835,20218.5746331975,20377.965918917,20542.6449796205,20712.995413623,20889.4534127089,21072.5159256662,21262.7603638679,21460.881807241,21667.7560061262,21884.5283635973,22112.730071446,22354.421324731,22604.9434946292,22864.2826668936,23132.5425103255,23409.4254911164,23694.0405132629,21984.739804507,20231.6082472962,18432.5953634716,16585.5747312082,14688.6125916645,12739.8222476061,10737.8245686674,8681.59447457156,6570.81543290379,4406.03896893958,4189.2011806761,3966.07703504532,3736.31407597762,3499.48343134725,3255.46966744162,3003.73439351919,2744.06875309436,2475.95613441917,2199.35106267851,1913.57417780328,1618.43484494665,1313.77815792659,999.503646549227,675.603966189472,342.251197005288,0,0,"","","","","","","","","","","","","","","","","","","","","","",""]
["24_20_M",20,24,"M",null,1147,0,342,828,1401,2021,1749,2178,2628,3100,3596,4115,4660,5231,5829,6455,7112,7799,8519,9272,10061,10886,11085,11292,11507,11730,11961,12201,12450,12708,12977,13255,13545,13845,14158,14482,14819,15055,15300,15554,15818,16093,16378,16674,16982,17303,17637,17986,18349,18729,19125,19541,19974,20424,20890,21374,21876,20395,18855,17252,15585,13851,12047,10172,8222,6196,4090,3903,3708,3504,3293,3073,2843,2605,2357,2099,1831,1553,1264,965,654,333,0,0,"","","","","","","","","","","","","","","","","","","","","","","","",null,null,342.347598952789,1245.24004676478,2170.66423490082,3119.18628329657,3091.38760387924,3833.07502318886,4593.14558286863,5372.04542662708,6170.23171696264,6988.17332317928,7826.35154305508,8685.26085973867,9565.4063667063,10467.3075501916,11391.4957163188,12338.5146825683,13308.9180703489,14303.2814850745,15322.1933202726,16366.256567402,16541.6836521035,16721.3276409268,16905.302655853,17093.734768909,17286.7654784591,17484.5492391836,17687.2542584515,17895.0654753738,18108.1808440009,18326.8164742316,18551.2053497133,18781.5996341461,19018.2678885041,19261.4981345923,19511.5986512236,19654.2072211718,19800.9806692519,19952.1457559331,20107.958622937,20268.7105552561,20434.734404555,20606.408703853,20784.1642567176,20968.4921742281,21159.9626900869,21359.2609443353,21567.2480283862,21785.0479793723,22014.1620408001,22256.6102161919,22509.3007042597,22770.8358477967,23041.3400884089,23320.4925960523,23607.3998788287,21900.493694709,20149.7970476634,18353.2648581002,16508.7785612732,14614.3439688814,12668.2236203592,10668.9014580892,8615.44544741192,6507.45242342535,4345.59383284502,4131.70593121501,3911.5641068322,3684.99343500278,3451.45185474605,3210.63492995513,2962.43293918622,2706.25427863583,2441.84599054132,2168.93226569266,1887.19620987688,1596.23897367661,1295.98996358546,985.954290527236,666.567450844434,337.542668069704,0,0,"","","","","","","","","","","","","","","","","","","","","","","",""]
["25_20_M",20,25,"M",null,1131,0,344,830,1405,2027,1756,2190,2646,3124,3625,4150,4701,5279,5884,6517,7181,7876,8604,9366,10163,10997,11204,11418,11641,11871,12111,12359,12617,12885,13163,13452,13752,14063,14387,14723,14960,15206,15461,15725,16000,16286,16583,16892,17214,17549,17898,18262,18642,19039,19455,19890,20341,20809,21294,21797,20319,18780,17180,15514,13782,11980,10107,8160,6136,4032,3848,3655,3455,3246,3029,2803,2568,2324,2069,1805,1531,1246,951,645,328,0,0,"","","","","","","","","","","","","","","","","","","","","","","","","",null,null,344.548400864913,1247.53126995628,2173.04500106916,3121.65583731807,3093.94353236683,3838.88751051824,4602.28372152665,5384.57942961707,6186.23317061938,7007.71545388864,7849.50949853962,8712.10879280326,9596.02064781868,10501.763716634,11429.8685839789,12380.8750302392,13355.3438313948,14353.8477135302,15376.9729464016,16425.3323349806,16605.1046479133,16789.1956046657,16977.7294254734,17170.8458242995,17368.6974187391,17571.450522471,17779.2882392613,17992.4065062704,18211.0194653102,18435.3580594073,18665.6724529318,18902.2288876655,19145.3127317949,19395.2286594091,19539.2100965924,19687.3567611463,19839.8920015251,19997.0682434815,20159.1722915138,20326.5319826658,20499.5207459668,20678.5639535774,20864.1468303177,21056.832374948,21257.2957158516,21466.3831904348,21685.1973407577,21915.209286398,22158.3986032412,22413.2400057449,22676.9729205582,22949.7006600639,23231.128127272,23520.3708481652,21815.7930950527,20067.4983041222,18273.353211404,16431.349929264,14539.4526886318,12595.935968083,10599.2995266077,8548.53077182984,6443.33017007105,4284.39980873783,4073.47728200353,3856.4979163253,3633.00702525552,3402.80201080734,3165.46887500617,2920.70920501854,2668.16523655159,2407.36813017252,2138.35543730007,1860.59357092595,1573.71264694775,1277.69742536459,972.160448221136,657.125265076758,332.834139134119,0,0,"","","","","","","","","","","","","","","","","","","","","","","","",""]
["26_20_M",20,26,"M",null,1115,0,345,833,1409,2034,1766,2205,2666,3149,3656,4188,4746,5330,5942,6584,7255,7959,8695,9466,10272,11116,11330,11552,11782,12021,12269,12527,12794,13071,13359,13659,13969,14292,14628,14865,15111,15367,15633,15908,16195,16493,16802,17125,17460,17810,18175,18555,18953,19370,19806,20258,20728,21215,21720,20243,18706,17107,15444,13714,11914,10043,8098,6076,3976,3794,3604,3407,3201,2987,2764,2532,2291,2040,1780,1510,1229,938,636,323,0,0,"","","","","","","","","","","","","","","","","","","","","","","","","","",null,null,347.023739762568,1250.29213018581,2176.0953013837,3124.99794837947,3097.58105536507,3845.99287667366,4612.93093619935,5398.84386560041,6204.19183258002,7029.44725723731,7875.09252293116,8741.62328824554,9629.54611644451,10539.3789676933,11471.6484577329,12426.9012271644,13405.6951057689,14408.6004986554,15436.2130924819,16489.1456146898,16673.3595176254,16862.0022768062,17055.2118333999,17253.1389802185,17455.9481502919,17663.8206255617,17876.9503409437,18095.5494853757,18319.8469773946,18550.0909988051,18786.5454906814,19029.4931879682,19279.235184378,19424.6005773338,19574.1320085591,19728.0494515266,19886.6016573719,20050.0709980081,20218.7803502391,20393.0980988715,20573.4442513709,20760.29822129,20954.2158609086,21155.8623978126,21366.0695622612,21585.9186006999,21816.8507800781,22060.8056133276,22317.8248122447,22583.7855104052,22858.7706754414,23142.4825725119,23434.0347815812,21731.831176254,19985.9448219104,18194.3010878,16354.7941916355,14465.4478450602,12524.5486491557,10530.6124112959,8482.64792593019,6380.38423239296,4224.30890029215,4016.39585366242,3802.47528049364,3582.10021551281,3355.08027095377,3121.02075734103,2879.65403057676,2630.67213264314,2373.68838390863,2108.52973750749,1834.66698250804,1551.74031256495,1259.7553365678,958.366605915036,647.683079309081,328.125610198535,0,0,"","","","","","","","","","","","","","","","","","","","","","","","","",""]
["27_20_M",20,27,"M",null,1097,0,346,835,1413,2040,1773,2217,2683,3173,3686,4224,4788,5379,5998,6647,7326,8037,8782,9561,10377,11230,11452,11681,11920,12167,12424,12691,12968,13255,13553,13863,14185,14520,14758,15005,15262,15528,15805,16092,16391,16701,17024,17361,17711,18076,18458,18856,19274,19711,20165,20636,21125,21632,20157,18622,17025,15364,13636,11839,9970,8028,6009,3911,3732,3546,3351,3149,2938,2719,2491,2254,2007,1751,1485,1209,923,626,318,0,0,"","","","","","","","","","","","","","","","","","","","","","","","","","","",null,null,348.959668452197,1251.827129414,2177.21396479181,3125.6853612907,3097.8222532728,3849.3381903723,4619.44447221626,5408.5909077468,6217.23909972926,7045.86031445275,7894.93854439515,8764.96825530552,9656.45478069065,10569.9115820849,11505.871166282,12464.8764803042,13447.4820897487,14454.2665789307,15485.8243369822,16542.7715806363,16731.5296281759,16924.83648087,17122.8408662852,17325.7050886139,17533.6083666559,17746.7423680822,17965.3170695575,18189.5590958546,18419.7143815423,18656.0442608207,18898.828485757,19148.3640976695,19295.2752960666,19446.3529809918,19601.8132918423,19761.9008042477,19926.8928553105,20097.1066869081,20272.9049490262,20454.7015467976,20642.9692807273,20838.2558743937,21041.2153055629,21252.6627238486,21473.6552176599,21705.6001970622,21950.3917376309,22209.8430531776,22478.2723056692,22755.7848543135,23042.0620180752,23336.2182477721,21636.6603741662,19893.466965886,18104.5718989608,16267.8813485882,14381.4351037907,12443.460345013,10452.5616956823,8407.67794858071,6308.54219482822,4155.77474369166,3951.26743337014,3740.71815020057,3524.00109220469,3300.64905522384,3070.47307267247,2833.05147222858,2588.08845435943,2335.21889484851,2074.3076421519,1804.89246516747,1526.73399049601,1239.56496038632,943.04853356116,637.314164334594,322.828515146002,0,0,"","","","","","","","","","","","","","","","","","","","","","","","","","",""]
["28_20_M",20,28,"M",null,1080,0,347,838,1418,2047,1783,2233,2705,3200,3720,4265,4836,5434,6061,6718,7406,8126,8879,9668,10494,11357,11587,11825,12072,12328,12594,12870,13157,13454,13764,14085,14419,14657,14905,15163,15430,15707,15995,16295,16606,16930,17267,17618,17984,18366,18766,19183,19622,20077,20550,21040,21549,20076,18543,16948,15289,13563,11768,9902,7962,5946,3851,3674,3491,3299,3100,2893,2677,2452,2219,1976,1724,1462,1190,908,616,313,0,0,"","","","","","","","","","","","","","","","","","","","","","","","","","","","",null,null,351.589635747616,1254.70330883974,2180.33793697213,3129.05896456774,3101.44782031332,3856.58083627844,4630.38109560046,5423.30007023257,6235.79864374314,7068.34990985671,7921.43706000753,8795.55368621733,9691.20107281262,10608.8986006262,11549.1754468435,12512.571568606,13499.6497285517,14510.987393241,15547.1825085528,16608.8597647991,16802.27338927,17000.3661017334,17203.2982217983,17411.2470466812,17624.4021319474,17842.9713952038,18067.1793270321,18297.2697730152,18533.5016421362,18776.1519099009,19025.5138388782,19173.907058615,19326.4681080962,19483.409579436,19644.9721871252,19811.4286086263,19983.0908722953,20160.3163309852,20343.5132594388,20533.1483619258,20729.7618611787,20933.9973310235,21146.6545541946,21368.7682005983,21601.7142449227,21847.3445763167,22108.1489716879,22378.9265973498,22658.8193246903,22947.5355885618,23244.1662330129,21547.1199013385,19806.479067133,18020.183987253,16186.150045133,14302.4295882906,12367.2664529197,10379.1964796001,8337.25570952182,6241.09615531906,4091.33876373002,3890.01829344114,3682.73631764087,3469.3874781534,3249.53551376069,3022.81888090734,2789.02340604643,2547.92836012251,2298.98128545807,2042.05913846122,1776.72259293665,1502.77499412731,1220.02944561649,928.3037909795,627.408613963513,317.825703151944,0,0,"","","","","","","","","","","","","","","","","","","","","","","","","","","",""]
["29_20_M",20,29,"M",null,1062,0,348,841,1424,2055,1792,2248,2726,3228,3754,4306,4884,5490,6125,6790,7486,8215,8978,9777,10613,11487,11724,11970,12226,12492,12767,13053,13350,13658,13979,14312,14551,14800,15058,15326,15604,15893,16194,16506,16831,17169,17520,17887,18270,18670,19088,19527,19984,20459,20951,21461,19990,18459,16867,15210,13486,11694,9830,7893,5879,3787,3613,3433,3245,3049,2845,2632,2412,2182,1943,1695,1438,1170,893,606,308,0,0,"","","","","","","","","","","","","","","","","","","","","","","","","","","","","",null,null,354.112334982776,1257.25628576674,2182.91703825648,3131.66020480418,3104.06761551157,3862.77520755471,4640.22541304344,5436.86897699535,6253.16834905606,7089.59572352149,7946.63325259628,8824.77038379215,9724.51371776151,10646.3790505671,11590.892166787,12558.6004549087,13550.0649590413,14565.8658979477,15606.6087584377,16672.9306279549,16871.128479783,17074.144504314,17282.1539844942,17495.3442615836,17713.9210959051,17938.1067425863,18168.1428605733,18404.2858187921,18646.8096835266,18896.0037529597,19045.9828600381,19200.1319138899,19358.6598064172,19521.8032260811,19689.829988711,19863.0466843069,20041.805146943,20226.5077901745,20417.6149762962,20615.6591191035,20821.2729433314,21035.2401819249,21258.572067737,21492.6116992459,21739.1668464688,22000.6704286822,22273.940005172,22556.3616505822,22847.642734054,23146.9090374888,21452.5453386465,19714.6408136873,17931.0911806466,16099.8672499766,14219.0368558776,12286.7836564035,10301.7313102296,8262.84452865666,6169.89116190563,4023.41255030418,3825.45861621338,3621.65303017043,3411.74689906789,3195.46887395706,2972.5060368081,2742.72016315255,2505.45879328441,2260.66462089884,2008.04763856341,1747.24747619141,1477.76867205837,1199.83906943501,912.985718625624,617.039698989026,312.528608099412,0,0,"","","","","","","","","","","","","","","","","","","","","","","","","","","","",""]
["30_20_M",20,30,"M",null,1043,0,349,844,1428,2062,1802,2263,2748,3256,3789,4347,4933,5547,6190,6863,7568,8306,9079,9887,10733,11618,11864,12119,12383,12658,12943,13240,13547,13867,14198,14439,14689,14948,15217,15496,15786,16087,16400,16726,17064,17417,17785,18168,18569,18988,19427,19886,20362,20856,21369,19900,18371,16781,15126,13405,11615,9754,7819,5808,3719,3549,3371,3187,2994,2794,2586,2369,2143,1909,1665,1412,1150,877,595,303,0,0,"","","","","","","","","","","","","","","","","","","","","","","","","","","","","","",null,null,356.536487415699,1259.48116668096,2184.93238993315,3133.45583253869,3105.63361725535,3867.85809169522,4648.89641358162,5449.20062903104,6269.23219738505,7109.46211672424,7970.36832080615,8852.44495778764,9756.19481161767,10682.1299086457,11630.7826880693,12602.6982468282,13598.4395933847,14618.5935588366,15663.7770395155,16734.6365942274,16937.7391605411,17145.8105715408,17359.0358274498,17577.6184076009,17801.7782033851,18031.7545613804,18267.8011646541,18510.1890034779,18759.2031852309,18910.8534726745,19066.6758244654,19226.8752173357,19391.6840795623,19561.3650831021,19736.2190636781,19916.5920148312,20102.8801463907,20295.5371073284,20495.0870462404,20702.1512079314,20917.4963466616,21142.1089055934,21377.297211743,21624.8223724568,21887.0571685003,22162.9459887102,22448.0517964385,22742.0624002858,23044.071831772,21352.4966580733,19617.4330330939,17836.7871833829,16008.5444896746,14130.7210004504,12201.5801013878,10219.6838803998,8184.10370039176,6094.53880035891,3951.54810747324,3757.06503717088,3557.00604146681,3350.87543560017,3138.59307006361,2919.71414410058,2693.87768617129,2460.88811584848,2220.54795134845,1972.30898977341,1716.12626013909,1451.65405173685,1178.40571670458,896.716745996187,606.207419411135,306.937229988405,0,0,"","","","","","","","","","","","","","","","","","","","","","","","","","","","","",""]
["31_20_M",20,31,"M",null,1024,0,351,847,1434,2070,1812,2280,2771,3286,3826,4392,4985,5607,6258,6941,7655,8402,9185,10004,10861,11757,12011,12275,12549,12834,13129,13436,13754,14085,14327,14577,14837,15107,15387,15678,15980,16294,16621,16960,17314,17682,18067,18468,18887,19327,19788,20266,20762,21276,19809,18283,16694,15042,13323,11536,9677,7745,5738,3651,3484,3310,3129,2940,2743,2538,2325,2104,1874,1635,1386,1129,861,584,297,0,0,"","","","","","","","","","","","","","","","","","","","","","","","","","","","","","","",null,null,359.273919588975,1262.22323776901,2187.67380298733,3136.19156466172,3108.35915878383,3874.32049457388,4659.17207334803,5463.36511484859,6287.35999710977,7131.62373254945,7996.63862583254,8882.89512400787,9790.89224441787,10721.1482540431,11674.1931638133,12650.5737069379,13650.8590542275,14675.6469494956,15725.5632971473,16801.26515044,17009.3966105184,17222.6548971151,17441.2412051062,17665.3730584704,17895.2874875981,18131.2354854863,18373.4849617512,18622.3168274207,18775.6357686848,18933.1287866799,19094.9969345299,19261.4683709056,19432.800612975,19609.2887297936,19791.2728607509,19979.1429967496,20173.3460563515,20374.3979027975,20582.9082757022,20799.6269171785,21025.5154352515,21261.847323659,21510.3369439827,21773.2968287454,22051.7980543669,22339.5553804511,22636.2559611979,22941.0294908334,21252.2697789777,19520.0340939906,17742.3312051814,15917.0563269567,14042.2949005107,12116.254551162,10137.5909050317,8105.31150088978,6019.01425664978,3879.48507019316,3688.58093055209,3492.0939640093,3289.68497729718,3081.1299520765,2866.18939038902,2644.59411389955,2416.01831850474,2180.03068350248,1936.36699774084,1684.71595386362,1425.11422552805,1156.81846951849,880.203287082642,594.969469410604,301.345851877399,0,0,"","","","","","","","","","","","","","","","","","","","","","","","","","","","","","",""]
["32_20_M",20,32,"M",null,1005,0,352,851,1440,2079,1824,2298,2796,3318,3866,4440,5041,5671,6332,7023,7747,8505,9298,10128,10996,11904,12167,12441,12724,13019,13325,13642,13972,14215,14466,14727,14998,15278,15570,15873,16188,16516,16856,17211,17580,17965,18367,18787,19227,19689,20169,20667,21183,19718,18194,16608,14958,13242,11457,9601,7672,5667,3583,3419,3248,3070,2885,2692,2491,2282,2065,1839,1604,1361,1108,845,573,292,0,0,"","","","","","","","","","","","","","","","","","","","","","","","","","","","","","","","",null,null,362.336259579508,1265.50320668253,2191.17132542439,3139.90706219279,3112.29284884415,3882.22120808441,4671.11951331987,5479.43803980243,6307.63345164245,7156.17679961689,8025.54684690239,8916.23032585859,9828.73208276724,10763.5678748596,11721.2690637269,12702.3881221606,13707.5046460747,14737.224953688,15792.1849839989,16873.0565581225,17086.3499163383,17304.9420662859,17529.0481683827,17758.9029408331,17994.754690976,18236.8682526365,18485.5203463029,18640.5105882842,18799.6770295812,18963.2168085495,19131.3538241249,19304.3404501224,19482.4660019112,19666.0647789962,19855.520569278,20051.2735788093,20253.8314065921,20463.7923135139,20681.8890645965,20909.0584803396,21146.5392859636,21395.9991843373,21659.6905746998,21940.6309130867,22231.0637066048,22530.4838617288,22838.0235483526,21152.0816996478,19422.723918641,17647.916602926,15825.6131941059,13953.8469838956,12030.9048588737,10055.380264853,8026.28493957205,5943.33615116006,3807.24491516291,3619.88990878712,3427.09456723924,3228.56560583515,3023.9506507018,2813.01878810984,2595.51543901587,2371.13942650259,2139.50123557569,1900.40822129423,1653.67360383848,1398.67523381927,1135.38511678805,863.934314453205,584.137189832712,295.754473766392,0,0,"","","","","","","","","","","","","","","","","","","","","","","","","","","","","","","",""]
["33_20_M",20,33,"M",null,985,0,354,855,1447,2088,1836,2317,2822,3351,3906,4488,5098,5737,6406,7107,7841,8609,9413,10254,11134,12054,12327,12610,12903,13208,13525,13854,14097,14350,14611,14883,15165,15458,15762,16078,16406,16748,17103,17473,17859,18262,18683,19123,19586,20068,20568,21086,19623,18101,16518,14870,13156,11374,9521,7595,5593,3512,3352,3184,3010,2828,2639,2442,2237,2024,1803,1573,1334,1086,829,562,286,0,0,"","","","","","","","","","","","","","","","","","","","","","","","","","","","","","","","","",null,null,365.343386482718,1268.56368485286,2194.28064067536,3143.06023192982,3115.4854764403,3889.39136921591,4682.34431260692,5494.79096740708,6327.19148269759,7180.01333143404,8053.73140050517,8948.83756863209,9865.83384399275,10805.2367649235,11767.5826886362,12753.4336679444,13763.3770766405,14798.0284205705,15858.0375120689,16944.0852092381,17162.7173073985,17386.8313332703,17616.6596351553,17852.4477639263,18094.4573934951,18342.9609261706,18499.7527485072,18660.7247662627,18826.0701383101,18996.0084374629,19170.7868063126,19350.6887112455,19536.0425326061,19727.2257834076,19924.6718900894,20128.8800900447,20340.4369843601,20560.0580278862,20788.6547101679,21027.4301933324,21278.0044575289,21542.5684416766,21824.0633107535,22117.3074721724,22419.5853705798,22730.032323379,21047.0534659862,19320.7242864709,17548.9709047873,15729.8077168079,13861.2905836665,11941.6552914581,9969.50415059831,7943.86113617967,5864.46002910419,3732.03468844675,3548.35454349267,3359.38822637824,3164.71784172645,2964.18377355818,2757.42555530673,2544.21592299698,2324.29842956903,2097.35794690685,1862.97883430523,1620.9580530486,1371.08808191023,1113.1430081903,846.847525767443,572.435875228776,289.868812596912,0,0,"","","","","","","","","","","","","","","","","","","","","","","","","","","","","","","","",""]
["34_20_M",20,34,"M",null,964,0,355,859,1453,2096,1848,2335,2847,3384,3947,4537,5156,5803,6482,7193,7936,8715,9530,10382,11274,12207,12489,12782,13086,13402,13730,13974,14227,14490,14763,15046,15340,15645,15962,16291,16633,16990,17361,17748,18151,18573,19014,19477,19961,20463,20983,19523,18003,16422,14777,13066,11287,9436,7513,5514,3437,3280,3116,2945,2767,2582,2390,2189,1981,1764,1539,1305,1063,811,550,280,0,0,"","","","","","","","","","","","","","","","","","","","","","","","","","","","","","","","","","",null,null,368.292277155648,1271.3498935038,2196.89301982417,3145.48782381008,3117.71687793668,3895.55134077757,4692.50344889241,5509.02274428495,6345.56574099346,7202.5958520386,8080.59237001427,8980.04398038576,9901.45286177189,10845.3397473151,11812.2496552968,12802.7515539943,13817.4410873205,14856.9466507108,15921.9260888412,17013.0761401319,17237.189920204,17466.9815454354,17702.6936551601,17944.5845863663,18192.9221845547,18351.5953188827,18514.4524137348,18681.6824149697,18853.5003143845,19030.1477170789,19211.9018972616,19399.0849643858,19592.0677805804,19791.2765837109,19997.2017489331,20210.4175310918,20431.6210723139,20661.6970785159,20901.8111174103,21153.5327199832,21418.9878424136,21701.0369626452,21997.2250693988,22302.4994835041,22616.0002515178,20936.1003451065,19212.9187165178,17444.3971180762,15628.5085600804,13763.3132887309,11847.0535510782,9878.43129613204,7856.41460794897,5780.76002805938,3652.1059465001,3472.35667401105,3287.37342057025,3096.9191436537,2900.7262228959,2698.47339447919,2489.74869565452,2274.53622229609,2052.3163292969,1823.0061640311,1586.21975301396,1341.83863940255,1089.30747361952,828.809836806121,560.271196021435,283.688868368958,0,0,"","","","","","","","","","","","","","","","","","","","","","","","","","","","","","","","","",""]
["35_20_M",20,35,"M",null,943,0,357,863,1460,2106,1861,2356,2875,3420,3991,4590,5217,5874,6563,7283,8038,8827,9654,10518,11423,12369,12661,12964,13279,13606,13851,14105,14369,14643,14927,15222,15528,15846,16176,16520,16877,17249,17637,18041,18463,18905,19369,19855,20359,20881,19423,17906,16327,14684,12976,11199,9352,7432,5436,3363,3209,3048,2881,2707,2526,2338,2142,1938,1726,1505,1277,1039,793,538,274,0,0,"","","","","","","","","","","","","","","","","","","","","","","","","","","","","","","","","","","",null,null,371.605731966312,1274.73293931933,2200.34016833755,3148.99313777322,3121.27415356468,3903.2816220557,4704.48489811312,5525.33015056053,6366.26999778068,7227.77185245703,8110.31185839425,9014.37868229155,9940.47833661754,10889.1397495514,11860.9144885871,12856.3794046066,13876.1425930416,14920.8400930231,15991.1451808779,17087.7685131594,17317.5296905902,17553.1722443697,17794.9511878964,18043.1298257951,18203.6915281667,18368.4412582665,18537.5637731719,18711.2695107234,18889.7945698795,19073.4100682563,19262.4318835264,19457.2242705884,19658.2063278072,19865.8596259876,20080.7461462771,20303.5448141803,20535.1136825051,20776.5809020816,21029.4657933715,21295.8296449564,21578.4526554665,21877.5819945576,22185.8476186408,22502.3936974705,20825.6008146408,19105.5525834479,17340.2434981794,15527.6666752133,13665.8376685185,11753.0875442088,9787.97774505364,7769.56495120086,5697.62686029833,3572.7041666998,3396.83294272634,3215.92037039648,3029.62027219467,2837.68378748098,2639.81913808745,2435.66116165806,2224.99301155354,2007.56800422454,1783.08896735107,1551.56031900649,1312.2648255076,1065.47193904874,810.7721478448,548.106516814094,277.508924141003,0,0,"","","","","","","","","","","","","","","","","","","","","","","","","","","","","","","","","","",""]
["36_20_M",20,36,"M",null,921,0,359,867,1466,2116,1874,2376,2903,3456,4036,4643,5279,5946,6644,7376,8141,8942,9780,10657,11574,12533,12836,13149,13475,13722,13977,14242,14517,14802,15098,15405,15724,16055,16400,16758,17132,17520,17925,18349,18791,19255,19743,20249,20774,19318,17803,16227,14587,12882,11108,9264,7347,5354,3284,3134,2977,2814,2644,2467,2283,2091,1892,1685,1470,1247,1015,775,525,267,0,0,"","","","","","","","","","","","","","","","","","","","","","","","","","","","","","","","","","","","",null,null,374.891586373247,1277.8873231574,2203.35125234865,3151.84842496326,3123.95978441184,3910.10650726935,4715.52110279535,5540.64575571744,6385.93636989348,7251.85696173216,8138.8831363352,9047.50666326664,9978.24087554696,10931.6204646025,11908.2040446977,12908.5799883732,13933.3631542976,14983.2040062851,16058.7887149669,17160.8453933076,17396.4117739833,17638.0699655097,17886.078507256,18048.6149990288,18215.3436249287,18386.4447413947,18562.1240016181,18742.6117201878,18928.1725467593,19119.1158104734,19315.7988220457,19518.6331752701,19728.0911877447,19944.7219453617,20169.1852404027,20402.3111366289,20645.1884954486,20899.2839137916,21166.5907720813,21449.8049583177,21752.0279632184,22063.4462828334,22383.175951111,20709.6343970464,18992.9189641918,17230.9889104543,15421.8422484068,13563.501924513,11654.3093200283,9692.83978965977,7678.16879146631,5610.09910276418,3489.20583456991,3317.43182865322,3140.69427072284,2958.66243426393,2771.1113255193,2577.78632805309,2378.38090255594,2172.77241518907,1960.55829455549,1741.5062104278,1515.34234540647,1281.71149981885,1040.58998289742,791.539072323809,535.072802580708,271.034696854575,0,0,"","","","","","","","","","","","","","","","","","","","","","","","","","","","","","","","","","","",""]
["37_20_M",20,37,"M",null,899,0,361,871,1474,2127,1888,2398,2934,3495,4083,4700,5346,6023,6732,7474,8250,9063,9914,10804,11735,12708,13021,13346,13593,13850,14116,14392,14678,14975,15283,15603,15936,16282,16641,17015,17405,17811,18235,18678,19143,19631,20140,20667,19213,17701,16127,14490,12787,11017,9175,7261,5272,3206,3059,2906,2747,2581,2408,2229,2042,1847,1645,1435,1217,991,756,513,261,0,0,"","","","","","","","","","","","","","","","","","","","","","","","","","","","","","","","","","","","","",null,null,378.568625014379,1281.71499876258,2207.32381202183,3155.95874370324,3128.20236011104,3918.78698873782,4728.71412582128,5558.42887607123,6408.38391169279,7279.04262602453,8170.88345220327,9084.40507772227,10020.1263290066,10978.5886601384,11960.3618474073,12966.040787021,13996.2544061054,15051.6657461074,16132.9781165043,17240.9297180136,17482.5040252175,17730.3807862043,17894.9319312487,18063.6809765125,18236.8040109309,18414.5020517097,18596.999801303,18784.5556369072,18977.4725539988,19176.101158943,19380.8458105617,19592.1698912707,19810.6099902561,20036.807294545,20271.5645959129,20515.9324416863,20771.3260163167,21039.6725234238,21323.5857803475,21626.5504874984,21941.0963523607,22264.0126921035,20593.7260614869,18880.3005089836,17121.7507026634,15316.0356480511,13461.2569570919,11555.6315480902,9597.90472450105,7587.10312009803,5522.94811152458,3406.01524182547,3238.39022648592,3065.89411825189,2888.21716035474,2705.16636203725,2516.53652181652,2321.85213354071,2120.97950760795,1913.81096939592,1699.9363351694,1479.1426854879,1251.18511065215,1015.7491374909,772.928053590271,522.444758769962,264.560469568146,0,0,"","","","","","","","","","","","","","","","","","","","","","","","","","","","","","","","","","","","",""]
["38_20_M",20,38,"M",null,876,0,362,876,1482,2138,1903,2421,2964,3534,4132,4758,5414,6101,6821,7574,8362,9188,10051,10954,11899,12887,13211,13459,13717,13984,14261,14549,14847,15156,15478,15811,16158,16519,16894,17285,17692,18117,18561,19026,19515,20025,20555,19104,17594,16023,14389,12689,10921,9083,7173,5187,3124,2981,2832,2677,2515,2347,2172,1989,1800,1603,1399,1186,966,737,500,254,0,0,"","","","","","","","","","","","","","","","","","","","","","","","","","","","","","","","","","","","","","",null,null,382.252259320931,1285.37822832874,2210.95433240949,3159.54525342125,3131.73250965519,3926.74816850444,4741.18165507714,5575.47471098744,6430.07896724579,7305.45999795572,8202.10234087209,9120.50948353389,10061.2062782398,11024.7444853859,12011.6996670504,13022.6798678047,14058.3256940753,15119.3163746718,16206.3642811692,17320.2189564808,17567.968202237,17734.6362457338,17905.5086618735,18080.7571137455,18260.5778116347,18445.1896368645,18634.8444613886,18829.8387166367,19030.516064075,19237.2733708518,19450.5647631794,19670.913872182,19898.9425752553,20135.4253444838,20381.3729326236,20638.1471256366,20907.606405719,21192.2793886203,21495.5494671729,21813.4055552482,22139.6713430421,20472.7720439803,18762.8192639332,17007.7941677469,15205.6629375637,13354.5375157049,11452.7294871249,9498.85116814966,7491.92595126896,5431.78483192393,3319.04222032674,3155.69673426952,2987.58807850846,2814.43440992567,2636.08495104933,2452.17919311048,2262.4760815168,2066.95998168516,1865.09555217725,1656.75637326186,1441.46335200394,1219.35483830437,989.861870503854,753.121648297064,508.947679933172,257.791959223244,0,0,"","","","","","","","","","","","","","","","","","","","","","","","","","","","","","","","","","","","","",""]
["39_20_M",20,39,"M",null,853,0,364,881,1490,2151,1919,2446,2998,3577,4183,4820,5486,6184,6915,7680,8481,9319,10195,11113,12072,13075,13325,13584,13852,14130,14419,14718,15029,15352,15687,16035,16396,16773,17164,17573,17998,18443,18909,19398,19910,20442,18994,17487,15918,14287,12590,10825,8990,7083,5101,3041,2902,2757,2606,2449,2285,2114,1937,1753,1561,1362,1155,940,717,486,247,0,0,"","","","","","","","","","","","","","","","","","","","","","","","","","","","","","","","","","","","","","","",null,null,386.33497007854,1289.66705535194,2215.44308630423,3164.22659250102,3136.5982179934,3936.28264159071,4755.46144003901,5594.57519947823,6454.07740005327,7334.43923083804,8236.14969318856,9159.71794527725,10105.6786811827,11074.5891555246,12067.0376053224,13083.6433450137,14125.0627188425,15191.9835803407,16285.1290503226,17405.2486254917,17574.0245264071,17747.0108959746,17924.3749412427,18106.3080318592,18293.0231889538,18484.7657348987,18681.8254883453,18884.5391114668,19093.2959185944,19308.5407076088,19530.7840611827,19760.6284273386,19998.8197958415,20246.328903673,20504.4638409609,20775.013975811,21060.4222143626,21363.9700022496,21685.1046711535,22014.7178553979,20351.2059734407,18644.6814525757,16893.1829266803,15094.6402370779,13247.1761868982,11349.1171215025,9399.09502518876,7396.15962161501,5340.06350941227,3231.55237547424,3072.54094834807,2908.89214871416,2740.35864751629,2566.64482473134,2387.59433679165,2203.05652017418,2012.60721527293,1815.9338404506,1612.96140789828,1403.30149518634,1186.81485062971,963.386488379507,732.937672500512,495.450601096381,251.023448878341,0,0,"","","","","","","","","","","","","","","","","","","","","","","","","","","","","","","","","","","","","","",""]
["40_20_M",20,40,"M",null,829,0,367,886,1499,2163,1935,2470,3031,3620,4236,4882,5559,6268,7011,7788,8601,9452,10343,11275,12249,13185,13445,13715,13994,14284,14585,14897,15220,15556,15906,16269,16646,17039,17448,17875,18320,18787,19276,19791,20326,18880,17375,15810,14181,12487,10726,8894,6990,5012,2956,2821,2680,2533,2380,2221,2055,1883,1703,1517,1323,1122,914,697,473,241,0,0,"","","","","","","","","","","","","","","","","","","","","","","","","","","","","","","","","","","","","","","","",null,null,390.456906806116,1293.83046842452,2219.63533246639,3168.43360293489,3140.8076748746,3945.15980589601,4769.07954737051,5613.00873265537,6477.40566688826,7362.74535855424,8269.52179542103,9198.25314989529,10149.4789587315,11123.768265528,12121.7197445652,13143.9675345717,14191.1757182305,15264.0418166147,16363.2874374191,17406.7704019213,17581.9727887972,17761.5550010067,17945.7033934472,18134.6249143771,18328.5580996238,18527.7859200855,18732.6377929668,18943.4952173169,19160.7933348655,19385.0292099583,19616.7851455817,19856.7775861476,20105.9357515251,20365.5120219705,20637.2240698695,20923.4259129375,21227.2933066917,21551.8538787023,21884.9316233898,20224.9623500649,18522.0757537094,16774.2254198746,14979.4563446897,13135.8558405944,11241.6896916195,9295.67742513593,7296.89893410072,5245.03345553039,3140.83793891595,2986.24347971421,2827.13698943541,2663.30673208453,2494.51059554308,2320.45392353131,2141.00021124136,1955.74962773112,1764.7418522538,1567.47066442617,1363.92995687812,1153.80846612293,936.647805012376,712.802423719198,481.895828078826,243.960655474964,0,0,"","","","","","","","","","","","","","","","","","","","","","","","","","","","","","","","","","","","","","","",""]
["41_20_M",20,41,"M",null,804,0,369,891,1508,2175,1952,2495,3066,3663,4290,4947,5634,6355,7109,7899,8725,9590,10494,11441,12351,13301,13572,13853,14144,14446,14759,15084,15422,15772,16137,16515,16910,17320,17748,18194,18661,19151,19667,20204,18760,17259,15696,14071,12380,10622,8794,6893,4919,2867,2736,2599,2456,2308,2154,1993,1826,1652,1471,1283,1088,886,676,459,233,0,0,"","","","","","","","","","","","","","","","","","","","","","","","","","","","","","","","","","","","","","","","","",null,null,394.637088726318,1297.92902411404,2223.63406211674,3172.31530890434,3144.55436844131,3953.61861892643,4782.32377779652,5631.11577512513,6500.45616730983,7390.82434646052,8302.72256250629,9236.6732826465,10193.2270338211,11172.9625689962,12176.4925716468,13204.4581778374,14257.5322149235,15336.4094727338,16361.4181818263,17411.3393899625,17593.2708698851,17779.7672790965,17971.0293937362,18167.2888548771,18368.8216921956,18575.9499902006,18789.0473477471,19008.5391320377,19234.9086816915,19468.7177867048,19710.6527553427,19961.6004313619,20222.7563345407,20495.7650001468,20782.8898538542,21087.1990754804,21412.7608596289,21749.4704084941,20093.2243105859,18394.0787532283,16650.0877070997,14859.2036746793,13019.5807609971,11129.5065236942,9187.63849845472,7193.16288951103,5145.68992027138,3045.99367837799,2896.02975918743,2741.72056112427,2582.90652395513,2419.22667731262,2250.40954855198,2076.35606714008,1896.72751005656,1711.35452354364,1520.0566810345,1322.63353941184,1118.84337158898,908.358356184977,691.227302094106,467.066349612586,236.603579013114,0,0,"","","","","","","","","","","","","","","","","","","","","","","","","","","","","","","","","","","","","","","","",""]
["42_20_M",20,42,"M",null,779,0,371,897,1517,2189,1970,2523,3103,3710,4347,5015,5714,6447,7213,8016,8856,9735,10654,11539,12464,13430,13712,14005,14308,14622,14949,15288,15640,16005,16385,16780,17192,17621,18068,18536,19026,19542,20082,18641,17142,15582,13960,12272,10518,8693,6796,4825,2777,2650,2518,2380,2236,2086,1931,1769,1600,1425,1243,1054,858,655,444,226,0,0,"","","","","","","","","","","","","","","","","","","","","","","","","","","","","","","","","","","","","","","","","","",null,null,399.270269154271,1302.74902386091,2228.62973815151,3177.47452182141,3149.86540465946,3963.92293382618,4797.70379714272,5651.65691803753,6526.24796570697,7421.964182626,8339.31195531215,9278.82433141697,10241.0612463144,11226.6150850337,12236.1053033207,13270.1814229056,14329.5130394617,15336.9006453984,16368.6690272153,17425.4700275938,17614.3292493619,17807.9474445203,18006.5494233012,18210.404344404,18419.8270380483,18635.1832910327,18856.8888000019,19085.4133081428,19321.2982650658,19565.200077312,19817.9635313858,20080.7277151994,20355.0645929197,20643.1477304744,20947.9386539727,21273.3825403562,21613.7067881679,19961.1234451008,18265.7396813681,16525.5804949142,14738.6114080953,12903.0043278045,11016.989881618,9079.31784041423,7089.10907749596,5046.09773842489,2950.98945138467,2805.77063765676,2656.25034201986,2502.26542398813,2343.64785102092,2180.21726580826,2011.5234075714,1837.45939860975,1657.94814655761,1472.61644870791,1281.29980420459,1083.82338857425,879.985136100019,669.519096249777,452.642541568986,229.246502551263,0,0,"","","","","","","","","","","","","","","","","","","","","","","","","","","","","","","","","","","","","","","","","",""]
["43_20_M",20,43,"M",null,753,0,373,902,1527,2203,1988,2551,3140,3758,4406,5085,5796,6540,7320,8136,8990,9883,10744,11643,12583,13566,13860,14164,14480,14808,15148,15502,15869,16250,16646,17059,17489,17937,18406,18896,19413,19955,18517,17021,15465,13845,12161,10410,8589,6696,4729,2685,2562,2434,2300,2162,2017,1866,1710,1547,1378,1202,1019,830,633,429,218,0,0,"","","","","","","","","","","","","","","","","","","","","","","","","","","","","","","","","","","","","","","","","","","",null,null,403.993212454112,1307.50901134563,2233.409325426,3182.25592789987,3154.63220088909,3973.70053343365,4812.57461392248,5671.70687313457,6551.57005066751,7452.65499841201,8375.47785422928,9320.58034062006,10288.5351748222,11279.9408255601,12295.4242714315,13335.6308171859,14325.9342531339,15340.1072283392,16378.7726894644,17442.5954302569,17638.6739526743,17839.7226409629,18046.0035533796,18257.8240263291,18475.5417790028,18699.5625178226,18930.3419308883,19168.4004253006,19414.3634612305,19669.0322916031,19933.4875920472,20209.2262183969,20498.3287554607,20803.6464050411,21128.9971399552,21473.1188754771,19824.3945064247,18132.938658024,16396.7334289781,14613.8649278419,12782.4053138447,10900.6684234392,8967.3471707221,6981.57381703932,4943.0979248523,2852.64656127757,2712.23657120799,2567.72083760947,2419.00042908392,2265.60937864531,2107.54190170814,1944.63934483704,1776.45028178298,1602.91363735717,1423.68591188184,1238.65668802656,1047.74999578773,850.452710723667,646.993074349125,437.34969849934,221.595143030939,0,0,"","","","","","","","","","","","","","","","","","","","","","","","","","","","","","","","","","","","","","","","","","",""]
["44_20_M",20,44,"M",null,726,0,376,908,1537,2217,2007,2579,3178,3807,4466,5156,5879,6636,7429,8258,9127,9964,10839,11754,12710,13709,14015,14333,14662,15004,15358,15727,16109,16507,16921,17352,17802,18271,18762,19279,19824,18389,16896,15342,13726,12045,10298,8480,6591,4628,2589,2470,2347,2218,2084,1945,1800,1649,1492,1329,1159,983,800,611,414,211,0,0,"","","","","","","","","","","","","","","","","","","","","","","","","","","","","","","","","","","","","","","","","","","","",null,null,408.814922457794,1312.20470175304,2237.95549554645,3186.62954704134,3158.81259798659,3982.89571140218,4826.8667623409,5691.18446406357,6576.32464962656,7482.78708469179,8411.09584960026,9361.80458866015,10335.4914378326,11332.7615524041,12354.2368000587,13327.9652489907,14325.0714726842,15346.1509791824,16391.8375951404,17462.8015271362,17666.3882330185,17875.1855059209,18089.4928867115,18309.6597015081,18536.0812643718,18769.1986453039,19009.5103698528,19257.6097212172,19514.2526894807,19780.4592175738,20057.648066772,20347.8031384984,20653.6609082789,20978.9070566479,21326.9327174997,19682.1720117532,17994.7472557267,16262.7071537154,14484.0507546226,12656.9239756883,10779.5907677425,8850.8453635003,6869.76657121156,4836.13009699311,2750.57230801614,2615.251748729,2475.92374811165,2332.50855621985,2184.76664697973,2032.3936092965,1875.22384862407,1713.07376817667,1545.72249765273,1372.88547836384,1194.55634842097,1010.40574041373,820.419318391314,624.138208960365,421.999161248931,213.64950045214,0,0,"","","","","","","","","","","","","","","","","","","","","","","","","","","","","","","","","","","","","","","","","","","",""]
["45_20_M",20,45,"M",null,698,0,378,914,1547,2232,2026,2608,3218,3857,4527,5229,5964,6734,7541,8384,9199,10051,10942,11873,12845,13862,14181,14512,14855,15211,15581,15965,16364,16780,17212,17662,18132,18624,19141,19687,18255,16765,15215,13603,11925,10181,8368,6483,4524,2489,2375,2256,2132,2004,1870,1730,1585,1434,1277,1114,945,769,587,398,203,0,0,"","","","","","","","","","","","","","","","","","","","","","","","","","","","","","","","","","","","","","","","","","","","","",null,null,413.779881713515,1316.96179679214,2242.47800280492,3190.89224440469,3162.79199608828,3991.98474682378,4841.15225201594,5710.75594658946,6601.27987368572,7513.2311621903,8447.14510602398,9403.58030061163,10383.1209474547,11386.3664992602,12344.1404706742,13324.8236301781,14328.9857455829,15357.2315773256,16410.1982609132,17488.5704065733,17700.0396151297,17916.9916905477,18139.767577145,18368.7521917083,18604.3719209326,18847.1032292252,19097.5068878467,19356.2931130149,19624.4204321043,19903.2286881352,20194.6041946887,20501.1678216116,20826.4722119165,21175.2018096063,19534.5939257835,17851.4077573752,16123.6543686388,14349.3350728858,12526.6714158189,10653.9604456422,8729.85832369789,6753.53582347362,4724.79428667809,2644.30536937552,2514.13576007286,2380.21076063399,2242.36198264211,2100.20232139472,1953.62772205699,1802.55744339206,1646.66747958514,1485.79803358888,1319.76914143253,1148.36470391562,971.298359941069,788.63860563027,600.087957011935,405.779588972476,205.409574814868,0,0,"","","","","","","","","","","","","","","","","","","","","","","","","","","","","","","","","","","","","","","","","","","","",""]
["0_15_M",15,0,"M",null,1017,0,354,818,1366,1962,1657,2084,2533,3005,3502,4025,4575,5153,5760,6398,7068,7146,7227,7312,7400,7492,7587,7686,7789,7896,8007,8123,8243,8368,8498,8633,8773,8919,9071,9229,9393,9563,9740,9924,10116,10315,10522,10737,10960,11193,11434,11686,11947,12219,12501,12795,13101,13420,13751,14096,14455,14830,15219,15623,16044,16380,16729,17092,17470,17862,18270,17194,16075,14911,13701,12442,11133,9771,8355,6882,5351,5259,5162,5062,4957,4847,4733,4614,4490,4361,4226,4085,3939,3786,3626,3460,3287,3107,2920,2724,2521,2310,2090,1861,1624,1377,1121,855,580,295,0,0,null,null,430.294718838462,1337.60762395897,2267.66237114934,3221.01232037553,3198.22194444778,3971.33043136659,4763.75468890523,5575.97008553809,6408.46265619672,7261.73073726307,8136.28645987879,9032.65708875113,9951.38318567919,10893.022316837,11858.1531022735,11950.5761976294,12045.2972582516,12142.3848831178,12241.9003602815,12343.9118628934,12448.4811130297,12555.6717595335,12665.5517623543,12778.1886586012,12893.650015987,13012.0058982015,13133.3252658298,13257.683886341,13385.1603686079,13515.8333434344,13649.7865825421,13787.1074713419,13927.8871719877,14072.2207939143,14220.2075722602,14371.9510546023,14527.5588407782,14687.1437105995,14850.8237427354,15018.7232471082,15190.9739798827,15367.7157878233,15549.0980503964,15735.2816635693,15926.4383574407,16122.7540192228,16324.4297345337,16531.6819592701,16744.7417231679,16963.8567244312,17189.2923819843,17421.3305193858,17660.2749159132,17906.4477396334,18160.193025799,18421.7653819243,18690.2867847761,18965.8827023977,19248.6831873492,19437.1201420903,19630.4829449902,19828.8342876437,20032.2110587831,20240.6381239513,20454.0984458885,19172.5275306934,17858.6237506308,16511.5390863516,15130.4155276909,13714.4173665189,12262.7282767648,10774.5825603931,9249.25402251068,7686.0974802187,6084.55123558838,5944.21903544154,5801.45104718578,5656.24475386589,5508.58527312041,5358.39633583537,5205.49379544393,5049.66573682974,4890.64904459955,4728.13442494558,4561.84949267205,4391.51399365345,4216.73130701593,4037.27521105981,3852.93310446779,3663.3545563239,3468.26752250583,3267.35892281315,3060.24668085724,2846.8746396614,2626.78441878248,2399.606007936,2165.14783704858,1923.22333108365,1673.26260939291,1415.25628756307,1148.87329132823,874.190724095534,590.91457634149,299.285870468081,0,0]
["1_15_M",15,1,"M",null,1008,0,355,818,1367,1964,1660,2089,2540,3015,3515,4040,4593,5174,5785,6426,7099,7181,7265,7353,7445,7540,7639,7741,7848,7959,8075,8195,8320,8450,8585,8725,8871,9022,9180,9344,9514,9691,9875,10066,10265,10472,10686,10910,11142,11383,11634,11895,12166,12449,12742,13048,13366,13697,14041,14400,14774,15163,15567,15987,16324,16673,17037,17415,17808,18216,17141,16022,14859,13649,12391,11082,9722,8306,6834,5304,5212,5117,5017,4913,4805,4692,4574,4451,4322,4189,4049,3904,3752,3594,3430,3258,3080,2894,2700,2499,2289,2071,1845,1609,1365,1111,848,575,292,0,0,"",null,null,431.528596850942,1338.97770220383,2269.14629585283,3222.58897412217,3199.87682605574,3974.8679046318,4769.21132213455,5583.38312189197,6417.87095315019,7273.17560992443,8149.81242073167,9048.30957633916,9969.21173272921,10913.0840596718,11880.5101838795,11975.2638626443,12072.3843539003,12171.9329524927,12273.9779820445,12378.5811035573,12485.8059033651,12595.7203490885,12708.3919140926,12823.8880292614,12942.2786182057,13063.6323550601,13188.0248569453,13315.5345787476,13446.2398506938,13580.2242079966,13717.5747937199,13858.3825216303,14002.7422465173,14150.7529423865,14302.5178889477,14458.1443399161,14617.7447199123,14781.436671726,14949.3439864811,15121.5977450057,15298.3371714958,15479.7108627984,15665.8787673854,15857.0117116782,16053.2945093448,16254.9270681198,16462.1246288166,16675.1170378689,16894.150769787,17119.489976507,17351.4152400179,17590.2289784962,17836.2520175839,18089.8269950966,18351.3164043638,18619.8289193219,18895.4120794198,19178.1996077862,19367.5188269733,19561.7858265911,19761.0590390425,19965.3808832845,20174.7712347679,20389.2195436606,19108.6555176432,17795.7853326482,16449.7542063502,15069.7134537494,13654.8192474962,12204.2662213609,10717.2662510965,9193.11679873129,7631.15976655918,6030.83216520996,5891.75749480678,5750.2431035908,5606.33503203149,5459.99558145874,5311.11005729036,5159.52860228748,5005.04232084574,4847.39256661421,4686.34741313845,4521.50778711652,4352.66938286615,4179.4501845887,4001.64341442827,3818.93620329934,3630.96449914582,3437.5952925832,3238.38149224224,3033.11937834167,2821.60094442963,2603.36008438487,2378.2918266697,2146.03837092937,1906.11057483387,1658.56883087756,1402.81751975798,1138.8763807217,866.409444776542,585.527283642927,296.637322941815,0,0,""]
["2_15_M",15,2,"M",null,998,0,355,819,1368,1965,1661,2092,2546,3023,3526,4054,4610,5194,5807,6452,7129,7213,7301,7392,7487,7586,7689,7795,7906,8022,8142,8266,8396,8531,8671,8817,8968,9126,9289,9459,9636,9820,10011,10209,10416,10630,10853,11085,11326,11577,11837,12108,12390,12684,12989,13306,13637,13981,14339,14712,15101,15504,15924,16261,16611,16975,17354,17747,18156,17081,15963,14801,13592,12334,11026,9666,8252,6781,5251,5160,5066,4967,4864,4757,4645,4528,4406,4279,4147,4009,3865,3715,3558,3396,3226,3049,2865,2673,2474,2266,2050,1826,1593,1351,1100,839,569,290,0,0,"","",null,null,432.371884842432,1339.49380098808,2269.30675604723,3222.36972059072,3199.26201511088,3975.84553067813,4771.81148009937,5587.63695112681,6423.8115173708,7280.83867831568,8159.23436440267,9059.53042187876,9982.27864562599,10928.0489354367,11897.4205452954,11994.5768373113,12094.1615016981,12196.2430288564,12300.8830114126,12408.1449657167,12518.0968673998,12630.8061184394,12746.3399970758,12864.7682706421,12986.1592942664,13110.5885173307,13238.1342229167,13368.8744064638,13502.8923395903,13640.274895248,13781.1127103456,13925.5003558281,14073.5365146112,14225.3241677952,14380.9701834488,14540.5865904239,14704.2905459907,14872.2052635142,15044.4610719656,15221.1965022907,15402.5592800655,15588.7082990913,15779.8133797535,15976.0581407152,16177.6411785837,16384.7763815684,16597.6922787225,16816.6339821406,17041.8642330726,17273.6622309564,17512.3288783535,17758.1835059138,18011.5671951319,18272.8408977933,18541.3370729406,18816.903085547,19099.6687896047,19289.9653681938,19485.2294615582,19685.5246978868,19890.8890113771,20101.3483572984,20316.8869202526,19037.44168547,17725.7127536876,16380.8456427258,15001.9919317653,13588.3180308501,12139.0096692906,10653.2907957277,9130.43389845732,7569.7917393542,5970.81819197023,5833.12089653946,5693.00692752662,5550.52280991849,5405.63249324565,5258.22445635376,5108.15385595591,4955.21898388218,4799.17092182019,4639.71933986123,4476.53613134853,4309.343928951,4137.85215773539,3961.76515955532,3780.88678245809,3594.74849966794,3403.21095949342,3205.99459766329,3002.76749876472,2793.3298408725,2577.22881268275,2354.38123373839,2124.46556462091,1887.05395917927,1641.92085877244,1388.81729585429,1127.43993859779,857.921751466097,580.082296763598,293.694492357074,0,0,"",""]
["3_15_M",15,3,"M",null,989,0,356,820,1370,1968,1665,2099,2555,3036,3541,4073,4632,5219,5837,6485,7166,7254,7345,7440,7539,7641,7748,7859,7974,8094,8219,8348,8483,8623,8768,8920,9077,9240,9410,9587,9770,9961,10159,10366,10580,10803,11034,11275,11525,11786,12056,12338,12631,12936,13253,13583,13926,14284,14657,15045,15448,15868,16205,16555,16920,17299,17693,18102,17028,15911,14749,13540,12283,10976,9617,8203,6733,5204,5114,5020,4922,4820,4714,4603,4487,4367,4241,4110,3973,3830,3682,3527,3365,3197,3022,2839,2649,2452,2246,2032,1810,1579,1339,1090,832,564,287,0,0,"","","",null,null,433.902505797816,1341.39619981643,2271.57725873591,3225.01194891431,3202.2804454755,3981.04323711737,4779.23437464482,5597.33292993605,6435.83129622034,7295.23389195578,8176.06050215631,9078.85026361696,10004.1600529388,10952.556010202,11924.6285183627,12024.247622014,12126.3640275408,12231.0392674157,12338.3367964285,12448.3245988005,12561.0700137685,12676.6401838412,12795.1047374073,12916.53174445,13040.9965052289,13168.5771501086,13299.3513754067,13433.4022176772,13570.8163090263,13711.6840395357,13856.099727128,14004.1617952727,14155.9729589575,14311.6397420381,14471.2738201665,14634.9919168995,14802.91672916,14975.1779132393,15151.9133802145,15333.2700760761,15519.4059505295,15710.489923775,15906.7045448324,16108.2472366667,16315.3306769021,16528.1822159468,16747.0457471372,16972.1827499684,17203.8711877334,17442.4106077696,17688.1190044057,17941.3360681721,18202.421373572,18470.9095022516,18746.463630993,19029.2132061873,19220.3928737176,19416.5620226222,19617.7800246519,19824.0903473031,20035.5139593158,20252.0415367628,18973.6042709005,17662.902307475,16319.0896735171,14941.3197618985,13528.750869896,12080.5685506062,10595.9962089769,9074.31924613055,7514.87752298645,5917.12363994749,5780.66378401561,5641.82854814839,5500.64426953836,5357.07585252866,5211.01387926032,5062.31701201758,4910.78871351686,4756.12464619596,4598.09172275938,4436.37080999688,4270.69630916367,4100.79322329265,3926.27304618469,3746.92416973331,3562.5399768484,3372.75381021475,3177.27598461511,2975.95704954981,2768.45152084213,2554.30840274915,2333.44815814807,2105.55609627955,1870.21680418019,1627.22708025708,1376.3785280492,1117.44302799126,850.140472147105,574.695004065035,291.045944830808,0,0,"","",""]
["4_15_M",15,4,"M",null,979,0,356,821,1372,1971,1668,2104,2564,3047,3555,4090,4652,5243,5864,6516,7202,7293,7388,7486,7589,7695,7806,7921,8041,8165,8295,8429,8569,8714,8865,9023,9186,9355,9532,9715,9906,10104,10310,10524,10746,10977,11218,11468,11728,11998,12279,12572,12876,13193,13523,13866,14223,14595,14983,15385,15804,16142,16493,16858,17237,17632,18042,16968,15852,14690,13483,12227,10920,9561,8148,6679,5151,5062,4969,4872,4771,4666,4556,4442,4322,4198,4068,3932,3791,3644,3491,3331,3164,2991,2810,2622,2427,2223,2011,1791,1563,1325,1079,823,558,284,0,0,"","","","",null,null,435.070437990224,1342.48519437897,2272.58059370004,3225.92305069891,3203.09280343218,3983.74471783917,4783.86487898501,5603.93466448573,6444.44707442708,7305.90991615955,8188.84972803963,9093.81041107255,10021.3450665697,10972.0305192538,11946.450128783,12048.6023744206,12153.3138010517,12260.6477930206,12370.6723421117,12483.4547156861,12599.0619030749,12717.5633758375,12839.0268843149,12963.5275604318,13091.1433621306,13221.9516502334,13356.0351969972,13493.4803636852,13634.3772627625,13778.8199275175,13926.906489509,14078.7393642617,14234.424689056,14394.0737428065,14557.8027624963,14725.7338661434,14897.9959568896,15074.7262512479,15256.0708224623,15442.1865639135,15633.2413880666,15829.4166470386,16030.9084506042,16237.9281215948,16450.7016907725,16669.4716866565,16894.4981755098,17126.057735435,17364.4483952952,17609.9866514576,17863.0106349822,18123.8783755558,18392.348236322,18667.8832156095,18950.6129661633,19142.7679486006,19339.9320616363,19542.1698659789,19749.5258826347,19962.0162319785,20179.6316963527,18902.3107343258,17592.7474050211,16250.1044879732,14873.5189855116,13462.1574853526,12015.2164865061,10531.9216566867,9011.54728304051,7453.43260137088,5857.02943088618,5721.94321944731,5584.50418872599,5444.73904021411,5302.61418083812,5158.02319101858,5010.82953561178,4860.78910245562,4707.71116049048,4551.25318007772,4391.1662513964,4227.20144485754,4059.00411688073,3886.29057255592,3708.7545432557,3526.18354894483,3338.36093081591,3144.87880582601,2945.59257968958,2740.1647069049,2528.15710742177,2309.51143639465,2083.94829677494,1851.11196714669,1610.51055249697,1362.27746964548,1105.8526914117,841.408292552552,568.844346763067,288.103114246068,0,0,"","","",""]
["5_15_M",15,5,"M",null,968,0,356,822,1373,1972,1670,2109,2570,3056,3568,4106,4671,5265,5890,6546,7235,7330,7428,7531,7637,7748,7863,7982,8107,8236,8370,8510,8655,8806,8963,9126,9295,9472,9655,9845,10043,10248,10462,10684,10915,11155,11405,11665,11935,12215,12507,12811,13127,13457,13799,14156,14527,14914,15317,15735,16073,16425,16790,17170,17565,17976,16903,15787,14627,13420,12164,10859,9501,8089,6620,5093,5005,4913,4818,4718,4614,4505,4392,4274,4151,4022,3888,3749,3603,3451,3293,3129,2957,2779,2593,2399,2198,1989,1771,1545,1311,1067,814,552,281,0,0,"","","","","",null,null,435.895925131714,1342.80374452905,2272.37561776284,3225.17744768981,3201.78947020004,3984.05771337999,4785.82872463048,5607.5841998061,6449.82007268089,7313.0503624349,8197.80606131008,9104.62732821683,10034.0774852243,10986.7263787252,11963.1648607742,12067.9186259608,12175.2953251207,12285.3629600373,12398.1887208433,12513.8394303788,12632.3843897652,12753.8910001231,12878.4342104496,13006.0917913428,13136.9407372399,13271.0635323114,13408.5462426372,13549.4786781563,13693.9545620251,13842.0717077842,13993.9322047553,14149.6417684758,14309.3112450883,14473.0563403042,14640.9985396527,14813.2659226665,14989.9949467735,15171.3307307406,15357.4290122048,15548.456601506,15744.5935412978,15946.0345045966,16152.9893321835,16365.6826117218,16584.3553794534,16809.26615665,17040.6900076207,17278.9233016472,17524.2808984961,17777.0992256398,18037.7346257617,18306.1944546656,18581.711042777,18864.4210309892,19057.6554434811,19255.9212611454,19459.2883407343,19667.7968332748,19881.4690666647,20100.2907047745,18824.200533048,17515.9007526173,16174.5393083637,14799.2703720482,13389.2628811613,11943.6936416836,10461.7979456097,8942.84956199018,7386.20271265319,5791.29548054545,5657.73321987096,5521.84673991664,5383.63514171007,5243.09061574289,5100.11068329695,4954.56499791035,4806.21827179707,4654.82912985676,4500.11842170791,4341.85407568377,4179.71839194086,4013.35212908406,3842.57924008222,3667.12939487543,3486.69861240215,3300.9244304829,3109.70041920924,2912.57587590187,2709.37458083996,2499.92862385025,2283.80006232074,2060.66730317048,1830.45472936384,1592.78818081778,1347.12908554152,1093.60749342048,832.102783185783,562.530324857694,284.866000602854,0,0,"","","","",""]
["6_15_M",15,6,"M",null,958,0,357,823,1375,1975,1674,2116,2581,3070,3585,4127,4696,5294,5923,6584,7277,7376,7478,7584,7695,7810,7929,8053,8182,8317,8456,8601,8752,8909,9072,9241,9417,9600,9790,9987,10193,10406,10628,10859,11098,11348,11607,11877,12157,12449,12752,13068,13396,13739,14095,14466,14852,15254,15672,16010,16363,16729,17109,17505,17916,16844,15729,14569,13362,12108,10803,9446,8035,6567,5041,4954,4863,4768,4669,4566,4459,4347,4230,4108,3981,3848,3710,3566,3416,3260,3097,2927,2750,2566,2375,2176,1968,1753,1529,1297,1056,806,547,278,0,0,"","","","","","",null,null,437.439312430339,1344.55946337561,2274.3454320924,3227.3633340126,3204.19408608436,3988.67346391383,4792.70477420335,5616.77277278877,6461.37962846163,7327.04408269789,8214.29407400982,9123.68007968692,10055.7591843773,11011.1090272673,11990.3135796202,12097.729783843,12207.8372854496,12320.7032048451,12436.3942140392,12554.9794597528,12676.5260262587,12801.1086968425,12928.8050723971,13059.691814979,13193.8511475533,13331.3688685703,13472.3345136921,13616.8415249134,13764.9874274748,13916.8740149899,14072.6066205066,14232.2956976923,14396.0564703203,14564.0098500579,14736.2831689742,14913.0121957116,15094.3411827827,15280.4248187759,15471.42891377,15667.5323218652,15868.9284119636,16075.8256796809,16288.4474030014,16507.0332639137,16731.8403816571,16963.142446961,17201.2343232099,17446.4293852728,17699.0625150047,17959.4885246691,18227.9385674414,18503.4448127924,18786.1400486341,18980.3591782715,19179.6297537583,19384.0217298833,19593.580888179,19808.3246773571,20028.2453767434,18753.2761263305,17446.1193460327,16105.9316918784,14731.8693787612,13323.0833704042,11878.770467973,10398.1560018115,8880.51320676145,7325.19544512876,5731.63971553882,5599.45025414877,5464.95704324759,5328.18835229265,5189.11486981671,5047.63797870108,4903.58603479818,4756.76794773758,4606.95090540745,4453.86711621644,4297.21875999019,4136.768572386,3972.17778372598,3803.18399436578,3629.51025365464,3450.8438032153,3266.96803313493,3077.65231893344,2882.63875994705,2681.62102673011,2474.21050806324,2260.15213121542,2039.44626843271,1811.534172672,1576.33364182315,1333.41337107741,1082.60527197821,823.748174094575,556.679667555726,281.923170018113,0,0,"","","","","",""]
["7_15_M",15,7,"M",null,947,0,357,824,1377,1978,1678,2122,2590,3083,3601,4146,4719,5322,5955,6620,7318,7420,7526,7637,7751,7871,7995,8124,8258,8397,8542,8693,8849,9012,9181,9356,9539,9729,9926,10131,10345,10566,10796,11036,11285,11544,11813,12093,12384,12687,13002,13330,13672,14028,14398,14784,15185,15602,15942,16294,16661,17042,17438,17850,16779,15664,14505,13299,12045,10741,9385,7975,6508,4983,4897,4807,4713,4616,4514,4408,4297,4181,4061,3935,3804,3668,3525,3377,3222,3061,2893,2719,2537,2348,2151,1946,1733,1512,1282,1044,797,540,275,0,0,"","","","","","","",null,null,438.652288929416,1345.55949739648,2275.12395876076,3227.91196567306,3204.50500790728,3990.92550488034,4796.94201655275,5623.0449279598,6469.74078462479,7337.54538700093,8226.99641157133,9138.6382661869,10073.0354367677,11030.7586776833,12012.3934877987,12122.5444839046,12235.4542096857,12351.1891709686,12469.8183443542,12591.4084652609,12716.0341343906,12843.7727656472,12974.7006551108,13108.8997380647,13246.4555181971,13387.4572290812,13531.9980030346,13680.1750477526,13832.0898311377,13987.84726503,14147.5573708832,14311.3348418061,14479.2999576379,14651.5792275831,14828.307661956,15009.6285596425,15195.6954544405,15386.6730552825,15582.7389078988,15784.0849456224,15990.9181832797,16203.4604570613,16421.9499580624,16646.6422619986,16877.8095473259,17115.7450194952,17360.760418486,17613.1889243801,17873.3836643237,18141.7275149806,18417.2175090415,18699.8954567699,18895.1880699993,19095.5633437861,19301.082916532,19511.7927968492,19727.7166342975,19948.8415821547,18675.1010989623,17369.205737349,16030.3057734458,14657.5579396837,13250.1237262579,11807.1913679499,10327.9863036983,8811.78160828945,7257.93028940038,5665.86896567577,5535.20174409536,5402.25914984136,5267.07113484052,5129.57718723317,4989.71042212095,4847.30535376779,4702.17967934264,4554.11243053702,4402.78014304267,4247.95946278281,4089.34457571924,3926.5924060239,3759.54859932613,3587.84586945053,3411.31303001188,3229.63505815733,3042.59850966371,2849.77456802632,2651.02120769367,2445.97809440876,2234.43562877753,2016.1584066332,1790.86747036827,1558.20599615266,1318.10926399264,1070.12240827378,814.065094224461,550.365645650353,278.686056374899,0,0,"","","","","","",""]
["8_15_M",15,8,"M",null,936,0,358,826,1379,1981,1682,2130,2601,3097,3619,4168,4745,5352,5989,6659,7362,7468,7578,7693,7812,7936,8065,8199,8338,8483,8633,8789,8952,9121,9296,9479,9668,9865,10070,10283,10504,10734,10973,11222,11480,11749,12029,12320,12622,12937,13264,13605,13960,14330,14715,15116,15533,15873,16226,16593,16975,17372,17784,16713,15599,14441,13236,11983,10680,9325,7915,6449,4925,4840,4751,4658,4562,4461,4356,4247,4133,4014,3889,3760,3625,3484,3337,3185,3025,2860,2687,2507,2320,2126,1923,1713,1494,1267,1032,787,534,272,0,0,"","","","","","","","",null,null,440.05994066852,1346.90944141805,2276.41197189555,3229.13432323689,3205.65796325706,3994.19195314286,4802.37444654234,5630.7001388313,6479.67308159265,7349.81849148759,8241.66850433735,9155.77482653219,10092.695439536,11053.0026734591,12037.2866898455,12150.2411069981,12266.0209281328,12384.6949604025,12506.329591144,12630.9992392006,12758.7811322392,12889.7512012246,13023.9910946135,13161.5860222203,13302.6249164535,13447.2006009135,13595.409966749,13747.3541571901,13903.1376639986,14062.8700775937,14226.6655617014,14394.6437657274,14566.9303775846,14743.6596508569,14924.9739325992,15111.0256038312,15301.9782744057,15498.0081839927,15699.3058328659,15906.0767577249,16118.5413557235,16336.9363299848,16561.5157157978,16792.5501825564,17030.3312812565,17275.1691206004,17527.3951827286,17787.360913651,18055.4472575279,18330.9190045239,18613.573509751,18809.9417241453,19011.414714259,19218.0594017501,19429.9174109723,19647.0125644985,19869.3387239719,18596.8309414513,17292.1938725399,15954.5783003937,14583.1414568957,13177.0452159412,11735.4779443268,10257.6648607498,8742.89233486555,7190.50099118586,5599.92694059085,5470.77399556037,5339.37301602151,5205.75537974737,5069.86358993233,4931.63581528134,4790.91407000136,4647.47193984237,4501.08140060432,4351.48191696683,4198.46639573418,4041.65949810659,3880.81419926956,3715.69337359071,3546.0547549641,3371.49272866309,3191.9590522491,3006.95575112804,2816.38615384636,2619.98733854549,2417.43894870632,2208.3188717898,1992.64490180112,1769.88982709979,1540.02810850861,1302.73125892989,1057.52676085848,804.759584857692,544.05162374498,275.448942731685,0,0,"","","","","","","",""]
["9_15_M",15,9,"M",null,925,0,359,827,1382,1985,1687,2138,2613,3113,3639,4192,4773,5384,6027,6701,7410,7520,7635,7754,7878,8006,8140,8279,8423,8574,8730,8892,9061,9236,9418,9607,9804,10009,10221,10442,10672,10911,11159,11417,11686,11965,12255,12557,12871,13199,13539,13893,14263,14647,15047,15463,15804,16157,16525,16908,17305,17718,16648,15535,14377,13173,11921,10618,9264,7855,6390,4867,4783,4695,4604,4508,4409,4305,4197,4084,3966,3844,3716,3582,3443,3298,3147,2990,2826,2656,2478,2293,2101,1901,1693,1477,1252,1020,778,528,268,0,0,"","","","","","","","","",null,null,441.682331444623,1348.63271310235,2278.23641335457,3231.06020685852,3207.68654780892,3998.51323028147,4809.04778579169,5639.78289354428,6491.23164107409,7363.91428375548,8258.37011057006,9175.14475933679,10114.7978338294,11077.9063226041,12065.0594258405,12180.8849015148,12299.6046078843,12421.2845848808,12545.9990701245,12673.8251057029,12804.8382582195,12939.119890053,13076.7549179221,13217.8319738789,13362.4435736477,13510.6862927045,13662.6609505161,13818.4716197555,13978.2274608389,14142.0421092322,14310.0345851286,14482.3297565255,14659.061121676,14840.3700773755,15026.4078536272,15217.3369630139,15413.3323411665,15614.5830574971,15821.2931729092,16033.6816479328,16251.9837002766,16476.4518275149,16707.3551927904,16944.9836956887,17189.6458167982,17441.6713436718,17701.4100446687,17969.2409352893,18244.6965674081,18527.3339262915,18724.7801674836,18927.3581405243,19135.1307215526,19348.1397630206,19566.4152895301,19789.9460380164,18518.6673805599,17215.2843435032,15878.9565985634,14508.8343792894,13104.0799668822,11663.8930360277,10187.4891363562,8674.15447460896,7123.22931682609,5534.14938883231,5406.51836736456,5276.66764697692,5144.60093964985,5010.32097930039,4873.70300553567,4734.62775375424,4592.8775843867,4448.23630112316,4300.45889502348,4149.19727968099,3994.22453546776,3835.31809952483,3672.15975800416,3504.50776291108,3332.09909707353,3154.63072938879,2971.90753998863,2783.52881534903,2589.39607133304,2389.21743475751,2182.6165923743,1969.37608827749,1749.24937373097,1521.93778057908,1287.48204032591,1045.1276684116,795.209589206815,537.331931416967,272.211829088471,0,0,"","","","","","","","",""]
["10_15_M",15,10,"M",null,913,0,359,829,1384,1988,1691,2146,2624,3128,3657,4215,4800,5416,6063,6743,7457,7571,7690,7814,7942,8076,8215,8359,8509,8665,8827,8995,9170,9352,9541,9738,9942,10154,10375,10604,10843,11091,11348,11616,11895,12185,12486,12800,13127,13466,13820,14189,14573,14972,15388,15729,16083,16451,16834,17232,17646,16577,15464,14307,13104,11853,10551,9198,7790,6326,4804,4721,4634,4544,4450,4352,4249,4142,4031,3915,3794,3667,3536,3398,3255,3106,2951,2789,2621,2446,2263,2073,1876,1671,1458,1236,1006,768,521,265,0,0,"","","","","","","","","","",null,null,443.003604990465,1349.6430354789,2278.92554023886,3231.41846371223,3207.70595406175,4000.57554690481,4813.20231925468,5646.08727655441,6499.73888098375,7374.68406661006,8271.45623190046,9190.60236172643,10132.6863683735,11098.2840760321,12087.9834495265,12206.7523296697,12328.4811058185,12453.2438173865,12581.1173034844,12712.1767326273,12846.5031545096,12984.1811654866,13125.2990693016,13269.9490451409,13418.2273234109,13570.2343696543,13726.0737985644,13885.8543006375,14049.6889341572,14217.6960319257,14389.9995663856,14566.7322106726,14748.0343236774,14934.0558783387,15124.9581887693,15320.9147663938,15522.1131179255,15728.7556924429,15941.0598813184,16159.2592797617,16383.6047056694,16614.3636767513,16851.8242886169,17096.2932431991,17348.0984767248,17607.5879245994,17875.1384952537,18150.5738068112,18433.1850928337,18631.8041238812,18835.5793389128,19044.5789812772,19258.8461616361,19478.4062828314,19703.2484495641,18433.3084885432,17131.2997187103,15796.3756182094,14427.6871491514,13024.3972351297,11585.7059806676,10110.8290758042,8599.0525792604,7049.71642091705,5462.25601502148,5336.27508851742,5208.1059509128,5077.75464645756,4945.19372240722,4810.33160602944,4673.05716452844,4533.16412830853,4390.38892559633,4244.48287980649,4095.17435106979,3942.26109889176,3785.34972554091,3624.31617556289,3458.83500051923,3288.65247179571,3113.47912676913,2933.13991774113,2747.26424156517,2555.57947160315,2357.99848330103,2154.21529286655,1943.81691605109,1726.55474332857,1502.1282404565,1270.57661519484,1031.63949387143,784.953179564485,530.55454490819,268.680432386782,0,0,"","","","","","","","","",""]
["11_15_M",15,11,"M",null,901,0,360,830,1387,1992,1697,2155,2637,3144,3678,4240,4830,5451,6103,6788,7508,7626,7750,7878,8011,8150,8294,8444,8600,8761,8930,9104,9286,9475,9671,9875,10087,10307,10536,10774,11022,11279,11547,11825,12114,12415,12729,13055,13394,13747,14115,14498,14897,15312,15653,16008,16377,16761,17160,17575,16506,15394,14238,13035,11785,10484,9131,7725,6262,4741,4659,4573,4484,4391,4294,4193,4088,3978,3863,3744,3619,3489,3354,3213,3065,2912,2753,2586,2413,2233,2046,1851,1649,1438,1220,993,758,514,261,0,0,"","","","","","","","","","","",null,null,444.555635838824,1351.05065480613,2280.18329072045,3232.5225639628,3208.65378152285,4003.75176111381,4818.66723134032,5653.8972432677,6509.95673021332,7387.36726974132,8286.66365909826,9208.39715790362,10153.1306707018,11121.4388829384,12113.9115356254,12235.689401728,12360.500638015,12488.421880849,12619.5279009188,12753.8994354948,12891.6207608392,13032.7798526678,13177.4685539212,13325.78275024,13477.822553559,13633.6911209358,13793.4966733053,13957.3516921591,14125.3738233332,14297.6861441935,14474.4205032451,14655.7162220204,14841.7220170061,15032.598004474,15228.5162723451,15429.6627653983,15636.2383216971,15848.4587642955,16066.5560667934,16290.7793683523,16521.3945422265,16758.6878811083,17002.9643093743,17254.549913092,17513.7907959243,17781.0617605691,18056.4774928715,18339.0675566923,18538.8646950174,18743.8429830963,18954.0709680637,19169.5920801145,19390.4320068094,19616.5801463457,18347.9798251287,17047.3385522144,15713.8104184524,14346.5562417812,12944.7314014544,11507.5364364985,10034.1995633112,8523.98242577467,6976.23656886321,5390.39712097127,5266.06789253078,5139.58214990629,5010.94832127854,4880.14335610587,4747.08263984603,4611.61791293236,4473.53803571898,4332.63662865169,4188.68239478544,4041.34566199632,3890.42389241662,3735.62537424345,3576.63716857421,3413.22523715886,3245.27944418835,3072.41472215696,2894.30106268009,2710.91246212442,2521.87413887454,2326.9213469199,2125.72258261102,1918.13532138205,1703.69141216025,1482.47067924707,1253.89472695102,1017.9974248756,774.452283638047,523.371487976772,265.149035685094,0,0,"","","","","","","","","","",""]
["12_15_M",15,12,"M",null,889,0,361,832,1390,1997,1703,2165,2651,3163,3701,4267,4863,5488,6146,6837,7563,7686,7814,7947,8086,8230,8379,8535,8696,8864,9039,9220,9409,9605,9808,10020,10240,10469,10706,10953,11210,11477,11755,12044,12345,12657,12983,13321,13674,14041,14423,14822,15236,15578,15934,16303,16688,17087,17503,16435,15324,14168,12967,11717,10417,9065,7660,6198,4678,4597,4512,4425,4333,4237,4138,4034,3925,3812,3694,3571,3443,3309,3170,3025,2874,2716,2552,2382,2204,2019,1827,1627,1419,1204,980,748,507,258,0,0,"","","","","","","","","","","","",null,null,446.34822875086,1352.8739488501,2282.03767427451,3234.40969472559,3210.57410699486,4008.10039633404,4825.50390427148,5663.28791001342,6521.96257828969,7402.05093930352,8304.09201353804,9228.63623093268,10176.2454776868,11147.4962306328,12142.9745052107,12267.8362126311,12395.807209637,12526.961870801,12661.3806226673,12799.1474231691,12940.3499218285,13085.0796272473,13233.4320822825,13385.5070473229,13541.4072240336,13701.2403661287,13865.1183808528,14033.1582298447,14205.4820985157,14382.2210139131,14563.5132637755,14749.5063121329,14940.3590815199,15136.2422409384,15337.3401782159,15543.8521256875,15755.9923435612,15973.9911896274,16198.0961304622,16428.5714012391,16665.7014986393,16909.789576656,17161.1598788034,17420.1566849069,17687.1527006474,17962.5529309004,18245.1267758143,18446.1028312085,18652.2847435926,18863.7464477743,19080.5271091142,19302.6587392371,19530.1257522923,18262.8719615577,16963.6054410594,15631.489395141,14265.6686579958,12865.3174675051,11429.6279317458,9957.82850831888,8449.18083018656,6903.03629045411,5318.82994930907,5196.16598225507,5071.37896703935,4944.45081479266,4815.38579749678,4684.10532865349,4550.42293103241,4414.17579890406,4275.17148865731,4133.12573164648,3987.78678319342,3838.88801788523,3686.13925147379,3529.34336646285,3368.18658994038,3202.43213701869,3031.81535514687,2856.19797374346,2675.26464318361,2488.60705306529,2296.1562916173,2097.63710685359,1892.68871768701,1681.15190362153,1462.88167369264,1237.31367320722,1004.50925033542,764.195873995718,516.594101467994,261.617638983406,0,0,"","","","","","","","","","","",""]
["13_15_M",15,13,"M",null,876,0,361,834,1393,2001,1708,2174,2664,3180,3723,4294,4894,5525,6188,6885,7617,7745,7878,8016,8160,8309,8464,8626,8793,8968,9149,9337,9533,9736,9947,10167,10395,10633,10879,11136,11402,11680,11968,12268,12580,12905,13243,13595,13961,14343,14741,15154,15497,15853,16223,16608,17009,17425,16357,15247,14093,12892,11643,10345,8994,7589,6128,4609,4530,4447,4360,4270,4176,4077,3975,3868,3757,3640,3519,3393,3261,3124,2981,2832,2677,2515,2347,2172,1989,1800,1603,1399,1186,966,737,500,254,0,0,"","","","","","","","","","","","","",null,null,447.850395293921,1354.02050262348,2282.82008992356,3234.81813494417,3210.60129489802,4010.32841025312,4829.99091420028,5670.08767149587,6531.13006156939,7413.64497189847,8318.17048056472,9245.25581500909,10195.4643331251,11169.3685251864,12167.5618259412,12295.5895658339,12426.7998390929,12561.2727380574,12699.0918783153,12840.3445586219,12985.1219280917,13133.5191610543,13285.6356399908,13441.5735764174,13601.440221222,13765.3468631713,13933.4097266306,14105.7500351696,14282.4979304386,14463.7905853059,14649.7741126586,14840.606147656,15036.4558286616,15237.505863898,15443.9537536832,15656.0120729302,15873.9094372236,16097.8915099233,16328.220760688,16565.1797503467,16809.0697251859,17060.2129434445,17318.9517203732,17585.6565022883,17860.7297245996,18143.2825532481,18345.5324598257,18553.0199137145,18765.8149769424,18983.9627874064,19207.4848409171,19436.3779077945,18170.5877124175,16872.8168022563,15542.2208531191,14177.9623275013,12779.2082111507,11345.1402442634,9874.99694342873,8368.05386365234,6823.65086217029,5241.22369193011,5120.35672543806,4997.37888068126,4872.32412935793,4745.14455070173,4615.75657621855,4484.06285040241,4349.8231913672,4212.84417069055,4072.84099648727,3929.64240041762,3782.92093907677,3632.39221240039,3477.86693418862,3319.04222032674,3155.69673426952,2987.58807850846,2814.43440992567,2636.08495104933,2452.17919311048,2262.4760815168,2066.95998168516,1865.09555217725,1656.75637326186,1441.46335200394,1219.35483830437,989.861870503854,753.121648297064,508.947679933172,257.791959223244,0,0,"","","","","","","","","","","","",""]
["14_15_M",15,14,"M",null,863,0,362,836,1397,2006,1715,2185,2679,3200,3747,4323,4929,5566,6234,6937,7675,7808,7946,8090,8239,8394,8555,8722,8896,9077,9265,9461,9664,9875,10094,10322,10559,10805,11061,11327,11604,11892,12191,12503,12827,13164,13516,13881,14262,14659,15072,15415,15772,16143,16529,16930,17347,16280,15171,14017,12817,11570,10272,8922,7518,6059,4541,4462,4380,4295,4206,4113,4017,3916,3810,3701,3586,3467,3342,3212,3077,2936,2789,2637,2477,2312,2139,1960,1773,1579,1378,1168,951,726,492,250,0,0,"","","","","","","","","","","","","","",null,null,449.603957211841,1355.59391735295,2284.20791059158,3236.01746996246,3211.60710312381,4013.73128869682,4835.84816559104,5678.45786415077,6542.07553401184,7427.22732645445,8334.45026852665,9264.29507366319,10217.3212413317,11194.1085366196,12195.2525701588,12326.5154253331,12461.039360769,12598.9076471014,12740.2072296085,12885.0288950991,13033.4674464456,13185.621885174,13341.5939293357,13501.4903235339,13665.4217342949,13833.5036446179,14005.8563116174,14182.6089868565,14363.8977230646,14549.8672760812,14740.673987625,14936.485458645,15137.4827103934,15343.8615033582,15555.8327190688,15773.623222331,15997.4768641994,16227.6543393951,16464.4362626889,16708.1219620582,16959.0316992246,17217.5058131808,17483.9124779958,17758.6515454132,18041.1759301986,18244.6963558897,18453.4814327553,18667.6015946099,18887.1023776432,19112.0116663234,19342.3213223819,18077.9776522614,16781.6838826472,15452.6049378623,14089.8966891423,12692.716862721,11260.2677458422,9791.77850394908,8286.52490365242,6743.83112979692,5163.14602988617,5044.07537669604,4922.93281984964,4799.72707351643,4674.43925863508,4546.99410423508,4417.21181914292,4284.94026770555,4150.0022376679,4012.06289428033,3870.95206378606,3726.34412315118,3578.05909173033,3425.83596941259,3269.385076256,3108.5037678779,2942.97651596441,2772.38457788171,2596.75158918057,2415.55958131943,2228.7979600232,2036.00911674565,1837.13577888626,1631.85564947399,1419.71862235112,1200.91590903343,974.97682495907,741.669852095065,501.301258398349,253.966279463081,0,0,"","","","","","","","","","","","","",""]
["15_15_M",15,15,"M",null,850,0,363,838,1401,2012,1722,2197,2696,3221,3774,4355,4967,5609,6284,6994,7739,7876,8020,8169,8323,8484,8652,8825,9006,9194,9389,9591,9802,10021,10248,10485,10731,10986,11252,11529,11816,12115,12426,12749,13086,13437,13802,14182,14578,14990,15334,15691,16063,16450,16851,17269,16203,15095,13942,12743,11496,10199,8850,7448,5989,4472,4395,4315,4231,4143,4052,3956,3857,3753,3645,3532,3415,3292,3164,3031,2892,2748,2597,2440,2277,2107,1931,1747,1556,1357,1151,937,715,485,247,0,0,"","","","","","","","","","","","","","","",null,null,451.628285897801,1357.63135155894,2286.26013489696,3238.08438908457,3213.69050715597,4018.42349213023,4843.21167835014,5688.55887127021,6554.97971805567,7442.99950045946,8353.15675857131,9285.99853027604,10242.0914199664,11222.0173904939,12226.368903695,12360.947380454,12498.8684112932,12640.2185910677,12785.088347456,12933.5721151745,13085.768518228,13241.7787849388,13401.7091575225,13565.669684504,13733.775112128,13906.1447362521,14082.9069236367,14264.1966128085,14450.1572092127,14640.9437679612,14836.7223602235,15037.6723285801,15243.9877024923,15455.8776792196,15673.5673824485,15897.2988611694,16127.3310457823,16363.9426164999,16607.4309949361,16858.1144589623,17116.3313844771,17382.4476878173,17656.8606530609,17939.3649629164,18144.1602191693,18354.2518576937,18569.7064427948,18790.5699409577,19016.8766623847,19248.6136023039,17985.7276954758,16690.9228994287,15363.3649798331,14002.2106827148,12606.6286467722,11175.8130067778,9708.99350375676,8205.4324147763,6664.48159338083,5085.57722403942,4968.30531268051,4848.97389468137,4727.61446282217,4604.21293043442,4478.66125461592,4350.8687979056,4220.60608742079,4087.6949742689,3951.87138018126,3812.91083827918,3670.49225337568,3524.44199799876,3374.50767858578,3220.41157259464,3061.96797670609,2898.82790542108,2730.89183962251,2557.90345099688,2379.54544029924,2195.64505434555,2005.74360575391,1809.78346986375,1607.44333470029,1398.66825691276,1183.0579086306,960.483339583158,730.840112680519,494.060507286167,250.140599702919,0,0,"","","","","","","","","","","","","","",""]
["16_15_M",15,16,"M",null,837,0,365,841,1405,2018,1731,2210,2714,3245,3803,4390,5007,5656,6338,7054,7807,7950,8099,8253,8414,8581,8754,8934,9122,9317,9519,9729,9948,10175,10411,10657,10912,11177,11453,11740,12038,12349,12672,13008,13357,13722,14101,14496,14908,15253,15611,15983,16370,16773,17191,16126,15018,13866,12668,11422,10127,8779,7377,5920,4404,4328,4249,4166,4080,3990,3896,3798,3696,3589,3478,3362,3242,3116,2985,2848,2706,2557,2403,2242,2075,1901,1720,1532,1336,1133,923,704,478,243,0,0,"","","","","","","","","","","","","","","","",null,null,453.92341446353,1360.12912639151,2288.96502045382,3241.0027692406,3216.82672440443,4024.37392238421,4852.04596399883,5700.3463936117,6569.78917963124,7460.9011359573,8374.21734094629,9310.29172138075,10269.6930926987,11253.0003534018,12260.8113200494,12398.7839735948,12540.1835987104,12685.1002629548,12833.628031859,12985.8651508361,13141.9123573148,13301.8753899083,13465.8636778185,13633.9912290979,13806.3763767265,13983.1466010148,14164.4357244364,14350.3857999675,14541.1505939833,14736.8946454932,14937.7956158192,15144.0458006515,15355.8527101385,15573.4397238358,15797.0470854772,16026.931957832,16263.3710829695,16506.6599724163,16757.1149162445,17015.0723231548,17280.895847227,17554.9801998851,17837.4618258203,18043.5291982053,18254.9198309671,18471.7057467133,18693.9342746838,18921.6292012016,19154.7898685103,17893.3579878124,16600.0459939298,15274.0136731737,13914.4187440556,12520.4307649224,11091.2334781968,9626.06665065892,8124.20643621624,6584.97727018432,5007.82867713208,4892.34715073445,4774.84233841243,4655.34911573949,4533.82470850422,4410.19630072881,4284.33692258072,4156.06791031465,4025.16569903344,3891.43629603946,3754.60008118403,3614.43006515127,3470.58768412886,3322.90894994138,3171.12614667224,3015.06778704697,2854.4053903992,2689.06949811637,2518.65180119775,2343.02779028647,2161.85040255353,1974.91714565936,1781.99030657614,1582.77220308992,1377.24993522406,1165.09907372775,945.83595975159,719.765886981866,486.414085751344,246.314919942757,0,0,"","","","","","","","","","","","","","","",""]
["17_15_M",15,17,"M",null,823,0,366,844,1410,2025,1739,2223,2732,3268,3832,4424,5048,5703,6392,7115,7875,8023,8177,8338,8504,8678,8858,9045,9239,9441,9651,9869,10096,10332,10577,10831,11096,11372,11658,11956,12265,12588,12923,13272,13636,14014,14409,14820,15165,15524,15897,16285,16688,17107,16043,14936,13785,12588,11343,10048,8702,7301,5845,4330,4255,4177,4096,4011,3923,3831,3734,3634,3529,3420,3306,3187,3064,2935,2800,2660,2515,2363,2205,2040,1869,1691,1506,1314,1114,907,692,470,239,0,0,"","","","","","","","","","","","","","","","","",null,null,455.985473228409,1362.01797736347,2290.67713008794,3242.53251476278,3218.1684093267,4028.31450302841,4858.64760397219,5709.67049401998,6581.89839196361,7475.85457860643,8392.08044462217,9331.13180439961,10293.5741720179,11279.9913214763,12290.9836639346,12432.4361028907,12577.4028365496,12725.9775324695,12878.2580279451,13034.3445313107,13194.3422383795,13358.3599108914,13526.5107613797,13698.9120852674,13875.6904076046,14056.9783482623,14242.916502929,14433.6572493047,14629.3634754817,14830.2110312189,15036.3903440319,15248.1071061073,15465.5828175693,15689.055776823,15918.7812417859,16155.0338659421,16398.1071023949,16648.3150990181,16905.9921444421,17171.499454761,17445.2289689649,17727.6210896532,17935.0589020453,18147.849529404,18366.0654592014,18589.7545257334,18818.9470223964,19053.637519397,17793.7684723373,16502.0531844449,15177.6524446101,13819.7250275602,12427.441482932,10999.9974923619,9536.6114923768,8036.57073524969,6499.19998571218,4923.94941730328,4810.40698513247,4694.88529944148,4577.39510907119,4457.92427786589,4336.36997354217,4212.60360652197,4086.50010650138,3957.79405656455,3826.2948743156,3691.7278711757,3553.87283131722,3412.50209330077,3267.27499831174,3118.03183926085,2964.62628172978,2806.76582818525,2644.08109348075,2476.47355405262,2303.66447257754,2125.54221409258,1941.74664232643,1752.07178916746,1556.27427431778,1354.04384568731,1145.38319779778,929.945603371068,707.740761007651,478.304299613117,242.19495712412,0,0,"","","","","","","","","","","","","","","","",""]
["18_15_M",15,18,"M",null,982,0,365,843,1409,2023,1738,2191,2668,3170,3698,4253,4837,5451,6095,6772,7484,7584,7689,7798,7911,8028,8149,8276,8407,8543,8685,8831,8984,9142,9306,9476,9653,9837,10028,10226,10432,10646,10868,11099,11339,11588,11848,12019,12198,12383,12576,12776,12984,13201,13427,13663,13908,14165,14433,14713,15005,15307,15621,15947,16285,16636,17000,15877,14708,13492,12226,10910,9541,8118,6638,5100,3501,3341,3174,3000,2819,2630,2434,2230,2018,1797,1568,1329,1082,826,560,285,0,0,"","","","","","","","","","","","","","","","","","",null,null,430.555762192038,1337.29993865657,2266.68731391817,3219.28789441419,3195.68733601873,3974.80589095287,4773.32072324474,5591.71327524066,6430.47181886841,7290.10123213639,8171.11947123878,9074.05244136606,9999.4427120875,10947.8477645085,11919.840851552,12019.9251339768,12122.4490083727,12227.4748527061,12335.0652574347,12445.2860759045,12558.2041509576,12673.8878825615,12792.4056422218,12913.8330987528,13038.2472113757,13165.7274348608,13296.3621130903,13430.2437367383,13567.4718139379,13708.1551962413,13852.4137994565,14000.3776703276,14152.1876144876,14307.9965512161,14467.9685631779,14632.2809890148,14801.1243915417,14974.7034160847,15153.237471575,15336.9631421996,15526.1395153797,15622.8535963239,15722.6971848374,15825.8669969318,15932.5841770475,16043.1021654503,16157.7097610255,16276.7308029735,16400.5309528047,16529.5247163608,16664.1964522836,16805.1382407571,16953.1108751163,17109.0305373843,17270.275409588,17437.2278621977,17610.2434982102,17789.6006737828,17975.3921618963,18167.3805006287,18364.8911360385,17066.7039362676,15735.3595508111,14369.2577476181,12966.8546079369,11526.5758541951,10047.0697249466,8527.16400527512,6966.12279430031,5363.63444535541,3720.20389884892,3537.11698265105,3348.6944147409,3154.6696047219,2954.73059433659,2748.70853900426,2536.19939217777,2316.92173613373,2090.52042532477,1856.86254206523,1615.47433519104,1366.52059008422,1109.497849801,844.127909159997,570.640110995922,288.98596342149,0,0,"","","","","","","","","","","","","","","","","",""]
[{"$f":"C70&\"_\"&B70&\"_\"&D70","v":"19_15_M"},15,19,"M",null,971,0,366,844,1411,2026,1741,2198,2678,3183,3715,4274,4862,5479,6128,6810,7526,7630,7739,7852,7969,8090,8216,8347,8483,8624,8771,8923,9081,9245,9415,9592,9775,9965,10163,10369,10582,10804,11034,11273,11522,11781,11953,12132,12318,12511,12712,12921,13138,13365,13601,13847,14104,14372,14653,14945,15248,15563,15890,16230,16582,16946,15824,14657,13442,12178,10863,9496,8074,6595,5059,3462,3304,3139,2967,2788,2601,2407,2205,1995,1777,1550,1315,1070,817,554,282,0,0,"","","","","","","","","","","","","","","","","","","",null,null,431.231773979411,1337.590085932,2266.58049893828,3218.77360611707,3194.75411395993,3975.62998700046,4775.93999816644,5596.16142243053,6436.78730251057,7298.32331847536,8181.2828756302,9086.19535228428,10013.6044758091,10964.0691576314,11938.1643686674,12040.7981898312,12145.933188636,12253.6316098621,12363.958953428,12476.981617209,12592.7674625698,12711.3841432543,12832.9066765779,12957.4111881463,13084.9761124457,13215.6888303778,13349.6406785867,13486.9298974254,13627.6640356214,13771.9617514389,13919.9517960147,14071.7736384964,14227.5789005226,14387.5302393211,14551.8036001457,14720.5881001209,14894.0869655915,15072.5179620409,15256.1157952756,15445.1370099258,15542.7655416734,15643.5225972425,15747.6024487113,15855.2235761678,15966.6362125329,16082.1255649781,16202.0118052689,16326.6566839717,16456.4704613242,16591.9322874359,16733.6270655875,16882.3050564135,17038.9612203803,17201.6481150714,17370.0712887796,17544.5860490515,17725.4707322298,17912.7938781694,18106.3390036869,18305.4682400921,17008.9392091637,15679.2535414875,14314.8581564894,12914.1589390427,11475.6455540091,9997.90321363999,8479.84363459629,6920.75594389507,5320.24817775349,3678.8268575703,3497.78041609584,3311.43370213593,3119.52658982648,2921.75719382504,2717.97244753985,2507.79329284452,2290.97859130997,2067.23943172032,1836.20530428238,1597.75196351185,1351.37220598026,1097.25265180978,834.822399793229,564.326089090549,285.748849778276,0,0,"","","","","","","","","","","","","","","","","","",""]
["20_15_M",15,20,"M",null,961,0,367,846,1414,2031,1748,2208,2692,3201,3737,4300,4893,5515,6169,6856,7577,7686,7798,7915,8036,8162,8293,8429,8570,8716,8868,9026,9189,9359,9535,9718,9909,10106,10311,10524,10745,10975,11214,11462,11721,11893,12072,12259,12452,12654,12863,13081,13308,13544,13790,14048,14316,14598,14891,15195,15511,15839,16179,16532,16898,15777,14610,13396,12134,10820,9454,8033,6557,5022,3427,3270,3106,2936,2759,2574,2382,2182,1975,1759,1534,1301,1059,808,548,279,0,0,"","","","","","","","","","","","","","","","","","","","",null,null,432.619013770751,1339.29601220656,2268.61251113284,3221.13865283058,3197.4585807651,3980.66727317433,4783.35799862522,5606.01268278234,6449.12547371703,7313.19809769313,8198.74757256293,9106.30473632726,10036.4150583225,10989.6394897522,11966.5553554318,12071.7892061389,12179.5854342964,12290.0092181559,12403.1265506754,12519.0048031441,12637.7109763023,12759.3194946935,12883.9057255281,13011.5471751314,13142.3303483205,13276.3455318979,13413.6898129029,13554.4695548429,13698.8022718967,13846.8155364614,13998.6476017273,14154.4489086533,14314.3808175261,14478.6180057508,14647.3482749882,14820.7735603521,14999.1101319078,15182.5909863271,15371.4703547998,15469.9293804443,15571.5160012453,15676.4222647682,15784.8642258858,15897.0891981861,16013.3791196004,16134.0508234156,16259.4624998307,16390.0205438641,16526.199364014,16668.5773308555,16817.8951189136,16975.1337587059,17139.1189920156,17308.8633464492,17484.7208890081,17666.9686358707,17855.6989591312,18050.675765717,18251.2285421083,16956.1446688112,15627.9764783765,14265.1403352007,12865.9895946107,11429.074859661,9952.99505268325,8436.67979578418,6879.23855764301,5280.46185549792,3640.75664970721,3461.54013249252,3277.1784296953,3087.29500051759,2891.5954442938,2689.93859164578,2481.96440455194,2267.46257839164,2045.88466878377,1817.10046724888,1581.03543575173,1337.27114757654,1085.66231523022,826.090220198676,558.47543178858,282.806019193536,0,0,"","","","","","","","","","","","","","","","","","","",""]
["21_15_M",15,21,"M",null,950,0,368,848,1417,2036,1754,2217,2705,3218,3758,4325,4922,5549,6208,6900,7627,7739,7856,7977,8103,8233,8369,8510,8656,8807,8965,9128,9298,9474,9656,9846,10043,10248,10460,10681,10910,11149,11397,11654,11827,12007,12194,12388,12589,12799,13018,13245,13482,13729,13986,14255,14537,14831,15136,15453,15782,16123,16477,16844,15724,14559,13347,12085,10773,9408,7989,6514,4981,3388,3232,3071,2903,2727,2545,2355,2158,1952,1739,1517,1286,1047,799,542,276,0,0,"","","","","","","","","","","","","","","","","","","","","",null,null,433.683711152233,1340.28428546311,2269.52100326886,3221.96315928389,3198.19485996552,3983.49200906983,4788.31633674309,5613.15058473393,6458.48495659371,7324.82425877548,8212.68659448509,9122.60415129874,10055.1240270398,11010.809095726,11990.2389155068,12098.1429388439,12208.6730203406,12321.8947077599,12437.8748335402,12556.6796803805,12678.3830210413,12803.0593887981,12930.7852693344,13061.646204119,13195.7313255139,13333.1364523319,13473.9666447822,13618.3381590095,13766.3772712844,13918.2208977608,14074.0181811853,14233.9290557895,14398.1268049478,14566.7977839494,14740.1425082184,14918.375603592,15101.728187501,15290.4519473154,15389.8249554436,15492.3245554823,15598.1403494996,15707.4857262696,15820.6047900116,15937.7758846467,16059.3121735024,16185.5679330162,16316.9453094354,16453.9134989896,16597.0436906685,16747.066020094,16904.9462027397,17070.3688378141,17241.5788738697,17418.9299828891,17602.6990324176,17792.978912947,17989.5351836739,18191.7006203932,16898.267987095,15571.7503722272,14210.5565125407,12813.1559580793,11377.9931946476,9903.74162942029,8389.26235930911,6833.7622258217,5236.95077591571,3599.23565062179,3422.17686679619,3239.88608413385,3052.11392007017,2858.77223228624,2659.38990807608,2453.7971654774,2241.5546570484,2022.65084845629,1796.50823525895,1563.0136634772,1322.12276347259,1073.417117239,816.784710831907,552.161409883208,279.568905550321,0,0,"","","","","","","","","","","","","","","","","","","","",""]
["22_15_M",15,22,"M",null,939,0,369,850,1421,2041,1760,2227,2719,3236,3780,4353,4954,5586,6250,6948,7680,7797,7918,8043,8174,8309,8449,8595,8747,8904,9067,9236,9412,9594,9783,9980,10184,10396,10617,10846,11083,11331,11588,11761,11941,12129,12323,12525,12736,12954,13182,13419,13667,13925,14194,14476,14771,15077,15395,15725,16067,16422,16790,15672,14508,13297,12036,10726,9362,7945,6471,4940,3348,3195,3035,2869,2696,2515,2328,2132,1929,1718,1499,1271,1035,790,536,272,0,0,"","","","","","","","","","","","","","","","","","","","","","",null,null,434.950653838361,1341.63217291829,2270.94961269404,3223.47223595516,3199.78253973764,3987.33887366809,4794.47155587109,5621.65973398612,6469.39647146885,7338.18762383018,8228.55260350688,9141.02518194595,10076.1543306571,11034.5051030946,12016.6565755548,12127.2918269458,12240.6167099439,12356.697516907,12475.5998111062,12597.3967121102,12722.1619176762,12849.970891072,12980.9082085956,13115.0618461325,13252.526352056,13393.4054809295,13537.8142284333,13685.8775721356,13837.7310884228,13993.5226189984,14153.4106689718,14317.5671245013,14486.1768911267,14659.4390610719,14837.5666120752,15020.7887780596,15209.3546974772,15309.6393661569,15413.0495268299,15519.7723283123,15630.0184846201,15744.0288805719,15862.0782546915,15984.4760878317,16111.5727286989,16243.7660590661,16381.5200443705,16525.3986688025,16676.1214983284,16834.6388916116,17001.4942484754,17174.1648620544,17353.0039084668,17538.2879761544,17730.1103097384,17928.2379181608,18132.006621219,16840.1738012815,15515.290943385,14155.7751639435,12760.1073520411,11326.6756857585,9854.22722424976,8341.5534506624,6787.95713982198,5193.06490706326,3557.40919244551,3382.31527571361,3202.16115843654,3016.58845648305,2825.33062495076,2628.28966355947,2424.92693579151,2215.28233387167,1998.92900058674,1775.59218063943,1544.92333554768,1306.8735448686,1061.01802479212,807.23471518103,545.441717555195,276.331791907107,0,0,"","","","","","","","","","","","","","","","","","","","","",""]
["23_15_M",15,23,"M",null,927,0,369,852,1424,2045,1766,2237,2732,3254,3802,4379,4985,5622,6291,6994,7732,7853,7978,8109,8244,8384,8529,8680,8837,9000,9169,9344,9526,9715,9911,10115,10327,10547,10775,11012,11259,11515,11689,11870,12058,12253,12455,12666,12886,13114,13352,13599,13858,14128,14410,14706,15013,15332,15663,16006,16363,16732,15615,14452,13242,11983,10674,9313,7897,6425,4895,3305,3154,2996,2832,2661,2483,2298,2105,1905,1696,1480,1255,1022,780,529,269,0,0,"","","","","","","","","","","","","","","","","","","","","","","",null,null,435.911332144615,1342.29377204581,2271.3021256684,3223.50375724465,3199.48259619491,3989.0755406738,4798.28378889873,5627.58882265365,6477.48441711043,7348.47738321197,8241.08834623606,9155.85256223883,10093.3207741804,11054.0571733102,12038.643117373,12152.0839467905,12268.2780525475,12387.2902171142,12509.1928515816,12634.0587468336,12761.9622559315,12892.9869075568,13027.2194219011,13164.7529678359,13305.6898824068,13450.1437933051,13598.2382688197,13750.1074317093,13905.897712586,14065.7660664303,14229.8828644228,14398.4314403756,14571.6093441338,14749.6277667593,14932.7138998402,15121.1141160082,15222.400071882,15326.8106008029,15434.5301978498,15545.7666842879,15660.7574620192,15779.7733695022,15903.1199067191,16031.143178179,16164.2364591406,16302.8580625594,16447.5641803136,16599.0629372139,16758.2880604285,16926.4925494523,17100.7562723383,17281.2193734262,17468.1585964206,17661.6682331669,17861.4884498796,18066.9819943941,16776.9118026362,15453.8377115047,14096.1884751794,12702.3979386845,11270.9222484875,9800.37001114865,8289.68438772503,6738.09521074447,5145.34267489347,3511.8763951347,3339.03216253537,3161.20328381391,2978.05395702779,2789.35144809598,2594.82918720931,2394.16188048891,2187.19685811424,1973.4823968917,1753.05267210071,1525.33432999325,1290.2924911248,1047.52985025195,796.9783055387,538.664331046417,272.800395205419,0,0,"","","","","","","","","","","","","","","","","","","","","","",""]
["24_15_M",15,24,"M",null,915,0,370,854,1427,2050,1773,2248,2747,3273,3826,4408,5019,5661,6336,7045,7789,7914,8044,8179,8319,8464,8615,8771,8934,9102,9277,9459,9647,9843,10046,10258,10477,10705,10941,11187,11443,11618,11799,11987,12183,12386,12597,12817,13046,13284,13533,13792,14062,14345,14641,14949,15269,15601,15946,16303,16674,15558,14396,13188,11931,10623,9263,7849,6379,4851,3263,3113,2958,2796,2627,2451,2268,2078,1880,1675,1461,1239,1009,770,522,265,0,0,"","","","","","","","","","","","","","","","","","","","","","","","",null,null,437.092237914887,1343.36451144782,2272.25577772627,3224.33469589494,3200.18530796069,3992.01739021033,4803.51030949027,5635.14625315716,6487.41994297953,7360.83939105604,8255.92669256672,9173.21885710341,10113.2658133725,11076.6339690343,12063.9043648652,12180.2208916882,12299.3523105515,12421.3703348512,12546.3468607115,12674.3551445637,12805.4776814182,12939.7999513512,13077.4137606684,13218.4200468599,13362.9310882259,13511.0690634865,13662.966662671,13818.7689269634,13978.6312846823,14142.7226164068,14311.2247100693,14484.3335999979,14662.2587201975,14845.2252525714,15033.4768429436,15135.7818536334,15241.2112581613,15349.9469572088,15462.1939455502,15578.1862189377,15698.190802901,15822.5093123191,15951.4837143997,16085.5027980491,16225.0193654869,16370.5819939155,16522.8876023094,16682.8536059411,16851.7101521189,17027.5759796607,17209.6730559662,17398.2785099411,17593.4630564454,17795.018178541,18002.253303821,16713.9652639847,15392.7228823312,14036.9128179119,12644.9644906701,11215.4003547421,9746.8496077255,8238.19148361482,6688.65755471328,5097.99050879893,3466.64360919418,3296.09953312556,3120.50282760779,2939.65305967008,2753.33904185756,2561.32724664142,2363.34397707237,2159.04242087008,1948.25383656858,1730.4649421831,1505.67676878382,1273.61060288098,1033.88778125612,786.477409612262,531.481274114999,269.26899850373,0,0,"","","","","","","","","","","","","","","","","","","","","","","",""]
["25_15_M",15,25,"M",null,903,0,371,857,1431,2056,1781,2260,2764,3294,3852,4439,5055,5703,6384,7099,7849,7979,8113,8253,8398,8549,8705,8867,9035,9210,9391,9579,9775,9977,10188,10407,10634,10870,11116,11371,11546,11728,11917,12113,12316,12528,12749,12978,13217,13466,13725,13996,14279,14575,14884,15205,15539,15884,16243,16615,15500,14340,13133,11877,10571,9213,7800,6332,4806,3220,3072,2919,2759,2592,2419,2238,2050,1855,1652,1441,1222,995,759,515,262,0,0,"","","","","","","","","","","","","","","","","","","","","","","","","",null,null,438.487498104654,1344.80806793198,2273.74593079425,3225.86986044087,3201.76244782707,3996.00596526645,4809.95980535869,5644.10706778053,6498.94363735489,7374.97895394447,8272.73681986147,9192.75346909671,10135.5809520198,11101.7853053357,12091.9475057573,12211.1925785276,12333.3202296763,12458.4014533382,12586.508401212,12717.7225263147,12852.1280593094,12989.8154338286,13130.8841770868,13275.4452068938,13423.6193006376,13575.5377031458,13731.3440532455,13891.1922385883,14055.2496346036,14223.6964679182,14396.7272413117,14574.549614055,14757.3867388807,14945.4795115223,15048.7929731964,15155.2302080197,15264.970486862,15378.2159384621,15495.1971066076,15616.1771518959,15741.4537469482,15871.3646578743,16006.2941155149,16146.6893267591,16293.0911481186,16446.1851522918,16606.8722519165,16776.3594826726,16953.8199269987,17137.5441872307,17327.7887870826,17524.6674528722,17727.9251825065,17936.899079255,16650.3923931572,15330.9361692171,13976.9659086593,12586.9255790861,11159.285423694,9692.6729565785,8186.05636524771,6638.59718581682,5050.04204949709,3420.84988210969,3252.51159266598,3079.18379574477,2900.68396126367,2716.82781404009,2527.20286760796,2331.73274628213,2130.129236187,1922.00911876862,1707.17430504436,1485.41171269638,1256.47555679112,1020.04915729186,776.220999969932,524.703887606222,265.737601802042,0,0,"","","","","","","","","","","","","","","","","","","","","","","","",""]
["26_15_M",15,26,"M",null,891,0,373,860,1436,2063,1790,2273,2782,3317,3880,4472,5094,5748,6435,7157,7914,8048,8188,8332,8483,8639,8800,8968,9143,9323,9511,9706,9909,10119,10337,10564,10799,11044,11299,11474,11657,11846,12043,12247,12459,12680,12910,13149,13399,13659,13930,14214,14510,14820,15142,15477,15824,16183,16556,15443,14284,13079,11825,10520,9163,7752,6285,4761,3177,3032,2880,2722,2558,2387,2209,2023,1831,1630,1422,1206,982,749,508,259,0,0,"","","","","","","","","","","","","","","","","","","","","","","","","","",null,null,440.117577732293,1346.6714477576,2275.84545278844,3228.20700914342,3204.3398328106,4001.19501903375,4817.81473100966,5654.6832136492,6512.29775862348,7391.16948873297,8291.8215121784,9214.79211605522,10160.6329742854,11129.9099869839,12123.2015210354,12245.4431811655,12370.6336138937,12498.8438723476,12630.1543738789,12764.6481068074,12902.4141397782,13043.5505978817,13188.1670468769,13336.3828717647,13488.3278816544,13644.1443228478,13803.9845529784,13968.0144533885,14136.4127011288,14309.372279621,14487.0990868431,14669.8142611742,14857.7559659613,14962.0859416992,15069.5394055958,15180.2930256377,15294.5460945978,15412.5257391363,15534.4912944614,15660.7365343964,15791.5950724638,15927.4466359688,16068.732900795,16215.9870833767,16369.8835169254,16531.3067564811,16701.4409233728,16880.4978872433,17065.8499631393,17257.7539172098,17456.2997190384,17661.2834617698,17872.0231862887,16587.288940759,15269.6530143045,13917.5084289267,12529.294251815,11103.5464358522,9638.91231952092,8134.29516123971,6588.95855841026,5002.57438768957,3375.61070557908,3209.43002014524,3038.4647050898,2862.43680275104,2681.00362017612,2493.93578179872,2300.96769097953,2102.04376042957,1896.56251507358,1684.63479650564,1465.82270714195,1239.89450304732,1006.56098275169,765.964590327603,517.926501097444,262.206205100354,0,0,"","","","","","","","","","","","","","","","","","","","","","","","","",""]
["27_15_M",15,27,"M",null,878,0,374,862,1440,2069,1798,2285,2799,3339,3907,4505,5133,5793,6486,7214,7978,8117,8261,8411,8567,8728,8896,9070,9250,9438,9632,9834,10044,10261,10488,10723,10967,11221,11397,11580,11770,11967,12172,12385,12606,12837,13076,13326,13587,13859,14143,14440,14751,15074,15410,15758,16119,16493,15381,14224,13020,11767,10464,9109,7700,6235,4713,3131,2988,2838,2683,2521,2352,2177,1994,1804,1607,1402,1189,968,739,501,255,0,0,"","","","","","","","","","","","","","","","","","","","","","","","","","","",null,null,441.472083208759,1347.89402039533,2276.92797783506,3229.14198968424,3205.11995194464,4004.37849511122,4823.44998735731,5662.81974437413,6522.98638824352,7404.46010041954,8307.7656118641,9233.44046310467,10182.035730869,11154.1141876818,12150.2600575865,12275.5692436158,12403.8918786439,12535.3072586742,12669.8970268495,12807.7487738338,12948.9591065515,13093.6361268692,13241.897712248,13393.8721173682,13549.7000809283,13709.5323040898,13873.5330506876,14041.8793202184,14214.7624513309,14392.3864352574,14574.9702296171,14762.7490394121,14868.1810313589,14976.7362357254,15088.5885033553,15203.9340576813,15322.9963268999,15446.0305059352,15573.3261491852,15705.2123763045,15842.0640411291,15984.3168339436,16132.495702356,16287.2628139654,16449.4850173383,16620.321629317,16801.1046245516,16988.2173028195,17181.9170298753,17382.2955281814,17589.123109239,17801.74625388,16518.9426184743,15203.2483983982,13853.1077151777,12466.9771127942,11043.3440871704,9580.85910459913,8078.42990133755,6535.32636183006,4951.22887917857,3326.61734308648,3162.87102919269,2994.44643991965,2820.92475310693,2642.13184033175,2457.89214029256,2267.77718553202,2071.72918551035,1869.45489735952,1660.5596716316,1444.85990141811,1222.16528910326,992.264052344202,754.890364628949,510.280079562621,258.380525340192,0,0,"","","","","","","","","","","","","","","","","","","","","","","","","","",""]
["28_15_M",15,28,"M",null,865,0,375,865,1445,2076,1807,2299,2818,3363,3937,4540,5174,5840,6540,7275,8046,8190,8340,8495,8656,8824,8997,9177,9364,9558,9760,9969,10186,10412,10646,10890,11143,11320,11503,11693,11891,12097,12310,12532,12763,13004,13254,13515,13788,14072,14370,14681,15006,15342,15692,16054,16430,15319,14163,12961,11710,10408,9055,7648,6185,4664,3084,2943,2796,2643,2483,2317,2144,1964,1777,1583,1381,1171,953,727,493,251,0,0,"","","","","","","","","","","","","","","","","","","","","","","","","","","","",null,null,443.067426899874,1349.55572877118,2278.65341673534,3230.9286851959,3206.96582338786,4008.84413938435,4830.58902336958,5672.68711225803,6535.6362159611,7419.94808905699,8326.14676406027,9254.76916991545,10206.3632369165,11181.4973205434,12180.753579528,12309.1950992189,12440.7220641964,12575.4147823283,12713.3593770621,12854.6509485731,12999.396146657,13147.7113537634,13299.7232834261,13455.5711805107,13615.4041046223,13779.3847175824,13947.6883577626,14120.504736113,14298.0359559463,14480.4988148749,14668.1255843527,14774.670885864,14884.3395942438,14997.3027809099,15113.7536420705,15233.9119562528,15358.0288334813,15486.3896696007,15619.3191583417,15757.1873564478,15900.4240587004,16049.5460567896,16205.2035022742,16368.2457403892,16539.8075598022,16721.4158481593,16910.2762873882,17105.7786809851,17307.9747354015,17516.6581739289,17731.1464773697,16450.2521531599,15136.5217528608,13788.3591507575,12404.2188708835,10982.6578028053,9522.27037245254,8021.96656025071,6481.01958390857,4899.22794589769,3276.99483726254,3115.71852841161,2949.72498843734,2778.74268609169,2602.63659186941,2421.07052352191,2233.84159910205,2040.71881985247,1841.41543734179,1635.54913781589,1422.95905639577,1203.49673887354,977.028557375338,743.43856842695,502.633658027799,254.554845580029,0,0,"","","","","","","","","","","","","","","","","","","","","","","","","","","",""]
["29_15_M",15,29,"M",null,851,0,376,868,1450,2082,1815,2313,2836,3387,3966,4575,5215,5888,6594,7335,8114,8263,8418,8579,8746,8919,9099,9285,9479,9680,9888,10105,10330,10564,10807,11059,11236,11421,11612,11810,12016,12230,12453,12685,12926,13177,13439,13711,13996,14294,14607,14932,15270,15621,15984,16362,15253,14098,12897,11648,10349,8997,7592,6131,4612,3035,2896,2751,2600,2443,2280,2110,1933,1749,1557,1359,1152,938,716,485,247,0,0,"","","","","","","","","","","","","","","","","","","","","","","","","","","","","",null,null,444.410671677433,1350.62484910411,2279.43685857864,3231.4148720574,3207.14338223145,4011.46109641563,4835.69395132059,5680.32760020974,6545.86104503109,7432.80505707879,8341.68268905724,9273.02734139347,10227.3918141049,11205.3418165786,12207.4573968006,12339.1109273523,12473.9211104947,12611.9724998643,12753.358583875,12898.1844598284,13046.5649121134,13198.6250072376,13354.5023944581,13514.3443797784,13678.3119145538,13846.5785639238,14019.3323022186,14196.7732175651,14379.1158012101,14566.5891890556,14674.3442118728,14785.2232994692,14899.3945660122,15017.0479877958,15138.3994594778,15263.6957447914,15393.2178192029,15527.2856748748,15666.2642753054,15810.5771522134,15960.7324216938,16117.3674376292,16281.3128892867,16453.6774139459,16635.9528033867,16826.7249223995,17024.1604251462,17228.3308598236,17439.0344614844,17655.5616175241,16376.72174581,15065.1058782392,13719.1342415301,12337.2204041151,10917.8545744665,9459.77240304945,7961.82728919017,6423.30377060797,4844.01555134253,3224.25993080331,3065.55541044785,2902.25742530943,2734.13741936908,2560.92739531661,2382.29249551019,2198.0329047206,2007.92364098822,1811.68917519122,1609.31614093527,1400.12961679669,1184.33485528963,961.488650418896,731.413442452735,494.523871889572,250.434882761393,0,0,"","","","","","","","","","","","","","","","","","","","","","","","","","","","",""]
["30_15_M",15,30,"M",null,838,0,378,871,1456,2091,1827,2329,2859,3415,4001,4616,5263,5942,6656,7405,8192,8347,8507,8674,8846,9026,9212,9405,9605,9814,10030,10254,10487,10730,10981,11159,11344,11536,11735,11941,12156,12379,12612,12853,13105,13367,13641,13926,14224,14537,14864,15203,15555,15920,16298,15190,14038,12838,11591,10293,8943,7539,6080,4564,2988,2851,2709,2560,2406,2245,2077,1903,1722,1534,1338,1135,924,705,478,243,0,0,"","","","","","","","","","","","","","","","","","","","","","","","","","","","","","",null,null,446.517492698043,1353.18581088,2282.45875383141,3234.90506434387,3211.11005757187,4018.46940406707,4845.80570595106,5693.60607461765,6562.368944275,7452.60448447004,8364.83266058641,9299.59184749255,10257.4325522036,11238.9186314633,12244.6374042295,12379.5534854533,12517.7007640801,12659.171226643,12804.0685234119,12952.5059491063,13104.6070347504,13260.5079416391,13420.3543405792,13584.3055875184,13752.5335934756,13925.2247123623,14102.5771524124,14284.8032537139,14472.1292291931,14581.0023765597,14692.9999836214,14808.2874012005,14927.0515963231,15049.5048347809,15175.8898190218,15306.4833919112,15441.6011486563,15581.6032882266,15726.9074852502,15878.0137480435,16035.5474782195,16200.321948325,16373.4213852715,16556.3048211935,16748.8264738603,16948.045392051,17154.0345538327,17366.566014382,17584.9926449596,16308.1045867074,14998.4107281475,13654.4196979292,12274.4991874115,10857.2089105991,9401.22862104185,7905.50485197798,6369.25756605913,4792.19806177508,3174.84900847158,3018.6500888974,2857.82883005843,2692.30776121272,2521.66678822299,2345.76366842555,2164.4704926452,1977.40023042451,1784.30187297256,1584.85560478268,1379.01069570333,1166.37602038678,946.841270587328,720.339216754081,486.877450354749,246.609203001231,0,0,"","","","","","","","","","","","","","","","","","","","","","","","","","","","","",""]
["31_15_M",15,31,"M",null,823,0,379,874,1461,2098,1836,2344,2878,3440,4031,4653,5306,5992,6713,7470,8264,8424,8590,8763,8941,9127,9320,9520,9727,9943,10167,10399,10641,10892,11070,11255,11448,11648,11855,12070,12294,12527,12770,13022,13285,13559,13845,14144,14457,14785,15125,15478,15845,16225,15119,13968,12770,11524,10228,8881,7479,6022,4508,2935,2800,2660,2515,2363,2205,2040,1869,1691,1506,1314,1114,907,692,470,239,0,0,"","","","","","","","","","","","","","","","","","","","","","","","","","","","","","","",null,null,447.878618244833,1354.11708349886,2282.94414317599,3234.92852565909,3210.65575910594,4020.47286918382,4850.31306231801,5700.66231876935,6572.01780875277,7464.88595382621,8379.79057746744,9317.26686292627,10277.8623569096,11262.1467692109,12270.7061084292,12408.9650459962,12550.5339187847,12695.5147090991,12844.0189945961,12996.1685364832,13152.0977811397,13311.9505147343,13475.8842545698,13644.0690054079,13816.6892538812,13993.9410418015,14176.0342301107,14363.1916626075,14473.3565644638,14586.6464487506,14703.2234831947,14823.2711685969,14946.9975905554,15074.6407733192,15206.4728000501,15342.8042022363,15483.989692208,15630.4401992621,15782.6463926897,15941.2199043577,16106.9539395709,16280.9045988425,16464.4931676912,16659.0472331788,16860.3434523049,17068.4584085928,17283.1410138748,17503.7416689773,16229.048744926,14921.6174198539,13579.9205524783,12202.3921423601,10787.549721741,9334.00362783896,7840.77632318886,6307.10256649405,4732.71342161322,3118.03183926086,2964.62628172978,2806.76582818526,2644.08109348075,2476.47355405262,2303.66447257754,2125.54221409258,1941.74664232643,1752.07178916746,1556.27427431778,1354.04384568731,1145.38319779778,929.945603371068,707.740761007651,478.304299613117,242.19495712412,0,0,"","","","","","","","","","","","","","","","","","","","","","","","","","","","","","",""]
["32_15_M",15,32,"M",null,809,0,381,878,1467,2107,1848,2361,2902,3470,4068,4697,5357,6051,6779,7544,8347,8513,8685,8863,9048,9240,9440,9647,9862,10085,10317,10558,10808,10987,11173,11366,11567,11775,11991,12216,12449,12692,12945,13208,13483,13770,14069,14383,14711,15053,15408,15776,16157,15052,13903,12707,11463,10169,8823,7423,5968,4456,2885,2753,2615,2472,2323,2168,2006,1838,1663,1481,1292,1096,892,681,462,235,0,0,"","","","","","","","","","","","","","","","","","","","","","","","","","","","","","","","",null,null,450.032128547304,1356.61197499414,2285.78388349471,3238.11720287469,3214.1974883643,4027.12052437734,4860.12719730893,5713.70265635793,6588.34085536885,7484.55217918049,8402.85771262283,9343.79004483878,10307.90268638,11295.764318969,12307.9635990203,12449.6372694329,12594.7093610978,12743.2898711088,12895.4989321988,13051.4694143699,13211.3433710217,13375.2766306298,13543.4374476696,13716.0085960004,13893.1841285416,14075.171628854,14262.1908398168,14373.5812357573,14488.0979287231,14605.9001818676,14727.1683348987,14852.1066576924,14980.9489055598,15113.9628263002,15251.4543447271,15393.7731865965,15541.3241439741,15694.5893682487,15854.1679025095,16020.8345798106,16195.6197351856,16379.9100770269,16575.5700996219,16778.8028792095,16988.8712035234,17205.5477338885,17428.1890661741,16155.5931927494,14850.2818444579,13510.7278759646,12135.3662213543,10722.7163732523,9271.4723278516,7780.5998275641,6249.34476726059,4677.45316188046,3065.36854709154,2914.54682608249,2759.39738758735,2599.59510596054,2434.91038319614,2265.06865803488,2089.96575942776,1909.25451299302,1722.75138808584,1530.25187289494,1331.51380668357,1126.22131421388,914.405696414627,695.715635033436,470.19451347489,238.074994305484,0,0,"","","","","","","","","","","","","","","","","","","","","","","","","","","","","","","",""]
["33_15_M",15,33,"M",null,794,0,382,882,1473,2116,1860,2379,2925,3500,4104,4740,5407,6109,6845,7618,8430,8601,8779,8964,9156,9354,9561,9775,9998,10229,10469,10719,10899,11085,11279,11480,11689,11906,12131,12366,12609,12863,13127,13402,13689,13989,14303,14632,14975,15331,15701,16084,14981,13833,12639,11396,10104,8760,7363,5910,4400,2831,2702,2567,2426,2279,2127,1968,1803,1632,1453,1268,1075,875,668,453,230,0,0,"","","","","","","","","","","","","","","","","","","","","","","","","","","","","","","","","",null,null,451.958924654777,1358.55194394855,2287.73185828437,3240.06764663214,3216.14546081448,4032.00367369368,4867.99899699671,5724.61319213502,6602.34348111731,7501.6971654005,8423.19223406448,9367.36636129234,10334.77131129,11325.9774787261,12341.5790910954,12486.750223773,12635.4136618473,12787.6877953838,12943.7038076147,13103.6018977897,13267.5360874083,13435.6727582697,13608.1928518536,13785.2882931382,13967.1642289564,14154.0370837449,14266.7423176405,14382.5753323544,14501.692285037,14624.2701352557,14750.509072427,14880.6382868696,15014.9208910995,15153.6578850885,15297.1936640661,15445.9264589215,15600.329312801,15760.9878047714,15928.6571158646,16104.3400194934,16289.3862366099,16485.6125876375,16690.9143796253,16903.0991288115,17121.9160860707,17346.7190532999,16076.3038635998,14773.2380677723,13435.9581790182,12062.9647323307,10652.7341487758,9203.97045392433,7715.56207034313,6186.84098606577,4617.57090057469,3008.21958456745,2860.13540636974,2707.71731275783,2550.80204545619,2389.22054120067,2222.56986985871,2050.7746669082,1873.53444422832,1690.43226961258,1501.54785073733,1306.37252761658,1104.97193414405,897.118469029495,682.495122499553,461.215692310618,233.660748428374,0,0,"","","","","","","","","","","","","","","","","","","","","","","","","","","","","","","","",""]
["34_15_M",15,34,"M",null,778,0,384,885,1479,2124,1871,2396,2948,3529,4140,4782,5457,6166,6911,7692,8512,8690,8874,9065,9263,9469,9683,9905,10136,10375,10624,10804,10992,11186,11388,11598,11815,12041,12276,12521,12775,13040,13316,13604,13904,14218,14548,14893,15250,15621,16006,14905,13759,12566,11326,10035,8694,7298,5848,4341,2774,2647,2515,2377,2234,2084,1929,1767,1599,1424,1242,1053,858,654,444,226,0,0,"","","","","","","","","","","","","","","","","","","","","","","","","","","","","","","","","","",null,null,453.682979641826,1359.97084664072,2288.83126481238,3240.83333280853,3216.56278318973,4035.194186966,4874.00708431177,5733.48582631746,6614.12426378333,7516.42616267605,8440.9137440126,9388.12228622755,10358.6043922336,11352.9350041391,12371.7168494408,12520.472068643,12672.8190506858,12828.8871854033,12988.8147005934,13152.7536968666,13320.8685654489,13493.3383005023,13670.3525651627,13852.1139158635,14038.8352478553,14152.9477515445,14270.1898176072,14390.7143060751,14514.6945888428,14642.3265234721,14773.8344543785,14909.4765755189,15049.548662434,15194.3894567582,15344.3902288941,15500.0143542784,15661.8331136084,15830.5808116678,16007.2309396599,16193.0939223409,16389.935935441,16597.4321243316,16811.8594909786,17032.9732773562,17260.1024371285,15992.042886573,14691.3637774836,13356.5595242441,11986.0318612697,10578.3867697761,9132.20408954088,7646.54232831511,6120.58296739338,4554.08363761992,2947.63113484307,2802.6142103176,2653.33147551616,2499.63433953766,2341.17940328795,2177.94328537288,2009.49202803099,1835.7445220519,1656.35500753935,1471.17436558732,1280.05897888881,1082.87081330249,878.979825264281,668.945766477561,452.179176965581,228.952219492789,0,0,"","","","","","","","","","","","","","","","","","","","","","","","","","","","","","","","","",""]
["35_15_M",15,35,"M",null,763,0,386,890,1487,2135,1885,2416,2975,3564,4182,4832,5515,6232,6985,7776,8606,8789,8980,9178,9383,9597,9818,10048,10286,10534,10716,10904,11099,11301,11512,11730,11957,12193,12438,12693,12958,13235,13523,13824,14139,14469,14815,15174,15546,15933,14833,13689,12498,11259,9971,8631,7238,5790,4285,2721,2596,2466,2331,2190,2044,1891,1733,1568,1396,1218,1033,841,642,435,221,0,0,"","","","","","","","","","","","","","","","","","","","","","","","","","","","","","","","","","","",null,null,456.210811764342,1362.94022147161,2292.24675899719,3244.69950105236,3220.8843718882,4042.90378700413,4885.16649902013,5748.15398600891,6632.35697900591,7538.28348610277,8466.45366721436,9417.40381683945,10391.6911747024,11389.899257089,12412.6381231082,12565.0513274431,12721.1661819315,12881.119062331,13045.0602644676,13213.1523092151,13385.5723607708,13562.5079569922,13744.1592205204,13930.7357316707,14046.1646706968,14164.7247223946,14286.565646128,14411.857439608,14540.7918868385,14673.5887750766,14810.5016716059,14951.8214367356,15097.8814923767,15249.0665604988,15405.8309242663,15568.7324215105,15738.4857337259,15916.0368295778,16102.6591989174,16300.0714129879,16509.6409377283,16726.164702906,16949.4231439528,17178.718825882,15912.8861292516,14614.4622142842,13281.9434437724,11913.7975546338,10508.5167426259,9064.82637178333,7581.64323230919,6058.23558347507,4494.37967373204,2890.56099822885,2748.2948777878,2601.91833725164,2451.16249743405,2295.88280789121,2135.7151135426,1970.64584889136,1800.19806545116,1624.26840029371,1442.79074891533,1255.37321578668,1061.85105419145,862.04304730323,655.725253943678,443.200355801309,224.537973615679,0,0,"","","","","","","","","","","","","","","","","","","","","","","","","","","","","","","","","","",""]
["36_15_M",15,36,"M",null,746,0,387,894,1493,2144,1897,2434,3000,3595,4220,4878,5568,6294,7056,7855,8694,8884,9081,9286,9499,9719,9948,10186,10433,10615,10804,11000,11204,11415,11634,11862,12098,12344,12600,12866,13143,13433,13734,14050,14380,14727,15088,15462,15850,14752,13609,12421,11184,9898,8560,7170,5724,4221,2660,2538,2411,2279,2141,1998,1849,1694,1533,1365,1191,1010,822,627,425,216,0,0,"","","","","","","","","","","","","","","","","","","","","","","","","","","","","","","","","","","","",null,null,458.056605522461,1364.40326441298,2293.30930146843,3245.34306961208,3221.08917541033,4045.97256075206,4891.14229490427,5757.07604592752,6644.26756532528,7553.22185939834,8484.4588783813,9438.51811428319,10415.963809302,11417.3852266164,12443.3994461124,12599.5805371587,12759.5759210875,12923.5338727784,13091.6148193263,13263.9938779417,13440.8562075736,13622.3992053497,13808.8287338314,13925.7674735281,14045.839825678,14169.1920951378,14295.9905220764,14426.4223508806,14560.7022915224,14699.0787638837,14841.8371650125,14989.3050084559,15141.8597369541,15299.945507463,15464.1051588512,15635.0314537986,15813.6396052629,16001.1618302835,16199.2635231993,16410.1780978272,16629.0761589769,16854.7376328686,17086.4981917843,15823.1659127961,14527.3286417098,13197.3981777978,11831.8950009133,10429.3233477988,8988.42457475701,7508.04582196153,5987.55145034054,4426.74868486983,2826.038520033,2686.9446875984,2543.81678104705,2396.40481380675,2244.59289150491,2088.06092177747,1926.61778270921,1760.03797121425,1588.03079090327,1410.54224522465,1227.20334355585,1037.89205782275,842.507532533406,640.980511362017,433.294805430227,219.535161621621,0,0,"","","","","","","","","","","","","","","","","","","","","","","","","","","","","","","","","","","",""]
["37_15_M",15,37,"M",null,730,0,390,899,1501,2156,1912,2457,3029,3632,4265,4931,5630,6364,7136,7945,8794,8991,9195,9407,9627,9855,10092,10339,10522,10711,10908,11112,11324,11544,11773,12010,12257,12513,12780,13058,13348,13650,13966,14297,14644,15006,15382,15772,14676,13535,12348,11114,9830,8494,7106,5662,4162,2603,2484,2360,2230,2096,1956,1810,1658,1500,1336,1165,988,805,614,416,212,0,0,"","","","","","","","","","","","","","","","","","","","","","","","","","","","","","","","","","","","","",null,null,460.737028522444,1367.4890324345,2296.8019274999,3249.24314842266,3225.39913051121,4053.80648053599,4902.55590510628,5772.12810702795,6663.01426867739,7575.71943829195,8510.76690036285,9468.70324042942,10450.0986493826,11455.5496309362,12485.684437984,12645.7346664817,12809.723755895,12977.8101907044,13150.1671906444,13326.9777077781,13508.4366094139,13694.7463013131,13813.1252775838,13934.6410204025,14059.4366476075,14187.6749346375,14319.5389364599,14455.2386788204,14595.0178407331,14739.1567931534,14887.9776189868,15041.8510634882,15201.2119454976,15366.5892421354,15538.6554328317,15718.2972549247,15906.7087134786,16105.5059899411,16316.8614075356,16538.035315064,16766.0044926049,17000.1038147783,15739.1418366739,14445.7084816086,13118.2740299255,11755.2608785336,10355.2325080141,8916.942093487,7439.25242658241,5921.54873016262,4363.55246958142,2765.78576391454,2629.67418314924,2489.57012915914,2345.40459673239,2196.75679918778,2043.47011306819,1885.38074175763,1722.30754975618,1554.03321555679,1380.27857010249,1201.04591019761,1016.02055793997,824.719338192273,627.431155340026,424.25829008519,214.826632686036,0,0,"","","","","","","","","","","","","","","","","","","","","","","","","","","","","","","","","","","","",""]
["38_15_M",15,38,"M",null,713,0,392,903,1509,2167,1927,2478,3058,3668,4310,4984,5692,6435,7216,8035,8895,9098,9309,9529,9756,9993,10238,10422,10612,10810,11015,11228,11448,11678,11916,12163,12421,12689,12967,13258,13561,13878,14209,14556,14920,15297,15689,14595,13456,12271,11039,9757,8423,7037,5596,4098,2542,2426,2305,2178,2047,1910,1767,1619,1465,1305,1138,965,786,600,407,207,0,0,"","","","","","","","","","","","","","","","","","","","","","","","","","","","","","","","","","","","","","",null,null,463.244909028112,1370.08900102922,2299.48546520834,3252.0028219643,3228.22682844395,4059.99424093962,4912.15601584863,5785.18987630998,6679.58636561562,7595.85298001463,8534.51907842286,9496.13623358705,10481.2808528769,11490.5595079881,12524.606827079,12688.624226305,12856.7115444155,13029.03997604,13205.7901184613,13387.154140071,13573.3307606564,13693.234011166,13816.2771305978,13942.599830621,14072.3611831079,14205.7397659436,14342.9405985698,14484.202290612,14629.7998368417,14780.049509685,14935.3148906341,15096.0208170237,15262.6814587037,15435.9476366361,15616.6756865731,15806.0188167776,16005.5406604044,16217.348296064,16440.8939747648,16671.2926351262,16907.8552546825,15649.3918518642,14358.4958335269,13033.6433479963,11673.2653657523,10275.9371274426,8840.42744030084,7365.61967745316,5850.82473808704,4295.87604037379,2701.21087494488,2568.26276486207,2431.39603033065,2290.5596188611,2145.36001418978,1995.68256874281,1841.42919683205,1682.24730808212,1517.92933436512,1348.21434675347,1173.13802673227,992.446905510875,805.771938559746,613.063983261711,414.352739714108,209.823820691978,0,0,"","","","","","","","","","","","","","","","","","","","","","","","","","","","","","","","","","","","","",""]
["39_15_M",15,39,"M",null,695,0,394,908,1517,2178,1942,2500,3087,3705,4354,5036,5753,6506,7296,8125,8996,9206,9425,9652,9887,10132,10316,10508,10706,10912,11126,11347,11577,11817,12065,12323,12592,12871,13163,13466,13784,14115,14463,14829,15208,15601,14509,13372,12190,10959,9680,8349,6965,5526,4032,2478,2365,2247,2123,1995,1862,1723,1578,1428,1272,1110,941,766,585,397,202,0,0,"","","","","","","","","","","","","","","","","","","","","","","","","","","","","","","","","","","","","","","",null,null,465.607024499544,1372.25011762505,2301.42954076109,3253.71256177622,3229.68396664537,4064.67273618966,4920.09944941062,5796.4405746483,6694.18827451049,7613.85514873999,8555.97464608331,9521.10360014394,10509.8274400797,11522.7580833093,12560.541848672,12728.6340500209,12900.9363268314,13077.6267910396,13258.8947621247,13444.9350675493,13566.4570246184,13691.1223340345,13819.0671168626,13950.4465413372,14085.4344655083,14224.2306314145,14367.068306799,14514.2168226957,14665.9863315119,14822.7328676266,14984.870747402,15152.8985255654,15327.4441763694,15509.3319623363,15699.6720519647,15899.9726461714,16112.2720090155,16338.3421010216,16571.3004280246,16810.4927498598,15554.7050323247,14266.5371590395,12944.4204647256,11586.9035402569,10192.4576905396,8759.84869767132,7288.04735267764,5776.39434222154,4224.53552383772,2633.12834950907,2503.52047848103,2370.09638880692,2232.83485252341,2091.38709912068,1945.48667603941,1795.02852861893,1639.92707617014,1479.81266758374,1314.47844810636,1143.66290998704,967.440583441935,785.581562378265,597.745910907834,403.983824739622,204.526725639446,0,0,"","","","","","","","","","","","","","","","","","","","","","","","","","","","","","","","","","","","","","",""]
["40_15_M",15,40,"M",null,677,0,396,913,1525,2190,1958,2523,3118,3744,4402,5093,5819,6582,7382,8222,9103,9321,9547,9782,10025,10211,10403,10602,10809,11024,11246,11478,11718,11967,12226,12495,12776,13068,13372,13690,14023,14371,14737,15118,15513,14423,13288,12108,10879,9602,8274,6892,5456,3964,2414,2303,2188,2068,1943,1813,1678,1537,1391,1239,1081,916,746,569,386,196,0,0,"","","","","","","","","","","","","","","","","","","","","","","","","","","","","","","","","","","","","","","","",null,null,468.326137545946,1375.03102095966,2304.26103867421,3256.58230952515,3232.58140191893,4071.06518995944,4930.03492137418,5809.96835985651,6711.36232413831,7634.73317997943,8580.61929511032,9549.58611471363,10542.2240982043,11559.1564403611,12601.0396943183,12773.3294950311,12949.974474157,13131.1611315443,13317.0804373187,13440.2370354186,13566.5411327065,13696.1253128601,13829.1408999001,13965.7571008877,14106.1684586047,14250.6029847987,14399.3244426331,14552.6369722609,14710.8891880691,14874.4850447564,15043.9076929684,15219.7625468731,15402.8421856282,15594.2142620251,15795.3322368032,16008.1664548358,16235.3422958389,16470.8651245699,16712.6605827522,15459.517565566,14174.0414263594,12854.6719658412,11499.969681889,10108.4218932808,8678.73488005685,7209.96814287811,5701.39222601416,4152.77046451218,2564.55615754664,2438.34762394957,2308.44444544854,2174.68614339652,2036.89517872833,1894.86324301008,1748.32942538892,1597.21741650146,1441.17445712871,1280.02385103021,1113.55784822597,941.948082933368,764.649176603831,581.805781766505,393.209239342495,199.229630586913,0,0,"","","","","","","","","","","","","","","","","","","","","","","","","","","","","","","","","","","","","","","",""]
["41_15_M",15,41,"M",null,658,0,398,918,1534,2203,1974,2547,3150,3783,4450,5150,5886,6658,7469,8319,9212,9437,9671,9914,10100,10293,10494,10701,10917,11141,11373,11614,11864,12124,12394,12676,12969,13274,13593,13926,14274,14641,15024,15421,14332,13200,12022,10796,9521,8195,6816,5383,3894,2346,2239,2127,2010,1889,1762,1631,1494,1352,1204,1050,891,725,553,375,191,0,0,"","","","","","","","","","","","","","","","","","","","","","","","","","","","","","","","","","","","","","","","","",null,null,470.938226171244,1377.45837951549,2306.48383390495,3258.58162601349,3234.33770741398,4076.22417554755,4938.64097211047,5822.06963219337,6727.00996518662,7653.98243071064,8603.53306690438,9576.23150042201,10572.6784501601,11593.5063313356,12639.3847500128,12816.0031819004,12997.1262952069,13182.9410413374,13307.8471921453,13435.9062226707,13567.2470631643,13702.0170697352,13840.380644186,13982.5269593774,14128.6786089524,14279.0936238598,14434.0699609605,14593.9485946784,14759.1227833295,14930.0597368598,15107.3414894886,15291.7277664289,15484.2421353324,15686.2813222688,15899.7453337316,16127.1759179083,16365.4067774564,16609.9526774248,15359.647185734,14077.0249139288,12760.57457304,11408.8092379152,10020.2841157237,8593.72838380355,7128.1407939955,5622.79798252089,4077.47159637744,2492.75341387511,2370.02612402153,2243.72502326598,2113.72751702451,1979.71587735362,1841.6926407309,1699.25075050523,1552.33852449931,1400.64500920192,1244.0650745836,1082.51549820084,915.509091224588,743.215823873396,565.536809137068,382.376959764604,193.638252475907,0,0,"","","","","","","","","","","","","","","","","","","","","","","","","","","","","","","","","","","","","","","","",""]
["42_15_M",15,42,"M",null,639,0,400,924,1543,2216,1991,2572,3183,3826,4501,5211,5956,6739,7561,8423,9327,9560,9802,9989,10183,10385,10593,10810,11035,11268,11510,11761,12022,12293,12575,12869,13175,13495,13828,14178,14544,14929,15328,14242,13111,11935,10712,9439,8116,6740,5309,3823,2278,2174,2065,1952,1834,1712,1584,1451,1313,1169,1020,865,704,537,364,185,0,0,"","","","","","","","","","","","","","","","","","","","","","","","","","","","","","","","","","","","","","","","","","",null,null,473.92154410374,1380.48858990271,2309.5470770237,3261.6631690727,3237.42329629035,4082.95269417702,4949.06464590086,5836.24333508939,6744.9923036154,7675.83921815773,8629.33399238694,9606.05604129863,10606.6148881564,11631.655556874,12681.8545005145,12862.9089540867,13048.6138240389,13175.2639961581,13305.0721982299,13438.163688605,13574.6818348522,13714.7862096172,13858.6605887119,14006.5221178605,14158.6230625188,14315.2551588468,14476.7516971771,14643.4951841415,14815.9368157268,14994.6351467064,15180.3169130134,15373.9614152415,15576.9084045529,15790.9872382498,16018.6556416648,16259.6045109667,16506.9147592533,15259.3845511442,13979.6347610789,12666.1280855929,11317.3314040827,9931.86934764403,8508.41537327348,7045.97112106936,5543.91927512851,4001.96204863823,2420.70767290694,2301.56222355881,2178.99471823336,2052.75579476324,1922.71733320163,1788.52750676329,1650.17904524425,1507.46872715557,1360.12774135595,1208.12308255103,1051.10519192536,888.969265015783,721.628576687305,549.023350223523,371.139009764072,188.0468743649,0,0,"","","","","","","","","","","","","","","","","","","","","","","","","","","","","","","","","","","","","","","","","",""]
["43_15_M",15,43,"M",null,620,0,403,930,1553,2230,2010,2599,3219,3871,4556,5276,6032,6825,7658,8532,9449,9690,9879,10074,10276,10486,10703,10929,11163,11406,11658,11920,12192,12475,12770,13077,13397,13731,14081,14448,14835,15236,14151,13023,11849,10628,9358,8037,6664,5236,3752,2211,2110,2004,1894,1780,1661,1537,1408,1274,1135,990,840,684,522,354,180,0,0,"","","","","","","","","","","","","","","","","","","","","","","","","","","","","","","","","","","","","","","","","","","",null,null,477.300999936831,1384.16965839222,2313.52048263844,3265.91974748795,3241.95563609528,4091.39556575934,4961.47731383829,5852.68847459946,6765.53935872109,7700.56126467955,8658.31345354325,9639.38377955333,10644.3939646621,11673.9955078099,12728.8729956991,12914.473273321,13042.8729641409,13174.4360640268,13309.2841777894,13447.5567049586,13589.4084127746,13735.0177069617,13884.5963149559,14038.3907697939,14196.6866241138,14359.8095280135,14528.1312914024,14702.0871691169,14882.2123353704,15069.200671319,15263.9873912983,15467.8555103238,15682.5640454071,15910.4870879465,16154.1438690443,16404.2044215312,15159.5115784457,13882.6154672083,12572.0276883297,11226.2302237529,9843.79658845965,8423.48082554498,6964.22412638817,5465.41566388779,3926.88012135888,2349.02832638351,2233.38488049202,2114.44609209622,1992.002695995,1865.78964577849,1735.6708728618,1601.5005379631,1463.11201372811,1320.29762450521,1172.77930956047,1020.54536523388,863.239988633874,700.783339094167,533.13194809743,360.306730186181,182.455496253894,0,0,"","","","","","","","","","","","","","","","","","","","","","","","","","","","","","","","","","","","","","","","","","",""]
["44_15_M",15,44,"M",null,600,0,406,936,1563,2245,2029,2627,3256,3917,4611,5341,6108,6912,7757,8644,9573,9763,9959,10162,10373,10591,10818,11053,11297,11550,11813,12087,12371,12667,12974,13295,13630,13981,14348,14735,15138,14056,12930,11758,10540,9272,7954,6583,5158,3678,2139,2041,1939,1833,1722,1607,1487,1363,1233,1098,958,812,661,505,342,174,0,0,"","","","","","","","","","","","","","","","","","","","","","","","","","","","","","","","","","","","","","","","","","","","",null,null,480.612574616403,1387.56601150099,2316.98498962012,3269.43658828041,3245.5116235635,4098.8065643251,4972.80064642879,5867.98736951129,6784.88000719901,7724.01827972955,8685.96902239363,9671.33133066825,10680.7324942746,11714.8310387696,12774.308963908,12904.5807718452,13038.0229216805,13174.7532743163,13314.9071662116,13458.6344381428,13606.1079927796,13757.5340185922,13913.1531981006,14073.2447813681,14238.1266196097,14408.1595681435,14583.7625058428,14765.4465447638,14953.8717287758,15149.927869327,15354.8395846416,15570.2935641687,15798.578022656,16042.7291939314,16295.7005909679,15053.93692117,13780.0296712338,12472.5033315702,11129.7949863332,9750.54927597016,8333.46670319148,6877.58483723533,5382.23271499574,3847.13855148057,2272.94671630462,2161.1144894981,2046.02673021642,1927.47307991044,1805.38481168733,1679.50166977381,1549.71340589813,1415.63472677425,1277.30218025943,1134.52432365764,987.04789051501,834.943121397959,677.953115359121,515.667588908324,348.605415582245,176.569835084413,0,0,"","","","","","","","","","","","","","","","","","","","","","","","","","","","","","","","","","","","","","","","","","","",""]
["45_15_M",15,45,"M",null,579,0,408,942,1573,2259,2048,2654,3292,3962,4667,5407,6185,7001,7857,8756,9641,9838,10043,10255,10474,10702,10938,11183,11438,11702,11976,12262,12558,12867,13189,13525,13876,14243,14631,15036,13956,12832,11663,10447,9182,7867,6499,5077,3600,2064,1970,1871,1769,1662,1551,1435,1315,1190,1059,924,784,638,487,330,168,0,0,"","","","","","","","","","","","","","","","","","","","","","","","","","","","","","","","","","","","","","","","","","","","","",null,null,483.869789104216,1390.66724465333,2319.90617593046,3272.15526220009,3248.00723714344,4105.07519422207,4982.898985391,5881.97441030632,6802.8222195635,7745.98883480349,8712.0513531101,9701.61354844736,10715.3086504419,11753.7912339429,12759.846619742,12895.2758564506,13033.9972524416,13176.1419283742,13321.854610659,13471.3024900703,13624.6860120454,13782.2397974108,13944.2365699723,14110.9860999884,14282.837875641,14460.1937601243,14643.5398434506,14833.5009711641,15030.9197263794,15236.9599979501,15453.2332911627,15681.9386068761,15926.0093066925,16182.0219362497,14943.3605333505,13672.6282333096,12368.3115759986,11028.9115980195,9653.02812216623,8239.36972293027,6786.98501127032,5295.21807343999,3763.81729626781,2193.45481879544,2085.4854795562,1974.44894662268,1860.02411035718,1742.15862103021,1620.61812031255,1495.33362699922,1365.98663094692,1232.41338715037,1094.76224884129,952.608991075702,805.693678890282,654.117580788339,497.629899947002,336.440736374904,170.389890856459,0,0,"","","","","","","","","","","","","","","","","","","","","","","","","","","","","","","","","","","","","","","","","","","","",""]
["46_15_M",15,46,"M",null,558,0,411,948,1584,2275,2069,2684,3331,4011,4726,5478,6266,7094,7964,8820,9718,9923,10136,10357,10586,10823,11070,11325,11590,11866,12152,12450,12760,13083,13419,13771,14139,14526,14933,13856,12735,11568,10354,9092,7779,6415,4996,3522,1990,1899,1804,1705,1602,1495,1383,1267,1146,1021,891,755,615,469,318,162,0,0,"","","","","","","","","","","","","","","","","","","","","","","","","","","","","","","","","","","","","","","","","","","","","","",null,null,487.562081267346,1394.46158732659,2323.78519832828,3276.10309450765,3252.01048343641,4113.12710463415,4995.06231962995,5898.31896149916,6823.42415745466,7770.93417872729,8741.43056752607,9735.52266545267,10753.8392711782,11741.2373516265,12752.5518189297,12893.2649533893,13037.4011396285,13185.0999924556,13336.5229938874,13491.864849776,13651.3541231032,13815.2570157433,13983.8752221024,14157.5468696212,14336.6568142877,14521.666135577,14713.1644963601,14911.9472724568,15119.1176511336,15336.2119894601,15565.3401196635,15809.3325869174,16068.4235633975,14832.8697238163,13565.2714554254,12264.1680614067,10928.0807108596,9555.56456758077,8145.41706773401,6696.54637172813,5208.38523555252,3680.70330249426,2114.07515422143,2009.98758405179,1902.86867418965,1792.5721458565,1678.9287638556,1561.72999570535,1440.94801685962,1316.33092593549,1187.82480388634,1055.06517981787,917.870691041058,776.444236382605,630.282046217556,479.59221098568,324.276057167563,164.209946628504,0,0,"","","","","","","","","","","","","","","","","","","","","","","","","","","","","","","","","","","","","","","","","","","","","",""]
["47_15_M",15,47,"M",null,536,0,414,955,1595,2290,2089,2714,3370,4061,4786,5549,6349,7189,8018,8887,9798,10013,10235,10465,10703,10951,11207,11474,11751,12038,12337,12648,12971,13309,13661,14029,14417,14826,13751,12632,11468,10257,8998,7688,6326,4911,3440,1911,1824,1733,1638,1539,1436,1329,1217,1102,981,856,726,591,451,306,156,0,0,"","","","","","","","","","","","","","","","","","","","","","","","","","","","","","","","","","","","","","","","","","","","","","","",null,null,491.22595347809,1397.97928862573,2327.13172385365,3279.25491155828,3254.94730592531,4120.02120922239,5005.97586148222,5913.31964388912,6842.58857043254,7794.34257977215,8769.16781903379,9767.66814411846,10736.8731297391,11729.4528625345,12746.013828592,12892.2419526607,13042.027410527,13195.5257277675,13352.9256238926,13514.449345213,13680.3562944247,13850.9397448233,14026.5259713803,14207.482078265,14394.2430320632,14587.3617581558,14787.5843391425,14995.9505841396,15213.9184003648,15443.5045538569,15687.4323070849,15949.2811669207,14716.9836271471,13452.7239986592,12155.0065448683,10822.3575743818,9453.33994958584,8046.76181421852,6601.63645579757,5117.24628365357,3593.46876933059,2030.91502630222,1930.9815719581,1828.1106885901,1722.17761349705,1613.04591992152,1500.55770334898,1384.51804296455,1264.9434012682,1141.3099899544,1013.81571004509,882.126547087343,746.147468174689,605.791650235116,460.981192252143,311.648013356817,157.735719342076,0,0,"","","","","","","","","","","","","","","","","","","","","","","","","","","","","","","","","","","","","","","","","","","","","","",""]
["48_15_M",15,48,"M",null,514,0,417,962,1607,2307,2112,2746,3413,4114,4851,5625,6437,7240,8082,8964,9890,10113,10344,10584,10833,11091,11358,11636,11925,12225,12537,12862,13200,13553,13922,14310,14719,13646,12530,11368,10160,8903,7596,6238,4825,3358,1833,1749,1661,1570,1475,1377,1274,1167,1056,940,820,696,566,432,293,149,0,0,"","","","","","","","","","","","","","","","","","","","","","","","","","","","","","","","","","","","","","","","","","","","","","","","",null,null,495.395718012605,1402.3638748105,2331.71512856297,3284.02403080374,3259.89146251824,4129.31318727325,5019.68975926131,5931.53818041421,6865.39814645908,7821.83409945824,8801.42668547936,9753.38005968957,10728.2016630373,11726.470171974,12748.7999614038,12900.7254166066,13056.3550446723,13215.871820945,13379.491945379,13547.4683253552,13720.0861715029,13897.6603555268,14080.5408248479,14269.137241359,14463.966892251,14665.7280445857,14875.3990807296,15094.3619827073,15324.5436290263,15568.5639183706,15829.8859998695,14600.8280839217,13339.840356914,12045.481887304,10716.2392277947,9350.75296417103,7947.78615589486,6506.27800022038,5025.70306628701,3505.77336184337,1947.09650530269,1851.20640205658,1752.59924248743,1651.05256626507,1546.46554425043,1438.51501844684,1327.22519787465,1212.42991625878,1093.90802724939,971.692419979595,845.531923549641,715.040150139878,580.559244659723,441.748116731152,298.614299123431,151.261492055648,0,0,"","","","","","","","","","","","","","","","","","","","","","","","","","","","","","","","","","","","","","","","","","","","","","","",""]
["49_15_M",15,49,"M",null,491,0,420,969,1619,2325,2134,2778,3456,4167,4916,5701,6479,7294,8149,9046,9986,10219,10460,10710,10969,11238,11517,11807,12108,12421,12747,13086,13440,13810,14198,14607,13536,12423,11264,10058,8805,7501,6145,4736,3272,1751,1671,1587,1500,1410,1315,1217,1115,1009,899,784,665,541,413,280,142,0,0,"","","","","","","","","","","","","","","","","","","","","","","","","","","","","","","","","","","","","","","","","","","","","","","","","",null,null,499.583855604418,1406.53359462446,2335.84387782605,3288.09073980343,3263.8789542775,4137.57550197951,5032.30141386155,5948.57673611988,6886.94486054308,7847.96400870239,8783.1138216985,9740.64307391922,10721.1039981981,11725.0810927303,12753.1892901194,12911.053073967,13072.7892225747,13238.6076435122,13408.7544859858,13583.506569671,13763.166892546,13948.0675288458,14138.5917716831,14335.2197672899,14538.5999512282,14749.6466949431,14969.6628731652,15200.4817298122,15444.6155190546,15705.4062491515,14479.7670040579,13222.2442630961,11931.4012947946,10605.7940375854,9243.95400500134,7844.71551505335,6407.12687122309,4930.51749094087,3414.71411603674,1860.24347610587,1768.65308904111,1674.45928608518,1577.46967240208,1477.43201487482,1374.43752104661,1268.20580413456,1158.59932842123,1045.44564659879,928.512458072057,807.852590065686,683.209877792098,554.671977672672,421.941711437944,285.117220286641,144.492981710745,0,0,"","","","","","","","","","","","","","","","","","","","","","","","","","","","","","","","","","","","","","","","","","","","","","","","",""]
["50_15_M",15,50,"M",null,468,0,424,977,1632,2343,2159,2813,3501,4224,4984,5737,6528,7357,8226,9138,10093,10335,10587,10847,11118,11398,11689,11992,12306,12633,12973,13327,13698,14086,14495,13427,12316,11160,9957,8706,7406,6053,4648,3187,1669,1593,1513,1430,1344,1254,1160,1063,962,857,747,634,516,394,267,136,0,0,"","","","","","","","","","","","","","","","","","","","","","","","","","","","","","","","","","","","","","","","","","","","","","","","","","",null,null,504.283114983802,1411.49150013601,2341.04414890799,3293.52053340043,3269.52923671371,4147.79948768433,5047.17973206909,5968.19353627125,6911.37812552253,7830.49025404652,8771.52182755415,9735.00075798988,10721.4840422674,11731.5553922013,12765.8380016489,12929.7963218585,13097.8159867703,13270.1364018718,13447.026012938,13628.7759655905,13815.7004891886,14008.1565465145,14206.5871951395,14411.5911094251,14624.0187427322,14845.0939826058,15076.5565895963,15320.8113598004,15581.0793864373,14358.8284286035,13104.7795831644,11817.4626532242,10495.4408006103,9137.32714719637,7741.83531944744,6308.09773473988,4835.36786550867,3323.58223670503,1773.30667159399,1686.00190677456,1596.20337487573,1503.74724419794,1408.42445242647,1310.17234186575,1208.94720105515,1104.45659639443,996.56522479841,885.105116292707,770.241812236734,651.480439944341,528.938605141278,402.379792428846,272.02581187249,137.724471365842,0,0,"","","","","","","","","","","","","","","","","","","","","","","","","","","","","","","","","","","","","","","","","","","","","","","","","",""]
["0_10_M",10,0,"M",null,697,0,359,832,1395,2011,1714,2223,2763,3334,3938,4577,4620,4665,4712,4760,4810,4863,4917,4974,5033,5094,5158,5224,5293,5364,5439,5516,5596,5680,5767,5857,5951,6049,6150,6256,6365,6479,6598,6721,6849,6982,7121,7264,7414,7570,7731,7899,8074,8256,8445,8642,8847,9060,9282,9513,9753,10004,10264,10535,10816,11039,11271,11512,11763,12023,12294,11575,10828,10051,9243,8402,7528,6619,5673,4690,3667,3604,3538,3469,3397,3322,3244,3163,3078,2989,2896,2800,2699,2595,2485,2372,2253,2130,2001,1867,1728,1583,1432,1276,1113,944,768,586,398,202,0,0,null,null,551.63309778528,1463.77435149263,2398.76459102261,3357.16497042137,3339.54692884864,4181.95540325485,5045.42020569525,5930.46090231957,6837.60976642551,7767.41322450468,7821.88276505961,7877.69901487803,7934.89300123802,7993.49892165128,8053.55593402352,8115.10593010752,8178.1879241035,8242.84719247978,8309.12458190259,8377.06522553338,8446.71040291696,8518.10268121466,8591.2873534178,8666.3095816252,8743.2147028856,8822.04972520152,8902.86123065117,8985.7000516889,9070.61892283836,9157.67090323106,9246.91234399102,9338.40201785046,9432.20122828788,9528.37392368411,9626.98681676587,9728.10950962225,9831.81447148442,9938.17764427378,10047.2786733101,10159.2015336626,10274.0354958645,10391.8751129047,10512.8216317173,10636.9843259931,10764.4795999296,10895.4336555433,11029.9830483371,11168.2746599144,11310.4650211188,11456.7218611524,11607.224815255,11762.1644019613,11921.7460305498,12086.1873306981,12255.7206273667,12430.1223054295,12609.1623987757,12792.9210078206,12981.4900160055,13105.2556223708,13232.261905618,13362.5511303839,13496.1468254464,13633.066462657,13773.2956704977,12916.7947260889,12038.6899842341,11138.4141674044,10215.3962425716,9269.08097571113,8298.9199982573,7304.39785807974,6285.04252067911,5240.41013030748,4170.14772489476,4073.98144437062,3976.13570367004,3876.63203939592,3775.45105099532,3672.52434331929,3567.73236578508,3460.90437162197,3351.88414250896,3240.49917434249,3126.56710207804,3009.80876163472,2890.0929308318,2767.09477823686,2640.78900361641,2510.79469411386,2377.07313557916,2239.29149222635,2097.39272744737,1951.14813706482,1800.26401108325,1644.61065045485,1484.05733284312,1318.12371506936,1146.83478837668,969.920578782014,787.479400338876,599.270140955611,404.910553946431,205.115291756394,2.8421709430404e-14,0]
["1_10_M",10,1,"M",null,691,0,360,833,1396,2013,1716,2228,2769,3342,3948,4589,4634,4680,4729,4779,4832,4886,4943,5001,5063,5126,5192,5261,5332,5407,5484,5564,5648,5735,5825,5919,6016,6118,6223,6333,6447,6565,6688,6816,6949,7087,7231,7380,7535,7697,7865,8040,8221,8410,8607,8811,9024,9246,9476,9716,9967,10227,10497,10778,11001,11234,11475,11726,11987,12258,11540,10793,10016,9208,8368,7494,6586,5641,4658,3636,3573,3507,3439,3368,3294,3216,3135,3051,2963,2871,2776,2676,2572,2464,2351,2233,2111,1984,1851,1713,1569,1420,1264,1103,935,761,581,394,200,0,0,"",null,null,552.398017494576,1464.64121156668,2399.71565992774,3358.18267148576,3340.61888586648,4184.2864657705,5049.03194094417,5935.37573718707,6843.85173277709,7775.00859564054,7830.8454468133,7888.05992834929,7946.68618759725,8006.76342709429,8068.3336322671,8131.43581730568,8196.11540249568,8262.41323800308,8330.37455638512,8400.0405953277,8471.45387914235,8544.65970479444,8619.70319064152,8696.62958115275,8775.48578953647,8856.31820528452,8939.17755909805,9024.11648126842,9111.18782873664,9200.44779316205,9291.95498384987,9385.77053675088,9481.95822846982,9580.58459555177,9681.71905933122,9785.43385592279,9891.80468798325,10000.9109075591,10112.8361409305,10227.6692051108,10345.5042346935,10466.4419511033,10590.5909921498,10718.0671552466,10848.9959218744,10983.5130570196,11121.7646266493,11263.9063669619,11410.1051852401,11560.5398655729,11715.400092052,11874.890359265,12039.2273943668,12208.6425826638,12383.0363512838,12562.0659173043,12745.8149565395,12934.3716671083,13058.7245724384,13186.3281944917,13317.2296123763,13451.4529793843,13589.0104421856,13729.8937299156,12874.0568594167,11996.6334496575,11097.0572990852,10174.7585898104,9229.17331508115,8259.76334274883,7266.002330573,6247.41656279022,5203.57559535841,4134.11044371444,4038.76499858744,3941.76774465452,3843.11701662491,3742.79003791918,3640.71459917846,3536.81400530837,3430.93116074682,3322.86495199384,3212.44199985468,3099.47909856169,2983.69621100676,2864.96117682447,2743.06156508468,2617.76069773099,2488.91790704487,2356.39441498917,2219.87191439136,2079.11825888903,1934.06242037993,1784.42840919541,1630.11492874868,1470.72736943796,1306.36665793867,1136.54340319457,961.339587476063,780.539532984353,593.830907740719,401.319025480722,203.349593405549,0,0,""]
["2_10_M",10,2,"M",null,684,0,360,833,1397,2013,1717,2230,2773,3347,3955,4598,4644,4693,4743,4795,4850,4906,4965,5026,5089,5155,5224,5295,5370,5447,5527,5611,5697,5787,5881,5979,6080,6185,6295,6408,6526,6649,6777,6910,7048,7191,7341,7496,7657,7825,7999,8180,8369,8565,8770,8982,9203,9434,9674,9923,10183,10453,10734,10958,11190,11432,11683,11944,12216,11498,10752,9976,9168,8329,7455,6547,5603,4620,3599,3537,3472,3404,3334,3260,3183,3103,3020,2933,2842,2748,2649,2546,2439,2327,2211,2090,1963,1832,1695,1553,1405,1252,1092,926,754,575,390,198,0,0,"","",null,null,552.537365813298,1464.18317352179,2398.62911124797,3356.43935391133,3338.19704410989,4182.56781679858,5048.02509597807,5935.09022032192,6844.29865603958,7776.20122319229,7833.44007576282,7892.09053549614,7952.19185729139,8013.78613613993,8076.912386544,8141.61619684528,8207.93842162957,8275.92440971692,8345.61535033205,8417.05371818059,8490.28481523779,8565.35370923754,8642.30553708516,8721.18710185694,8802.04456889117,8884.92855067507,8969.89155641147,9056.98620774391,9146.26851087661,9237.79688506002,9331.63227143005,9427.83824684532,9526.4811429912,9627.63017103477,9731.35729589706,9837.7379419021,9946.85111982426,10058.7800499808,10173.613021358,10291.4436815186,10412.3721400257,10536.506294209,10663.9612349866,10794.8616047994,10929.3422480875,11067.5482810709,11209.6345147537,11355.7668995187,11506.1232285722,11660.8922146932,11820.2772877183,11984.4941243394,12153.7730162299,12328.1618355074,12507.1837448822,12690.9221931787,12879.4650694637,13004.4992046345,13132.8054854167,13264.4222858917,13399.3790875253,13537.6888413257,13679.3376602287,12824.2864164879,11947.6621587099,11048.8984090757,10127.4342022113,9182.69687667749,8214.15864056734,7221.29473082124,6203.61947248135,5160.71647563917,4092.20161920417,3997.8165383553,3901.78701998085,3804.13768747318,3704.82009419345,3603.80064066224,3500.97006562615,3396.17179879412,3289.20583784337,3179.90058943766,3068.07541706644,2953.45380560587,2835.90840142718,2715.23321180036,2591.20042128217,2463.68182393911,2332.39863816327,2197.16592743712,2057.96665095073,1914.41283430703,1766.4384359603,1613.7438385158,1456.21012808349,1293.37811314517,1125.31059329202,951.80602089835,772.594354794092,587.818344753612,397.264132411609,201.289611996231,0,0,"",""]
["3_10_M",10,3,"M",null,678,0,360,834,1399,2016,1721,2236,2781,3358,3968,4613,4662,4712,4764,4818,4875,4933,4994,5058,5124,5192,5264,5338,5415,5495,5579,5665,5755,5849,5946,6047,6152,6262,6375,6494,6616,6744,6877,7014,7158,7307,7462,7623,7790,7965,8146,8334,8530,8734,8946,9167,9397,9637,9886,10146,10416,10696,10920,11153,11395,11646,11908,12180,11463,10717,9941,9134,8295,7422,6514,5570,4588,3567,3506,3441,3374,3304,3232,3155,3076,2993,2907,2817,2723,2626,2524,2417,2307,2191,2071,1946,1816,1681,1540,1393,1241,1082,918,747,570,387,197,0,0,"","","",null,null,553.573437964519,1465.55304172411,2400.33069558167,3358.47635863909,3340.57382494514,4186.48723569334,5053.51804830427,5942.18948294952,6853.03951900592,7786.61980157142,7845.29092252116,7905.41280211818,7967.02762921795,8030.17441853397,8094.89890240917,8161.24193915917,8229.24897720553,8298.9611641697,8370.42093217097,8443.67358741378,8518.76415416939,8595.73767706806,8674.64086470698,8755.51969020056,8838.42466462313,8923.40819329769,9010.52269608136,9099.82402011476,9191.37042163815,9285.22267469297,9381.44418481224,9480.10110796807,9581.26247506004,9685.00001842265,9791.38892366825,9900.50790889921,10012.439846298,10127.2725720687,10245.0993161281,10366.0196633723,10490.1408761936,10617.5774396956,10748.4532768668,10882.9024428079,11021.0692393519,11163.1076841503,11309.182907037,11459.4718515205,11614.1623974429,11773.4570615814,11937.5706198001,12106.732425915,12281.1143961656,12460.1268785095,12643.8531079446,12832.3847634689,12958.00731798,13086.9121045894,13219.1423155917,13354.7280611451,13493.6769719169,13635.9812669907,12781.5955643812,11905.6541836006,11007.5917303829,10086.839221451,9142.83339205843,8175.03661930791,7182.9351375048,6166.04475984006,5123.93528792275,4056.23823152811,3962.67742167647,3867.50027378561,3770.70832006939,3672.28439825767,3572.12448118396,3470.19500513134,3366.29887292734,3260.29578853314,3151.96315418701,3041.11991550478,2927.57993926228,2811.04586164832,2691.39329318714,2568.5218826637,2442.0721698158,2312.03641482724,2178.12720691088,2040.15844099066,1897.90892341936,1751.09788775602,1599.6176470071,1443.37506041544,1281.95434316497,1115.49303775621,943.481587073233,766.046047608441,583.001168326174,394.07827436854,199.523913645387,0,0,"","",""]
["4_10_M",10,4,"M",null,671,0,361,835,1400,2018,1723,2239,2786,3365,3978,4625,4675,4728,4782,4838,4897,4958,5021,5087,5156,5227,5301,5378,5458,5541,5628,5718,5811,5908,6009,6115,6224,6337,6455,6578,6705,6838,6975,7119,7267,7422,7583,7750,7924,8105,8293,8489,8693,8905,9125,9355,9594,9843,10102,10372,10652,10876,11109,11352,11604,11866,12138,11421,10676,9900,9094,8255,7383,6475,5532,4551,3531,3470,3406,3340,3270,3198,3123,3045,2963,2877,2788,2695,2599,2498,2393,2283,2169,2050,1926,1797,1663,1524,1379,1228,1071,909,740,564,383,195,0,0,"","","","",null,null,553.998957555882,1465.63161357693,2400.04982231417,3357.82334816482,3339.53580536604,4186.44544861955,5054.49096884207,5944.19747964924,6856.10329252481,7790.76274122758,7850.91040351973,7912.55104832572,7975.72369181028,8040.47423531795,8106.84354276752,8174.87717990094,8244.61624719308,8316.1031285122,8389.38313638448,8464.50124589039,8541.50239566217,8620.43318578531,8701.33936708438,8784.27133417001,8869.28137308889,8956.42167047864,9045.74789008705,9137.31810024297,9231.19288240095,9327.43544466418,9426.1117405536,9527.29059330621,9631.04346678848,9737.44527112296,9846.57438623239,9958.51328170036,10073.3492694964,10191.1750963617,10312.089739661,10436.1997261608,10563.6188394547,10694.4701690609,10828.8868555884,10967.0122575447,11108.9994740362,11255.0126850433,11405.2278506632,11559.8318871701,11719.0262549798,11883.0246882082,12052.0554562789,12226.3600670962,12405.3683263006,12589.0875298304,12777.6090560955,12903.9210909135,13033.5326824875,13166.4826013346,13302.8007547372,13442.5004962827,13585.5749121288,12731.9796590569,11856.8425083732,10959.6062796553,10039.6942319511,9096.55279489594,8129.6348640851,7138.43810200182,6122.46646253133,5081.28811408982,4014.53233482218,3921.94132416163,3827.74257736676,3731.93488131222,3634.53268912685,3535.44315480914,3434.55347424955,3331.70364427587,3226.75276890968,3119.54911152369,3009.85717758603,2897.49494373973,2782.1706303196,2663.76734527517,2542.06823817544,2416.96065789322,2288.18822907178,2155.59882382896,2019.02747215271,1878.28509118407,1733.14073900958,1583.28938943883,1428.60478249291,1268.96579837147,1104.26022785366,933.94802049552,758.10086941818,576.988605339067,390.023381299426,197.463932236069,0,0,"","","",""]
["5_10_M",10,5,"M",null,664,0,361,836,1401,2020,1725,2244,2793,3374,3989,4639,4691,4745,4802,4860,4921,4984,5050,5119,5190,5264,5341,5421,5504,5590,5680,5774,5871,5972,6077,6186,6299,6417,6539,6667,6799,6936,7079,7228,7383,7543,7710,7884,8065,8252,8448,8651,8863,9083,9313,9551,9800,10059,10328,10608,10832,11066,11309,11561,11823,12096,11380,10634,9860,9054,8215,7344,6437,5494,4513,3494,3433,3370,3305,3236,3165,3090,3013,2932,2847,2759,2667,2572,2472,2368,2259,2146,2029,1906,1779,1646,1508,1364,1215,1060,899,732,559,379,193,0,0,"","","","","",null,null,554.573789107036,1465.99255257266,2400.18837039887,3357.73062015358,3339.20303417991,4187.25514303032,5056.46677114162,5947.36336048358,6860.48582421983,7796.39373535301,7858.0598380831,7921.25796671781,7986.0341914082,8052.42938143211,8120.48921963372,8190.25475907013,8261.76833507906,8335.07526623778,8410.22047814044,8487.24880309818,8566.20673235054,8647.13979404782,8730.09826597581,8815.13431453111,8902.29989270314,8991.65048042142,9083.24395766126,9177.14071283065,9273.40375612516,9372.09883811767,9473.29457386587,9577.06215820596,9683.47622518417,9792.61481590566,9904.55999666115,10019.3985544034,10137.2227519023,10258.1309580986,10382.228963131,10509.6298480549,10640.4558677691,10774.8392471421,10912.922400031,11054.8575056255,11200.8077925989,11350.9482360955,11505.4647872244,11664.5578483089,11828.440109919,11997.3387551797,12171.4942161637,12350.4915419398,12534.2003099151,12722.7081633821,12849.7059917594,12980.0158080777,13113.6812856401,13250.7330576874,13391.1852828455,13535.0254318675,12682.208893222,11807.8786475278,10911.4550691793,9992.37778772959,9050.09469994824,8084.0491709161,7093.73784512191,6078.67700205027,5038.43693715977,3972.63179825133,3881.02276740757,3787.81817173174,3693.0149519932,3596.62570656284,3498.55584113491,3398.73811723021,3296.97515680646,3193.12725577657,3087.04456491252,2978.49428912111,2867.29809717948,2753.16924116319,2635.99757379143,2515.57552981993,2391.80351019563,2264.44380667972,2133.19530450127,1998.04936581122,1858.63191972329,1714.89971060209,1566.59069739298,1413.64879826487,1255.72134628436,1092.66359815714,924.319703489332,750.506140652,570.976042351959,385.968488230313,195.403950826751,0,0,"","","","",""]
["6_10_M",10,6,"M",null,657,0,361,837,1403,2022,1729,2249,2801,3385,4002,4655,4709,4765,4824,4885,4948,5014,5082,5153,5227,5304,5384,5467,5553,5643,5736,5833,5934,6039,6147,6261,6378,6501,6628,6760,6897,7040,7189,7343,7503,7670,7844,8024,8212,8407,8610,8821,9041,9270,9509,9757,10015,10284,10564,10788,11022,11265,11518,11781,12054,11338,10593,9819,9013,8176,7304,6398,5456,4476,3457,3397,3335,3270,3202,3132,3058,2981,2901,2817,2730,2639,2544,2446,2343,2235,2124,2007,1886,1760,1629,1492,1350,1202,1049,890,724,553,375,191,0,0,"","","","","","",null,null,555.314516283875,1466.65603009218,2400.76970686648,3358.22487599687,3339.60566901894,4188.95106091409,5059.48316176409,5951.72990766094,6866.23732158075,7803.56854594292,7866.79215766195,7931.59406141643,7998.01513184189,8066.10116888352,8135.89317817911,8207.43344653429,8280.76729857594,8355.93961041015,8432.99510802524,8511.98017381289,8592.94011324695,8675.92508728643,8760.98714267565,8848.17799875349,8937.55295162881,9029.16969292088,9123.0884179886,9219.3719391172,9318.08580392874,9419.29841929872,9523.08071102987,9629.50703708891,9738.65509975977,9850.60656203644,9965.44768585047,10083.2702499963,10204.1720149851,10328.2580343227,10455.6406865202,10586.441391851,10720.7914594355,10858.8323584736,11000.7153482301,11146.6027060635,11296.6684221564,11451.0974824436,11610.0892311465,11773.8553152792,11942.6218316571,12116.6281365105,12295.6180466449,12479.3164739178,12667.8107531632,12795.4944776604,12926.5073655323,13060.8937786563,13198.6795920991,13339.878725398,13484.4848813423,12632.4544693754,11758.9239020505,10863.3217452812,9945.08908659139,9003.65520580428,8038.493898047,7049.08152993287,6034.93320048059,4995.61747038792,3930.76434978891,3840.11760695873,3747.88292149552,3654.08358484583,3558.70660041316,3461.65560404816,3362.8617547408,3262.18077231497,3159.43002623734,3054.46133795536,2947.04433396121,2837.00401200641,2724.15982224874,2608.21864815132,2489.07226308477,2366.63402782989,2240.52693794685,2110.76043431412,1977.03287867082,1839.15093979262,1696.87814847426,1550.17838682425,1398.76595181098,1242.57767962718,1081.21025368643,914.461765524349,742.560962461739,564.963479364852,381.913595161199,193.343969417433,0,0,"","","","","",""]
["7_10_M",10,7,"M",null,650,0,362,838,1405,2025,1733,2256,2810,3397,4017,4673,4729,4787,4848,4911,4977,5045,5116,5190,5267,5346,5429,5516,5605,5698,5795,5896,6001,6109,6222,6340,6462,6589,6721,6858,7001,7149,7303,7463,7630,7803,7983,8171,8366,8568,8779,8999,9228,9466,9714,9972,10240,10519,10745,10979,11222,11475,11739,12012,11297,10552,9778,8973,8136,7265,6360,5418,4439,3420,3361,3299,3235,3168,3098,3025,2949,2870,2787,2701,2611,2517,2420,2318,2212,2101,1986,1866,1741,1611,1476,1336,1190,1038,880,717,547,371,189,0,0,"","","","","","","",null,null,556.225072305446,1467.63001463274,2401.80601740804,3359.32268478959,3340.76481082885,4191.55823547722,5063.5711186074,5957.33633421092,6873.40350571626,7812.33306906013,7877.1608214541,7943.60794619188,8011.72036041741,8081.53902247073,8153.1061707506,8226.46713605475,8301.66674513371,8378.74961779766,8457.76202774024,8538.74905793113,8621.76075266427,8706.84903919931,8794.06540341661,8883.46495779502,8975.10520579587,9069.04614993495,9165.35040480125,9264.08331528863,9365.31308032192,9469.11035692239,9575.54922723994,9684.7070550232,9796.66510028035,9911.50910027235,10029.3303501744,10150.2260024686,10274.3003744764,10401.6651426256,10532.4408930787,10666.7580197682,10804.7570478298,10946.5883172185,11092.4131546289,11242.4045659729,11396.7465727267,11555.6374617854,11719.2878374126,11887.9227109687,12061.7803637287,12240.7598568934,12424.4483848541,12612.9336288443,12741.299451181,12873.01116194,13008.1137577478,13146.6338417706,13288.5801230988,13433.9525375478,12582.7013920262,11709.9705473166,10815.1898588143,9897.79263028999,8957.21780326748,7992.92964807267,7004.4035210837,5991.1668574728,4952.77453756994,3888.87241557421,3799.18682231852,3707.94567385065,3615.15011102649,3520.78526128558,3424.79345671135,3327.07339435136,3227.4814461243,3125.83624962347,3021.99160960194,2915.71997494846,2806.850196257,2695.20696794486,2580.50420780298,2462.64337351399,2341.40995806689,2216.70322675768,2088.26150272771,1955.9379653652,1819.57209829382,1678.97834255734,1533.92495589561,1384.09588595563,1229.3785393759,1069.67804318854,904.928198946637,734.615784271478,558.950916377745,377.858702092085,191.283988008114,0,0,"","","","","","",""]
["8_10_M",10,8,"M",null,643,0,363,840,1408,2029,1738,2264,2821,3410,4033,4692,4751,4811,4874,4940,5008,5079,5153,5229,5309,5392,5478,5568,5661,5758,5858,5963,6071,6184,6302,6424,6550,6682,6819,6962,7110,7264,7424,7590,7763,7943,8130,8325,8527,8738,8957,9185,9423,9671,9928,10197,10475,10701,10935,11179,11433,11696,11970,11255,10511,9738,8933,8096,7226,6321,5380,4401,3383,3325,3264,3200,3134,3065,2993,2918,2839,2757,2672,2583,2490,2394,2293,2188,2079,1965,1846,1723,1594,1460,1321,1177,1027,871,709,541,367,187,0,0,"","","","","","","","",null,null,557.312830100938,1468.92657599769,2403.31426913905,3361.04609462356,3342.70703383436,4195.10964350359,5068.77222188781,5964.23125079567,6882.03396155281,7822.74865295738,7889.2223638709,7957.36170070141,8027.20757486283,8098.80217673004,8172.19084364248,8247.41835340019,8324.52922007785,8403.5696091291,8484.58438154632,8567.62346545321,8652.73866913697,8739.98124560689,8829.40612429483,8921.07062111009,9015.03454635513,9111.36031757753,9210.11307762384,9311.36081817633,9415.17392824523,9521.62621496738,9630.79470443029,9742.76025460731,9857.60807916095,9975.42899073692,10096.3195350126,10220.383294497,10347.7312449441,10478.4831399799,10612.7684600606,10750.7267880733,10892.5075465424,11038.2711134909,11188.189512672,11342.4458032928,11501.2372172937,11664.7733186514,11833.2780358833,12006.9885780244,12185.9627779845,12369.6393774885,12558.1132270849,12687.1672134648,12819.5843581234,12955.4052315135,13094.6562290172,13237.3577949243,13383.4988800546,12533.0366603059,11661.1084412548,10767.1438190671,9850.5849701261,8910.87232656159,7947.46065927875,6959.83672850486,5947.51607701465,4910.06772906027,3847.12252088659,3758.40468118251,3668.13962135214,3576.35500906031,3483.01059012364,3388.04718339238,3291.36219307671,3192.81096075548,3092.27386077232,2989.55631688415,2884.43372198301,2776.73893844756,2666.30211513804,2552.84449054939,2436.27760141544,2316.4011017412,2192.97666663861,2065.8794779853,1934.98617343328,1799.95176242277,1660.77916466777,1517.28087457702,1369.21303950173,1216.23487271871,1058.22469871783,895.070260981654,726.670606081217,552.938353390638,373.803809022972,189.224006598796,0,0,"","","","","","","",""]
["9_10_M",10,9,"M",null,635,0,363,841,1409,2031,1741,2269,2829,3421,4047,4709,4769,4832,4898,4966,5037,5110,5187,5267,5349,5435,5525,5618,5714,5815,5919,6028,6141,6258,6380,6506,6638,6775,6917,7065,7218,7378,7544,7717,7897,8083,8278,8480,8690,8909,9137,9374,9621,9879,10146,10425,10651,10886,11130,11384,11648,11922,11208,10464,9691,8887,8051,7181,6277,5336,4358,3341,3283,3223,3160,3095,3027,2956,2881,2804,2723,2639,2551,2459,2364,2264,2161,2053,1940,1823,1701,1574,1442,1305,1162,1014,860,700,534,362,184,0,0,"","","","","","","","","",null,null,557.828714491267,1468.98479226871,2402.9013320323,3360.14815859497,3341.31075033203,4194.78974348074,5069.55779904369,5966.14889442176,6885.11750320419,7827.02695905751,7895.19604324425,7965.07196953912,8036.6968727154,8110.11609689433,8185.37436317401,8262.51606395968,8341.58724014439,8422.63249804557,8505.70163209443,8590.84631365038,8678.11752848435,8767.5699957399,8859.26081584658,8953.24957825509,9049.59847409666,9148.37241403164,9249.63915156769,9353.46876797396,9459.93475458166,9569.11374994288,9681.08615078183,9795.9365703551,9913.75526780553,10034.6380930269,10158.6877861731,10286.014519589,10416.7370924822,10550.9839381306,10688.8935591664,10830.6143261025,10976.3055290354,11126.1380652961,11280.2938902561,11438.9690257518,11602.3718422475,11770.7250258343,11944.2645550461,12123.2251792999,12306.8919471633,12495.3484462189,12625.1843251365,12758.3980851222,12895.0352797291,13035.1231228077,13178.6769476226,13325.6920530116,12476.1196509783,11605.1046580706,10712.078149473,9796.47473262958,8857.73462203976,7895.3232109228,6908.7167983325,5897.44367806806,4861.05975364068,3799.19425388815,3711.59066112844,3622.45570599369,3531.81600202327,3439.63062622586,3345.84031173255,3250.34310960734,3153.05037758907,3053.7407599478,2952.27387907471,2848.43020026068,2742.04931762471,2632.9703643175,2520.9265366503,2405.84572446408,2287.40895503339,2165.50941075195,2040.05358229857,1910.76768228684,1777.5015412279,1640.08656549208,1498.31899857652,1351.92959198325,1200.88511267607,1044.83616471688,883.678818876807,717.328556886346,545.730403843861,368.879880927813,186.869742131004,0,0,"","","","","","","","",""]
["10_10_M",10,10,"M",null,628,0,364,843,1413,2037,1748,2279,2842,3437,4067,4733,4796,4861,4929,5000,5073,5150,5229,5312,5398,5487,5580,5677,5777,5881,5990,6102,6219,6341,6468,6599,6736,6878,7025,7179,7338,7504,7677,7856,8043,8237,8438,8648,8867,9094,9331,9578,9835,10103,10381,10607,10842,11087,11341,11605,11880,11166,10423,9651,8847,8011,7142,6238,5298,4321,3304,3247,3188,3126,3061,2993,2923,2849,2773,2693,2610,2523,2432,2338,2239,2137,2030,1919,1803,1682,1557,1426,1290,1149,1002,850,692,528,358,182,0,0,"","","","","","","","","","",null,null,559.274564293507,1470.94177336567,2405.38020456503,3363.16069591658,3344.87072423024,4200.30108393851,5077.06825905434,5975.71371174915,6896.78784926521,7840.85983115711,7910.7635364584,7982.41647462576,8055.86399669799,8131.15077523326,8208.32109734989,8287.42089616519,8368.49455655326,8451.5917572765,8536.76405124111,8624.0621919423,8713.54071606747,8805.25653710825,8899.26905294036,8995.64025831723,9094.43486254195,9195.72041259729,9299.56672252226,9406.04700944952,9515.23757515605,9627.21841529506,9742.07362061128,9859.89296882258,9980.77170425863,10104.8118336517,10232.1228301012,10362.8226618738,10497.0388505059,10634.908958221,10776.5804400062,10922.2116393056,11071.9724734317,11226.0439377061,11384.6210014141,11547.91099723,11716.1355310494,11889.5295119178,12068.3476057596,12252.000123814,12440.4428159692,12570.9643489241,12704.880928302,12842.2336730995,12983.0551259158,13127.3614250204,13275.1422538079,12426.3556805245,11556.140052284,10663.9261690478,9749.15749200588,8811.27570262002,7849.7366633674,6864.02803461174,5853.66615989338,4818.20518727119,3757.29018059133,3670.64717301238,3582.48020315173,3492.81284228001,3401.63542314065,3308.89942742628,3214.47028588143,3118.25981560688,3020.04769048471,2919.69521615315,2816.98529560596,2711.76087300246,2603.86566085343,2493.03898386821,2379.21716747165,2262.09310421011,2141.57695800164,2017.42379643836,1889.51257268492,1757.72280393259,1621.68549746744,1481.4114708862,1336.69392325061,1187.2552493104,1033.08341965084,873.820880911825,709.383378696085,539.717840856754,364.824987858699,184.809760721686,0,0,"","","","","","","","","",""]
["11_10_M",10,11,"M",null,620,0,365,844,1416,2040,1753,2287,2853,3451,4084,4754,4819,4887,4958,5031,5108,5187,5269,5355,5445,5537,5634,5734,5838,5946,6059,6176,6297,6423,6555,6691,6833,6980,7134,7293,7458,7631,7810,7996,8190,8391,8601,8819,9046,9283,9529,9785,10052,10330,10557,10792,11037,11292,11557,11832,11119,10376,9604,8801,7966,7098,6194,5255,4278,3262,3206,3147,3086,3022,2955,2886,2813,2738,2659,2576,2491,2401,2308,2211,2110,2004,1894,1780,1661,1537,1408,1274,1135,990,840,684,522,354,180,0,0,"","","","","","","","","","","",null,null,560.165554395676,1471.69334476283,2405.98721002584,3363.61942151039,3345.17847182334,4202.04270076623,5080.2840882892,5980.44006638237,6903.06633329882,7848.72710672216,7920.41285161862,7993.89350050468,8069.21367100566,8146.41753050362,8225.5508895558,8306.65788066241,8389.78805105421,8474.99281894702,8562.32267316324,8651.83194264816,8743.5773280599,8837.61800917313,8934.01575718474,9032.83505218527,9134.14320607543,9238.00972851818,9344.50752435063,9453.71251163229,9565.70422892062,9680.56617123693,9798.38756755566,9919.26297176952,10043.2935542484,10170.5879908379,10301.2633022624,10435.4459703556,10573.2724850143,10714.8892574231,10860.4535517998,11010.1341682588,11164.111007848,11322.5778401072,11485.7408149575,11653.8203072771,11827.0500074673,12005.6831804064,12189.3279770364,12377.759591974,12509.065419342,12643.7858559009,12781.9627972149,12923.6241287939,13068.7858616562,13217.4440403172,12369.5507835289,11500.2520654504,10608.98018313,9695.17105013279,8758.26615700087,7797.72087930772,6813.03433521078,5803.71101799098,4769.31927856239,3709.48928465606,3623.94521580422,3536.91397879513,3448.39796424069,3358.3870304198,3266.83280706185,3173.6016538764,3078.60724235277,2981.63213795739,2882.54174103428,2781.20506888172,2677.32063451653,2570.81519069452,2461.4416980574,2349.02832638351,2233.38488049202,2114.44609209622,1992.002695995,1865.78964577849,1735.6708728618,1601.5005379631,1463.11201372811,1320.29762450521,1172.77930956047,1020.54536523388,863.239988633874,700.783339094167,533.13194809743,360.306730186181,182.455496253894,0,0,"","","","","","","","","","",""]
["12_10_M",10,12,"M",null,611,0,365,845,1417,2043,1756,2293,2861,3463,4099,4772,4840,4910,4984,5060,5139,5222,5307,5396,5489,5585,5685,5789,5897,6009,6126,6248,6374,6505,6641,6782,6930,7083,7242,7407,7579,7758,7943,8137,8338,8547,8765,8992,9228,9473,9729,9996,10273,10500,10736,10982,11237,11502,11778,11065,10323,9552,8749,7915,7047,6145,5206,4230,3215,3159,3101,3041,2978,2912,2844,2772,2698,2620,2539,2454,2366,2274,2178,2079,1975,1866,1754,1636,1514,1387,1255,1118,975,827,673,514,348,177,0,0,"","","","","","","","","","","","",null,null,560.505240217061,1471.23871948026,2404.71778691213,3361.51530290516,3342.2182402036,4199.99862733093,5079.17819326072,5980.29911108635,6903.91204881765,7850.58179165239,7924.09776276454,7999.45350389639,8076.69304626309,8155.86206102719,8237.00439502609,8320.16944588146,8405.40847858847,8492.77168227018,8582.31315023425,8674.08934169761,8768.15918898867,8864.58420963797,8963.42862362054,9064.75947602839,9168.6459315537,9275.16054104356,9384.37878798471,9496.37969355726,9611.24607904855,9729.06655249319,9849.93488699423,9973.95130747688,10101.2235882159,10231.8676787443,10366.0088855707,10503.7824862218,10645.333711389,10790.8186045737,10940.4047020586,11094.2706665943,11252.6089101643,11415.6242439466,11583.5356492869,11756.5754366347,11934.9952847931,12118.6206901525,12307.0324542649,12439.2177689216,12574.8350616865,12713.9262153515,12856.5246193702,13002.6472821883,13152.2848555733,12305.39658379,11437.1221881061,10546.8940593698,9634.15738266334,8698.34546207832,7738.92454396656,6755.3711993131,5747.21341379077,4714.00640234525,3655.3787492048,3571.0740093434,3485.30070835282,3398.06074315383,3309.34420870134,3219.10397424672,3127.20886261504,3033.57644759209,2937.99483889511,2840.33692895371,2740.40103072561,2638.05037951206,2533.05398018847,2425.2625871329,2314.52697622089,2200.54698576825,2083.24326736781,1962.5629362266,1838.09634398023,1709.91099740311,1577.70302921093,1441.31087736763,1300.53600058692,1155.11655564757,1005.06966278954,850.091505501917,690.198313350341,524.973098275093,354.919437487618,179.806948727628,0,0,"","","","","","","","","","","",""]
["13_10_M",10,13,"M",null,603,0,366,848,1421,2048,1763,2303,2875,3481,4121,4798,4868,4941,5017,5097,5179,5265,5353,5446,5542,5642,5746,5854,5966,6082,6204,6329,6460,6596,6738,6885,7037,7196,7361,7533,7711,7897,8090,8291,8500,8717,8943,9179,9424,9680,9946,10223,10450,10687,10933,11188,11454,11730,11018,10276,9505,8704,7870,7003,6101,5163,4187,3173,3118,3061,3001,2939,2874,2807,2736,2662,2586,2506,2422,2335,2245,2150,2052,1949,1842,1731,1615,1495,1369,1239,1104,963,816,665,507,344,175,0,0,"","","","","","","","","","","","","",null,null,561.807384843178,1472.73147761446,2406.40621984524,3363.40375300517,3344.31358074034,4203.89783569739,5084.92953152836,5987.94671714139,6913.50116740004,7862.16102385352,7937.55101033186,8014.82496542449,8094.0284383817,8175.20502441209,8258.4039903054,8343.67646709094,8431.07238004967,8520.64561557162,8612.45242089711,8706.5515111442,8803.00418121292,8901.87442282863,9003.22904700271,9107.13691514089,9213.67026693129,9322.90420337951,9434.9172899148,9549.7917536173,9667.61565531936,9788.48207941836,9912.49041641758,10039.7476453312,10170.3687703765,10304.4780607798,10442.2097243089,10583.7079505102,10729.1277064763,10878.6354142787,11032.4086454904,11190.6386157038,11353.5289568274,11521.2974228839,11694.175109518,11872.4122987197,12056.0285397537,12244.4274767742,12377.3993902281,12513.8182005201,12653.7307892601,12797.1713819212,12944.1518962572,13094.6693551347,12248.6770642908,11381.322384279,10492.0392167942,9580.25597354539,8645.42394626417,7686.99998370168,6704.47214764644,5697.35661841142,4665.22287415156,3607.68468268251,3524.48384846843,3439.82698138834,3353.74342234826,3266.19922227796,3177.14758218237,3086.45847557246,2994.05160044014,2899.78082542793,2803.40456311564,2704.78489430485,2603.7934018412,2500.21021161054,2393.78732963518,2284.4788822652,2172.00318776953,2056.30721190977,1937.20009851425,1814.44474431019,1687.94806973039,1557.3850233374,1422.83780804558,1283.90719061388,1140.32021041201,992.076092407713,839.280992265173,681.247824324343,518.38720551577,350.401179815099,177.452684259835,0,0,"","","","","","","","","","","","",""]
["14_10_M",10,14,"M",null,594,0,367,849,1424,2052,1769,2312,2887,3496,4140,4821,4894,4970,5049,5131,5216,5305,5398,5494,5593,5697,5805,5917,6033,6154,6280,6410,6546,6687,6834,6987,7145,7310,7481,7659,7845,8037,8238,8446,8663,8889,9124,9369,9624,9890,10166,10394,10631,10877,11133,11400,11676,10964,10224,9453,8652,7819,6952,6051,5114,4139,3125,3071,3015,2956,2895,2831,2765,2695,2623,2547,2468,2386,2300,2211,2118,2021,1920,1815,1705,1591,1473,1349,1221,1087,948,804,655,500,339,172,0,0,"","","","","","","","","","","","","","",null,null,562.577885674042,1473.04905912592,2406.25859443838,3362.78063057262,3343.20270214471,4204.08212087353,5086.43900713061,5990.81210104319,6917.75603770929,7867.83787645421,7945.14870394164,8024.38905286428,8105.60223378048,8188.83736482171,8274.14542478118,8361.57604036943,8451.18286345927,8543.02190101423,8637.15162191654,8733.63306865828,8832.52997415781,8933.9088839786,9037.83831603635,9144.39015757368,9253.63907670346,9365.66312330523,9480.54385278556,9598.3687071313,9719.22999230292,9843.22615599589,9970.4632783621,10101.0552954534,10235.1253044602,10372.8063042689,10514.2413075452,10659.5840644934,10808.9997374123,10962.6646637852,11120.7687062062,11283.514162575,11451.1173984021,11623.8081345979,11801.8350728301,11985.435114153,12173.8175172334,12307.6679732033,12444.9871033243,12585.8226399066,12730.2042369417,12878.1437788383,13029.6447583148,12184.6617879707,11318.3282317672,10430.0933741987,9519.38740685138,8585.65346631403,7628.35931359026,6646.98289923798,5641.03969714135,4610.09809214343,3553.78864307934,3471.83711061257,3388.44945308507,3303.6548390925,3217.41994552217,3129.69968112807,3040.36704762239,2949.3463329602,2856.43526761865,2761.51982148982,2664.41562862832,2564.9180111106,2462.89437219845,2358.11595463696,2250.43633151366,2139.70127855321,2025.73941907847,1908.34834242877,1787.47129681609,1662.86635753929,1534.20538043921,1401.56645944389,1264.54468792661,1123.20745416223,977.382313892358,826.842224460087,671.250913717814,510.605926196778,345.013887116536,174.804136733569,0,0,"","","","","","","","","","","","","",""]
["15_10_M",10,15,"M",null,586,0,368,852,1429,2059,1778,2325,2904,3517,4166,4851,4927,5006,5088,5174,5262,5355,5451,5550,5654,5761,5873,5989,6110,6236,6366,6502,6643,6789,6941,7100,7264,7435,7613,7798,7990,8190,8399,8615,8841,9075,9320,9574,9839,10115,10344,10581,10828,11084,11351,11628,10917,10177,9407,8606,7773,6907,6007,5070,4096,3083,3030,2974,2916,2856,2793,2727,2659,2587,2513,2435,2354,2269,2181,2089,1994,1894,1790,1682,1570,1453,1331,1204,1072,935,793,646,493,334,170,0,0,"","","","","","","","","","","","","","","",null,null,564.305293603034,1475.31325483393,2409.07416257841,3366.16106351686,3347.16346347184,4210.22994399437,5094.82638611638,6001.49482066154,6930.78944587779,7883.27671304582,7962.55142121947,8043.79875265147,8127.06769456428,8212.40909170541,8299.87230685176,8389.51078486767,8481.38032064564,8575.53916575943,8672.04813996854,8770.97074783556,8872.37330073302,8976.3240131701,9082.89446110521,9192.15893003387,9304.19501393652,9419.08367384552,9536.91180437564,9657.77102259089,9781.75894155103,9908.98084592774,10039.5497262117,10173.5876420445,10311.2265222706,10452.6083381179,10597.8857630715,10747.2228448897,10900.7948295374,11058.7903828476,11221.4106230669,11388.8706879757,11561.3990832565,11739.2431132975,11922.6714554981,12111.0401155348,12245.6720923548,12383.7921906193,12525.4437876208,12670.6619577438,12819.4594913016,12971.8343822391,12127.7411152851,11262.3206648467,10375.0153286433,9465.26436819523,8532.51262955262,7576.21861934753,6595.85960134966,5590.96379887005,4561.08647386332,3505.85657492155,3424.99788246857,3342.73906360548,3259.08790973285,3174.01038521325,3087.4612604991,2999.36126286269,2909.54560974356,2817.92101539605,2724.25806255428,2628.43498989139,2530.25394667021,2429.59144665982,2326.23086239283,2220.04235710791,2110.7534109239,1998.3246247357,1882.58557639694,1763.33009116143,1640.29249078413,1513.35518912705,1382.39894151565,1247.29623360427,1107.90591549848,964.062335546411,815.551616855264,662.0627589786,503.64246293411,340.495629444017,172.449872265777,0,0,"","","","","","","","","","","","","","",""]
["16_10_M",10,16,"M",null,577,0,369,854,1433,2065,1785,2336,2919,3537,4190,4880,4959,5041,5126,5214,5306,5402,5502,5605,5712,5824,5940,6061,6186,6316,6452,6592,6739,6891,7049,7213,7384,7561,7746,7938,8137,8345,8561,8786,9021,9264,9518,9783,10059,10287,10525,10772,11029,11297,11575,10863,10124,9355,8555,7722,6857,5957,5021,4048,3036,2983,2929,2872,2812,2750,2686,2618,2548,2474,2398,2318,2235,2148,2057,1963,1865,1763,1656,1546,1430,1310,1186,1056,921,781,636,485,329,167,0,0,"","","","","","","","","","","","","","","","",null,null,565.520614568474,1476.44642866427,2410.12249542761,3367.1233442849,3348.03662201702,4212.80276135746,5099.14079711995,6007.592047762,6938.7097487145,7893.06139500216,7974.34910338886,8057.65809127221,8143.03905413774,8230.54105960218,8320.21732139722,8412.12339765617,8506.31729737334,8602.85959170173,8701.81353034969,8803.24516335267,8907.22236620283,9013.81636707888,9123.10102365872,9235.15341989401,9350.05385136781,9467.88860017597,9588.74851205277,9712.73026521578,9839.93825365673,9970.48440884105,10104.489628311,10242.0846425692,10383.4102568738,10528.6179393872,10677.8704903557,10831.3419343654,10989.2195980197,11151.7032798584,11319.0067443152,11491.3571380991,11669.0002026541,11852.2028378763,12040.5545195023,12176.0730970891,12315.0974612005,12457.676122436,12603.8395978262,12753.600660707,12906.9572496499,12063.8780534765,11199.4914922442,10313.2400043928,9404.56293632962,8472.91517523628,7517.74610816534,6538.54482344738,5534.82816633112,4506.15041671401,3452.13923303621,3372.53815069135,3291.53301971468,3209.15085345058,3125.39172026135,3040.18456725852,2953.40635212882,2864.98780572882,2774.73594359091,2682.54939074306,2588.17997440369,2491.50615386759,2392.31787956024,2290.49406158669,2185.92434440317,2078.3633444164,1967.65238375964,1853.60813252487,1736.20277236213,1615.01877523324,1490.17731425707,1361.40636520697,1228.30707853617,1090.95895047155,949.21244166153,802.883228091386,651.715398947991,495.861183615117,335.108336745454,169.801324739511,0,0,"","","","","","","","","","","","","","","",""]
["17_10_M",10,17,"M",null,567,0,370,856,1436,2069,1791,2346,2933,3554,4211,4906,4987,5072,5161,5253,5348,5448,5551,5658,5770,5885,6006,6131,6261,6396,6536,6682,6834,6992,7156,7326,7503,7688,7879,8079,8286,8502,8726,8960,9203,9457,9721,9996,10225,10463,10711,10968,11236,11515,10804,10065,9297,8497,7666,6801,5902,4967,3995,2983,2932,2878,2822,2764,2703,2639,2573,2504,2431,2356,2278,2196,2111,2022,1929,1833,1732,1628,1519,1406,1288,1165,1038,905,768,625,477,324,165,0,0,"","","","","","","","","","","","","","","","","",null,null,566.235206923983,1476.45621006065,2409.41029597005,3365.66991054063,3345.82228206494,4211.80000863311,5099.37735151261,6009.09434349669,6941.50479705408,7897.17272359621,7980.52595098203,8065.95061303214,8153.4954491826,8243.21341612771,8335.15980870296,8429.39236612875,8525.97138307783,8624.95982582641,8726.42345376423,8830.42976540277,8937.04960219105,9046.35634611925,9158.42651407615,9273.3396618461,9391.18139053101,9512.04168836322,9636.01619432132,9763.20831221281,9893.7287962054,10027.6972519644,10165.2430778062,10306.5057827473,10451.6354949392,10600.7936276956,10754.1528476759,10911.8989925426,11074.2303935511,11241.3592881936,11413.5113121692,11590.9304691705,11773.8816828261,11962.2170120633,12098.7142464076,12238.7415033657,12382.3431156388,12529.5552240863,12680.3917330889,12834.8453422779,11992.8849226908,11129.646866933,10244.5670469051,9337.0943571331,8406.66569644829,7452.75042777034,6474.8276515421,5472.41364311647,4445.06177489779,3392.41678574795,3314.18540236559,3234.59494944752,3153.65304427672,3071.32736939065,2987.57694215854,2902.32979820646,2815.43206581451,2726.74299398382,2636.17221983816,2543.48596408895,2448.49078245568,2351.06959765178,2251.01452606473,2148.20798354439,2042.53643725079,1933.72904453214,1821.77597540269,1706.33323177259,1587.34954286978,1464.56667053888,1337.89867436937,1207.27386149541,1072.29721061639,933.125858917243,789.268348127293,640.867071961381,487.751060808018,329.663349866126,166.858494154771,0,0,"","","","","","","","","","","","","","","","",""]
["18_10_M",10,18,"M",null,674,0,370,856,1436,2070,1792,2325,2891,3489,4122,4790,4846,4904,4964,5027,5092,5159,5229,5302,5377,5456,5537,5622,5710,5801,5896,5994,6096,6202,6312,6426,6545,6668,6796,6928,7066,7210,7359,7513,7674,7842,8016,8129,8247,8370,8498,8631,8769,8913,9063,9219,9382,9552,9730,9916,10108,10308,10516,10732,10955,11187,11428,10677,9895,9082,8236,7356,6441,5490,4500,3472,2403,2293,2179,2059,1935,1806,1671,1531,1385,1234,1076,913,743,567,385,196,0,0,"","","","","","","","","","","","","","","","","","",null,null,549.817626967807,1461.36950459591,2395.68686467336,3353.34300582557,3334.92683822275,4180.9620983354,5048.08762899184,5936.82981182159,6847.72419748953,7781.32423846294,7840.29655176239,7900.71234218355,7962.60523372345,8026.01038749209,8090.96457226892,8157.50623821277,8225.67559389639,8295.51468684594,8367.06586437877,8440.37366324357,8515.48344191154,8592.44176278421,8671.29548618564,8752.09622114227,8834.89675926857,8919.75188641691,9006.72221441904,9095.87145815768,9187.26821302328,9280.98736666952,9377.11110440052,9475.72843424544,9576.93561066385,9680.83689689354,9787.54422606475,9897.17831382335,10009.8687863246,10125.7546128249,10244.9850041243,10367.7210391924,10494.1399775825,10557.0386263791,10622.0265837348,10689.2393886178,10758.8292646308,10830.970937906,10905.8633999438,10983.7291500236,11064.8190156204,11149.4169975465,11237.8553937816,11330.5418364465,11428.0024279479,11529.4748481331,11634.4597386496,11743.1955595025,11855.9183455459,11972.8114403593,12093.9572076234,12219.1901430983,12348.0465271742,11479.7299439664,10589.2794651629,9675.60991491027,8737.6626451952,7774.41597208879,6784.93367199586,5768.41328959096,4724.43797576038,3652.72515042418,2553.62532890467,2428.01995155076,2298.67083099072,2165.56906402222,2028.38516499902,1886.88295788396,1741.00540800385,1590.46791842805,1435.17691104274,1274.71637329001,1109.22401054773,938.191140934258,761.746027807482,579.708221946512,391.819145532281,198.346781411491,0,0,"","","","","","","","","","","","","","","","","",""]
["19_10_M",10,19,"M",null,667,0,371,858,1438,2073,1796,2333,2901,3502,4137,4809,4867,4927,4990,5054,5122,5192,5264,5340,5418,5500,5584,5672,5763,5857,5955,6057,6163,6273,6387,6505,6628,6756,6888,7026,7169,7318,7472,7633,7800,7973,8087,8206,8329,8457,8590,8728,8872,9022,9179,9342,9513,9691,9877,10070,10271,10479,10695,10920,11152,11394,10643,9863,9051,8206,7326,6412,5462,4473,3446,2379,2270,2156,2038,1915,1787,1654,1515,1371,1221,1065,903,735,561,381,194,0,0,"","","","","","","","","","","","","","","","","","","",null,null,550.264656985595,1461.69783074834,2395.89230221094,3353.42201266516,3334.87524475471,4182.163795481,5050.56892006307,5940.61339510827,6852.83713371333,7787.79440603747,7848.27723931153,7910.23736975898,7973.70980607386,8038.73116134527,8105.33972666165,8173.57554803131,8243.48050679965,8315.09672695251,8388.46851683063,8463.64094793777,8540.66023578728,8619.57277927712,8700.42976809838,8783.28345805202,8868.18797974415,8955.20332606346,9044.39247065426,9135.82319468484,9229.56954883355,9325.71290996505,9424.34145295689,9525.55057258129,9629.44369677062,9736.13184123174,9845.7348241816,9958.3813404158,10074.2094443808,10193.3672880119,10316.014740577,10442.327426321,10505.800179229,10571.3612891332,10639.1447136573,10709.3009517478,10782.0026547155,10857.4464900784,10935.8525811482,11017.4692195752,11102.5776515432,11191.5067981319,11284.6596461684,11382.5554918728,11484.9309359868,11590.8327327804,11700.4976791743,11814.1777670097,11932.060278719,12054.1836905103,12180.4293562856,12310.3082285377,11443.0629128137,10553.6532691634,9641.03125072548,8704.13765285101,7742.02170722313,6753.69281994269,5738.35273683852,4695.59031365983,3625.13063222956,2527.20793536899,2402.80931185777,2274.86303165498,2143.08927998162,2007.31369277662,1867.33336658701,1722.89639743247,1573.94149641371,1420.14124008796,1261.36211117505,1097.47126548169,928.333202969276,753.800849617221,573.695658959405,387.764252463167,196.286800002173,0,0,"","","","","","","","","","","","","","","","","","",""]
["20_10_M",10,20,"M",null,660,0,371,860,1441,2077,1802,2341,2912,3516,4155,4830,4890,4953,5017,5085,5154,5227,5302,5380,5462,5546,5634,5724,5819,5917,6019,6124,6234,6348,6466,6588,6716,6848,6985,7128,7276,7431,7591,7757,7931,8045,8164,8287,8415,8548,8687,8832,8982,9139,9302,9473,9652,9838,10032,10233,10442,10659,10884,11117,11359,10610,9830,9018,8174,7296,6383,5433,4446,3419,2353,2245,2133,2016,1894,1768,1636,1498,1356,1207,1053,893,727,555,376,191,0,0,"","","","","","","","","","","","","","","","","","","","",null,null,550.86484988028,1462.30917097757,2396.51445037519,3354.05411186442,3335.5158199208,4184.1981979837,5054.02296794529,5945.51697005318,6859.22091654651,7795.68565896917,7857.70905108237,7921.24468650796,7986.32901917912,8053.00017751083,8121.29804120047,8191.26432151635,8262.94091487321,8336.37189678151,8411.6020469673,8488.67722882292,8567.64337392075,8648.55124662009,8731.45256017208,8816.40078238661,8903.45527945396,8992.67827511681,9084.13672690315,9177.9038385267,9274.06016807061,9372.69304629919,9473.8969966761,9577.77459978085,9684.43594084665,9793.99992710584,9906.59430762024,10022.356207088,10141.4327021083,10263.9824340904,10390.1793702752,10454.2163465735,10520.3403169308,10588.6836246277,10659.395007106,10732.6449981652,10808.6278928831,10887.5613853468,10969.6911719362,11055.2956773835,11144.7003670426,11238.3034836615,11336.617386411,11439.8774191948,11546.6762071568,11657.26438077,11771.8785040529,11890.703227019,12013.7987673053,12141.023717919,12271.9209424301,11405.6636086279,10517.2886856862,9605.76400369905,8669.98833558797,7708.94249307919,6721.69401151365,5707.53637865363,4665.8901715692,3596.677879661,2500.05430030164,2377.02152387568,2250.37143104507,2119.96280557608,1985.64730965843,1847.04143486078,1704.08772416781,1556.77854997153,1404.56350011909,1247.60955611668,1085.54409136467,918.21870752346,745.464111258088,567.061039184844,383.303688971413,194.226818592855,0,0,"","","","","","","","","","","","","","","","","","","",""]
["21_10_M",10,21,"M",null,653,0,372,862,1445,2082,1808,2350,2924,3532,4174,4853,4916,4980,5047,5117,5190,5265,5343,5424,5508,5596,5686,5781,5878,5980,6085,6195,6308,6426,6549,6676,6808,6945,7088,7236,7389,7549,7715,7888,8003,8122,8245,8374,8508,8647,8791,8942,9099,9263,9434,9613,9800,9994,10196,10405,10623,10849,11083,11325,10577,9798,8987,8144,7266,6354,5405,4419,3394,2328,2222,2111,1995,1875,1749,1619,1483,1342,1195,1042,884,720,549,372,189,0,0,"","","","","","","","","","","","","","","","","","","","","",null,null,551.650723106964,1463.27526296143,2397.66405888546,3355.39000514179,3337.04093488077,4187.29689962025,5058.72893737994,5951.86469820952,6867.24164971955,7805.41361392366,7869.01837509588,7934.17177096058,8000.91177248867,8069.27809850422,8139.3122958535,8211.05603953345,8284.55317864274,8359.84820811128,8436.98664680522,8516.0139675338,8596.98051802766,8679.93747876509,8764.93766571769,8852.03982963328,8941.3054569266,9032.80069515469,9126.59791556496,9222.77687246933,9321.42406842841,9422.63317246413,9526.50593528867,9633.1515306025,9742.68797432788,9855.2420906552,9970.9500962157,10089.9580161787,10212.4232904476,10338.5182607477,10403.1338011641,10469.8355697643,10538.7543433803,10610.0371514296,10683.8524721607,10760.3922985417,10839.8719727315,10922.534682118,11008.6561269677,11098.5584313159,11192.6352372065,11291.3921566934,11395.5003987708,11503.2226150596,11614.7470273252,11730.3262971123,11850.1279649121,11974.2099839649,12102.4284322136,12234.3580675532,11369.1431043873,10481.8196731794,9571.35512632328,8636.64812397235,7676.75095186408,6690.67749093779,5677.7263658082,4637.32509576437,3569.2919005487,2474.00425704875,2352.24003562224,2226.9142550348,2097.90494448887,1964.89558034677,1827.89082447222,1686.48723370519,1540.6392304885,1390.04625876463,1234.62101132318,1074.31128146212,908.685140945747,737.518933067827,561.048476197737,379.2487959023,192.166837183537,0,0,"","","","","","","","","","","","","","","","","","","","",""]
["22_10_M",10,22,"M",null,645,0,373,863,1447,2086,1813,2358,2935,3545,4191,4873,4938,5005,5075,5147,5222,5300,5381,5465,5552,5643,5737,5834,5936,6041,6150,6264,6381,6504,6630,6762,6899,7041,7189,7342,7502,7668,7840,7955,8074,8198,8327,8461,8600,8745,8896,9054,9218,9389,9568,9756,9951,10153,10363,10582,10808,11043,11286,10539,9760,8951,8108,7232,6321,5373,4388,3364,2300,2195,2085,1971,1852,1728,1599,1465,1325,1180,1030,873,711,542,368,187,0,0,"","","","","","","","","","","","","","","","","","","","","","",null,null,551.866393650929,1463.04924841076,2396.9832039367,3354.24080056555,3335.40820024366,4186.74729361357,5059.28340983449,5953.54067729909,6870.05887168451,7809.39251271554,7874.6264014063,7941.44668656679,8009.89290456282,8080.00641578257,8151.82864375483,8225.40318047092,8300.774197173,8377.98682093419,8457.08600246266,8538.1216155779,8621.14423438669,8706.20593271767,8793.36476084762,8882.68136576095,8974.22097284533,9068.05500568274,9164.26230384567,9262.92842746338,9364.14607338617,9468.01604839843,9574.64648931498,9684.15439847238,9796.66554842475,9912.31512358264,10031.2479536229,10153.6201120693,10279.6020910046,10344.8825317396,10412.2484787602,10481.828930975,10553.7689795137,10628.2347693409,10705.4156805104,10785.5243871211,10868.8012313067,10955.5188245747,11045.9955017017,11140.6196836181,11239.8893201814,11344.4644855138,11453.2236096037,11565.8154558612,11682.4777541679,11803.3761453977,11928.5913930569,12057.9583230399,12191.0511323042,11327.0140792803,10440.931240038,9531.68116423439,8598.27182718735,7639.64054437162,6654.86433583055,5643.2493519481,4604.23314631826,3537.64732715099,2443.76087458339,2323.46809476101,2199.70789750186,2072.21683848585,1940.84577606364,1805.43100997912,1665.78240741548,1521.66139933088,1373.05184369216,1219.66954422394,1061.09717651214,897.550256321734,728.568444041828,554.462583438414,374.730538229781,189.812572715744,0,0,"","","","","","","","","","","","","","","","","","","","","",""]
["23_10_M",10,23,"M",null,637,0,374,865,1450,2090,1819,2366,2946,3560,4209,4895,4962,5032,5104,5179,5257,5338,5422,5509,5599,5693,5791,5892,5997,6106,6219,6336,6458,6585,6716,6853,6995,7142,7295,7454,7620,7792,7907,8026,8151,8280,8414,8554,8699,8851,9009,9173,9345,9524,9711,9907,10110,10321,10540,10767,11003,11247,10500,9723,8914,8073,7198,6287,5341,4357,3334,2271,2167,2059,1946,1829,1706,1579,1447,1309,1166,1017,862,702,536,363,185,0,0,"","","","","","","","","","","","","","","","","","","","","","","",null,null,552.259743489986,1463.15196225609,2396.78578413573,3353.73214374228,3334.57842412092,4187.16510085752,5060.9699089818,5956.51910922068,6874.35313019321,7815.02739458244,7881.92659444545,7950.4512982966,8020.64267882741,8092.54190675085,8166.19231554505,8241.63775123531,8318.92294743827,8398.0923308857,8479.19529957973,8562.28181911427,8647.40321877497,8734.61684590225,8823.98250529628,8915.56449718144,9009.43329429887,9105.66681819401,9204.34968308022,9305.57360994195,9409.43845780612,9516.05132245336,9625.52818832543,9737.99377177081,9853.58222023066,9972.4371626532,10094.7133004111,10220.5792690476,10286.5214691602,10354.5483228899,10424.7870407325,10497.380763816,10572.4932902508,10650.3113717723,10731.0449974898,10814.9316453858,10902.2408169667,10993.2870326929,11088.4534609786,11188.2303478855,11293.2665761656,11403.0701840919,11516.7231303169,11634.4614716492,11756.4700176351,11882.8107440451,12013.3172907736,12147.5630262339,11284.7324010501,10399.8319094805,9491.83389959279,8559.64439002286,7602.25460979947,6618.82687235851,5608.52182399371,4570.85863969082,3505.68063039564,2413.27277775098,2294.55174742346,2172.33044818128,2046.49901162637,1916.75958648725,1783.14587704369,1645.30022106375,1502.9740909561,1356.13611266464,1204.47781558803,1047.93331353572,886.489269675703,719.730738726694,547.499120175746,370.212280557263,187.458308247952,0,0,"","","","","","","","","","","","","","","","","","","","","","",""]
["25_10_M",10,25,"M",null,622,0,376,870,1459,2103,1835,2390,2978,3600,4257,4952,5024,5099,5176,5257,5341,5427,5518,5611,5708,5809,5914,6022,6135,6252,6373,6500,6630,6766,6908,7054,7207,7365,7530,7701,7817,7937,8062,8192,8327,8467,8613,8765,8924,9089,9261,9441,9629,9826,10030,10242,10462,10691,10928,11174,10429,9653,8846,8007,7133,6225,5280,4299,3278,2218,2116,2010,1900,1785,1666,1542,1412,1278,1138,993,842,685,523,355,180,0,0,"","","","","","","","","","","","","","","","","","","","","","","","","",null,null,554.348306976497,1465.92208449575,2400.2485808235,3357.9004732267,3339.46467274472,4195.72781686958,5073.28408135371,5972.66165971173,6894.4034349903,7839.0678351855,7909.40700161762,7981.45243443801,8055.24698414571,8130.83388886967,8208.25714654637,8287.56020376389,8368.7915687169,8452.00006867767,8537.23563987267,8624.55431467601,8714.01432218761,8805.67823164181,8899.61473686801,8995.90004216407,9094.61699244706,9195.85548350738,9299.71360204822,9406.29649702562,9515.71824964117,9628.10160149116,9743.57876155362,9862.29111386598,9984.39079413327,10110.0429653899,10177.2298366839,10246.4999240632,10317.9770976818,10391.8008568559,10468.130616075,10547.1482179684,10629.0586381618,10714.0940076514,10802.5180228804,10894.6380833587,10990.8275477479,11091.5622687787,11197.4702150387,11309.2191749294,11424.8594516931,11544.6279451186,11668.7112680769,11797.1500221101,11929.8030870118,12066.2174987978,11205.5757699911,10322.9304817263,9417.2179654265,8487.34770918169,7532.38737078442,6551.37165343248,5543.62687468705,4508.51593287326,3445.98199853786,2356.20879108613,2240.23959947945,2120.92582216399,1998.03741274456,1871.47553119445,1740.93335297882,1606.22750031866,1467.4084854815,1324.02386016427,1176.05885920201,1023.19730846003,865.395612586684,702.681177054778,534.656178145207,361.233459392991,183.044062370842,0,0,"","","","","","","","","","","","","","","","","","","","","","","","",""]
["30_10_M",10,30,"M",null,578,0,382,884,1481,2135,1878,2453,3061,3704,4384,5103,5189,5279,5371,5467,5567,5671,5778,5890,6006,6126,6250,6380,6514,6654,6798,6949,7105,7268,7437,7554,7677,7803,7935,8072,8215,8363,8516,8677,8844,9018,9199,9389,9587,9795,10011,10235,10468,10709,10960,10219,9449,8647,7812,6945,6042,5104,4128,3115,2061,1967,1868,1766,1659,1548,1433,1313,1188,1058,923,783,637,486,330,168,0,0,"","","","","","","","","","","","","","","","","","","","","","","","","","","","","","",null,null,558.360556959994,1469.7232847229,2403.81423386781,3361.20600812242,3342.48794096372,4207.05988566967,5093.08302135913,6001.08889561827,6931.62279673542,7885.24452995958,7964.98132110345,8046.63214774293,8130.24255180428,8215.85844342789,8303.53205961256,8393.31707650447,8485.27106088914,8579.45756813263,8675.94784776478,8774.81964219985,8876.15758602018,8980.05466320695,9086.61041612351,9195.93345125776,9308.14083225199,9423.35920107918,9541.72348808586,9663.37844784464,9788.47923041187,9859.39594883424,9932.394947828,10007.5905624222,10085.1119031953,10165.1058665278,10247.7402815146,10333.2058423597,10421.7194697206,10513.5283648569,10608.9196678984,10708.2387501714,10811.9202877737,10920.532318721,11034.8339017025,11155.8463611415,11281.5763154328,11411.7288259339,11546.3457153364,11685.2914494483,11828.0904891357,10973.971769349,10097.9217088437,9198.9334748657,8276.00591587314,7328.05275981862,6354.26857551563,5353.85730117431,4326.39636251427,3271.57981944293,2189.83886094532,2082.02806663564,1971.17347449794,1856.96390415157,1739.36161736615,1618.15424570048,1493.06021831569,1363.95593063874,1230.70767960075,1093.16504385702,951.147631191769,804.416732231251,653.112269952601,497.056570174787,335.977371771499,170.095607797985,0,0,"","","","","","","","","","","","","","","","","","","","","","","","","","","","","",""]
["35_10_M",10,35,"M",null,528,0,389,901,1511,2178,1935,2533,3167,3837,4545,5294,5396,5502,5612,5727,5845,5968,6096,6229,6366,6509,6658,6812,6972,7138,7258,7382,7512,7646,7785,7930,8080,8236,8399,8568,8744,8927,9119,9319,9528,9748,9977,10214,10460,10716,9981,9216,8420,7592,6730,5834,4903,3935,2928,1883,1797,1707,1613,1516,1414,1309,1199,1085,966,843,715,582,444,301,153,0,0,"","","","","","","","","","","","","","","","","","","","","","","","","","","","","","","","","","","",null,null,563.77080269082,1475.2282675277,2409.39013843151,3366.82987752842,3348.13813210944,4222.42254599633,5118.3183052571,6036.35297884839,6977.06704401537,7941.02149985963,8031.2362344892,8123.58215121462,8218.11706595217,8314.906701048,8414.02311003639,8515.54506485719,8619.55987120158,8726.16083057236,8835.45046350463,8947.53952490259,9062.54847971252,9180.60508895846,9301.84590080606,9426.41490348906,9501.66871390174,9579.00784813764,9658.53613525322,9740.37124825896,9824.64628454815,9911.51363244516,10001.1482888798,10093.7504834179,10189.5493398211,10288.8097630373,10391.8463066755,10499.0481614793,10610.917036662,10728.1190006831,10851.5505834656,10982.4187658704,11119.4581080282,11261.0980120354,11407.185224979,11557.2526582671,10710.504930454,9841.98476212019,8950.66517320866,8035.50832885806,7095.58232559288,6129.99046232666,5137.96867969627,4119.03606316117,3073.13381002617,2000.4283791038,1901.92544073341,1800.56762429337,1696.26049367905,1588.71574906041,1477.96812621372,1363.64782802711,1245.74975451784,1124.02654243592,998.465950002445,868.738013086395,734.756026069842,596.449601040245,453.773242705366,306.724085261659,155.381454874284,0,0,"","","","","","","","","","","","","","","","","","","","","","","","","","","","","","","","","","",""]
["36_10_M",10,36,"M",null,517,0,391,905,1518,2188,1948,2551,3190,3866,4581,5336,5441,5551,5665,5784,5907,6034,6166,6303,6446,6594,6747,6907,7072,7193,7318,7448,7582,7722,7867,8018,8175,8338,8507,8684,8868,9060,9260,9470,9690,9920,10158,10406,10662,9928,9165,8370,7543,6683,5789,4859,3892,2887,1843,1759,1671,1580,1484,1385,1282,1174,1062,946,825,700,570,435,295,150,0,0,"","","","","","","","","","","","","","","","","","","","","","","","","","","","","","","","","","","","",null,null,564.905198185621,1476.26309097028,2410.31574629474,3367.63632430608,3348.81474031491,4225.08141052802,5122.98537256572,6043.05135583041,6985.8233096747,7951.86060520301,8044.3002342485,8138.91952770163,8235.7830043345,8334.96147927736,8436.53244862951,8540.58198331055,8647.20202748901,8756.49377905179,8868.56662222393,8983.53968092601,9101.53915869018,9222.69982005379,9347.16322367521,9423.38304725563,9501.68935765975,9582.18371221581,9664.98131187218,9750.21226945653,9838.02563445315,9928.59301427903,10022.1110377708,10118.8049318015,10218.934804139,10322.8085469972,10430.8055013253,10543.4129972076,10661.2769352558,10785.2667804252,10916.5546308622,11055.1118709864,11198.2974834776,11345.930419902,11497.603665253,10652.4991900266,9785.62021110281,8895.98630994773,7982.57125866423,7044.38718310924,6080.5308798184,5090.32099859048,4073.30003627539,3029.32667056066,1958.69272719347,1862.31141010471,1763.13600649802,1660.91181984015,1555.68736346685,1447.16342338302,1335.15428025031,1219.69249824847,1100.59272433058,977.598116761814,850.71624081187,719.607641965885,584.204403049025,444.467733338597,300.410063356286,152.14434123107,0,0,"","","","","","","","","","","","","","","","","","","","","","","","","","","","","","","","","","","",""]
["41_10_M",10,41,"M",null,458,0,401,929,1557,2244,2022,2655,3326,4035,4784,5576,5701,5832,5967,6107,6252,6403,6560,6723,6846,6974,7107,7244,7387,7535,7689,7848,8014,8187,8366,8552,8747,8950,9161,9383,9615,9859,10112,10375,9647,8890,8102,7283,6430,5544,4622,3664,2668,1633,1558,1480,1399,1315,1227,1135,1040,941,838,731,620,505,385,261,133,0,0,"","","","","","","","","","","","","","","","","","","","","","","","","","","","","","","","","","","","","","","","","",null,null,572.058353086273,1483.42095120951,2417.42585648199,3374.64583366246,3355.67315637554,4242.98678216163,5152.06136131756,6083.42766744701,7037.63841204556,8015.27085083646,8119.57607975837,8226.37036138946,8335.74792729475,8447.81094547789,8562.67148801193,8680.44755999739,8801.26453052846,8925.25113157405,9006.74551168568,9090.33649737161,9176.11377254415,9264.17962652697,9354.64856675845,9447.6521915372,9543.34443058735,9641.9031605411,9743.53333717847,9848.47008157007,9956.98648855159,10069.410302898,10186.1534069695,10307.7558090011,10434.9448729234,10568.7096470899,10710.3885917508,10861.7615774932,11017.8298241345,11178.0518917949,10341.6540945212,9483.66654596076,8603.09344071588,7698.87847380666,6770.12574864117,5815.90664752099,4835.58283714112,3828.65305482247,2795.01529139165,1735.01594156598,1649.64547887099,1561.81049547688,1471.35006540884,1378.05998256624,1281.88552792852,1182.79590572777,1080.51987464101,974.957425293798,866.00027925921,753.525284476616,637.379381540622,517.348268561716,393.647612834293,266.175154570522,134.781640781102,0,0,"","","","","","","","","","","","","","","","","","","","","","","","","","","","","","","","","","","","","","","","",""]
["46_10_M",10,46,"M",null,391,0,414,958,1605,2314,2114,2783,3492,4241,5032,5868,6016,6170,6330,6456,6587,6723,6864,7011,7162,7319,7483,7652,7828,8010,8200,8398,8604,8818,9042,9275,9520,9778,10048,9328,8578,7798,6987,6143,5265,4352,3404,2418,1394,1330,1264,1194,1122,1047,969,888,803,715,624,529,431,329,223,113,0,0,"","","","","","","","","","","","","","","","","","","","","","","","","","","","","","","","","","","","","","","","","","","","","","",null,null,581.63960175075,1493.40077871128,2427.73213977445,3385.21069782183,3366.43894284039,4266.444255332,5188.36656918224,6132.75785727985,7100.19786983748,8091.29892103078,8209.00877308992,8329.63011052728,8453.27756156282,8540.97217197661,8630.78364186314,8722.78887471229,8817.07628243067,8913.74356047763,9012.90352194323,9114.69115637332,9219.26431183305,9326.80634785727,9437.52568994923,9551.65802160285,9669.4752829787,9791.307464568,9917.57947369611,10048.8642276469,10185.9520461513,10329.9350822573,10482.3004711719,10645.0281490511,10814.982891372,9988.45580866081,9140.53683721641,8270.2159376984,7376.47128496482,6458.38296796728,5515.13937042112,4546.08993369649,3550.70251835127,2528.93171982009,1481.07539991039,1408.18380566797,1333.09259522381,1255.87634353074,1176.30552817446,1094.27148386033,1009.64383752436,922.253456846044,832.172406937293,739.236962055618,643.207782905907,544.145022950115,441.738200016832,335.997113286557,227.0163176896,115.064675863343,1.4210854715202e-14,0,"","","","","","","","","","","","","","","","","","","","","","","","","","","","","","","","","","","","","","","","","","","","","",""]
["51_10_M",10,51,"M",null,315,0,429,993,1665,2399,2226,2939,3692,4489,5299,6154,6294,6439,6589,6745,6906,7074,7247,7427,7614,7808,8010,8219,8437,8663,8899,9146,9405,9678,8965,8224,7453,6651,5817,4949,4047,3110,2135,1123,1072,1018,962,904,844,781,715,647,576,503,426,347,265,180,91,0,0,"","","","","","","","","","","","","","","","","","","","","","","","","","","","","","","","","","","","","","","","","","","","","","","","","","","",null,null,594.465241153653,1506.99385596683,2442.01078511107,3400.10644260864,3381.90254078203,4296.48498761052,5233.20018678228,6192.61370152918,7143.81434046618,8117.98537545067,8217.31130234019,8318.92362064788,8422.90197401586,8529.33902300775,8638.34954337281,8750.07008242171,8864.66109668794,8982.30261072602,9103.19022804623,9227.53571011381,9355.58039538576,9487.62439648815,9624.07319021582,9765.50191089223,9912.73656405133,10066.9489038176,10229.7557989905,10403.3199988445,9588.04770678462,8751.57110096292,7892.90904620789,7011.08131370213,6105.1534479465,5174.36266554593,4218.03281468238,3235.68547325237,2227.34740008801,1193.28910804501,1134.50865511963,1074.0695079163,1011.86687250937,947.767703180635,881.592825162266,813.333918076237,743.020591564518,670.433226708831,595.574901203994,518.10894310532,438.343110095754,355.934665896996,270.809820703938,182.875858532755,92.699163419317,0,0,"","","","","","","","","","","","","","","","","","","","","","","","","","","","","","","","","","","","","","","","","","","","","","","","","","",""]
["53_10_M",10,53,"M",null,281,0,436,1009,1691,2436,2275,3006,3752,4540,5372,6250,6403,6560,6724,6893,7069,7251,7440,7635,7839,8050,8269,8497,8735,8983,9242,9515,8803,8066,7299,6501,5671,4808,3911,2978,2009,1002,956,908,858,807,753,696,638,577,514,449,380,310,236,160,82,0,0,"","","","","","","","","","","","","","","","","","","","","","","","","","","","","","","","","","","","","","","","","","","","","","","","","","","","","",null,null,600.271084388321,1512.69206199149,2447.55286848364,3405.44979527807,3387.0102062461,4307.56138703668,5222.19645746361,6158.74380872439,7117.74163150475,8099.75810372809,8207.12200352746,8316.93499015819,8429.30331707262,8544.35458351734,8662.23965330242,8783.12661600764,8907.19411048438,9034.6282556487,9165.63246759127,9300.45339340704,9439.42477956297,9583.02968905768,9731.98048986317,9887.31467920213,10050.4951273242,10223.511717277,9408.98493766724,8577.61480193449,7724.15428470071,6847.64162868283,5947.16756464159,5021.92212300279,4071.24346045356,3094.77453638913,2092.379556178,1064.45658295548,1012.05644441269,958.160425206296,902.705326207463,845.424240510486,786.359304687097,725.619687654982,662.870085631622,598.185256382203,531.391047093059,462.214404236348,391.079944204437,317.367980237086,241.564821824725,163.470428213231,82.6935394312003,0,0,"","","","","","","","","","","","","","","","","","","","","","","","","","","","","","","","","","","","","","","","","","","","","","","","","","","","",""]
["2_5_M",5,2,"M",null,376,0,417,930,1516,2167,2370,2389,2409,2430,2452,2475,2498,2523,2548,2574,2602,2630,2660,2691,2723,2757,2791,2827,2865,2904,2944,2987,3030,3076,3123,3173,3224,3277,3333,3390,3450,3512,3577,3644,3714,3787,3862,3941,4022,4107,4196,4288,4383,4483,4586,4694,4806,4923,5045,5171,5303,5439,5582,5692,5806,5925,6049,6178,6312,5951,5575,5185,4779,4357,3918,3461,2986,2492,1978,1944,1908,1871,1833,1792,1750,1706,1660,1612,1562,1510,1456,1400,1341,1279,1215,1149,1079,1007,932,854,772,688,600,509,414,316,214,109,0,0,"","",null,null,694.043833424746,1615.664025404,2560.3295654325,3528.61362835667,4021.10685184449,4046.31318561196,4072.15118129906,4098.63326634598,4125.77337144616,4153.58687334473,4182.08972502052,4211.29925499931,4241.23483754327,4271.91698906555,4303.36521656858,4335.60149900356,4368.64624351291,4402.52156097887,4437.24828286015,4472.84788896042,4509.34300739412,4546.75641950958,4585.1112179553,4624.43134100016,4664.74096213386,4706.06596373025,4748.43319055224,4791.87009860813,4836.40559407771,4882.06981209527,4928.89417195252,4976.91143485261,5026.15576435218,5076.66278963621,5128.46981342507,5181.61590294757,5236.14222464045,5292.09236422703,5349.51303512503,5408.45343098514,5468.96658330867,5531.11004278001,5594.94479195788,5660.53723359807,5727.95926788527,5797.28807313639,5868.60555605386,5941.99934747406,6017.56316517499,6095.39609197176,6175.6050237704,6258.30291086532,6343.24587947494,6430.47387057995,6520.02580730883,6611.94713727862,6706.27656405603,6765.46231521694,6826.21041180798,6888.53854188546,6952.45701098529,7017.97003331699,7085.07138151033,6653.73909825632,6211.54167696054,5758.18584358929,5293.38772685771,4816.86264965954,4328.33915329855,3827.56438341127,3314.29612147011,2788.31950970445,2249.45930123586,2197.57925003276,2144.80310710253,2091.12840466674,2036.52118033237,1980.98883835577,1924.44538232726,1866.81778362702,1808.01770636517,1747.94447235543,1686.48742948093,1623.52650774046,1558.92752273642,1492.54195322957,1424.32030935796,1354.23252095868,1282.11551745428,1207.75307266071,1131.23887599372,1052.33023927728,970.916875357434,886.862566434311,800.294142729125,710.791756734679,618.434460089252,522.99647738031,424.604867087357,323.021087036782,218.443166947968,110.650429986232,0,0,"",""]
["7_5_M",5,7,"M",null,359,0,419,935,1525,2180,2387,2410,2434,2460,2486,2513,2542,2571,2602,2634,2667,2702,2738,2775,2814,2854,2896,2940,2985,3032,3081,3132,3185,3240,3297,3357,3418,3483,3550,3619,3691,3766,3844,3925,4010,4098,4189,4284,4383,4486,4593,4704,4820,4941,5067,5197,5333,5474,5585,5701,5821,5945,6075,6210,5850,5476,5087,4682,4261,3823,3367,2894,2401,1889,1856,1822,1787,1750,1711,1671,1629,1585,1539,1492,1442,1390,1336,1280,1222,1161,1097,1031,962,890,815,738,657,573,486,396,302,205,104,0,0,"","","","","","","",null,null,695.432461425858,1616.67010077274,2560.92689330183,3528.77931128849,4020.81910955541,4049.37962842005,4078.6463722534,4108.6388415175,4139.37781779151,4170.88280776516,4203.17619763665,4236.27840416958,4270.21181960428,4304.99715647185,4340.65577283068,4377.21030772843,4414.6834182229,4453.09793426388,4492.47752513314,4532.84581819497,4574.22840708652,4616.6518407946,4660.14300193691,4704.73034436308,4750.44353963043,4797.31353181391,4845.37259484098,4894.6543924871,4945.19404117542,4997.02818245057,5050.19520491707,5104.73544330031,5160.69149425044,5218.10878526764,5277.03532358876,5337.52265069353,5399.62651439418,5463.40617678651,5528.92599772169,5596.25563607879,5665.46995760718,5736.64861585794,5809.87691114098,5885.24614778022,5962.85304240613,6042.80189721167,6125.20310317319,6210.13566522574,6297.3463788225,6386.88067637154,6478.77707722041,6573.08167520314,6633.93755380887,6696.38823375002,6760.45640262563,6826.15872100601,6893.49532729746,6962.46099230059,6533.0349674744,6092.77939331408,5641.40942917088,5178.64285566363,4704.19664334617,4217.80085534972,3719.20402662929,3208.15144012453,2684.4414257808,2147.88250676515,2098.35628186796,2047.96648203856,1996.70859304773,1944.58217576506,1891.56883131839,1837.58671057705,1782.56946062589,1726.4383187334,1669.10562429163,1610.39738302123,1550.27726947685,1488.63609613986,1425.35866117685,1360.31420347397,1293.34409755141,1224.40322700595,1153.46381239717,1080.32562991763,1004.92597966949,927.207359574971,847.118148510567,764.302830068812,678.882655249344,590.747111192074,499.74719633848,405.657467454829,308.653914958466,208.537616576886,105.647617992174,0,0,"","","","","","",""]
["12_5_M",5,12,"M",null,339,0,423,943,1537,2197,2409,2437,2467,2497,2529,2562,2596,2632,2669,2708,2748,2789,2833,2878,2924,2973,3024,3076,3131,3188,3247,3308,3372,3438,3507,3579,3653,3731,3811,3895,3982,4073,4167,4265,4367,4473,4584,4699,4818,4943,5073,5208,5348,5460,5576,5697,5823,5954,6090,5731,5358,4970,4567,4147,3711,3257,2785,2294,1784,1753,1721,1687,1652,1616,1578,1538,1497,1454,1409,1362,1313,1262,1209,1153,1096,1036,973,908,840,770,696,620,541,459,373,285,193,98,0,0,"","","","","","","","","","","","",null,null,696.208205323665,1615.89066944108,2558.54613457422,3524.75310748991,4015.10464679377,4047.46732872773,4080.63929834807,4114.64328011922,4149.4998481672,4185.23021887661,4221.85704566432,4259.40284100961,4297.89012760316,4337.3422601322,4377.78222560093,4419.2352799663,4461.72762632446,4505.28547510234,4549.93675036489,4595.7105807463,4642.63735380165,4690.74877285301,4740.0779164641,4790.65930068548,4842.52879233809,4895.72398490998,4950.28423819403,5006.25098908834,5063.66815660452,5122.58235662561,5183.04338263825,5245.1048670028,5308.82405346681,5374.26290486033,5441.4884501858,5510.57284189998,5581.59309042334,5654.63176236286,5729.77733126477,5807.12373890762,5886.77224569223,5968.83024164079,6053.41240587761,6140.60469882585,6230.1122970039,6321.97682071037,6416.24411278939,6479.05691354074,6543.51326375985,6609.63265740497,6677.42741297924,6746.90383909699,6818.05805343322,6390.87093623276,5952.90653149847,5503.88220431113,5043.50891618035,4571.51420918251,4087.61936088185,3591.57241277681,3083.13132119938,2562.08105381005,2028.22833973903,1981.45301306604,1933.85772288956,1885.46763125796,1836.26247354229,1786.19044984482,1735.21146511306,1683.27253677737,1630.25059888717,1576.05864517098,1520.60494708894,1463.79486390123,1405.52845111699,1345.70293988704,1284.20478907047,1221.0412245737,1155.94538069794,1088.88788603479,1019.8641011938,948.686032007391,875.330060191814,799.523202252461,721.460210323924,640.838264804292,557.549037068543,471.450329102565,382.827243719784,291.18955576936,196.83630197295,99.7619568226936,0,0,"","","","","","","","","","","",""]
["13_5_M",5,13,"M",null,335,0,424,945,1541,2203,2417,2446,2476,2508,2541,2575,2611,2648,2686,2726,2768,2811,2856,2903,2952,3002,3055,3109,3166,3225,3286,3350,3416,3485,3556,3631,3708,3789,3872,3959,4050,4144,4242,4343,4449,4560,4674,4794,4919,5048,5183,5323,5435,5552,5673,5799,5930,6066,5708,5335,4947,4544,4125,3688,3235,2763,2273,1763,1732,1700,1667,1633,1597,1559,1520,1479,1436,1392,1346,1297,1247,1194,1140,1083,1023,962,897,830,761,688,613,535,454,369,282,191,97,0,0,"","","","","","","","","","","","","",null,null,696.858227456148,1616.68003771124,2559.47842151455,3525.83141992742,4016.33407654034,4049.52021387115,4083.53852948547,4118.40956997862,4154.15452355531,4190.79604665624,4228.35662300882,4266.8587140309,4306.32561167604,4346.78017508951,4388.2475928923,4430.7539992096,4474.32547026778,4518.9898244106,4564.77608193267,4611.71451933982,4659.83672609784,4709.17566400345,4759.76572931906,4811.64263423248,4864.84381353348,4919.40843238198,4975.37769611026,5032.79522246582,5091.70734950164,5152.16352160084,5214.21694858829,5277.92447111191,5343.34757323422,5410.55275867454,5479.61163796528,5550.60069366089,5623.60194643342,5698.70330452766,5775.99815563723,5855.58715276367,5937.57708673464,6022.08201287569,6109.22260643,6198.7246052418,6290.58177254928,6384.83976790779,6448.04286836256,6512.89448277135,6579.41870176033,6647.62821996622,6717.52976067408,6789.11992080429,6362.37303175253,5924.86006359996,5476.29906416293,5016.40176375047,4544.88642921603,4061.49514322258,3565.9548713501,3058.03529532937,2537.50687493711,2004.19096495216,1957.9693564754,1910.94772606614,1863.12636668174,1814.47916494282,1764.98753034421,1714.61877556168,1663.27517786391,1610.88790961217,1557.38317106529,1502.60557308937,1446.45271920612,1388.91640568272,1329.80533066678,1269.12304290024,1206.63118066104,1142.31367983756,1076.18567357012,1007.91445027901,937.660066471994,865.237580439642,790.373473673417,713.26206095122,633.600294929328,551.280009860063,466.15988296359,378.527223918825,287.896609389699,194.577173136691,98.5848245887975,0,0,"","","","","","","","","","","","",""]
["17_5_M",5,17,"M",null,317,0,428,955,1556,2225,2446,2480,2516,2553,2591,2631,2672,2715,2760,2806,2854,2905,2957,3011,3068,3126,3187,3250,3316,3385,3456,3530,3606,3686,3769,3856,3945,4039,4136,4237,4342,4451,4565,4684,4808,4936,5070,5209,5322,5440,5562,5689,5821,5958,5601,5229,4843,4441,4023,3588,3136,2666,2176,1668,1639,1609,1578,1545,1511,1475,1438,1400,1359,1317,1273,1228,1180,1130,1079,1025,969,910,849,786,720,651,580,506,429,350,267,181,92,0,0,"","","","","","","","","","","","","","","","","",null,null,698.452913956479,1617.44100360906,2559.38436552155,3524.861323715,4014.46516556046,4051.17664478943,4088.80765642746,4127.38038904071,4166.91785525744,4207.44234228094,4248.97873893515,4291.5528723046,4335.19021852975,4379.91812399705,4425.76512540982,4472.76100364449,4520.93684006814,4570.32507544989,4620.95957160629,4672.8753498822,4726.10913614704,4780.69922539247,4836.68578708352,4894.11109024531,4953.02022977628,5013.46108704798,5075.48497939067,5139.14694266142,5204.50631669856,5271.62725256835,5340.57893393913,5411.43548018025,5484.27646820008,5559.18727610944,5636.25881244548,5715.58901232285,5797.28198620042,5881.44899928254,5968.2079637329,6057.68673862226,6149.51866015565,6243.74719226095,6308.71552375825,6375.37181525643,6443.74101935984,6513.83679002279,6585.66684572597,6659.22889581032,6234.49861826414,5799.04855570869,5352.59011124841,4894.84439875392,4425.53157379301,3944.38437071048,3451.14096461704,2945.55856820971,2427.4366925217,1896.56783419873,1852.83145409596,1808.33114247226,1763.06590993672,1717.04431855543,1670.22359666472,1622.57737859213,1574.01744432106,1524.42562277654,1473.79351763822,1421.98545270553,1368.92488480759,1314.43454434856,1258.51975947475,1201.10389127842,1141.96292978447,1081.10175506403,1018.39029864848,953.855093756311,887.35631058064,818.699435472841,747.873848390168,674.905140422465,599.53332143742,521.726027087648,441.477932281919,358.336847737344,272.578537035822,184.208258162204,93.2877295362651,0,0,"","","","","","","","","","","","","","","","",""]
["24_5_M",5,24,"M",null,349,0,434,968,1577,2255,2486,2515,2545,2577,2609,2643,2679,2715,2753,2793,2833,2876,2920,2966,3014,3063,3114,3168,3223,3280,3340,3402,3466,3533,3603,3675,3750,3828,3909,3993,4081,4137,4196,4256,4320,4386,4454,4526,4600,4678,4759,4844,4932,5024,5119,5218,5321,5428,5538,5653,5772,5395,5003,4595,4171,3729,3270,2793,2296,1780,1244,1187,1128,1066,1002,935,865,792,717,638,557,472,384,293,199,101,0,0,"","","","","","","","","","","","","","","","","","","","","","","","",null,null,691.515468934869,1611.17803724357,2553.80322094718,3519.96944495092,4010.27086941493,4040.36685311234,4071.20113142823,4102.79154880023,4135.15675921629,4168.31626325564,4202.29044680595,4237.10062154782,4272.76834729761,4309.31628743223,4346.76761687983,4385.14621558429,4424.47630932096,4464.78442613634,4506.09788562436,4548.44520987374,4591.85777188897,4636.36870655655,4682.01371472018,4728.83168280564,4776.86509742022,4826.15989938018,4876.76569872082,4928.73606840108,4982.12855788124,5037.005073997,5093.43203764355,5151.4805133352,5211.22693450414,5272.75392855805,5336.15294556563,5366.62579098683,5398.14524249957,5430.78180617799,5464.61457909128,5499.73451440786,5536.24512960827,5574.26178891984,5613.91429953093,5655.34943613966,5698.73919813157,5744.29544190595,5791.88398148507,5841.0817758111,5892.00371811478,5944.76917324,5999.49620433394,6056.27608902214,6115.1611179893,6176.0561096807,6238.74216737429,5802.82131320894,5355.78864833193,4897.11743443596,4426.24230845332,3942.7052364688,3446.0002626699,2935.71409364809,2411.67304906187,1873.73344365258,1322.00361069967,1256.96446529341,1189.98285524955,1121.03355065022,1049.92065876413,976.588627495966,900.991650866202,823.097373756677,742.582462032839,659.622696352163,573.810048863799,485.321766547492,394.067130875267,299.921735363913,202.686959274918,102.704787407434,0,0,"","","","","","","","","","","","","","","","","","","","","","","",""]
["29_5_M",5,29,"M",null,328,0,441,982,1602,2290,2532,2567,2603,2640,2679,2720,2762,2806,2851,2899,2947,2998,3051,3106,3163,3222,3283,3346,3413,3481,3552,3627,3704,3784,3867,3953,4010,4070,4132,4196,4263,4332,4404,4480,4558,4640,4725,4815,4908,5005,5106,5211,5319,5432,5549,5670,5295,4906,4500,4078,3640,3183,2709,2215,1702,1170,1116,1060,1002,942,879,813,745,674,600,524,444,362,276,187,95,0,0,"","","","","","","","","","","","","","","","","","","","","","","","","","","","","",null,null,693.061102486192,1612.69810208765,2555.28266093879,3521.39358702061,4011.62644453805,4045.79516090847,4080.79793591301,4116.65565471136,4153.3902905935,4191.02415229556,4229.58007334249,4269.08088874384,4309.55186194599,4351.01869769462,4393.50794403724,4437.04910862078,4481.67309308989,4527.41314526495,4574.30562966082,4622.39059619357,4671.71147417047,4722.3152817853,4774.25307283254,4827.57963015134,4882.35415338388,4938.64025353955,4996.50623427574,5056.02533431715,5117.27653199983,5180.34634760926,5212.53063984316,5245.7582311042,5280.09484714598,5315.61437054731,5352.40148306811,5390.55267695408,5430.17612996451,5471.39397644303,5514.34465371872,5559.18994379539,5606.12765855957,5655.41205647178,5707.30162171093,5760.96848275406,5816.53081037286,5874.10522992822,5933.80303632637,5995.63488518851,6059.52747841328,6125.26623541809,5692.46102233896,5248.57188144803,4793.12515723257,4325.57601449711,3845.351038606,3352.08803378238,2845.32060338122,2324.89113546274,1790.67750504037,1242.69090679467,1181.54479558287,1118.65309650426,1053.88304206338,987.059854273026,918.16101341134,847.192983249649,773.931104659537,698.338958527802,620.40115467805,539.747799362174,456.626316385877,370.582045728564,281.884046402591,190.522280067577,96.5248431794793,0,0,"","","","","","","","","","","","","","","","","","","","","","","","","","","","",""]
["30_5_M",5,30,"M",null,324,0,443,987,1609,2300,2545,2581,2619,2658,2698,2741,2784,2830,2877,2925,2976,3029,3083,3140,3199,3260,3324,3390,3458,3529,3603,3680,3760,3843,3929,3986,4046,4108,4172,4239,4309,4381,4457,4535,4617,4703,4792,4886,4983,5084,5189,5298,5412,5529,5650,5276,4887,4482,4061,3622,3166,2692,2200,1687,1155,1102,1047,990,930,868,803,736,666,593,517,439,357,273,185,94,0,0,"","","","","","","","","","","","","","","","","","","","","","","","","","","","","","",null,null,694.182436934488,1614.61248541944,2558.00675570486,3524.94499840423,4016.02398954603,4051.06440941883,4086.95930288601,4123.73051272579,4161.40018370059,4199.99095112188,4239.52538633661,4280.02851318051,4321.52573023087,4364.04321112083,4407.61010982797,4452.25690444595,4498.01637754039,4544.9244153705,4593.02060590345,4642.34790237738,4692.95283175471,4744.8859705318,4798.2015773267,4852.9583389867,4909.21933433863,4967.05234431524,5026.53000260191,5087.73059630564,5150.7397112845,5183.25207879085,5216.80720223104,5251.46990378611,5287.31308057568,5324.42022881581,5362.88651283953,5402.81875279544,5444.33763407934,5487.58002005359,5532.70576319088,5579.91002108184,5629.44316314658,5681.63725696076,5735.82380372722,5791.92180427789,5850.04974261085,5910.30042508234,5972.68006803627,6037.13894172273,6103.46734678333,5671.24149494457,5227.96137614719,4773.10855406389,4306.1298480705,3826.58398139507,3333.98731505445,2827.95597620544,2308.15208524957,1774.63510669947,1227.44216123696,1167.08113454922,1104.95787045228,1040.92822386249,974.997744400123,906.994719581686,836.921648424572,764.547988153901,689.828242845883,612.732461688697,533.258237585537,451.011498859632,366.282025927605,278.59110002293,188.263151231318,95.3477109455832,1.4210854715202e-14,0,"","","","","","","","","","","","","","","","","","","","","","","","","","","","","",""]
["35_5_M",5,35,"M",null,299,0,451,1007,1641,2346,2606,2649,2694,2740,2788,2839,2891,2945,3001,3059,3119,3182,3247,3314,3385,3457,3533,3612,3693,3778,3837,3897,3961,4026,4094,4165,4238,4315,4394,4478,4564,4654,4749,4848,4951,5058,5169,5285,5405,5529,5157,4771,4369,3951,3515,3063,2592,2103,1595,1066,1018,967,914,859,801,741,679,615,547,478,405,330,252,171,87,0,0,"","","","","","","","","","","","","","","","","","","","","","","","","","","","","","","","","","","",null,null,695.938645760457,1615.98019566957,2558.95401236334,3525.44112080943,4016.04026991323,4055.8102462047,4096.54048848172,4138.25451457911,4180.97619481322,4224.73251050151,4269.55133473925,4315.46258812205,4362.4992164653,4410.69797092793,4460.09888270578,4510.74546516789,4562.68537037595,4615.9696441289,4670.65383433061,4726.79776367771,4784.46601883342,4843.72753221327,4904.65635917856,4967.3323510854,5001.94331429788,5037.59564275859,5074.34867204628,5112.26931963274,5151.43388001422,5191.92945408659,5233.85463632781,5277.3213457458,5322.45693388117,5369.40957756901,5418.35832619513,5469.52988006147,5523.2218840943,5579.83295556725,5639.25543509243,5700.77391783356,5764.48210147239,5830.38917426153,5898.42233196762,5968.37058261468,5539.8514799826,5100.33771124253,4649.31960664894,4186.25674298442,3710.72532394128,3222.184368224,2720.34169148219,2204.89499828122,1675.7239795126,1133.09663902178,1077.30858016219,1019.90630039977,960.790905679454,899.838875411059,837.106383276711,772.476383021464,705.785387228044,636.788473641084,565.797422790311,492.250910342413,416.471610212979,338.146471555863,257.260464681946,173.839343187718,87.9906344837327,0,0,"","","","","","","","","","","","","","","","","","","","","","","","","","","","","","","","","","",""]
[{"$f":"C198&\"_\"&B198&\"_\"&D198","v":"40_5_M"},5,40,"M",null,270,0,462,1031,1680,2402,2680,2731,2784,2839,2897,2956,3018,3082,3149,3218,3289,3364,3441,3521,3605,3664,3726,3791,3857,3927,3999,4074,4152,4233,4317,4405,4496,4592,4691,4796,4905,5019,5138,5260,5387,5019,4636,4237,3822,3391,2942,2476,1991,1487,963,919,873,825,775,723,669,613,555,494,431,366,298,227,154,78,0,0,"","","","","","","","","","","","","","","","","","","","","","","","","","","","","","","","","","","","","","","","",null,null,697.841012853379,1616.95774297958,2558.94398850567,3524.38002170913,4013.86719252709,4058.91917034324,4105.04115234822,4152.26272892106,4200.61741796085,4250.14192197277,4300.87632309939,4352.86494796729,4406.15518798359,4460.79902516318,4516.85258492251,4574.37683153706,4633.43649542789,4694.10082397169,4756.44313699299,4793.5433466932,4831.68559313254,4870.92303070104,4911.31584512475,4952.93221399906,4995.85015375431,5040.1590128705,5085.960871493,5133.37241857109,5182.5287249837,5233.59070323071,5286.75832422297,5342.29028969954,5400.53063993582,5461.94240986359,5527.14812643683,5594.85299581361,5664.81981520245,5737.00517108799,5811.17873477693,5386.92620177721,4951.76484241257,4505.20270492385,4046.72369168769,3575.79385153389,3092.02294142413,2594.98420209059,2084.47186001812,1560.39727787048,1022.9451290503,972.562852329284,920.713669848918,867.338436567123,812.373554507157,755.746858782968,697.371180458192,637.1325827356,574.869269581604,510.685587931314,444.423476902157,375.830725600455,304.968887790209,232.014826173848,156.750735885218,79.4564257879861,0,0,"","","","","","","","","","","","","","","","","","","","","","","","","","","","","","","","","","","","","","","",""]
["44_5_M",5,44,"M",null,245,0,474,1056,1722,2461,2758,2816,2877,2941,3006,3074,3145,3219,3295,3374,3456,3517,3580,3646,3714,3784,3857,3933,4012,4095,4180,4269,4361,4458,4559,4664,4774,4890,5010,5136,5265,4900,4519,4123,3712,3283,2838,2375,1894,1393,873,833,792,748,703,656,607,556,503,448,391,332,270,206,140,71,0,0,"","","","","","","","","","","","","","","","","","","","","","","","","","","","","","","","","","","","","","","","","","","","",null,null,701.542763856698,1621.56566773327,2564.43185449794,3530.72543650999,4021.05515700182,4070.72786203386,4121.58104540552,4173.65623995433,4226.99776578824,4281.65461297973,4337.67980669145,4395.13127892526,4454.07023745188,4514.56189480154,4576.67407156497,4615.98002589366,4656.33108731591,4697.77528146936,4740.36721402002,4784.16832378946,4829.24908925325,4875.69121075573,4923.58864669464,4973.049298844,5024.1974172537,5077.17887746789,5132.17140038938,5189.40119247564,5249.16670901738,5311.86981109494,5378.05419238126,5448.45011745201,5521.93992217139,5597.66734232547,5675.45803257762,5254.87108584793,4823.47484737289,4380.74850464578,3926.12658507616,3459.2121083284,2979.50042335354,2486.65698156895,1980.41064611942,1460.79665766259,927.931169273351,882.292360620613,835.22997943678,786.857288516605,736.99054684531,685.578838243345,632.569444220443,577.904823133297,521.51693406759,463.319825918538,403.195615090877,340.966465566533,276.833333418467,210.684190832864,142.326927841618,72.0993493261355,0,0,"","","","","","","","","","","","","","","","","","","","","","","","","","","","","","","","","","","","","","","","","","","",""]
["47_5_M",5,47,"M",null,224,0,483,1078,1756,2510,2823,2888,2955,3025,3097,3173,3251,3332,3394,3458,3525,3594,3665,3740,3817,3897,3980,4066,4156,4250,4347,4449,4555,4666,4782,4904,5031,5163,4800,4422,4028,3619,3194,2751,2291,1812,1315,799,762,724,684,643,600,555,509,460,410,358,303,247,188,128,65,0,0,"","","","","","","","","","","","","","","","","","","","","","","","","","","","","","","","","","","","","","","","","","","","","","","",null,null,704.330526370798,1624.55895086668,2567.58894179153,3534.01086051618,4024.44285799221,4077.86396809573,4132.56955687512,4188.61011415199,4246.04109639439,4304.92083126768,4365.31122902874,4427.27559486236,4468.48171718494,4510.73749675747,4554.08680917744,4598.57974941363,4644.2723002649,4691.2288405031,4739.52490121577,4789.24790335939,4840.49868765741,4893.39279235058,4948.06393525914,5004.67177429652,5063.4160714687,5124.55814899699,5188.45003893989,5255.57127117792,5326.57248278006,5402.32149629712,5481.07081286062,5561.9101315738,5144.434077931,4716.17578397958,4276.66733221885,3825.36354553491,3361.75177051083,2885.47074130853,2396.1323162057,1893.58242548621,1377.68792769242,848.557575956186,806.80155777065,763.815942643215,719.605363850313,674.005585306508,626.996298779577,578.573316853328,528.480888871725,476.928350803564,423.622756895116,368.457315056233,311.717023058856,252.997798847685,192.646501871542,130.162248634277,65.919405098181,0,0,"","","","","","","","","","","","","","","","","","","","","","","","","","","","","","","","","","","","","","","","","","","","","","",""]
["52_5_M",5,52,"M",null,185,0,502,1119,1823,2605,2948,3024,3104,3167,3234,3302,3373,3447,3523,3602,3685,3770,3858,3950,4046,4145,4248,4356,4468,4585,4708,4837,4973,4614,4240,3852,3447,3027,2589,2134,1662,1170,660,630,598,565,531,496,459,420,380,339,296,251,204,156,106,54,0,0,"","","","","","","","","","","","","","","","","","","","","","","","","","","","","","","","","","","","","","","","","","","","","","","","","","","","",null,null,710.154373088573,1630.74272901632,2574.05041786093,3540.6839922435,4031.28145995729,4091.58048221925,4153.37081640189,4198.21035707319,4244.11235749396,4291.11333516416,4339.25539788288,4388.58484748742,4439.15524739122,4491.03123493612,4544.28871903001,4599.01613398474,4655.31367292174,4713.29352014621,4773.08317250951,4834.83516124146,4898.74440477993,4965.073833545,5034.1883562141,5106.59660406931,5182.99772264684,5264.33047184426,5350.83903182177,4939.13895512145,4516.78143497674,4083.21571162056,3638.01555066983,3180.63841831072,2710.75082443224,2228.00151059334,1732.08237504084,1223.07705697184,701.041862122077,666.498847482969,631.019777782755,594.529412576461,556.926190867042,518.06623449425,477.983258940003,436.760999936015,394.255614207932,350.234593459505,304.699414241215,257.690879441032,209.322337519501,159.290740556344,107.628654452449,54.4423658176941,0,0,"","","","","","","","","","","","","","","","","","","","","","","","","","","","","","","","","","","","","","","","","","","","","","","","","","","",""]
["1_3_M",3,1,"M",null,236,0,437,988,1631,1696,1464,1475,1487,1499,1512,1525,1539,1553,1568,1583,1599,1615,1633,1651,1669,1689,1709,1730,1751,1774,1798,1822,1848,1874,1902,1930,1960,1991,2023,2056,2091,2127,2165,2204,2244,2287,2330,2376,2424,2473,2524,2578,2633,2691,2751,2814,2879,2947,3017,3091,3167,3246,3329,3415,3480,3548,3619,3693,3770,3849,3632,3406,3172,2927,2673,2409,2134,1848,1551,1242,1220,1198,1175,1150,1125,1099,1071,1042,1012,981,948,914,879,842,803,763,721,678,632,585,536,485,432,377,320,260,199,135,68,0,0,"",null,null,757.156411386838,1689.71282262352,2645.59619197078,2711.68465452093,2479.4404171229,2494.16096775544,2509.25296674428,2524.72333069444,2540.57983401323,2556.83107719842,2573.48645074512,2590.55569483523,2608.04929567072,2625.97880239015,2644.35636432367,2663.19368784577,2682.50371283303,2702.29867974382,2722.59168482262,2743.39530198767,2764.72249595784,2786.58683919578,2809.0020790401,2831.98223451395,2855.5418359547,2879.69572479911,2904.45961015554,2929.84978298017,2955.88307127351,2982.57709905122,3009.95023472306,3038.0216244613,3066.811227116,3096.33985076014,3126.62919095245,3157.7020385512,3189.58225399855,3222.29505134858,3255.86719296838,3290.32750018624,3325.70622170586,3362.03609550533,3399.35276337365,3437.69387603909,3477.10053462206,3517.61726091944,3559.29178784186,3602.17464937705,3646.3198620215,3691.78514590661,3738.63141174507,3786.9243984196,3836.55363260448,3887.5287404529,3939.87778545193,3993.62632595157,4048.79605766108,4105.41463994348,4139.9121141235,4175.32375181395,4211.65954636932,4248.92498179968,4287.12183945029,4326.25207877313,4066.29575326842,3799.79286045704,3526.56277207683,3246.4459526633,2959.26604492803,2664.85747694437,2363.07019179482,2053.76152591442,1736.79707116844,1412.07051634809,1379.5192950294,1346.39266582378,1312.69438624878,1278.44755154438,1243.59623335723,1208.09335246433,1171.92702002884,1135.0330137784,1097.33304123038,1058.73426903805,1019.21771383103,978.683605357839,937.013741725735,894.186170179924,850.196584250759,804.906411366634,758.299420558448,710.1800976304,660.700518212972,609.649034286843,556.971747542975,502.607465726235,446.482670919461,388.501836575521,328.527697761448,266.836422811939,202.902911513872,136.939635143055,69.4508017998693,0,0,""]
["6_3_M",3,6,"M",null,226,0,439,993,1640,1705,1473,1487,1501,1516,1531,1547,1563,1580,1598,1617,1636,1656,1677,1699,1721,1744,1769,1794,1820,1848,1876,1906,1937,1969,2002,2036,2072,2110,2148,2189,2231,2274,2320,2367,2416,2467,2520,2575,2632,2692,2754,2819,2886,2956,3029,3105,3184,3266,3351,3418,3486,3558,3632,3709,3789,3573,3348,3113,2870,2616,2353,2079,1794,1497,1189,1169,1147,1125,1101,1077,1052,1025,998,969,939,908,875,841,806,769,730,690,649,605,560,513,464,414,361,306,249,190,129,66,0,0,"","","","","","",null,null,757.634869273633,1689.56204955932,2644.7792448459,2710.8540071802,2478.58758994542,2495.27428300047,2512.37459210949,2529.8989177073,2547.8588813532,2566.26678662863,2585.13433771068,2604.47471236145,2624.30015460704,2644.62392432714,2665.45852315866,2686.81684181065,2708.71245685796,2731.15903999418,2754.17045294592,2777.76106495848,2801.94539292377,2826.73897301115,2852.15791898732,2878.2187178909,2904.9387240154,2932.33602928937,2960.42949640733,2989.23879349197,3018.78443036972,3049.08779654677,3080.1712891365,3112.05836436464,3144.77374157673,3178.34359538539,3212.79598399245,3248.16045139659,3284.46885143725,3321.7557568104,3360.05779739384,3399.41486275425,3439.87014557038,3481.47000706682,3524.26364409514,3568.30368979677,3613.64643141754,3660.3513741057,3708.48271619968,3758.10492664951,3809.07206693731,3861.40921071243,3915.14160943046,3970.29439926367,4026.89545116995,4062.36623153517,4098.77518873415,4136.12812035375,4174.43611427875,4213.70205978191,4253.9226511345,3995.07809521281,3729.70856627629,3457.65056515171,3178.72066220635,2892.7609269862,2599.59688202737,2299.07816222389,1991.06140372638,1675.42693723549,1352.05434483351,1320.85916608106,1289.13177729222,1256.85609983385,1224.05683633885,1190.68118279826,1156.68701470397,1122.06955856662,1086.71169751096,1050.59561799496,1013.64160796259,975.757117675276,936.933150312056,897.075331772074,856.067366628227,813.899529465554,770.583876825003,725.986891328445,679.919258667781,632.543016758616,583.662553857796,533.250092696909,481.287695985837,427.426055264857,371.853864470404,314.527473857752,255.399980688033,194.415218203427,131.494648263727,66.507971215129,0,0,"","","","","",""]
["7_3_M",3,7,"M",null,224,0,440,995,1643,1708,1477,1491,1505,1521,1536,1553,1570,1588,1606,1626,1646,1666,1688,1710,1734,1758,1783,1810,1837,1865,1895,1926,1958,1991,2025,2061,2099,2137,2178,2219,2263,2308,2355,2404,2455,2508,2563,2621,2680,2742,2807,2874,2944,3017,3093,3172,3254,3339,3405,3474,3545,3620,3697,3777,3561,3336,3102,2858,2605,2342,2068,1783,1487,1179,1158,1137,1115,1092,1068,1043,1016,989,961,931,900,867,834,799,762,724,684,643,600,555,509,460,410,358,303,247,188,128,65,0,0,"","","","","","","",null,null,758.133139791172,1690.32805654772,2645.81803931652,2711.91598883138,2479.67344612719,2496.78101540634,2514.31256009677,2532.27971690701,2550.69482090241,2569.56957655861,2588.91720982751,2608.74996621547,2629.08113901453,2649.92321625712,2671.28907472819,2693.1922926751,2715.64652759086,2738.66561075734,2762.26388025132,2786.45578926339,2811.25684050914,2836.68311349161,2862.75102840349,2889.47788693011,2916.88172709258,2944.98135633351,2973.79638613095,3003.34726822265,3033.65533252733,3064.74289917539,3096.63334539141,3129.35129358297,3162.92280299152,3197.37578165109,3232.73963511714,3269.04604320745,3306.32936794432,3344.626038266,3383.97570503709,3424.42129903587,3466.00891131081,3508.78747559426,3552.80935292274,3598.13054880582,3644.81029229725,3692.91247906274,3742.50464072482,3793.47148594912,3845.80751029556,3899.53789960956,3954.68771489294,4011.28472456265,4046.95554574134,4083.5650057621,4121.12846704988,4159.64712800821,4199.12906998029,4239.57124105345,3980.95415157746,3715.81833053215,3443.99222547926,3165.30951475217,2879.59448578331,2586.6819995684,2286.42214378797,1978.67211255566,1663.29716923728,1340.19070116244,1309.29020520132,1277.84587139682,1245.86380985095,1213.33695374926,1180.24259199634,1146.54181289481,1112.23414105007,1077.20803252024,1041.38159485198,1004.73852799892,967.193938870511,928.748821727215,889.208453258593,848.557575956185,806.80155777065,763.815942643215,719.605363850313,674.005585306508,626.996298779577,578.573316853327,528.480888871725,476.928350803564,423.622756895116,368.457315056233,311.717023058856,252.997798847685,192.646501871543,130.162248634277,65.919405098181,0,0,"","","","","","",""]
["11_3_M",3,11,"M",null,215,0,443,1002,1655,1721,1490,1506,1523,1541,1559,1578,1598,1619,1640,1663,1686,1710,1735,1762,1789,1817,1846,1877,1909,1942,1976,2012,2049,2087,2127,2169,2212,2257,2304,2353,2404,2456,2511,2568,2627,2689,2753,2820,2890,2962,3037,3116,3197,3282,3349,3418,3490,3565,3643,3724,3508,3283,3050,2807,2554,2291,2018,1734,1439,1131,1112,1091,1070,1048,1025,1001,976,949,922,893,864,833,800,767,732,695,657,617,576,533,488,442,393,343,291,237,181,123,62,0,0,"","","","","","","","","","","",null,null,759.167400476351,1691.2632713026,2646.64637343474,2712.74860234886,2480.51391245135,2499.418388086,2518.79591550927,2538.65874510232,2559.0203189159,2579.89306177772,2601.28978576883,2623.22407468221,2645.70951994506,2668.75981347396,2692.38915064117,2716.61169516744,2741.44279658416,2766.89837747195,2792.99455407957,2819.74838824213,2847.17767216134,2875.30096128252,2904.13760868597,2933.70780107408,2964.03259644029,2995.13396437684,3027.03492231096,3059.75965176071,3093.33368771857,3127.78425673744,3163.14013555857,3199.43221436409,3236.69389981715,3274.96070910083,3314.27121051227,3354.66714713668,3396.19338453471,3438.89766236457,3482.8311065517,3528.04844351332,3574.60764818522,3622.57124153965,3672.00539865478,3722.96558397704,3775.29452726252,3829.01420016793,3884.15315086355,3940.73534128569,3977.28648897028,4014.79812708469,4053.2813523898,4092.74288628643,4133.1858116529,4174.60701069625,3916.99406171392,3652.88894152637,3382.11332052425,3104.50094348137,2819.88611584475,2528.1056930092,2228.99967471492,1922.42458032588,1608.24462247924,1286.37003575868,1256.70111578861,1226.5288868266,1195.8390822238,1164.62536109922,1132.86684035751,1100.52778162888,1067.55797101016,1033.95667518483,999.600200929644,964.483625609247,928.446272379052,891.475397095171,853.585432336163,814.570796667331,774.423325326072,733.15772258251,690.644792061715,646.898921891276,601.748357385431,555.181806944389,507.209540270036,457.565848116286,406.510000645333,353.763536540877,299.278255253771,243.000888241156,184.86522255255,124.774955935714,63.2708575719148,0,0,"","","","","","","","","","",""]
["18_3_M",3,18,"M",null,232,0,450,1018,1681,1748,1518,1532,1546,1562,1577,1594,1611,1629,1647,1666,1686,1707,1728,1750,1774,1798,1823,1849,1876,1904,1933,1963,1994,2027,2061,2096,2132,2170,2210,2251,2293,2337,2383,2431,2481,2533,2587,2620,2654,2690,2727,2765,2806,2848,2892,2937,2985,3034,3086,3139,3194,3252,3311,3373,3438,3504,3573,3345,3107,2860,2602,2335,2056,1766,1465,1152,827,789,750,709,666,621,575,527,477,424,370,314,256,195,132,67,0,0,"","","","","","","","","","","","","","","","","","",null,null,755.827665872681,1688.54601827076,2644.56598747009,2710.5965091247,2478.29305233207,2493.71465563821,2509.52081928509,2525.72069086502,2542.32286480415,2559.33723651029,2576.77407799422,2594.64326057466,2612.9555315069,2631.72211367311,2650.95472720961,2670.66561211498,2690.86755189201,2711.57389827936,2732.7983388972,2754.55524121437,2776.85947150224,2799.72651555853,2823.17244129944,2847.21456281265,2871.87105052797,2897.16118785892,2923.10585304786,2949.72738287708,2977.04989480112,3005.09949521839,3033.90436105959,3063.49482605035,3093.90351589492,3125.1653584183,3157.31793972876,3190.40139946484,3224.45870117302,3259.53554522377,3295.68132952635,3332.94966756452,3371.40086613236,3387.90255958332,3405.03826664026,3422.85563529653,3441.40795869709,3460.75681646923,3480.97217300674,3502.13130333384,3524.32070915505,3547.58196216473,3571.63494420229,3596.51140928751,3622.23590508891,3648.86951874869,3676.47949391435,3705.12885042509,3734.91161999909,3765.87528755083,3798.02230036679,3831.34121020439,3865.68459143967,3600.78458974623,3329.16729646255,3050.47760707956,2764.44177558531,2470.66052009486,2168.93171166875,1859.02217316685,1540.72761737093,1213.9937011056,878.862076703544,835.644899145041,791.106895006987,745.219104504386,697.964348975301,649.3425111699,599.133351869973,547.269781944099,493.669729307961,438.574223994354,381.671420006211,322.85190768287,261.948287873683,199.232394630866,134.680506306795,68.2736695659732,0,0,"","","","","","","","","","","","","","","","","",""]
["23_3_M",3,23,"M",null,221,0,455,1028,1698,1765,1536,1553,1570,1589,1608,1627,1648,1669,1691,1714,1738,1763,1789,1815,1843,1872,1902,1933,1965,1999,2034,2070,2107,2146,2187,2229,2273,2318,2366,2415,2466,2519,2553,2587,2623,2661,2700,2741,2783,2827,2874,2922,2972,3024,3078,3135,3193,3254,3317,3382,3450,3520,3293,3056,2810,2554,2287,2010,1722,1423,1111,788,752,714,675,634,592,548,502,454,404,353,299,244,186,126,64,0,0,"","","","","","","","","","","","","","","","","","","","","","","",null,null,755.607548922145,1687.41858640566,2642.50348390623,2708.46282601921,2476.08742336794,2493.61280163148,2511.57063397737,2529.97141931102,2548.82612663001,2568.14621647336,2587.9436633384,2608.23097911757,2629.02123761043,2650.32775720985,2672.16452739231,2694.54594274217,2717.48692138736,2741.002780712,2765.11014999628,2789.82632863571,2815.1695378216,2841.15964973649,2867.81779901053,2895.16678300265,2923.23134979833,2952.03836133653,2981.61679484683,3011.99787499466,3043.21516504304,3075.30475317251,3108.30531033478,3142.25827454121,3177.20784420118,3213.2016822819,3250.29142302859,3288.53470993204,3305.89596908729,3323.88797301352,3342.55574246863,3361.94970156363,3382.12798544491,3403.1566976239,3425.10914985794,3448.06760270215,3472.12488140389,3497.390012352,3523.61049636328,3550.71766723567,3578.76296716981,3607.79960294723,3637.91752314757,3669.17880958498,3701.64525070108,3735.34380794783,3770.21511695199,3806.13750090545,3542.84700454661,3272.87585745319,2995.87771810737,2711.52812049033,2419.56228552297,2119.65995273789,1811.5842588855,1495.12654186166,1170.3404101118,837.177051353431,795.9485348332,753.577728837152,709.929208353841,665.007921046594,618.627598397164,570.754245784686,521.361860600856,470.435908980477,417.981992004428,363.649647731685,307.703523578912,249.703089882463,189.926885264097,128.366484401423,65.0365559227589,0,0,"","","","","","","","","","","","","","","","","","","","","","",""]
["24_3_M",3,24,"M",null,218,0,455,1029,1699,1767,1537,1555,1573,1592,1611,1632,1653,1675,1698,1722,1747,1772,1799,1827,1855,1885,1916,1949,1982,2017,2053,2090,2129,2170,2212,2255,2301,2348,2397,2448,2501,2534,2569,2605,2643,2682,2723,2766,2810,2856,2905,2955,3007,3062,3118,3177,3238,3301,3367,3435,3505,3278,3042,2796,2541,2275,1998,1710,1411,1100,777,742,705,666,626,584,540,495,448,399,348,295,240,183,124,63,0,0,"","","","","","","","","","","","","","","","","","","","","","","","",null,null,754.154405128811,1684.29195443226,2637.65860941405,2703.48892604805,2470.98188373366,2488.96514825301,2507.39136216029,2526.27142629177,2545.61673150975,2565.43918106923,2585.75121400062,2606.565829564,2627.89624682712,2649.7563536101,2672.16041741351,2695.12320324123,2718.65982569771,2742.78672923981,2767.5209778902,2792.88050558877,2818.88491265017,2845.555008651,2872.91323397479,2900.98396949368,2929.7937218625,2959.37110190794,2989.74695595821,3020.95447902539,3053.02935499145,3086.00985864799,3119.93701660732,3154.85462249181,3190.80987143798,3227.85386378001,3266.04352368064,3283.64241034516,3301.87128352984,3320.77445816266,3340.40158782638,3360.80988209151,3382.06440719755,3404.23741126161,3427.4100174169,3451.67381343088,3477.13631129995,3503.72408677297,3531.20920643563,3559.63150290842,3589.06942121371,3619.58644907206,3651.25922193426,3684.15130121011,3718.26738416184,3753.57104485864,3789.94449807941,3527.12917773626,3257.6173258662,2981.10784976889,2697.22313572889,2405.6869581277,2106.2452531852,1798.67239202873,1482.77436779225,1158.51062232729,825.941785638458,785.265208405378,743.382737962211,700.305065217721,655.877142444498,610.092795563748,562.969954682099,514.288216696407,464.004248467353,412.076295222209,358.465330469456,303.136031752905,246.057931493161,187.207268656651,126.570720168568,64.1537067473369,0,0,"","","","","","","","","","","","","","","","","","","","","","","",""]
["29_3_M",3,29,"M",null,206,0,463,1046,1728,1796,1568,1589,1611,1634,1657,1682,1707,1734,1761,1790,1819,1850,1882,1915,1949,1985,2022,2060,2100,2142,2185,2230,2277,2325,2375,2428,2462,2497,2534,2572,2611,2653,2696,2741,2787,2836,2887,2940,2996,3053,3113,3175,3239,3306,3375,3447,3221,2986,2742,2488,2223,1948,1662,1365,1056,735,701,666,629,591,552,511,468,423,377,329,279,227,173,118,60,0,0,"","","","","","","","","","","","","","","","","","","","","","","","","","","","","",null,null,756.221509725964,1687.55906210345,2642.14426452168,2708.04247644703,2475.61035435713,2496.02608992761,2516.94309993322,2538.37421077454,2560.33290847906,2582.83295746907,2605.88851597087,2629.51389391749,2653.72480302555,2678.53737318808,2703.96839759021,2730.03639755034,2756.76089189842,2784.16290340887,2812.26535501726,2841.09334354395,2870.67402618348,2901.03674861526,2932.21324601362,2964.23759932798,2997.14651352373,3030.97938532558,3065.7784055332,3101.58891596086,3138.45990114136,3176.44543163455,3195.00562638084,3214.19322420998,3234.04975279298,3254.6218238684,3275.96299135724,3298.1342253672,3321.20357765628,3345.24768663417,3370.35326317587,3396.62184785221,3424.17827459168,3453.16403850642,3483.11865530538,3514.12049182668,3546.23279350473,3579.53200818044,3614.08190785554,3649.88830667804,3686.91735994556,3725.02139733385,3463.97540312959,3196.28018892134,2921.59205960665,2639.59088204909,2350.01817303586,2052.56230161991,1746.99794943401,1433.13195281274,1110.92502511049,780.439760861071,742.018044776207,702.467456114999,661.82181982427,619.96071257255,576.710616018212,532.058206948693,486.011322033621,438.61168624433,389.611256997302,338.982198310998,286.710700989917,232.807422666204,177.328429517666,119.79333365979,60.6223100456486,0,0,"","","","","","","","","","","","","","","","","","","","","","","","","","","","",""]
["34_3_M",3,34,"M",null,191,0,471,1065,1758,1828,1601,1626,1652,1679,1707,1737,1767,1799,1831,1865,1900,1937,1975,2014,2055,2098,2142,2188,2236,2285,2337,2372,2407,2445,2484,2524,2566,2609,2655,2702,2751,2803,2857,2913,2972,3033,3096,3162,3230,3301,3374,3150,2917,2674,2422,2159,1886,1602,1307,1000,681,650,618,584,549,512,474,434,393,350,305,259,211,161,109,55,0,0,"","","","","","","","","","","","","","","","","","","","","","","","","","","","","","","","","","",null,null,755.930400486956,1685.71868233531,2638.6977476915,2704.43553663237,2471.84842166251,2495.03737504727,2518.79162631985,2543.12599187332,2568.05545708239,2593.59541512783,2619.76306522766,2646.57634254235,2674.05453019257,2702.21876301307,2731.09241106305,2760.70085215725,2791.07159609075,2822.23459463177,2854.22196990032,2887.06851115184,2920.81162713619,2955.49155644817,2991.15138083937,3027.8375024724,3065.60049944104,3085.39627616149,3105.81764001279,3126.90274796857,3148.6945360594,3171.24213531466,3194.60156216044,3218.83580588018,3244.01610321384,3270.22329850296,3297.55173885651,3326.1163575784,3356.06419635417,3387.58986726241,3420.54751237783,3454.65854885802,3490.00049284637,3526.61798098429,3564.537214372,3603.70038526694,3643.99091941092,3385.15460628108,3119.69187769668,2847.31434833809,2567.66229266226,2280.48354945972,1985.47515081313,1682.42336703493,1371.1505908155,1051.63833679719,723.977730645822,688.409123395517,651.738175721408,613.996736191369,575.062321788892,534.979331008306,493.598848225249,450.969627268447,406.890684098126,361.382762189002,314.516969777022,266.015313266149,215.870644705152,164.107916983782,110.814512495518,56.2080641685383,0,0,"","","","","","","","","","","","","","","","","","","","","","","","","","","","","","","","","",""]
["39_3_M",3,39,"M",null,175,0,483,1092,1803,1875,1649,1679,1710,1742,1776,1811,1847,1884,1923,1963,2005,2049,2094,2141,2190,2241,2276,2312,2350,2390,2431,2473,2518,2564,2612,2662,2714,2768,2825,2885,2947,3012,3079,3148,3221,3296,3073,2842,2601,2351,2090,1819,1538,1245,940,624,595,566,535,502,469,434,397,360,320,279,237,193,147,100,51,0,0,"","","","","","","","","","","","","","","","","","","","","","","","","","","","","","","","","","","","","","","",null,null,758.472878565692,1689.25239339561,2643.21973041168,2708.95845290284,2476.38552939383,2502.67317143254,2529.59527442544,2557.16928785019,2585.41446255508,2614.35235086538,2644.00645818168,2674.40236315345,2705.56814337509,2737.53386201576,2770.3322965541,2803.99876879134,2838.57146984576,2874.09110918955,2910.60137684662,2948.14917626338,2969.28597467104,2991.04738359016,3013.46804162363,3036.58705007218,3060.44892187957,3085.10450267345,3110.61150609914,3137.0355458971,3164.45136477886,3192.94582085506,3222.62351738755,3253.6163202839,3286.09677372039,3320.29558493284,3356.52316341288,3394.01933426801,3432.83829180728,3473.01011828307,3514.45439360161,3557.05294289355,3300.5915379112,3037.5406677906,2767.61656992604,2490.46641570392,2205.8476256749,1913.47007283349,1613.04632047762,1304.48956503507,987.805251551748,662.990410409209,630.421952870123,596.800255168466,562.164680230274,526.601443056626,489.828986439445,451.895137682837,412.906714006319,372.447816925467,330.854155175303,287.982886481097,243.589821037313,197.732000939939,150.558560961791,101.777997150481,51.4995352329539,0,0,"","","","","","","","","","","","","","","","","","","","","","","","","","","","","","","","","","","","","","",""]
["42_3_M",3,42,"M",null,164,0,491,1111,1834,1906,1681,1715,1749,1785,1822,1861,1900,1942,1985,2030,2076,2125,2175,2210,2248,2286,2326,2368,2411,2456,2502,2551,2601,2654,2708,2766,2826,2888,2954,3022,3093,3166,3242,3021,2791,2551,2302,2043,1774,1493,1202,899,585,558,530,501,471,439,407,373,337,300,262,222,181,138,94,48,0,0,"","","","","","","","","","","","","","","","","","","","","","","","","","","","","","","","","","","","","","","","","","",null,null,759.675195247297,1690.46581721688,2644.4176296661,2710.08178771898,2477.44513664587,2505.76288913868,2534.76242983555,2564.46600565599,2594.89789812373,2626.08492799564,2658.05577720407,2690.84187575111,2724.47714843151,2758.99841797686,2794.44480619885,2830.85818623699,2868.28299222578,2890.36770645903,2913.07744073916,2936.44450150037,2960.50545049132,2985.30173789905,3010.88078175769,3037.29680865475,3064.61172272224,3092.89624739125,3122.23229921602,3152.71763913041,3184.47404356138,3217.65935202574,3252.48366112827,3289.22972020252,3328.21906770356,3368.55889270475,3410.25487076862,3453.27668462627,3497.4856682935,3242.63243704647,2981.22614832903,2712.9917498605,2437.58816127486,2154.7170101938,1864.08189510591,1565.56908855838,1258.9457893751,944.217284043142,621.380728993546,590.813607975839,559.375373791664,527.000275296861,493.601856125904,459.280302869748,423.727898608301,386.998792663076,349.213996597983,310.261923185378,269.961114206571,228.441436933355,185.486802948718,141.253051595022,95.4639752451085,48.2624215897397,0,0,"","","","","","","","","","","","","","","","","","","","","","","","","","","","","","","","","","","","","","","","","",""]
["46_3_M",3,46,"M",null,148,0,504,1139,1881,1955,1732,1770,1809,1850,1893,1937,1983,2030,2080,2116,2154,2193,2234,2276,2320,2366,2413,2462,2513,2567,2622,2680,2741,2804,2870,2939,3011,3086,3164,2945,2716,2479,2231,1974,1707,1429,1140,840,528,503,478,452,425,396,367,336,304,271,236,200,163,124,84,43,0,0,"","","","","","","","","","","","","","","","","","","","","","","","","","","","","","","","","","","","","","","","","","","","","","",null,null,761.930284092239,1693.04093729334,2647.27263581473,2712.81625412338,2480.08422864076,2511.32489028736,2543.32672704948,2576.11925082048,2609.73439876987,2644.20704937542,2679.57406598457,2715.87473506101,2753.14996600315,2776.6439764962,2800.76487296141,2825.54167148187,2851.00735369099,2877.19904667627,2904.15933250727,2931.93753013476,2960.59033145168,2990.18281999899,3020.78996801087,3052.49988897182,3085.42008777826,3119.68756415051,3155.48318206485,3193.05046130587,3232.71871354374,3274.92994112237,3318.88608280031,3364.19766093671,3410.72467035074,3158.21755297903,2899.23389984452,2633.41117366496,2360.51983669282,2080.22102461336,1792.23167100758,1496.36498731169,1192.47983022206,880.492962927247,560.518857015281,532.972990490371,504.611088259959,475.377163224114,445.199984017987,414.203587819459,382.118032382755,349.058336819575,314.93513132523,279.610624478974,243.252601859677,205.759387223685,166.956599014633,127.081638785578,86.0217894774316,43.5538926541553,0,0,"","","","","","","","","","","","","","","","","","","","","","","","","","","","","","","","","","","","","","","","","","","","","",""]
["51_3_M",3,51,"M",null,125,0,522,1181,1949,2025,1804,1849,1896,1944,1982,2021,2061,2103,2146,2191,2238,2287,2337,2389,2444,2500,2559,2621,2685,2751,2821,2895,2972,3052,2835,2609,2374,2130,1876,1612,1337,1051,754,446,425,404,382,359,335,310,284,257,229,199,169,138,105,71,36,0,0,"","","","","","","","","","","","","","","","","","","","","","","","","","","","","","","","","","","","","","","","","","","","","","","","","","","",null,null,764.692788538161,1695.34334432638,2649.02726032677,2714.28884754341,2481.32166394181,2516.63535412367,2552.83709938489,2589.96289212056,2615.55099209497,2641.77150083605,2668.64893240486,2696.21137645307,2724.49004038925,2753.52088918002,2783.34655478862,2814.01664698308,2845.58860337442,2878.12795802838,2911.70963832916,2946.4215374536,2982.37192514859,3019.70131275878,3058.59907143115,3099.32480078103,3142.23401991491,3187.80596600082,3236.39410250213,3286.26379933926,3037.17659836883,2781.6593949457,2519.40840620092,2250.09681084892,1973.44638205455,1689.18793862606,1397.15320820942,1097.22584705735,789.355730229255,473.575877944944,450.314594888828,426.346630741436,401.644450809824,376.179831286355,349.922698258495,322.839405678078,294.889475970659,266.019716328706,236.155061320731,205.573268375723,173.929114875905,141.069332027582,107.275233492371,72.524710640641,36.7853823092528,0,0,"","","","","","","","","","","","","","","","","","","","","","","","","","","","","","","","","","","","","","","","","","","","","","","","","","",""]
["0_1_M",1,0,"M",null,93,0,563,585,608,633,558,562,565,569,574,578,582,587,592,597,602,608,613,619,625,632,638,645,652,660,667,675,684,692,702,711,721,731,741,752,764,776,788,801,814,828,843,858,873,889,906,924,942,961,981,1002,1023,1046,1069,1093,1118,1144,1171,1199,1229,1250,1272,1295,1318,1343,1369,1296,1219,1140,1058,972,883,790,694,593,489,481,472,463,453,443,433,422,410,399,386,373,360,346,331,316,300,284,267,249,230,211,191,170,148,126,102,78,53,27,0,0,null,null,936.941298257531,960.344728564281,984.345822138521,1008.95378775842,934.181070253301,938.927856817489,943.794449490832,948.78350065377,953.897857997922,959.140552975018,964.514787824277,970.023921090154,975.671433378866,981.46094462522,987.396202193879,993.48103615424,999.719353395282,1006.11512758022,1012.67243542546,1019.39540930113,1026.28834597999,1033.35567503614,1040.60191658917,1048.03176354096,1055.65011657701,1063.46205233852,1071.47298579384,1079.68840367253,1088.11399283366,1096.75585426821,1105.62025217307,1114.71370867938,1124.04301532074,1133.61524503967,1143.43776476124,1153.51824856418,1163.8648616323,1174.48614085306,1185.39120437678,1196.58982020898,1208.0926946496,1219.91092614139,1232.05670074753,1244.54343831101,1257.38515936066,1270.5973087247,1284.19664065374,1298.20104130406,1312.62928132433,1327.46025458286,1342.70569446127,1358.37334312248,1374.47543402468,1391.02146143528,1408.02056175682,1425.48120654109,1443.41196822446,1461.82141886698,1480.71512695241,1490.80537853509,1501.16818498563,1511.80606171066,1522.725467609,1533.92112419467,1545.39048809138,1457.12760009072,1366.65208955014,1273.89806798575,1178.80505434694,1081.32190823142,981.389486489264,878.961126768924,773.980541309885,666.421998971548,556.236148186299,543.393709103625,530.330321362402,517.038674230974,503.534140721127,489.79635250605,475.790342022335,461.518417025394,446.991845264852,432.093037968334,416.894050722272,401.336846026154,385.342860238919,368.920433185366,352.095483405914,334.776171812449,316.987262216283,298.601836719548,279.625353493292,260.08030724729,240.016107312501,219.249405799621,197.784534360794,175.645632650772,152.892062093733,129.206916877001,104.988599465579,79.9320351642801,54.0460095279271,27.3683244380841,0,0]
["1_1_M",1,1,"M",null,93,0,566,588,612,636,562,565,569,574,578,582,587,592,597,602,608,613,619,625,632,638,645,652,660,667,675,684,692,702,711,721,731,741,752,764,776,788,801,814,828,843,858,873,889,906,924,942,961,981,1002,1023,1046,1069,1093,1118,1144,1171,1199,1229,1250,1272,1295,1318,1343,1369,1296,1219,1140,1058,972,883,790,694,593,489,481,472,463,453,443,433,422,410,399,386,373,360,346,331,316,300,284,267,249,230,211,191,170,148,126,102,78,53,27,0,0,"",null,null,941.230665939406,964.748655907475,988.862754529082,1013.58450693623,938.927856817489,943.794449490832,948.78350065377,953.897857997922,959.140552975018,964.514787824277,970.023921090154,975.671433378866,981.46094462522,987.396202193879,993.481036154241,999.719353395282,1006.11512758022,1012.67243542546,1019.39540930113,1026.28834597999,1033.35567503614,1040.60191658917,1048.03176354096,1055.65011657701,1063.46205233852,1071.47298579384,1079.68840367253,1088.11399283366,1096.75585426821,1105.62025217307,1114.71370867938,1124.04301532074,1133.61524503967,1143.43776476124,1153.51824856418,1163.8648616323,1174.48614085306,1185.39120437678,1196.58982020898,1208.0926946496,1219.91092614139,1232.05670074754,1244.54343831101,1257.38515936066,1270.59730872471,1284.19664065374,1298.20104130406,1312.62928132433,1327.46025458286,1342.70569446127,1358.37334312248,1374.47543402468,1391.02146143528,1408.02056175682,1425.48120654109,1443.41196822446,1461.82141886698,1480.71512695241,1490.80537853509,1501.16818498563,1511.80606171066,1522.725467609,1533.92112419467,1545.39048809138,1457.12760009072,1366.65208955014,1273.89806798575,1178.80505434694,1081.32190823142,981.389486489263,878.961126768923,773.980541309885,666.421998971548,556.236148186299,543.393709103625,530.330321362402,517.038674230974,503.534140721127,489.79635250605,475.790342022335,461.518417025394,446.991845264853,432.093037968334,416.894050722272,401.336846026154,385.342860238919,368.920433185366,352.095483405914,334.776171812449,316.987262216283,298.601836719548,279.625353493292,260.08030724729,240.016107312501,219.249405799621,197.784534360794,175.645632650772,152.892062093733,129.206916877001,104.988599465579,79.9320351642801,54.0460095279271,27.3683244380841,0,0,""]
["6_1_M",1,6,"M",null,89,0,566,588,612,636,562,566,571,576,581,587,592,598,604,611,617,624,631,639,646,654,662,671,680,689,699,709,720,731,742,754,766,779,792,806,820,835,851,867,883,901,919,938,958,978,999,1022,1045,1069,1094,1119,1146,1174,1203,1225,1247,1270,1294,1319,1345,1272,1196,1117,1035,950,861,768,672,572,468,460,452,443,434,424,414,404,393,382,370,358,345,331,318,303,288,272,256,239,221,202,183,163,142,121,98,75,51,26,0,0,"","","","","","",null,null,936.044299370499,959.438571884618,983.420736906678,1008.00565017481,933.208826183664,938.730271705572,944.38998891411,950.191563282679,956.13877100383,962.235503713692,968.485667266458,974.893330350208,981.462570946543,988.197586734997,995.102645395962,1002.18214671426,1009.4406122749,1016.88270452573,1024.51326101942,1032.33729373868,1040.36008757897,1048.5870598548,1057.02382630153,1065.67635124113,1074.55079069949,1083.65355592206,1092.99132474653,1102.57105350762,1112.39998950227,1122.48568404553,1132.83614445041,1143.45974552886,1154.36540712471,1165.56266168153,1177.0619097298,1188.8739673029,1201.01066621614,1213.48499801127,1226.3105741949,1239.50235421184,1253.07655983715,1267.05052767419,1281.4424926076,1296.27189862787,1311.52286265415,1327.19486380062,1343.30002224388,1359.84772202315,1376.84698537162,1394.30944385874,1412.24061489672,1430.64894803714,1449.54392353041,1460.03134090565,1470.80130347658,1481.85673169443,1493.19900168226,1504.82825268686,1516.74245557335,1428.93626534423,1338.92226528677,1246.64220131526,1152.03641946142,1055.04457714042,955.617288457215,853.708817464157,749.264020660604,642.242891919967,532.611012883852,520.341458634852,507.848483549594,495.148990047651,482.229487108531,469.1036662003,455.744993806376,442.112286472778,428.210062458021,413.983659474671,399.440524621433,384.513617857954,369.214459011311,353.574192346634,337.396040346124,320.812747755224,303.726881138893,286.170289683496,268.007060492474,249.247732252811,229.923627560328,210.099677220577,189.58638498809,168.407662775808,146.623034885253,123.916470738025,100.68857966462,76.6390887846185,51.7868806916679,26.191192204188,0,0,"","","","","",""]
["9_1_M",1,9,"M",null,87,0,569,592,616,640,566,571,576,582,588,594,600,607,613,621,628,636,644,652,660,669,679,688,698,709,720,731,743,755,768,781,795,809,824,839,855,872,889,908,926,946,966,988,1010,1033,1056,1081,1107,1134,1162,1191,1212,1235,1258,1282,1307,1333,1260,1184,1106,1024,938,850,757,661,562,458,450,442,433,424,415,405,395,384,373,362,350,337,324,310,296,281,266,250,233,216,198,179,159,139,118,96,73,50,25,0,0,"","","","","","","","","",null,null,937.244921554452,960.66848845849,984.680845177304,1009.29733497147,934.533836769789,940.486439018717,946.588525657516,952.844001634104,959.256982826158,965.831547443868,972.571925460388,979.482369561081,986.567264173575,993.831131167689,1001.27861727501,1008.91452794724,1016.74384228462,1024.77177950982,1033.00372163229,1041.44524820682,1050.10225451139,1058.9808417823,1068.08736509035,1077.42844466463,1087.01097774511,1096.84215099236,1106.92945348438,1117.28081266822,1127.90452134743,1138.80939915681,1150.00485961035,1161.50114905897,1173.3089410152,1185.43988869184,1197.90676782291,1210.72298370166,1223.90325117974,1237.46352372722,1251.42086097847,1265.79322766613,1280.59978822169,1295.84921469248,1311.52113858392,1327.62549779239,1344.17441809455,1361.17436798295,1378.63366753287,1396.56071295864,1414.96387427548,1433.85252397621,1444.53760632132,1455.50559695453,1466.7638509081,1478.31393378952,1490.1561938234,1502.28884336182,1414.70682733043,1324.92306861204,1232.87124285396,1138.4995420182,1041.75809459846,942.578009193273,840.923733187801,736.740619817365,629.973513319089,520.601691896008,508.598817126355,496.380174226592,483.964318707685,471.340215186858,458.484510978384,445.406095523204,432.06764147526,418.478693050254,404.591040053278,390.339812231215,375.729717421234,360.78117644104,345.42349909056,329.685720361959,313.480510709227,296.839223312215,279.644692629354,261.917012208045,243.701014273772,224.83439055586,205.330473395393,185.227039805818,164.604364406067,143.226485471081,121.106019939129,98.2863978242722,74.8703724527335,50.4544810622183,25.6026260872399,0,0,"","","","","","","","",""]
["17_1_M",1,17,"M",null,80,0,579,602,626,651,577,584,591,598,606,614,623,632,641,651,660,671,682,693,704,716,729,742,756,770,784,800,815,832,849,867,885,905,925,946,968,990,1014,1038,1064,1090,1118,1147,1168,1191,1215,1239,1265,1291,1219,1143,1065,983,899,810,719,623,524,421,414,406,398,390,381,372,363,353,343,332,321,310,298,285,272,258,244,230,214,198,182,164,146,128,108,88,67,46,23,0,0,"","","","","","","","","","","","","","","","","",null,null,934.89390831631,958.25352623629,982.202581310681,1006.75624052763,931.930140410605,939.213290600736,946.680043083133,954.335091240539,962.183299379008,970.229657205164,978.479423478735,986.938051451772,995.611195125961,1004.50476434872,1013.62491796909,1022.97807499085,1032.57092624327,1042.41044659726,1052.50390775634,1062.85895813192,1073.48360401476,1084.38631486995,1095.57608856931,1107.0626325244,1118.85612212522,1130.96758626278,1143.40904622595,1156.19318646722,1169.3338667741,1182.84610264952,1196.74598550316,1211.05053574386,1225.77794062715,1240.94762839568,1256.58008707175,1272.68193878241,1289.22302473294,1306.21513793382,1323.66367801595,1341.58033929238,1359.97007768447,1378.84194990919,1390.20959566339,1401.87718638517,1413.8476322285,1426.12781602392,1438.71285968068,1451.60719056531,1364.79963127265,1275.8105308188,1184.57482949424,1091.04214818771,995.143962048598,896.841761504282,796.06727096434,692.788849561716,586.953368968393,478.524845503488,467.474523012817,456.239698441307,444.816499653933,433.191679712886,421.380178516884,409.357936416429,397.087685337863,384.5795039823,371.786242517627,358.725256301512,345.342503583846,331.565070258857,317.40894398829,302.910679230509,287.993531994998,272.704019428295,256.947088604879,240.578877280155,223.818676495514,206.547764222745,188.572280631194,170.191368851038,151.250102291106,131.473740405036,111.248081974147,90.3412196340113,68.8578094656262,46.3995879931046,23.5426446779218,0,0,"","","","","","","","","","","","","","","","",""]
["18_1_M",1,18,"M",null,91,0,579,602,626,651,577,582,587,592,598,604,609,615,622,628,635,642,650,657,665,674,682,691,700,710,720,731,741,753,764,777,789,802,816,830,845,860,876,893,910,928,947,958,969,980,992,1004,1017,1030,1044,1058,1073,1089,1105,1122,1139,1157,1176,1195,1215,1236,1258,1180,1099,1015,928,837,742,644,541,435,324,309,294,278,261,243,225,206,187,166,145,123,100,76,52,26,0,0,"","","","","","","","","","","","","","","","","","",null,null,933.877698844255,957.211335343567,981.133859060734,1005.66047437253,930.806839608648,935.861077838731,941.042501569561,946.354347167448,951.799885039855,957.382614371861,963.106164429221,968.974249325387,974.990778110731,981.159825964855,987.48564165798,993.972655357194,1000.6254867961,1007.44895382742,1014.44810161748,1021.62821386825,1028.9948591438,1036.55393414924,1044.31176057826,1052.27499440345,1060.45081258657,1068.84700520515,1077.47182532628,1086.33426094229,1095.44404439275,1104.81162169898,1114.44807722415,1124.36526931999,1134.57587938897,1145.09331328923,1155.93203432054,1167.10732347795,1178.63547830048,1190.53368249272,1202.82065037113,1215.51681446193,1228.64570823034,1233.1340032095,1237.84001534284,1242.74568442566,1247.83915240847,1253.13154535417,1258.62825696792,1264.33974448687,1270.26886583764,1276.4249704107,1282.80988651375,1289.42650705643,1296.2918001307,1303.41815342933,1310.83565780777,1318.56618903814,1326.63000870917,1335.06059031932,1343.86131557762,1353.01114849622,1362.45456785218,1272.13301758047,1179.54202199624,1084.55912889614,987.045312560542,886.914628307216,784.094896499283,678.441296752886,569.989851476555,458.617812077045,344.433862411962,327.500826628889,310.009177160208,291.967423962281,273.402089287722,254.367360065211,234.715003297281,214.480201974438,193.425189178522,171.842334281031,149.495512679561,126.396466078104,102.586417625231,78.163318832395,52.7136098984775,26.779758321136,0,0,"","","","","","","","","","","","","","","","","",""]
["23_1_M",1,23,"M",null,88,0,588,611,636,661,588,593,600,606,612,619,626,634,641,649,657,666,675,684,694,703,714,725,736,747,759,772,785,799,813,827,842,858,875,892,910,928,939,950,962,974,986,999,1013,1027,1041,1056,1072,1088,1105,1123,1141,1160,1180,1200,1221,1243,1166,1086,1002,915,824,730,632,530,424,314,300,285,269,253,236,218,200,181,161,140,119,97,74,50,26,0,0,"","","","","","","","","","","","","","","","","","","","","","","",null,null,937.180489204349,960.595282409077,984.601901651634,1009.2159422281,934.453677053688,940.195680966948,946.082100252059,952.116771389834,958.303695290701,964.647044699207,971.151171939393,977.820617019346,984.660116114323,991.674607298679,998.869264516431,1006.24952043551,1013.82110905056,1021.5901384679,1029.56306885143,1037.74682944931,1046.14890925626,1054.77727526385,1063.64057454004,1072.74816519517,1082.11010773704,1091.73711229823,1101.64065074618,1111.83300485632,1122.32719016515,1133.13724176611,1144.27801966042,1155.76538365499,1167.61608530054,1179.84834090762,1192.48201582814,1205.53988445406,1210.24770567457,1215.17173216995,1220.33053040499,1225.74258055854,1231.36167040052,1237.19358551207,1243.24212599963,1249.51694701233,1256.02792923118,1262.77749988321,1269.76921229766,1277.02076714706,1284.54540807197,1292.36039882472,1300.50049417175,1308.9873321982,1317.83519645804,1327.06693514735,1336.66454824448,1346.5768718523,1256.71082922568,1164.55348783481,1070.02640188782,972.998411145011,873.393664263345,771.07233103607,665.967376632312,558.029995032361,447.235277730248,333.587635766296,317.130511838847,300.185040294172,282.789548394063,264.817646769722,246.294201368713,227.272614137728,207.576240610926,187.220777119649,166.249790769236,144.756401010016,122.483801098184,99.4456031156663,75.6881885090578,51.3235160882631,26,0,0,"","","","","","","","","","","","","","","","","","","","","","",""]
["28_1_M",1,28,"M",null,84,0,597,620,645,671,598,605,612,619,627,635,644,653,662,671,681,691,702,713,725,737,749,762,775,789,804,819,834,851,868,885,904,914,925,937,949,962,975,989,1003,1018,1033,1049,1066,1083,1101,1120,1139,1159,1180,1201,1224,1147,1067,984,897,807,713,616,514,409,300,286,272,257,241,225,208,191,173,154,134,114,93,71,48,24,0,0,"","","","","","","","","","","","","","","","","","","","","","","","","","","","",null,null,936.934648630437,960.338274797287,984.335300039853,1008.94215800364,934.175979437165,940.702424433319,947.393507142298,954.253854383403,961.288260949169,968.501753925877,975.899584227779,983.487268294311,991.270628763217,999.25586402352,1007.44957225596,1015.85884013442,1024.49125231539,1033.3550002946,1042.45894211587,1051.81262310848,1061.42625322935,1071.31078776009,1081.47797428992,1091.94030652688,1102.71124710646,1113.80509312999,1125.23711909158,1137.02349860128,1149.18178204819,1161.73107644238,1174.69314155767,1179.69251652307,1184.90603313214,1190.3512323046,1196.04769091873,1202.01810845328,1208.2869344453,1214.78384179789,1221.51916493616,1228.49510930618,1235.72239651795,1243.2054360157,1250.9517308189,1258.98511911955,1267.32386282864,1275.98824533708,1285.01457859075,1294.41916553999,1304.20304666305,1314.37191425031,1324.84510949128,1235.56285661301,1144.01974133795,1050.09271221191,953.70501375534,854.722991436079,753.078270071648,648.631165689122,541.424642332168,431.345298420377,318.387868055729,302.724068438043,286.557605295174,269.91630662922,252.855405571644,235.252525453213,217.160110760286,198.400383209765,178.987634550801,158.96359951538,138.418818146534,117.092520459185,94.9916888590506,72.1507558452878,48.6587168293639,24.7197769118179,0,0,"","","","","","","","","","","","","","","","","","","","","","","","","","","",""]
["33_1_M",1,33,"M",null,79,0,606,630,655,681,608,617,625,634,644,653,664,674,685,696,708,720,733,746,760,774,789,804,820,837,854,872,883,895,907,919,932,945,959,974,989,1004,1021,1038,1055,1074,1093,1113,1133,1154,1176,1199,1123,1043,961,875,785,692,595,495,390,282,269,255,241,227,211,196,179,162,144,126,107,87,66,45,23,0,0,"","","","","","","","","","","","","","","","","","","","","","","","","","","","","","","","","",null,null,933.792974580889,957.107430787638,981.016524020302,1005.53753741465,930.688579212445,938.112144716636,945.723821930727,953.52908116175,961.533798159115,969.7441624133,978.166763462441,986.808713966366,995.677642570916,1004.78178942867,1014.13006352383,1023.73205749115,1033.59808925045,1043.73924753247,1054.16738295934,1064.89525255962,1075.93646016111,1087.30555959337,1099.01801344794,1111.09055228999,1123.54134906738,1136.39091184825,1141.76227413306,1147.34551265697,1153.15691160715,1159.21467392727,1165.53985252275,1172.15635891635,1179.09055752331,1186.37193107057,1193.92615866514,1201.74764803398,1209.83176256346,1218.19592447631,1226.8650744812,1235.84492485369,1245.16901519892,1254.85738561712,1264.94367636751,1275.43233085962,1286.30482629681,1297.51020022937,1208.95657306118,1118.18056640578,1025.01707016608,929.38447052852,831.214478823805,730.377237487292,626.818794128363,520.406020073426,411.212619298016,299.139915634294,284.355269591261,269.214278095157,253.629041318382,237.466215709082,220.960918315579,203.772332232943,186.162955467154,167.978585483479,149.302825742312,129.906507125135,109.815412334306,89.0982430850576,67.9069091900654,45.9362233896998,23.2483616194478,0,0,"","","","","","","","","","","","","","","","","","","","","","","","","","","","","","","","",""]
["36_1_M",1,36,"M",null,76,0,614,639,664,690,618,627,637,647,657,668,679,691,703,716,729,742,757,771,787,802,819,836,854,865,877,889,901,914,927,941,956,971,987,1004,1021,1039,1058,1077,1097,1118,1139,1162,1185,1109,1030,947,862,772,680,583,483,379,271,259,246,232,218,204,188,173,156,139,121,103,84,64,43,22,0,0,"","","","","","","","","","","","","","","","","","","","","","","","","","","","","","","","","","","","",null,null,934.185417047792,957.502157205228,981.416580468309,1005.94676231202,931.111840315112,939.134161638434,947.360609100603,955.797482274935,964.451619166146,973.330320253049,982.441465328003,991.79359257181,1001.3959356182,1011.25844204463,1021.39181806801,1031.8075417298,1042.51796106978,1053.53627888388,1064.87663243665,1076.55407416387,1088.58486088032,1100.98662509733,1113.77914775789,1119.38458649679,1125.20099537928,1131.243940903,1137.53084224049,1144.08181137867,1150.9197051532,1158.06980519884,1165.56043545637,1173.42352162327,1181.60603760607,1190.06139432415,1198.80771536139,1207.85837535996,1217.23047725693,1226.95842245992,1237.06351476358,1247.56005854312,1258.47177995077,1269.75362754979,1281.38111270172,1193.26640817655,1102.90456636955,1010.2283327199,915.058950323325,817.387841030361,717.016417244091,613.967101248734,508.121716793545,399.460206176244,287.993893649975,273.776200808734,259.142810952403,244.153540597384,228.714199916977,212.67865869806,196.309919448121,179.232865281526,161.739180228461,143.662060851624,125.098839800588,105.801912854361,85.8035341198359,65.1872925826197,44.1404591568454,22.3655124440257,0,0,"","","","","","","","","","","","","","","","","","","","","","","","","","","","","","","","","","","",""]
["40_1_M",1,40,"M",null,72,0,629,654,680,707,635,646,657,668,680,693,706,719,733,748,763,779,795,812,830,841,852,865,877,890,904,918,933,948,964,981,999,1017,1036,1055,1076,1097,1119,1142,1165,1090,1011,929,844,755,663,568,468,364,257,245,233,220,207,193,179,164,148,132,115,97,79,61,41,21,0,0,"","","","","","","","","","","","","","","","","","","","","","","","","","","","","","","","","","","","","","","","",null,null,937.451172634461,960.838188611526,984.830419620775,1009.44779451344,934.711739059879,943.605307026084,952.727678144738,962.08689922518,971.69172837328,981.551622704947,991.67678194725,1002.07819102537,1012.76765662323,1023.75785094347,1035.06236019509,1046.6956944753,1058.6734839329,1071.01264601026,1083.73199873747,1089.65253951174,1095.78296720833,1102.13790142504,1108.73372749444,1115.58931580765,1122.72613166396,1130.16802916141,1137.94180524207,1146.07772389889,1154.61129741319,1163.56010876455,1172.80343710959,1182.3652750749,1192.26375562961,1202.5346732471,1213.18310648806,1224.24066645523,1235.70938380897,1247.56803778631,1259.79733871817,1172.27618714845,1082.54004438382,990.477436346554,895.964488762771,798.935421469086,699.263872636808,596.809920530943,491.616647373387,383.684552705586,272.925989058929,259.523804512884,245.697889890706,231.499927174022,216.82404561774,201.726934101,186.065577871014,169.884972256405,153.275637823513,136.058373655197,118.309877428615,100.187095328117,81.5035143188767,61.8943462029581,41.8813303205862,21.1883802101296,0,0,"","","","","","","","","","","","","","","","","","","","","","","","","","","","","","","","","","","","","","","",""]
["45_1_M",1,45,"M",null,65,0,645,670,697,724,653,666,679,693,707,722,737,753,770,787,798,810,823,836,849,863,877,892,908,925,942,960,978,998,1018,1039,1061,1083,1107,1131,1056,978,897,813,725,634,539,441,338,232,221,210,199,187,174,161,148,134,119,104,88,72,55,37,19,0,0,"","","","","","","","","","","","","","","","","","","","","","","","","","","","","","","","","","","","","","","","","","","","","",null,null,933.186103051083,956.431993325873,980.290063278055,1004.78357947576,929.937620542735,940.058546561373,950.445403030936,961.10906787917,972.061304108098,983.314754084594,994.883000123528,1006.78059920521,1019.02324330288,1031.62809629802,1038.11416080013,1044.8088034257,1051.72503377208,1058.87748051663,1066.28290215712,1073.96039793013,1081.93139971769,1090.22011701485,1098.85400115701,1107.8651190735,1117.29263494489,1127.18681703789,1137.61436107997,1148.4216583774,1159.61287888603,1171.20888383842,1183.22376746662,1195.68169687662,1208.53917742141,1221.77489412535,1135.30626413613,1046.6360700305,955.653226011513,862.234799451582,766.31658277083,667.774509965894,566.562526159786,462.558244870045,355.849784357639,246.358313492752,234.279077499611,221.849704135251,208.971544092111,195.693076779786,182.103101865713,168.108429124571,153.556714688136,138.505359900978,123.069828861698,107.077067526062,90.6535287504037,73.5583361286158,55.8817832158508,37.8264372514725,19.1283988008115,0,0,"","","","","","","","","","","","","","","","","","","","","","","","","","","","","","","","","","","","","","","","","","","","",""]
["50_1_M",1,50,"M",null,58,0,669,696,723,751,681,696,712,728,745,757,769,782,795,808,823,837,853,869,885,903,921,940,960,981,1002,1025,1048,1072,1097,1023,946,866,782,695,605,511,414,312,207,197,188,177,167,155,144,132,119,106,93,79,64,49,33,17,0,0,"","","","","","","","","","","","","","","","","","","","","","","","","","","","","","","","","","","","","","","","","","","","","","","","","","",null,null,935.352815390509,958.610715411772,982.499859242756,1007.04752523988,932.282995946625,943.806420970658,955.644859091065,967.81282019727,980.325865861796,987.401063583739,994.684513588257,1002.18769432191,1009.92356585311,1017.90687679314,1026.15447610207,1034.68550070161,1043.52171468161,1052.68791639055,1062.21291575668,1072.131381924,1082.48697602251,1093.33678289472,1104.75710176048,1116.85059299263,1129.40110102306,1142.38104675578,1155.81202230253,1169.67697309097,1183.92909746331,1098.48417296892,1010.84353684188,920.894887357975,828.576798968109,733.776394162172,636.372180508629,536.32163075417,433.507172610496,328.023372699591,219.800276510526,209.045610616986,197.857026992312,186.445449773697,174.564909924716,162.482765994657,149.909251235006,136.912633369548,123.62251344708,109.926162204515,95.6237230553528,80.7955907854216,65.613157938355,49.8692202287435,33.7715441823589,17.0684173914933,0,0,"","","","","","","","","","","","","","","","","","","","","","","","","","","","","","","","","","","","","","","","","","","","","","","","","",""]
["51_1_M",1,51,"M",null,57,0,677,704,731,760,690,706,722,739,751,763,776,789,803,817,832,847,863,880,897,916,935,954,975,997,1019,1043,1067,1092,1018,941,861,778,691,601,507,410,308,203,194,184,174,164,153,141,129,117,104,91,77,63,48,33,17,0,0,"","","","","","","","","","","","","","","","","","","","","","","","","","","","","","","","","","","","","","","","","","","","","","","","","","","",null,null,939.16949612914,962.521785257841,986.513345603722,1011.17244683045,936.529405258977,948.35995284683,960.517827479098,973.018363210025,980.178352686465,987.546574120632,995.134289326847,1002.95422234977,1011.02083739541,1019.35066504479,1027.96251776312,1036.87781408613,1046.12097762393,1055.72035804382,1065.70998863898,1076.13259500484,1087.04390033024,1098.51829631814,1110.65588331644,1123.33381199575,1136.46541582065,1150.03133206059,1164.03555622643,1178.43243763495,1093.13937435224,1005.65987623117,915.884466423172,823.692800143076,729.024382400254,631.760185114514,531.860840088751,429.212885543646,323.916316368348,215.908542630925,205.266026500184,194.357680989443,183.115844697616,171.43809891067,159.387268111616,147.077294132586,134.429548604394,121.310947050658,107.842760511755,93.8629625760833,79.5186441263905,64.6078471026173,49.2958904565277,33.308179578954,17,0,0,"","","","","","","","","","","","","","","","","","","","","","","","","","","","","","","","","","","","","","","","","","","","","","","","","","",""]
[{"$f":"C326&\"_\"&B326&\"_\"&D326","v":"56_1_M"},1,56,"M",null,49,0,700,727,756,785,716,729,743,757,771,787,803,819,836,854,872,892,912,933,955,978,1002,1027,1053,980,904,825,742,657,568,475,379,279,175,167,158,150,141,131,121,111,101,90,78,66,54,41,28,14,0,0,"","","","","","","","","","","","","","","","","","","","","","","","","","","","","","","","","","","","","","","","","","","","","","","","","","","","","","","","",null,null,934.586000090645,957.746653252971,981.566462097178,1006.07819576744,931.318203069529,939.60861113545,948.128637215777,956.890575314437,965.908528209031,975.198843752477,984.780322312823,994.674554011705,1004.90640038026,1015.50505096568,1026.50606907539,1037.95472197806,1049.91073606573,1062.45453105041,1075.69490838893,1089.77800214447,1104.48038165885,1119.636787666,1135.20112024005,1051.09095582077,964.810769838459,876.252984387685,785.362734836616,691.964695641362,596.003156941942,497.446510418867,396.191638179776,292.23872792236,185.627080696501,176.449599872288,167.098617029908,157.36431435983,147.310648378561,137.050649019519,126.529486229957,115.656610689134,104.280536100244,92.4930004691073,80.4744285751353,68.1272020215433,55.2657979077462,42.0879409097512,28.3842514837956,14.4198698652271,0,0,"","","","","","","","","","","","","","","","","","","","","","","","","","","","","","","","","","","","","","","","","","","","","","","","","","","","","","","",""]
["3_20_F",20,3,"F",null,1247,0,328,794,1343,1939,1639,2022,2424,2845,3288,3752,4238,4748,5283,5843,6430,7045,7689,8364,9071,9811,9952,10099,10252,10411,10576,10748,10926,11112,11305,11505,11714,11930,12155,12389,12633,12885,13148,13421,13705,14000,14307,14625,14957,15302,15660,16033,16420,16824,17243,17680,18135,18608,19101,19614,20149,20704,21157,21628,22118,22627,23156,23707,22279,20793,19249,17642,15972,14234,12427,10548,8594,6561,6448,6330,6206,6078,5944,5804,5658,5506,5347,5182,5009,4829,4642,4446,4243,4031,3810,3580,3340,3091,2832,2562,2282,1991,1688,1374,1049,711,362,0,0,"","","",null,null,339.803379324232,1246.15852947481,2175.17411772887,3127.41557410798,3103.46406429802,3829.4410167394,4573.54807425572,5336.23479971416,6117.96338860832,6919.21006480557,7740.45687985443,8582.20377047275,9444.96352801269,10329.2621314011,11235.6390887689,12164.6477879986,13116.8558564227,14092.845529916,15093.2140316271,16118.5778415871,16271.6428141619,16428.5375823542,16589.3600255875,16754.2105441453,16923.1921245995,17096.4075038381,17273.9626007142,17455.9666249634,17642.5274761461,17833.76193468,18029.7865284938,18230.7227065464,18436.6954968177,18647.8385968149,18864.2884574117,19086.1880320954,19313.6877756463,19546.9446040653,19786.1223987172,20031.3914320273,20282.929509128,20540.9219054437,20805.561115886,21077.0471911718,21355.5907714812,21641.4124912896,21934.7454025365,22235.8389807368,22544.9597812998,22862.3907098883,23188.4383338089,23523.4331884657,23867.7285923759,24221.7147200975,24585.1187775,24957.9546577963,25215.7538310505,25480.3330724295,25751.8320595824,26030.3694613265,26316.0247170868,26608.8514844465,24908.8838635823,23166.3780043356,21380.2663972419,19549.4680748759,17672.8585061425,15749.2977626134,13777.6342557452,11756.7476529036,9685.58079928217,7563.18271747321,7388.71808590067,7210.75179034562,7029.3302984747,6844.4275691794,6655.99042601255,6463.90115577626,6267.97914306284,6067.98377437677,5863.6636851756,5654.68965364321,5440.79256402474,5221.61922651304,4996.80359839131,4766.08306265016,4529.02642634877,4285.31776343177,4034.6222153701,3776.5759068486,3510.8983334363,3237.16215732669,2955.01696290785,2664.24772045649,2364.47091503947,2055.41878139242,1737.01684078901,1409.01263171405,1071.10926000726,723.568455867077,366.280771774484,0,0,"","",""]
["7_20_F",20,7,"F",null,1191,0,330,798,1350,1948,1652,2048,2464,2901,3359,3839,4343,4871,5424,6004,6612,7249,7917,8615,9347,10114,10278,10449,10627,10811,11003,11203,11410,11626,11850,12083,12325,12576,12838,13109,13392,13685,13990,14307,14637,14980,15336,15707,16092,16493,16910,17344,17796,18266,18756,19267,19798,20351,20807,21280,21773,22285,22817,23371,21946,20465,18924,17321,15655,13921,12119,10244,8294,6267,6158,6046,5928,5805,5677,5544,5404,5259,5107,4949,4785,4613,4434,4247,4053,3850,3639,3419,3191,2953,2705,2448,2180,1902,1613,1313,1002,680,346,0,0,"","","","","","","",null,null,347.614412207808,1253.42601103298,2181.87685384522,3133.53276019163,3108.97446817404,3845.51634496008,4600.43992712578,5374.20387794626,6167.27865457748,6980.14681352235,7813.30332406885,8667.25588990983,9542.52527915966,10439.6456629884,11359.1649631006,12301.648867683,13267.670357517,14257.8207621394,15272.7066436043,16312.9501917557,16482.0305997253,16655.344578774,16832.997590967,17015.0983780293,17201.7534558708,17393.0790910948,17589.1903812396,17790.2073093541,17996.2529491311,18207.4598981366,18423.9625758726,18645.9018526753,18873.4264981454,19106.6916989358,19345.8600128859,19591.0994495108,19842.5863937663,20100.504209375,20365.0438783835,20636.4038953278,20914.7923944583,21200.4274327587,21493.5389570896,21794.3723408459,22103.1894630134,22420.2684126719,22745.909884182,23080.4379020625,23424.1990659994,23777.5752424895,24140.9218342797,24513.6875461242,24777.0034875086,25047.2274419992,25324.4994451911,25608.9409131546,25900.634685363,26199.637997025,24505.9886558777,22769.9374920575,20990.4276631925,19166.3764119726,17296.6623932606,15380.1500897712,13415.6855342521,11402.1601994991,9338.52174621118,7223.80167824341,7057.18736511684,6887.22040185389,6713.94632600399,6537.36128201723,6357.40287051497,6173.9388735191,5986.83075249727,5795.8278326145,5600.70157938829,5401.15304120756,5196.84218246926,4987.49182771514,4772.77478880722,4552.40222991896,4325.98413537329,4093.25972003567,3853.86278839362,3607.49238396654,3353.69827793365,3092.21911479071,2822.79499460185,2544.99929710614,2258.68020961735,1963.51382362222,1659.3290823976,1345.96568637742,1023.27756464281,691.141148290719,349.831915944997,0,0,"","","","","","",""]
["8_20_F",20,8,"F",null,1176,0,331,799,1352,1951,1656,2056,2476,2916,3379,3864,4372,4905,5464,6050,6664,7307,7980,8686,9425,10198,10369,10546,10731,10923,11122,11329,11544,11768,12001,12242,12493,12754,13026,13308,13601,13905,14222,14551,14893,15249,15619,16004,16404,16821,17254,17705,18175,18664,19173,19704,20256,20712,21187,21680,22193,22727,23281,21857,20377,18837,17235,15570,13837,12036,10162,8214,6188,6081,5969,5853,5732,5605,5473,5336,5192,5043,4887,4724,4554,4377,4193,4001,3801,3593,3376,3150,2915,2671,2416,2152,1877,1592,1296,989,671,341,0,0,"","","","","","","","",null,null,349.726971976144,1255.33698506855,2183.57948012562,3135.02078091377,3110.24239411206,3849.55156561983,4607.31059774563,5383.97998685077,6180.03207259493,6995.95134474115,7832.23475796935,8689.39205490898,9567.94609760691,10468.4332076526,11391.4070753864,12337.4285933595,13307.0765728929,14300.9447354833,15319.6420997115,16363.7933782664,16537.1320327713,16714.8094929018,16896.9343738117,17083.6128193894,17274.9609573109,17471.0935004755,17672.1300377212,17878.1931175699,18089.415041361,18305.9296826452,18527.8773518605,18755.4063653208,18988.6714444863,19227.8347907251,19473.0638051878,19724.5344903073,19982.4296954408,20246.9399951157,20518.2634646598,20796.6075644011,21082.1896581148,21375.2388578926,21675.9994349084,21984.7320117953,22301.7133835406,22627.2426669847,22961.6421378646,23305.2565911079,23658.4656620408,24021.6859366924,24394.4268536974,24659.2160846309,24930.9442574668,25209.756599569,25495.7728636108,25789.0734797851,26089.722766575,24397.7562428501,22663.4254066168,20885.6740112139,19063.4199765359,17195.5428562174,15280.9083766366,13318.3640490158,11306.8028828702,9245.16436163514,7132.48937837795,6967.95388008864,6800.12607276082,6629.02514438833,6454.64534242366,6276.94661418836,6095.80535471574,5911.03007081721,5722.43622474732,5529.72669723375,5332.64280053568,5130.90642125174,4924.20609093911,4712.22861614394,4494.62607075681,4271.09222268796,4041.29794769118,3804.87997166257,3561.54186764291,3310.96821062136,3052.81364527488,2786.6885976181,2512.48090143611,2229.76982911854,1938.42827887072,1638.13991939796,1328.75890705637,1010.16320696447,682.270036929112,345.425972419241,0,0,"","","","","","","",""]
["13_20_F",20,13,"F",null,1097,0,334,808,1367,1973,1684,2106,2549,3014,3502,4013,4550,5112,5702,6320,6967,7646,8356,9100,9880,10695,10901,11115,11337,11568,11808,12058,12317,12586,12866,13157,13459,13774,14100,14440,14793,15160,15542,15939,16352,16782,17229,17694,18179,18684,19209,19757,20218,20696,21193,21711,22248,22807,21388,19913,18378,16782,15122,13396,11600,9733,7791,5772,5672,5568,5460,5347,5229,5106,4977,4843,4704,4558,4406,4248,4083,3911,3732,3546,3351,3149,2938,2719,2491,2254,2007,1751,1485,1209,923,626,318,0,0,"","","","","","","","","","","","","",null,null,362.578864685001,1267.96377818062,2195.97151066926,3147.16910746115,3122.1381989184,3876.96261595603,4650.6202945544,5443.58199508361,6256.3305968432,7089.36422813958,7943.18837067268,8818.32416355588,9715.30617103239,10634.6827308471,11577.0163117268,12542.8804431783,13532.8633750574,14547.5686082542,15587.6085860021,16653.6190252354,16849.8823367202,17051.0414736137,17257.2162348084,17468.5373768174,17685.135915389,17907.149230446,18134.7232691592,18368.0103218603,18607.1707312067,18852.3687156071,19103.7782831353,19361.5795961811,19625.9611048847,19897.1186994507,20175.256316626,20460.5876961541,20753.3375828648,21053.7444757936,21362.06241655,21678.5614222175,22003.5323435443,22337.2882918769,22680.1646055915,23032.5292246332,23394.7853601486,23767.3764932989,24039.9402482348,24319.6227831364,24606.5707843691,24900.9051265285,25202.7168620051,25512.0692049077,23829.0022586172,22103.7714341375,20335.3241143366,18522.5769869708,16664.4196155946,14759.7113905326,12807.3199113961,10806.1298761506,8755.09401699189,6653.24729830633,6499.76714616911,6343.20975402554,6183.59517981491,6020.92336205079,5855.14350138394,5686.1450794546,5513.790614678,5337.86431166918,5158.09942808809,4974.2777306313,4786.11865094148,4593.29893550712,4395.54825621772,4192.57570226752,3984.06459228411,3769.66161546488,3549.17184617964,3322.18951160299,3088.4835875069,2847.68555654711,2599.51720728302,2343.68488781945,2080.04361532411,1808.26937630151,1528.18094544023,1239.59194629335,942.303697121135,636.413235641699,322.221336516928,0,0,"","","","","","","","","","","","",""]
["18_20_F",20,18,"F",null,1236,0,338,816,1381,1994,1712,2115,2538,2982,3448,3937,4449,4986,5548,6138,6756,7403,8080,8790,9532,10310,10471,10638,10811,10992,11179,11373,11574,11783,12000,12225,12459,12702,12954,13215,13487,13769,14062,14367,14683,15012,15354,15586,15827,16077,16337,16607,16888,17181,17485,17802,18133,18477,18837,19214,19608,20017,20442,20884,21342,21817,22309,20819,19269,17656,15978,14232,12417,10529,8566,6527,4407,4205,3995,3776,3548,3311,3064,2807,2540,2262,1973,1673,1362,1040,705,359,0,0,"","","","","","","","","","","","","","","","","","",null,null,338,1241.54612284899,2170.077294222,3121.80982263474,3097.32719192642,3824.88862488736,4570.59200742623,5334.89089884124,6118.25054566738,6921.14818500889,7744.07020992298,8587.5150484673,9451.99360285394,10338.0225264964,11246.1384560962,12176.884491716,13130.8177228713,14108.5061672533,15110.5411155824,16137.5227858663,16292.5110082043,16451.303200696,16613.9970042253,16780.6976777568,16951.5085440962,17126.5439127766,17305.9199572361,17489.7605986421,17678.1947316424,17871.3521715136,18069.3692150257,18272.3872268459,18480.5522382486,18694.018281363,18912.9498346728,19137.5206863007,19367.9169949486,19604.3393896769,19847.0033828616,20096.1431903259,20352.0149645183,20491.3021530807,20634.5368844623,20781.9161148551,20933.6588397059,21090.0034423309,21251.2170355242,21417.6031559508,21589.5255246966,21767.4211461403,21951.8038025655,22143.2633980501,22342.460576611,22550.1589576346,22767.2963253378,22991.3548494668,23222.3981078424,23460.6774450016,23706.3792193423,23959.4784512249,24219.6223083766,22485.9876833766,20708.6811215913,18886.0050327127,17016.1985965473,15097.5553794713,13128.424436571,11107.419157982,9033.41723486523,6905.63342666166,4723.98880078564,4489.06661273458,4247.54880709289,3999.11020167295,3743.40015732513,3480.02827133938,3208.68606250082,2929.04700394437,2640.75979537711,2343.60603755596,2037.36861212916,1721.82127245946,1396.71571548675,1061.7623679353,717.235851245309,363.049746522263,0,0,"","","","","","","","","","","","","","","","","",""]
["23_20_F",20,23,"F",null,1163,0,342,826,1397,2016,1742,2166,2611,3078,3568,4082,4621,5186,5777,6397,7047,7727,8439,9184,9964,10781,10973,11173,11380,11595,11818,12050,12291,12540,12799,13068,13347,13637,13939,14252,14577,14915,15150,15394,15648,15911,16185,16469,16765,17072,17392,17726,18073,18436,18815,19211,19627,20058,20506,20971,21453,21953,20472,18930,17325,15656,13919,12114,10236,8284,6255,4147,3957,3759,3553,3339,3115,2883,2641,2390,2128,1857,1575,1282,978,663,337,0,0,"","","","","","","","","","","","","","","","","","","","","","","",null,null,344.554979137129,1250.01407970747,2178.09363820207,3129.36177773481,3104.40126207179,3846.04487856445,4606.17348108736,5385.24647696022,6183.72920797191,7002.1032398797,7840.85628804338,8700.48773009055,9581.50596112492,10484.4389818742,11409.8219883336,12358.2045829351,13330.1554081852,14326.2596730054,15347.1237529501,16393.3652636722,16568.7379511227,16748.4318866673,16932.5693799291,17121.2776711386,17314.6837331684,17512.9209455754,17716.1271063337,17924.4434413666,18138.0184761597,18357.0110308792,18581.587932986,18811.9276095078,19048.2227304442,19290.6788918297,19539.5189417227,19794.9861568214,19941.0478175497,20091.1174761127,20245.3810691447,20404.0463283705,20567.3423300029,20735.5250262999,20908.8839217327,21087.7606392001,21272.5627034882,21463.770231051,21661.9383206125,21867.6945766779,22081.7662239096,22305.0418847565,22538.6706104388,22779.7212655884,23028.223418687,23284.3532765473,23548.0890682635,23819.0661466646,22096.4456558481,20330.3681559483,18519.1592751118,16661.0538920725,14754.3763247749,12797.467587991,10788.9770896641,8727.76849025318,6613.16579072995,4445.01163454384,4223.93712519683,3996.68860071003,3762.92228043944,3522.25167434937,3274.48329420215,3019.17041031941,2756.07934911345,2484.8212298093,2205.29934136746,1917.06543696364,1619.97642459946,1313.91687399023,998.814184424161,674.668178937424,341.607488030253,0,0,"","","","","","","","","","","","","","","","","","","","","","",""]
["24_20_F",20,24,"F",null,1147,0,342,828,1401,2021,1749,2178,2628,3100,3596,4115,4660,5231,5829,6455,7112,7799,8519,9272,10061,10886,11085,11292,11507,11730,11961,12201,12450,12708,12977,13255,13545,13845,14158,14482,14819,15055,15300,15554,15818,16093,16378,16674,16982,17303,17637,17986,18349,18729,19125,19541,19974,20424,20890,21374,21876,20395,18855,17252,15585,13851,12047,10172,8222,6196,4090,3903,3708,3504,3293,3073,2843,2605,2357,2099,1831,1553,1264,965,654,333,0,0,"","","","","","","","","","","","","","","","","","","","","","","","",null,null,346.469392366236,1251.73774726401,2179.62134914863,3130.68830403879,3105.52040426513,3850.14319803353,4613.32198398671,5395.51272980325,6197.18682237434,7018.82185117606,7860.90663949141,8723.93873207604,9608.43449352811,10514.9172747529,11443.9242670909,12396.0110335793,13371.7491410257,14371.7307010206,15396.5585389502,16446.8614646099,16626.6348647457,16810.8474824451,16999.6262041509,17193.0973897485,17391.3937898467,17594.6524320224,17803.0135017549,18016.6243314945,18235.6425158606,18460.2333730834,18690.5736533999,18926.8543012113,19169.278760658,19418.0674122165,19673.4607371531,19821.0225037066,19972.6060635033,20128.3949770381,20288.5945499176,20453.4318623516,20623.1604702771,20798.066860379,20978.4878858198,21164.8247011422,21357.5501501776,21557.2118217344,21764.4302066233,21979.9246988265,22204.5733290032,22439.5093624557,22682.7536809999,22933.4878875366,23191.9006711349,23457.9562721639,23731.2885210179,22011.1053471852,20247.5105291339,18438.8331284335,16583.3131558934,14679.2391691907,12725.043930617,10719.2935974608,8660.91071680956,6549.16702345064,4383.98145336309,4165.92438046517,3941.74608606036,3711.21393528936,3473.87034098339,3229.4129670043,2977.65641090596,2718.13727539219,2450.62633573248,2174.89621026785,1890.70618764025,1597.78410996838,1296.05422055125,985.224066153392,665.55141423853,336.907814936113,0,0,"","","","","","","","","","","","","","","","","","","","","","","",""]
["30_20_F",20,30,"F",null,1043,0,349,844,1428,2062,1802,2263,2748,3256,3789,4347,4933,5547,6190,6863,7568,8306,9079,9887,10733,11618,11864,12119,12383,12658,12943,13240,13547,13867,14198,14439,14689,14948,15217,15496,15786,16087,16400,16726,17064,17417,17785,18168,18569,18988,19427,19886,20362,20856,21369,19900,18371,16781,15126,13405,11615,9754,7819,5808,3719,3549,3371,3187,2994,2794,2586,2369,2143,1909,1665,1412,1150,877,595,303,0,0,"","","","","","","","","","","","","","","","","","","","","","","","","","","","","","",null,null,360.409003840899,1264.93405535647,2192.046222708,3142.3102760882,3116.30572121622,3880.76728628461,4664.22932426488,5467.15201999683,6290.00634235127,7133.27763641923,7997.46420664197,8883.08115499076,9790.65220497881,10720.722597642,11673.8508403474,12650.6159697107,13651.6153147095,14677.4587032915,15728.7761294065,16806.2157995249,17014.8974832274,17228.7716916322,17447.9880910459,17672.7022319873,17903.0800115264,18139.3012063033,18381.5553287378,18630.046781884,18884.997945444,19042.3498392274,19203.8146021791,19369.5604507591,19539.7770307974,19714.6785617494,19894.50315198,20079.5178215606,20270.0286104735,20466.3955015061,20669.0443403468,20878.4742074159,21095.259684268,21320.0696426936,21553.7137397646,21797.2232687055,22051.9628884896,22317.2496923312,22590.5053106244,22871.6979628465,23160.452527672,21455.9671792007,19708.3896557384,17916.0219904253,16077.1703293272,14190.134290122,12253.3532381796,10265.4484914568,8225.35364018903,6132.41201093293,3986.48210819834,3788.20622424008,3584.43122200279,3374.73832974474,3158.96731850854,2936.73418348366,2707.71793567685,2471.70799193384,2228.50700478274,1977.7356128134,1719.31890040767,1453.01101423279,1178.5128248155,896.00054156441,605.255181435259,306.359939824208,0,0,"","","","","","","","","","","","","","","","","","","","","","","","","","","","","",""]
["35_20_F",20,35,"F",null,943,0,357,863,1460,2106,1861,2356,2875,3420,3991,4590,5217,5874,6563,7283,8038,8827,9654,10518,11423,12369,12661,12964,13279,13606,13851,14105,14369,14643,14927,15222,15528,15846,16176,16520,16877,17249,17637,18041,18463,18905,19369,19855,20359,20881,19423,17906,16327,14684,12976,11199,9352,7432,5436,3363,3209,3048,2881,2707,2526,2338,2142,1938,1726,1505,1277,1039,793,538,274,0,0,"","","","","","","","","","","","","","","","","","","","","","","","","","","","","","","","","","","",null,null,375.125288885227,1278.87430468473,2205.16988986923,3154.57500055389,3127.6692797102,3911.0288169864,4713.79900267351,5536.44857433239,6379.46368574172,7243.34203888522,8128.5986578754,9035.7643181323,9965.38030630525,10918.0047391664,11894.2105777537,12894.5835571074,13919.7266133634,14970.2647805129,16046.8411951714,17150.1227061777,17386.3992604994,17628.6057091418,17876.9312933099,18131.581210776,18298.4748703831,18469.5735410572,18645.0310132196,18825.022232712,19009.7494209973,19199.4362506955,19394.3315082323,19594.7122234015,19800.8995539659,20013.2750453158,20232.2921299227,20458.4823175752,20692.4671270669,20934.9920090832,21186.9922751014,21449.691851822,21724.728251302,22012.2462564796,22307.9754525962,22611.5687241652,20922.2020079004,19190.016163643,17413.3677405797,15590.5708009028,13719.9292035738,11799.9290907015,9829.19786579883,7806.66887373344,5731.74293017839,3604.27747335644,3424.98961349333,3240.73106610821,3051.18465596724,2856.09561120357,2655.18503659046,2448.13772104454,2234.7403119841,2014.78028518891,1788.03298676782,1554.44844171332,1313.57991175088,1065.55441365269,810.115347710541,547.238139806712,276.986982985837,0,0,"","","","","","","","","","","","","","","","","","","","","","","","","","","","","","","","","","",""]
["40_20_F",20,40,"F",null,829,0,367,886,1499,2163,1935,2470,3031,3620,4236,4882,5559,6268,7011,7788,8601,9452,10343,11275,12249,13185,13445,13715,13994,14284,14585,14897,15220,15556,15906,16269,16646,17039,17448,17875,18320,18787,19276,19791,20326,18880,17375,15810,14181,12487,10726,8894,6990,5012,2956,2821,2680,2533,2380,2221,2055,1883,1703,1517,1323,1122,914,697,473,241,0,0,"","","","","","","","","","","","","","","","","","","","","","","","","","","","","","","","","","","","","","","","",null,null,393.531452516007,1296.28559225056,2221.5334644025,3169.84038695259,3141.78802998043,3946.5206176909,4771.13737301053,5616.12141683709,6481.96982475985,7369.19201555786,8278.30760498748,9209.8495999738,10164.3684576033,11142.4280964222,12144.6103904527,13171.5202602411,14223.7797227345,15302.0338921006,16406.954898373,17456.3389291593,17638.5812812213,17825.2769705846,18016.5846187379,18212.6932159587,18413.8104847746,18620.1650126529,18832.0015072461,19049.5977915527,19273.2859884629,19503.4686983948,19740.6296293557,19985.3378048985,20238.2673453498,20500.2466518739,20772.3426652418,21055.9765344855,21353.0483168952,21665.3743777278,21985.8589697157,20313.7098007654,18599.0955387369,16840.3503740504,15035.8234634462,13183.8673289661,11282.9349839272,9331.7588280555,7329.29576120111,5274.8952547376,3168.56017327158,3010.95258572769,2848.92547102219,2682.25921404731,2510.7160888956,2334.03028745222,2152.03536044277,1964.41741623785,1771.1376311616,1571.8501425698,1366.50995608338,1154.89746690874,936.735035556695,712.213031182982,481.114271284075,243.501812190094,2.8421709430404e-14,0,"","","","","","","","","","","","","","","","","","","","","","","","","","","","","","","","","","","","","","","",""]
["41_20_F",20,41,"F",null,804,0,369,891,1508,2175,1952,2495,3066,3663,4290,4947,5634,6355,7109,7899,8725,9590,10494,11441,12351,13301,13572,13853,14144,14446,14759,15084,15422,15772,16137,16515,16910,17320,17748,18194,18661,19151,19667,20204,18760,17259,15696,14071,12380,10622,8794,6893,4919,2867,2736,2599,2456,2308,2154,1993,1826,1652,1471,1283,1088,886,676,459,233,0,0,"","","","","","","","","","","","","","","","","","","","","","","","","","","","","","","","","","","","","","","","","",null,null,397.611997395616,1299.99531246906,2224.85758459796,3172.76360499002,3144.29638293955,3953.5464716802,4782.77868881356,5632.47899715368,6503.14528986944,7395.28527739906,8309.41940937232,9246.08473380177,10205.8310018637,11189.2249119379,12196.8550290499,13229.3258022541,14287.2632535826,15371.3186330691,16401.765024692,17457.5075722227,17646.6998754204,17840.5225140657,18039.1616626871,18242.8216433693,18451.7267268865,18666.1146767586,18886.253990687,19112.4661608495,19345.1428722061,19584.7575997953,19831.8681409057,20087.1333316969,20351.3586103196,20625.5771537099,20911.1635615835,21209.9593384441,21524.396132647,21848.5882341571,20180.2341312481,18469.458998374,16714.6573387173,14914.1235712743,13066.2519247509,11169.5100476486,9222.59415547163,7224.5290895002,5174.62341630867,3072.89364776344,2920.02014466237,2762.88037942497,2601.28761157199,2434.93217169093,2263.56680529107,2087.05134320745,1905.10904818828,1717.5839123313,1524.32305406828,1325.16716633328,1119.93958473165,908.430644459298,690.656676896375,466.415524203102,236.158572980501,0,0,"","","","","","","","","","","","","","","","","","","","","","","","","","","","","","","","","","","","","","","","",""]
["0_15_F",15,0,"F",null,1017,0,354,818,1366,1962,1657,2084,2533,3005,3502,4025,4575,5153,5760,6398,7068,7146,7227,7312,7400,7492,7587,7686,7789,7896,8007,8123,8243,8368,8498,8633,8773,8919,9071,9229,9393,9563,9740,9924,10116,10315,10522,10737,10960,11193,11434,11686,11947,12219,12501,12795,13101,13420,13751,14096,14455,14830,15219,15623,16044,16380,16729,17092,17470,17862,18270,17194,16075,14911,13701,12442,11133,9771,8355,6882,5351,5259,5162,5062,4957,4847,4733,4614,4490,4361,4226,4085,3939,3786,3626,3460,3287,3107,2920,2724,2521,2310,2090,1861,1624,1377,1121,855,580,295,0,0,null,null,436.083489932495,1346.21631326763,2279.15908893773,3235.46396193735,3215.69701132632,3991.9584455811,4787.6207834448,5603.16849475211,6439.09677686258,7295.91206228213,8174.13254903068,9074.29162628251,9996.93888427212,10942.6318458821,11911.9481125018,12006.0640118533,12102.5275706519,12201.3986978139,12302.7388428516,12406.6110357989,12513.0799281795,12622.2118350448,12734.0770272686,12848.7429702069,12966.2812285386,13086.7652097152,13210.27021178,13336.8734724367,13466.6527028724,13599.6880169374,13736.0620132672,13875.8576458069,14019.1632586527,14166.0683459139,14316.6661447125,14471.053290348,14629.331672394,14791.6066067416,14957.9883623494,15128.5922530983,15303.5385037674,15482.9519706015,15666.9636763037,15855.7090621287,16049.3298908265,16247.9727574309,16451.789987642,16660.9432378501,16875.6017654213,17095.9449126301,17322.1657975325,17554.4711884987,17793.080322518,18038.2317280909,18290.1828436455,18549.1593975297,18814.8841888291,19087.5294037516,19367.2639537732,19552.5637604843,19742.7648386875,19937.9689995364,20138.2591700589,20343.6927395847,20554.3067741306,19270.1212212584,17953.8218548438,16604.6108014807,15221.6673267706,13804.1524338809,12351.1990022571,10861.9446164847,9335.54308470879,7771.20387131177,6168.19862239098,6025.90869464141,5880.77342328443,5732.80223053326,5582.001696463,5428.33536462842,5271.68898570649,5111.91746235513,4948.82823840964,4782.18699129062,4611.76977037531,4437.33513777404,4258.54998048596,4075.18918427865,3887.02184366215,3693.7246569817,3495.02034296438,3290.60545959711,3080.13840863166,2863.4773945566,2640.23724569678,2410.10531341343,2172.8977401176,1928.44254957077,1676.3652259453,1416.6262829036,1149.00912926714,873.539291814107,590.051465451884,298.722971046231,0,0]
["5_15_F",15,5,"F",null,968,0,356,822,1373,1972,1670,2109,2570,3056,3568,4106,4671,5265,5890,6546,7235,7330,7428,7531,7637,7748,7863,7982,8107,8236,8370,8510,8655,8806,8963,9126,9295,9472,9655,9845,10043,10248,10462,10684,10915,11155,11405,11665,11935,12215,12507,12811,13127,13457,13799,14156,14527,14914,15317,15735,16073,16425,16790,17170,17565,17976,16903,15787,14627,13420,12164,10859,9501,8089,6620,5093,5005,4913,4818,4718,4614,4505,4392,4274,4151,4022,3888,3749,3603,3451,3293,3129,2957,2779,2593,2399,2198,1989,1771,1545,1311,1067,814,552,281,0,0,"","","","","",null,null,442.241641530283,1352.01643193429,2284.5323703049,3240.35863765407,3220.07820705173,4005.6126182689,4810.76380387618,5636.02254820811,6481.88725490657,7348.87330837064,8237.50934465,9148.33759466841,10081.9142364046,11038.8097562662,12019.6093198981,12126.1555624572,12235.3647792975,12347.3076376764,12462.0512159798,12579.667078889,12700.2286338575,12823.8111789299,12950.4919518113,13080.3482675216,13213.4598339963,13349.9088339462,13489.7770032034,13633.1522294003,13780.1227471176,13930.7805025629,14085.2204120265,14243.5433941614,14405.8529776963,14572.2575987107,14742.8710864946,14917.8121421904,15097.2044536024,15281.177051587,15469.8641235272,15663.4057472395,15861.9471818858,16065.6393789365,16274.6417878394,16489.1213957805,16709.2548119301,16935.2315467767,17167.2542570176,17405.5379442864,17650.3159749003,17901.8400648721,18160.3791395509,18426.0577579817,18698.6452357741,18978.3129194384,19168.4355930304,19363.568553097,19563.8181041368,19769.2699360542,19979.9816491248,20195.9931663534,18917.3273578511,17606.6725202923,16263.2283293717,14886.1808822707,13474.69462423,12027.9003039438,10544.9391745069,9024.96864666766,7467.20117012704,5870.91064376782,5735.48044782856,5597.3384278792,5456.49450224307,5312.95869398502,5166.67869974468,5017.57247742453,4865.48193139987,4710.22936657181,4551.60111963661,4389.40057563977,4223.36661137857,4053.19359807352,3878.6912827547,3699.59725199328,3515.62240728868,3326.44011890912,3131.88132645097,2931.56536350333,2725.28576992282,2512.83902481162,2293.86931178362,2068.1192840667,1835.486414484,1595.70032824414,1348.42356576321,1093.71229681319,831.479362456191,561.67757132257,284.33022219543,0,0,"","","","",""]
["11_15_F",15,11,"F",null,901,0,360,830,1387,1992,1697,2155,2637,3144,3678,4240,4830,5451,6103,6788,7508,7626,7750,7878,8011,8150,8294,8444,8600,8761,8930,9104,9286,9475,9671,9875,10087,10307,10536,10774,11022,11279,11547,11825,12114,12415,12729,13055,13394,13747,14115,14498,14897,15312,15653,16008,16377,16761,17160,17575,16506,15394,14238,13035,11785,10484,9131,7725,6262,4741,4659,4573,4484,4391,4294,4193,4088,3978,3863,3744,3619,3489,3354,3213,3065,2912,2753,2586,2413,2233,2046,1851,1649,1438,1220,993,758,514,261,0,0,"","","","","","","","","","","",null,null,451.656406307871,1361.04475676782,2293.15767064126,3248.56455537167,3227.84945848271,4026.30893651205,4844.70018803528,5683.52181441513,6543.28524731866,7424.51508128307,8327.74941496729,9253.54291700232,10202.4591700504,11175.0789026048,12171.997802702,12295.6938909196,12422.4883554469,12552.4579748012,12685.6819072442,12822.2417722895,12962.2176465649,13105.6967994707,13252.7657501995,13403.5146869184,13558.036183181,13716.4298373395,13878.7967428023,14045.24283817,14215.8799314307,14390.8246493778,14570.1990910564,14754.1295739234,14942.7485805287,15136.1938952852,15334.6089611715,15538.1428614176,15746.9520400717,15961.2003929854,16181.060806122,16406.7178728332,16638.3686447593,16876.2223502562,17120.5053172277,17371.4614589905,17629.3516486605,17894.4634284718,18166.9765378905,18446.5556491336,18643.2753348144,18845.1570913924,19052.3078501556,19264.8163370093,19482.7439267017,19706.1344809463,18435.0149033481,17132.0769779808,15796.5236679521,14427.544868438,13024.2978642278,11585.9302937031,10111.5834324426,8600.41214732558,7051.63185584689,5464.51806407782,5338.45489243901,5209.87178625937,5078.78334369037,4945.18950216638,4809.04791398005,4670.26621636226,4528.70196461288,4384.20072950672,4236.58068932871,4085.58955623064,3931.04175665575,3772.67860162427,3610.23051972764,3443.4661790702,3272.22445325729,3096.16919465606,2915.00216635892,2728.61164985725,2536.66992718443,2338.92353616337,2135.09089053339,1925.02080643901,1708.3910529142,1485.20247965046,1255.08700928713,1018.04155672845,773.871640148513,522.658343559328,264.650341113721,0,0,"","","","","","","","","","",""]
["12_15_F",15,12,"F",null,889,0,361,832,1390,1997,1703,2165,2651,3163,3701,4267,4863,5488,6146,6837,7563,7686,7814,7947,8086,8230,8379,8535,8696,8864,9039,9220,9409,9605,9808,10020,10240,10469,10706,10953,11210,11477,11755,12044,12345,12657,12983,13321,13674,14041,14423,14822,15236,15578,15934,16303,16688,17087,17503,16435,15324,14168,12967,11717,10417,9065,7660,6198,4678,4597,4512,4425,4333,4237,4138,4034,3925,3812,3694,3571,3443,3309,3170,3025,2874,2716,2552,2382,2204,2019,1827,1627,1419,1204,980,748,507,258,0,0,"","","","","","","","","","","","",null,null,453.582179601326,1362.99794312793,2295.13856610483,3250.57358016329,3229.88716305902,4030.77088178467,4851.64629343103,5693.0136314184,6555.38600395446,7439.28972781721,8345.26728478092,9273.8699808503,10225.6658301499,11201.2374789557,12201.1825853887,12327.9993463703,12457.9912418205,12591.237332895,12727.8191396208,12867.8164430557,13011.3164033554,13158.4052341913,13309.1728106367,13463.7112885938,13622.1200317716,13784.4996994969,13950.9557852451,14121.5997371504,14296.5478127375,14475.9218287321,14659.8476191553,14848.4573636343,15041.8884384544,15240.2839639216,15443.7926913687,15652.5705296388,15866.7808241213,16086.5957974236,16312.199166146,16543.7869823109,16781.5674447525,17025.7656258025,17276.6240467588,17534.4021443418,17799.3856843206,18071.8882946439,18351.4556697206,18549.3602385432,18752.4530495456,18960.8439510521,19174.6197696704,19393.8455571296,19618.5629069454,18348.7992419977,17047.2467267284,15713.1134297698,14345.5800488245,12943.8150247596,11506.9615123323,10034.1616753652,8524.57125097667,6977.40637363863,5391.94308284838,5267.56596828252,5140.70522264654,5011.35966771603,4879.54527558708,4745.22310210029,4608.27820304604,4468.59724619044,4326.03451638138,4180.37668537928,4031.41955995068,3878.93882009953,3722.67799242748,3562.43974179365,3397.94267810285,3228.94896544026,3055.20099068822,2876.51735103315,2692.60626789065,2503.12716899492,2307.95076859274,2106.82662109908,1899.4773355248,1685.76020068958,1465.54142567493,1238.46459180548,1004.54533605018,763.619852612858,515.820770035157,261.125586293117,0,0,"","","","","","","","","","","",""]
["17_15_F",15,17,"F",null,823,0,366,844,1410,2025,1739,2223,2732,3268,3832,4424,5048,5703,6392,7115,7875,8023,8177,8338,8504,8678,8858,9045,9239,9441,9651,9869,10096,10332,10577,10831,11096,11372,11658,11956,12265,12588,12923,13272,13636,14014,14409,14820,15165,15524,15897,16285,16688,17107,16043,14936,13785,12588,11343,10048,8702,7301,5845,4330,4255,4177,4096,4011,3923,3831,3734,3634,3529,3420,3306,3187,3064,2935,2800,2660,2515,2363,2205,2040,1869,1691,1506,1314,1114,907,692,470,239,0,0,"","","","","","","","","","","","","","","","","",null,null,463.844976242994,1372.64021037057,2304.14275849085,3258.92228748846,3237.56312811624,4050.93324715493,4884.60437142127,5739.08513106816,6614.89725927641,7512.57593226815,8432.67011821031,9375.74032609394,10342.3613791408,11333.1229315052,12348.6246571874,12492.239432,12639.4379869284,12790.3084753307,12944.9407563606,13103.4329034979,13265.8831889807,13432.3946584663,13603.0767812626,13778.0437843008,13957.4159319309,14141.3163997117,14329.8757016071,14523.2289696494,14721.5175498915,14924.8883686922,15133.494391792,15347.4959375853,15567.0615808163,15792.3702166214,16023.6123998537,16260.9906677437,16504.7231878366,16755.0448262597,17012.2071205457,17276.4860670362,17548.1841212825,17827.6339474295,18032.0354789118,18241.7744605508,18456.9612665552,18677.688524787,18904.0224398247,19136.0119667079,17873.6854054931,16579.7383666508,15253.3773502473,13893.7909065946,12500.1461858923,11071.591093295,9607.26580842986,8106.34671986029,6568.0380379478,4991.62822701213,4876.49350664196,4759.05119213302,4639.31651212499,4517.29466919641,4392.93189813344,4266.14796284036,4136.8531458709,4004.8601095232,3870.01533634962,3732.10441419398,3590.93610626065,3446.29788696467,3297.90935714386,3145.59275075285,2989.17207037808,2828.37652273581,2662.89074814106,2492.56935110345,2317.15661241154,2136.49994964329,1950.3046951788,1758.38913560199,1560.56293956442,1356.61100193807,1146.50027321945,930.003856541063,707.109365309832,477.565826739432,241.739434779792,0,0,"","","","","","","","","","","","","","","","",""]
["22_15_F",15,22,"F",null,939,0,369,850,1421,2041,1760,2227,2719,3236,3780,4353,4954,5586,6250,6948,7680,7797,7918,8043,8174,8309,8449,8595,8747,8904,9067,9236,9412,9594,9783,9980,10184,10396,10617,10846,11083,11331,11588,11761,11941,12129,12323,12525,12736,12954,13182,13419,13667,13925,14194,14476,14771,15077,15395,15725,16067,16422,16790,15672,14508,13297,12036,10726,9362,7945,6471,4940,3348,3195,3035,2869,2696,2515,2328,2132,1929,1718,1499,1271,1035,790,536,272,0,0,"","","","","","","","","","","","","","","","","","","","","","",null,null,440.298215631838,1350.19772988264,2282.83026789848,3238.76671313317,3218.59265793869,4009.95091101086,4821.04964783723,5652.3810640456,6504.4496300488,7377.76742154881,8272.86422335011,9190.27806847659,10130.5607174204,11094.27556047,12082.0070308277,12195.402248807,12311.5817992547,12430.6160755882,12552.5786322722,12677.5486508251,12805.6040554802,12936.8308325406,13071.3164671922,13209.15417031,13350.4408901185,13495.274461306,13643.7575922392,13795.996899511,13952.1027041466,14112.1914437613,14276.3874161071,14444.8221163029,14617.636444999,14794.9821936094,14977.0226393937,15163.9353272425,15355.9145039988,15459.2754317549,15565.5874048914,15674.999975384,15787.679266902,15903.8056231397,16023.5812431112,16147.2361205377,16275.0467229092,16407.3457039387,16544.5239979824,16687.0298255194,16835.3641772046,16990.1058377728,17151.5160426436,17317.9491642456,17489.583112499,17666.6144789075,17849.184474816,18037.271614131,18230.6058744304,16928.5546637423,15593.7158518939,14224.8056510362,12820.5433922745,11379.571552352,9900.74082027826,8382.92642442894,6825.3144137921,5227.30793657261,3588.85668053621,3410.34786373187,3226.86386172104,3038.08233379495,2843.74190764231,2643.68315592953,2437.48566065462,2225.08624050555,2006.15727233578,1780.48231051746,1547.81720808836,1308.09415809796,1061.04147295508,806.58467743447,544.699633066873,275.812064712302,0,0,"","","","","","","","","","","","","","","","","","","","","",""]
["27_15_F",15,27,"F",null,878,0,374,862,1440,2069,1798,2285,2799,3339,3907,4505,5133,5793,6486,7214,7978,8117,8261,8411,8567,8728,8896,9070,9250,9438,9632,9834,10044,10261,10488,10723,10967,11221,11397,11580,11770,11967,12172,12385,12606,12837,13076,13326,13587,13859,14143,14440,14751,15074,15410,15758,16119,16493,15381,14224,13020,11767,10464,9109,7700,6235,4713,3131,2988,2838,2683,2521,2352,2177,1994,1804,1607,1402,1189,968,739,501,255,0,0,"","","","","","","","","","","","","","","","","","","","","","","","","","","",null,null,446.833209704593,1356.00639365837,2287.89077541408,3243.05625165376,3222.08578065818,4024.77620933012,4847.46537303438,5690.64552066942,6554.81853577273,7440.50361660744,8348.22866414438,9278.53555447466,10231.9838556891,11209.149260192,12210.6273078344,12338.9731364407,12470.4757207647,12605.2207614513,12743.3001173316,12884.8093485573,13029.8439082911,13178.5040605847,13330.8934344263,13487.1183272768,13647.2905664653,13811.5297122503,13979.9614328766,14152.7201569402,14329.9510131374,14511.8089787579,14698.462084341,14890.0938005848,14999.1058600638,15111.119135364,15226.2739454557,15344.726974725,15466.6507617581,15592.238147941,15721.7073647097,15855.3163670516,15993.3731171232,16136.2403499949,16284.3371267232,16438.1367482618,16598.1874942638,16765.1596969358,16939.7820202193,17119.783396605,17305.3503013116,17496.6233195525,17693.5823285286,17895.9626809355,16603.1431877838,15277.7129027754,13918.4052202601,12523.9269113858,11092.9832552429,9624.36946814726,8117.03635936736,6570.15472896713,4983.16602172688,3355.99320094529,3189.06421629464,3017.51621523864,2840.99525241378,2659.30273812432,2472.23761998782,2279.45192141727,2080.82977771633,1876.12720583757,1665.06266534206,1447.49125641167,1223.26902347593,992.248419822867,754.272960540899,509.488165413389,257.894561040896,0,0,"","","","","","","","","","","","","","","","","","","","","","","","","","",""]
["28_15_F",15,28,"F",null,865,0,375,865,1445,2076,1807,2299,2818,3363,3937,4540,5174,5840,6540,7275,8046,8190,8340,8495,8656,8824,8997,9177,9364,9558,9760,9969,10186,10412,10646,10890,11143,11320,11503,11693,11891,12097,12310,12532,12763,13004,13254,13515,13788,14072,14370,14681,15006,15342,15692,16054,16430,15319,14163,12961,11710,10408,9055,7648,6185,4664,3084,2943,2796,2643,2483,2317,2144,1964,1777,1583,1381,1171,953,727,493,251,0,0,"","","","","","","","","","","","","","","","","","","","","","","","","","","","",null,null,448.416837468227,1357.53661395196,2289.36494233638,3244.47009090121,3223.43658116852,4028.64436572241,4853.90539844569,5699.71048149736,6566.56692960264,7454.99054646777,8365.51053288381,9298.67309921629,10255.04000554,11235.192224469,12239.7226580148,12371.2890155574,12506.0944718291,12644.2306019791,12785.7926749662,12930.8756416603,13079.5792506672,13232.0065002196,13388.2628369992,13548.4591131023,13712.7138868288,13881.151593225,14053.9052909404,14231.1186986316,14412.9450360401,14599.5503186301,14791.1157345152,14901.3401493471,15014.5767577753,15130.9639315818,15250.6563658574,15373.824958825,15500.6605837419,15631.3789956102,15766.2342427679,15905.5290729631,16049.6202672521,16198.9207345934,16353.8979418782,16515.0937443463,16683.1697906446,16858.9806909227,17040.7532648189,17228.1418728575,17421.2631196455,17620.1106822859,17824.4026085883,16533.5382255934,15210.1127125385,13852.8356557256,12460.413163017,11031.5931479035,9565.13740373063,8059.9993469448,6515.35362609429,4930.71590816213,3305.96162682452,3141.53119639608,2972.48304797405,2798.55794174719,2619.58073968458,2435.25412206382,2245.36737871144,2049.69907526093,1848.01328532371,1640.04052649553,1425.65414693528,1204.73831758936,977.189834944505,742.923938000591,501.886307421701,254.076076651908,0,0,"","","","","","","","","","","","","","","","","","","","","","","","","","","",""]
["33_15_F",15,33,"F",null,794,0,382,882,1473,2116,1860,2379,2925,3500,4104,4740,5407,6109,6845,7618,8430,8601,8779,8964,9156,9354,9561,9775,9998,10229,10469,10719,10899,11085,11279,11480,11689,11906,12131,12366,12609,12863,13127,13402,13689,13989,14303,14632,14975,15331,15701,16084,14981,13833,12639,11396,10104,8760,7363,5910,4400,2831,2702,2567,2426,2279,2127,1968,1803,1632,1453,1268,1075,875,668,453,230,0,0,"","","","","","","","","","","","","","","","","","","","","","","","","","","","","","","","","",null,null,457.156350286412,1365.60409041865,2296.72795209873,3251.09605618653,3229.2905625677,4047.76443605199,4886.5701917789,5746.20586825611,6627.18551213556,7530.03318089837,8455.29294514269,9403.5227884655,10375.3004406396,11371.2218466156,12391.8967746313,12540.8775086498,12693.5525371261,12850.0227067045,13010.3935937998,13174.7783377288,13343.2946980423,13516.0683162387,13693.2352786033,13874.9392843948,14061.3354309487,14252.5925369504,14369.493924209,14489.4694440776,14612.6469760184,14739.1705057055,14869.2021322625,15002.9221612662,15140.5330328052,15282.2677271353,15428.4008446374,15579.2570347595,15735.216038379,15896.713924704,16064.2579940455,16238.4631369011,16420.1142402066,16610.2515255355,16807.5765089714,17010.8441749892,17220.0210774524,17434.845741141,16154.7070348135,14842.2129946351,13496.0939962297,12115.0860588745,10697.8916727528,9243.34356855223,7750.38666236738,6218.23793145072,4646.39735581718,3034.78754584736,2883.82565414671,2728.62439966126,2568.9980843837,2404.75511343258,2235.56464215225,2061.29983431503,1881.70270435338,1696.47391502061,1505.6156599284,1308.79800748831,1106.0302356251,897.152662099047,681.977884957799,460.587888483735,233.221277296664,0,0,"","","","","","","","","","","","","","","","","","","","","","","","","","","","","","","","",""]
["39_15_F",15,39,"F",null,695,0,394,908,1517,2178,1942,2500,3087,3705,4354,5036,5753,6506,7296,8125,8996,9206,9425,9652,9887,10132,10316,10508,10706,10912,11126,11347,11577,11817,12065,12323,12592,12871,13163,13466,13784,14115,14463,14829,15208,15601,14509,13372,12190,10959,9680,8349,6965,5526,4032,2478,2365,2247,2123,1995,1862,1723,1578,1428,1272,1110,941,766,585,397,202,0,0,"","","","","","","","","","","","","","","","","","","","","","","","","","","","","","","","","","","","","","","",null,null,470.370474858586,1377.47077454613,2307.18546806554,3260.08149902714,3236.74429828967,4073.17243453092,4930.31691543676,5808.69017693386,6708.81590066038,7631.23367000322,8576.49762158757,9545.17486944088,10537.8490307736,11555.124347259,12597.6227089807,12770.5374026664,12947.7564378726,13129.410426406,13315.639450488,13506.5953132671,13632.9399353189,13762.449799488,13895.2384954955,14031.435447344,14171.1908672034,14314.670759118,14462.0595001054,14613.5613353272,14769.4124098533,14929.8934942138,15095.339113656,15266.1426703087,15442.7645552368,15625.7560572727,15815.8069911858,16013.8181845403,16220.994185137,16438.3831979282,16661.9686494696,16891.4826970011,15626.3075291349,14329.0708427749,12998.501751246,11633.3685414521,10232.3753470771,8794.39845785093,7318.4399805366,5803.73019528765,4249.70480372342,2656.41497271143,2524.28672132943,2388.43419528043,2248.76882264642,2104.99856774122,1956.88982221821,1804.3108892488,1647.1411114888,1485.10652640135,1318.04793281923,1145.7872016677,968.338582121329,785.540063324102,597.189926108583,403.335131322706,204.142050026677,2.8421709430404e-14,0,"","","","","","","","","","","","","","","","","","","","","","","","","","","","","","","","","","","","","","",""]
["44_15_F",15,44,"F",null,600,0,406,936,1563,2245,2029,2627,3256,3917,4611,5341,6108,6912,7757,8644,9573,9763,9959,10162,10373,10591,10818,11053,11297,11550,11813,12087,12371,12667,12974,13295,13630,13981,14348,14735,15138,14056,12930,11758,10540,9272,7954,6583,5158,3678,2139,2041,1939,1833,1722,1607,1487,1363,1233,1098,958,812,661,505,342,174,0,0,"","","","","","","","","","","","","","","","","","","","","","","","","","","","","","","","","","","","","","","","","","","","",null,null,484.931393749515,1390.86134817058,2319.34778235609,3270.95984783647,3246.28462580693,4100.02775637373,4974.84836391092,5871.25851652854,6789.78613726821,7730.97211087062,8695.37385559401,9683.56964015113,10696.1539321352,11733.742372122,12796.9752061832,12932.5508451359,13071.3851899793,13213.5785511316,13359.2468515133,13508.5293829006,13661.5789774086,13818.5633184969,13979.6598934447,14145.0689539427,14315.0303404643,14489.8365035509,14669.8413179442,14855.4617803626,15047.1901786888,15245.6278290636,15451.5455530289,15665.9687015745,15890.2713600514,16126.2689931781,16369.8602251923,15119.0352093095,13836.4171857216,12520.7925495919,11170.8658998103,9785.45076153707,8363.38894288063,6903.73009381161,5405.7057144637,3868.8107420131,2293.09729267127,2179.06859294798,2061.84653625883,1941.23703081676,1817.13310075435,1689.31076949064,1557.64065982849,1421.8397063933,1281.89063635458,1137.64536378488,988.931869634716,835.763596011863,677.967018789066,515.311163123212,348.102249771284,176.237741030225,0,0,"","","","","","","","","","","","","","","","","","","","","","","","","","","","","","","","","","","","","","","","","","","",""]
["45_15_F",15,45,"F",null,579,0,408,942,1573,2259,2048,2654,3292,3962,4667,5407,6185,7001,7857,8756,9641,9838,10043,10255,10474,10702,10938,11183,11438,11702,11976,12262,12558,12867,13189,13525,13876,14243,14631,15036,13956,12832,11663,10447,9182,7867,6499,5077,3600,2064,1970,1871,1769,1662,1551,1435,1315,1190,1059,924,784,638,487,330,168,0,0,"","","","","","","","","","","","","","","","","","","","","","","","","","","","","","","","","","","","","","","","","","","","","",null,null,488.09108143181,1393.52686444556,2321.49921900106,3272.57747003484,3247.34836707767,4104.6416956094,4983.07903658723,5883.17456531181,6805.45465784493,7750.46119583474,8718.75569716064,9710.91465988647,10727.5342059018,11769.233242237,12778.7506118141,12919.6741552792,13063.9754727803,13211.767578184,13363.1874269222,13518.3850275126,13677.52447539,13840.7774732447,14008.3364994032,14180.4325343935,14357.3489378252,14539.431072843,14727.0866023056,14920.7950960336,15121.1387435309,15328.8602278184,15544.9461009225,15770.7216558677,16007.945089994,16254.6453572027,15006.9936983695,13727.6202900496,12415.2892421239,11068.7442089586,9686.77243863006,8268.22188945352,6812.15053969032,5317.80116999158,3784.68300573389,2212.86696267538,2102.79502950434,1989.68785705137,1873.28413853066,1753.49108746405,1630.10461465986,1503.02316962664,1372.0027095622,1236.91120017247,1097.79687280768,954.378178451756,806.489839148966,654.175568389278,497.285479112676,335.942009430149,170.069420094167,0,0,"","","","","","","","","","","","","","","","","","","","","","","","","","","","","","","","","","","","","","","","","","","","",""]
["50_15_F",15,50,"F",null,468,0,424,977,1632,2343,2159,2813,3501,4224,4984,5737,6528,7357,8226,9138,10093,10335,10587,10847,11118,11398,11689,11992,12306,12633,12973,13327,13698,14086,14495,13427,12316,11160,9957,8706,7406,6053,4648,3187,1669,1593,1513,1430,1344,1254,1160,1063,962,857,747,634,516,394,267,136,0,0,"","","","","","","","","","","","","","","","","","","","","","","","","","","","","","","","","","","","","","","","","","","","","","","","","","",null,null,508.161163701203,1412.27235475487,2338.83564386639,3288.4172669127,3261.60254366945,4138.91039370632,5037.72219290541,5958.5499767859,6901.92092909493,7821.57342877203,8763.58286233687,9728.47156040052,10716.7870518033,11729.1165404017,12766.0766038682,12936.7397261412,13111.5292250167,13290.597118303,13474.1282870464,13662.3588563402,13855.5900803106,14054.1812933551,14258.5461048522,14469.1673062881,14686.6411853185,14911.7523818161,15145.5723925796,15389.5618274076,15645.6668644476,14414.7995717403,13152.5219217787,11857.6259128336,10528.8962259194,9165.13311726112,7765.19381189062,6328.19498146653,4853.33320175164,3340.24389607197,1788.94236782754,1699.94889367856,1608.4938817684,1514.42446301109,1417.56278438728,1317.82298591244,1215.12749485859,1109.25487831434,1000.093750836,887.524632688549,771.615415436325,652.061539998782,528.920240999163,402.053393186848,271.592363179834,137.465438003575,0,0,"","","","","","","","","","","","","","","","","","","","","","","","","","","","","","","","","","","","","","","","","","","","","","","","","",""]
["4_10_F",10,4,"F",null,671,0,361,835,1400,2018,1723,2239,2786,3365,3978,4625,4675,4728,4782,4838,4897,4958,5021,5087,5156,5227,5301,5378,5458,5541,5628,5718,5811,5908,6009,6115,6224,6337,6455,6578,6705,6838,6975,7119,7267,7422,7583,7750,7924,8105,8293,8489,8693,8905,9125,9355,9594,9843,10102,10372,10652,10876,11109,11352,11604,11866,12138,11421,10676,9900,9094,8255,7383,6475,5532,4551,3531,3470,3406,3340,3270,3198,3123,3045,2963,2877,2788,2695,2599,2498,2393,2283,2169,2050,1926,1797,1663,1524,1379,1228,1071,909,740,564,383,195,0,0,"","","","",null,null,559.534532424188,1473.95124013466,2411.22580933964,3371.93091983381,3356.65301915811,4206.71914368225,5078.02301128004,5971.09466131587,6886.47935728726,7824.731910553,7885.96084223972,7948.71593861514,8013.03613785773,8078.96137927061,8146.53262922136,8215.79190775924,8286.78231592725,8359.5480637877,8434.13605527435,8510.59121207763,8588.96124404966,8669.29508955915,8751.6429473708,8836.0563093584,8922.58692646209,9011.28815000763,9102.21498641645,9195.42256439782,9290.96971489492,9388.91592081654,9489.3231559335,9592.2555983217,9697.78103576937,9805.96942368629,9916.89401300161,10030.6314676806,10147.2617200479,10266.8678408129,10389.5368940463,10515.3589949372,10644.4284114376,10776.8426828866,10912.7031635937,11052.1173093914,11195.1976344031,11342.0633099093,11492.8425661475,11647.6726615703,11806.6991493873,11970.0803114439,12137.9869561968,12310.6014610901,12487.7463528027,12669.5018977428,12855.9827715106,12980.2062900994,13107.7131969935,13238.569965696,13372.8347156256,13510.544250861,13651.7258517626,12796.392281162,11919.6649622754,11021.016512931,10099.8970830999,9155.7495161574,8187.99428456604,7196.06186701244,6179.38130875016,5137.42505281337,4069.7102384269,3975.82843326531,3880.06894439618,3782.43825098447,3682.95493223577,3581.56974498135,3478.21250024042,3372.77551593592,3265.1515523022,3155.21762375788,3042.79174701484,2927.71626631225,2809.75286250105,2688.77327204494,2564.57835678152,2437.02956501823,2305.89637137552,2171.0132461793,2032.20595938481,1889.28571494696,1742.04150549281,1590.22990963848,1433.73148097788,1272.43634823084,1106.23982742262,934.810679566476,758.18456221843,576.494011496316,389.40066870925,197.092540385468,0,0,"","","",""]
["10_10_F",10,10,"F",null,628,0,364,843,1413,2037,1748,2279,2842,3437,4067,4733,4796,4861,4929,5000,5073,5150,5229,5312,5398,5487,5580,5677,5777,5881,5990,6102,6219,6341,6468,6599,6736,6878,7025,7179,7338,7504,7677,7856,8043,8237,8438,8648,8867,9094,9331,9578,9835,10103,10381,10607,10842,11087,11341,11605,11880,11166,10423,9651,8847,8011,7142,6238,5298,4321,3304,3247,3188,3126,3061,2993,2923,2849,2773,2693,2610,2523,2432,2338,2239,2137,2030,1919,1803,1682,1557,1426,1290,1149,1002,850,692,528,358,182,0,0,"","","","","","","","","","",null,null,565.424122791255,1479.91511863956,2417.26074841586,3378.03252855797,3362.81775752485,4221.52144941504,5101.67086918296,6003.80314549131,6928.46922556642,7876.23423331158,7947.29392901197,8020.12896481216,8094.78659334384,8171.31139770372,8249.75108870482,8330.15460570101,8412.57214846717,8497.05520991286,8583.65519445329,8672.42509836898,8763.41956428797,8856.69265335268,8952.30279722395,9050.30837499653,9150.77022914191,9253.75103090476,9359.31771762788,9467.5386782139,9578.48555704275,9692.23371715957,9808.86175577851,9928.45172018251,10051.0889287052,10176.8623983005,10305.8649205888,10438.1928648831,10573.9463818904,10713.2309934084,10856.1572241479,11002.8418499773,11153.4099387212,11307.995144338,11466.739307201,11629.7961834509,11797.3315645886,11969.5226504162,12146.5651965536,12328.2718078854,12514.6946474051,12643.1505937851,12774.9870017361,12910.2723517242,13049.0670444674,13191.4106969684,13337.3300494014,12486.8401394572,11615.068577959,10721.4811029472,9805.53931552494,8866.6839463607,7904.33899800959,6917.93152526541,5906.90133897538,4870.71516246496,3808.90181438887,3721.04397215937,3631.41715298643,3540.04215331327,3446.92266841246,3352.0352742645,3255.2970222934,3156.64370691123,3055.92162934321,2953.01772481475,2847.76390557634,2740.02117189193,2629.63821496636,2516.40050872168,2400.20764441388,2280.80397099139,2158.06817638884,2031.78204798427,1901.80562668174,1767.99775682519,1630.07289106237,1487.98160952402,1341.55186083121,1190.58566575846,1035.04307615292,874.692556289351,709.472400843222,539.345408470592,364.315903559463,184.462168944969,0,0,"","","","","","","","","",""]
["11_10_F",10,11,"F",null,620,0,365,844,1416,2040,1753,2287,2853,3451,4084,4754,4819,4887,4958,5031,5108,5187,5269,5355,5445,5537,5634,5734,5838,5946,6059,6176,6297,6423,6555,6691,6833,6980,7134,7293,7458,7631,7810,7996,8190,8391,8601,8819,9046,9283,9529,9785,10052,10330,10557,10792,11037,11292,11557,11832,11119,10376,9604,8801,7966,7098,6194,5255,4278,3262,3206,3147,3086,3022,2955,2886,2813,2738,2659,2576,2491,2401,2308,2211,2110,2004,1894,1780,1661,1537,1408,1274,1135,990,840,684,522,354,180,0,0,"","","","","","","","","","","",null,null,566.420929318541,1480.77052245709,2417.96974104081,3378.59118146964,3363.22216218205,4223.36259471177,5104.98416804997,6008.6250248254,6934.83715500065,7884.1867548,7957.03602462737,8031.7079861141,8108.24716028543,8186.70125902474,8267.11922278379,8349.55125246351,8434.04884212848,8520.66333277643,8609.44765571728,8700.45638701394,8793.74339048391,8889.3670247005,8987.38546478012,9087.85934415566,9190.85105530003,9296.42737880917,9404.6564138341,9515.60950762479,9629.36178294664,9745.99159044247,9865.58078879394,9988.21437360171,10113.9811594504,10242.9736654182,10375.2880452486,10511.0242279124,10650.2873778693,10793.1876522975,10939.8413842222,11090.3730562839,11244.9156552866,11403.6103344738,11566.6100120626,11734.079550589,11906.1951912508,12083.1515042067,12264.8523474204,12451.2672710821,12580.512395809,12713.1569692499,12849.2700586532,12988.9098631854,13132.1161191739,13278.9191735976,12429.3310428668,11558.4835900446,10665.8434567738,9750.86794047523,8812.99766384847,7851.65657243488,6866.27925319199,5856.2988550008,4821.1913798519,3760.47691644395,3673.73732702954,3585.26176022913,3495.0582900399,3403.13027678421,3309.45437372437,3213.94828641818,3116.54914929026,3017.10539687044,2915.50698277328,2811.63857268544,2705.27290922214,2596.31101032756,2484.547146934,2369.81500123566,2251.93376067818,2130.79724992346,2006.20725578076,1877.93420806933,1745.83121130513,1609.74627910405,1469.51912342322,1324.97820562989,1175.92665576378,1022.32649444634,863.949505313028,700.739535321796,532.668747000364,359.757521210016,182.112332397899,2.8421709430404e-14,0,"","","","","","","","","","",""]
["16_10_F",10,16,"F",null,577,0,369,854,1433,2065,1785,2336,2919,3537,4190,4880,4959,5041,5126,5214,5306,5402,5502,5605,5712,5824,5940,6061,6186,6316,6452,6592,6739,6891,7049,7213,7384,7561,7746,7938,8137,8345,8561,8786,9021,9264,9518,9783,10059,10287,10525,10772,11029,11297,11575,10863,10124,9355,8555,7722,6857,5957,5021,4048,3036,2983,2929,2872,2812,2750,2686,2618,2548,2474,2398,2318,2235,2148,2057,1963,1865,1763,1656,1546,1430,1310,1186,1056,921,781,636,485,329,167,0,0,"","","","","","","","","","","","","","","","",null,null,572.290169554923,1485.94927454543,2422.43881001558,3382.33146875353,3366.2146824058,4234.16286256982,5123.78700630994,6035.62903695132,6970.24656165211,7928.21155174569,8010.71912226207,8095.29241578234,8181.98243082732,8270.84174783283,8361.92458336675,8455.28373865029,8550.97717758131,8649.06197678001,8749.59764390278,8852.64507062671,8958.27019277849,9066.53954950902,9177.52288830087,9291.29403773841,9407.9300203603,9527.51167836002,9650.12226950752,9775.84951766729,9904.78447375664,10037.0221296095,10172.6612190171,10311.8049819548,10454.5615961536,10601.0450100545,10751.3765560868,10905.6856298283,11064.1096856524,11226.7971317196,11393.9078306215,11565.6128639095,11742.1004217161,11923.5769357767,12109.9326034803,12243.4110196711,12380.3838435294,12520.9242174467,12665.0926185212,12812.9284065712,12964.4641420695,12119.721855136,11253.8241585019,10366.2431156093,9456.43786720934,8523.85753762978,7567.92435317408,6588.06946273564,5583.73676301821,4554.3965123965,3499.56946501027,3418.85009547793,3336.50309927503,3252.55078682537,3167.00179734853,3079.81896331925,2990.92649939676,2900.27251139104,2807.72154474458,2713.18545113487,2616.480057866,2517.49168618901,2416.04074828391,2312.00395712837,2205.25626277661,2095.585017576,1982.83094966705,1866.81976970806,1747.47154133922,1624.4712795321,1497.83445184606,1367.33792363818,1232.7089321581,1093.9670960736,950.995380101907,803.662542609105,651.810822134359,495.52014397464,334.67275606023,169.4819609574,0,0,"","","","","","","","","","","","","","","",""]
["21_10_F",10,21,"F",null,653,0,372,862,1445,2082,1808,2350,2924,3532,4174,4853,4916,4980,5047,5117,5190,5265,5343,5424,5508,5596,5686,5781,5878,5980,6085,6195,6308,6426,6549,6676,6808,6945,7088,7236,7389,7549,7715,7888,8003,8122,8245,8374,8508,8647,8791,8942,9099,9263,9434,9613,9800,9994,10196,10405,10623,10849,11083,11325,10577,9798,8987,8144,7266,6354,5405,4419,3394,2328,2222,2111,1995,1875,1749,1619,1483,1342,1195,1042,884,720,549,372,189,0,0,"","","","","","","","","","","","","","","","","","","","","",null,null,557.188229375433,1472.20312619423,2410.08064314794,3371.39485798774,3356.73463675576,4210.95126977094,5086.49357408077,5983.89481334509,6903.70172251598,7846.47499571211,7911.6496225587,7978.44185619379,8046.88824695335,8117.02695820206,8188.89603487742,8262.53892397401,8337.99742963788,8415.31547393431,8494.5407001711,8575.72287642479,8658.91532746823,8744.17097870578,8831.54772962997,8921.10470643543,9012.90466092529,9107.01285289808,9203.49557462726,9302.4223959515,9403.86573402235,9507.90093631503,9614.60768940568,9724.07097736594,9836.38106734344,9951.63478455774,10069.9363006775,10191.3981733396,10316.143013101,10444.3051276602,10510.7340605939,10579.108969206,10649.5337002982,10722.1232450837,10797.0013533732,10874.3070412545,10954.1989309036,11036.8696387519,11122.5519997463,11211.519277957,11304.083371908,11400.590723509,11501.4409111864,11605.5042021618,11712.8365184889,11823.5655714804,11937.8115281406,12055.6660948343,12177.1220862006,12302.0101856115,11429.8926642847,10535.8357190184,9618.99642514161,8678.46692271695,7713.41763201065,6722.9887704622,5706.49272821551,4663.31802257501,3593.10646952446,2495.83507070705,2371.69293356034,2244.06450911839,2112.80382098167,1977.64687376355,1838.52743462265,1695.13419639748,1547.38130201771,1395.04492478376,1238.03909347463,1076.29496268373,909.536210301683,737.630284003723,560.709423216242,378.755335075321,191.805408154561,0,0,"","","","","","","","","","","","","","","","","","","","",""]
["26_10_F",10,26,"F",null,613,0,377,872,1462,2107,1841,2399,2990,3616,4277,4976,5051,5128,5209,5292,5379,5469,5562,5659,5760,5864,5972,6085,6202,6323,6449,6579,6715,6856,7002,7154,7312,7476,7647,7763,7884,8009,8139,8275,8416,8562,8714,8873,9039,9211,9391,9580,9777,9982,10195,10416,10646,10884,11130,10386,9612,8806,7967,7095,6188,5245,4264,3245,2186,2086,1982,1873,1760,1642,1520,1392,1260,1122,979,830,676,516,350,178,0,0,"","","","","","","","","","","","","","","","","","","","","","","","","","",null,null,560.17746034279,1474.18161352231,2411.02047311065,3371.26720704329,3355.50975037983,4216.55923280715,5099.08840881693,6003.62985641939,6930.72961382958,7880.94584043257,7954.80251568294,8030.47137569307,8107.99500564307,8187.41999527036,8268.79503348593,8352.17265425294,8437.60434274194,8525.14715145482,8614.85902309842,8706.80180968006,8801.03984707868,8897.63785036918,8996.66377034161,9098.18804744107,9202.28337088206,9309.02638250949,9418.49893711225,9530.78745547054,9645.98449114807,9764.18981753199,9885.51051617887,10010.0629214722,10137.9742333871,10208.0850750413,10280.1739444322,10354.3385731845,10430.6876965766,10509.3398781055,10590.4279203137,10674.1026426739,10760.544407784,10849.9697179886,10942.6331810696,11038.8273902998,11138.8804318179,11243.171653541,11352.1666192236,11464.8714941538,11581.082469798,11700.9314178501,11824.4990039554,11951.7788538705,12082.6050182869,11216.5469944868,10328.6552531525,9418.09399054078,8484.00385819807,7525.49873431596,6541.77488500254,5532.11675471805,4495.99167849076,3433.01430978796,2343.11588697937,2226.58717923863,2106.76825255662,1983.54821715008,1856.71097686426,1726.1278573366,1591.53090696688,1452.8955161345,1309.91490354333,1162.5586254136,1010.63461603637,854.125462471638,692.8090518552,526.660185663519,355.704107762971,180.056225419213,0,0,"","","","","","","","","","","","","","","","","","","","","","","","","",""]
[{"$f":"C454&\"_\"&B454&\"_\"&D454","v":"27_10_F"},10,27,"F",null,605,0,378,875,1467,2114,1851,2413,3008,3638,4304,5008,5085,5166,5249,5335,5425,5518,5615,5716,5820,5928,6040,6157,6278,6403,6534,6669,6809,6955,7107,7265,7429,7599,7715,7836,7962,8093,8228,8370,8516,8669,8828,8994,9167,9347,9536,9733,9939,10153,10375,10605,10844,11091,10348,9574,8769,7932,7061,6154,5212,4233,3215,2157,2059,1956,1849,1737,1621,1500,1374,1243,1107,966,819,667,509,345,176,0,0,"","","","","","","","","","","","","","","","","","","","","","","","","","","",null,null,561.358710467099,1475.66109641611,2412.80462607756,3373.3626719311,3357.92204671167,4220.88332016662,5105.36538426792,6011.90154945018,6941.03678441364,7893.33455115697,7969.04748976874,8046.61429807219,8126.08135683671,8207.4971409555,8290.91402802745,8376.38321722481,8463.96159359851,8553.70686527475,8645.6807064047,8739.94727026571,8836.57095896733,8935.61940207204,9037.16264748901,9141.272855942,9248.0260637673,9357.50350351589,9469.79083074873,9584.97974910605,9703.16915698112,9824.46504604405,9948.98250137476,10076.8473079943,10147.698312673,10220.5338902793,10295.4505590737,10372.5558136931,10451.9671912313,10533.816263843,10618.2523047454,10705.4532439965,10795.6323399345,10889.0404953445,10985.9664717928,11086.7347158801,11191.7205655886,11301.3841701562,11415.1614901354,11532.4646245884,11653.4245324105,11778.1353841098,11906.5779254637,12038.585682479,11173.7280070688,10287.083613657,9377.79602734491,8444.97143920321,7487.75702954568,6505.40142244077,5497.15541834022,4462.43271322832,3400.90712753003,2312.52051944902,2197.49153856789,2079.24451769419,1957.5819835384,1832.39225798656,1703.44483895527,1570.60127631626,1433.72049670697,1292.65826022977,1147.25727818631,997.331852914126,842.874570478154,683.67926393764,519.746728862978,351.145725413525,177.706388872144,0,0,"","","","","","","","","","","","","","","","","","","","","","","","","","",""]
["32_10_F",10,32,"F",null,559,0,385,890,1493,2152,1900,2483,3101,3755,4446,5176,5268,5364,5463,5566,5673,5784,5899,6019,6143,6272,6405,6544,6688,6838,6993,7155,7323,7441,7565,7692,7825,7963,8106,8255,8410,8571,8738,8913,9095,9286,9485,9693,9911,10137,10371,10615,10867,10129,9360,8560,7729,6863,5963,5028,4055,3044,1993,1902,1807,1708,1605,1497,1386,1269,1149,1023,892,757,616,470,319,162,0,0,"","","","","","","","","","","","","","","","","","","","","","","","","","","","","","","","",null,null,566.010141950637,1479.75236163318,2416.3108004523,3376.25626239651,3360.17630317289,4231.56077300619,5124.63423620661,6039.9336376725,6978.01103187958,7939.43653236071,8025.14072557552,8112.94352189928,8202.90129850421,8295.07472463656,8389.52692205205,8486.32051421477,8585.5213054443,8687.19711026944,8791.41707730223,8898.25379024754,9007.78493436067,9120.09179944547,9235.26123932071,9353.38716055633,9474.56933300348,9598.91570835549,9726.54399133128,9801.68288013141,9878.84511541037,9958.12032029144,10039.6089448212,10123.4227160188,10209.6862354116,10298.5400059374,10390.1481245401,10484.7053867335,10582.4416134416,10683.623781836,10788.5556782839,10897.5898892067,11011.1558135483,11129.8057543265,11253.4115128775,11380.8067619235,11512.0874704708,11647.2213003936,11786.0431227828,10928.1272708353,10048.5621771796,9146.50659947707,8221.05092213187,7271.40042372757,6296.74188040669,5296.33818203491,4269.68208439279,3216.42058136392,2136.52771111489,2030.26477084891,1921.01746203158,1808.63113829063,1692.93621677953,1573.86848865502,1451.10868770725,1324.70383147683,1194.27917029212,1059.8816987076,921.435371981066,778.642931438163,631.583422440454,480.164690565836,324.286737991417,164.194828726493,0,0,"","","","","","","","","","","","","","","","","","","","","","","","","","","","","","","",""]
["36_10_F",10,36,"F",null,517,0,391,905,1518,2188,1948,2551,3190,3866,4581,5336,5441,5551,5665,5784,5907,6034,6166,6303,6446,6594,6747,6907,7072,7193,7318,7448,7582,7722,7867,8018,8175,8338,8507,8684,8868,9060,9260,9470,9690,9920,10158,10406,10662,9928,9165,8370,7543,6683,5789,4859,3892,2887,1843,1759,1671,1580,1484,1385,1282,1174,1062,946,825,700,570,435,295,150,0,0,"","","","","","","","","","","","","","","","","","","","","","","","","","","","","","","","","","","","",null,null,570.164584639491,1482.89858319344,2418.40766947052,3377.26289562404,3360.05180023818,4238.51859475344,5138.81543367806,6061.48636930587,7007.0899314519,7976.20379781517,8070.85756299431,8167.8392602401,8267.213059733,8369.04477201469,8473.40083516109,8580.35072359114,8689.96892911199,8802.33280625287,8917.5248360183,9035.63442570583,9156.75573122289,9280.9902655617,9408.44843843939,9487.54977910437,9568.7115586738,9652.01722601202,9737.56093141881,9825.44923326597,9915.80052313976,10008.7474755045,10104.4417856809,10203.0616742054,10304.8180427284,10409.958346372,10518.767904359,10631.5789835777,10748.7934754712,10870.9226431604,10998.6423947718,11131.910242343,11269.1805392844,11410.4225791648,11555.47586373,10703.9237768042,9830.81365723681,8935.33631579654,8016.63358759221,7073.85793551529,6106.20811790519,5113.01839012274,4093.76015183087,3048.11084688128,1976.00718567626,1877.73701007806,1776.7218217069,1672.74993116024,1565.79653105019,1455.62284138609,1342.06829746617,1225.10507862563,1104.58034641998,980.313425639319,852.280313137486,720.264257139168,584.217073453107,444.113322544764,299.966257309148,151.858186854377,0,0,"","","","","","","","","","","","","","","","","","","","","","","","","","","","","","","","","","","",""]
["43_10_F",10,43,"F",null,433,0,406,940,1576,2272,2058,2706,3391,4116,4882,5691,5825,5964,6109,6259,6414,6576,6700,6829,6963,7102,7246,7395,7550,7711,7879,8052,8233,8421,8616,8820,9033,9255,9487,9732,9988,10253,9528,8774,7989,7172,6323,5440,4521,3567,2575,1544,1473,1400,1323,1243,1160,1073,983,890,792,691,586,477,364,247,126,0,0,"","","","","","","","","","","","","","","","","","","","","","","","","","","","","","","","","","","","","","","","","","","",null,null,580.648686460028,1492.0978680063,2426.25601955476,3383.69763924666,3365.01400793865,4258.38344302867,5173.88796609897,6112.07624697015,7073.51271069062,8058.78097221923,8171.37553432331,8286.73298271747,8404.93390031065,8526.06141420035,8650.20438151889,8777.45886816414,8864.62635475137,8953.93349950501,9045.45176401583,9139.26309300297,9235.46411316798,9334.16125646249,9435.47207399553,9539.52413866378,9646.46336201309,9756.46378807306,9869.73492395082,9986.52633552893,10107.1310015811,10231.8974926444,10361.2572711124,10495.7691626418,10636.1786899065,10783.4798608072,10936.9431246099,11094.4444431717,10255.5773419663,9395.4082396955,8513.12504198752,7607.89896565371,6678.87984438789,5725.3041452315,4746.55557134035,3742.04662205995,2711.49547393171,1654.89334614124,1572.60054723374,1487.94450517732,1400.88233684745,1311.28071410295,1218.98659019275,1123.95909132327,1026.02867386218,924.987710480773,820.940081010994,713.677967433419,603.139697453106,489.267823666183,372.010586502622,251.32529594461,127.184903110146,0,0,"","","","","","","","","","","","","","","","","","","","","","","","","","","","","","","","","","","","","","","","","","",""]
["44_10_F",10,44,"F",null,419,0,409,946,1585,2284,2075,2730,3422,4155,4928,5746,5884,6028,6178,6333,6494,6619,6749,6883,7023,7167,7317,7473,7635,7803,7977,8158,8347,8543,8747,8961,9183,9416,9661,9918,10185,9461,8709,7925,7110,6263,5382,4465,3513,2523,1494,1426,1354,1280,1203,1123,1039,952,861,767,669,567,462,352,239,122,0,0,"","","","","","","","","","","","","","","","","","","","","","","","","","","","","","","","","","","","","","","","","","","","",null,null,581.989624371532,1492.693140674,2426.08126974751,3382.72743186935,3363.22317036892,4258.47891258241,5175.89934122192,6116.03274206749,7079.44552673048,8066.72006779759,8182.11837551563,8300.34821869042,8421.49090828775,8545.6332166162,8672.86884614694,8761.39630136178,8852.07717438803,8944.98096886454,9040.18763878474,9137.79220040396,9237.89914327081,9340.62355691104,9446.08906906611,9554.43629939869,9665.83325741978,9780.48324671338,9898.63000479789,10020.5601117436,10146.6134385119,10277.2083992719,10412.8846522084,10554.3613002631,10702.5991054093,10858.107927106,11017.6840932717,10180.9429312568,9322.93081105966,8442.86803426492,7539.90130346195,6613.18346560678,5661.95524056348,4685.60607196734,3683.55620945976,2655.53365277371,1601.54253254327,1521.87417319243,1440.0397947117,1355.84307375762,1269.15285276643,1179.8196994185,1087.80835059365,992.957625460221,895.241971552186,794.479452052282,690.63411510804,583.689983431599,473.406856732991,359.993463828932,243.21846905052,123.072689152774,0,0,"","","","","","","","","","","","","","","","","","","","","","","","","","","","","","","","","","","","","","","","","","","",""]
["49_10_F",10,49,"F",null,347,0,423,979,1640,2364,2180,2875,3609,4386,5207,6073,6202,6336,6474,6617,6766,6920,7080,7245,7417,7595,7780,7972,8172,8380,8596,8821,9057,9303,9561,9834,9118,8373,7599,6793,5954,5082,4176,3234,2255,1237,1181,1122,1060,996,930,860,788,713,635,554,470,383,292,198,101,0,0,"","","","","","","","","","","","","","","","","","","","","","","","","","","","","","","","","","","","","","","","","","","","","","","","","",null,null,593.000430658386,1502.68997077373,2434.99685523344,3390.49405291185,3369.77301762037,4277.6821327827,5207.96084480221,6161.15835661596,7137.84156976409,8138.59776698384,8234.21765640112,8332.06523165593,8432.20017835966,8534.69248666583,8639.62917286468,8747.10505735309,8857.22294148522,8970.08663751081,9085.81013503542,9204.53109166459,9326.42167006429,9451.69645529286,9580.61006011584,9713.4587939733,9850.59555219479,9992.46359804315,10139.649117911,10292.9457263775,10453.420072967,10622.4729736555,9796.60602771009,8949.70795221106,8080.93488768344,7189.47982901545,6274.56635566289,5335.43863165743,4371.42601611713,3382.03888633134,2366.99259547616,1326.34231973939,1260.36108295143,1192.525552379,1122.79398690538,1051.02372793157,977.038430272574,900.895634003041,822.409842413849,741.509260022088,658.121268608036,572.167090948802,483.555052315254,392.170379436569,298.142515322444,201.415081210152,101.924160229147,0,0,"","","","","","","","","","","","","","","","","","","","","","","","","","","","","","","","","","","","","","","","","","","","","","","","",""]
["54_10_F",10,54,"F",null,264,0,440,1017,1705,2457,2303,3019,3775,4575,5419,6310,6469,6633,6803,6980,7163,7353,7550,7754,7966,8186,8415,8653,8902,9161,9434,8723,7987,7222,6426,5598,4738,3843,2913,1946,942,898,854,807,758,707,655,600,543,483,422,358,291,222,151,77,0,0,"","","","","","","","","","","","","","","","","","","","","","","","","","","","","","","","","","","","","","","","","","","","","","","","","","","","","","",null,null,607.058655362014,1514.85404675283,2445.14529549214,3398.50187582378,3375.51486388179,4270.44404778237,5187.14884735703,6126.13532610055,7087.93202806917,8073.10281117149,8189.29469708817,8308.1661981028,8429.79916804874,8554.27799047157,8681.70660827572,8812.22270946787,8946.00880694352,9083.28441726208,9224.29783387312,9369.32938413024,9518.71527931706,9672.89400030646,9832.47362926262,9998.30357738726,10171.5432625847,9353.72286550534,8519.60882597249,7663.89727775314,6785.78326371175,5884.4865540862,4959.23879823592,4009.45532740302,3034.64514506303,2034.57942023288,1009.23220769523,959.093191132844,907.472264021691,854.387717244623,799.779522698301,743.585204175276,685.597302878568,625.844323880067,564.23143060983,500.828751324515,435.357669509397,367.857341781286,298.420434100609,226.944674743997,153.279088748016,77.544606053299,0,0,"","","","","","","","","","","","","","","","","","","","","","","","","","","","","","","","","","","","","","","","","","","","","","","","","","","","","",""]
["3_5_F",5,3,"F",null,373,0,417,931,1518,2170,2374,2394,2415,2437,2459,2483,2507,2532,2559,2586,2615,2645,2675,2707,2741,2775,2812,2849,2888,2929,2971,3014,3060,3107,3157,3208,3261,3316,3374,3434,3496,3560,3627,3697,3770,3845,3924,4005,4090,4178,4270,4366,4465,4569,4676,4788,4905,5027,5153,5284,5421,5563,5673,5788,5907,6031,6160,6294,5933,5558,5168,4762,4340,3901,3445,2970,2476,1963,1929,1893,1856,1818,1778,1736,1692,1647,1600,1550,1498,1445,1389,1330,1269,1206,1140,1071,999,925,847,766,683,595,505,411,314,213,108,0,0,"","","",null,null,699.436390102675,1624.4842713923,2572.65735671049,3544.53439425622,4040.70917601235,4067.06063275706,4094.07282079792,4121.76057555092,4150.14011213625,4179.2289521212,4209.04350591669,4239.60228149349,4270.92426248839,4303.02892052437,4335.93622785221,4369.66667032214,4404.24126069415,4439.68155229584,4476.00965303701,4513.24871411747,4551.42149555031,4590.55185517552,4630.66426516677,4671.78382797306,4713.9362926773,4757.14784137961,4801.44546393804,4846.85698552696,4893.41090695583,4941.13699694692,4990.06596540027,5040.22979184096,5091.66188600589,5144.39688966583,5198.47115378362,5253.92271230264,5310.79103910074,5369.11727234496,5428.94384750269,5490.31582770282,5553.27923652438,5617.88250437889,5684.17543018667,5752.20974996936,5822.04088874803,5893.72684943935,5967.32931854937,6042.91518246275,6120.55622837328,6200.32848610227,6282.31506052474,6366.46886399823,6452.82116093191,6541.42920335848,6632.34931750469,6725.63946197395,6784.05963996167,6844.03618028072,6905.60301650502,6968.78623215161,7033.60195860754,7100.06144714313,6668.17055302721,6225.48825273725,5771.7468741898,5306.6744533465,4829.98771827224,4341.39707604807,3840.60726251337,3327.34062941218,2801.33200851859,2262.33393531862,2210.14672242609,2156.92189522477,2102.66351544697,2047.35954603208,1990.99697696746,1933.54566237862,1874.95958894365,1815.14123529265,1754.00578933363,1691.50520695684,1627.54725266312,1561.96347243996,1494.69077264271,1425.67464488971,1354.78631781125,1281.87325756835,1206.8553658868,1129.6546886242,1050.1947120962,968.258974812186,883.87385990066,796.952534939649,707.212749791374,614.871997249711,519.627183818406,421.527567048034,320.411425531789,216.359481628412,109.561129007123,0,0,"","",""]
["8_5_F",5,8,"F",null,355,0,420,936,1526,2182,2389,2414,2439,2465,2493,2521,2550,2581,2613,2646,2681,2716,2754,2792,2833,2875,2918,2963,3010,3059,3110,3163,3218,3275,3335,3396,3461,3527,3597,3669,3744,3822,3903,3987,4075,4166,4261,4359,4462,4569,4680,4796,4916,5042,5172,5308,5449,5560,5676,5796,5921,6051,6186,5826,5452,5063,4659,4238,3800,3345,2872,2380,1868,1836,1802,1767,1730,1692,1652,1611,1568,1522,1475,1426,1375,1322,1266,1208,1148,1085,1019,951,880,806,730,650,567,481,391,299,203,103,0,0,"","","","","","","","",null,null,700.450293979613,1624.31413841188,2571.2689332568,3541.89298146741,4036.77970459912,4066.62061526085,4097.20567887702,4128.55387761995,4160.68468161032,4193.61806155785,4227.37450173187,4261.97501327067,4297.44114783824,4333.79501163779,4371.05989992624,4409.25842875335,4448.41445420991,4488.55244667515,4529.69750675729,4571.87538165084,4615.1121058598,4659.43451800227,4704.87028827078,4751.44746746849,4799.19565428655,4848.14509322763,4898.32728678533,4949.77501014428,5002.52254551435,5056.60558402957,5112.06148287042,5168.92916711634,5227.24921165607,5287.06361919383,5348.41671712562,5411.35406458991,5475.92346887414,5542.17423402876,5610.15758695854,5679.9281370982,5751.54304833558,5825.06299765457,5900.55353998523,5978.08494534102,6057.73168057201,6139.57494625693,6223.70242969344,6310.04154963587,6398.63356688287,6489.5345462751,6582.80216948466,6642.99564937338,6704.78588177762,6768.2075650407,6833.28764608699,6900.04332567794,6968.48697767401,6538.62561690473,6098.01925120679,5646.40120999348,5183.49529752241,4709.02431326234,4222.70053003663,3724.23090308795,3213.33163185938,2689.73752275856,2153.21143601957,2103.54348018583,2052.8840786767,2001.23642274159,1948.60861732588,1894.97309889956,1840.30350562733,1784.52734395234,1727.58077289066,1669.43160043897,1609.96209612716,1549.08145569228,1486.68578917907,1422.66683103239,1356.9780835662,1289.5016444788,1220.09966364095,1148.71188048717,1075.28720863636,999.6576681927,921.750796442073,841.496869407296,758.660568465824,673.294694561371,585.31198912887,494.607572647465,401.300167354129,305.055972122984,205.973463559599,104.273996776216,0,0,"","","","","","","",""]
["10_5_F",5,10,"F",null,347,0,421,939,1530,2188,2397,2424,2451,2479,2509,2539,2571,2604,2638,2674,2711,2750,2790,2832,2875,2921,2967,3016,3067,3120,3175,3231,3291,3352,3416,3483,3552,3624,3699,3776,3857,3941,4028,4119,4214,4312,4414,4521,4632,4747,4867,4993,5123,5258,5399,5510,5626,5747,5872,6002,6138,5779,5405,5017,4613,4193,3756,3301,2829,2337,1826,1794,1761,1727,1691,1654,1615,1575,1532,1488,1442,1394,1344,1292,1237,1181,1122,1060,996,930,860,788,713,635,554,470,383,292,198,101,0,0,"","","","","","","","","","",null,null,700.740782845241,1623.8504940214,2570.03144564062,3539.860964433,4033.93202038302,4065.29221580573,4097.43499328192,4130.38032305869,4164.14868893083,4198.76110154975,4234.23911208,4270.60482621243,4307.881603465,4346.09199617861,4385.25985993219,4425.40966457987,4466.56651019114,4508.75614340785,4552.00453344915,4596.33845203833,4641.78550081994,4688.37353097919,4736.13206599454,4785.09114393712,4835.28205571418,4886.7372949544,4939.49098450233,4993.57852273856,5049.03696658515,5105.90499773292,5164.2229412672,5224.03260809025,5285.3779992178,5348.30446795221,5412.85954526949,5479.0923159064,5547.05378114569,5616.79818867872,5688.38233026326,5761.86643504503,5837.31546714126,5914.7990232903,5994.39087676977,6076.17138301605,6160.22729251422,6246.55944644106,6335.1424389944,6426.03381572908,6519.28939998908,6580.2697394634,6642.86573594691,6707.11006916233,6773.03260439528,6840.65131127529,6909.97588178357,6481.0133992563,6041.32811264299,5590.649419476,5128.70630089043,4655.21674784398,4169.89295599432,3672.44938969502,3162.59555751448,2640.07550563509,2104.6433108736,2056.10083522341,2006.58726160189,1956.10513249989,1904.66208904816,1852.23049377778,1798.78446345638,1744.25263981794,1688.61044498037,1631.75623063809,1573.61117657685,1514.08938215486,1453.09339105744,1390.52303365016,1326.34231973939,1260.36108295143,1192.525552379,1122.79398690538,1051.02372793157,977.038430272574,900.895634003041,822.409842413849,741.509260022088,658.121268608037,572.167090948802,483.555052315254,392.170379436569,298.142515322444,201.415081210152,101.924160229147,0,0,"","","","","","","","","",""]
["15_5_F",5,15,"F",null,327,0,426,951,1550,2216,2434,2466,2499,2533,2569,2606,2644,2684,2725,2768,2813,2860,2908,2959,3011,3066,3122,3181,3242,3306,3372,3440,3512,3586,3663,3743,3827,3913,4003,4097,4195,4296,4402,4512,4626,4745,4869,4998,5133,5272,5385,5502,5624,5750,5881,6018,5660,5288,4901,4498,4079,3644,3191,2720,2230,1721,1691,1660,1628,1594,1559,1522,1484,1444,1402,1359,1314,1267,1217,1166,1113,1057,999,939,876,811,743,672,599,522,443,361,275,187,95,0,0,"","","","","","","","","","","","","","","",null,null,704.444793815608,1628.31893918245,2575.28108217697,3545.91037151901,4040.80085796948,4076.31043096849,4112.70769093121,4150.01615915944,4188.25823004075,4227.45775914888,4267.63921633243,4308.82770165504,4351.04896175237,4394.32880413559,4438.69383484086,4484.17148573989,4530.78911082,4578.57604723965,4627.56181896714,4677.77718999597,4729.25395230755,4782.02583244218,4836.12749931476,4891.59526172122,4948.46719538492,5006.78300348601,5066.58401999989,5127.91343292943,5190.81608377918,5255.33881578247,5321.5301684078,5389.44058201263,5459.12340347843,5530.63449794095,5604.03297897369,5679.38233819563,5756.75049408743,5836.20949118497,5917.83757788317,6001.71916895681,6087.94443204209,6176.5112838899,6267.38124290024,6360.61326999286,6423.5636311483,6488.17466374445,6554.479941518,6622.51034401847,6692.28509581683,6763.81521412526,6337.1091623553,5899.72812160745,5451.40644082369,4991.87446515013,4520.85194767288,4038.04662209397,3543.17385216302,3035.95243240283,2516.1195520911,1983.42927788812,1937.68301751312,1891.01948890355,1843.44134343126,1794.95755860398,1745.54371493864,1695.17954484931,1643.80207696791,1591.36092302118,1537.79897122134,1483.00658601309,1426.90393759391,1369.40201801979,1310.48072979612,1249.98689383135,1187.81283835147,1123.93025148761,1058.22596750623,990.565964890436,920.914429089297,849.112065764391,775.110964328478,698.877230141734,620.206094507954,539.224284478111,455.708144604451,369.578233487745,281.021726775603,189.759809771419,96.0495688614726,0,0,"","","","","","","","","","","","","","",""]
["20_5_F",5,20,"F",null,364,0,430,959,1563,2235,2459,2484,2510,2537,2565,2594,2625,2656,2689,2723,2759,2796,2834,2874,2915,2958,3002,3048,3096,3146,3198,3251,3307,3365,3425,3488,3552,3620,3690,3763,3838,3917,3999,4084,4172,4228,4286,4346,4409,4474,4542,4613,4687,4764,4845,4929,5016,5107,5201,5299,5400,5505,5615,5728,5845,5467,5073,4664,4237,3794,3333,2853,2355,1836,1298,1239,1177,1112,1045,975,902,827,748,666,581,493,401,306,208,106,0,0,"","","","","","","","","","","","","","","","","","","","",null,null,696.762507517728,1621.2053327722,2568.7492447154,3539.97389130339,4035.47425324484,4063.42778193423,4092.07978855784,4121.44813189994,4151.55029297507,4182.4042963484,4214.02872880265,4246.44127266143,4279.66179330484,4313.70943432603,4348.60416617033,4384.36621848961,4421.01795589699,4458.58153133571,4497.08018676243,4536.53875897381,4576.98317223381,4618.44085854373,4660.93966299452,4704.50935996504,4749.18065531646,4794.98580153534,4841.958328967,4890.13290122998,4939.54586165225,4990.23531602737,5042.24147986023,5095.60710485935,5150.37767359049,5206.6019892663,5264.3325383925,5323.62560341216,5384.54268066653,5447.15105248892,5511.52463972153,5541.34669870034,5572.11381331242,5603.88379181384,5636.72016036147,5670.6898265649,5705.86831716691,5742.3424826258,5780.2204053621,5819.63416822694,5860.73830593331,5903.47611025166,5947.64372117467,5993.26292764355,6040.36707985353,6088.99670636819,6139.21908477435,6191.10046627123,6244.67380736309,6299.94817428716,6356.83743810122,5915.11816166137,5462.32877844941,4998.007526586,4521.75116057165,4033.07617788643,3531.57190184771,3016.90109643231,2488.70864948188,1946.88573080268,1391.29563606398,1322.0668429173,1250.89995410253,1177.73840187924,1102.41927422249,1024.86652456561,945.005632589747,862.60890277136,777.715019941678,690.236113960141,600.070263261568,507.090072601918,411.378845263415,312.829868597865,211.296130376563,106.91756289167,0,0,"","","","","","","","","","","","","","","","","","","",""]
["21_5_F",5,21,"F",null,361,0,431,962,1568,2242,2468,2494,2521,2549,2579,2609,2641,2673,2707,2743,2780,2818,2857,2898,2941,2986,3032,3080,3129,3181,3235,3290,3348,3408,3470,3535,3602,3672,3745,3821,3899,3981,4066,4154,4210,4268,4328,4391,4457,4525,4596,4670,4747,4828,4912,4999,5090,5184,5282,5384,5490,5599,5713,5831,5453,5059,4650,4224,3781,3320,2841,2343,1825,1287,1228,1167,1103,1036,967,895,820,742,661,576,489,398,304,206,105,0,0,"","","","","","","","","","","","","","","","","","","","","",null,null,697.852029599105,1623.1310655472,2571.53148981771,3543.63399148333,4040.034218148,4068.6978123625,4098.0779148863,4128.19198720715,4159.05803391046,4190.69462133496,4223.11936303186,4256.35210181561,4290.41191037697,4325.31868657676,4361.09256187107,4397.75584805912,4435.33059626669,4473.83994415493,4513.30864549892,4553.76253946261,4595.22899461447,4637.73574333072,4681.31249200094,4725.98985287062,4771.80000611929,4818.77640779418,4866.95359755007,4916.36779136535,4967.05694034782,5019.06105338354,5072.4226459436,5127.18695759994,5183.402493791,5241.1214105414,5300.39964973194,5361.29828477683,5423.88411369623,5488.23050914026,5518.32004065262,5549.35672264862,5581.39788256987,5614.50655319648,5648.74922826392,5684.20094024524,5720.94792163971,5759.09729403577,5798.77986371406,5840.14870594849,5883.25394246167,5927.79853120074,5973.80493012988,6021.30725472984,6070.34691647068,6120.98129132562,6173.27431170303,6227.28512532339,6282.99540287117,6340.31499099209,5899.0391482967,5446.70939396198,4982.86808335211,4507.07988412921,4018.8972916024,3517.91637329731,3003.75320163109,2476.10658896635,1934.80909745287,1379.79183360689,1311.19721211991,1240.64861192733,1168.08034639342,1093.43394642851,1016.53134323337,937.286207241555,855.609590466348,771.409064025431,684.581897566748,595.210943274181,503.00476633676,408.031346369761,310.159637996134,209.521908104242,106.036374186519,0,0,"","","","","","","","","","","","","","","","","","","","",""]
["26_5_F",5,26,"F",null,341,0,436,973,1586,2268,2503,2535,2567,2601,2636,2672,2710,2749,2790,2833,2877,2922,2970,3019,3070,3123,3178,3236,3295,3357,3421,3487,3556,3628,3703,3780,3861,3945,4032,4089,4148,4209,4273,4339,4408,4479,4554,4632,4714,4799,4887,4980,5076,5176,5279,5386,5498,5614,5733,5357,4966,4559,4136,3695,3237,2761,2266,1751,1216,1160,1102,1042,979,914,846,775,701,624,545,462,376,287,195,99,0,0,"","","","","","","","","","","","","","","","","","","","","","","","","","",null,null,698.375214211428,1622.45042577581,2569.61466188174,3540.44778483121,4035.5446298574,4068.0610369187,4101.38584223023,4135.53765408536,4170.53589505302,4206.40005135408,4243.15209153864,4280.81339808776,4319.40642392521,4358.95537984863,4399.48554860481,4441.02388668667,4483.59738735687,4527.23531545241,4571.96767184375,4617.82616730991,4664.84377570051,4713.05422512475,4762.49289809094,4813.19673133826,4865.20437530457,4918.55679121643,4973.29762044697,5029.4734076532,5087.13413215719,5146.33349346154,5207.12977751565,5269.58658925109,5333.77368633655,5365.66910626942,5398.5264528312,5432.39990618951,5467.349273361,5503.43835422068,5540.73896020413,5579.33328998517,5619.32216920886,5660.82802907026,5703.99437316619,5748.98427032533,5795.97772628287,5844.55575647948,5894.68283618536,5946.40067558481,5999.77732179558,6054.87957891627,6111.7413583131,6170.35663839431,6230.65688426501,5792.42487567283,5343.18083846604,4882.49829583788,4409.91621300731,3925.03175087126,3427.41031866353,2916.6742533082,2392.53105206247,1854.82433287806,1303.49988894674,1238.71955894253,1172.13247563731,1103.60191421681,1033.07855474506,960.397490726776,885.4911368843,808.297121354797,728.760764462481,646.83406560266,562.268136803491,475.157858625958,385.439200420937,293.038849449294,197.866636665509,100.161782818845,0,0,"","","","","","","","","","","","","","","","","","","","","","","","","",""]
["30_5_F",5,30,"F",null,324,0,443,987,1609,2300,2545,2581,2619,2658,2698,2741,2784,2830,2877,2925,2976,3029,3083,3140,3199,3260,3324,3390,3458,3529,3603,3680,3760,3843,3929,3986,4046,4108,4172,4239,4309,4381,4457,4535,4617,4703,4792,4886,4983,5084,5189,5298,5412,5529,5650,5276,4887,4482,4061,3622,3166,2692,2200,1687,1155,1102,1047,990,930,868,803,736,666,593,517,439,357,273,185,94,0,0,"","","","","","","","","","","","","","","","","","","","","","","","","","","","","","",null,null,700.419642084426,1624.89131938009,2572.45714746822,3543.69637697981,4039.20357180651,4075.15035365289,4111.98387599922,4149.72495818569,4188.39547653631,4228.01918571079,4268.62090110805,4310.22723450901,4352.8645572567,4396.56176488242,4441.34834512608,4487.25561627163,4534.31614904101,4582.56298937194,4632.03081929841,4682.75572201074,4734.77520303019,4788.12891309285,4842.85914627924,4899.01079310414,4956.63199630586,5015.77456376586,5076.49442854947,5138.85249978144,5202.91548275233,5236.35758663893,5270.7745931548,5306.2180371546,5342.74501632726,5380.41707430601,5419.30332270073,5459.48257555435,5501.05036325474,5544.12206771044,5588.83313770194,5635.33829665294,5683.80959753118,5734.44554140443,5786.80555691841,5840.80960120344,5896.51686237323,5953.9929529094,6013.27024322119,6074.35843176092,6137.17454143363,5701.50210830615,5254.86354624244,4796.83624929051,4326.96499013827,3844.85490762929,3350.0818916382,2842.28179254182,2321.11763452781,1786.50370782893,1238.33396315121,1176.77737632421,1113.49293823087,1048.35745643319,981.340149406512,912.301569930868,841.209253376461,767.894959938837,692.31187428091,614.423956840604,534.20709954855,451.424466678021,366.23073459409,278.351496173872,187.985587499098,95.1683801563215,0,0,"","","","","","","","","","","","","","","","","","","","","","","","","","","","","",""]
["37_5_F",5,37,"F",null,288,0,456,1016,1656,2367,2634,2680,2728,2778,2830,2884,2939,2997,3057,3120,3184,3251,3321,3393,3469,3547,3628,3712,3771,3832,3896,3962,4030,4102,4176,4253,4333,4416,4503,4594,4689,4788,4892,5000,5112,5229,5350,5475,5105,4720,4319,3902,3468,3017,2548,2060,1554,1027,980,931,880,827,771,714,654,592,527,460,390,317,242,164,84,0,0,"","","","","","","","","","","","","","","","","","","","","","","","","","","","","","","","","","","","","",null,null,702.704703561478,1625.54260387047,2571.41271846718,3540.89427748496,4034.58409373628,4077.39069707773,4121.2485010365,4166.18593822634,4212.23352706231,4259.42301706099,4307.78604638518,4357.35585213862,4408.16675174503,4460.25387324455,4513.65414337498,4568.4070569784,4624.55406201559,4682.13947758271,4741.21117516116,4801.82018455292,4864.02179438039,4927.87634415723,4964.6500512773,5002.42814538254,5041.25670341232,5081.18724259512,5122.27669024576,5164.58862406411,5208.19490322844,5253.18011588839,5299.64505110121,5347.70849120173,5397.50792368367,5449.19903086367,5502.96227742092,5559.01800403612,5617.65076775236,5678.29210923253,5740.80747912665,5805.23116216565,5871.5595800293,5939.71027583246,5509.46998654921,5068.36785072224,4615.99209695443,4151.90305143742,3675.68391274648,3186.92264931991,2685.2712789058,2170.47642692435,1642.29249027721,1100.76063895668,1046.00764475802,989.721029152928,931.816178154578,872.198335966997,810.88576481026,747.653095924531,682.503144666381,615.304353165602,546.073430421932,474.658766833375,401.07577498025,325.379012810146,247.403794025951,167.213551361472,84.594115694508,0,0,"","","","","","","","","","","","","","","","","","","","","","","","","","","","","","","","","","","","",""]
["38_5_F",5,38,"F",null,282,0,458,1020,1663,2378,2648,2695,2745,2797,2850,2906,2964,3023,3086,3150,3217,3286,3359,3434,3511,3592,3676,3735,3797,3861,3927,3996,4067,4141,4219,4299,4383,4470,4561,4656,4756,4860,4968,5081,5198,5320,5446,5076,4691,4291,3875,3442,2992,2524,2037,1531,1005,959,911,861,809,755,699,640,579,516,450,382,311,237,161,82,0,0,"","","","","","","","","","","","","","","","","","","","","","","","","","","","","","","","","","","","","","",null,null,702.687861942368,1624.80577114324,2569.93383570134,3538.65174126748,4031.55546628905,4075.44200597077,4120.40660995962,4166.47966511727,4213.69278591715,4262.07737796142,4311.66643969077,4362.4939965797,4414.59478306442,4468.0052747568,4522.7645029843,4578.913345338,4636.49548732513,4695.55814825813,4756.15154518391,4818.33003493276,4882.15290156527,4919.48503698557,4957.82658612383,4997.22272435177,5037.72404763716,5079.38672298656,5122.27341608215,5166.45483890023,5212.01377112133,5259.04858848216,5307.6753175304,5358.02859763586,5410.26140910374,5464.55124078368,5521.11441212222,5580.22949410245,5641.69043319735,5705.03695600768,5770.31616571379,5837.51056312035,5906.53563796835,5477.19964905732,5037.03864477742,4585.6175481111,4122.49619579621,3647.25744237094,3159.48906576999,2658.84306445189,2145.06633488918,1617.98297005253,1077.58064452194,1023.99074851718,968.906992016686,912.253071302652,853.945438080505,793.889512583899,731.97456756794,668.221314373431,602.523397083656,534.746806554519,464.917677630238,392.876952952227,318.647833794514,242.300128152801,163.665106816829,82.8317382842057,0,0,"","","","","","","","","","","","","","","","","","","","","","","","","","","","","","","","","","","","","",""]
["43_5_F",5,43,"F",null,252,0,471,1050,1712,2447,2740,2797,2856,2917,2980,3046,3114,3185,3259,3336,3415,3498,3558,3621,3686,3754,3824,3897,3973,4051,4133,4218,4307,4399,4495,4596,4701,4811,4926,5046,5170,5299,4933,4552,4155,3743,3314,2867,2403,1921,1420,899,857,815,770,723,675,625,572,518,461,402,341,278,212,144,73,0,0,"","","","","","","","","","","","","","","","","","","","","","","","","","","","","","","","","","","","","","","","","","","",null,null,706.487187662117,1628.47120520752,2573.44143842755,3541.98093348764,4034.69019124661,4084.40539860376,4135.34695951401,4187.54767531973,4241.04180398012,4295.86609922599,4352.05863158968,4409.65996732702,4468.71411641389,4529.26729100069,4591.36925448009,4655.07408645851,4695.24013694575,4736.44222378421,4778.72112134836,4822.12293580551,4866.70015258778,4912.51101341093,4959.62065205569,5008.10300721602,5058.044636748,5109.54807838091,5162.73405504099,5217.74238625181,5274.73608127048,5333.91185441575,5395.51902042369,5459.88627852105,5527.4340833802,5596.99666369702,5668.57424675083,5742.07130176397,5317.27838148725,4881.73203639321,4435.03210712242,3976.71799661557,3506.38138683669,3023.67082205572,2528.2158020983,2019.72438053037,1498.02920645541,963.129871710329,915.259973022056,865.973859024873,815.302895896543,763.204769790133,709.513078734874,654.147283015777,597.170817043793,538.368044125739,477.809385710862,415.423672762188,351.120696134877,284.777705485439,216.500547667385,146.18219965873,74.0198512326945,0,0,"","","","","","","","","","","","","","","","","","","","","","","","","","","","","","","","","","","","","","","","","","",""]
["48_5_F",5,48,"F",null,217,0,487,1086,1770,2530,2848,2915,2985,3057,3132,3210,3291,3353,3418,3485,3554,3626,3701,3778,3858,3942,4029,4119,4213,4311,4413,4519,4630,4746,4868,4996,5129,4766,4389,3997,3588,3164,2722,2263,1785,1289,774,738,701,663,623,581,538,493,446,397,347,294,239,183,124,63,0,0,"","","","","","","","","","","","","","","","","","","","","","","","","","","","","","","","","","","","","","","","","","","","","","","","",null,null,710.402334003416,1631.11010590868,2574.74147752346,3541.87948007514,4033.12702110352,4089.42238993557,4147.09957386865,4206.19891607857,4266.76204484183,4328.83346303331,4392.46128784419,4435.99636567773,4480.600777787,4526.31032465088,4573.16604946092,4621.21632281056,4670.5144297371,4721.11923334928,4773.09466053517,4826.51385549699,4881.46405510724,4938.05023373545,4996.39738168321,5056.65221595239,5118.98933136933,5183.62492360351,5250.83908792528,5321.00552637198,5394.62242654,5471.28935890297,5549.96457190207,5130.46449077907,4700.31240390009,4259.0857105961,3806.40086985415,3341.79539372696,2864.92786772109,2375.44141428218,1873.12450518634,1357.78454842856,829.377610592709,788.155688862215,745.793449994212,702.178314675636,657.283572093362,611.093362620158,563.465382468969,514.364780715204,463.764982862502,411.648563854797,357.802627386406,302.367693015999,245.341839964688,186.457740983159,125.915132423506,63.7393163392647,0,0,"","","","","","","","","","","","","","","","","","","","","","","","","","","","","","","","","","","","","","","","","","","","","","","",""]
["53_5_F",5,53,"F",null,177,0,506,1128,1839,2628,2978,3057,3121,3188,3257,3328,3402,3479,3559,3641,3727,3816,3908,4004,4104,4208,4315,4428,4545,4668,4798,4934,4576,4203,3815,3412,2992,2556,2102,1630,1140,631,602,572,541,508,474,439,402,364,324,283,240,195,149,101,51,0,0,"","","","","","","","","","","","","","","","","","","","","","","","","","","","","","","","","","","","","","","","","","","","","","","","","","","","","",null,null,715.741234767015,1634.84058208331,2576.76800411541,3542.10681595087,4031.4624080818,4095.07419410533,4142.53404009866,4191.10392886319,4240.81416684383,4291.70021861241,4343.80596590121,4397.17927157652,4451.87211353017,4507.93733545971,4565.43319496372,4624.42995928458,4685.015182206,4747.29752884561,4811.40580859497,4877.49022984734,4945.73033924546,5016.35233611132,5089.65561465133,5166.04489973005,5246.06279367723,5330.42002473144,4916.94879459791,4492.95286726704,4058.0262359151,3611.7335271294,3153.70107297426,2683.52552040064,2200.91685520106,1705.63654431768,1197.51538861511,676.540455997757,642.918750425188,608.350077284132,572.756225737193,536.157432590948,498.474122728938,459.605621368985,419.575945168476,378.272183876614,335.727529517458,291.805100598657,246.533247665304,199.977177483134,151.979368559166,102.604589546041,51.9901336039164,0,0,"","","","","","","","","","","","","","","","","","","","","","","","","","","","","","","","","","","","","","","","","","","","","","","","","","","","",""]
["1_3_F",3,1,"F",null,236,0,437,988,1631,1696,1464,1475,1487,1499,1512,1525,1539,1553,1568,1583,1599,1615,1633,1651,1669,1689,1709,1730,1751,1774,1798,1822,1848,1874,1902,1930,1960,1991,2023,2056,2091,2127,2165,2204,2244,2287,2330,2376,2424,2473,2524,2578,2633,2691,2751,2814,2879,2947,3017,3091,3167,3246,3329,3415,3480,3548,3619,3693,3770,3849,3632,3406,3172,2927,2673,2409,2134,1848,1551,1242,1220,1198,1175,1150,1125,1099,1071,1042,1012,981,948,914,879,842,803,763,721,678,632,585,536,485,432,377,320,260,199,135,68,0,0,"",null,null,761.452865497905,1697.14695421577,2656.24644497984,2722.62271475382,2490.66756814357,2505.69647632856,2521.10418487674,2536.89916130557,2553.09017789832,2569.68632406404,2586.69742259194,2604.13398339463,2622.00604767022,2640.32472192108,2659.1013980935,2678.34776097097,2698.07579576028,2718.29779587576,2739.0263709267,2760.27445491329,2782.05531463674,2804.38274403889,2827.27049770625,2850.73289249812,2874.78461392958,2899.44072573801,2924.71667969964,2950.62828625638,2977.19184300945,3004.42415132198,3032.34261808919,3060.96522109027,3090.31070320474,3120.39857703042,3151.24932020123,3182.88396308685,3215.32476532199,3248.59500788493,3282.71874897106,3317.72105523901,3353.62768324808,3390.46617177435,3428.26445187748,3467.05200645401,3506.85905256279,3547.71697926627,3589.65959706345,3632.7222791971,3676.94272486373,3722.3619717743,3769.02412430732,3816.97586365143,3866.18901913502,3916.68927413426,3968.51079889815,4021.68819089986,4076.25481875903,4132.24560740334,4166.09799429853,4200.85773723105,4236.54331853998,4273.16965960116,4310.74554219761,4349.28027837738,4088.77331127622,3821.76170274849,3548.07974821943,3267.57023280191,2980.05962350472,2685.37176022823,2383.33395479784,2073.7761428507,1756.53469478173,1431.46605142281,1398.45566950348,1364.77886632204,1330.44049769642,1295.45770708593,1259.79938704121,1223.43650915746,1186.35768084802,1148.51627785861,1109.8538986663,1070.30053942239,1029.82843752498,988.355185794663,945.787964790623,902.091202567271,857.237789639549,811.116023847994,763.690378915146,714.816683115764,664.563007730047,612.773691235912,559.394650481856,504.371755863279,447.647446429604,389.155559771909,328.814153339034,266.768544109557,202.718089855658,136.806119394721,69.3201781385551,0,0,""]
["4_3_F",3,4,"F",null,230,0,438,990,1635,1700,1468,1481,1494,1508,1522,1536,1552,1568,1584,1601,1619,1638,1657,1677,1698,1720,1742,1766,1790,1815,1842,1869,1898,1927,1958,1990,2024,2058,2094,2132,2171,2211,2253,2297,2342,2389,2439,2490,2543,2598,2656,2716,2778,2843,2910,2981,3054,3130,3209,3291,3377,3443,3511,3582,3656,3733,3813,3597,3371,3137,2893,2639,2375,2101,1815,1519,1210,1189,1167,1145,1121,1096,1070,1043,1015,986,956,924,891,856,820,782,743,703,660,616,570,522,472,421,367,311,253,193,131,67,0,0,"","","","",null,null,761.549093696305,1696.56631722514,2654.956726489,2721.30726351901,2489.32209296498,2505.52017140874,2522.12345896021,2539.14173167231,2556.58550032336,2574.46470950843,2592.79046422205,2611.57415486389,2630.82746463098,2650.56237710283,2670.79118402458,2691.52649329331,2712.78123715293,2734.56868060312,2756.90266442416,2779.79689383824,2803.26568379139,2827.32371783615,2851.9860576967,2877.2681530842,2903.18576367194,2929.75513503017,2956.99301519439,2984.91665913004,3013.54398615263,3042.89358194683,3072.98479795809,3103.83789796228,3135.47379027405,3167.91451206162,3201.18311608552,3235.30347499474,3270.30046497128,3306.19969562923,3343.02845743414,3380.81452371756,3419.58716649936,3459.37643473386,3500.21354451134,3542.13203076492,3585.16698319605,3629.35576029473,3674.73895122154,3721.3601494827,3769.26550985995,3818.47218701628,3868.96590052912,3920.7794686249,3973.94730523148,4028.5043294885,4084.48368713067,4118.9216970905,4154.28097823978,4190.58042101088,4227.83542070149,4266.05533519911,4305.24658386596,4045.40844836282,3779.08199353956,3506.10213935449,3226.30703222437,2939.52867254645,2645.59200427341,2344.31805137236,2035.54467774998,1719.10012454851,1394.85059856442,1362.67084882319,1329.84900203681,1296.37598189987,1262.26686495043,1227.51204966684,1192.08939903836,1155.96419333563,1119.08929354099,1081.40592383255,1042.84385303607,1003.37525385257,962.917934699353,921.448700404457,878.878392349745,835.184402106134,790.261063628975,743.975612280597,696.390483530507,647.36665362321,596.861529743216,544.836756780211,491.260327013774,435.919488250902,378.919192372392,320.221718458614,259.786950634687,197.569968193154,133.516990415193,67.5578007282529,0,0,"","","",""]
["9_3_F",3,9,"F",null,219,0,441,996,1645,1711,1479,1495,1510,1527,1544,1562,1580,1599,1619,1640,1662,1684,1707,1732,1757,1783,1810,1839,1868,1899,1930,1964,1998,2034,2071,2110,2150,2191,2235,2280,2327,2376,2427,2479,2534,2591,2651,2713,2777,2844,2914,2987,3062,3141,3222,3307,3374,3443,3515,3589,3667,3748,3531,3307,3073,2830,2577,2314,2040,1756,1460,1152,1132,1112,1090,1067,1044,1019,994,967,939,910,880,848,815,781,745,708,669,629,587,543,497,450,401,349,296,241,184,125,64,0,0,"","","","","","","","","",null,null,761.977241359676,1695.90045128273,2653.16650754612,2719.4702463737,2487.43576674989,2505.77776875196,2524.57766834083,2543.84714791317,2563.59819022745,2583.84308618655,2604.59444282353,2625.86519149593,2647.66859629415,2670.01858616137,2692.92877849142,2716.4134873056,2740.48739520775,2765.16556294888,2790.46343924175,2816.39669373224,2842.98147974154,2870.23445077477,2898.17258700251,2926.81370402605,2956.17610334415,2986.27884511524,3017.14180558698,3048.78567358105,3081.23208331053,3114.50367424374,3148.62398393625,3183.61754463898,3219.5097017914,3256.3272965769,3294.09781881825,3332.85016008078,3372.61406723963,3413.42044561221,3455.30233211933,3498.2943041416,3542.43310369408,3587.75850678366,3634.31318030865,3682.14232448894,3731.29529345055,3781.78390524104,3833.59136522522,3886.75045449014,3941.29748590051,3997.26558060943,4032.78909430294,4069.25770200524,4106.69054448306,4145.10616584458,4184.51178951934,4224.91421943208,3966.32088557617,3701.26200805103,3429.58126820923,3151.11285266828,2865.6890969319,2573.13545860504,2273.2811759329,1965.94968808261,1650.98656753901,1328.25009028416,1297.61522373206,1266.35577340898,1234.49235150782,1202.02770304519,1168.93152823959,1135.20489435699,1100.78626212501,1065.6613773945,1029.77996140235,993.082667145839,955.500361438595,917.011799582631,877.544036908429,837.009894304889,795.389702084543,752.582009151044,708.565336707362,663.214734007034,616.496591526299,568.385434917341,518.866797816733,467.772401934393,415.054610767392,360.869023109132,305.026150129062,247.490034407378,188.223076121194,127.184385793425,64.3267754760321,0,0,"","","","","","","","",""]
["14_3_F",3,14,"F",null,207,0,446,1007,1663,1730,1499,1517,1536,1556,1577,1598,1620,1644,1668,1693,1719,1746,1774,1803,1834,1865,1898,1932,1968,2005,2043,2083,2124,2168,2212,2259,2307,2358,2410,2465,2521,2580,2642,2705,2772,2841,2913,2988,3066,3147,3231,3298,3368,3441,3516,3594,3675,3460,3236,3003,2761,2509,2247,1974,1690,1396,1089,1070,1051,1030,1009,986,963,939,914,887,860,831,801,770,738,704,669,632,594,554,513,470,425,379,330,280,228,174,118,60,0,0,"","","","","","","","","","","","","","",null,null,763.733381478266,1697.5105640711,2654.62500871401,2720.95742126757,2488.95404220784,2509.72198641286,2531.00925296237,2552.82910436076,2575.19556515993,2598.12215627757,2621.62319008509,2645.71334749386,2670.4076875187,2695.72165709136,2721.6708268894,2748.27124881907,2775.53947245803,2803.49217727164,2832.14706485736,2861.522125699,2891.6361011551,2922.50844358725,2954.15960130931,2986.61076773074,3019.88413018812,3054.00285942092,3088.99111117304,3124.87394139663,3161.6776996714,3199.42956513312,3238.15801277876,3277.89245842541,3318.66346679131,3360.50352972612,3403.44666385229,3447.52893664303,3492.7892347479,3539.2692117404,3587.01302388981,3636.06875358435,3686.48830613342,3738.28385645403,3791.42957342435,3845.95994605072,3901.90958446623,3938.61315695032,3976.28802686778,4014.95367217221,4054.62900520558,4095.3249067487,4137.04941355701,3879.80350445939,3616.12549806013,3345.85561977544,3068.82841077558,2784.87668598413,2493.82660156374,2195.50822135996,1889.75432069938,1576.39429145354,1255.29506748453,1226.33189314604,1196.77907208454,1166.65836004342,1135.95448673912,1104.68046687802,1072.79580569423,1040.26851613226,1007.05618419699,973.149790810281,938.454828211696,902.957696351094,866.594829211887,829.297266980177,790.983311943142,751.640722330786,711.178073081319,669.587421838293,626.762143178365,582.69357374271,537.24961732822,490.409866739287,442.168276142417,392.350097757427,341.117065914315,288.289504482654,233.847305792209,177.778949044582,120.087496704139,60.8020206554276,0,0,"","","","","","","","","","","","","",""]
["15_3_F",3,15,"F",null,205,0,448,1012,1671,1737,1507,1526,1546,1566,1588,1610,1633,1657,1682,1708,1735,1763,1792,1823,1854,1887,1921,1957,1994,2032,2072,2113,2156,2201,2248,2296,2346,2399,2453,2510,2568,2630,2693,2760,2829,2901,2976,3054,3135,3219,3286,3356,3428,3504,3582,3663,3448,3224,2991,2749,2497,2235,1963,1680,1385,1079,1060,1040,1020,999,977,954,930,905,879,852,823,794,763,731,697,662,626,588,549,508,465,421,375,327,277,226,172,117,59,0,0,"","","","","","","","","","","","","","","",null,null,765.541607368272,1700.76421451512,2659.36011460502,2725.80985701835,2493.9271191839,2515.21757105086,2537.04060683928,2559.41026729699,2582.34005756683,2605.84429003947,2629.93764564603,2654.63518342156,2679.95235031856,2705.90470086711,2732.50827042883,2759.77959162889,2787.73529424153,2816.39306125878,2845.77083178485,2875.88729451877,2906.7618316922,2938.41485202133,2970.86747600659,3004.14181621105,3038.26098281632,3073.24906941622,3109.1310843102,3145.9332958223,3183.68283195187,3222.40809896875,3262.13845821002,3302.90441834996,3344.73838121235,3387.67427081492,3431.74804313612,3476.99843764607,3523.46694016904,3571.19753418069,3620.23809145537,3670.64028382957,3722.43427506217,3775.57789174065,3830.10554850975,3886.0517713049,3922.95154830531,3960.82722862042,3999.70101760274,4039.58685063418,4080.49832234526,4122.44367066535,3865.42409323728,3601.97813253353,3331.94626169486,3055.1633203436,2771.46249399271,2480.67039692439,2182.6100260905,1877.11266457531,1564.02503338106,1243.19546214352,1214.50894092801,1185.25510838236,1155.4279104733,1125.02767630635,1094.04567283425,1062.46264567528,1030.2491331788,997.365992620045,963.765510895634,929.39204919362,894.236644513241,858.179612032524,821.207909377141,783.246120447577,744.290051198992,704.258688158973,663.052349835161,620.661804498757,576.966951923273,531.951980719482,485.616381164725,437.811943053292,388.520321023342,337.734267564466,285.462207942793,231.48255953729,176.013613906547,118.81824333422,60.2145615186602,0,0,"","","","","","","","","","","","","","",""]
["20_3_F",3,20,"F",null,227,0,451,1019,1683,1750,1520,1535,1551,1567,1584,1602,1620,1640,1659,1680,1701,1724,1747,1771,1795,1821,1848,1876,1905,1935,1966,1999,2032,2067,2104,2142,2181,2222,2264,2308,2354,2401,2451,2502,2556,2589,2624,2659,2697,2736,2776,2818,2862,2908,2956,3006,3058,3111,3167,3225,3285,3347,3412,3479,3549,3321,3084,2837,2580,2313,2035,1746,1446,1134,809,772,733,693,651,608,562,515,466,415,362,307,250,191,130,66,0,0,"","","","","","","","","","","","","","","","","","","","",null,null,759.931267307648,1695.28971640283,2654.02388266309,2720.33201023874,2488.30570466481,2505.04324444323,2522.19934484875,2539.78470756444,2557.80987587214,2576.28572044313,2595.22345056887,2614.63387119032,2634.52896474018,2654.92041891535,2675.82042228004,2697.2413921763,2719.19689694398,2741.70051813015,2764.76649770536,2788.40997357256,2812.64674198711,2837.49344175621,2862.96710050398,2889.08577534002,2915.86815551491,2943.33379718678,2971.50302883821,3000.39700092759,3030.03788131116,3060.44897341061,3091.65499490682,3123.68226976613,3156.55877961258,3190.31465495397,3224.98232959446,3260.59654348331,3297.19540019182,3334.82065011238,3373.51820904244,3390.63998996262,3408.32263150366,3426.60218493354,3445.51816718551,3465.11189576725,3485.43008831608,3506.52660883417,3528.46903850457,3551.34025855677,3575.10708578341,3599.68608183641,3625.09645497674,3651.36033337779,3678.48864746956,3706.50835308376,3735.45751272985,3765.38022758877,3796.29706953466,3828.21080545215,3861.0567441069,3594.71799891963,3321.70118143987,3041.75499196484,2754.61093402545,2459.98897248345,2157.64943026486,1847.3672403608,1528.93305453727,1202.23320842079,867.286629441095,824.131022153056,779.803656352277,734.189710522332,687.259065746072,638.862790264101,589.085977680659,537.771124550103,484.874980173194,430.355957994683,374.171786231374,316.277042122546,256.619822324938,195.136532921735,131.742768142872,66.6766120231017,0,0,"","","","","","","","","","","","","","","","","","","",""]
["25_3_F",3,25,"F",null,216,0,457,1033,1705,1773,1544,1562,1581,1601,1621,1642,1664,1687,1711,1736,1761,1788,1816,1844,1874,1905,1937,1971,2005,2041,2079,2118,2158,2200,2244,2289,2336,2385,2436,2489,2522,2557,2593,2631,2670,2711,2754,2798,2845,2893,2944,2996,3051,3107,3166,3227,3291,3357,3425,3496,3269,3033,2787,2532,2266,1990,1702,1403,1093,770,735,698,660,620,579,535,491,444,395,345,292,238,182,123,63,0,0,"","","","","","","","","","","","","","","","","","","","","","","","","",null,null,761.358795944588,1697.18115462007,2656.38923886798,2722.7486466616,2490.77619861219,2509.760849737,2529.21840886167,2549.1607773522,2569.59938486242,2590.54615582023,2612.01314970966,2634.01374328211,2656.56114711857,2679.669223237,2703.35280757674,2727.62738690581,2752.50936996557,2778.01537396566,2804.16320945267,2830.97122538853,2858.45871575512,2886.64573966937,2915.55299652622,2945.2021908548,2975.61606283026,3006.81857696492,3038.83519584246,3071.69301518467,3105.42107934669,3140.05061655036,3175.61512455567,3212.15116367611,3249.69871680756,3288.30169895328,3306.40951571673,3325.08606324612,3344.36564338665,3364.28597881373,3384.88688472654,3406.21328372101,3428.31679398428,3451.26149921128,3475.12563144866,3500.00074816322,3525.937082501,3552.74016040285,3580.41937820098,3609.00135031678,3638.50623241502,3668.97246559698,3700.43178677177,3732.91530032944,3766.42613508153,3800.90078587282,3536.22476636808,3264.90860887896,2986.70668198118,2701.32078382888,2408.51019221533,2107.99764376943,1799.61058526385,1483.15552634528,1158.46939313961,825.573524730367,784.509120192002,742.318385893384,698.893383241278,654.213524985032,608.143073018989,560.785421131284,511.853894485541,461.45017633555,409.567736509993,356.009703121744,300.940843863905,244.142535513724,185.552845519463,125.410163521104,63.445586770881,0,0,"","","","","","","","","","","","","","","","","","","","","","","","",""]
["28_3_F",3,28,"F",null,208,0,460,1041,1719,1787,1558,1579,1600,1622,1644,1668,1693,1718,1744,1772,1800,1830,1861,1893,1926,1960,1996,2033,2072,2112,2153,2197,2242,2288,2337,2387,2440,2474,2509,2546,2584,2623,2664,2707,2752,2799,2847,2898,2951,3007,3064,3123,3185,3249,3316,3385,3456,3231,2996,2751,2496,2232,1956,1670,1372,1063,742,708,672,635,597,557,516,472,427,381,332,282,229,175,119,60,0,0,"","","","","","","","","","","","","","","","","","","","","","","","","","","","",null,null,760.739846400771,1695.16227511464,2652.93306297064,2719.19722828656,2487.12763109977,2507.60186368166,2528.58401375514,2550.08588169413,2572.12070599486,2594.70142868502,2617.84163674596,2641.55594779158,2665.85962484358,2690.7689106451,2716.3001254294,2742.4709018569,2769.29934296411,2796.80455360632,2825.00639860349,2853.92525112464,2883.58248063319,2914.00041973412,2945.20248750639,2977.21352260236,3010.05997911316,3043.77011444718,3078.37428328145,3113.90508339535,3150.39795665366,3187.89160486321,3226.42849275251,3245.25620807482,3264.65847705111,3284.6683363334,3305.32221143988,3326.65883296998,3348.72182709898,3371.56118920235,3395.23847275526,3419.82854514215,3445.41911809643,3472.10970044546,3499.91892606598,3528.6237577676,3558.25069422075,3588.82912661992,3620.38870681368,3652.9729172498,3686.60161156283,3721.2772570415,3756.95612955136,3493.48412511347,3223.39163504114,2946.43416568722,2662.35278123153,2370.837306661,2071.69811560171,1764.67405480513,1449.62354252195,1126.39176051551,794.933450705712,755.363765705968,714.738899578078,672.969406939529,629.943093553537,585.643863343879,539.929578665905,492.92075296895,444.483082669368,394.430925102231,342.909990178977,289.716353634748,235.046610243173,178.683844508278,120.592465606541,61.0957502238113,7.105427357601e-15,0,"","","","","","","","","","","","","","","","","","","","","","","","","","","",""]
["32_3_F",3,32,"F",null,197,0,467,1056,1744,1813,1585,1609,1633,1658,1685,1712,1740,1770,1800,1832,1865,1899,1934,1971,2009,2049,2090,2133,2177,2223,2271,2321,2373,2408,2443,2480,2519,2559,2600,2644,2689,2736,2785,2836,2890,2946,3004,3065,3128,3193,3260,3330,3403,3178,2945,2701,2448,2185,1911,1626,1330,1022,703,671,637,602,566,528,489,448,405,361,315,267,217,166,112,57,0,0,"","","","","","","","","","","","","","","","","","","","","","","","","","","","","","","","",null,null,761.591319058964,1695.6965091529,2653.13570309279,2719.38367080587,2487.29902102766,2509.93267612411,2533.12437425357,2556.88843902361,2581.23983224145,2606.19457477677,2631.76858578378,2657.97926023366,2684.84437052153,2712.38276891046,2740.61406080014,2769.55817957255,2799.23604313147,2829.66943362004,2860.88103135612,2892.8948292755,2925.73641205803,2959.43296943591,2994.01367059063,3029.50989236026,3065.95555764025,3103.38762777023,3141.84659672027,3161.67758015903,3182.09160162081,3203.11999240855,3224.79743184197,3247.16119770028,3270.25317726993,3294.12118521228,3318.82336057823,3344.43002417129,3371.02369295722,3398.6984949837,3427.55889733999,3457.68655575786,3488.76727653146,3520.82137605567,3553.88684532282,3588.00702652357,3623.21639975268,3659.50622816127,3696.81443365779,3435.02965831401,3166.63989033787,2891.42904257561,2609.10853154518,2319.40756417282,2022.09901175451,1716.97433836851,1403.84601432996,1082.62794523433,753.220345994984,715.741863744913,677.253629119184,637.673079658474,596.897552792497,554.924146098767,511.629022116529,467.003522904388,421.058278831724,373.642703617541,324.747907069347,274.380155376107,222.569323431958,169.100157106006,114.259860984773,57.8647249715905,0,0,"","","","","","","","","","","","","","","","","","","","","","","","","","","","","","","",""]
["37_3_F",3,37,"F",null,182,0,478,1082,1786,1857,1630,1658,1687,1717,1749,1781,1815,1850,1886,1924,1963,2004,2046,2090,2135,2182,2232,2283,2318,2354,2392,2431,2471,2514,2558,2604,2651,2701,2753,2807,2864,2923,2984,3049,3115,3184,3256,3330,3107,2875,2633,2382,2120,1848,1566,1272,966,649,619,588,556,523,488,451,413,374,333,291,247,201,153,104,53,0,0,"","","","","","","","","","","","","","","","","","","","","","","","","","","","","","","","","","","","","",null,null,764.025835681263,1698.76849691711,2656.84809629846,2723.1405062245,2491.10824676179,2516.74679680466,2543.01822757243,2569.93986629077,2597.53022644676,2625.80856556665,2654.79422399153,2684.50751082123,2714.96946512968,2746.20176835364,2778.22726944378,2811.07037727156,2844.75683657381,2879.31421182629,2914.77222751277,2951.16274957079,2988.52038196031,3026.88294901622,3048.09221625427,3069.89645435251,3092.3246952024,3115.40926536553,3139.18549076929,3163.69292069587,3188.97643460528,3215.08956463813,3242.09649239206,3270.07272183461,3299.10512267138,3329.29125824348,3360.74398272838,3393.60168201572,3427.67202285144,3462.79009041081,3499.00987473257,3536.35312696584,3574.80867965216,3614.33230513789,3354.79488976876,3088.71179308601,2815.84565160771,2535.91049726228,2248.68230365888,1953.90566902794,1651.3259746364,1340.81094799808,1022.28698019672,695.670585848079,661.101707745051,625.574188776433,589.009766082023,551.312132860909,512.487581520253,472.56623785676,431.456735482138,389.039807751807,345.339443918893,300.205083878067,253.644222131595,205.689422631708,156.414934298933,105.648065188282,53.4587814458349,0,0,"","","","","","","","","","","","","","","","","","","","","","","","","","","","","","","","","","","","",""]
["42_3_F",3,42,"F",null,164,0,491,1111,1834,1906,1681,1715,1749,1785,1822,1861,1900,1942,1985,2030,2076,2125,2175,2210,2248,2286,2326,2368,2411,2456,2502,2551,2601,2654,2708,2766,2826,2888,2954,3022,3093,3166,3242,3021,2791,2551,2302,2043,1774,1493,1202,899,585,558,530,501,471,439,407,373,337,300,262,222,181,138,94,48,0,0,"","","","","","","","","","","","","","","","","","","","","","","","","","","","","","","","","","","","","","","","","","",null,null,764.964324384731,1698.19595722656,2654.70944444658,2720.87468851219,2488.72431459779,2517.77740413356,2547.5512793631,2578.06610643952,2609.34238928612,2641.40162706227,2674.26684187086,2707.96207156956,2742.51298446576,2777.94735340077,2814.29461160732,2851.58657385688,2889.85790500136,2912.7464021669,2936.24509100681,2960.38030879948,2985.18162932673,3010.68210892066,3036.91857366552,3063.93247631915,3091.77194263083,3120.49393772545,3150.16572560734,3180.865662225,3212.68323787025,3245.72241696522,3280.10956901478,3316.00673331824,3353.59423008038,3392.3304985514,3432.23613980096,3473.3162862057,3515.51310372994,3258.69938688799,2995.3942015113,2725.36599051615,2448.33700992398,2164.05138215306,1872.25288629169,1572.79674714891,1265.46427125962,950.187478050495,626.89066100013,595.724333812377,563.69663595725,530.748634812741,496.810218887268,461.923367997838,425.885515515314,388.721176186321,350.488580585867,311.106536085201,270.463036204834,228.624610960654,185.462022937803,141.059480890128,95.2620471194684,48.1716492149281,0,0,"","","","","","","","","","","","","","","","","","","","","","","","","","","","","","","","","","","","","","","","","",""]
["47_3_F",3,47,"F",null,144,0,508,1148,1896,1970,1748,1787,1828,1870,1914,1959,2007,2056,2093,2131,2170,2211,2254,2298,2343,2391,2440,2492,2545,2601,2659,2720,2783,2849,2919,2991,3067,3145,2926,2698,2461,2214,1957,1691,1413,1125,825,514,490,466,440,413,386,357,327,296,264,230,195,159,121,82,42,0,0,"","","","","","","","","","","","","","","","","","","","","","","","","","","","","","","","","","","","","","","","","","","","","","","",null,null,767.693197382597,1700.5124875783,2656.58143167495,2722.69712465103,2490.5101448932,2523.42965499826,2557.16525770904,2591.74055770357,2627.18120505443,2663.51398225479,2700.76766314154,2738.9734666631,2763.76485656906,2789.18467189878,2815.25635075721,2842.00651169982,2869.46579577875,2897.66812413609,2926.65128217193,2956.45756727717,2987.1361470602,3018.74538754304,3051.3544727098,3085.0442328437,3119.90910953961,3156.06256553138,3193.64735566017,3232.85067215484,3273.92310583832,3316.69391122173,3360.67912545747,3405.83641351156,3152.04181519771,2891.82004369826,2624.91558849258,2351.08765889674,2070.09430535135,1781.64849191633,1485.61151462562,1181.77312885567,870.07610420993,550.459032383335,523.091351470259,494.91104167658,465.965268453982,436.222634980767,405.52141598157,373.918241482135,341.359918375505,307.781876555089,273.100675847945,237.408315887775,200.637073320762,162.689506405073,123.701897012976,83.6067756807358,42.297057847254,0,0,"","","","","","","","","","","","","","","","","","","","","","","","","","","","","","","","","","","","","","","","","","","","","","",""]
["48_3_F",3,48,"F",null,139,0,511,1155,1906,1981,1758,1799,1841,1885,1930,1977,2026,2063,2101,2141,2182,2225,2269,2315,2363,2413,2465,2518,2574,2632,2693,2757,2823,2893,2966,3041,3120,2902,2674,2438,2192,1936,1670,1393,1105,806,495,473,449,424,399,372,344,315,285,254,222,188,153,117,79,40,0,0,"","","","","","","","","","","","","","","","","","","","","","","","","","","","","","","","","","","","","","","","","","","","","","","","",null,null,766.755266156034,1697.80667730733,2652.05523432515,2718.02747767927,2485.69640386271,2519.44147099911,2554.02221965462,2589.46376827092,2625.79223558322,2663.03563400059,2701.2243196686,2726.49067143347,2752.38997992288,2778.94495650122,2806.1814787941,2834.12958184729,2862.82245808648,2892.29697319616,2922.59396380785,2953.76064361783,2985.85314886514,3018.93836463466,3053.09494984189,3088.41495809297,3125.00861629743,3163.01384589725,3202.61075534043,3244.04017682293,3287.50871040323,3332.22901120973,3378.12837609782,3125.08032527047,2865.63448949998,2599.51028942289,2326.46423092248,2046.25127440701,1758.62951788281,1463.41761192796,1160.46432819465,849.660164612946,531.019585740564,504.564432537589,477.39645958983,449.488363719394,420.696439928752,391.079012725166,360.597623426321,329.208435367677,296.86018760514,263.48876144651,229.008332608364,193.52609885447,156.977261256499,119.266331273209,80.5633000384949,40.8284100053354,0,0,"","","","","","","","","","","","","","","","","","","","","","","","","","","","","","","","","","","","","","","","","","","","","","","",""]
["55_3_F",3,55,"F",null,106,0,539,1219,2012,2090,1872,1912,1953,1996,2040,2086,2134,2184,2235,2289,2344,2402,2461,2524,2588,2656,2726,2800,2878,2960,2745,2521,2288,2046,1795,1533,1261,978,684,378,361,343,324,304,284,263,241,218,194,169,144,117,89,61,31,0,0,"","","","","","","","","","","","","","","","","","","","","","","","","","","","","","","","","","","","","","","","","","","","","","","","","","","","","","","",null,null,770.94854679024,1699.49356027241,2651.09748929911,2716.76436613811,2484.15269142063,2513.31717837413,2543.16615149413,2573.72086897239,2605.00764496403,2637.05517865607,2669.89463230267,2703.55766939559,2738.0791857349,2773.50127510044,2809.87640308837,2847.26970915396,2885.75841457318,2925.43255402448,2966.39971472574,3008.79540518243,3052.79896954281,3098.65287801382,3146.68227104659,3197.31312737701,2949.2600010796,2694.89802599189,2433.98588548139,2166.26520326221,1891.46389850523,1609.39447662206,1319.845370535,1022.67909285439,717.803660432492,405.256860803744,385.091427892389,364.354858730392,343.041817623026,321.155201129754,298.580726556227,275.299990276525,251.298248478243,226.566019733994,201.100104381865,174.905501296243,147.770554439017,119.869960762344,91.2256550573306,61.5654861731902,31.1353342486731,0,0,"","","","","","","","","","","","","","","","","","","","","","","","","","","","","","","","","","","","","","","","","","","","","","","","","","","","","","",""]
["3_1_F",1,3,"F",null,91,0,564,586,609,634,559,563,568,572,577,582,587,592,597,603,609,615,621,628,635,642,649,657,665,673,682,691,700,710,720,731,741,753,765,777,790,803,817,831,846,862,878,895,912,931,950,969,990,1011,1034,1057,1081,1106,1132,1159,1187,1216,1237,1259,1282,1306,1331,1357,1284,1208,1129,1046,961,872,779,683,583,479,470,462,453,443,434,423,413,402,390,378,365,352,338,324,309,294,278,261,243,225,206,187,166,145,123,100,76,52,26,0,0,"","","",null,null,940.484185612177,963.99168929349,988.089437520307,1012.79170222984,938.113395886972,943.36256884487,948.743358543574,954.258985182161,959.912817940281,965.708357230441,971.649147397623,977.7388925276,983.981391903547,990.380542471726,996.940341371524,1003.66488853153,1010.55838933338,1017.62515734521,1024.86961712641,1032.29626902736,1039.90979780585,1047.71497815868,1055.71670773009,1063.92001030223,1072.33003906897,1080.95216673852,1089.79193094575,1098.85503985497,1108.14760585843,1117.67573967971,1127.44600970758,1137.46524894753,1147.74072019578,1158.27968194684,1169.09000848295,1180.17992623424,1191.55783300877,1203.23247278484,1215.21273005653,1227.50829132259,1240.12878781934,1253.08447702105,1266.38577322604,1280.0434912704,1294.06946352237,1308.47605947421,1323.26925393151,1338.44991639615,1354.02763627986,1370.01394292499,1386.41995275372,1403.25694556766,1420.53602776451,1438.26889035115,1456.46741664867,1475.143562587,1485.20971153157,1495.55057637399,1506.17178950806,1517.07772696782,1528.27057438751,1539.75148192406,1451.5204734284,1361.08916029105,1268.40318411363,1173.41151915464,1076.05020247568,976.263172087406,873.99441898202,769.181286409952,661.770837487221,551.714517200827,538.981879089247,525.985362895698,512.734751739979,499.241907289119,485.473718903582,471.458031922239,457.142924966468,442.524231131638,427.60275843563,412.338289029893,396.733134231161,380.736372613466,364.352754681978,347.520568740397,330.2438475936,312.442802846889,294.115262902739,275.268975430002,255.924892069267,235.981192848655,215.448953162484,194.185419456119,172.357066019054,149.819956544741,126.581391439381,102.663181441291,78.1112973789875,52.694374811583,26.7293907229175,3.5527136788005e-15,0,"","",""]
["8_1_F",1,8,"F",null,88,0,569,592,616,640,566,571,576,582,587,593,599,605,612,619,626,633,641,649,657,666,675,684,694,704,714,725,736,748,761,773,786,800,815,829,845,861,878,895,913,932,952,972,994,1016,1039,1063,1087,1113,1140,1168,1197,1219,1241,1264,1288,1313,1339,1266,1190,1111,1029,944,855,763,667,567,463,455,447,438,429,420,410,399,389,378,366,354,341,328,314,300,285,269,253,236,218,200,181,161,140,119,97,74,50,26,0,0,"","","","","","","","",null,null,944.006047645164,967.60297180603,991.79151938371,1016.58662798024,942.003660145634,947.949767438398,954.044841604812,960.292682280275,966.697186772302,973.262352590792,979.992280044345,986.891174904362,993.96335113872,1001.21323371683,1008.64534766368,1016.26435451868,1024.07502943646,1032.08227053086,1040.29110206569,1048.70667772887,1057.33434651369,1066.17962175966,1075.24818673993,1084.54607993169,1094.07938472652,1103.85459310883,1113.87845978551,1124.1581431127,1134.70084289828,1145.51432487467,1156.60670415991,1167.98628856805,1179.66172972845,1191.64184152389,1203.93618955837,1216.55432930341,1229.50641616438,1242.80278373467,1256.45416383784,1270.47225499761,1284.86928904551,1299.65836202748,1314.84268303265,1330.42468366589,1346.41490436502,1362.82439891756,1379.66572474815,1396.94872789672,1414.68502849346,1432.88642834331,1451.56479085773,1461.930893185,1472.5788214988,1483.51441452498,1494.74228817475,1506.26492042944,1518.08378128853,1430.19924378714,1340.12328186545,1247.80194175083,1153.17928743946,1056.19652711256,956.798219230219,854.921484408181,750.510937358107,643.514419195954,533.884302973534,521.578709473455,509.021833661724,496.225178426913,483.182829069737,469.880825308117,456.322777809032,442.515584932216,428.397235787355,413.962537076171,399.21274067323,384.102933192651,368.635476182701,352.75566552398,336.46852440361,319.704700277257,302.466816243825,284.76881564196,266.523466290748,247.738562200821,228.435562140549,208.500309456981,187.94011841763,166.776510410999,145.051539776641,122.610313338986,99.4621904845332,75.6334063182141,51.1794681043771,26,0,0,"","","","","","","",""]
["9_1_F",1,9,"F",null,87,0,569,592,616,640,566,571,576,582,588,594,600,607,613,621,628,636,644,652,660,669,679,688,698,709,720,731,743,755,768,781,795,809,824,839,855,872,889,908,926,946,966,988,1010,1033,1056,1081,1107,1134,1162,1191,1212,1235,1258,1282,1307,1333,1260,1184,1106,1024,938,850,757,661,562,458,450,442,433,424,415,405,395,384,373,362,350,337,324,310,296,281,266,250,233,216,198,179,159,139,118,96,73,50,25,0,0,"","","","","","","","","",null,null,942.203015012989,965.754636941541,989.896768357827,1014.64436528907,940.012819569853,946.108737790209,952.357403018778,958.762712081798,965.328661995513,972.059352562161,978.958989033748,986.031884845385,993.282464420002,1000.71526035317,1008.33492568194,1016.14623497637,1024.15408575066,1032.36350165352,1040.77963574194,1049.40782823415,1058.25358347474,1067.32257551592,1076.62081712821,1086.15438160233,1095.92973431161,1105.95360267637,1116.23310894219,1126.77543213471,1137.58830040455,1148.67979030808,1160.05817821287,1171.73208345942,1183.71029490216,1196.0023361475,1208.61773579678,1221.5666134763,1234.85927413325,1248.50642010997,1262.51970326275,1276.91130739416,1291.69427092694,1306.87769608751,1322.45862444933,1338.44757652504,1354.85681743251,1371.69643890677,1388.97746325688,1406.71147623651,1424.91024032701,1443.58557445991,1454.05054044757,1464.79751740482,1475.83447593971,1487.16610302008,1498.7949649092,1510.72262781916,1422.94956912063,1332.98786821712,1240.7788654662,1146.27086488047,1049.41119186439,950.132596051765,848.385808355385,744.109161935813,637.241206630328,527.742717354366,515.571981192274,503.153448758015,490.49903439016,477.603456455998,464.453668596603,451.054523578452,437.382155889789,423.439312681258,409.192675557216,394.597852733053,379.652163351518,364.360675267373,348.672060065307,332.595635949507,316.067559579649,299.097589550705,281.603655914065,263.590282362855,245.074354804112,225.948800550236,206.217710112082,185.898591855458,165.027561021718,143.461665691454,121.209865951219,98.2967486805784,74.7729666438733,50.4151836368596,25.5544724493826,0,0,"","","","","","","","",""]
["14_1_F",1,14,"F",null,83,0,575,598,622,647,573,579,586,592,599,607,614,622,630,639,648,657,667,677,687,698,709,721,733,746,759,772,786,801,817,832,849,866,884,903,922,943,964,986,1008,1032,1057,1082,1109,1137,1165,1187,1210,1233,1257,1283,1309,1236,1161,1082,1000,915,827,735,639,540,437,429,421,413,404,395,386,376,366,356,345,333,321,309,296,282,268,253,238,222,206,188,170,152,132,112,91,70,47,24,0,0,"","","","","","","","","","","","","","",null,null,942.493218147278,966.051143290098,990.200199608655,1014.95547052544,940.332427343558,947.235150443243,954.311047789671,961.564541697554,969.000195119246,976.622627169168,984.436610162927,992.447039302194,1000.65893586354,1009.07745047067,1017.70788834072,1026.55571794043,1035.62657654344,1044.92637421503,1054.46114395527,1064.23724482311,1074.26129522764,1084.54027311977,1095.08127453509,1105.89187745593,1116.98000435788,1128.35380598745,1140.02177270095,1151.99259340906,1164.27562392124,1176.88028554171,1189.8165549804,1203.0946227981,1216.72507361833,1230.71937286101,1245.08951245668,1259.84830060006,1275.00973566921,1290.58616615309,1306.57096393557,1322.97405599938,1339.80653219855,1357.08077341901,1374.80693345945,1392.99663837147,1411.66348511077,1422.51738135812,1433.66258044137,1445.10733188622,1456.85664580109,1468.91029309931,1481.27302567018,1393.94573779256,1304.43660492307,1212.69595146039,1118.66843777617,1022.29603436125,923.517485186096,822.276816685386,718.519818284935,612.186020196743,503.22638015601,491.609604540019,479.761723026102,467.679744655976,455.375133960386,442.838587754117,430.052180694464,417.020329206517,403.715569294018,390.100104477255,376.172922903619,361.94160420737,347.36210600236,332.378528813901,316.99458008492,301.225356532178,285.005587250445,268.352288340799,251.182520755762,233.510056309409,215.223862912889,196.477526099694,177.172494542437,157.164596009564,136.65155649723,115.499338872695,93.7499453359596,71.1978405784472,48.1359924621362,24.3795541758478,3.5527136788005e-15,0,"","","","","","","","","","","","","",""]
["19_1_F",1,19,"F",null,91,0,583,607,631,656,582,587,592,598,604,609,615,622,628,635,642,650,657,665,674,682,691,700,710,720,731,741,753,764,777,789,802,816,830,845,860,876,893,910,928,947,958,969,980,992,1004,1017,1030,1044,1058,1073,1089,1105,1122,1139,1157,1176,1195,1215,1236,1258,1180,1099,1015,928,837,742,644,541,435,324,309,294,278,261,243,225,206,187,166,145,123,100,76,52,26,0,0,"","","","","","","","","","","","","","","","","","","",null,null,945.951585198703,969.595235516545,993.832792648969,1018.6794195644,944.150656581392,949.548213223282,955.081282170031,960.753327267396,966.567901589094,972.52862805546,978.639241296436,984.903591460954,991.325642369357,997.909513390602,1004.65947422919,1011.57997058288,1018.67565641087,1025.95133661565,1033.41207274808,1041.0631597557,1048.91008240504,1056.95855611018,1065.21446624629,1073.68408175757,1082.37378531384,1091.29030268423,1100.44053958126,1109.83166999236,1119.47139816337,1129.36778567117,1139.52941418152,1149.96560516623,1160.68636919753,1171.7023054326,1183.02501292139,1194.66702857561,1206.64171165888,1218.96396914549,1231.65024235057,1244.71869301587,1249.09019990219,1253.63906998009,1258.36088181482,1263.25326699943,1268.32359156814,1273.57649770397,1279.02053244784,1284.66321234456,1290.51802100127,1296.5939946588,1302.89762287719,1309.43793804003,1316.2162289159,1323.24230208028,1330.52188627175,1338.06347822607,1345.88856858003,1354.00471344913,1362.40751510543,1371.07282066939,1279.97306482141,1186.60989070374,1090.88704903816,992.695574990636,891.956818479416,788.599511539308,682.507533397588,573.675230505286,461.999710864578,347.520568740397,330.2438475936,312.442802846889,294.115262902739,275.268975430002,255.924892069267,235.981192848655,215.448953162484,194.185419456119,172.357066019054,149.819956544741,126.581391439381,102.663181441291,78.1112973789876,52.694374811583,26.7293907229175,0,0,"","","","","","","","","","","","","","","","","","",""]
["22_1_F",1,22,"F",null,89,0,588,611,636,661,587,593,599,605,611,618,624,632,639,647,654,663,671,680,689,699,709,719,730,741,753,765,778,791,804,818,833,848,864,881,898,916,935,945,956,968,980,992,1005,1018,1032,1047,1062,1078,1094,1111,1128,1146,1165,1185,1205,1226,1248,1171,1090,1006,919,828,734,636,534,428,318,303,288,272,256,239,221,202,183,163,142,121,98,75,51,26,0,0,"","","","","","","","","","","","","","","","","","","","","","",null,null,946.831301850722,970.496466263369,994.756422288369,1019.62637015442,945.121901568961,950.94322244761,956.910769078002,963.028262011002,969.29953698385,975.728511063902,982.319287737832,989.076088473934,996.003309575048,1003.105538438,1010.38754372283,1017.85431791771,1025.51108520545,1033.36327377823,1041.41654104152,1049.67672881907,1058.15002947284,1066.84277897857,1075.76163920779,1084.91346619094,1094.30538285029,1103.94500905091,1113.84031965597,1123.99979123661,1134.43260529782,1145.14861250526,1156.15824747812,1167.47290790203,1179.10490727155,1191.06737453339,1203.37493096635,1216.04369084353,1229.09144581524,1233.63861134032,1238.36444194027,1243.28316498987,1248.39093358898,1253.68190387565,1259.16093348065,1264.83680480733,1270.71727938322,1276.81129288186,1283.13231053136,1289.68711601976,1296.48512249832,1303.52807437535,1310.82629916174,1318.38612602039,1326.21678519785,1334.32808828639,1342.73898730722,1351.44626379832,1360.4274602235,1269.63353963512,1176.58770607489,1081.19660948663,983.35499590618,882.988864270423,779.984002783625,674.269884926886,565.785811965639,454.486199390585,340.341382214808,323.427743652439,306.027642740583,288.150800743196,269.70441666592,250.68885180199,231.115523478234,211.011195686644,190.254924944582,168.857337755803,146.844464041303,124.03716249108,100.661494935497,76.5383017819092,51.684437006779,26.14193158615,0,0,"","","","","","","","","","","","","","","","","","","","","",""]
["26_1_F",1,26,"F",null,85,0,590,613,638,663,590,596,603,610,617,625,633,641,649,658,667,677,687,697,708,719,730,742,755,768,781,795,809,825,840,857,874,891,910,920,932,943,955,968,981,995,1009,1024,1039,1055,1071,1089,1106,1125,1144,1164,1185,1206,1229,1152,1071,988,901,811,717,620,518,413,303,289,275,260,244,228,211,193,175,156,136,115,94,72,49,25,0,0,"","","","","","","","","","","","","","","","","","","","","","","","","","",null,null,940.339558915546,963.840566218801,987.932661946332,1012.6310132605,937.951256065423,944.390545460913,950.991511695111,957.758276936288,964.695135760809,971.806539231604,979.097180505665,986.571910485853,994.235808219446,1002.09418516661,1010.15257899017,1018.41674072179,1026.89270535502,1035.58671148135,1044.50528883277,1053.65518975963,1063.04343057527,1072.67745730521,1082.56506608598,1092.71451754235,1103.13470675759,1113.83515752944,1124.82596797485,1136.1181247305,1147.72348541108,1159.65470876103,1171.92583373057,1184.55230833683,1197.55117052143,1202.44189324633,1207.51360821385,1212.77986827741,1218.25542420288,1223.95538089953,1229.87399801434,1235.99645112417,1242.33429654025,1248.89686608352,1255.69810686954,1262.74541841734,1270.04900009404,1277.60392480031,1285.4280176573,1293.51899959929,1301.89530027724,1310.56792896292,1319.54284122712,1328.83085494999,1338.39203741114,1248.19702648136,1155.77342960989,1061.00133829982,963.808273495535,864.085413434494,761.762250082153,656.723815418823,548.966158349085,438.388613651031,325.033814432257,308.911900623244,292.301636191659,275.208266177231,257.64955866896,239.532031575058,220.866345615695,201.678485501774,181.846632043966,161.380322290774,140.304133635623,118.665637002919,96.2950621747846,73.199971046795,49.4052458320557,25,0,0,"","","","","","","","","","","","","","","","","","","","","","","","","",""]
["31_1_F",1,31,"F",null,81,0,602,625,650,676,603,611,619,628,636,645,655,665,675,685,696,708,719,732,745,758,772,786,801,816,832,849,867,885,896,907,919,931,944,957,971,985,1000,1016,1032,1049,1067,1085,1104,1123,1144,1165,1186,1209,1133,1053,970,884,794,701,604,503,398,289,276,262,247,232,217,201,184,166,148,129,110,89,68,46,24,0,0,"","","","","","","","","","","","","","","","","","","","","","","","","","","","","","","",null,null,942.741853704727,966.301267976765,990.454120339628,1015.21611859627,940.603651307303,947.905358648603,955.390538763988,963.064127748216,970.931322498689,978.997543190872,987.268452297723,995.749929989317,1004.44811989205,1013.3694222283,1022.52048828111,1031.90823046611,1041.53992404337,1051.42318963079,1061.56607539201,1071.97719391629,1082.66574640424,1093.64149896624,1104.9150322269,1116.49775339704,1128.40185681133,1140.64080571271,1153.22938923095,1166.18389978716,1171.42287746761,1176.84534200439,1182.46418374463,1188.29347226107,1194.34773657894,1200.64345148596,1207.19969753492,1214.00051996373,1221.03793765482,1228.3210922529,1235.86269004036,1243.66693845443,1251.73560399165,1260.07889911652,1268.70274524477,1277.62652479716,1286.84983030976,1296.39043344787,1306.26104084242,1316.4245446514,1226.83177866767,1135.00636132201,1040.85600295642,944.277254091891,845.198738895776,743.509798134913,639.144566600573,532.048483267373,422.183676395116,309.530501491553,294.092451377823,278.23515109452,261.985775340727,245.274794521372,228.005833420657,210.185892827618,191.836176259108,172.998281631026,153.555990528512,133.54170091906,112.786270497597,91.5317070179371,69.6248449813689,47.1260546573323,24,0,0,"","","","","","","","","","","","","","","","","","","","","","","","","","","","","","",""]
["36_1_F",1,36,"F",null,76,0,614,639,664,690,618,627,637,647,657,668,679,691,703,716,729,742,757,771,787,802,819,836,854,865,877,889,901,914,927,941,956,971,987,1004,1021,1039,1058,1077,1097,1118,1139,1162,1185,1109,1030,947,862,772,680,583,483,379,271,259,246,232,218,204,188,173,156,139,121,103,84,64,43,22,0,0,"","","","","","","","","","","","","","","","","","","","","","","","","","","","","","","","","","","","",null,null,942.350216703884,965.894781064553,990.034605757384,1014.78635012836,940.167384146081,948.449620802639,956.940962076707,965.647435412002,974.575281887596,983.731029178058,993.12146265539,1002.75364732985,1012.63498776772,1022.7732701922,1033.17675817253,1043.85425411834,1054.81511382183,1066.06941564727,1077.6280095133,1089.50251528528,1101.70568347977,1114.25148730444,1127.15529582194,1132.83449306116,1138.70047010934,1144.76530171532,1151.04221962857,1157.54504709371,1164.2894169719,1171.29335884915,1178.57951452844,1186.17566278794,1194.06138244226,1202.21510182073,1210.64716958333,1219.36043603949,1228.35780417348,1237.65375750358,1247.25810488528,1257.18117094942,1267.44275194775,1278.024066817,1288.91908766735,1200.08281563618,1109.01679112425,1015.65801175065,919.87416012826,821.633919075932,720.789714035311,617.328801239055,511.150983210528,402.218186538582,290.51071399072,276.032195228469,261.14864257003,245.887954439769,230.181778728921,213.935544417232,197.299744551427,180.043378379535,162.335992625654,144.071997401034,125.299582581824,105.873667692578,85.8194618693636,65.189279241602,44.0825790150913,22.3234471971618,0,0,"","","","","","","","","","","","","","","","","","","","","","","","","","","","","","","","","","","",""]
["41_1_F",1,41,"F",null,71,0,634,659,685,712,640,651,663,675,687,700,714,728,742,757,773,789,806,823,835,846,858,871,884,898,912,927,942,959,976,993,1011,1030,1050,1071,1092,1114,1137,1160,1085,1006,925,840,751,659,563,464,361,253,242,229,217,204,190,176,161,146,130,113,96,78,60,41,21,0,0,"","","","","","","","","","","","","","","","","","","","","","","","","","","","","","","","","","","","","","","","","",null,null,946.83023461338,970.480270851251,994.732724962267,1019.6052735417,945.11632921554,954.513947185588,964.15124216943,974.035407218465,984.173971544303,994.574855250661,1005.24646799593,1016.19776161188,1027.43831932566,1038.97844150777,1050.82918174598,1063.00258719437,1075.51182555912,1088.37135412405,1094.49741446701,1100.81378437286,1107.33173998383,1114.06369375442,1121.02278222782,1128.22381798708,1135.68380474974,1143.42378811638,1151.46942565156,1159.85075672554,1168.60178302247,1177.66276237783,1187.02178621984,1196.68300069625,1206.65267050625,1216.93931577436,1227.56401834133,1238.53392828573,1249.84483013611,1261.49425597263,1173.41843650299,1083.14415223263,990.551330775128,895.568113854286,798.12996266255,698.135017182781,595.528604161182,490.208484526735,382.134092343967,271.360074114109,257.826430670548,243.994218376707,229.71327625623,215.000938086643,199.891902784698,184.303887456048,168.275636390826,151.703697778642,134.624429922112,117.102416368069,99.0175513201389,80.4340952415926,61.1828483731046,41.298418937966,21,0,0,"","","","","","","","","","","","","","","","","","","","","","","","","","","","","","","","","","","","","","","","",""]
["42_1_F",1,42,"F",null,69,0,634,659,685,712,640,652,663,676,689,702,716,730,745,761,777,794,811,823,834,847,859,872,886,901,915,931,947,964,982,1000,1019,1039,1060,1081,1104,1127,1151,1075,997,915,831,742,651,555,456,353,246,235,223,211,198,185,171,157,142,126,110,93,76,58,39,20,0,0,"","","","","","","","","","","","","","","","","","","","","","","","","","","","","","","","","","","","","","","","","","",null,null,941.391813226349,964.9009467365,989.009680055728,1013.73576232961,939.097642028036,948.737669203214,958.623671610516,968.763076391105,979.163667089881,989.833697164405,1000.78195780931,1012.01783525795,1023.5514112151,1035.39351397773,1047.55591074975,1060.05144858897,1072.89422179255,1079.2000169847,1085.69756891471,1092.39783681321,1099.31290817663,1106.4556477096,1113.84054310863,1121.48419148245,1129.40700472084,1137.63379779509,1146.19364697677,1155.11955484794,1164.42956514402,1174.0440803923,1183.96770290978,1194.20721069018,1204.77173759464,1215.68316512695,1226.93505083914,1238.53628716297,1250.46553774919,1162.70053426031,1072.72346315695,980.471738688992,885.813929916278,788.720133980028,689.044790414167,586.777887183151,481.822932800222,374.146546435816,263.73520820775,250.600666080418,237.119645203188,223.228915809085,208.958547523849,194.232190448706,179.08437241426,163.41977109082,147.272690539094,130.703967050853,113.607704171851,96.0496248511881,77.8889784027675,59.1807179047568,40.0291655680465,20.2673402184759,0,0,"","","","","","","","","","","","","","","","","","","","","","","","","","","","","","","","","","","","","","","","","",""]
["49_1_F",1,49,"F",null,60,0,667,693,720,748,678,693,708,724,740,757,769,781,793,806,820,834,849,864,880,897,914,932,951,971,991,1013,1035,1058,1082,1107,1032,955,875,791,704,613,519,421,320,214,204,194,183,172,161,149,136,123,110,96,81,66,50,34,17,0,0,"","","","","","","","","","","","","","","","","","","","","","","","","","","","","","","","","","","","","","","","","","","","","","","","","",null,null,945.063139454284,968.648131971276,992.844149644342,1017.67113147575,943.150366621781,954.668318032195,966.485817305071,978.613394772455,991.062480062878,1003.84556235708,1010.97641426845,1018.30611441338,1025.84423748146,1033.60145397747,1041.58945199953,1049.8213102061,1058.31185735598,1067.07873196893,1076.14305409926,1085.52967892995,1095.26723918799,1105.38794780856,1115.92908310294,1126.9363154856,1138.38214440453,1150.17616906422,1162.33960739237,1174.87988492361,1187.79355934701,1201.05956382904,1114.65658767468,1026.0686746198,935.203769618647,841.997279644199,746.351313813023,648.209796033829,547.47642476199,444.109514063794,338.018238709214,229.258576738541,217.858571136738,206.120974530512,194.083244809172,181.690329629643,168.866126540781,155.645985320745,142.090851968926,128.128585738121,113.653670434281,98.7150669644216,83.398285469937,67.5937486812525,51.4068214298757,34.7064987510821,17.6237741030225,0,0,"","","","","","","","","","","","","","","","","","","","","","","","","","","","","","","","","","","","","","","","","","","","","","","","",""]
[{"$f":"C646&\"_\"&B646&\"_\"&D646","v":"51_1_F"},1,51,"F",null,57,0,677,704,731,760,690,706,722,739,751,763,776,789,803,817,832,847,863,880,897,916,935,954,975,997,1019,1043,1067,1092,1018,941,861,778,691,601,507,410,308,203,194,184,174,164,153,141,129,117,104,91,77,63,48,33,17,0,0,"","","","","","","","","","","","","","","","","","","","","","","","","","","","","","","","","","","","","","","","","","","","","","","","","","","",null,null,945.534815850744,969.124692325464,993.329534898868,1018.17041179882,943.669980452431,955.790035974804,968.227854785804,980.995398886671,988.405778788679,996.017531477115,1003.83978166043,1011.88274008833,1020.15771560609,1028.67733188601,1037.45584527155,1046.50999156068,1055.85968601609,1065.52840810681,1075.54336893334,1085.93543304925,1096.74039385284,1108.00191490579,1119.77630571331,1131.98391423128,1144.57335380265,1157.53878976007,1170.89039459704,1184.60924128811,1098.65324011153,1010.52898090081,920.14862164834,827.415595140773,732.268143018167,634.60837480286,534.387008385566,431.50912835261,326.01276215073,217.833279295245,206.990301502072,195.871158828372,184.426916768186,172.590719589705,160.398989823897,147.913314217534,135.075888338327,121.803893775299,108.1638009634,94.0585640426901,79.567837298632,64.5731283084005,49.1657256994143,33.1915920438763,17,0,0,"","","","","","","","","","","","","","","","","","","","","","","","","","","","","","","","","","","","","","","","","","","","","","","","","","",""]
["52_1_F",1,52,"F",null,55,0,681,707,735,764,694,710,727,739,751,764,777,791,805,820,836,852,869,886,905,924,944,964,986,1009,1033,1057,1082,1009,932,852,769,682,593,499,402,301,196,187,178,168,158,147,136,125,113,101,88,74,61,46,31,16,0,0,"","","","","","","","","","","","","","","","","","","","","","","","","","","","","","","","","","","","","","","","","","","","","","","","","","","","",null,null,942.789586575228,966.3031062884,990.431457402702,1015.19626530945,940.620865818549,953.052416414631,965.810886059281,973.40894658347,981.210110286721,989.223205288187,997.458139539625,1005.92597286669,1014.639029947,1023.61119053314,1032.85859501291,1042.40036336526,1052.25906714391,1062.46098000899,1073.03607870185,1084.01917938684,1095.4526236597,1107.39075048695,1119.87840424776,1132.74427375768,1145.99375050585,1159.63797493862,1173.65946086663,1087.99434827902,1000.17044123526,910.102392624227,817.696870625883,722.896197387034,625.558846847951,525.680278109175,423.171421034016,318.008292088124,210.189741510149,199.74377370192,188.973300796946,177.9162058347,166.518218314847,154.832564179581,142.8027180039,130.348722688861,117.526951610507,104.243338092141,90.563851846472,76.5999108296812,62.0280114695754,47.1635952310664,31.9223386739568,16.155126261104,0,0,"","","","","","","","","","","","","","","","","","","","","","","","","","","","","","","","","","","","","","","","","","","","","","","","","","","",""]
["53_1_F",1,53,"F",null,53,0,684,711,739,768,698,715,727,739,752,766,780,794,809,825,841,858,875,894,913,933,954,976,999,1022,1047,1072,999,922,843,760,674,584,491,394,293,189,180,171,162,152,142,131,120,109,97,84,72,58,44,30,15,0,0,"","","","","","","","","","","","","","","","","","","","","","","","","","","","","","","","","","","","","","","","","","","","","","","","","","","","","",null,null,940.29823135037,963.740988958659,987.798808842427,1012.49389168585,937.850381195476,950.599059429918,958.384058898899,966.373865503361,974.577008876232,983.003092102841,991.662923859251,1000.56852741159,1009.73340311961,1019.17309238586,1028.9059154896,1038.9535309183,1049.34126913602,1060.09821287061,1071.25819395853,1082.86222313368,1094.96265685628,1107.62889124439,1120.7657476485,1134.30800769734,1148.23887966735,1162.55632934677,1077.19837913269,989.695380616446,899.932910120961,807.847148024995,713.341482607784,616.361687411277,516.813989817456,414.660162198996,309.883073796747,202.412986063194,192.349107284835,182.004577455084,171.325299634305,160.354077874038,149.032273997485,137.41906835741,125.453603190319,113.048953559356,100.265808415799,87.2052281068409,73.5742426285472,59.6632652146564,45.3982600930305,30.6530853040373,15.5676671243365,1.77635683940025e-15,0,"","","","","","","","","","","","","","","","","","","","","","","","","","","","","","","","","","","","","","","","","","","","","","","","","","","","",""]
["54_1_F",1,54,"F",null,52,0,693,721,749,778,709,721,734,746,760,774,788,803,819,835,852,870,888,908,928,949,971,993,1017,1042,1068,994,918,838,756,670,580,487,390,290,185,177,168,159,149,139,129,118,107,95,83,70,57,44,30,15,0,0,"","","","","","","","","","","","","","","","","","","","","","","","","","","","","","","","","","","","","","","","","","","","","","","","","","","","","","",null,null,945.016861005773,968.578708545287,992.762013854922,1017.59003445683,943.088202841009,950.969252947186,959.056054169618,967.356993499766,975.881528788404,984.64035054948,993.645339754275,1002.9098168174,1012.44903609061,1022.28093337173,1032.42672854128,1042.91130049595,1053.76330653837,1065.01611102932,1076.71009023098,1088.89665099975,1101.64379617131,1114.93406605119,1128.62165138387,1142.70249029006,1157.15508727853,1071.95809897154,984.596095596427,895.010590562439,803.076228878725,708.728589217421,611.915434688935,512.545478532225,410.583604215516,305.947258203923,198.703149444923,188.80734418221,178.647047336071,168.173376423356,157.436019319744,146.385531032583,134.952697729759,123.195098024665,111.036269900106,98.5518865619655,85.6585807632797,72.4568628323406,58.8608831598269,44.7301599596474,30.1481164016353,15.2739375559528,0,0,"","","","","","","","","","","","","","","","","","","","","","","","","","","","","","","","","","","","","","","","","","","","","","","","","","","","","",""]
["55_1_F",1,55,"F",null,51,0,699,726,755,784,715,728,741,754,768,783,798,814,830,847,865,883,902,922,943,965,988,1012,1037,1063,990,913,834,751,665,576,483,387,286,182,174,165,156,146,137,126,116,105,93,81,69,56,43,29,15,0,0,"","","","","","","","","","","","","","","","","","","","","","","","","","","","","","","","","","","","","","","","","","","","","","","","","","","","","","","",null,null,945.422702342703,968.989427948612,993.18075940137,1018.02094277874,943.536712145298,951.720022434216,960.118254259785,968.740718930667,977.597987452264,986.701796973263,996.065286191911,1005.70342014927,1015.63374737022,1025.87704587221,1036.45773934624,1047.40405574966,1058.74888748325,1070.53197071402,1082.80375512943,1095.63083988327,1109.06082904886,1122.89208218784,1137.12105389129,1151.72700822202,1066.66586100981,979.469936984075,890.027467356256,798.278056044973,704.12939679696,607.483901298884,508.292875692938,406.46241760018,302.031888631261,194.938562606317,185.204698597456,175.221240686411,164.944187557813,154.42966926875,143.508788898315,132.358608275454,120.78567892947,108.842928673109,96.6185696848553,84.04769605101,71.0300136802467,57.6615787088626,43.8252644959522,29.6431474992334,15,0,0,"","","","","","","","","","","","","","","","","","","","","","","","","","","","","","","","","","","","","","","","","","","","","","","","","","","","","","",""]
["56_1_F",1,56,"F",null,49,0,700,727,756,785,716,729,743,757,771,787,803,819,836,854,872,892,912,933,955,978,1002,1027,1053,980,904,825,742,657,568,475,379,279,175,167,158,150,141,131,121,111,101,90,78,66,54,41,28,14,0,0,"","","","","","","","","","","","","","","","","","","","","","","","","","","","","","","","","","","","","","","","","","","","","","","","","","","","","","","","",null,null,939.594129226094,962.998181255127,987.024752436238,1011.69885305372,937.048332402925,945.64115953813,954.459493686176,963.513666862972,972.815128603332,982.376654209078,992.212630146195,1002.33983045087,1012.77814948121,1023.55110059135,1034.68605312844,1046.21495566513,1058.17626429341,1070.6185145179,1083.6054983417,1097.22266771801,1111.33759943187,1125.85878990865,1140.76693544244,1056.01997462333,969.125094576292,879.995727011031,788.574730602109,694.731085325291,598.406047789596,499.555531558407,398.091411537598,293.99095032515,187.254790573635,177.91343013974,168.368472767109,158.484503192254,148.299219877078,137.875453770553,127.16989049487,116.120893005449,104.64066065874,92.7887929507704,80.664897701161,68.2027171403853,55.2968324539437,42.0599293579164,28.3738941293139,14.3927488508017,0,0,"","","","","","","","","","","","","","","","","","","","","","","","","","","","","","","","","","","","","","","","","","","","","","","","","","","","","","","",""]
["57_1_F",1,57,"F",null,48,0,706,734,762,792,723,737,751,766,781,797,813,831,848,867,886,907,928,950,973,997,1022,1048,975,899,820,738,653,564,471,375,275,171,163,155,147,138,129,119,109,99,88,77,65,53,40,27,14,0,0,"","","","","","","","","","","","","","","","","","","","","","","","","","","","","","","","","","","","","","","","","","","","","","","","","","","","","","","","","",null,null,940.832217443956,964.261275105473,988.317257583985,1013.02658670516,938.418827104555,947.335548633593,956.488644589202,965.889422022295,975.550476070352,985.485905868927,995.712100627301,1006.24851569372,1017.11821240467,1028.34813419701,1039.96976161279,1052.02091557635,1064.54918105233,1077.61695547453,1091.30776915002,1105.56470695832,1120.23219140781,1135.29163887088,1050.70200396794,963.971834445285,875.016313684984,783.743130213253,690.053363169283,593.890147724737,495.211746411449,393.93297805057,290.034788583655,183.522506699772,174.432642344297,165.079323277203,155.40996343971,145.469587433953,135.202757677955,124.673217750114,113.826582534614,102.585114823902,91.0228182096542,79.0540129888914,66.7758679882914,54.0975280029794,41.1550338942212,27.8689252269119,14.099019282418,0,0,"","","","","","","","","","","","","","","","","","","","","","","","","","","","","","","","","","","","","","","","","","","","","","","","","","","","","","","","",""]
["58_1_F",1,58,"F",null,47,0,713,741,770,800,731,746,760,776,792,808,825,843,862,881,901,922,945,968,992,1017,1043,971,895,816,734,648,559,467,371,271,168,160,152,144,135,126,117,107,97,86,75,64,52,40,27,14,0,0,"","","","","","","","","","","","","","","","","","","","","","","","","","","","","","","","","","","","","","","","","","","","","","","","","","","","","","","","","","",null,null,942.477351960308,965.941815057212,990.038540788919,1014.7955809069,940.244372304928,949.497315954393,958.998371608781,968.759957256851,978.795888551419,989.122174627617,999.757837367558,1010.72549228468,1022.05166357971,1033.76737139906,1045.9098110737,1058.52562990852,1071.67584847401,1085.44209943557,1099.84300687876,1114.65895812436,1129.87213626904,1045.41876355494,958.827303945619,870.013757072476,778.886932334323,685.392179729932,589.440738149837,490.939823244669,389.852708957902,286.164231217147,179.807359736079,170.884974114563,161.715170865899,152.250546061382,142.542965291377,132.5461268116,122.195302296295,111.554435879068,100.556101072447,89.2890646875203,77.6894051977222,65.6584881920849,53.2951459481498,40.4869337608381,27.36395632451,14,0,0,"","","","","","","","","","","","","","","","","","","","","","","","","","","","","","","","","","","","","","","","","","","","","","","","","","","","","","","","","",""]
["59_1_F",1,59,"F",null,46,0,720,748,778,808,740,755,770,786,802,820,838,856,876,896,917,939,962,987,1012,1038,966,890,811,729,644,555,463,367,267,164,156,149,140,132,123,114,104,94,84,73,62,51,39,26,13,0,0,"","","","","","","","","","","","","","","","","","","","","","","","","","","","","","","","","","","","","","","","","","","","","","","","","","","","","","","","","","","",null,null,944.350329801464,967.855915624521,992.000010657984,1016.8124598962,942.326579434984,951.922788152963,961.779563906136,971.910418376814,982.330955319124,993.059733630339,1004.11889001676,1015.53449390505,1027.33706439227,1039.56312023611,1052.25830249855,1065.48216060799,1079.31430177211,1093.84872362332,1108.80157207321,1124.15554856774,1039.8476546529,953.407440131199,864.752335827532,773.792974662164,680.434168342691,584.623715583298,486.270589161181,385.340284125857,281.820383904894,175.647354761889,166.92855860316,157.892629681208,148.677738410451,139.143961906682,129.344063468108,119.221377259379,108.850888006271,98.1806396677367,87.1345765573775,75.8055777137737,64.117410875228,51.9493335602891,39.3896987561854,26.5996718569925,13.5115601456506,0,0,"","","","","","","","","","","","","","","","","","","","","","","","","","","","","","","","","","","","","","","","","","","","","","","","","","","","","","","","","","",""]
["60_1_F",1,60,"F",null,44,0,724,752,781,812,743,759,775,792,809,827,846,865,886,907,929,952,977,1002,1029,956,881,802,720,635,547,455,359,260,157,150,142,135,126,118,109,100,91,81,70,60,49,37,25,13,0,0,null,null,null,null,null,null,null,null,null,null,null,null,null,null,null,null,null,null,null,null,null,null,null,null,null,null,null,null,null,null,null,null,null,null,null,null,null,null,null,null,null,null,null,null,null,null,null,null,null,null,null,null,null,null,null,null,null,null,null,null,null,null,940.711444481048,964.105489868182,988.139258888593,1012.84406174419,938.254748357892,948.315888922628,958.651194379834,969.275523977662,980.206587926819,991.465651675185,1003.07796814337,1015.07316076548,1027.48652862345,1040.36187985148,1053.75606842562,1067.74498527414,1082.42971639068,1097.68053377255,1113.32286871029,1029.3354160345,943.203354751327,854.869485385114,764.247894588323,671.247735636058,575.773489312843,477.77926132364,377.236870395258,274.072508373949,168.28690952317,159.910894187994,151.346694435988,142.459934706366,133.40616584871,124.03604954957,114.412495061406,104.480230859851,94.1604918310809,83.5259710763251,72.6957221356036,61.4043425001296,49.7310952422666,37.816703159107,25.5897340521885,13,0,0]
["56_3_F",3,56,"F",null,102,0,544,1229,2028,2107,1889,1930,1974,2018,2065,2113,2162,2214,2268,2323,2381,2441,2503,2568,2636,2707,2781,2858,2940,2725,2502,2270,2029,1777,1516,1244,962,669,364,347,330,312,293,273,253,232,210,187,163,138,112,86,58,30,0,0,null,null,null,null,null,null,null,null,null,null,null,null,null,null,null,null,null,null,null,null,null,null,null,null,null,null,null,null,null,null,null,null,null,null,null,null,null,null,null,null,null,null,null,null,null,null,null,null,null,null,null,null,null,null,null,null,null,null,771.899071641316,1700.24464043022,2651.62771010839,2717.247318423,2484.59355887242,2514.84884768983,2545.81308289165,2577.51214645244,2609.9742142973,2643.22978213453,2677.30943317637,2712.24660919741,2748.08174741372,2784.86561650482,2822.66177204467,2861.54570018684,2901.60506673737,2942.94388787428,2985.69241153789,3030.02272602205,3076.16818198134,3124.4432286783,3175.2619439825,2927.83075666432,2674.09140491865,2413.79871201128,2146.68971684183,1872.57253508742,1591.1857097694,1302.36843727573,1005.93463884966,701.788432086259,389.962847640261,370.590657658301,350.645755535618,330.118411866197,309.005945433306,287.314910529975,264.923552088611,241.815166133841,217.977717813133,193.404481505705,168.09539210202,142.060027360493,115.323157417725,87.6505289919045,59.2862949984668,30,0,0]
["57_3_F",3,57,"F",null,98,0,549,1240,2046,2125,1908,1951,1996,2043,2091,2141,2193,2246,2302,2360,2421,2483,2548,2616,2687,2761,2838,2920,2706,2483,2252,2011,1760,1499,1228,946,653,349,333,317,299,281,262,243,222,201,179,156,133,108,82,56,28,0,0,null,null,null,null,null,null,null,null,null,null,null,null,null,null,null,null,null,null,null,null,null,null,null,null,null,null,null,null,null,null,null,null,null,null,null,null,null,null,null,null,null,null,null,null,null,null,null,null,null,null,null,null,null,null,null,null,null,null,null,773.341016347898,1701.90811606728,2653.49982639698,2719.10076372498,2486.43590050597,2517.8069835304,2549.91555971457,2582.78927391775,2616.45794625489,2650.95106811477,2686.30061298723,2722.54534489211,2759.73431700726,2797.92948100132,2837.2045649989,2877.64483720882,2919.35070412566,2962.44710000278,3007.0987852611,3053.52989766133,3102.04407908092,3153.04336657503,2906.20209623552,2653.07476009579,2393.38937971804,2126.91548283945,1853.42602239195,1572.70282896506,1284.54014421113,988.8080102052,685.423974855516,374.360849070321,355.747406318394,336.552577630027,316.865713910227,296.596663597324,275.74885671111,254.196564985822,232.072560451199,209.248721542679,185.725096369235,161.511834954714,136.405434280771,110.593664907887,84.1198587158327,56.7477882586278,28.7854977016034,0,0]
["58_3_F",3,58,"F",null,93,0,553,1249,2061,2140,1923,1968,2015,2064,2114,2166,2220,2276,2335,2395,2458,2523,2591,2662,2736,2814,2896,2682,2460,2229,1989,1738,1478,1208,927,635,331,316,300,284,267,249,230,211,191,170,148,126,102,78,53,27,0,0,null,null,null,null,null,null,null,null,null,null,null,null,null,null,null,null,null,null,null,null,null,null,null,null,null,null,null,null,null,null,null,null,null,null,null,null,null,null,null,null,null,null,null,null,null,null,null,null,null,null,null,null,null,null,null,null,null,null,null,null,773.261885797359,1700.34219458351,2650.38435807283,2715.82073928462,2482.99513848598,2515.62113142248,2549.01515427142,2583.2062006731,2618.22242022531,2654.09397945761,2690.85758401609,2728.56017971138,2767.26175320593,2807.03388070379,2847.95889061932,2890.13275429684,2933.67386966673,2978.73798072511,3025.53789499375,3074.36397651024,3125.60349000158,2879.52193353736,2627.15764999652,2368.26803532119,2102.59385177111,1829.94823340276,1550.07624450272,1262.77033060656,967.898559675433,665.376074462349,355.250140658145,337.586045721862,319.447950165164,300.747388572749,281.480217376452,261.651513888704,241.278829457393,220.242438737046,198.541752545244,176.186842753138,153.20275489459,129.408687979242,105.02792769621,79.8766325170234,53.9636281815025,27.3168498596849,0,0]
["59_3_F",3,59,"F",null,88,0,557,1259,2078,2158,1941,1988,2037,2088,2140,2194,2251,2309,2370,2433,2499,2567,2638,2713,2790,2872,2659,2437,2207,1967,1717,1458,1188,908,617,314,300,285,269,253,236,218,200,181,161,140,119,97,74,50,26,0,0,null,null,null,null,null,null,null,null,null,null,null,null,null,null,null,null,null,null,null,null,null,null,null,null,null,null,null,null,null,null,null,null,null,null,null,null,null,null,null,null,null,null,null,null,null,null,null,null,null,null,null,null,null,null,null,null,null,null,null,null,null,773.905151734776,1700.16296025469,2649.33535766556,2714.65380630838,2481.71849105762,2515.6440147857,2550.36909991885,2585.92059900473,2622.32692687728,2659.62279527132,2697.8531146604,2737.07598430782,2777.36091727605,2818.78741351399,2861.44715898653,2905.45222118546,2950.94960680462,2998.14115489067,3047.30440198447,3098.81238288209,2853.15106503275,2601.56628668721,2343.45888189888,2078.60402813255,1806.78211323415,1527.73577201841,1241.30974277708,947.325454531219,645.696534071781,336.46852440361,319.704700277257,302.466816243825,284.76881564196,266.523466290748,247.738562200821,228.435562140549,208.500309456981,187.94011841763,166.776510410999,145.051539776641,122.610313338986,99.4621904845331,75.6334063182141,51.1794681043771,26,0,0]
["60_3_F",3,60,"F",null,83,0,562,1270,2096,2177,1961,2010,2061,2114,2168,2225,2284,2345,2408,2474,2543,2614,2689,2766,2848,2635,2414,2184,1944,1696,1437,1168,888,598,296,282,268,253,238,222,206,188,170,152,132,112,91,70,47,24,0,0,null,null,null,null,null,null,null,null,null,null,null,null,null,null,null,null,null,null,null,null,null,null,null,null,null,null,null,null,null,null,null,null,null,null,null,null,null,null,null,null,null,null,null,null,null,null,null,null,null,null,null,null,null,null,null,null,null,null,null,null,null,null,775.126778913674,1701.04681677462,2649.84537243594,2715.08080391379,2482.07280530882,2517.32613794587,2553.40686857317,2590.34163289144,2628.16311672016,2666.91415943455,2706.65093436873,2747.44084736696,2789.3605146405,2832.49726241718,2876.95672553352,2922.87703480347,2970.44888119149,3019.93675015713,3071.69917727833,2826.20663222281,2575.37084889093,2318.04312816154,2054.00685911855,1782.96713603274,1504.74693689966,1219.14841379179,926.052084350879,625.319397361703,316.99458008492,301.225356532178,285.005587250445,268.352288340799,251.182520755762,233.510056309409,215.223862912889,196.477526099694,177.172494542437,157.164596009564,136.65155649723,115.499338872695,93.7499453359596,71.1978405784472,48.1359924621362,24.3795541758478,0,0]
["56_5_F",5,56,"F",null,154,0,518,1154,1881,2688,3057,3127,3200,3275,3353,3434,3518,3605,3695,3789,3886,3987,4092,4201,4314,4433,4556,4686,4822,4466,4096,3711,3310,2894,2460,2010,1542,1055,549,524,498,471,442,413,382,350,317,282,246,209,170,130,88,45,0,0,null,null,null,null,null,null,null,null,null,null,null,null,null,null,null,null,null,null,null,null,null,null,null,null,null,null,null,null,null,null,null,null,null,null,null,null,null,null,null,null,null,null,null,null,null,null,null,null,null,null,null,null,null,null,null,null,null,null,718.983118344923,1636.14792571655,2576.03798841895,3539.23351676348,4026.33904393856,4078.39653734694,4131.648673797,4186.13687924057,4241.90604098567,4299.0043427737,4357.47846580281,4417.37836768409,4478.76486117277,4541.71582184275,4606.3308926764,4672.72900355593,4741.046864054,4811.44365172384,4884.1155436182,4959.32051914814,5037.41126282701,5118.8693969508,5204.33781511641,4794.35868141868,4373.91358826775,3942.59956721985,3500.02369993222,3045.74750079212,2579.46154508561,2100.79550528,1609.51175975446,1105.51183047269,588.808521663743,559.556489789121,529.470538846015,498.492924555131,466.671803250145,433.837769490664,400.036589913335,365.199723727061,329.240787883015,292.231799809321,254.093877359866,214.715261854107,174.184040577552,132.380688951552,89.4344114001021,45.2343535310911,0,0]
["57_5_F",5,57,"F",null,147,0,522,1164,1897,2711,3088,3161,3237,3315,3397,3481,3568,3659,3753,3851,3952,4057,4166,4280,4399,4522,4652,4788,4433,4063,3679,3279,2863,2431,1982,1514,1029,524,500,475,449,422,394,364,334,302,269,235,199,162,124,84,43,0,0,null,null,null,null,null,null,null,null,null,null,null,null,null,null,null,null,null,null,null,null,null,null,null,null,null,null,null,null,null,null,null,null,null,null,null,null,null,null,null,null,null,null,null,null,null,null,null,null,null,null,null,null,null,null,null,null,null,null,null,721.076697395614,1638.4421350383,2578.51580293604,3541.87772843202,4029.1343291855,4083.1113028475,4138.3295146145,4194.83295999909,4252.6686840111,4311.88151273278,4372.51890292435,4434.63881932014,4498.31622483881,4563.64805202864,4630.75026449861,4699.75551431428,4770.81684812184,4844.12139976258,4919.91467158397,4998.5336749026,5080.44167848751,5166.26117825291,4756.80292387991,4337.43755624595,3907.22003354932,3465.75806562102,3012.65708979079,2547.5268673513,2070.03950766513,1580.02257189357,1077.26371525159,561.838316522616,533.908454111584,505.198740690196,475.664467432193,445.254977461183,413.910882570283,381.701048717023,348.434123394721,314.177485796455,278.86376945914,242.401998949893,204.891219012717,166.253557110956,126.372127614707,85.3809979530573,43.1782465524051,0,0]
["58_5_F",5,58,"F",null,139,0,527,1174,1913,2733,3117,3193,3272,3354,3439,3526,3618,3712,3810,3912,4017,4127,4241,4360,4484,4614,4750,4394,4026,3643,3244,2829,2398,1949,1483,999,495,473,449,424,399,372,344,315,285,254,222,188,153,117,79,40,0,0,null,null,null,null,null,null,null,null,null,null,null,null,null,null,null,null,null,null,null,null,null,null,null,null,null,null,null,null,null,null,null,null,null,null,null,null,null,null,null,null,null,null,null,null,null,null,null,null,null,null,null,null,null,null,null,null,null,null,null,null,722.535497599736,1639.28384862941,2578.69784048158,3541.35692878612,4027.86922002693,4083.92819398058,4141.27755299784,4199.96306177354,4260.02745316991,4321.51535907456,4384.48152811613,4448.99763779188,4515.15756969319,4583.07395080462,4652.87486300714,4724.70643628594,4798.74559322665,4875.22374457274,4954.4602070234,5036.89754477783,5123.13526837459,4713.95958143534,4295.81241813071,3866.83310329684,3426.63108934297,2974.81436480914,2510.99615348467,2034.90821630338,1546.27874631482,1044.95407697815,531.019585740565,504.564432537589,477.39645958983,449.488363719394,420.696439928752,391.079012725166,360.597623426321,329.208435367677,296.860187605141,263.48876144651,229.008332608364,193.52609885447,156.977261256499,119.266331273209,80.5633000384949,40.8284100053354,0,0]
["59_5_F",5,59,"F",null,130,0,531,1183,1927,2754,3144,3223,3306,3391,3479,3571,3666,3765,3867,3973,4083,4198,4317,4441,4571,4707,4352,3984,3602,3204,2790,2360,1913,1448,965,463,442,420,397,373,348,322,295,267,238,207,176,143,109,74,38,0,0,null,null,null,null,null,null,null,null,null,null,null,null,null,null,null,null,null,null,null,null,null,null,null,null,null,null,null,null,null,null,null,null,null,null,null,null,null,null,null,null,null,null,null,null,null,null,null,null,null,null,null,null,null,null,null,null,null,null,null,null,null,723.435970217694,1638.79435918497,2576.75103140631,3537.88452154017,4022.80602338613,4081.10930104074,4140.75317911752,4201.7780446637,4264.22536277323,4328.14627700588,4393.60878334188,4460.70334675718,4529.53885850667,4600.23828155154,4672.93999495354,4747.80947531576,4825.06233683383,4904.99806299932,4988.03601653961,5074.74995925071,4665.89860929227,4249.13969837856,3821.57854426613,3382.82869172759,2932.50358888756,2470.22351764846,1995.67415011383,1508.63863457067,1008.97537645149,496.708011113817,472.005881517563,446.603623861629,420.470278532981,393.57401439845,365.88128719121,337.355783322488,307.957069264557,277.638942289765,246.344783479282,214.206598620221,180.988987637982,146.828539471881,111.684774339285,75.4999487866462,38.1848438898821,0,0]
["60_5_F",5,60,"F",null,122,0,536,1195,1946,2782,3180,3263,3349,3438,3530,3625,3724,3827,3934,4044,4159,4279,4403,4533,4670,4314,3947,3565,3169,2756,2327,1881,1417,935,435,415,394,372,350,326,302,277,250,223,194,165,134,102,69,35,0,0,null,null,null,null,null,null,null,null,null,null,null,null,null,null,null,null,null,null,null,null,null,null,null,null,null,null,null,null,null,null,null,null,null,null,null,null,null,null,null,null,null,null,null,null,null,null,null,null,null,null,null,null,null,null,null,null,null,null,null,null,null,null,726.333918579308,1642.24967156677,2580.74845586626,3542.41306868915,4027.85782774995,4088.36028825802,4150.24590420721,4213.55335750033,4278.33062421004,4344.64246922132,4412.57636508568,4482.23793339202,4553.74565088297,4627.23109291864,4702.84968012762,4780.80314561995,4861.3735511175,4944.95989443342,5032.1133610722,4623.56860318909,4207.59849497233,3781.31277574248,3343.83049035052,2894.79844048676,2433.84060612162,1960.64750010112,1475.00862755984,976.790390424748,465.949497510885,442.728821707542,418.87643688966,394.379155661062,369.112584509405,343.161542167653,316.383271712525,288.731381237513,260.321644098451,230.969775466652,200.812932278692,169.623867479735,137.552243617424,104.578977997787,70.6822508720838,35.8350073428124,0,0]
["60_1_M",1,60,"M",null,44,0,724,752,781,812,743,759,775,792,809,827,846,865,886,907,929,952,977,1002,1029,956,881,802,720,635,547,455,359,260,157,150,142,135,126,118,109,100,91,81,70,60,49,37,25,13,0,0,null,null,null,null,null,null,null,null,null,null,null,null,null,null,null,null,null,null,null,null,null,null,null,null,null,null,null,null,null,null,null,null,null,null,null,null,null,null,null,null,null,null,null,null,null,null,null,null,null,null,null,null,null,null,null,null,null,null,null,null,null,null,936.208077915696,959.346091529073,983.170376414395,1007.72185774088,933.047354840762,942.77910995019,952.795273947419,963.115755883083,973.763343203202,984.764330953234,996.149981986404,1007.95926762324,1020.24307352461,1033.06995598929,1046.53344022535,1060.76070245855,1075.92179900082,1091.79343707823,1108.06883627475,1024.70066532298,939.156154495055,851.376700322128,761.259154947831,668.6942143447,573.565526859123,475.837612165006,375.504161939356,272.483564836901,166.814554270082,158.589480891394,150.20013788113,141.436194797778,132.557926736994,123.333154507227,113.873441498734,104.097556946048,93.8696033599813,83.3077540453493,72.6381680867544,61.4040862427266,49.7228015578332,37.8440942545289,25.6617580441315,13,0,0]
["56_3_M",3,56,"M",null,102,0,544,1229,2028,2107,1889,1930,1974,2018,2065,2113,2162,2214,2268,2323,2381,2441,2503,2568,2636,2707,2781,2858,2940,2725,2502,2270,2029,1777,1516,1244,962,669,364,347,330,312,293,273,253,232,210,187,163,138,112,86,58,30,0,0,null,null,null,null,null,null,null,null,null,null,null,null,null,null,null,null,null,null,null,null,null,null,null,null,null,null,null,null,null,null,null,null,null,null,null,null,null,null,null,null,null,null,null,null,null,null,null,null,null,null,null,null,null,null,null,null,null,null,769.223817096385,1700.13565625376,2653.99331784294,2718.96713394162,2485.76932609457,2514.83768286466,2544.59122790507,2575.05560796636,2606.26057843093,2638.24253216067,2671.04449672598,2704.71682578109,2739.31627813894,2774.90542585159,2811.55365091546,2849.34198780387,2888.37262830612,2928.78352779727,2970.76818281088,3014.60029838909,3060.66206916659,3109.4738241617,3161.72409278479,2916.05160721443,2663.99474170922,2405.25375702882,2139.50849058178,1866.56161346242,1586.10292862619,1297.98603131888,1002.02217114287,698.162231784709,386.568002111861,367.580384620849,347.992348534025,327.803647760177,307.027350286445,285.696770899304,263.630830908806,240.81202586952,217.226723774817,192.868198928402,167.741955978614,141.875305640879,115.335959496188,87.7133144832724,59.4333022264904,30.0168719643503,0,0]
["57_3_M",3,57,"M",null,98,0,549,1240,2046,2125,1908,1951,1996,2043,2091,2141,2193,2246,2302,2360,2421,2483,2548,2616,2687,2761,2838,2920,2706,2483,2252,2011,1760,1499,1228,946,653,349,333,317,299,281,262,243,222,201,179,156,133,108,82,56,28,0,0,null,null,null,null,null,null,null,null,null,null,null,null,null,null,null,null,null,null,null,null,null,null,null,null,null,null,null,null,null,null,null,null,null,null,null,null,null,null,null,null,null,null,null,null,null,null,null,null,null,null,null,null,null,null,null,null,null,null,null,770.734335121835,1702.15988886072,2656.52036796443,2721.46171751196,2488.24467446319,2518.38408015261,2549.2336085254,2580.8219557692,2613.18445247154,2646.36300690709,2680.40676932863,2715.37100614471,2751.31618292021,2788.30851830696,2826.42438625342,2865.75941771338,2906.44276522603,2948.65661274721,2992.66067433539,3038.82056674796,3087.63753624221,3139.77860579745,2894.67580996419,2643.21660138885,2385.05607749809,2119.927790321,1847.5757395463,1567.7600700463,1280.26027307188,984.977444408796,681.884970837072,371.048366646885,352.800260529694,333.92217925508,314.573803855491,294.62854450094,274.110341903079,252.824013868658,231.006623988782,208.460860133302,185.196596395993,161.248257745607,136.254404043087,110.531595815492,84.1758818195024,56.7685029675912,28.8397397304542,0,0]
["58_3_M",3,58,"M",null,93,0,553,1249,2061,2140,1923,1968,2015,2064,2114,2166,2220,2276,2335,2395,2458,2523,2591,2662,2736,2814,2896,2682,2460,2229,1989,1738,1478,1208,927,635,331,316,300,284,267,249,230,211,191,170,148,126,102,78,53,27,0,0,null,null,null,null,null,null,null,null,null,null,null,null,null,null,null,null,null,null,null,null,null,null,null,null,null,null,null,null,null,null,null,null,null,null,null,null,null,null,null,null,null,null,null,null,null,null,null,null,null,null,null,null,null,null,null,null,null,null,null,null,770.83979852904,1701.20275555035,2654.43991357195,2719.1997532915,2485.80980007376,2517.14650525133,2549.22009476189,2582.06459739175,2615.72055136362,2650.23563535365,2685.66328880934,2722.06139249057,2759.4922748579,2798.02657111123,2837.75182937058,2878.78635752943,2921.29840866073,2965.5304795766,3011.82780649725,3060.66820364051,3112.69232139364,2868.3345537476,2617.61458648231,2360.23661148747,2095.88604610514,1824.37309840507,1545.39751103806,1258.7352163737,964.282887260834,662.008117845662,352.095483405914,334.776171812449,316.987262216283,298.601836719548,279.625353493292,260.08030724729,240.016107312501,219.249405799621,197.784534360794,175.645632650772,152.892062093733,129.206916877001,104.988599465579,79.9320351642801,54.0460095279271,27.3683244380841,0,0]
["59_3_M",3,59,"M",null,88,0,557,1259,2078,2158,1941,1988,2037,2088,2140,2194,2251,2309,2370,2433,2499,2567,2638,2713,2790,2872,2659,2437,2207,1967,1717,1458,1188,908,617,314,300,285,269,253,236,218,200,181,161,140,119,97,74,50,26,0,0,null,null,null,null,null,null,null,null,null,null,null,null,null,null,null,null,null,null,null,null,null,null,null,null,null,null,null,null,null,null,null,null,null,null,null,null,null,null,null,null,null,null,null,null,null,null,null,null,null,null,null,null,null,null,null,null,null,null,null,null,null,771.67340431833,1701.65355301189,2654.46223391024,2719.09035517214,2485.58038894592,2518.15569698634,2551.49951890333,2585.65110240642,2620.65674400547,2656.56816165723,2693.44078349241,2731.33322287682,2770.31061406955,2810.45274582076,2851.86751617901,2894.70982152446,2939.20568429155,2985.68089546789,3034.59099035486,3086.55164350028,2842.3699556665,2592.41662323089,2335.79908979791,2072.25997581779,1801.55527561885,1523.38020076433,1237.59574348603,944.023233685739,642.627067503778,333.587635766296,317.130511838847,300.185040294172,282.789548394063,264.817646769722,246.294201368713,227.272614137728,207.576240610926,187.220777119649,166.249790769236,144.756401010016,122.483801098184,99.4456031156664,75.6881885090578,51.3235160882631,26,0,0]
["60_3_M",3,60,"M",null,83,0,562,1270,2096,2177,1961,2010,2061,2114,2168,2225,2284,2345,2408,2474,2543,2614,2689,2766,2848,2635,2414,2184,1944,1696,1437,1168,888,598,296,282,268,253,238,222,206,188,170,152,132,112,91,70,47,24,0,0,null,null,null,null,null,null,null,null,null,null,null,null,null,null,null,null,null,null,null,null,null,null,null,null,null,null,null,null,null,null,null,null,null,null,null,null,null,null,null,null,null,null,null,null,null,null,null,null,null,null,null,null,null,null,null,null,null,null,null,null,null,null,773.069834115823,1703.1465810315,2656.01762503004,2720.5465556292,2486.9526913344,2520.79136754842,2555.43387919904,2590.92511757151,2627.31505193185,2664.65662369437,2703.00468597403,2742.41881076022,2782.97094401421,2824.75846180769,2867.92275574854,2912.6731823131,2959.31584604806,3008.2837059563,3060.16710053381,2815.74475061947,2566.51000851861,2310.6506005029,2047.92268561223,1777.95717071512,1500.58002646147,1215.58194532125,922.879067062817,622.351264175784,314.174604265943,298.710339242651,282.780845833571,266.42903840016,249.535577910635,232.136261730307,214.055201183813,195.561122849794,176.509458150997,156.650605645123,136.331649703141,115.335479432074,93.7487123100968,71.199855569727,48.1953522259591,24.4254938533439,0,0]
["56_5_M",5,56,"M",null,154,0,518,1154,1881,2688,3057,3127,3200,3275,3353,3434,3518,3605,3695,3789,3886,3987,4092,4201,4314,4433,4556,4686,4822,4466,4096,3711,3310,2894,2460,2010,1542,1055,549,524,498,471,442,413,382,350,317,282,246,209,170,130,88,45,0,0,null,null,null,null,null,null,null,null,null,null,null,null,null,null,null,null,null,null,null,null,null,null,null,null,null,null,null,null,null,null,null,null,null,null,null,null,null,null,null,null,null,null,null,null,null,null,null,null,null,null,null,null,null,null,null,null,null,null,715.682534258407,1636.11424581618,2579.16829284778,3545.45770328701,4035.63073817372,4085.63849883483,4136.78999271798,4189.12424076829,4242.6866797628,4297.53380467432,4353.73295061402,4411.36333878052,4470.5137297515,4531.2801499721,4593.76580215259,4658.0873996658,4724.38942417771,4792.86713485498,4863.79849517449,4937.58464722201,5014.79744265377,5096.22921053023,5182.94322453073,4775.8325297879,4358.12498576372,3929.32995474574,3488.98874145908,3036.57501096887,2571.77715546211,2094.182292682,1603.58933491472,1100.01392658809,583.657843757915,554.979078805148,525.443004065621,494.981088685589,463.70013727226,431.350834118523,398.032056684899,363.656391908713,328.091744889068,291.477491637507,253.700102411315,214.569999488429,174.246915793236,132.520872000469,89.6133179431404,45.3195910049994,0,0]
["57_5_M",5,57,"M",null,147,0,522,1164,1897,2711,3088,3161,3237,3315,3397,3481,3568,3659,3753,3851,3952,4057,4166,4280,4399,4522,4652,4788,4433,4063,3679,3279,2863,2431,1982,1514,1029,524,500,475,449,422,394,364,334,302,269,235,199,162,124,84,43,0,0,null,null,null,null,null,null,null,null,null,null,null,null,null,null,null,null,null,null,null,null,null,null,null,null,null,null,null,null,null,null,null,null,null,null,null,null,null,null,null,null,null,null,null,null,null,null,null,null,null,null,null,null,null,null,null,null,null,null,null,717.810980633502,1638.75022443522,2582.29588982736,3549.06412061849,4039.70467056617,4091.54990997179,4144.57752048329,4198.83116515587,4254.36556776268,4311.24620262741,4369.55029513635,4429.36412408334,4490.78019238197,4553.89638258243,4618.82154508302,4685.68907854707,4754.67937278866,4826.05130159079,4900.18243792191,4977.61677430954,5059.1146654591,5145.70346938771,4738.72969839418,4322.07843689409,3894.35173795782,3455.09144534302,3003.8435093145,2540.16312136132,2063.70495938394,1574.37322873254,1071.99937148582,556.882802626466,529.49210009092,501.3078001817,472.283484661114,442.36200234437,411.468496340266,379.745430351784,346.898199144514,313.056073934288,278.123229522545,241.94735734527,204.712061523447,166.301737602975,126.508309013362,85.5584248740268,43.2596095956813,0,0]
["58_5_M",5,58,"M",null,139,0,527,1174,1913,2733,3117,3193,3272,3354,3439,3526,3618,3712,3810,3912,4017,4127,4241,4360,4484,4614,4750,4394,4026,3643,3244,2829,2398,1949,1483,999,495,473,449,424,399,372,344,315,285,254,222,188,153,117,79,40,0,0,null,null,null,null,null,null,null,null,null,null,null,null,null,null,null,null,null,null,null,null,null,null,null,null,null,null,null,null,null,null,null,null,null,null,null,null,null,null,null,null,null,null,null,null,null,null,null,null,null,null,null,null,null,null,null,null,null,null,null,null,719.387832254319,1640.11709547996,2583.41280434046,3549.88987289249,4040.20148841611,4094.03253647823,4149.08769116069,4205.41970200773,4263.0919725376,4322.17950994347,4382.76583069869,4444.93950356548,4508.7924537686,4574.42471230894,4641.95723852129,4711.55373375441,4783.45165788205,4858.00216897658,4935.71807682305,5017.32400310215,5103.80723939928,4696.46945695587,4281.00210217936,3854.47480793646,3416.43172304097,2966.42215459331,2504.00587590745,2028.9343576889,1540.95013883164,1039.97728839381,526.330823340348,500.359645637963,473.674308655571,446.257549139991,417.898615562119,388.712690001969,358.663348403598,327.704552394159,295.772626415805,262.773469479897,228.558823344322,193.3206194186,156.959688408104,119.300359466586,80.6344967788683,40.9053451278891,0,0]
["59_5_M",5,59,"M",null,130,0,531,1183,1927,2754,3144,3223,3306,3391,3479,3571,3666,3765,3867,3973,4083,4198,4317,4441,4571,4707,4352,3984,3602,3204,2790,2360,1913,1448,965,463,442,420,397,373,348,322,295,267,238,207,176,143,109,74,38,0,0,null,null,null,null,null,null,null,null,null,null,null,null,null,null,null,null,null,null,null,null,null,null,null,null,null,null,null,null,null,null,null,null,null,null,null,null,null,null,null,null,null,null,null,null,null,null,null,null,null,null,null,null,null,null,null,null,null,null,null,null,null,720.457042814983,1640.27040907541,2582.58234004482,3548.00778743801,4037.20032707084,4093.15815765394,4150.38850455551,4208.95244635483,4268.92250008034,4330.37908084985,4393.40633934412,4458.08950918104,4524.5187136428,4592.80093700292,4663.08113187293,4735.57270153152,4810.59713134947,4888.63220599559,4970.3624158848,5056.73006070242,4648.98646513497,4234.87303138826,3809.72887933015,3373.10444674109,2924.557469682,2463.65880474246,1990.08375443316,1503.66225744342,1004.33778635128,492.325034771313,468.100683288122,443.157398972618,417.467023345461,391.000128293213,363.724514517176,335.60292247812,306.588769981471,276.618466765996,245.59912458116,213.777485114442,180.753065154745,146.766222833152,111.763566431702,75.652874502945,38.2567976016229,0,0]
["60_5_M",5,60,"M",null,122,0,536,1195,1946,2782,3180,3263,3349,3438,3530,3625,3724,3827,3934,4044,4159,4279,4403,4533,4670,4314,3947,3565,3169,2756,2327,1881,1417,935,435,415,394,372,350,326,302,277,250,223,194,165,134,102,69,35,0,0,null,null,null,null,null,null,null,null,null,null,null,null,null,null,null,null,null,null,null,null,null,null,null,null,null,null,null,null,null,null,null,null,null,null,null,null,null,null,null,null,null,null,null,null,null,null,null,null,null,null,null,null,null,null,null,null,null,null,null,null,null,null,723.427566638145,1644.17744925066,2587.41154200753,3553.74677135014,4043.84257767115,4101.88431660777,4161.25440763373,4222.02322076715,4284.26849277409,4348.07054541395,4413.50879437986,4480.66473288402,4549.63316339276,4620.54269621301,4693.58577784784,4769.05807019668,4847.4069198158,4929.28200213859,5015.58666242414,4607.52872181993,4193.88442720022,3770.00121934052,3334.60717654809,2887.31434179671,2427.69878289464,1955.44271553312,1470.38530262631,972.482301480682,461.838387572894,439.044552063428,415.614334675888,391.549903527463,366.669957432102,341.134937381919,314.732707540686,287.395123231115,259.335019247512,230.249364538512,200.388951113494,169.361623049898,137.42417363828,104.555616884925,70.7289464077866,35.9025331338307,0,0]

{"sheet":"Assumption","index":5,"n_rows":154,"n_cols":27,"rows_kept":154,"cut":false,"hidden":true,"merged":[]}
[]
["Basic Information and Result"]
[null,null,null,null,null,null,null,null,null,"月度模型","Annuity","Annuity","UL","Package","Annuity","UL","Package",null,null,null,null,null,null,null,null,null,"肺癌"]
[null,"Basic Info",null,null,"Premium","Base",null,null,null,"Profit Result","Stat","CNGAAP","CNGAAP","CNGAAP","CROSS","CROSS","CROSS",null,null,null,null,null,null,null,"PPP","BP","肺癌+胃癌+肝癌"]
[null,"Channel","Broker",null,"GP",{"$f":"GP!N1","v":1000},null,null,null,"PV of prem",{"$f":"#REF!","v":{"$error":"#REF!"}},{"$f":"#REF!","v":{"$error":"#REF!"}},null,{"$f":"L5","v":{"$error":"#REF!"}},{"$f":"#REF!","v":{"$error":"#REF!"}},null,null,null,null,null,null,null,null,null,1,"至106","肝癌+胃癌"]
[null,"Insured Age",{"$f":"年金万能利益演示!B1","v":30},null,"NP",{"$f":"GP!N6","v":841.315955985012},null,null,null,"PV of profit",{"$f":"#REF!","v":{"$error":"#REF!"}},{"$f":"#REF!","v":{"$error":"#REF!"}},{"$f":"#REF!","v":{"$error":"#REF!"}},{"$f":"#REF!","v":{"$error":"#REF!"}},{"$f":"#REF!","v":{"$error":"#REF!"}},{"$f":"#REF!","v":{"$error":"#REF!"}},{"$f":"#REF!","v":{"$error":"#REF!"}},null,null,null,null,null,null,null,3,null,"胃癌"]
[null,"Insured Sex",{"$f":"IF(年金万能利益演示!B2=\"男\",\"M\",\"F\")","v":"M"},null,"Loading",{"$f":"GP!N7","v":0.158868826942765},null,null,null,"Profit Margin",{"$f":"#REF!","v":{"$error":"#REF!"}},{"$f":"#REF!","v":{"$error":"#REF!"}},null,{"$f":"#REF!","v":{"$error":"#REF!"}},{"$f":"#REF!","v":{"$error":"#REF!"}},null,null,null,null,null,null,null,null,null,5,null,"白血病"]
[null,"PPP",{"$f":"年金万能利益演示!B3","v":10},null,null,null,null,null,null,null,null,null,null,null,null,null,null,null,null,null,null,null,null,null,10,null,"膀胱癌"]
[null,"BP",{"$f":"RIGHT(D9,LEN(D9)-1)-Age","v":76},"至106",null,null,null,null,null,"盈利能力",{"$f":"#REF!","v":{"$error":"#REF!"}},{"$f":"#REF!","v":{"$error":"#REF!"}},{"$f":"#REF!","v":{"$error":"#REF!"}},{"$f":"#REF!","v":{"$error":"#REF!"}},{"$f":"#REF!","v":{"$error":"#REF!"}},{"$f":"#REF!","v":{"$error":"#REF!"}},{"$f":"#REF!","v":{"$error":"#REF!"}},null,null,null,null,null,null,null,15,null,"胰腺癌"]
[null,null,null,null,null,null,null,null,null,null,null,null,null,null,null,null,null,null,null,null,null,null,null,null,20,null,"直肠癌"]
[null,"Sum Assured",{"$f":"GP!N2","v":578},null,null,null,null,null,null,"Risk Factor",2,"1 汇赢因子",null,null,null,null,null,null,null,null,null,null,null,null,null,null,"乳腺癌"]
[null,"Unit GP",1000,null,null,null,null,null,null,null,null,"2 乐享因子",null,null,null,null,null,null,null,null,null,null,null,null,null,null,"卵巢癌"]
[null,"Sensitivity Test",1,{"$f":"VLOOKUP(C13,$B$86:$J$100,9,FALSE)","v":"基准"},null,null,null,null,null,null,null,null,null,null,null,null,null,null,null,null,null,null,null,null,null,null,"子宫内膜癌"]
[null,null,null,null,null,null,null,null,null,null,null,null,null,null,null,null,null,null,null,null,null,null,null,null,null,null,"宫颈癌"]
["Interest Rates"]
[null,"定价",null,null,"1.11 其他假设",null,null,"1.9 投资收益率"]
[null,"Pricing",{"$f":"2.5%-0.5%*0","v":0.025},null,"Hurdle Rate",0.11,null,2015,2016,2017,2018,2019,2020,"2021+"]
[null,"CSV",{"$f":"C17+IF(BP<=10,1%,1.5%)","v":0.04},null,"Inflation Rate",0.025,null,1,2,3,4,5,6,7]
[null,"Reserve",{"$f":"C17","v":0.025},null,"新EV准备金评估利率",0.045,null,0.047,0.048,0.049,0.05,0.05,0.05,0.05]
[null,null,null,null,null,null,null,{"$f":"C85","v":0}]
[null,null,null,null,null,null,null,0.047,0.048,0.049,0.05,0.05,0.05,0.05]
["Mortality, Morbidity, Accidental Rates and A/E ratios"]
[null,null,null,null,"1.3.1 死亡率 - 年金险",null,null,null,"1.4 重疾率 Morb AE ratios",null,null,"CROSS No.3","死亡发生率乘数因子上限",null,"核保选择因子"]
[null,"Pricing & CSV","Rsv","Profit Testing",{"$f":"F85","v":1},"M","F",null,{"$f":"G85","v":1},null,null,null,"M","F","M","F"]
["qx",0.8,1,1,1,0.7,0.55,null,1,{"$f":"50%","v":0.5},null,1,0.9,0.9,{"$f":"IF(M25>=F25,1,F25/M25)","v":1},1]
["ix",1,1,null,2,0.8,0.65,null,2,{"$f":"80%","v":0.8},null,2,0.9,0.9,1,1]
["kx",1,1,null,3,0.8,0.75,null,3,{"$f":"85%","v":0.85},null,3,0.9,0.9,1,1]
["mx",1,1,null,4,0.8,{"$f":"80%*$E$24","v":0.8},null,4,{"$f":"85%","v":0.85},null,4,0.9,0.9,1,1]
["WP mx",1,1,null,5,0.8,{"$f":"80%*$E$24","v":0.8},null,5,{"$f":"85%","v":0.85},null,5,0.9,0.9,1,1]
[null,null,null,null,6,0.8,{"$f":"80%*$E$24","v":0.8},null,6,{"$f":"85%","v":0.85},null,6,0.9,0.9,1,1]
[null,null,null,null,null,null,null,null,7,{"$f":"85%","v":0.85}]
[null,null,null,null,null,null,null,null,8,{"$f":"95%","v":0.95}]
[]
["Expense"]
[{"$f":"E85","v":1},null,null,null,null,null,null,null,null,null,null,null,null,"二类","1.6.2 变动获取费用",null,"1.6.3 变动维持费用",null,"1.6.4 固定及半变动费用",null,1,null,null,null,"变动获取费用"]
[null,"Acquisition",null,null,"Maintenance",null,null,"CIRC & IGF",null,null,"Health Club",null,null,"交费期间","PPP","变动获取费用","变动维持费用",null,null,"获取费用",null,"维持费用",null,null,"PPP","一类","二类"]
[null,"% of Prem",{"$f":"((IF(PPP=1,U39,U38)+VLOOKUP(PPP,$O$37:$P$41,2,TRUE))*$A$35)","v":0.2382},null,"% of Prem",{"$f":"(IF(PPP=1,W39,W38)+VLOOKUP(PPP,$O$37:$Q$41,3,TRUE))*$A$35","v":0.0175},null,"IGF",0.0015,null,"% of RP",0,null,"趸交",1,{"$f":"IF($N$35=\"二类\",AA37,Z37)","v":0.0129},0,null,null,"件数","保费","件数","保费",null,1,0.0174,0.0129]
[null,"Per Policy",{"$f":"IF(PPP=1,T39,T38)*$A$35","v":91.58},null,"Per Policy",{"$f":"IF(PPP=1,V39,V38)*$A$35","v":69.77},null,"CIRC fee",0,null,"Per Policy",0,null,"2-4年交",2,{"$f":"IF($N$35=\"二类\",AA38,Z38)","v":0.0375},0.0124,null,"分红期交",91.58,{"$f":"11.45%*$U$35","v":0.1145},69.77,0.0051,null,2,0.0513,0.0375]
[null,null,null,null,null,null,null,null,null,null,null,null,null,"5-9年交",5,{"$f":"IF($N$35=\"二类\",AA39,Z39)","v":0.0623},0.0124,null,"分红趸交",91.58,{"$f":"1.19%*$U$35","v":0.0119},34.88,0,null,5,0.0851,0.0623]
[null,null,null,null,null,null,null,null,null,null,null,null,null,"10-19年交",10,{"$f":"IF($N$35=\"二类\",AA40,Z40)","v":0.1237},0.0124,null,"非分红期交",73.26,0.0916,55.81,0.0041,null,10,0.1694,0.1237]
[null,null,null,null,null,null,null,null,null,null,null,null,null,"20年以上交",20,{"$f":"IF($N$35=\"二类\",AA41,Z41)","v":0.142},0.0124,null,"非分红趸交",73.26,0.0092,27.91,0,null,20,0.1877,0.142]
[]
["Lapse Rate"]
[{"$f":"D85","v":1},null,null,null,"1.1.1 退保率",null,null,null,null,"1.1 万能险部分领取"]
[null,null,null,null,null,"非分红期交","分红期交","非万能趸交"]
[null,1,{"$f":"IF(PPP=1,H46,G46)*$A$44","v":0.15},null,1,0.15,0.15,0.01,null,1,0.05]
[null,2,0.09,null,2,0.09,0.09,0.01,null,2,0.08]
[null,3,0.05,null,3,0.05,0.05,0.02,null,3,0.08]
[null,4,0.04,null,4,0.04,0.04,0.02,null,4,0.12]
[null,5,0.03,null,5,0.035,0.03,0.02,null,5,0.1]
[null,6,0.025,null,6,0.035,0.025,0.02,null,6,0.3]
[null,7,0.025,null,7,0.035,0.025,0.02,null,7,0.1]
[null,8,0.025,null,8,0.03,0.025,0.02,null,8,0.1]
[null,9,0.025,null,9,0.03,0.025,0.02,null,9,0.1]
[null,10,0.02,null,10,0.02,0.02,0.02,null,10,0.1]
[null,11,0.02,null,11,0.02,0.02,0.02,null,11,0.1]
[null,12,0.02,null,12,0.02,0.02,0.02,null,12,0.1]
[null,13,0.02,null,13,0.02,0.02,0.02,null,13,0.1]
[null,14,0.02,null,14,0.02,0.02,0.02,null,14,0.1]
[null,15,0.02,null,15,0.02,0.02,0.02,null,15,0.1]
[]
["Commission Rate"]
[{"$f":"H85","v":1},null,null,null,null,null,null,null,null,null,null,null,"经代",null,null,null,null,null,"个险（附加佣金 80%）"]
[null,null,"Commission",null,null,1,3,5,10,15,20,null,1,3,5,10,15,20,1,3,5,10,15,20]
[null,1,{"$f":"HLOOKUP(PPP,$F$64:$K$70,B65+1,FALSE)*$A$63","v":0.64},null,null,0.1,{"$f":"25%-3%","v":0.22},{"$f":"33%-3%","v":0.3},{"$f":"69%-5%","v":0.64},{"$f":"80%-5%","v":0.75},{"$f":"95%-5%","v":0.9},null,0.1,0.25,0.33,0.69,0.9,0.95,0.025,0.06,0.1,0.2,0.3,0.35]
[null,2,0.159,null,null,null,0.083,0.098,{"$f":"15.9%","v":0.159},0.21,0.28,null,null,0.083,0.098,0.159,0.21,0.28,null,0.02,0.03,0.04,0.05,0.08]
[null,3,0.102,null,null,null,0.042,0.064,{"$f":"10.2%*1+3%*0","v":0.102},0.126,0.14,null,null,0.042,0.064,0.102,0.126,0.14,null,0.01,0.02,0.03,0.04,0.05]
[null,4,0.099,null,null,null,null,0.059,{"$f":"9.9%*1+1%*0","v":0.099},0.112,0.12,null,null,null,0.059,0.099,0.112,0.12,null,null,null,0.01,0.02,0.03]
[null,5,0.037,null,null,null,null,0.02,{"$f":"3.7%*1","v":0.037},0.04,0.05,null,null,null,0.02,0.037,0.04,0.05]
[null,6,0]
[]
["Other Assumption"]
[]
[null,"Income Tax Rate",0.25,null,"件均保费","千元"]
[null,"免税比例",0.13,null,1,490]
[null,"SolMgn-Reserve",{"$f":"4%","v":0.04},null,3,73]
[null,"SolMgn-NAAR-H",0.0024,null,5,94]
[null,"SolMgn-NAAR-L",0.0015,null,10,28]
[null,"SolMgn-NAAR-A",0.0006,null,15,13]
[null,"Policy size",{"$f":"VLOOKUP(PPP,$E$75:$F$80,2,FALSE)","v":28},null,20,13]
[]
["Sensitivity Testing"]
[]
[null,"No.","投资收益","退保率","营运费用","死亡率","重疾率","手续费率","轻症率"]
[null,{"$f":"C13","v":1},{"$f":"VLOOKUP($B$85,$B$86:$I$100,2,FALSE)","v":0},{"$f":"VLOOKUP($B$85,$B$86:$I$100,3,FALSE)","v":1},{"$f":"VLOOKUP($B$85,$B$86:$I$100,4,FALSE)","v":1},{"$f":"VLOOKUP($B$85,$B$86:$I$100,5,FALSE)","v":1},{"$f":"VLOOKUP($B$85,$B$86:$I$100,6,FALSE)","v":1},{"$f":"VLOOKUP($B$85,$B$86:$I$100,7,FALSE)","v":1},{"$f":"VLOOKUP($B$85,$B$86:$I$100,8,FALSE)","v":1}]
["基准",1,0,1,1,1,1,1,1,{"$f":"A86","v":"基准"}]
["死亡率 +30%",2,0,1,1,1.3,1,1,1,{"$f":"A87","v":"死亡率 +30%"}]
["死亡率 -30%",3,0,1,1,0.7,1,1,1,"死亡率 -30%"]
["退保率 +30%",4,0,1.3,1,1,1,1,1,"退保率 +30%"]
["退保率 -30%",5,0,0.7,1,1,1,1,1,"退保率 -30%"]
["费用率 +30%",6,0,1,1.3,1,1,1,1,"费用率 +30%"]
["费用率 -30%",7,0,1,0.7,1,1,1,1,"费用率 -30%"]
["佣金率 +30%",8,0,1,1,1,1,1.3,1,"佣金率 +30%"]
["佣金率 -30%",9,0,1,1,1,1,0.7,1,"佣金率 -30%"]
["投资 +100bp",10,0.01,1,1,1,1,1,1,"投资 +100bp"]
["投资 -100bp",11,-0.01,1,1,1,1,1,1,"投资 -100bp"]
[]
[]
[]
[]
["China GAAP assumption"]
[]
["GAAP Investment return rate",null,null,"CNGAAP PAD",null,null,"CNGAAP Expense"]
[0,null,null,null,null,null,"Acquisition",null,null,"Maintenance",null,null,null,"1.6.2 变动获取费用",null,"1.6.3 变动维持费用",null,"1.6.4 固定及半变动费用",null,null,null,null,null,"EV"]
[1,{"$f":"IF($A$104=0,X105,Y105)+$H$20","v":0.047},null,"Acquisition",0,null,"% of Prem",{"$f":"((IF(PPP=1,T108,T107)+VLOOKUP(PPP,$N$106:$O$110,2,TRUE))*$A$35)","v":0.218},null,"% of Prem",{"$f":"(IF(PPP=1,V108,V107)+VLOOKUP(PPP,$N$106:$P$110,3,TRUE))*$A$35","v":0.0158},null,"交费期间","PPP","变动获取费用","变动维持费用",null,null,"获取费用",null,"维持费用",null,null,0.047,0.047]
[2,{"$f":"IF($A$104=0,X106,Y106)+$H$20","v":0.048},null,"Maintenance",0.1,0.1,"Per Policy",{"$f":"IF(PPP=1,S108,S107)*$A$35","v":83.83},null,"Per Policy",{"$f":"IF(PPP=1,U108,U107)*$A$35","v":62.79},null,"趸交",1,{"$f":"IF($N$35=\"二类\",P114,O114)","v":0.0118},0,null,null,"件数","保费","件数","保费",null,0.048,0.048]
[3,0.049,null,"Lapse",-0.2,"20%/ -20%",null,null,null,null,null,null,"2-4年交",2,{"$f":"IF($N$35=\"二类\",P115,O115)","v":0.0344},0.0112,null,"分红期交",83.83,0.1048,62.79,0.0046,null,0.049,0.0495]
[4,0.05,null,"Mortatily",-0.1,"10%/ -10%",null,null,null,null,null,null,"5-9年交",5,{"$f":"IF($N$35=\"二类\",P116,O116)","v":0.057},0.0112,null,"分红趸交",83.83,0.0108,31.39,0,null,0.05,0.051]
[5,0.05,null,"Dividend",0.005,"50bp",null,null,null,null,null,null,"10-19年交",10,{"$f":"IF($N$35=\"二类\",P117,O117)","v":0.1132},0.0112,null,"非分红期交",67.07,0.0838,50.23,0.0037,null,0.05,0.0525]
[6,0.05,null,null,null,null,null,null,null,null,null,null,"20年以上交",20,{"$f":"IF($N$35=\"二类\",P118,O118)","v":0.1299},0.0112,null,"非分红趸交",67.07,0.0084,25.12,0,null,0.05,0.054]
[7,0.05,null,null,null,null,null,null,null,null,null,null,null,null,null,null,null,null,null,null,null,null,null,0.05,0.055]
[8,0.05,null,"CROSS PAD",null,null,null,null,null,null,null,null,null,"变动获取费用",null,null,null,null,null,null,null,null,null,0.05,0.055]
[9,0.05,null,"Maintenance",0.1,null,null,null,null,null,null,null,null,"PPP","一类","二类",null,null,null,null,null,null,null,0.05,0.055]
[10,0.05,null,"Mortatily",-0.1,"10%/ -10%",null,null,null,null,null,null,null,1,0.0159,0.0118,null,null,null,null,null,null,null,0.05,0.055]
[11,0.05,null,"Lapse",-0.1,"10%/ -10%",null,null,null,null,null,null,null,2,0.0469,0.0344,null,null,null,null,null,null,null,0.05,0.055]
[12,0.05,null,null,null,null,null,null,null,null,null,null,null,5,0.0778,0.057,null,null,null,null,null,null,null,0.05,0.055]
[13,0.05,null,null,null,null,null,null,null,null,null,null,null,10,0.155,0.1132,null,null,null,null,null,null,null,0.05,0.055]
[14,0.05,null,null,null,null,null,null,null,null,null,null,null,20,0.1719,0.1299,null,null,null,null,null,null,null,0.05,0.055]
[15,0.05,null,null,null,null,null,null,null,null,null,null,null,null,null,null,null,null,null,null,null,null,null,0.05,0.055]
[16,0.05,null,null,null,null,null,null,null,null,null,null,null,null,null,null,null,null,null,null,null,null,null,0.05,0.055]
[17,0.05,null,null,null,null,null,null,null,null,null,null,null,null,null,null,null,null,null,null,null,null,null,0.05,0.055]
[18,0.05,null,null,null,null,null,null,null,null,null,null,null,null,null,null,null,null,null,null,null,null,null,0.05,0.055]
[19,0.05,null,null,null,null,null,null,null,null,null,null,null,null,null,null,null,null,null,null,null,null,null,0.05,0.055]
[20,0.05,null,null,null,null,null,null,null,null,null,null,null,null,null,null,null,null,null,null,null,null,null,0.05,0.055]
[21,0.05,null,null,null,null,null,null,null,null,null,null,null,null,null,null,null,null,null,null,null,null,null,0.05,0.055]
[22,0.05,null,null,null,null,null,null,null,null,null,null,null,null,null,null,null,null,null,null,null,null,null,0.05,0.055]
[23,0.05,null,null,null,null,null,null,null,null,null,null,null,null,null,null,null,null,null,null,null,null,null,0.05,0.055]
[24,0.05,null,null,null,null,null,null,null,null,null,null,null,null,null,null,null,null,null,null,null,null,null,0.05,0.055]
[25,0.05,null,null,null,null,null,null,null,null,null,null,null,null,null,null,null,null,null,null,null,null,null,0.05,0.055]
[26,0.05,null,null,null,null,null,null,null,null,null,null,null,null,null,null,null,null,null,null,null,null,null,0.05,0.055]
[27,0.05,null,null,null,null,null,null,null,null,null,null,null,null,null,null,null,null,null,null,null,null,null,0.05,0.055]
[28,0.05,null,null,null,null,null,null,null,null,null,null,null,null,null,null,null,null,null,null,null,null,null,0.05,0.055]
[29,0.05,null,null,null,null,null,null,null,null,null,null,null,null,null,null,null,null,null,null,null,null,null,0.05,0.055]
[30,0.05,null,null,null,null,null,null,null,null,null,null,null,null,null,null,null,null,null,null,null,null,null,0.05,0.055]
[31,0.05,null,null,null,null,null,null,null,null,null,null,null,null,null,null,null,null,null,null,null,null,null,0.05,0.055]
[32,0.05,null,null,null,null,null,null,null,null,null,null,null,null,null,null,null,null,null,null,null,null,null,0.05,0.055]
[33,0.05,null,null,null,null,null,null,null,null,null,null,null,null,null,null,null,null,null,null,null,null,null,0.05,0.055]
[34,0.05,null,null,null,null,null,null,null,null,null,null,null,null,null,null,null,null,null,null,null,null,null,0.05,0.055]
[35,0.05,null,null,null,null,null,null,null,null,null,null,null,null,null,null,null,null,null,null,null,null,null,0.05,0.055]
[36,0.05,null,null,null,null,null,null,null,null,null,null,null,null,null,null,null,null,null,null,null,null,null,0.05,0.055]
[37,0.05,null,null,null,null,null,null,null,null,null,null,null,null,null,null,null,null,null,null,null,null,null,0.05,0.055]
[38,0.05,null,null,null,null,null,null,null,null,null,null,null,null,null,null,null,null,null,null,null,null,null,0.05,0.055]
[39,0.05,null,null,null,null,null,null,null,null,null,null,null,null,null,null,null,null,null,null,null,null,null,0.05,0.055]
[40,0.05,null,null,null,null,null,null,null,null,null,null,null,null,null,null,null,null,null,null,null,null,null,0.05,0.055]
[41,0.05,null,null,null,null,null,null,null,null,null,null,null,null,null,null,null,null,null,null,null,null,null,0.05,0.055]
[42,0.05,null,null,null,null,null,null,null,null,null,null,null,null,null,null,null,null,null,null,null,null,null,0.05,0.055]
[43,0.05,null,null,null,null,null,null,null,null,null,null,null,null,null,null,null,null,null,null,null,null,null,0.05,0.055]
[44,0.05,null,null,null,null,null,null,null,null,null,null,null,null,null,null,null,null,null,null,null,null,null,0.05,0.055]
[45,0.05,null,null,null,null,null,null,null,null,null,null,null,null,null,null,null,null,null,null,null,null,null,0.05,0.055]
[46,0.05,null,null,null,null,null,null,null,null,null,null,null,null,null,null,null,null,null,null,null,null,null,0.05,0.055]
[47,0.05,null,null,null,null,null,null,null,null,null,null,null,null,null,null,null,null,null,null,null,null,null,0.05,0.055]
[48,0.05,null,null,null,null,null,null,null,null,null,null,null,null,null,null,null,null,null,null,null,null,null,0.05,0.055]
[49,0.05,null,null,null,null,null,null,null,null,null,null,null,null,null,null,null,null,null,null,null,null,null,0.05,0.055]
[50,0.05,null,null,null,null,null,null,null,null,null,null,null,null,null,null,null,null,null,null,null,null,null,0.05,0.055]

{"sheet":"Mortality&Morbidity","index":6,"n_rows":112,"n_cols":80,"rows_kept":112,"cut":false,"hidden":true,"merged":[[2,1,2,2],[2,4,2,5],[2,6,2,7],[2,8,2,9],[2,10,2,11],[2,12,2,13],[2,14,2,15],[2,16,2,17],[2,18,2,19],[2,20,2,21],[2,69,2,70],[2,71,2,72],[3,69,3,70],[3,71,3,72],[3,74,3,75],[3,76,3,77],[3,78,3,79],[2,27,3,27]]}
[null,null,null,null,"生命表",null,null,null,"重疾死亡占比",null,"重疾表",null,"重疾表",null,"轻症表",null,"轻症豁免",null,"普通全残",null,null,null,null,null,null,null,null,null,"Pricing & CSV",null,null,null,null,null,null,"Reserve(10-13养老金业务表)",null,null,null,null,null,null,"Profit Testing",null,null,null,null,null,null,null,"新EV负债",null,null,null,null,null,"Expense Loading",null,null,null,null,null,null,null,null,null,null,null,null,null,null,null,null,"1.定期寿险、终身寿险、健康保险应采用非养老类业务一表。"]
[null,null,null,null,"CL10-13男女5:5加权",null,null,null,"CI - 60DDs",null,{"$f":"重疾发生率!BI2","v":"行业表（25DDs）"},null,{"$f":"重疾发生率!AO2","v":"CI - 32DDs"},null,"MCI-22DDs三次",null,"MCI-22DDs一次",null,null,null,null,null,null,null,null,null,null,null,2,3,4,5,6,7,8,9,10,11,12,13,14,15,16,17,18,19,20,21,22,23,24,25,26,27,null,null,"保监发[1999] 90号",null,null,null,null,null,null,null,null,null,null,null,null,null,null,null,null,"2.保险期间内（不含满期）没有生存金给付责任的两全保险或含有生存金给付责任但生存责任较低的两全保险、长寿风险较低的年金保险应采用非养老类业务二表。"]
[null,null,null,null,null,null,null,null,"CI (kx)",null,"CI (ix)",null,"CI (ix)",null,"Minor CI (mx)",null,"WP (mx)",null,"TPD (qx)",null,"Minor CI (mx)",null,null,null,null,null,null,null,{"$f":"Assumption!B25","v":0.8},{"$f":"Assumption!B26","v":1},{"$f":"Assumption!B27","v":1},{"$f":"Assumption!B28","v":1},{"$f":"Assumption!B29","v":1},null,null,{"$f":"Assumption!C25","v":1},{"$f":"Assumption!C26","v":1},{"$f":"Assumption!C27","v":1},{"$f":"Assumption!B28","v":1},{"$f":"Assumption!C29","v":1},null,null,{"$f":"Assumption!D25","v":1},1,1,null,1,null,{"$f":"AM3","v":1},null,null,null,null,null,null,null,"期交保费预定附加费用率上限",null,null,null,null,null,null,"Parameter K",null,null,null,null,null,null,null,null,null,"3.保险期间内（不含满期）含有生存金给付责任且生存责任较高的两全保险、长寿风险较高的年金保险应采用养老类业务表。"]
[null,null,null,null,"M","F",null,null,"M","F","M","F","M","F","M","F","M","F","M","F","M","F",null,null,null,null,null,null,"qx","ix","kx","mx","WP mx","Specific CA","WP TPD","qx","ix","kx","mx","WP mx","Specific CA","WP TPD","qx","ix","kx",null,"WP mx","Specific CA","mx","WP TPD","qx",null,null,null,null,null,null,"Policy Year",1,2,3,4,null,null,"Endowment/Annuity","Term/Whole Life",null,null,"CL00-03","非养老金业务表",null,"养老金业务表",null,"CL10-13","非养老类业务一表",null,"非养老类业务二表",null,"养老类业务表"]
[null,null,null,"Age",null,null,null,null,null,null,null,null,null,null,null,null,null,null,null,null,null,null,null,null,null,null,null,null,{"$f":"E2","v":"CL10-13男女5:5加权"},null,null,null,null,null,null,null,null,null,null,null,null,null,{"$f":"BQ4","v":"CL00-03"},{"$f":"K2","v":"行业表（25DDs）"},{"$f":"重疾发生率!AC2","v":"行业表（25DDs）"},"60DDs-32DDs",null,null,null,null,{"$f":"BQ4","v":"CL00-03"},null,null,null,null,null,"PPP<10 yrs","Endowment/Annuity",0.35,0.2,0.2,0.15,null,"Regular Individual",90,80,null,null,"Age","CL1","CL2","CL3","CL4","Age","CL1","CL2","CL3","CL4","CL5","CL6"]
[null,null,null,0,{"$f":"(CA6+CB6)*1000/2","v":0.5095},{"$f":"E6","v":0.5095},null,null,{"$f":"0","v":0},0,0,0,0,0,0,0,0,0,0,0,0,0,null,null,null,null,null,0,{"$f":"IF(Sex=\"M\",E6,F6)*IF(AB6=105,1,$AC$3)","v":0.4076},{"$f":"0","v":0},{"$f":"0","v":0},{"$f":"IF(Sex=\"M\",O6,P6)*$AF$3","v":0},{"$f":"IF(Sex=\"M\",Q6,R6)*$AG$3","v":0},{"$f":"IF(Sex=\"M\",0,0)","v":0},{"$f":"IF(Sex=\"M\",S6,T6)","v":0},{"$f":"IF(Sex=\"M\",CA6,CB6)*1000*$AJ$3","v":0.566},{"$f":"0","v":0},{"$f":"0","v":0},{"$f":"IF(Sex=\"M\",O6,P6)*$AM$3","v":0},{"$f":"IF(Sex=\"M\",Q6,R6)*$AN$3","v":0},{"$f":"IF(Sex=\"M\",0,0)","v":0},{"$f":"AI6","v":0},{"$f":"IF(Sex=\"M\",BT6,BU6)","v":0.627},{"$f":"IF(Sex=\"M\",K6,L6)*$AR$3*0","v":0},{"$f":"VLOOKUP(AB6,重疾发生率!$AC$6:$AE$112,IF(Sex=\"M\",2,3),FALSE)*0","v":0},{"$f":"IF(Sex=\"M\",G6*$AK$3-M6,H6*$AK$3-N6)*0","v":0},{"$f":"IF(Sex=\"M\",Q6,R6)*$AU$3","v":0},{"$f":"IF(Sex=\"M\",0,0)","v":0},{"$f":"IF(Sex=\"M\",O6,P6)*$AW$3","v":0},{"$f":"AP6","v":0},{"$f":"IF(Sex=\"M\",BT6,BU6)","v":0.627},null,null,null,null,null,"10 yrs<=PPP<=19 yrs","Endowment/Annuity",0.45,0.25,0.25,0.15,null,"Regular Group ",95,85,null,{"$f":"BU6*0.8/1000","v":0.00046},0,0.722,0.661,0.627,0.575,0,0.000867,0.00062,0.00062,0.000455,0.000566,0.000453]
[null,null,null,1,{"$f":"(CA7+CB7)*1000/2","v":0.3375},{"$f":"E7","v":0.3375},null,null,{"$f":"0","v":0},0,0,0,0,0,0,0,0,0,0,0,0,0,null,null,null,null,null,1,0.27,0,0,{"$f":"IF(Sex=\"M\",O7,P7)*$AF$3","v":0},{"$f":"IF(Sex=\"M\",Q7,R7)*$AG$3","v":0},0,0,0.386,0,0,0,{"$f":"IF(Sex=\"M\",Q7,R7)*$AN$3","v":0},0,{"$f":"AI7","v":0},0.525,0,{"$f":"VLOOKUP(AB7,重疾发生率!$AC$6:$AE$112,IF(Sex=\"M\",2,3),FALSE)*0","v":0},0,{"$f":"IF(Sex=\"M\",Q7,R7)*$AU$3","v":0},0,0,{"$f":"AP7","v":0},0.525,null,null,null,null,null,"PPP>=20 yrs","Endowment/Annuity",0.5,0.25,0.25,0.15,null,"Single Individual",100,100,null,{"$f":"BU7*0.8/1000","v":0.0003728},1,0.603,0.536,0.525,0.466,1,0.000615,0.000456,0.000465,0.000324,0.000386,0.000289]
[null,null,null,2,0.226,0.226,null,null,{"$f":"0","v":0},0,0,0,0,0,0,0,0,0,0,0,0,0,null,null,null,null,null,2,0.1808,0,0,0,0,0,0,0.268,0,0,0,0,0,0,0.434,0,{"$f":"VLOOKUP(AB8,重疾发生率!$AC$6:$AE$112,IF(Sex=\"M\",2,3),FALSE)*0","v":0},0,0,0,0,0,0.434,null,null,null,null,null,null,null,null,null,null,null,null,"Single Group",100,100,null,0.0002952,2,0.499,0.424,0.434,0.369,2,0.000445,0.000337,0.000353,0.000236,0.000268,0.000184]
[null,null,null,3,0.16,0.16,null,null,{"$f":"0","v":0},0,0,0,0,0,0,0,0,0,0,0,0,0,null,null,null,null,null,3,0.128,0,0,0,0,0,0,0.196,0,0,0,0,0,0,0.362,0,{"$f":"VLOOKUP(AB9,重疾发生率!$AC$6:$AE$112,IF(Sex=\"M\",2,3),FALSE)*0","v":0},0,0,0,0,0,0.362,null,null,null,null,null,null,"Policy Year",1,2,3,4,null,null,null,null,null,0.000232,3,0.416,0.333,0.362,0.29,3,0.000339,0.000256,0.000278,0.00018,0.000196,0.000124]
[null,null,null,4,0.1265,0.1265,null,null,{"$f":"0","v":0},0,0,0,0,0,0,0,0,0,0,0,0,0,null,null,null,null,null,4,0.1012,0,0,0,0,0,0,0.158,0,0,0,0,0,0,0.311,0,{"$f":"VLOOKUP(AB10,重疾发生率!$AC$6:$AE$112,IF(Sex=\"M\",2,3),FALSE)*0","v":0},0,0,0,0,0,0.311,null,null,null,null,null,"PPP<10 yrs","Death/Health",0.6,0.35,0.35,0.25,null,null,null,null,null,0.0001856,4,0.358,0.267,0.311,0.232,4,0.00028,0.000203,0.000229,0.000149,0.000158,9.5e-5]
[null,null,null,5,0.1125,0.1125,null,null,{"$f":"0","v":0},0,0,0,0,0,0,0,0,0,0,0,0,0,null,null,null,null,null,5,0.09,0,0,0,0,0,0,0.141,0,0,0,0,0,0,0.281,0,{"$f":"VLOOKUP(AB11,重疾发生率!$AC$6:$AE$112,IF(Sex=\"M\",2,3),FALSE)*0","v":0},0,0,0,0,0,0.281,null,null,null,null,null,"10 yrs<=PPP<=19 yrs","Death/Health",0.7,0.4,0.4,0.3,null,null,null,null,null,0.000156,5,0.323,0.224,0.281,0.195,5,0.000251,0.00017,0.0002,0.000131,0.000141,8.4e-5]
[null,null,null,6,0.105,0.105,null,null,{"$f":"0","v":0},0,0,0,0,0,0,0,0,0,0,0,0,0,null,null,null,null,null,6,0.084,0,0,0,0,0,0,0.132,0,0,0,0,0,0,0.269,0,{"$f":"VLOOKUP(AB12,重疾发生率!$AC$6:$AE$112,IF(Sex=\"M\",2,3),FALSE)*0","v":0},0,0,0,0,0,0.269,null,null,null,null,null,"PPP>=20 yrs","Death/Health",0.75,0.45,0.45,0.3,null,null,null,null,null,0.00014,6,0.309,0.201,0.269,0.175,6,0.000237,0.000149,0.000182,0.000119,0.000132,7.8e-5]
[null,null,null,7,0.1015,0.1015,null,null,{"$f":"0","v":0},0,0,0,0,0,0,0,0,0,0,0,0,0,null,null,null,null,null,7,0.0812,0,0,0,0,0,0,0.129,0,0,0,0,0,0,0.268,0,{"$f":"VLOOKUP(AB13,重疾发生率!$AC$6:$AE$112,IF(Sex=\"M\",2,3),FALSE)*0","v":0},0,0,0,0,0,0.268,null,null,null,null,null,"平均附加费用率上限",null,null,null,null,null,null,null,null,null,null,0.0001312,7,0.308,0.189,0.268,0.164,7,0.000233,0.000137,0.000172,0.00011,0.000129,7.4e-5]
[null,null,null,8,0.1015,0.1015,null,null,{"$f":"0","v":0},0,0,0,0,0,0,0,0,0,0,0,0,0,null,null,null,null,null,8,0.0812,0,0,0,0,0,0,0.131,0,0,0,0,0,0,0.27,0,{"$f":"VLOOKUP(AB14,重疾发生率!$AC$6:$AE$112,IF(Sex=\"M\",2,3),FALSE)*0","v":0},0,0,0,0,0,0.27,null,null,null,null,null,null,null,"期交","趸交",null,null,null,null,null,null,null,0.0001264,8,0.311,0.181,0.27,0.158,8,0.000238,0.000133,0.000171,0.000105,0.000131,7.2e-5]
[null,null,null,9,0.1045,0.1045,null,null,{"$f":"0","v":0},0,0,0,0,0,0,0,0,0,0,0,0,0,null,null,null,null,null,9,0.0836,0,0,0,0,0,0,0.137,0,0,0,0,0,0,0.271,0,{"$f":"VLOOKUP(AB15,重疾发生率!$AC$6:$AE$112,IF(Sex=\"M\",2,3),FALSE)*0","v":0},0,0,0,0,0,0.271,null,null,null,null,null,null,"Endowment/Annuity",0.18,0.1,null,null,null,null,null,null,null,0.0001216,9,0.312,0.175,0.271,0.152,9,0.00025,0.000136,0.000177,0.000103,0.000137,7.2e-5]
[null,null,null,10,0.11,0.11,null,null,{"$f":"0","v":0},0,0,0,0,0,0,0,0,0,0,0,0,0,null,null,null,null,null,10,0.088,0,0,0,0,0,0,0.146,0,0,0,0,0,0,0.272,0,{"$f":"VLOOKUP(AB16,重疾发生率!$AC$6:$AE$112,IF(Sex=\"M\",2,3),FALSE)*0","v":0},0,0,0,0,0,0.272,null,null,null,null,null,null,"Death/Health",0.35,0.2,null,null,null,null,null,null,null,0.0001176,10,0.312,0.169,0.272,0.147,10,0.000269,0.000145,0.000187,0.000103,0.000146,7.4e-5]
[null,null,null,11,0.117,0.117,null,null,{"$f":"0","v":0},0,0,0,0,0,0,0,0,0,0,0,0,0,null,null,null,null,null,11,0.0936,0,0,0,0,0,0,0.157,0,0,0,0,0,0,0.271,0,{"$f":"VLOOKUP(AB17,重疾发生率!$AC$6:$AE$112,IF(Sex=\"M\",2,3),FALSE)*0","v":0},0,0,0,0,0,0.271,null,null,null,null,null,null,null,null,null,null,null,null,null,null,null,null,0.0001144,11,0.312,0.165,0.271,0.143,11,0.000293,0.000157,0.000202,0.000105,0.000157,7.7e-5]
[null,null,null,12,0.125,0.125,null,null,{"$f":"0","v":0},0,0,0,0,0,0,0,0,0,0,0,0,0,null,null,null,null,null,12,0.1,0,0,0,0,0,0,0.17,0,0,0,0,0,0,0.272,0,{"$f":"VLOOKUP(AB18,重疾发生率!$AC$6:$AE$112,IF(Sex=\"M\",2,3),FALSE)*0","v":0},0,0,0,0,0,0.272,null,null,null,null,null,"本产品",null,null,null,null,null,null,null,null,null,null,0.0001144,12,0.313,0.165,0.272,0.143,12,0.000319,0.000172,0.00022,0.000109,0.00017,8e-5]
[null,null,null,13,0.1345,0.1345,null,null,{"$f":"0","v":0},0,0,0,0,0,0,0,0,0,0,0,0,0,null,null,null,null,null,13,0.1076,0,0,0,0,0,0,0.184,0,0,0,0,0,0,0.278,0,{"$f":"VLOOKUP(AB19,重疾发生率!$AC$6:$AE$112,IF(Sex=\"M\",2,3),FALSE)*0","v":0},0,0,0,0,0,0.278,null,null,null,null,null,null,"Policy Year",1,2,3,4,null,null,null,null,null,0.0001176,13,0.32,0.169,0.278,0.147,13,0.000347,0.000189,0.00024,0.000115,0.000184,8.5e-5]
[null,null,null,14,0.1435,0.1435,null,null,{"$f":"0","v":0},0,0,0,0,0,0,0,0,0,0,0,0,0,null,null,null,null,null,14,0.1148,0,0,0,0,0,0,0.197,0,0,0,0,0,0,0.292,0,{"$f":"VLOOKUP(AB20,重疾发生率!$AC$6:$AE$112,IF(Sex=\"M\",2,3),FALSE)*0","v":0},0,0,0,0,0,0.292,null,null,null,null,null,"bf Adjustment",null,{"$f":"IF(PPP=1,BH15,IF(PPP<10,BG5*100%,IF(PPP<20,BG6*100%,BG7*100%)))","v":0.45},{"$f":"IF(PPP=1,0,IF(PPP<10,BH5,IF(PPP<20,BH6,BH7)))","v":0.25},{"$f":"IF(PPP=1,0,IF(PPP<10,BI5,IF(PPP<20,BI6,BI7)))","v":0.25},{"$f":"IF(PPP=1,0,IF(PPP<10,BJ5,IF(PPP<20,BJ6,BJ7)))","v":0.15},null,null,null,null,null,0.0001248,14,0.336,0.179,0.292,0.156,14,0.000375,0.000206,0.000261,0.000121,0.000197,9e-5]
[null,null,null,15,0.1515,0.1515,null,null,{"$f":"0","v":0},0,0,0,0,0,0,0,0,0,0,0,0,0,null,null,null,null,null,15,0.1212,0,0,0,0,0,0,0.208,0,0,0,0,0,0,0.316,0,{"$f":"VLOOKUP(AB21,重疾发生率!$AC$6:$AE$112,IF(Sex=\"M\",2,3),FALSE)*0","v":0},0,0,0,0,0,0.316,null,null,null,null,null,null,null,"首年系数",null,null,null,null,null,null,null,null,0.0001336,15,0.364,0.192,0.316,0.167,15,0.000402,0.000221,0.00028,0.000128,0.000208,9.5e-5]
[null,null,null,16,0.1595,0.1595,null,null,{"$f":"0","v":0},0,0,0,0,0,0,0,0,0,0,0,0,0,null,null,null,null,null,16,0.1276,0,0,0,0,0,0,0.219,0,0,0,0,0,0,0.351,0,{"$f":"VLOOKUP(AB22,重疾发生率!$AC$6:$AE$112,IF(Sex=\"M\",2,3),FALSE)*0","v":0},0,0,0,0,0,0.351,null,null,null,null,null,null,"趸交",1,null,null,null,null,null,null,null,null,0.0001448,16,0.404,0.208,0.351,0.181,16,0.000427,0.000234,0.000298,0.000135,0.000219,0.0001]
[null,null,null,17,0.166,0.166,null,null,{"$f":"0","v":0},0,0,0,0,0,0,0,0,0,0,0,0,0,null,null,null,null,null,17,0.1328,0,0,0,0,0,0,0.227,0,0,0,0,0,0,0.396,0,{"$f":"VLOOKUP(AB23,重疾发生率!$AC$6:$AE$112,IF(Sex=\"M\",2,3),FALSE)*0","v":0},0,0,0,0,0,0.396,null,null,null,null,null,null,"5年交",1,null,null,null,null,null,null,null,null,0.0001568,17,0.455,0.226,0.396,0.196,17,0.000449,0.000245,0.000315,0.000141,0.000227,0.000105]
[null,null,null,18,0.1725,0.1725,null,null,{"$f":"0","v":0},0,0,0,0,0,0,0,0,0,0,0,0,0,null,null,null,null,null,18,0.138,0,0,0,0,0,0,0.235,0,0,0,0,0,0,0.446,0,{"$f":"VLOOKUP(AB24,重疾发生率!$AC$6:$AE$112,IF(Sex=\"M\",2,3),FALSE)*0","v":0},0,0,0,0,0,0.446,null,null,null,null,null,null,"10年交",1,null,null,null,null,null,null,null,null,0.0001704,18,0.513,0.245,0.446,0.213,18,0.000469,0.000255,0.000331,0.000149,0.000235,0.00011]
[null,null,null,19,0.178,0.178,null,null,{"$f":"0","v":0},0,0,0,0,0,0,0,0,0,0,0,0,0,null,null,null,null,null,19,0.1424,0,0,0,0,0,0,0.241,0,0,0,0,0,0,0.497,0,{"$f":"VLOOKUP(AB25,重疾发生率!$AC$6:$AE$112,IF(Sex=\"M\",2,3),FALSE)*0","v":0},0,0,0,0,0,0.497,null,null,null,null,null,null,"15年交",1,null,null,null,null,null,null,null,null,0.000184,19,0.572,0.264,0.497,0.23,19,0.000489,0.000262,0.000346,0.000156,0.000241,0.000115]
[null,null,null,20,0.184,0.184,null,null,{"$f":"0","v":0},0,0,0,0,0,0,0,0,0,0,0,0,0,null,null,null,null,null,20,0.1472,0,0,0,0,0,0,0.248,0,0,0,0,0,0,0.54,0,{"$f":"VLOOKUP(AB26,重疾发生率!$AC$6:$AE$112,IF(Sex=\"M\",2,3),FALSE)*0","v":0},0,0,0,0,0,0.54,null,null,null,null,null,null,null,null,null,null,null,null,null,null,null,null,0.0001968,20,0.621,0.283,0.54,0.246,20,0.000508,0.000269,0.000361,0.000163,0.000248,0.00012]
[null,null,null,21,0.1905,0.1905,null,null,{"$f":"0","v":0},0,0,0,0,0,0,0,0,0,0,0,0,0,null,null,null,null,null,21,0.1524,0,0,0,0,0,0,0.256,0,0,0,0,0,0,0.575,0,{"$f":"VLOOKUP(AB27,重疾发生率!$AC$6:$AE$112,IF(Sex=\"M\",2,3),FALSE)*0","v":0},0,0,0,0,0,0.575,null,null,null,null,null,"乐鑫主险",null,null,null,null,null,null,null,null,null,null,0.0002088,21,0.661,0.3,0.575,0.261,21,0.000527,0.000274,0.000376,0.00017,0.000256,0.000125]
[null,null,null,22,0.1965,0.1965,null,null,{"$f":"0","v":0},0,0,0,0,0,0,0,0,0,0,0,0,0,null,null,null,null,null,22,0.1572,0,0,0,0,0,0,0.264,0,0,0,0,0,0,0.601,0,{"$f":"VLOOKUP(AB28,重疾发生率!$AC$6:$AE$112,IF(Sex=\"M\",2,3),FALSE)*0","v":0},0,0,0,0,0,0.601,null,null,null,null,null,"交费期间",1,2,3,4,5,"6+",null,null,null,null,0.0002192,22,0.692,0.315,0.601,0.274,22,0.000547,0.000279,0.000392,0.000178,0.000264,0.000129]
[null,null,null,23,0.2035,0.2035,null,null,{"$f":"0","v":0},0,0,0,0,0,0,0,0,0,0,0,0,0,null,null,null,null,null,23,0.1628,0,0,0,0,0,0,0.273,0,0,0,0,0,0,0.623,0,{"$f":"VLOOKUP(AB29,重疾发生率!$AC$6:$AE$112,IF(Sex=\"M\",2,3),FALSE)*0","v":0},0,0,0,0,0,0.623,null,null,null,null,null,1,0.09,0,0,0,0,0,null,null,null,null,0.000228,23,0.716,0.328,0.623,0.285,23,0.000568,0.000284,0.000409,0.000185,0.000273,0.000134]
[null,null,null,24,0.2115,0.2115,null,null,{"$f":"0","v":0},0,0,0,0,0,0,0,0,0,0,0,0,0,null,null,null,null,null,24,0.1692,0,0,0,0,0,0,0.284,0,0,0,0,0,0,0.643,0,{"$f":"VLOOKUP(AB30,重疾发生率!$AC$6:$AE$112,IF(Sex=\"M\",2,3),FALSE)*0","v":0},0,0,0,0,0,0.643,null,null,null,null,null,3,0.35,0.088,0.088,0,0,0,null,null,null,null,0.0002344,24,0.738,0.338,0.643,0.293,24,0.000591,0.000289,0.000428,0.000192,0.000284,0.000139]
[null,null,null,25,0.2205,0.2205,null,null,{"$f":"0","v":0},0,0,0,0,0,0,0,0,0,0,0,0,0,null,null,null,null,null,25,0.1764,0,0,0,0,0,0,0.297,0,0,0,0,0,0,0.66,0,{"$f":"VLOOKUP(AB31,重疾发生率!$AC$6:$AE$112,IF(Sex=\"M\",2,3),FALSE)*0","v":0},0,0,0,0,0,0.66,null,null,null,null,null,5,0.35,0.15,0.15,0.113,0.113,0,null,null,null,null,0.0002408,25,0.759,0.347,0.66,0.301,25,0.000615,0.000294,0.000448,0.0002,0.000297,0.000144]
[null,null,null,26,0.2315,0.2315,null,null,{"$f":"0","v":0},0,0,0,0,0,0,0,0,0,0,0,0,0,null,null,null,null,null,26,0.1852,0,0,0,0,0,0,0.314,0,0,0,0,0,0,0.676,0,{"$f":"VLOOKUP(AB32,重疾发生率!$AC$6:$AE$112,IF(Sex=\"M\",2,3),FALSE)*0","v":0},0,0,0,0,0,0.676,null,null,null,null,null,10,0.45,0.205,0.205,0.123,0.123,0.123,null,null,null,null,0.0002464,26,0.779,0.355,0.676,0.308,26,0.000644,0.0003,0.000471,0.000208,0.000314,0.000149]
[null,null,null,27,0.2435,0.2435,null,null,{"$f":"0","v":0},0,0,0,0,0,0,0,0,0,0,0,0,0,null,null,null,null,null,27,0.1948,0,0,0,0,0,0,0.333,0,0,0,0,0,0,0.693,0,{"$f":"VLOOKUP(AB33,重疾发生率!$AC$6:$AE$112,IF(Sex=\"M\",2,3),FALSE)*0","v":0},0,0,0,0,0,0.693,null,null,null,null,null,15,0.45,0.23,0.23,0.138,0.138,0.138,null,null,null,null,0.0002528,27,0.795,0.362,0.693,0.316,27,0.000675,0.000307,0.000497,0.000216,0.000333,0.000154]
[null,null,null,28,0.257,0.257,null,null,{"$f":"0","v":0},0,0,0,0,0,0,0,0,0,0,0,0,0,null,null,null,null,null,28,0.2056,0,0,0,0,0,0,0.354,0,0,0,0,0,0,0.712,0,{"$f":"VLOOKUP(AB34,重疾发生率!$AC$6:$AE$112,IF(Sex=\"M\",2,3),FALSE)*0","v":0},0,0,0,0,0,0.712,null,null,null,null,null,20,0.5,0.24,0.24,0.144,0.144,0.144,null,null,null,null,0.00026,28,0.815,0.372,0.712,0.325,28,0.000711,0.000316,0.000526,0.000225,0.000354,0.00016]
[null,null,null,29,0.273,0.273,null,null,{"$f":"0","v":0},0,0,0,0,0,0,0,0,0,0,0,0,0,null,null,null,null,null,29,0.2184,0,0,0,0,0,0,0.379,0,0,0,0,0,0,0.734,0,{"$f":"VLOOKUP(AB35,重疾发生率!$AC$6:$AE$112,IF(Sex=\"M\",2,3),FALSE)*0","v":0},0,0,0,0,0,0.734,null,null,null,null,null,null,null,null,null,null,null,null,null,null,null,null,0.0002696,29,0.842,0.386,0.734,0.337,29,0.000751,0.000327,0.000558,0.000235,0.000379,0.000167]
[null,null,null,30,0.291,0.291,null,null,{"$f":"0","v":0},0,0,0,0,0,0,0,0,0,0,0,0,0,null,null,null,null,null,30,0.2328,0,0,0,0,0,0,0.407,0,0,0,0,0,0,0.759,0,{"$f":"VLOOKUP(AB36,重疾发生率!$AC$6:$AE$112,IF(Sex=\"M\",2,3),FALSE)*0","v":0},0,0,0,0,0,0.759,null,null,null,null,null,{"$f":"PPP","v":10},"GP","CSV",null,null,null,null,null,null,null,null,0.0002808,30,0.881,0.406,0.759,0.351,30,0.000797,0.00034,0.000595,0.000247,0.000407,0.000175]
[null,null,null,31,0.312,0.312,null,null,{"$f":"0","v":0},0,0,0,0,0,0,0,0,0,0,0,0,0,null,null,null,null,null,31,0.2496,0,0,0,0,0,0,0.438,0,0,0,0,0,0,0.788,0,{"$f":"VLOOKUP(AB37,重疾发生率!$AC$6:$AE$112,IF(Sex=\"M\",2,3),FALSE)*0","v":0},0,0,0,0,0,0.788,null,null,null,null,null,1,{"$f":"VLOOKUP($BE$36,$BE$57:$BK$62,BE37+1,FALSE)","v":0.4},{"$f":"VLOOKUP($BE$36,$BE$48:$BK$53,BE37+1,FALSE)","v":0.4},null,null,null,null,null,null,null,null,0.0002928,31,0.932,0.432,0.788,0.366,31,0.000847,0.000356,0.000635,0.000261,0.000438,0.000186]
[null,null,null,32,0.335,0.335,null,null,{"$f":"0","v":0},0,0,0,0,0,0,0,0,0,0,0,0,0,null,null,null,null,null,32,{"$f":"IF(Sex=\"M\",E38,F38)*IF(AB38=105,1,$AC$3)","v":0.268},0,0,{"$f":"IF(Sex=\"M\",O38,P38)*$AF$3","v":0},{"$f":"IF(Sex=\"M\",Q38,R38)*$AG$3","v":0},{"$f":"IF(Sex=\"M\",0,0)","v":0},{"$f":"IF(Sex=\"M\",S38,T38)","v":0},{"$f":"IF(Sex=\"M\",CA38,CB38)*1000*$AJ$3","v":0.472},0,0,{"$f":"IF(Sex=\"M\",O38,P38)*$AM$3","v":0},{"$f":"IF(Sex=\"M\",Q38,R38)*$AN$3","v":0},{"$f":"IF(Sex=\"M\",0,0)","v":0},0,{"$f":"IF(Sex=\"M\",BT38,BU38)","v":0.82},{"$f":"IF(Sex=\"M\",K38,L38)*$AR$3*0","v":0},{"$f":"VLOOKUP(AB38,重疾发生率!$AC$6:$AE$112,IF(Sex=\"M\",2,3),FALSE)*0","v":0},{"$f":"IF(Sex=\"M\",G38*$AK$3-M38,H38*$AK$3-N38)*0","v":0},{"$f":"IF(Sex=\"M\",Q38,R38)*$AU$3","v":0},{"$f":"IF(Sex=\"M\",0,0)","v":0},{"$f":"IF(Sex=\"M\",O38,P38)*$AW$3","v":0},0,{"$f":"IF(Sex=\"M\",BT38,BU38)","v":0.82},null,null,null,null,null,2,0.18,{"$f":"VLOOKUP($BE$36,$BE$48:$BK$53,BE38+1,FALSE)","v":0.25},null,null,null,null,null,null,null,null,0.0003072,32,0.994,0.465,0.82,0.384,32,0.000903,0.000374,0.000681,0.000277,0.000472,0.000198]
[null,null,null,33,0.361,0.361,null,null,{"$f":"0","v":0},0,0,0,0,0,0,0,0,0,0,0,0,0,null,null,null,null,null,33,0.2888,0,0,0,0,0,0,0.509,0,0,0,0,0,0,0.855,0,{"$f":"VLOOKUP(AB39,重疾发生率!$AC$6:$AE$112,IF(Sex=\"M\",2,3),FALSE)*0","v":0},0,0,0,0,0,0.855,null,null,null,null,null,3,0.18,0.15,null,null,null,null,null,null,null,null,0.0003216,33,1.055,0.496,0.855,0.402,33,0.000966,0.000397,0.000732,0.000297,0.000509,0.000213]
[null,null,null,34,0.39,0.39,null,null,{"$f":"0","v":0},0,0,0,0,0,0,0,0,0,0,0,0,0,null,null,null,null,null,34,0.312,0,0,0,0,0,0,0.549,0,0,0,0,0,0,0.893,0,{"$f":"VLOOKUP(AB40,重疾发生率!$AC$6:$AE$112,IF(Sex=\"M\",2,3),FALSE)*0","v":0},0,0,0,0,0,0.893,null,null,null,null,null,4,0.14,0.12,null,null,null,null,null,null,null,null,0.0003368,34,1.121,0.528,0.893,0.421,34,0.001035,0.000423,0.000788,0.000319,0.000549,0.000231]
[null,null,null,35,0.4225,0.4225,null,null,{"$f":"0","v":0},0,0,0,0,0,0,0,0,0,0,0,0,0,null,null,null,null,null,35,0.338,0,0,0,0,0,0,0.592,0,0,0,0,0,0,0.936,0,{"$f":"VLOOKUP(AB41,重疾发生率!$AC$6:$AE$112,IF(Sex=\"M\",2,3),FALSE)*0","v":0},0,0,0,0,0,0.936,null,null,null,null,null,5,0.14,0.12,null,null,null,null,null,null,null,null,0.0003528,35,1.194,0.563,0.936,0.441,35,0.001111,0.000454,0.00085,0.000346,0.000592,0.000253]
[null,null,null,36,0.458,0.458,null,null,{"$f":"0","v":0},0,0,0,0,0,0,0,0,0,0,0,0,0,null,null,null,null,null,36,0.3664,0,0,0,0,0,0,0.639,0,0,0,0,0,0,0.985,0,{"$f":"VLOOKUP(AB42,重疾发生率!$AC$6:$AE$112,IF(Sex=\"M\",2,3),FALSE)*0","v":0},0,0,0,0,0,0.985,null,null,null,null,null,6,0.1,0.12,null,null,null,null,null,null,null,null,0.0003712,36,1.275,0.601,0.985,0.464,36,0.001196,0.000489,0.000919,0.000376,0.000639,0.000277]
[null,null,null,37,0.4975,0.4975,null,null,{"$f":"0","v":0},0,0,0,0,0,0,0,0,0,0,0,0,0,null,null,null,null,null,37,0.398,0,0,0,0,0,0,0.69,0,0,0,0,0,0,1.043,0,{"$f":"VLOOKUP(AB43,重疾发生率!$AC$6:$AE$112,IF(Sex=\"M\",2,3),FALSE)*0","v":0},0,0,0,0,0,1.043,null,null,null,null,null,null,null,null,null,null,null,null,null,null,null,null,0.0003944,37,1.367,0.646,1.043,0.493,37,0.00129,0.00053,0.000995,0.000411,0.00069,0.000305]
[null,null,null,38,0.5415,0.5415,null,null,{"$f":"0","v":0},0,0,0,0,0,0,0,0,0,0,0,0,0,null,null,null,null,null,38,0.4332,0,0,0,0,0,0,0.746,0,0,0,0,0,0,1.111,0,{"$f":"VLOOKUP(AB44,重疾发生率!$AC$6:$AE$112,IF(Sex=\"M\",2,3),FALSE)*0","v":0},0,0,0,0,0,1.111,null,null,null,null,null,null,null,null,null,null,null,null,null,null,null,null,0.0004224,38,1.472,0.699,1.111,0.528,38,0.001395,0.000577,0.001078,0.00045,0.000746,0.000337]
[null,null,null,39,0.59,0.59,null,null,{"$f":"0","v":0},0,0,0,0,0,0,0,0,0,0,0,0,0,null,null,null,null,null,39,0.472,0,0,0,0,0,0,0.808,0,0,0,0,0,0,1.189,0,{"$f":"VLOOKUP(AB45,重疾发生率!$AC$6:$AE$112,IF(Sex=\"M\",2,3),FALSE)*0","v":0},0,0,0,0,0,1.189,null,null,null,null,null,"计算现金价值",null,null,null,null,null,null,null,null,null,null,0.0004552,39,1.589,0.761,1.189,0.569,39,0.001515,0.000631,0.00117,0.000494,0.000808,0.000372]
[null,null,null,40,0.644,0.644,null,null,{"$f":"0","v":0},0,0,0,0,0,0,0,0,0,0,0,0,0,null,null,null,null,null,40,0.5152,0,0,0,0,0,0,0.878,0,0,0,0,0,0,1.275,0,{"$f":"VLOOKUP(AB46,重疾发生率!$AC$6:$AE$112,IF(Sex=\"M\",2,3),FALSE)*0","v":0},0,0,0,0,0,1.275,null,null,null,null,null,"保监发【2015】93号 - 中国保监会关于推进分红型人身保险费率政策改革有关事项的通知",null,null,null,null,null,null,null,null,null,null,0.000492,40,1.715,0.828,1.275,0.615,40,0.001651,0.000692,0.00127,0.000542,0.000878,0.00041]
[null,null,null,41,0.7025,0.7025,null,null,{"$f":"0","v":0},0,0,0,0,0,0,0,0,0,0,0,0,0,null,null,null,null,null,41,0.562,0,0,0,0,0,0,0.955,0,0,0,0,0,0,1.366,0,{"$f":"VLOOKUP(AB47,重疾发生率!$AC$6:$AE$112,IF(Sex=\"M\",2,3),FALSE)*0","v":0},0,0,0,0,0,1.366,null,null,null,null,null,"交费期间",1,2,3,4,5,"6+",null,null,null,null,0.0005312,41,1.845,0.897,1.366,0.664,41,0.001804,0.000762,0.00138,0.000595,0.000955,0.00045]
[null,null,null,42,0.7675,0.7675,null,null,{"$f":"0","v":0},0,0,0,0,0,0,0,0,0,0,0,0,0,null,null,null,null,null,42,0.614,0,0,0,0,0,0,1.041,0,0,0,0,0,0,1.461,0,{"$f":"VLOOKUP(AB48,重疾发生率!$AC$6:$AE$112,IF(Sex=\"M\",2,3),FALSE)*0","v":0},0,0,0,0,0,1.461,null,null,null,null,null,1,0.08,0,0,0,0,0,null,null,null,null,0.0005712,42,1.978,0.966,1.461,0.714,42,0.001978,0.000841,0.0015,0.000653,0.001041,0.000494]
[null,null,null,43,0.839,0.839,null,null,{"$f":"0","v":0},0,0,0,0,0,0,0,0,0,0,0,0,0,null,null,null,null,null,43,0.6712,0,0,0,0,0,0,1.138,0,0,0,0,0,0,1.56,0,{"$f":"VLOOKUP(AB49,重疾发生率!$AC$6:$AE$112,IF(Sex=\"M\",2,3),FALSE)*0","v":0},0,0,0,0,0,1.56,null,null,null,null,null,3,0.3,0.2,0.15,0,0,0,null,null,null,null,0.0006104,43,2.113,1.033,1.56,0.763,43,0.002173,0.000929,0.001631,0.000715,0.001138,0.00054]
[null,null,null,44,0.917,0.917,null,null,{"$f":"0","v":0},0,0,0,0,0,0,0,0,0,0,0,0,0,null,null,null,null,null,44,0.7336,0,0,0,0,0,0,1.245,0,0,0,0,0,0,1.665,0,{"$f":"VLOOKUP(AB50,重疾发生率!$AC$6:$AE$112,IF(Sex=\"M\",2,3),FALSE)*0","v":0},0,0,0,0,0,1.665,null,null,null,null,null,5,0.3,0.2,0.15,0.12,0.12,0,null,null,null,null,0.000652,44,2.255,1.103,1.665,0.815,44,0.002393,0.001028,0.001774,0.000783,0.001245,0.000589]
[null,null,null,45,1.002,1.002,null,null,{"$f":"0","v":0},0,0,0,0,0,0,0,0,0,0,0,0,0,null,null,null,null,null,45,0.8016,0,0,0,0,0,0,1.364,0,0,0,0,0,0,1.783,0,{"$f":"VLOOKUP(AB51,重疾发生率!$AC$6:$AE$112,IF(Sex=\"M\",2,3),FALSE)*0","v":0},0,0,0,0,0,1.783,null,null,null,null,null,10,0.4,0.25,0.15,0.12,0.12,0.12,null,null,null,null,0.0006984,45,2.413,1.181,1.783,0.873,45,0.002639,0.001137,0.001929,0.000857,0.001364,0.00064]
[null,null,null,46,1.0945,1.0945,null,null,{"$f":"0","v":0},0,0,0,0,0,0,0,0,0,0,0,0,0,null,null,null,null,null,46,0.8756,0,0,0,0,0,0,1.496,0,0,0,0,0,0,1.918,0,{"$f":"VLOOKUP(AB52,重疾发生率!$AC$6:$AE$112,IF(Sex=\"M\",2,3),FALSE)*0","v":0},0,0,0,0,0,1.918,null,null,null,null,null,15,0.4,0.25,0.15,0.12,0.12,0.12,null,null,null,null,0.0007536,46,2.595,1.274,1.918,0.942,46,0.002913,0.001259,0.002096,0.000935,0.001496,0.000693]
[null,null,null,47,1.1955,1.1955,null,null,{"$f":"0","v":0},0,0,0,0,0,0,0,0,0,0,0,0,0,null,null,null,null,null,47,0.9564,0,0,0,0,0,0,1.641,0,0,0,0,0,0,2.055,0,{"$f":"VLOOKUP(AB53,重疾发生率!$AC$6:$AE$112,IF(Sex=\"M\",2,3),FALSE)*0","v":0},0,0,0,0,0,2.055,null,null,null,null,null,20,0.45,0.25,0.15,0.12,0.12,0.12,null,null,null,null,0.0008112,47,2.805,1.389,2.055,1.014,47,0.003213,0.001392,0.002277,0.00102,0.001641,0.00075]
[null,null,null,48,1.3045,1.3045,null,null,{"$f":"0","v":0},0,0,0,0,0,0,0,0,0,0,0,0,0,null,null,null,null,null,48,1.0436,0,0,0,0,0,0,1.798,0,0,0,0,0,0,2.238,0,{"$f":"VLOOKUP(AB54,重疾发生率!$AC$6:$AE$112,IF(Sex=\"M\",2,3),FALSE)*0","v":0},0,0,0,0,0,2.238,null,null,null,null,null,null,null,null,null,null,null,null,null,null,null,null,0.0008984,48,3.042,1.527,2.238,1.123,48,0.003538,0.001537,0.002472,0.001112,0.001798,0.000811]
[null,null,null,49,1.422,1.422,null,null,{"$f":"0","v":0},0,0,0,0,0,0,0,0,0,0,0,0,0,null,null,null,null,null,49,1.1376,0,0,0,0,0,0,1.967,0,0,0,0,0,0,2.446,0,{"$f":"VLOOKUP(AB55,重疾发生率!$AC$6:$AE$112,IF(Sex=\"M\",2,3),FALSE)*0","v":0},0,0,0,0,0,2.446,null,null,null,null,null,"计算毛保费",null,null,null,null,null,null,null,null,null,null,0.0010008,49,3.299,1.69,2.446,1.251,49,0.003884,0.001692,0.002682,0.001212,0.001967,0.000877]
[null,null,null,50,1.549,1.549,null,null,{"$f":"0","v":0},0,0,0,0,0,0,0,0,0,0,0,0,0,null,null,null,null,null,50,1.2392,0,0,0,0,0,0,2.148,0,0,0,0,0,0,2.666,0,{"$f":"VLOOKUP(AB56,重疾发生率!$AC$6:$AE$112,IF(Sex=\"M\",2,3),FALSE)*0","v":0},0,0,0,0,0,2.666,null,null,null,null,null,"交费期间",1,2,3,4,5,"6+",null,null,null,null,0.0011144,50,3.57,1.873,2.666,1.393,50,0.004249,0.001859,0.002908,0.001321,0.002148,0.00095]
[null,null,null,51,1.6855,1.6855,null,null,{"$f":"0","v":0},0,0,0,0,0,0,0,0,0,0,0,0,0,null,null,null,null,null,51,1.3484,0,0,0,0,0,0,2.34,0,0,0,0,0,0,2.88,0,{"$f":"VLOOKUP(AB57,重疾发生率!$AC$6:$AE$112,IF(Sex=\"M\",2,3),FALSE)*0","v":0},0,0,0,0,0,2.88,null,null,null,null,null,1,0.08,0,0,0,0,0,null,null,null,null,0.0012384,51,3.847,2.074,2.88,1.548,51,0.004633,0.002037,0.00315,0.001439,0.00234,0.001031]
[null,null,null,52,1.832,1.832,null,null,{"$f":"0","v":0},0,0,0,0,0,0,0,0,0,0,0,0,0,null,null,null,null,null,52,1.4656,0,0,0,0,0,0,2.544,0,0,0,0,0,0,3.085,0,{"$f":"VLOOKUP(AB58,重疾发生率!$AC$6:$AE$112,IF(Sex=\"M\",2,3),FALSE)*0","v":0},0,0,0,0,0,3.085,null,null,null,null,null,3,0.25,0.12,0.1,0,0,0,null,null,null,null,0.0013712,52,4.132,2.295,3.085,1.714,52,0.005032,0.002226,0.003409,0.001568,0.002544,0.00112]
[null,null,null,53,1.989,1.989,null,null,{"$f":"0","v":0},0,0,0,0,0,0,0,0,0,0,0,0,0,null,null,null,null,null,53,1.5912,0,0,0,0,0,0,2.759,0,0,0,0,0,0,3.3,0,{"$f":"VLOOKUP(AB59,重疾发生率!$AC$6:$AE$112,IF(Sex=\"M\",2,3),FALSE)*0","v":0},0,0,0,0,0,3.3,null,null,null,null,null,5,0.3,0.15,0.15,0.09,0.09,0,null,null,null,null,0.0015144,53,4.434,2.546,3.3,1.893,53,0.005445,0.002424,0.003686,0.001709,0.002759,0.001219]
[null,null,null,54,2.157,2.157,null,null,{"$f":"0","v":0},0,0,0,0,0,0,0,0,0,0,0,0,0,null,null,null,null,null,54,1.7256,0,0,0,0,0,0,2.985,0,0,0,0,0,0,3.545,0,{"$f":"VLOOKUP(AB60,重疾发生率!$AC$6:$AE$112,IF(Sex=\"M\",2,3),FALSE)*0","v":0},0,0,0,0,0,3.545,null,null,null,null,null,10,0.4,0.18,0.18,0.14,0.14,0.1,null,null,null,null,0.0016744,54,4.778,2.836,3.545,2.093,54,0.005869,0.002634,0.003982,0.001861,0.002985,0.001329]
[null,null,null,55,2.3355,2.3355,null,null,{"$f":"0","v":0},0,0,0,0,0,0,0,0,0,0,0,0,0,null,null,null,null,null,55,1.8684,0,0,0,0,0,0,3.221,0,0,0,0,0,0,3.838,0,{"$f":"VLOOKUP(AB61,重疾发生率!$AC$6:$AE$112,IF(Sex=\"M\",2,3),FALSE)*0","v":0},0,0,0,0,0,3.838,null,null,null,null,null,15,0.4,0.2,0.2,0.15,0.15,0.12,null,null,null,null,0.0018544,55,5.203,3.178,3.838,2.318,55,0.006302,0.002853,0.004297,0.002027,0.003221,0.00145]
[null,null,null,56,2.527,2.527,null,null,{"$f":"0","v":0},0,0,0,0,0,0,0,0,0,0,0,0,0,null,null,null,null,null,56,2.0216,0,0,0,0,0,0,3.469,0,0,0,0,0,0,4.207,0,{"$f":"VLOOKUP(AB62,重疾发生率!$AC$6:$AE$112,IF(Sex=\"M\",2,3),FALSE)*0","v":0},0,0,0,0,0,4.207,null,null,null,null,null,20,0.45,0.24,0.24,0.15,0.15,0.12,null,null,null,null,0.0020856,56,5.744,3.577,4.207,2.607,56,0.006747,0.003085,0.004636,0.002208,0.003469,0.001585]
[null,null,null,57,2.7335,2.7335,null,null,{"$f":"0","v":0},0,0,0,0,0,0,0,0,0,0,0,0,0,null,null,null,null,null,57,2.1868,0,0,0,0,0,0,3.731,0,0,0,0,0,0,4.676,0,{"$f":"VLOOKUP(AB63,重疾发生率!$AC$6:$AE$112,IF(Sex=\"M\",2,3),FALSE)*0","v":0},0,0,0,0,0,4.676,null,null,null,null,null,null,null,null,null,null,null,null,null,null,null,null,0.0023832,57,6.427,4.036,4.676,2.979,57,0.007227,0.003342,0.004999,0.002403,0.003731,0.001736]
[null,null,null,58,2.9595,2.9595,null,null,{"$f":"0","v":0},0,0,0,0,0,0,0,0,0,0,0,0,0,null,null,null,null,null,58,2.3676,0,0,0,0,0,0,4.014,0,0,0,0,0,0,5.275,0,{"$f":"VLOOKUP(AB64,重疾发生率!$AC$6:$AE$112,IF(Sex=\"M\",2,3),FALSE)*0","v":0},0,0,0,0,0,5.275,null,null,null,null,null,null,null,null,null,null,null,null,null,null,null,null,0.002728,58,7.26,4.556,5.275,3.41,58,0.00777,0.003638,0.005389,0.002613,0.004014,0.001905]
[null,null,null,59,3.21,3.21,null,null,{"$f":"0","v":0},0,0,0,0,0,0,0,0,0,0,0,0,0,null,null,null,null,null,59,2.568,0,0,0,0,0,0,4.323,0,0,0,0,0,0,6.039,0,{"$f":"VLOOKUP(AB65,重疾发生率!$AC$6:$AE$112,IF(Sex=\"M\",2,3),FALSE)*0","v":0},0,0,0,0,0,6.039,null,null,null,null,null,null,null,null,null,null,null,null,null,null,null,null,0.0030528,59,8.229,5.133,6.039,3.816,59,0.008403,0.00399,0.005807,0.00284,0.004323,0.002097]
[null,null,null,60,3.4875,3.4875,null,null,{"$f":"0","v":0},0,0,0,0,0,0,0,0,0,0,0,0,0,null,null,null,null,null,60,2.79,0,0,0,0,0,0,4.66,0,0,0,0,0,0,6.989,0,{"$f":"VLOOKUP(AB66,重疾发生率!$AC$6:$AE$112,IF(Sex=\"M\",2,3),FALSE)*0","v":0},0,0,0,0,0,6.989,null,null,null,null,null,null,null,null,null,null,null,null,null,null,null,null,0.0034176,60,9.313,5.768,6.989,4.272,60,0.009161,0.004414,0.006258,0.003088,0.00466,0.002315]
[null,null,null,61,3.7975,3.7975,null,null,{"$f":"0","v":0},0,0,0,0,0,0,0,0,0,0,0,0,0,null,null,null,null,null,61,3.038,0,0,0,0,0,0,5.034,0,0,0,0,0,0,7.867,0,{"$f":"VLOOKUP(AB67,重疾发生率!$AC$6:$AE$112,IF(Sex=\"M\",2,3),FALSE)*0","v":0},0,0,0,0,0,7.867,null,null,null,null,null,null,null,null,null,null,null,null,null,null,null,null,0.0038248,61,10.49,6.465,7.867,4.781,61,0.010065,0.004923,0.006742,0.003366,0.005034,0.002561]
[null,null,null,62,4.142,4.142,null,null,{"$f":"0","v":0},0,0,0,0,0,0,0,0,0,0,0,0,0,null,null,null,null,null,62,3.3136,0,0,0,0,0,0,5.448,0,0,0,0,0,0,8.725,0,{"$f":"VLOOKUP(AB68,重疾发生率!$AC$6:$AE$112,IF(Sex=\"M\",2,3),FALSE)*0","v":0},0,0,0,0,0,8.725,null,null,null,null,null,null,null,null,null,null,null,null,null,null,null,null,0.0042808,62,11.747,7.235,8.725,5.351,62,0.011129,0.005529,0.007261,0.003684,0.005448,0.002836]
[null,null,null,63,4.523,4.523,null,null,{"$f":"0","v":0},0,0,0,0,0,0,0,0,0,0,0,0,0,null,null,null,null,null,63,3.6184,0,0,0,0,0,0,5.909,0,0,0,0,0,0,9.677,0,{"$f":"VLOOKUP(AB69,重疾发生率!$AC$6:$AE$112,IF(Sex=\"M\",2,3),FALSE)*0","v":0},0,0,0,0,0,9.677,null,null,null,null,null,null,null,null,null,null,null,null,null,null,null,null,0.0047904,63,13.091,8.094,9.677,5.988,63,0.01236,0.006244,0.007815,0.004055,0.005909,0.003137]
[null,null,null,64,4.945,4.945,null,null,{"$f":"0","v":0},0,0,0,0,0,0,0,0,0,0,0,0,0,null,null,null,null,null,64,{"$f":"IF(Sex=\"M\",E70,F70)*IF(AB70=105,1,$AC$3)","v":3.956},{"$f":"0","v":0},{"$f":"0","v":0},{"$f":"IF(Sex=\"M\",O70,P70)*$AF$3","v":0},{"$f":"IF(Sex=\"M\",Q70,R70)*$AG$3","v":0},{"$f":"IF(Sex=\"M\",0,0)","v":0},{"$f":"IF(Sex=\"M\",S70,T70)","v":0},{"$f":"IF(Sex=\"M\",CA70,CB70)*1000*$AJ$3","v":6.422},{"$f":"0","v":0},{"$f":"0","v":0},{"$f":"IF(Sex=\"M\",O70,P70)*$AM$3","v":0},{"$f":"IF(Sex=\"M\",Q70,R70)*$AN$3","v":0},{"$f":"IF(Sex=\"M\",0,0)","v":0},0,{"$f":"IF(Sex=\"M\",BT70,BU70)","v":10.731},{"$f":"IF(Sex=\"M\",K70,L70)*$AR$3*0","v":0},{"$f":"VLOOKUP(AB70,重疾发生率!$AC$6:$AE$112,IF(Sex=\"M\",2,3),FALSE)*0","v":0},{"$f":"IF(Sex=\"M\",G70*$AK$3-M70,H70*$AK$3-N70)*0","v":0},{"$f":"IF(Sex=\"M\",Q70,R70)*$AU$3","v":0},{"$f":"IF(Sex=\"M\",0,0)","v":0},{"$f":"IF(Sex=\"M\",O70,P70)*$AW$3","v":0},0,{"$f":"IF(Sex=\"M\",BT70,BU70)","v":10.731},null,null,null,null,null,null,null,null,null,null,null,null,null,null,null,null,0.0053608,64,14.542,9.059,10.731,6.701,64,0.013771,0.007078,0.008405,0.004495,0.006422,0.003468]
[null,null,null,65,{"$f":"(CA71+CB71)*1000/2","v":5.4115},{"$f":"E71","v":5.4115},null,null,{"$f":"0","v":0},0,0,0,0,0,0,0,0,0,0,0,0,0,null,null,null,null,null,65,4.3292,0,0,0,0,0,0,6.988,0,0,0,0,0,{"$f":"AI71","v":0},11.9,0,{"$f":"VLOOKUP(AB71,重疾发生率!$AC$6:$AE$112,IF(Sex=\"M\",2,3),FALSE)*0","v":0},0,0,0,0,{"$f":"AP71","v":0},11.9,null,null,null,null,null,null,null,null,null,null,null,null,null,null,null,null,{"$f":"BU71*0.8/1000","v":0.0059992},65,16.134,10.148,11.9,7.499,65,0.015379,0.008045,0.009039,0.005016,0.006988,0.003835]
[null,null,null,66,5.932,5.932,null,null,{"$f":"0","v":0},0,0,0,0,0,0,0,0,0,0,0,0,0,null,null,null,null,null,66,4.7456,0,0,0,0,0,0,7.61,0,0,0,0,0,0,13.229,0,{"$f":"VLOOKUP(AB72,重疾发生率!$AC$6:$AE$112,IF(Sex=\"M\",2,3),FALSE)*0","v":0},0,0,0,0,0,13.229,null,null,null,null,null,null,null,null,null,null,null,null,null,null,null,null,0.0067264,66,17.905,11.376,13.229,8.408,66,0.017212,0.009165,0.009738,0.005626,0.00761,0.004254]
[null,null,null,67,6.516,6.516,null,null,{"$f":"0","v":0},0,0,0,0,0,0,0,0,0,0,0,0,0,null,null,null,null,null,67,5.2128,0,0,0,0,0,0,8.292,0,0,0,0,0,0,14.705,0,{"$f":"VLOOKUP(AB73,重疾发生率!$AC$6:$AE$112,IF(Sex=\"M\",2,3),FALSE)*0","v":0},0,0,0,0,0,14.705,null,null,null,null,null,null,null,null,null,null,null,null,null,null,null,null,0.0075504,67,19.886,12.76,14.705,9.438,67,0.019304,0.01046,0.010538,0.006326,0.008292,0.00474]
[null,null,null,68,7.174,7.174,null,null,{"$f":"0","v":0},0,0,0,0,0,0,0,0,0,0,0,0,0,null,null,null,null,null,68,5.7392,0,0,0,0,0,0,9.046,0,0,0,0,0,0,16.344,0,{"$f":"VLOOKUP(AB74,重疾发生率!$AC$6:$AE$112,IF(Sex=\"M\",2,3),FALSE)*0","v":0},0,0,0,0,0,16.344,null,null,null,null,null,null,null,null,null,null,null,null,null,null,null,null,0.0084736,68,22.103,14.316,16.344,10.592,68,0.021691,0.011955,0.011496,0.007115,0.009046,0.005302]
[null,null,null,69,7.92,7.92,null,null,{"$f":"0","v":0},0,0,0,0,0,0,0,0,0,0,0,0,0,null,null,null,null,null,69,6.336,0,0,0,0,0,0,9.897,0,0,0,0,0,0,18.164,0,{"$f":"VLOOKUP(AB75,重疾发生率!$AC$6:$AE$112,IF(Sex=\"M\",2,3),FALSE)*0","v":0},0,0,0,0,0,18.164,null,null,null,null,null,null,null,null,null,null,null,null,null,null,null,null,0.0095088,69,24.571,16.066,18.164,11.886,69,0.024411,0.013674,0.012686,0.008,0.009897,0.005943]
[null,null,null,70,8.774,8.774,null,null,{"$f":"0","v":0},0,0,0,0,0,0,0,0,0,0,0,0,0,null,null,null,null,null,70,7.0192,0,0,0,0,0,0,10.888,0,0,0,0,0,0,20.184,0,{"$f":"VLOOKUP(AB76,重疾发生率!$AC$6:$AE$112,IF(Sex=\"M\",2,3),FALSE)*0","v":0},0,0,0,0,0,20.184,null,null,null,null,null,null,null,null,null,null,null,null,null,null,null,null,0.0106696,70,27.309,18.033,20.184,13.337,70,0.027495,0.015643,0.014192,0.009007,0.010888,0.00666]
[null,null,null,71,9.77,9.77,null,null,{"$f":"0","v":0},0,0,0,0,0,0,0,0,0,0,0,0,0,null,null,null,null,null,71,7.816,0,0,0,0,0,0,12.08,0,0,0,0,0,0,22.425,0,{"$f":"VLOOKUP(AB77,重疾发生率!$AC$6:$AE$112,IF(Sex=\"M\",2,3),FALSE)*0","v":0},0,0,0,0,0,22.425,null,null,null,null,null,null,null,null,null,null,null,null,null,null,null,null,0.0119712,71,30.34,20.241,22.425,14.964,71,0.030965,0.017887,0.016106,0.010185,0.01208,0.00746]
[null,null,null,72,10.9595,10.9595,null,null,{"$f":"0","v":0},0,0,0,0,0,0,0,0,0,0,0,0,0,null,null,null,null,null,72,8.7676,0,0,0,0,0,0,13.55,0,0,0,0,0,0,24.911,0,{"$f":"VLOOKUP(AB78,重疾发生率!$AC$6:$AE$112,IF(Sex=\"M\",2,3),FALSE)*0","v":0},0,0,0,0,0,24.911,null,null,null,null,null,null,null,null,null,null,null,null,null,null,null,null,0.0134296,72,33.684,22.715,24.911,16.787,72,0.034832,0.020432,0.018517,0.011606,0.01355,0.008369]
[null,null,null,73,12.4115,12.4115,null,null,{"$f":"0","v":0},0,0,0,0,0,0,0,0,0,0,0,0,0,null,null,null,null,null,73,9.9292,0,0,0,0,0,0,15.387,0,0,0,0,0,0,27.668,0,{"$f":"VLOOKUP(AB79,重疾发生率!$AC$6:$AE$112,IF(Sex=\"M\",2,3),FALSE)*0","v":0},0,0,0,0,0,27.668,null,null,null,null,null,null,null,null,null,null,null,null,null,null,null,null,0.0150632,73,37.371,25.479,27.668,18.829,73,0.039105,0.023303,0.02151,0.013353,0.015387,0.009436]
[null,null,null,74,14.208,14.208,null,null,{"$f":"0","v":0},0,0,0,0,0,0,0,0,0,0,0,0,0,null,null,null,null,null,74,11.3664,0,0,0,0,0,0,17.686,0,0,0,0,0,0,30.647,0,{"$f":"VLOOKUP(AB80,重疾发生率!$AC$6:$AE$112,IF(Sex=\"M\",2,3),FALSE)*0","v":0},0,0,0,0,0,30.647,null,null,null,null,null,null,null,null,null,null,null,null,null,null,null,null,0.0168936,74,41.43,28.561,30.647,21.117,74,0.043796,0.026528,0.025151,0.015508,0.017686,0.01073]
[null,null,null,75,16.4355,16.4355,null,null,{"$f":"0","v":0},0,0,0,0,0,0,0,0,0,0,0,0,0,null,null,null,null,null,75,13.1484,0,0,0,0,0,0,20.539,0,0,0,0,0,0,33.939,0,{"$f":"VLOOKUP(AB81,重疾发生率!$AC$6:$AE$112,IF(Sex=\"M\",2,3),FALSE)*0","v":0},0,0,0,0,0,33.939,null,null,null,null,null,null,null,null,null,null,null,null,null,null,null,null,0.0189616,75,45.902,31.989,33.939,23.702,75,0.048921,0.030137,0.02949,0.018134,0.020539,0.012332]
[null,null,null,76,19.166,19.166,null,null,{"$f":"0","v":0},0,0,0,0,0,0,0,0,0,0,0,0,0,null,null,null,null,null,76,15.3328,0,0,0,0,0,0,24.017,0,0,0,0,0,0,37.577,0,{"$f":"VLOOKUP(AB82,重疾发生率!$AC$6:$AE$112,IF(Sex=\"M\",2,3),FALSE)*0","v":0},0,0,0,0,0,37.577,null,null,null,null,null,null,null,null,null,null,null,null,null,null,null,null,0.0211928,76,50.829,35.796,37.577,26.491,76,0.054506,0.034165,0.034545,0.021268,0.024017,0.014315]
[null,null,null,77,22.448,22.448,null,null,{"$f":"0","v":0},0,0,0,0,0,0,0,0,0,0,0,0,0,null,null,null,null,null,77,17.9584,0,0,0,0,0,0,28.162,0,0,0,0,0,0,41.594,0,{"$f":"VLOOKUP(AB83,重疾发生率!$AC$6:$AE$112,IF(Sex=\"M\",2,3),FALSE)*0","v":0},0,0,0,0,0,41.594,null,null,null,null,null,null,null,null,null,null,null,null,null,null,null,null,0.0236816,77,56.262,40.026,41.594,29.602,77,0.060586,0.038653,0.04031,0.024916,0.028162,0.016734]
[null,null,null,78,26.2985,26.2985,null,null,{"$f":"0","v":0},0,0,0,0,0,0,0,0,0,0,0,0,0,null,null,null,null,null,78,21.0388,0,0,0,0,0,0,32.978,0,0,0,0,0,0,46.028,0,{"$f":"VLOOKUP(AB84,重疾发生率!$AC$6:$AE$112,IF(Sex=\"M\",2,3),FALSE)*0","v":0},0,0,0,0,0,46.028,null,null,null,null,null,null,null,null,null,null,null,null,null,null,null,null,0.026456,78,62.257,44.726,46.028,33.07,78,0.067202,0.043648,0.046747,0.029062,0.032978,0.019619]
[null,null,null,79,30.704,30.704,null,null,{"$f":"0","v":0},0,0,0,0,0,0,0,0,0,0,0,0,0,null,null,null,null,null,79,24.5632,0,0,0,0,0,0,38.437,0,0,0,0,0,0,50.92,0,{"$f":"VLOOKUP(AB85,重疾发生率!$AC$6:$AE$112,IF(Sex=\"M\",2,3),FALSE)*0","v":0},0,0,0,0,0,50.92,null,null,null,null,null,null,null,null,null,null,null,null,null,null,null,null,0.029548,79,68.871,49.954,50.92,36.935,79,0.0744,0.049205,0.053801,0.033674,0.038437,0.022971]
[null,null,null,80,35.631,35.631,null,null,{"$f":"0","v":0},0,0,0,0,0,0,0,0,0,0,0,0,0,null,null,null,null,null,80,28.5048,0,0,0,0,0,0,44.492,0,0,0,0,0,0,56.312,0,{"$f":"VLOOKUP(AB86,重疾发生率!$AC$6:$AE$112,IF(Sex=\"M\",2,3),FALSE)*0","v":0},0,0,0,0,0,56.312,null,null,null,null,null,null,null,null,null,null,null,null,null,null,null,null,0.0329928,80,76.187,55.774,56.312,41.241,80,0.08222,0.055385,0.061403,0.038718,0.044492,0.02677]
[null,null,null,81,41.0375,41.0375,null,null,{"$f":"0","v":0},0,0,0,0,0,0,0,0,0,0,0,0,0,null,null,null,null,null,81,32.83,0,0,0,0,0,0,51.086,0,0,0,0,0,0,62.253,0,{"$f":"VLOOKUP(AB87,重疾发生率!$AC$6:$AE$112,IF(Sex=\"M\",2,3),FALSE)*0","v":0},0,0,0,0,0,62.253,null,null,null,null,null,null,null,null,null,null,null,null,null,null,null,null,0.0368264,81,84.224,62.253,62.253,46.033,81,0.0907,0.062254,0.069485,0.04416,0.051086,0.030989]
[null,null,null,82,46.8855,46.8855,null,null,{"$f":"0","v":0},0,0,0,0,0,0,0,0,0,0,0,0,0,null,null,null,null,null,82,37.5084,0,0,0,0,0,0,58.173,0,0,0,0,0,0,68.791,0,{"$f":"VLOOKUP(AB88,重疾发生率!$AC$6:$AE$112,IF(Sex=\"M\",2,3),FALSE)*0","v":0},0,0,0,0,0,68.791,null,null,null,null,null,null,null,null,null,null,null,null,null,null,null,null,0.041092,82,93.071,69.494,68.791,51.365,82,0.099868,0.06988,0.077987,0.049977,0.058173,0.035598]
[null,null,null,83,53.149,53.149,null,null,{"$f":"0","v":0},0,0,0,0,0,0,0,0,0,0,0,0,0,null,null,null,null,null,83,42.5192,0,0,0,0,0,0,65.722,0,0,0,0,0,0,75.983,0,{"$f":"VLOOKUP(AB89,重疾发生率!$AC$6:$AE$112,IF(Sex=\"M\",2,3),FALSE)*0","v":0},0,0,0,0,0,75.983,null,null,null,null,null,null,null,null,null,null,null,null,null,null,null,null,0.0458328,83,102.8,77.511,75.983,57.291,83,0.109754,0.07832,0.086872,0.056157,0.065722,0.040576]
[null,null,null,84,59.822,59.822,null,null,{"$f":"0","v":0},0,0,0,0,0,0,0,0,0,0,0,0,0,null,null,null,null,null,84,47.8576,0,0,0,0,0,0,73.729,0,0,0,0,0,0,83.883,0,{"$f":"VLOOKUP(AB90,重疾发生率!$AC$6:$AE$112,IF(Sex=\"M\",2,3),FALSE)*0","v":0},0,0,0,0,0,83.883,null,null,null,null,null,null,null,null,null,null,null,null,null,null,null,null,0.0510976,84,113.489,86.415,83.883,63.872,84,0.120388,0.087611,0.09613,0.062695,0.073729,0.045915]
[null,null,null,85,66.9195,66.9195,null,null,{"$f":"0","v":0},0,0,0,0,0,0,0,0,0,0,0,0,0,null,null,null,null,null,85,53.5356,0,0,0,0,0,0,82.223,0,0,0,0,0,0,92.554,0,{"$f":"VLOOKUP(AB91,重疾发生率!$AC$6:$AE$112,IF(Sex=\"M\",2,3),FALSE)*0","v":0},0,0,0,0,0,92.554,null,null,null,null,null,null,null,null,null,null,null,null,null,null,null,null,0.0569392,85,125.221,96.294,92.554,71.174,85,0.131817,0.097754,0.105786,0.069596,0.082223,0.051616]
[null,null,null,86,74.4425,74.4425,null,null,{"$f":"0","v":0},0,0,0,0,0,0,0,0,0,0,0,0,0,null,null,null,null,null,86,59.554,0,0,0,0,0,0,91.239,0,0,0,0,0,0,102.059,0,{"$f":"VLOOKUP(AB92,重疾发生率!$AC$6:$AE$112,IF(Sex=\"M\",2,3),FALSE)*0","v":0},0,0,0,0,0,102.059,null,null,null,null,null,null,null,null,null,null,null,null,null,null,null,null,0.0634136,86,138.08,107.243,102.059,79.267,86,0.144105,0.108704,0.1159,0.076863,0.091239,0.057646]
[null,null,null,87,82.492,82.492,null,null,{"$f":"0","v":0},0,0,0,0,0,0,0,0,0,0,0,0,0,null,null,null,null,null,87,65.9936,0,0,0,0,0,0,100.9,0,0,0,0,0,0,112.464,0,{"$f":"VLOOKUP(AB93,重疾发生率!$AC$6:$AE$112,IF(Sex=\"M\",2,3),FALSE)*0","v":0},0,0,0,0,0,112.464,null,null,null,null,null,null,null,null,null,null,null,null,null,null,null,null,0.07058,87,152.157,119.364,112.464,88.225,87,0.157334,0.120371,0.126569,0.084501,0.1009,0.064084]
[null,null,null,88,91.1315,91.1315,null,null,{"$f":"0","v":0},0,0,0,0,0,0,0,0,0,0,0,0,0,null,null,null,null,null,88,72.9052,0,0,0,0,0,0,111.321,0,0,0,0,0,0,123.836,0,{"$f":"VLOOKUP(AB94,重疾发生率!$AC$6:$AE$112,IF(Sex=\"M\",2,3),FALSE)*0","v":0},0,0,0,0,0,123.836,null,null,null,null,null,null,null,null,null,null,null,null,null,null,null,null,0.0785032,88,167.543,132.763,123.836,98.129,88,0.171609,0.132638,0.137917,0.092504,0.111321,0.070942]
[null,null,null,89,100.4245,100.4245,null,null,{"$f":"0","v":0},0,0,0,0,0,0,0,0,0,0,0,0,0,null,null,null,null,null,89,80.3396,0,0,0,0,0,0,122.608,0,0,0,0,0,0,136.246,0,{"$f":"VLOOKUP(AB95,重疾发生率!$AC$6:$AE$112,IF(Sex=\"M\",2,3),FALSE)*0","v":0},0,0,0,0,0,136.246,null,null,null,null,null,null,null,null,null,null,null,null,null,null,null,null,0.0872488,89,184.333,147.553,136.246,109.061,89,0.187046,0.145395,0.150089,0.100864,0.122608,0.078241]
[null,null,null,90,110.4365,110.4365,null,null,{"$f":"0","v":0},0,0,0,0,0,0,0,0,0,0,0,0,0,null,null,null,null,null,90,88.3492,0,0,0,0,0,0,134.87,0,0,0,0,0,0,149.763,0,{"$f":"VLOOKUP(AB96,重疾发生率!$AC$6:$AE$112,IF(Sex=\"M\",2,3),FALSE)*0","v":0},0,0,0,0,0,149.763,null,null,null,null,null,null,null,null,null,null,null,null,null,null,null,null,0.0968856,90,202.621,163.85,149.763,121.107,90,0.203765,0.158572,0.163239,0.109567,0.13487,0.086003]
[null,null,null,91,121.2305,121.2305,null,null,{"$f":"0","v":0},0,0,0,0,0,0,0,0,0,0,0,0,0,null,null,null,null,null,91,96.9844,0,0,0,0,0,0,148.212,0,0,0,0,0,0,164.456,0,{"$f":"VLOOKUP(AB97,重疾发生率!$AC$6:$AE$112,IF(Sex=\"M\",2,3),FALSE)*0","v":0},0,0,0,0,0,164.456,null,null,null,null,null,null,null,null,null,null,null,null,null,null,null,null,0.107484,91,222.5,181.775,164.456,134.355,91,0.221873,0.172172,0.177519,0.118605,0.148212,0.094249]
[null,null,null,92,132.872,132.872,null,null,{"$f":"0","v":0},0,0,0,0,0,0,0,0,0,0,0,0,0,null,null,null,null,null,92,106.2976,0,0,0,0,0,0,162.742,0,0,0,0,0,0,180.392,0,{"$f":"VLOOKUP(AB98,重疾发生率!$AC$6:$AE$112,IF(Sex=\"M\",2,3),FALSE)*0","v":0},0,0,0,0,0,180.392,null,null,null,null,null,null,null,null,null,null,null,null,null,null,null,null,0.1191168,92,244.059,201.447,180.392,148.896,92,0.241451,0.186294,0.193067,0.127985,0.162742,0.103002]
[null,null,null,93,145.4235,145.4235,null,null,{"$f":"0","v":0},0,0,0,0,0,0,0,0,0,0,0,0,0,null,null,null,null,null,93,116.3388,0,0,0,0,0,0,178.566,0,0,0,0,0,0,197.631,0,{"$f":"VLOOKUP(AB99,重疾发生率!$AC$6:$AE$112,IF(Sex=\"M\",2,3),FALSE)*0","v":0},0,0,0,0,0,197.631,null,null,null,null,null,null,null,null,null,null,null,null,null,null,null,null,0.1318528,93,267.383,222.987,197.631,164.816,93,0.262539,0.201129,0.209999,0.137743,0.178566,0.112281]
[null,null,null,94,158.951,158.951,null,null,{"$f":"0","v":0},0,0,0,0,0,0,0,0,0,0,0,0,0,null,null,null,null,null,94,127.1608,0,0,0,0,0,0,195.793,0,0,0,0,0,0,216.228,0,{"$f":"VLOOKUP(AB100,重疾发生率!$AC$6:$AE$112,IF(Sex=\"M\",2,3),FALSE)*0","v":0},0,0,0,0,0,216.228,null,null,null,null,null,null,null,null,null,null,null,null,null,null,null,null,0.1457608,94,292.544,246.507,216.228,182.201,94,0.285129,0.21694,0.228394,0.147962,0.195793,0.122109]
[null,null,null,95,173.5195,173.5195,null,null,{"$f":"0","v":0},0,0,0,0,0,0,0,0,0,0,0,0,0,null,null,null,null,null,95,138.8156,0,0,0,0,0,0,214.499,0,0,0,0,0,0,236.229,0,{"$f":"VLOOKUP(AB101,重疾发生率!$AC$6:$AE$112,IF(Sex=\"M\",2,3),FALSE)*0","v":0},0,0,0,0,0,236.229,null,null,null,null,null,null,null,null,null,null,null,null,null,null,null,null,0.1609032,95,319.604,272.115,236.229,201.129,95,0.30916,0.234026,0.248299,0.158777,0.214499,0.13254]
[null,null,null,96,189.2035,189.2035,null,null,{"$f":"0","v":0},0,0,0,0,0,0,0,0,0,0,0,0,0,null,null,null,null,null,96,{"$f":"IF(Sex=\"M\",E102,F102)*IF(AB102=105,1,$AC$3)","v":151.3628},0,0,{"$f":"IF(Sex=\"M\",O102,P102)*$AF$3","v":0},{"$f":"IF(Sex=\"M\",Q102,R102)*$AG$3","v":0},{"$f":"IF(Sex=\"M\",0,0)","v":0},{"$f":"IF(Sex=\"M\",S102,T102)","v":0},{"$f":"IF(Sex=\"M\",CA102,CB102)*1000*$AJ$3","v":234.65},0,0,{"$f":"IF(Sex=\"M\",O102,P102)*$AM$3","v":0},{"$f":"IF(Sex=\"M\",Q102,R102)*$AN$3","v":0},{"$f":"IF(Sex=\"M\",0,0)","v":0},0,{"$f":"IF(Sex=\"M\",BT102,BU102)","v":257.666},{"$f":"IF(Sex=\"M\",K102,L102)*$AR$3*0","v":0},{"$f":"VLOOKUP(AB102,重疾发生率!$AC$6:$AE$112,IF(Sex=\"M\",2,3),FALSE)*0","v":0},{"$f":"IF(Sex=\"M\",G102*$AK$3-M102,H102*$AK$3-N102)*0","v":0},{"$f":"IF(Sex=\"M\",Q102,R102)*$AU$3","v":0},{"$f":"IF(Sex=\"M\",0,0)","v":0},{"$f":"IF(Sex=\"M\",O102,P102)*$AW$3","v":0},0,{"$f":"IF(Sex=\"M\",BT102,BU102)","v":257.666},null,null,null,null,null,null,null,null,null,null,null,null,null,null,null,null,0.1773336,96,348.606,299.903,257.666,221.667,96,0.334529,0.252673,0.269718,0.17038,0.23465,0.143757]
[null,null,null,97,206.0795,206.0795,null,null,{"$f":"0","v":0},0,0,0,0,0,0,0,0,0,0,0,0,0,null,null,null,null,null,97,164.8636,0,0,0,0,0,0,256.18,0,0,0,0,0,0,280.553,0,{"$f":"VLOOKUP(AB103,重疾发生率!$AC$6:$AE$112,IF(Sex=\"M\",2,3),FALSE)*0","v":0},0,0,0,0,0,280.553,null,null,null,null,null,null,null,null,null,null,null,null,null,null,null,null,0.195096,97,379.572,329.942,280.553,243.87,97,0.361101,0.273112,0.292621,0.18302,0.25618,0.155979]
[null,null,null,98,224.223,224.223,null,null,{"$f":"0","v":0},0,0,0,0,0,0,0,0,0,0,0,0,0,null,null,null,null,null,98,179.3784,0,0,0,0,0,0,279.025,0,0,0,0,0,0,304.887,0,{"$f":"VLOOKUP(AB104,重疾发生率!$AC$6:$AE$112,IF(Sex=\"M\",2,3),FALSE)*0","v":0},0,0,0,0,0,304.887,null,null,null,null,null,null,null,null,null,null,null,null,null,null,null,null,0.2142184,98,412.495,362.281,304.887,267.773,98,0.388727,0.295478,0.316951,0.196986,0.279025,0.169421]
[null,null,null,99,243.7105,243.7105,null,null,{"$f":"0","v":0},0,0,0,0,0,0,0,0,0,0,0,0,0,null,null,null,null,null,99,194.9684,0,0,0,0,0,0,303.12,0,0,0,0,0,0,330.638,0,{"$f":"VLOOKUP(AB105,重疾发生率!$AC$6:$AE$112,IF(Sex=\"M\",2,3),FALSE)*0","v":0},0,0,0,0,0,330.638,null,null,null,null,null,null,null,null,null,null,null,null,null,null,null,null,0.234708,99,447.334,396.933,330.638,293.385,99,0.417257,0.319794,0.342628,0.212604,0.30312,0.184301]
[null,null,null,100,264.6185,264.6185,null,null,{"$f":"0","v":0},0,0,0,0,0,0,0,0,0,0,0,0,0,null,null,null,null,null,100,211.6948,0,0,0,0,0,0,328.401,0,0,0,0,0,0,357.746,0,{"$f":"VLOOKUP(AB106,重疾发生率!$AC$6:$AE$112,IF(Sex=\"M\",2,3),FALSE)*0","v":0},0,0,0,0,0,357.746,null,null,null,null,null,null,null,null,null,null,null,null,null,null,null,null,0.256548,100,484.01,433.869,357.746,320.685,100,0.446544,0.345975,0.369561,0.230215,0.328401,0.200836]
[null,null,null,101,287.0225,287.0225,null,null,{"$f":"0","v":0},0,0,0,0,0,0,0,0,0,0,0,0,0,null,null,null,null,null,101,229.618,0,0,0,0,0,0,354.803,0,0,0,0,0,0,386.119,0,{"$f":"VLOOKUP(AB107,重疾发生率!$AC$6:$AE$112,IF(Sex=\"M\",2,3),FALSE)*0","v":0},0,0,0,0,0,386.119,null,null,null,null,null,null,null,null,null,null,null,null,null,null,null,null,0.279692,101,522.397,473.008,386.119,349.615,101,0.476447,0.373856,0.397652,0.250172,0.354803,0.219242]
[null,null,null,102,310.999,310.999,null,null,{"$f":"0","v":0},0,0,0,0,0,0,0,0,0,0,0,0,0,null,null,null,null,null,102,248.7992,0,0,0,0,0,0,382.261,0,0,0,0,0,0,415.626,0,{"$f":"VLOOKUP(AB108,重疾发生率!$AC$6:$AE$112,IF(Sex=\"M\",2,3),FALSE)*0","v":0},0,0,0,0,0,415.626,null,null,null,null,null,null,null,null,null,null,null,null,null,null,null,null,0.3040552,102,562.317,514.211,415.626,380.069,102,0.50683,0.403221,0.426801,0.272831,0.382261,0.239737]
[null,null,null,103,336.6235,336.6235,null,null,{"$f":"0","v":0},0,0,0,0,0,0,0,0,0,0,0,0,0,null,null,null,null,null,103,269.2988,0,0,0,0,0,0,410.71,0,0,0,0,0,0,446.094,0,{"$f":"VLOOKUP(AB109,重疾发生率!$AC$6:$AE$112,IF(Sex=\"M\",2,3),FALSE)*0","v":0},0,0,0,0,0,446.094,null,null,null,null,null,null,null,null,null,null,null,null,null,null,null,null,0.3295152,103,603.539,557.269,446.094,411.894,103,0.537558,0.433833,0.456906,0.298551,0.41071,0.262537]
[null,null,null,104,363.9725,363.9725,null,null,{"$f":"0","v":0},0,0,0,0,0,0,0,0,0,0,0,0,0,null,null,null,null,null,104,291.178,0,0,0,0,0,0,440.086,0,0,0,0,0,0,477.308,0,{"$f":"VLOOKUP(AB110,重疾发生率!$AC$6:$AE$112,IF(Sex=\"M\",2,3),FALSE)*0","v":0},0,0,0,0,0,477.308,null,null,null,null,null,null,null,null,null,null,null,null,null,null,null,null,0.3559032,104,645.77,601.896,477.308,444.879,104,0.568497,0.465447,0.487867,0.327687,0.440086,0.287859]
[null,null,null,105,1000,1000,null,null,{"$f":"0","v":0},0,0,0,0,0,0,0,0,0,0,0,0,0,null,null,null,null,null,105,1000,0,0,0,0,0,0,1000,0,0,0,0,0,0,1000,0,{"$f":"VLOOKUP(AB111,重疾发生率!$AC$6:$AE$112,IF(Sex=\"M\",2,3),FALSE)*0","v":0},0,0,0,0,0,1000,null,null,null,null,null,null,null,null,null,null,null,null,null,null,null,null,0.8,105,1000,1000,1000,1000,105,1,1,1,1,1,1]
[null,null,null,null,0,0,null,null,null,null,null,null,null,null,null,null,null,null,null,null,null,null,null,null,null,null,null,106,null,null,null,null,null,null,null,0,null,null,null,null,null,null,0]

{"sheet":"重疾发生率","index":7,"n_rows":121,"n_cols":79,"rows_kept":121,"cut":false,"hidden":true,"merged":[]}
["Kx",null,null,null,null,null,null,null,null,null,null,null,null,null,null,null,null,null,null,null,null,null,null,null,null,null,null,null,null,null,null,null,"Ix",null,null,null,null,null,null,null,null,null,null,null,null,null,null,null,null,null,null,null,null,null,null,null,null,null,null,null,null,null,null,null,null,"与乐福相同的10种轻症，经比较与“新乐福”的定价和利润测试发生率相同",null,null,null,null,null,null,"来自EV假设"]
["CI - 10DDs",null,null,null,"CI - 27DDs",null,null,null,"CI - 32DDs",null,null,null,"CI - 33DDs",null,null,null,"CI - 40DDs - 版本一",null,null,null,"CI - 40DDs - 版本二",null,null,null,"CI - 42DDs",null,null,null,"行业表（25DDs）",null,null,null,"CI - 10DDs",null,null,null,"CI - 27DDs",null,null,null,"CI - 32DDs",null,null,null,"CI - 33DDs",null,null,null,"CI - 40DDs - 版本一",null,null,null,"CI - 40DDs - 版本二",null,null,null,"CI - 42DDs",null,null,null,"行业表（25DDs）",null,null,null,null,"Minor CI - 定价",null,"Minor CI - 利润测试",null,null,null,null,"意外身故发生率",null,null,"特定癌症发生率",{"$f":"Assumption!R7","v":0},null,"肺癌"]
[null,null,null,null,null,null,null,null,null,null,null,null,null,null,null,null,null,null,null,null,null,null,null,null,null,null,null,null,"使用word里面的数值",null,null,null,null,null,null,null,null,null,null,null,null,null,null,null,null,null,null,null,null,null,null,null,null,null,null,null,null,null,null,null,"使用word里面的数值",null,null,null,null,"ChinaRe保证费率",null,"ChinaRe非保证费率",null,null,null,null,null,null,null,null,null,null,"肝癌"]
[null,null,null,null,null,null,null,null,null,null,null,null,null,null,null,null,null,null,null,null,null,null,null,null,null,null,null,null,null,null,null,null,null,null,null,null,null,null,null,null,null,null,null,null,null,null,null,null,null,null,null,null,null,null,null,null,null,null,null,null,null,null,null,null,null,null,null,null,null,null,null,null,null,null,null,{"$f":"HLOOKUP(BY2,癌症发生率!$B$1:$AH$2,2,FALSE)","v":{"$error":"#N/A"}},{"$f":"BX4+1","v":{"$error":"#N/A"}},null,"胃癌"]
["age","male","female",null,"age","male","female",null,"age","male","female",null,"age","male","female",null,"age","male","female",null,"age","male","female",null,"age","male","female",null,"age","M","F",null,"age","male","female",null,"age","male","female",null,"age","male","female",null,"age","male","female",null,"age","male","female",null,"age","male","female",null,"age","male","female",null,"age","M","F",null,"age","male","female","male","female",null,null,"age","male","female","age","male","female",null,"白血病"]
[0,0.0206,0.0204457142857143,null,0,0.0289249293341335,0.0269407545392515,null,0,0.0322454740997954,0.0277797773163166,null,0,0.0323704671522517,0.0279317094616824,null,0,0.0328228453814837,0.0283668960918933,null,0,0.0327837850525911,0.0285453343576042,null,0,0.0296581193589384,0.0279309028873749,null,0,0.026,0.026,null,0,0.0003745,0.000503908,null,0,0.000661935882838824,0.000844489036518844,null,0,0.000737925272668394,0.000870789173569154,null,0,0.000740785690599605,0.000875551661971967,null,0,0.000751138192383955,0.000889193089034349,null,0,0.000750244311780451,0.000894786442363363,null,0,0.000678714654560321,0.000875526378969635,null,0,0.000595,0.000815,null,0,0.000549,0.000516,0.000298,0.000312,null,null,0,0.0004,0.0004,0,{"$f":"VLOOKUP(BW6,癌症发生率!$A$4:$AH$109,$BX$4,FALSE)","v":{"$error":"#REF!"}},{"$f":"VLOOKUP(BW6,癌症发生率!$A$4:$AH$109,$BY$4,FALSE)","v":{"$error":"#REF!"}},null,"膀胱癌"]
[1,0.087241,0.154978514285714,null,1,0.12144205471078,0.204739714173487,null,1,0.135546050212473,0.211695781965752,null,1,0.136104428290543,0.212963309455657,null,1,0.13810717801476,0.21663984512419,null,1,0.137932684865363,0.2179554989776,null,1,0.125383974041514,0.213357605141672,null,1,0.1101,0.197,null,1,0.00033384,0.000402916,null,1,0.000584598446836636,0.000676576415872793,null,1,0.000652492339805731,0.000699563218577181,null,1,0.000655180263342303,0.000703751850028591,null,1,0.000664821111242712,0.000715901214090599,null,1,0.000663981135137533,0.000720248882408211,null,1,0.00060357408030883,0.000705054827143291,null,1,0.00053,0.000651,null,1,0.000401,0.000355,0.000277,0.000269,null,null,1,0.0004,0.0004,1,{"$f":"VLOOKUP(BW7,癌症发生率!$A$4:$AH$109,$BX$4,FALSE)","v":{"$error":"#REF!"}},{"$f":"VLOOKUP(BW7,癌症发生率!$A$4:$AH$109,$BY$4,FALSE)","v":{"$error":"#REF!"}},null,"胰腺癌"]
[2,0.112373,0.165712514285714,null,2,0.155194569181737,0.219627616754997,null,2,0.173113678986878,0.227703460693835,null,2,0.173865654800589,0.229182707441438,null,2,0.176543366973389,0.233539000775548,null,2,0.176308374531604,0.234907533273911,null,2,0.160469592914308,0.229541638209076,null,2,0.1418,0.2107,null,2,0.00029532,0.000330328,null,2,0.000513302206955112,0.000555583862033287,null,2,0.000572569220344468,0.000576013025865279,null,2,0.000575056361787562,0.000579755021671983,null,2,0.00058391282870606,0.000590774975858411,null,2,0.000583135597005094,0.000594236901922139,null,2,0.000530749217749015,0.000580662995564489,null,2,0.000469,0.000533,null,2,0.000241,0.000193,0.000255,0.000237,null,null,2,0.0004,0.0004,2,{"$f":"VLOOKUP(BW8,癌症发生率!$A$4:$AH$109,$BX$4,FALSE)","v":{"$error":"#REF!"}},{"$f":"VLOOKUP(BW8,癌症发生率!$A$4:$AH$109,$BY$4,FALSE)","v":{"$error":"#REF!"}},null,"直肠癌"]
[3,0.122982,0.177162114285714,null,3,0.169940045805477,0.235327999603068,null,3,0.187289712021607,0.244435097722299,null,3,0.188155544567486,0.246108481705142,null,3,0.191217779548651,0.251136789083595,null,3,0.190947206878064,0.252571514814892,null,3,0.175977566149704,0.246501396445755,null,3,0.1563,0.2253,null,3,0.00026108,0.000276676,null,3,0.000456652714256559,0.000467940274399353,null,3,0.000503273698330615,0.000486049373189481,null,3,0.000505600311697659,0.000489376830021765,null,3,0.000513828966157603,0.000499375417263429,null,3,0.000513101899480402,0.000502228311749097,null,3,0.000472876377369645,0.000490158125200613,null,3,0.00042,0.000448,null,3,0.000229,0.00019,0.000232,0.000206,null,null,3,0.0004,0.0004,3,{"$f":"VLOOKUP(BW9,癌症发生率!$A$4:$AH$109,$BX$4,FALSE)","v":{"$error":"#REF!"}},{"$f":"VLOOKUP(BW9,癌症发生率!$A$4:$AH$109,$BY$4,FALSE)","v":{"$error":"#REF!"}},null,"乳腺癌"]
[4,0.129471,0.189531771428571,null,4,0.177219054642362,0.251703499643788,null,4,0.192889177476863,0.261425212603866,null,4,0.193814976918097,0.263211318065896,null,4,0.197080524282949,0.26872875179811,null,4,0.196791211957564,0.270264671215618,null,4,0.18365953821863,0.265274082424649,null,4,0.1642,0.241,null,4,0.00024503,0.000233544,null,4,0.000424160100331598,0.000393743648820365,null,4,0.000461665327335001,0.000408951473658329,null,4,0.000463881156691914,0.00041174550585412,null,4,0.000471696991736901,0.000420376512148911,null,4,0.000471004545062865,0.000422779174474223,null,4,0.000439574899634114,0.000414972319809513,null,4,0.000393,0.000377,null,4,0.000217,0.000187,0.000205,0.00018,null,null,4,0.0004,0.0004,4,{"$f":"VLOOKUP(BW10,癌症发生率!$A$4:$AH$109,$BX$4,FALSE)","v":{"$error":"#REF!"}},{"$f":"VLOOKUP(BW10,癌症发生率!$A$4:$AH$109,$BY$4,FALSE)","v":{"$error":"#REF!"}},null,"卵巢癌"]
[5,0.13493,0.202617028571429,null,5,0.182913992956686,0.269279572413816,null,5,0.196525864668692,0.279790364312422,null,5,0.197510371436043,0.281722661058777,null,5,0.201585375262078,0.289051325501137,null,5,0.201277716897281,0.290686668408485,null,5,0.190355806721009,0.285287603970141,null,5,0.1703,0.2577,null,5,0.00023861,0.00020514,null,5,0.000405998175793467,0.000346918191856371,null,5,0.000436211255694453,0.00036045945266482,null,5,0.000438396479171017,0.000362948868729196,null,5,0.00044744140839146,0.000372390531883498,null,5,0.000446758526055034,0.000374497376451754,null,5,0.00042251611826507,0.000367541655095409,null,5,0.000378,0.000332,null,5,0.00023,0.000186,0.000172,0.000153,null,null,5,0.0004,0.0004,5,{"$f":"VLOOKUP(BW11,癌症发生率!$A$4:$AH$109,$BX$4,FALSE)","v":{"$error":"#REF!"}},{"$f":"VLOOKUP(BW11,癌症发生率!$A$4:$AH$109,$BY$4,FALSE)","v":{"$error":"#REF!"}},null,"子宫内膜癌"]
[6,0.143376,0.216724571428571,null,6,0.191985868196734,0.284361163565252,null,6,0.203076671732725,0.294816938453475,null,6,0.204125657552612,0.296879660226327,null,6,0.208472400271395,0.304891385795468,null,6,0.208144592202681,0.306610225265661,null,6,0.19981468244623,0.301453420833532,null,6,0.1787,0.272,null,6,0.00023219,0.000191464,null,6,0.000385690692124384,0.00031781541810234,null,6,0.000407971601298536,0.000329501284153884,null,6,0.000410078965088908,0.000331806679076483,null,6,0.000418811369319703,0.000340760960594934,null,6,0.000418152818135212,0.000342682016473386,null,6,0.000401418416330142,0.000336918529166888,null,6,0.000359,0.000304,null,6,0.000216,0.000183,0.000139,0.000129,null,null,6,0.0004,0.0004,6,{"$f":"VLOOKUP(BW12,癌症发生率!$A$4:$AH$109,$BX$4,FALSE)","v":{"$error":"#REF!"}},{"$f":"VLOOKUP(BW12,癌症发生率!$A$4:$AH$109,$BY$4,FALSE)","v":{"$error":"#REF!"}},null,"宫颈癌"]
[7,0.154191,0.232161085714286,null,7,0.204139445265788,0.301260502396324,null,7,0.212957786957117,0.312470782536477,null,7,0.214089957962137,0.314683578028379,null,7,0.218772186863066,0.323451229618685,null,7,0.218418383423997,0.325262196935453,null,7,0.212574845994944,0.319730208205698,null,7,0.1898,0.288,null,7,0.00022791,0.0001841,null,7,0.000369989300165601,0.000299168415574128,null,7,0.000385971963715745,0.00031030084654664,null,7,0.000388023949098921,0.000312498275403182,null,7,0.000396510180615884,0.000321205040524111,null,7,0.000395868935183641,0.000323003431678956,null,7,0.000385277908441837,0.000317509859537602,null,7,0.000344,0.000286,null,7,0.000205,0.000182,0.000112,0.000114,null,null,7,0.0004,0.0004,7,{"$f":"VLOOKUP(BW13,癌症发生率!$A$4:$AH$109,$BX$4,FALSE)","v":{"$error":"#REF!"}},{"$f":"VLOOKUP(BW13,癌症发生率!$A$4:$AH$109,$BY$4,FALSE)","v":{"$error":"#REF!"}},null,"肺癌+胃癌+肝癌"]
[8,0.162534,0.245144114285714,null,8,0.21576243681608,0.313974166962722,null,8,0.223045276929082,0.325715264011844,null,8,0.224479292259698,0.328013775308691,null,8,0.230281428720342,0.337315728779602,null,8,0.229833298929524,0.339205917143704,null,8,0.226248260602983,0.331544212820881,null,8,0.1976,0.3002,null,8,0.0002247,0.00018936,null,8,0.000361423919970255,0.000302260273991428,null,8,0.0003736234142891,0.00031356332877889,null,8,0.000376025535111134,0.000315776086156601,null,8,0.000385744700943487,0.000324730998058977,null,8,0.000384994038186601,0.000326550666404165,null,8,0.000378988736131515,0.000319174808478463,null,8,0.000331,0.000289,null,8,0.000205,0.000184,9.8e-5,0.000112,null,null,8,0.0004,0.0004,8,{"$f":"VLOOKUP(BW14,癌症发生率!$A$4:$AH$109,$BX$4,FALSE)","v":{"$error":"#REF!"}},{"$f":"VLOOKUP(BW14,癌症发生率!$A$4:$AH$109,$BY$4,FALSE)","v":{"$error":"#REF!"}},null,"肝癌+胃癌"]
[9,0.172319,0.259353885714286,null,9,0.225348943997761,0.327349906769112,null,9,0.2332436450235,0.339606321907658,null,9,0.234739759034353,0.341967533343976,null,9,0.240793880893013,0.351734431482826,null,9,0.240606866641656,0.353717984583913,null,9,0.236866581614521,0.345847279796186,null,9,0.2064,0.3132,null,9,0.00022363,0.000201984,null,9,0.000348286400849253,0.000314598729046944,null,9,0.000360487997880312,0.000326377723161574,null,9,0.000362800305871893,0.000328646958928917,null,9,0.000372157209325925,0.000338033409566829,null,9,0.000371868170826978,0.00033993969782809,null,9,0.000366087400848025,0.000332375578603614,null,9,0.000319,0.000301,null,9,0.000207,0.000188,9.2e-5,0.000108,null,null,9,0.0004,0.0004,9,{"$f":"VLOOKUP(BW15,癌症发生率!$A$4:$AH$109,$BX$4,FALSE)","v":{"$error":"#REF!"}},{"$f":"VLOOKUP(BW15,癌症发生率!$A$4:$AH$109,$BY$4,FALSE)","v":{"$error":"#REF!"}}]
[10,0.182781,0.2709831,null,10,0.240474375757978,0.340629714181525,null,10,0.251556774873007,0.356027265324742,null,10,0.253101155312653,0.358422514390179,null,10,0.259355814255902,0.368546264985136,null,10,0.259162766700947,0.37745768610036,null,10,0.253519838171474,0.367548768835608,null,10,0.2148,0.3232,null,10,0.0002247,0.00022092,null,10,0.000347053335591123,0.000339364999896198,null,10,0.000363047487014117,0.000354705381913883,null,10,0.000365276341466119,0.000357091737727839,null,10,0.000374303083888872,0.000367177900139894,null,10,0.000374024477082372,0.000376056234295532,null,10,0.000365880585815442,0.000366184107565179,null,10,0.00031,0.000322,null,10,0.000199,0.000181,9.1e-5,0.000108,null,null,10,0.0004,0.0004,10,{"$f":"VLOOKUP(BW16,癌症发生率!$A$4:$AH$109,$BX$4,FALSE)","v":{"$error":"#REF!"}},{"$f":"VLOOKUP(BW16,癌症发生率!$A$4:$AH$109,$BY$4,FALSE)","v":{"$error":"#REF!"}}]
[11,0.1917855,0.2805664,null,11,0.24801529174805,0.348779625634033,null,11,0.259294411991069,0.363943876694248,null,11,0.260821022153679,0.366266613727957,null,11,0.267033027148236,0.376326299631387,null,11,0.26684220087791,0.386974538308917,null,11,0.261264202206836,0.379301210608273,null,11,0.2221,0.3297,null,11,0.00022684,0.000243012,null,11,0.000338354945518502,0.000366022901029346,null,11,0.000353742489118838,0.000381936855736154,null,11,0.000355825167548693,0.000384374426296248,null,11,0.000364299897460224,0.000394931451842463,null,11,0.000364039562656492,0.000406106127555006,null,11,0.000356429776085868,0.000398053439097551,null,11,0.000303,0.000346,null,11,0.000201,0.000186,9.6e-5,0.000114,null,null,11,0.0004,0.0004,11,{"$f":"VLOOKUP(BW17,癌症发生率!$A$4:$AH$109,$BX$4,FALSE)","v":{"$error":"#REF!"}},{"$f":"VLOOKUP(BW17,癌症发生率!$A$4:$AH$109,$BY$4,FALSE)","v":{"$error":"#REF!"}}]
[12,0.199755,0.28637755,null,12,0.254510118016467,0.351134173730455,null,12,0.266351415303257,0.366676630383572,null,12,0.267884700760543,0.368981660229019,null,12,0.27413925504672,0.379171783112589,null,12,0.273947594364559,0.394452079307962,null,12,0.268345205193709,0.38683724856854,null,12,0.2282,0.3322,null,12,0.00023219,0.000265104,null,12,0.00033570352989902,0.000390031637888434,null,12,0.000351322418958284,0.000407295835675913,null,12,0.000353344850696421,0.00040985620898407,null,12,0.000361594722914385,0.000421175159447758,null,12,0.000361341918947118,0.000438148155522691,null,12,0.000353952264519309,0.000429689779415386,null,12,0.000301,0.000369,null,12,0.000203,0.00019,0.000101,0.000124,null,null,12,0.0004,0.0004,12,{"$f":"VLOOKUP(BW18,癌症发生率!$A$4:$AH$109,$BX$4,FALSE)","v":{"$error":"#REF!"}},{"$f":"VLOOKUP(BW18,癌症发生率!$A$4:$AH$109,$BY$4,FALSE)","v":{"$error":"#REF!"}}]
[13,0.206172,0.28821265,null,13,0.259433772863444,0.349352601224703,null,13,0.27172394565255,0.365138319147925,null,13,0.273241680673127,0.367409070601367,null,13,0.278695277497203,0.376227985066212,null,13,0.278505560619631,0.395966522115483,null,13,0.272959990352139,0.388464932492504,null,13,0.233,0.3307,null,13,0.00023968,0.000285092,null,13,0.000336261800020429,0.000411997322278906,null,13,0.000352191551875837,0.000430613681486818,null,13,0.000354158744906799,0.000433291616372945,null,13,0.000361227355382641,0.000443691908605451,null,13,0.000360981456253771,0.000466969893030052,null,13,0.000353793635563716,0.000458123143852666,null,13,0.000302,0.00039,null,13,0.000207,0.000201,0.000109,0.000135,null,null,13,0.0004,0.0004,13,{"$f":"VLOOKUP(BW19,癌症发生率!$A$4:$AH$109,$BX$4,FALSE)","v":{"$error":"#REF!"}},{"$f":"VLOOKUP(BW19,癌症发生率!$A$4:$AH$109,$BY$4,FALSE)","v":{"$error":"#REF!"}}]
[14,0.210726,0.2862756,null,14,0.262071165477462,0.343815583443142,null,14,0.274465412215498,0.359637024844704,null,14,0.275901032074135,0.361842400220391,null,14,0.281286439844386,0.370604758036999,null,14,0.281106987362056,0.394506001271445,null,14,0.275861453263192,0.38722038619105,null,14,0.2362,0.3257,null,14,0.00024824,0.000302976,null,14,0.000340625943275109,0.00043069314720541,null,14,0.000356735315623023,0.000450512453597296,null,14,0.000358601256760201,0.000453275097604911,null,14,0.000365600918849392,0.000464251585136922,null,14,0.000365367676207245,0.000494192350379949,null,14,0.000358549814359864,0.000485065758569078,null,14,0.000307,0.000408,null,14,0.000211,0.000212,0.000119,0.000142,null,null,14,0.0004,0.0004,14,{"$f":"VLOOKUP(BW20,癌症发生率!$A$4:$AH$109,$BX$4,FALSE)","v":{"$error":"#REF!"}},{"$f":"VLOOKUP(BW20,癌症发生率!$A$4:$AH$109,$BY$4,FALSE)","v":{"$error":"#REF!"}}]
[15,0.213003,0.28128005,null,15,0.262770517379968,0.336191702222563,null,15,0.275383797075834,0.352324638698298,null,15,0.276769317783105,0.354539280708001,null,15,0.282167708021736,0.363495804431525,null,15,0.281994517933327,0.391159002643219,null,15,0.276932038425994,0.383842774575449,null,15,0.2372,0.318,null,15,0.00026108,0.000319808,null,15,0.000352280879118169,0.000448255602963417,null,15,0.000369190756619373,0.000469766184931064,null,15,0.000371048242221869,0.000472719040944001,null,15,0.000378285544481079,0.000484661072575367,null,15,0.000378053358780767,0.000521545336857625,null,15,0.000371266392156265,0.000511790366100599,null,15,0.000318,0.000424,null,15,0.000228,0.000218,0.00013,0.00015,null,null,15,0.0004,0.0004,15,{"$f":"VLOOKUP(BW21,癌症发生率!$A$4:$AH$109,$BX$4,FALSE)","v":{"$error":"#REF!"}},{"$f":"VLOOKUP(BW21,癌症发生率!$A$4:$AH$109,$BY$4,FALSE)","v":{"$error":"#REF!"}}]
[16,0.212382,0.27414355,null,16,0.257452974280668,0.322955066997191,null,16,0.269343609631129,0.336921432859713,null,16,0.270538534711006,0.338662258132493,null,16,0.275436164221961,0.346023232073597,null,16,0.275286798586976,0.379586917358771,null,16,0.270920726179732,0.373835976725479,null,16,0.2354,0.3085,null,16,0.00027499,0.000335588,null,16,0.00036529011643901,0.000458522915218055,null,16,0.000382161281294805,0.000478351985713303,null,16,0.000383856714500748,0.000480823562599779,null,16,0.000390805772515441,0.000491274475358948,null,16,0.000390593843364698,0.000538927292716828,null,16,0.00038439899126606,0.000530762261931151,null,16,0.000334,0.000438,null,16,0.000231,0.000227,0.000141,0.00016,null,null,16,0.0004,0.0004,16,{"$f":"VLOOKUP(BW22,癌症发生率!$A$4:$AH$109,$BX$4,FALSE)","v":{"$error":"#REF!"}},{"$f":"VLOOKUP(BW22,癌症发生率!$A$4:$AH$109,$BY$4,FALSE)","v":{"$error":"#REF!"}}]
[17,0.2085525,0.26578365,null,17,0.250273551392694,0.311473181817975,null,17,0.261930119189754,0.325176771881799,null,17,0.263017790616568,0.326823434638372,null,17,0.26765956624205,0.333941430968829,null,17,0.267523607313698,0.367732322952677,null,17,0.263549423254187,0.362292454917568,null,17,0.2302,0.2978,null,17,0.00029318,0.000351368,null,17,0.00038486897129893,0.000471707202820371,null,17,0.000402794362264001,0.000492460457080897,null,17,0.000404466976013314,0.000494954227743135,null,17,0.000411605067114186,0.000505734000560584,null,17,0.000411395990395522,0.000556908252691931,null,17,0.000405284517080722,0.000548669903182751,null,17,0.000354,0.000451,null,17,0.000234,0.000236,0.000152,0.000169,null,null,17,0.0004,0.0004,17,{"$f":"VLOOKUP(BW23,癌症发生率!$A$4:$AH$109,$BX$4,FALSE)","v":{"$error":"#REF!"}},{"$f":"VLOOKUP(BW23,癌症发生率!$A$4:$AH$109,$BY$4,FALSE)","v":{"$error":"#REF!"}}]
[18,0.202032,0.2573218,null,18,0.240226590192374,0.299503036685281,null,18,0.251574797467233,0.312785980120435,null,18,0.252562933016061,0.314311448321235,null,18,0.256941442366846,0.32106513604317,null,18,0.256817925423243,0.352369014747076,null,18,0.253207430148682,0.34732952158372,null,18,0.2218,0.2867,null,18,0.00031351,0.000367148,null,18,0.000410486373683091,0.000485765301913693,null,18,0.000429877584490899,0.000507308966710856,null,18,0.000431566057768652,0.000509783130343126,null,18,0.000439047820816207,0.000520736966376261,null,18,0.000438836761656488,0.000571508865913465,null,18,0.0004326673400647,0.000563335289628287,null,18,0.000379,0.000465,null,18,0.000238,0.00031,0.000164,0.000177,null,null,18,0.0004,0.0004,18,{"$f":"VLOOKUP(BW24,癌症发生率!$A$4:$AH$109,$BX$4,FALSE)","v":{"$error":"#REF!"}},{"$f":"VLOOKUP(BW24,癌症发生率!$A$4:$AH$109,$BY$4,FALSE)","v":{"$error":"#REF!"}}]
[19,0.194015625,0.24872445,null,19,0.228852531676203,0.288245143040819,null,19,0.239871307001664,0.301166219741601,null,19,0.240773230115368,0.302586278710624,null,19,0.244909920051077,0.309019560167209,null,19,0.244797179661864,0.338160353594032,null,19,0.241501691361791,0.332285704882896,null,19,0.2116,0.2762,null,19,0.0003368925,0.0003816465,null,19,0.000441265751058085,0.000500932906081075,null,19,0.000462511782876554,0.000523388071962232,null,19,0.000464250840676135,0.000525855951416001,null,19,0.000472227067017199,0.000537036165388343,null,19,0.000472009684792252,0.000587679108345892,null,19,0.000465655435139937,0.000577469726081789,null,19,0.000408,0.00048,null,19,0.000243,0.000385,0.00018,0.000183,null,null,19,0.0004,0.0004,19,{"$f":"VLOOKUP(BW25,癌症发生率!$A$4:$AH$109,$BX$4,FALSE)","v":{"$error":"#REF!"}},{"$f":"VLOOKUP(BW25,癌症发生率!$A$4:$AH$109,$BY$4,FALSE)","v":{"$error":"#REF!"}}]
[20,0.1842423,0.242901575,null,20,0.218160158087123,0.280599881981459,null,20,0.228266936432182,0.294183992915601,null,20,0.229036976687043,0.295293242976418,null,20,0.23296909867271,0.301617350731041,null,20,0.232632206061208,0.328597830512849,null,20,0.229818597437675,0.323167127090099,null,20,0.2018,0.2677,null,20,0.00036346,0.0003978975,null,20,0.00047675237718742,0.000519901163477041,null,20,0.000498839043441983,0.000545070080262003,null,20,0.000500521837061378,0.000547125321316038,null,20,0.000509114829111324,0.000558842756677611,null,20,0.000508378606902838,0.000608832737894558,null,20,0.000502229937908894,0.000598770620234178,null,20,0.000441,0.000496,null,20,0.000267,0.00047,0.000196,0.000189,null,null,20,0.0004,0.0004,20,{"$f":"VLOOKUP(BW26,癌症发生率!$A$4:$AH$109,$BX$4,FALSE)","v":{"$error":"#REF!"}},{"$f":"VLOOKUP(BW26,癌症发生率!$A$4:$AH$109,$BY$4,FALSE)","v":{"$error":"#REF!"}}]
[21,0.179302683333333,0.2387602875,null,21,0.211097077645213,0.275375180747054,null,21,0.220823392803872,0.28895735970471,null,21,0.221564445387389,0.29002139128587,null,21,0.225443566631234,0.29610453565248,null,21,0.225119356125945,0.321322447331321,null,21,0.223337979723261,0.316379762417172,null,21,0.195,0.2624,null,21,0.000393208,0.00041686975,null,21,0.000517458477509803,0.000540465770139987,null,21,0.000541300419283338,0.000567122866798498,null,21,0.000543116948180369,0.000569211190976459,null,21,0.000552625768460153,0.000581150289104524,null,21,0.000551831037067702,0.000630644284968104,null,21,0.000547464381065223,0.00062094351236602,null,21,0.000478,0.000515,null,21,0.000272,0.000545,0.000213,0.000197,null,null,21,0.0004,0.0004,21,{"$f":"VLOOKUP(BW27,癌症发生率!$A$4:$AH$109,$BX$4,FALSE)","v":{"$error":"#REF!"}},{"$f":"VLOOKUP(BW27,癌症发生率!$A$4:$AH$109,$BY$4,FALSE)","v":{"$error":"#REF!"}}]
[22,0.1788644,0.238576,null,22,0.209458803052886,0.275177927387056,null,22,0.219212450832234,0.289025825009954,null,22,0.219955585901136,0.290068590100023,null,22,0.223931756076612,0.296044685960176,null,22,0.223606634483967,0.319733391491909,null,22,0.221820252106797,0.31490347676627,null,22,0.1933,0.262,null,22,0.000426132,0.000439495,null,22,0.000562385508455498,0.000565060018832963,null,22,0.000588573522927726,0.000593495778073875,null,22,0.000590568800220848,0.000595637028526001,null,22,0.000601244601157587,0.00060790855361288,null,22,0.000600371667341847,0.000656551773368881,null,22,0.000595575327694918,0.000646633856871195,null,22,0.000519,0.000538,null,22,0.00028,0.000622,0.000231,0.000209,null,null,22,0.0004,0.0004,22,{"$f":"VLOOKUP(BW28,癌症发生率!$A$4:$AH$109,$BX$4,FALSE)","v":{"$error":"#REF!"}},{"$f":"VLOOKUP(BW28,癌症发生率!$A$4:$AH$109,$BY$4,FALSE)","v":{"$error":"#REF!"}}]
[23,0.183875466666667,0.24391575,null,23,0.214286185979173,0.280128512393865,null,23,0.223926030568234,0.294334101791496,null,23,0.224660494917877,0.295333209414029,null,23,0.228702946282594,0.301106711423743,null,23,0.228381618129625,0.324013672380888,null,23,0.226616078827599,0.319413444091865,null,23,0.198,0.2669,null,23,0.000463512,0.000469945,null,23,0.000611473207465821,0.00059615209831291,null,23,0.000638980844803294,0.00062638355120858,null,23,0.000641076664790911,0.000628509789985644,null,23,0.000652611942675077,0.000640796598309052,null,23,0.000651695021430495,0.000689545769622871,null,23,0.000646656992614108,0.000679755849547319,null,23,0.000565,0.000568,null,23,0.00029,0.000721,0.00025,0.000223,null,null,23,0.0004,0.0004,23,{"$f":"VLOOKUP(BW29,癌症发生率!$A$4:$AH$109,$BX$4,FALSE)","v":{"$error":"#REF!"}},{"$f":"VLOOKUP(BW29,癌症发生率!$A$4:$AH$109,$BY$4,FALSE)","v":{"$error":"#REF!"}}]
[24,0.1938976,0.253487,null,24,0.22509231534884,0.290410061262158,null,24,0.234840985816895,0.304488898555443,null,24,0.235583741662081,0.305479070541431,null,24,0.239789167673536,0.311238097711434,null,24,0.239464211991267,0.334011512262162,null,24,0.237678741209572,0.329478470655703,null,24,0.2084,0.2769,null,24,0.000504096,0.000506485,null,24,0.000665340049207703,0.000634518190912264,null,24,0.000694155697040343,0.000665279103019296,null,24,0.000696351174970449,0.000667442534046825,null,24,0.000708781800800854,0.000680025457260447,null,24,0.000707821279206432,0.000729783188582911,null,24,0.000702543688028293,0.000719878926495847,null,24,0.000616,0.000605,null,24,0.000301,0.00082,0.000268,0.000242,null,null,24,0.0004,0.0004,24,{"$f":"VLOOKUP(BW30,癌症发生率!$A$4:$AH$109,$BX$4,FALSE)","v":{"$error":"#REF!"}},{"$f":"VLOOKUP(BW30,癌症发生率!$A$4:$AH$109,$BY$4,FALSE)","v":{"$error":"#REF!"}}]
[25,0.207192266666667,0.2661815,null,25,0.239949150728512,0.304516335955907,null,25,0.250013508826235,0.318771503785186,null,25,0.250780317062252,0.31977407184938,null,25,0.255240131252478,0.32563559732017,null,25,0.25490465264922,0.349096401525036,null,25,0.253061363620334,0.344524322753925,null,25,0.2226,0.2905,null,25,0.000548952,0.0005481,null,25,0.000722218917287076,0.000682410102262635,null,25,0.000752511459629727,0.00071435541812102,null,25,0.000754819462855834,0.000716602136915479,null,25,0.000768242982655706,0.000729737603633152,null,25,0.000767233231244285,0.000782312417875383,null,25,0.000761685146566143,0.000772066554605181,null,25,0.00067,0.000651,null,25,0.000372,0.000928,0.000286,0.000265,null,null,25,0.0004,0.0004,25,{"$f":"VLOOKUP(BW31,癌症发生率!$A$4:$AH$109,$BX$4,FALSE)","v":{"$error":"#REF!"}},{"$f":"VLOOKUP(BW31,癌症发生率!$A$4:$AH$109,$BY$4,FALSE)","v":{"$error":"#REF!"}}]
[26,0.221714133333333,0.28099175,null,26,0.256637344724734,0.320867354933472,null,26,0.267334269323605,0.335773983761953,null,26,0.268155287890603,0.336830104734479,null,26,0.27303290991347,0.34300497607498,null,26,0.272673714290408,0.366216734741631,null,26,0.270779056058874,0.361517237518434,null,26,0.2383,0.3061,null,26,0.00059808,0.000597835,null,26,0.000781866186614172,0.000737963469040066,null,26,0.000814455222530161,0.00077224725438881,null,26,0.000816956521227772,0.000774676229118175,null,26,0.00083181658664364,0.000788877828019555,null,26,0.000830722268463435,0.000842262598033675,null,26,0.000824950040699717,0.000831454215004826,null,26,0.000726,0.000704,null,26,0.000386,0.001027,0.000303,0.000293,null,null,26,0.0004,0.0004,26,{"$f":"VLOOKUP(BW32,癌症发生率!$A$4:$AH$109,$BX$4,FALSE)","v":{"$error":"#REF!"}},{"$f":"VLOOKUP(BW32,癌症发生率!$A$4:$AH$109,$BY$4,FALSE)","v":{"$error":"#REF!"}}]
[27,0.2356224,0.29650725,null,27,0.272249971302409,0.33719383981378,null,27,0.283306246876652,0.352435537635804,null,27,0.284154846625524,0.353515397548081,null,27,0.289323385513172,0.359855823374284,null,27,0.28895212312304,0.383161918083438,null,27,0.286993816010259,0.378371256884907,null,27,0.2533,0.3219,null,27,0.00065148,0.00065366,null,27,0.00084050326710811,0.000800298520092351,null,27,0.000874636735323892,0.000836473285970034,null,27,0.000877256573474771,0.000839036234006629,null,27,0.000893213136483617,0.000854084650692616,null,27,0.000892066957292607,0.00090939951977554,null,27,0.000886021176944425,0.00089802932668552,null,27,0.000782,0.000764,null,27,0.000402,0.001127,0.000321,0.000326,null,null,27,0.0004,0.0004,27,{"$f":"VLOOKUP(BW33,癌症发生率!$A$4:$AH$109,$BX$4,FALSE)","v":{"$error":"#REF!"}},{"$f":"VLOOKUP(BW33,癌症发生率!$A$4:$AH$109,$BY$4,FALSE)","v":{"$error":"#REF!"}}]
[28,0.247792133333333,0.31222425,null,28,0.285718970456059,0.35263004785445,null,28,0.296804103197295,0.367931372936652,null,28,0.297654917813597,0.369015482389156,null,28,0.302980915190516,0.375422359212211,null,28,0.302608683795884,0.398974957014471,null,28,0.300645265450573,0.39418504398531,null,28,0.2665,0.337,null,28,0.000708084,0.000719635,null,28,0.000898433385524118,0.000869541750050588,null,28,0.000933290200672921,0.000907272910713228,null,28,0.000935965557702792,0.000909946189511539,null,28,0.000952712971593443,0.000925744749274028,null,28,0.000951542502892874,0.000983822520115803,null,28,0.00094536860205471,0.000972011191548347,null,28,0.000838,0.000831,null,28,0.000421,0.001371,0.00034,0.000363,null,null,28,0.0004,0.0004,28,{"$f":"VLOOKUP(BW34,癌症发生率!$A$4:$AH$109,$BX$4,FALSE)","v":{"$error":"#REF!"}},{"$f":"VLOOKUP(BW34,癌症发生率!$A$4:$AH$109,$BY$4,FALSE)","v":{"$error":"#REF!"}}]
[29,0.258223333333333,0.327639,null,29,0.297136330542867,0.366949033047088,null,29,0.308206084425103,0.382204758304311,null,29,0.309055718671415,0.383285633907963,null,29,0.314515540533784,0.38971841507755,null,29,0.314143825551022,0.414272807752086,null,29,0.312183131136457,0.409515925035426,null,29,0.2778,0.351,null,29,0.000770028,0.00079373,null,29,0.000955157462832184,0.000946122150733945,null,29,0.000990741660876951,0.000985456713006843,null,29,0.00099347284655714,0.000988243586002014,null,29,0.00101102367781378,0.00100482953175266,null,29,0.0010098287840787,0.00106813929064284,null,29,0.00100352604789365,0.00105587439360986,null,29,0.000893,0.000905,null,29,0.000443,0.001616,0.000362,0.000406,null,null,29,0.0004,0.0004,29,{"$f":"VLOOKUP(BW35,癌症发生率!$A$4:$AH$109,$BX$4,FALSE)","v":{"$error":"#REF!"}},{"$f":"VLOOKUP(BW35,癌症发生率!$A$4:$AH$109,$BY$4,FALSE)","v":{"$error":"#REF!"}}]
[30,0.273668266666667,0.342953,null,30,0.309942411610551,0.382046647555332,null,30,0.322374175173754,0.398585803352849,null,30,0.323218250633396,0.399659955768088,null,30,0.328783913265805,0.406099473991242,null,30,0.328414630252212,0.430895467969696,null,30,0.325937452272828,0.425686303061541,null,30,0.288,0.3644,null,30,0.000836244,0.000877975,null,30,0.00102130329381393,0.00103479703934444,null,30,0.00106226768138852,0.00107959436857646,null,30,0.00106504902726074,0.00108250377701181,null,30,0.00108338865864323,0.00109994561149659,null,30,0.00108217181982413,0.00116710709902879,null,30,0.00107400917432956,0.0011529977528039,null,30,0.000949,0.000987,null,30,0.000626,0.001892,0.000388,0.000454,null,null,30,0.0004,0.0004,30,{"$f":"VLOOKUP(BW36,癌症发生率!$A$4:$AH$109,$BX$4,FALSE)","v":{"$error":"#REF!"}},{"$f":"VLOOKUP(BW36,癌症发生率!$A$4:$AH$109,$BY$4,FALSE)","v":{"$error":"#REF!"}}]
[31,0.283808,0.35816625,null,31,0.320784970134639,0.395506333835947,null,31,0.333200065189791,0.41187454754822,null,31,0.334043008913093,0.41293756354597,null,31,0.339739535521859,0.418598362133825,null,31,0.339370747642915,0.443247289462797,null,31,0.336896891063659,0.438120237077405,null,31,0.2986,0.3777,null,31,0.0009078,0.00097237,null,31,0.00108396528756146,0.00112882136053786,null,31,0.0011259171660298,0.00117553815794806,null,31,0.00112876555925422,0.00117857213000412,null,31,0.00114801470643522,0.00119472871162368,null,31,0.00114676853439953,0.00126507963473893,null,31,0.00113840911950178,0.00125044642724237,null,31,0.001009,0.001078,null,31,0.000655,0.002139,0.000421,0.000508,null,null,31,0.0004,0.0004,31,{"$f":"VLOOKUP(BW37,癌症发生率!$A$4:$AH$109,$BX$4,FALSE)","v":{"$error":"#REF!"}},{"$f":"VLOOKUP(BW37,癌症发生率!$A$4:$AH$109,$BY$4,FALSE)","v":{"$error":"#REF!"}}]
[32,0.2950976,0.3733795,null,32,0.332947352126611,0.409339908366615,null,32,0.345354268931131,0.425496787006539,null,32,0.346196657378375,0.426546045288055,null,32,0.351925721583209,0.432188745705705,null,32,0.351557176637539,0.456630213324665,null,32,0.349084949672801,0.451600921773789,null,32,0.3105,0.3912,null,32,0.000986832,0.001078945,null,32,0.00115593315810785,0.00123680923233471,null,32,0.00119900773561275,0.00128562679509645,null,32,0.00120193235637323,0.00128879710002679,null,32,0.00122182263403124,0.00130584636355865,null,32,0.00122054311244853,0.00137969558320489,null,32,0.00121195998630364,0.00136449971762939,null,32,0.001078,0.001182,null,32,0.000689,0.002387,0.00046,0.000567,null,null,32,0.0004,0.0004,32,{"$f":"VLOOKUP(BW38,癌症发生率!$A$4:$AH$109,$BX$4,FALSE)","v":{"$error":"#REF!"}},{"$f":"VLOOKUP(BW38,癌症发生率!$A$4:$AH$109,$BY$4,FALSE)","v":{"$error":"#REF!"}}]
[33,0.308164266666667,0.38839125,null,33,0.346322431017994,0.423604322604053,null,33,0.358477377669474,0.439207692326788,null,33,0.359302658180128,0.440220980835463,null,33,0.364975689396093,0.445752775384112,null,33,0.364614629172682,0.470009356060075,null,33,0.362192610282719,0.46519619356768,null,33,0.3243,0.4053,null,33,0.001075476,0.0011977,null,33,0.00124090861807866,0.0013608014508524,null,33,0.00128446103253755,0.00141092626550575,null,33,0.0012874180968403,0.00141418138921237,null,33,0.00130774514671064,0.00143195192092305,null,33,0.00130645143107819,0.00150987461532252,null,33,0.0012977730901897,0.00149441264254902,null,33,0.001162,0.001302,null,33,0.000742,0.002424,0.000509,0.000633,null,null,33,0.0004,0.0004,33,{"$f":"VLOOKUP(BW39,癌症发生率!$A$4:$AH$109,$BX$4,FALSE)","v":{"$error":"#REF!"}},{"$f":"VLOOKUP(BW39,癌症发生率!$A$4:$AH$109,$BY$4,FALSE)","v":{"$error":"#REF!"}}]
[34,0.323217066666667,0.403403,null,34,0.361611260112042,0.438564263739232,null,34,0.373557062346393,0.453682989498697,null,34,0.3743681426457,0.454664795820022,null,34,0.380007700927231,0.460106898449534,null,34,0.379652853296284,0.484125529485412,null,34,0.377272508939624,0.479506482935827,null,34,0.3401,0.4201,null,34,0.001179072,0.00132965,null,34,0.00134713750826803,0.00150224702575757,null,34,0.00139164009994966,0.00155403432965633,null,34,0.00139466167813026,0.0015573973843966,null,34,0.00141567114694149,0.00157603862620538,null,34,0.00141434920648748,0.00165831144234589,null,34,0.00140548153139225,0.00164248947618342,null,34,0.001267,0.001439,null,34,0.000803,0.002464,0.000568,0.000704,null,null,34,0.0004,0.0004,34,{"$f":"VLOOKUP(BW40,癌症发生率!$A$4:$AH$109,$BX$4,FALSE)","v":{"$error":"#REF!"}},{"$f":"VLOOKUP(BW40,癌症发生率!$A$4:$AH$109,$BY$4,FALSE)","v":{"$error":"#REF!"}}]
[35,0.3399424,0.41861625,null,35,0.379012810867781,0.454686026982088,null,35,0.390890231828873,0.469349997420282,null,35,0.391696669266822,0.470302233123298,null,35,0.397362885560063,0.475665485769895,null,35,0.39701006918096,0.499422053215899,null,35,0.394643350613067,0.494993541760113,null,35,0.3578,0.4358,null,35,0.001300824,0.00147581,null,35,0.00147876434871834,0.00166516498178846,null,35,0.00152510554397179,0.00171886781983197,null,35,0.00152825195722885,0.00172235512635334,null,35,0.00155035938580729,0.00174199659313619,null,35,0.00154898283000732,0.00182899861618305,null,35,0.00153974879110073,0.00181278038698747,null,35,0.001396,0.001596,null,35,0.001187,0.002613,0.000642,0.000781,null,null,35,0.0004,0.0004,35,{"$f":"VLOOKUP(BW41,癌症发生率!$A$4:$AH$109,$BX$4,FALSE)","v":{"$error":"#REF!"}},{"$f":"VLOOKUP(BW41,癌症发生率!$A$4:$AH$109,$BY$4,FALSE)","v":{"$error":"#REF!"}}]
[36,0.358340266666667,0.43453475,null,36,0.398002742387982,0.471203567849591,null,36,0.409779547350858,0.485439533765482,null,36,0.410579153296677,0.486363954978199,null,36,0.416014486070421,0.49136965587993,null,36,0.415914535327194,0.513107731114752,null,36,0.413567865703595,0.508863538501896,null,36,0.3771,0.4524,null,36,0.001442868,0.00163618,null,36,0.00163591686741282,0.00184356833575105,null,36,0.00168432325217139,0.00189926608038219,null,36,0.00168760988493728,0.00190288284772638,null,36,0.00170995081784448,0.00192246748653288,null,36,0.00170953998874874,0.00200751698513066,null,36,0.00169989443606622,0.00199091172225543,null,36,0.00155,0.00177,null,36,0.001272,0.002659,0.000729,0.000866,null,null,36,0.0004,0.0004,36,{"$f":"VLOOKUP(BW42,癌症发生率!$A$4:$AH$109,$BX$4,FALSE)","v":{"$error":"#REF!"}},{"$f":"VLOOKUP(BW42,癌症发生率!$A$4:$AH$109,$BY$4,FALSE)","v":{"$error":"#REF!"}}]
[37,0.3782016,0.4515615,null,37,0.418737047487861,0.489008984904237,null,37,0.4304204983594,0.502941885577103,null,37,0.431213765872449,0.503846631804491,null,37,0.436677680812881,0.508828679575023,null,37,0.43657852237375,0.528570985911745,null,37,0.43425045467241,0.524474744938733,null,37,0.398,0.4704,null,37,0.001610544,0.001811775,null,37,0.00182224262876627,0.00203961655693477,null,37,0.0018730861888404,0.00209772954826164,null,37,0.00187653829771629,0.00210150317091924,null,37,0.00190031593760781,0.00212228288547236,null,37,0.00189988442399833,0.00220462643358598,null,37,0.00188975323490606,0.00218754134687456,null,37,0.001732,0.001962,null,37,0.001366,0.002707,0.000832,0.000959,null,null,37,0.0004,0.0004,37,{"$f":"VLOOKUP(BW43,癌症发生率!$A$4:$AH$109,$BX$4,FALSE)","v":{"$error":"#REF!"}},{"$f":"VLOOKUP(BW43,癌症发生率!$A$4:$AH$109,$BY$4,FALSE)","v":{"$error":"#REF!"}}]
[38,0.399421866666667,0.46979725,null,38,0.440732944487388,0.507768150246575,null,38,0.452221176761417,0.521296270292996,null,38,0.453001189580023,0.522174738720154,null,38,0.458460658578633,0.527110373403494,null,38,0.458363156976308,0.545137277585793,null,38,0.456073988921704,0.541222860207741,null,38,0.4203,0.4895,null,38,0.001805988,0.00200361,null,38,0.00203955645260045,0.00225202176544497,null,38,0.0020927199352866,0.00231202084332195,null,38,0.00209632955920329,0.00231591697193351,null,38,0.00212159405409337,0.00233780719235748,null,38,0.00212114285110378,0.00241775899824056,null,38,0.00211054938960912,0.00240039801738714,null,38,0.001945,0.002171,null,38,0.001472,0.002857,0.000954,0.001059,null,null,38,0.0004,0.0004,38,{"$f":"VLOOKUP(BW44,癌症发生率!$A$4:$AH$109,$BX$4,FALSE)","v":{"$error":"#REF!"}},{"$f":"VLOOKUP(BW44,癌症发生率!$A$4:$AH$109,$BY$4,FALSE)","v":{"$error":"#REF!"}}]
[39,0.420298933333333,0.4889201625,null,39,0.463388824652206,0.527364095049116,null,39,0.474627354695252,0.540522838366407,null,39,0.475390413561643,0.541377346671446,null,39,0.480827924652084,0.54627811566768,null,39,0.480732542293785,0.557595540662728,null,39,0.478493130403289,0.5538539844908,null,39,0.4434,0.5094,null,39,0.00202692,0.002214335,null,39,0.00228872694178695,0.00248256595981111,null,39,0.0023442352430821,0.00254451073106133,null,39,0.00234800407239512,0.00254853332806856,null,39,0.00237486052094737,0.002571603693308,null,39,0.00237438941728324,0.00262488046036361,null,39,0.00236332872256022,0.00260726708835677,null,39,0.00219,0.002398,null,39,0.001595,0.003011,0.001098,0.001167,null,null,39,0.0004,0.0004,39,{"$f":"VLOOKUP(BW45,癌症发生率!$A$4:$AH$109,$BX$4,FALSE)","v":{"$error":"#REF!"}},{"$f":"VLOOKUP(BW45,癌症发生率!$A$4:$AH$109,$BY$4,FALSE)","v":{"$error":"#REF!"}}]
[40,0.441272,0.508158,null,40,0.486249558597337,0.54696778240331,null,40,0.497195695745845,0.559774445037439,null,40,0.497938902105744,0.560606128469084,null,40,0.503339453262199,0.565476212372054,null,40,0.503246552467212,0.570854956546121,null,40,0.501251204957484,0.567302669841109,null,40,0.4667,0.5292,null,40,0.00228006,0.0024426495,null,40,0.0025776331861363,0.00273173818762651,null,40,0.0026356592056465,0.00279569890066884,null,40,0.0026395989796649,0.00279985260306838,null,40,0.00266822757096782,0.00282417541439784,null,40,0.00266773509921552,0.00285103864352116,null,40,0.00265715766244871,0.00283329734767583,null,40,0.002474,0.002643,null,40,0.002446,0.00337,0.001265,0.001283,null,null,40,0.0004,0.0004,40,{"$f":"VLOOKUP(BW46,癌症发生率!$A$4:$AH$109,$BX$4,FALSE)","v":{"$error":"#REF!"}},{"$f":"VLOOKUP(BW46,癌症发生率!$A$4:$AH$109,$BY$4,FALSE)","v":{"$error":"#REF!"}}]
[41,0.4615096,0.52650225,null,41,0.508533411878017,0.566051707272189,null,41,0.519276561305651,0.57899926041511,null,41,0.520005985473431,0.579840224077582,null,41,0.525400751330387,0.584803635147989,null,41,0.525309573309415,0.590050472498912,null,41,0.523533584031341,0.586518655265156,null,41,0.4895,0.5481,null,41,0.002570304,0.002689609,null,41,0.00290887344894474,0.00300427735167815,null,41,0.00297032558050219,0.00307299552736281,null,41,0.00297449797615037,0.00307745887947762,null,41,0.00300535669811049,0.00310380181471538,null,41,0.00300483514865447,0.00313164901386487,null,41,0.00299467627229368,0.00311290415647936,null,41,0.0028,0.002909,null,41,0.002613,0.003534,0.001459,0.001405,null,null,41,0.0004,0.0004,41,{"$f":"VLOOKUP(BW47,癌症发生率!$A$4:$AH$109,$BX$4,FALSE)","v":{"$error":"#REF!"}},{"$f":"VLOOKUP(BW47,癌症发生率!$A$4:$AH$109,$BY$4,FALSE)","v":{"$error":"#REF!"}}]
[42,0.4804992,0.5432456,null,42,0.52920567686842,0.582856742227777,null,42,0.539551777936088,0.595456357371561,null,42,0.540254243838837,0.596274787481334,null,42,0.545568701649983,0.60120116324151,null,42,0.545480893412139,0.606162903096411,null,42,0.54394615812461,0.602823901941432,null,42,0.5111,0.5654,null,42,0.002900364,0.00295729,null,42,0.0032843678478314,0.00329364572235187,null,42,0.00334857804659219,0.00336484446728358,null,42,0.00335293770584385,0.00336946930669059,null,42,0.0033859204101619,0.00339730759914507,null,42,0.00338537545275544,0.0034253457293828,null,42,0.00337585054504258,0.00340647747913491,null,42,0.003172,0.003195,null,42,0.002787,0.0037,0.001679,0.001536,null,null,42,0.0004,0.0004,42,{"$f":"VLOOKUP(BW48,癌症发生率!$A$4:$AH$109,$BX$4,FALSE)","v":{"$error":"#REF!"}},{"$f":"VLOOKUP(BW48,癌症发生率!$A$4:$AH$109,$BY$4,FALSE)","v":{"$error":"#REF!"}}]
[43,0.499019733333333,0.5578761,null,43,0.548134866284786,0.597130651894183,null,43,0.558006880663053,0.609008082127882,null,43,0.55867715765405,0.609779600222121,null,43,0.563878052457511,0.614566423879962,null,43,0.563794267833636,0.619298430175607,null,43,0.562497427568447,0.616279673313237,null,43,0.531,0.5806,null,43,0.003285396,0.00324233,null,43,0.00371100723972468,0.00360273626177286,null,43,0.00377784319394289,0.0036743977121839,null,43,0.00378238113326988,0.00367905260003116,null,43,0.00381759246437806,0.00370793348751551,null,43,0.00381702522196219,0.00373648363917525,null,43,0.00380824529587301,0.00371827023013481,null,43,0.003595,0.003503,null,43,0.002967,0.003713,0.001927,0.001674,null,null,43,0.0004,0.0004,43,{"$f":"VLOOKUP(BW49,癌症发生率!$A$4:$AH$109,$BX$4,FALSE)","v":{"$error":"#REF!"}},{"$f":"VLOOKUP(BW49,癌症发生率!$A$4:$AH$109,$BY$4,FALSE)","v":{"$error":"#REF!"}}]
[44,0.5158848,0.5703877,null,44,0.565475119110343,0.609274917695451,null,44,0.574866986367281,0.62054611260393,null,44,0.575504662963324,0.621278274364652,null,44,0.58058437987164,0.625948766647192,null,44,0.580504670297134,0.630470672042604,null,44,0.579430323858149,0.62773263597796,null,44,0.5491,0.5936,null,44,0.00371882,0.00354773,null,44,0.00419137449422527,0.00393524264562729,null,44,0.00426098822530474,0.00400804210869856,null,44,0.00426571476645552,0.00401277106454527,null,44,0.00430336628314983,0.00404293728323001,null,44,0.00430277546550599,0.00407214379483043,null,44,0.00429481227117586,0.00405445910771479,null,44,0.00407,0.003834,null,44,0.003169,0.003733,0.002202,0.00182,null,null,44,0.0004,0.0004,44,{"$f":"VLOOKUP(BW50,癌症发生率!$A$4:$AH$109,$BX$4,FALSE)","v":{"$error":"#REF!"}},{"$f":"VLOOKUP(BW50,癌症发生率!$A$4:$AH$109,$BY$4,FALSE)","v":{"$error":"#REF!"}}]
[45,0.5314048,0.581184,null,45,0.581177134234645,0.61978965882343,null,45,0.590036193292068,0.630518971875194,null,45,0.590637693980838,0.631215981109784,null,45,0.59557158711135,0.635781333582458,null,45,0.595496399525254,0.640110609997627,null,45,0.594633376797889,0.637602327451098,null,45,0.5654,0.6048,null,45,0.004204844,0.003875526,null,45,0.00472836012995997,0.00429179743907494,null,45,0.00480043595532988,0.00436609367429449,null,45,0.00480532966450629,0.00437092018665307,null,45,0.00484547099524622,0.00440253344087853,null,45,0.00484485928159917,0.00443251196208674,null,45,0.00483783787278084,0.00441514310080225,null,45,0.0046,0.004188,null,45,0.004272,0.004137,0.002506,0.001974,null,null,45,0.0004,0.0004,45,{"$f":"VLOOKUP(BW51,癌症发生率!$A$4:$AH$109,$BX$4,FALSE)","v":{"$error":"#REF!"}},{"$f":"VLOOKUP(BW51,癌症发生率!$A$4:$AH$109,$BY$4,FALSE)","v":{"$error":"#REF!"}}]
[46,0.546304,0.5907695,null,46,0.595429623618931,0.629076298767444,null,46,0.60379263922181,0.639319850867799,null,46,0.604360460207393,0.6399853502321,null,46,0.609157165858636,0.644456039710303,null,46,0.609086188235438,0.648617292278858,null,46,0.608413443806867,0.64632378546164,null,46,0.5801,0.6147,null,46,0.004746624,0.004223682,null,46,0.00531996507363716,0.00467074056869142,null,46,0.00539468582845482,0.00474679648505065,null,46,0.00539975911955683,0.00475173765814105,null,46,0.00544261608454631,0.00478493145475488,null,46,0.00544198192315855,0.00481582775656533,null,46,0.00543597117609204,0.00479879901878465,null,46,0.005183,0.004564,null,46,0.00453,0.00417,0.002839,0.002135,null,null,46,0.0004,0.0004,46,{"$f":"VLOOKUP(BW52,癌症发生率!$A$4:$AH$109,$BX$4,FALSE)","v":{"$error":"#REF!"}},{"$f":"VLOOKUP(BW52,癌症发生率!$A$4:$AH$109,$BY$4,FALSE)","v":{"$error":"#REF!"}}]
[47,0.561099733333333,0.5995478,null,47,0.608519421195043,0.637931354298784,null,47,0.616416049754631,0.647761423616297,null,47,0.616952204608862,0.648400110346327,null,47,0.621618361218459,0.652792875857094,null,47,0.62155134186168,0.656776172470022,null,47,0.621050153628378,0.654665778308708,null,47,0.5934,0.624,null,47,0.005348368,0.00456573,null,47,0.00596521313294837,0.00504313360698061,null,47,0.0060426224493136,0.00512084471586409,null,47,0.00604787828481589,0.00512589382105518,null,47,0.00609361983014455,0.00516062060353052,null,47,0.00609296285070677,0.0051921103506324,null,47,0.00608804978708506,0.00517542673781548,null,47,0.005817,0.004933,null,47,0.004777,0.004205,0.003202,0.002304,null,null,47,0.0004,0.0004,47,{"$f":"VLOOKUP(BW53,癌症发生率!$A$4:$AH$109,$BX$4,FALSE)","v":{"$error":"#REF!"}},{"$f":"VLOOKUP(BW53,癌症发生率!$A$4:$AH$109,$BY$4,FALSE)","v":{"$error":"#REF!"}}]
[48,0.5761024,0.6081243,null,48,0.620586867519227,0.646529794561986,null,48,0.627962262579027,0.655930209029592,null,48,0.628463027409656,0.656541039121329,null,48,0.632975590411443,0.660850260194932,null,48,0.632912994807614,0.664670974154145,null,48,0.632570079760553,0.662747311924511,null,48,0.6057,0.6328,null,48,0.00601218,0.004893526,null,48,0.00666180586529638,0.00540273317579611,null,48,0.00674097842378873,0.0054812878403105,null,48,0.00674635397757567,0.00548639224853601,null,48,0.00679479492959419,0.005522402300744,null,48,0.00679412298537082,0.00555433013800113,null,48,0.00679044189962542,0.00553825503390773,null,48,0.006502,0.005288,null,48,0.005018,0.004226,0.003583,0.002481,null,null,48,0.0004,0.0004,48,{"$f":"VLOOKUP(BW54,癌症发生率!$A$4:$AH$109,$BX$4,FALSE)","v":{"$error":"#REF!"}},{"$f":"VLOOKUP(BW54,癌症发生率!$A$4:$AH$109,$BY$4,FALSE)","v":{"$error":"#REF!"}}]
[49,0.591312,0.6161963,null,49,0.631729746119224,0.655579826394892,null,49,0.638621683865521,0.664588488370931,null,49,0.63908962355014,0.665173918011159,null,49,0.643459098891005,0.668389858096302,null,49,0.643400606430428,0.672189157642111,null,49,0.643197154393637,0.667937699628718,null,49,0.6169,0.6413,null,49,0.006739112,0.005216232,null,49,0.007408923185561,0.00576149680580323,null,49,0.00748975179569954,0.00584066851778975,null,49,0.00749523978989344,0.00584581350680008,null,49,0.00754648497402565,0.00588302772304151,null,49,0.00754579897475141,0.00591530156353655,null,49,0.00754341289031928,0.00589989270853931,null,49,0.007235,0.005636,null,49,0.005278,0.004254,0.003991,0.002661,null,null,49,0.0004,0.0004,49,{"$f":"VLOOKUP(BW55,癌症发生率!$A$4:$AH$109,$BX$4,FALSE)","v":{"$error":"#REF!"}},{"$f":"VLOOKUP(BW55,癌症发生率!$A$4:$AH$109,$BY$4,FALSE)","v":{"$error":"#REF!"}}]
[50,0.6009282,0.6238647,null,50,0.642684501396631,0.664239825741542,null,50,0.649439368108569,0.672887190143548,null,50,0.649878060559233,0.673449187878264,null,50,0.654394589820534,0.677366139584848,null,50,0.654339753264201,0.679142451221378,null,50,0.654150317887777,0.675113376349954,null,50,0.627,0.6492,null,50,0.00752706,0.005539956,null,50,0.00821857150270843,0.0061246759040186,null,50,0.00830495191944897,0.0062044096121369,null,50,0.00831056186533323,0.00620959155674567,null,50,0.00836831869406865,0.00625124034453393,null,50,0.00836761745083311,0.00626683532888672,null,50,0.00836519497420128,0.0062523103658344,null,50,0.008018,0.005986,null,50,0.006705,0.00514,0.004426,0.002848,null,null,50,0.0004,0.0004,50,{"$f":"VLOOKUP(BW56,癌症发生率!$A$4:$AH$109,$BX$4,FALSE)","v":{"$error":"#REF!"}},{"$f":"VLOOKUP(BW56,癌症发生率!$A$4:$AH$109,$BY$4,FALSE)","v":{"$error":"#REF!"}}]
[51,0.6146766,0.6307259,null,51,0.652541901418687,0.672381387517413,null,51,0.658924473418635,0.68074440190679,null,51,0.659338987319738,0.681287963305497,null,51,0.66373845929483,0.683782672544227,null,51,0.663686645057192,0.68541208638734,null,51,0.663611278893355,0.681800044817499,null,51,0.6364,0.6563,null,51,0.00837392,0.00587386,null,51,0.00907857635946112,0.00650354570769547,null,51,0.00916737474489094,0.00658443617751684,null,51,0.00917314172490409,0.00658969372400319,null,51,0.00923434996636773,0.00663277414806769,null,51,0.00923362909386609,0.00664852756199789,null,51,0.00923258055204552,0.00663474633960992,null,51,0.008854,0.006348,null,51,0.007012,0.005185,0.00481,0.003053,null,null,51,0.0004,0.0004,51,{"$f":"VLOOKUP(BW57,癌症发生率!$A$4:$AH$109,$BX$4,FALSE)","v":{"$error":"#REF!"}},{"$f":"VLOOKUP(BW57,癌症发生率!$A$4:$AH$109,$BY$4,FALSE)","v":{"$error":"#REF!"}}]
[52,0.6271938,0.6368808,null,52,0.662176959469556,0.679106052276721,null,52,0.668210875881301,0.68679264428565,null,52,0.668602746467451,0.687292461428097,null,52,0.672893184373477,0.689577522876773,null,52,0.672844200550208,0.69106795578749,null,52,0.672870918999263,0.687862673887244,null,52,0.6454,0.6628,null,52,0.009276536,0.006227106,null,52,0.0100065260082222,0.00690437889825866,null,52,0.0100977078904096,0.00698610884927657,null,52,0.0101036296657841,0.00699142129462711,null,52,0.0101684648701495,0.00703590170503742,null,52,0.0101677246482277,0.0070517431852797,null,52,0.0101681284056396,0.00703901673930009,null,52,0.009753,0.006731,null,52,0.007303,0.005232,0.005205,0.003266,null,null,52,0.0004,0.0004,52,{"$f":"VLOOKUP(BW58,癌症发生率!$A$4:$AH$109,$BX$4,FALSE)","v":{"$error":"#REF!"}},{"$f":"VLOOKUP(BW58,癌症发生率!$A$4:$AH$109,$BY$4,FALSE)","v":{"$error":"#REF!"}}]
[53,0.6384798,0.6424303,null,53,0.671677665654669,0.684896749764064,null,53,0.677345815114552,0.691918473441272,null,53,0.677713931094235,0.692375261805047,null,53,0.681888058633712,0.694463604504049,null,53,0.681842044136251,0.695826582315643,null,53,0.681959171947969,0.693015897372297,null,53,0.6542,0.6684,null,53,0.010231752,0.006605802,null,53,0.0110053697617738,0.00733632343833724,null,53,0.0110982418101695,0.0074186101786798,null,53,0.0111042733527959,0.00742395916864166,null,53,0.0111726660050363,0.00746984265351854,null,53,0.011171912062208,0.0074858031183872,null,53,0.0111738311894073,0.00747435342957513,null,53,0.010719,0.007143,null,53,0.00776,0.005276,0.005611,0.003487,null,null,53,0.0004,0.0004,53,{"$f":"VLOOKUP(BW59,癌症发生率!$A$4:$AH$109,$BX$4,FALSE)","v":{"$error":"#REF!"}},{"$f":"VLOOKUP(BW59,癌症发生率!$A$4:$AH$109,$BY$4,FALSE)","v":{"$error":"#REF!"}}]
[54,0.6480216,0.6469708,null,54,0.680891640232566,0.689736286563858,null,54,0.686229401413852,0.696135892103185,null,54,0.686576060442599,0.696552318824881,null,54,0.690646181222999,0.698456136375606,null,54,0.690602848844406,0.699689020135184,null,54,0.690799814201649,0.697241273383323,null,54,0.6625,0.6731,null,54,0.011236412,0.00701911,null,54,0.0120782468770009,0.00780782751271067,null,54,0.0121729327176084,0.00789085150611092,null,54,0.0121790820563342,0.00789624872723014,null,54,0.0122512813912946,0.00794369971506494,null,54,0.0122505127239539,0.00795967886798203,null,54,0.0122540066664117,0.00794959559615376,null,54,0.011752,0.007592,null,54,0.008235,0.00533,0.006015,0.00371,null,null,54,0.0004,0.0004,54,{"$f":"VLOOKUP(BW60,癌症发生率!$A$4:$AH$109,$BX$4,FALSE)","v":{"$error":"#REF!"}},{"$f":"VLOOKUP(BW60,癌症发生率!$A$4:$AH$109,$BY$4,FALSE)","v":{"$error":"#REF!"}}]
[55,0.655614,0.6503005,null,55,0.68917182041607,0.692146870643283,null,55,0.694181734129781,0.697629918212566,null,55,0.694507101219675,0.697986577101371,null,55,0.699259596069859,0.700193289662104,null,55,0.699218925183623,0.701251615779758,null,55,0.699485134620809,0.699267674622457,null,55,0.6698,0.6764,null,55,0.012289464,0.007475174,null,55,0.0132134137321337,0.00832023353284631,null,55,0.0133094682437961,0.0084035344546916,null,55,0.0133157064703838,0.008408949901866,null,55,0.0134068255191537,0.00846669924553735,null,55,0.0134060457408302,0.00848276868713361,null,55,0.0134111497444019,0.00847437680517925,null,55,0.012842,0.008081,null,55,0.010457,0.006922,0.006427,0.003941,null,null,55,0.0004,0.0004,55,{"$f":"VLOOKUP(BW61,癌症发生率!$A$4:$AH$109,$BX$4,FALSE)","v":{"$error":"#REF!"}},{"$f":"VLOOKUP(BW61,癌症发生率!$A$4:$AH$109,$BY$4,FALSE)","v":{"$error":"#REF!"}}]
[56,0.6609492,0.6521167,null,56,0.696042129696544,0.693544354114083,null,56,0.700751873476377,0.698327145415611,null,56,0.701057746135141,0.698637780877492,null,56,0.705662987935183,0.700559738235228,null,56,0.705624753852838,0.701481271696554,null,56,0.705951481465609,0.699853341013499,null,56,0.6755,0.6784,null,56,0.0133867,0.00798112,null,56,0.0143958617231538,0.00888163713003911,null,56,0.0144932707984285,0.00896552891871121,null,56,0.0144995969966751,0.00897098297084454,null,56,0.0145948447142005,0.00903057617032587,null,56,0.0145940539394197,0.00904675620176934,null,56,0.0146008114693649,0.00904013979895379,null,56,0.013971,0.008616,null,56,0.010975,0.006998,0.006844,0.004179,null,null,56,0.0004,0.0004,56,{"$f":"VLOOKUP(BW62,癌症发生率!$A$4:$AH$109,$BX$4,FALSE)","v":{"$error":"#REF!"}},{"$f":"VLOOKUP(BW62,癌症发生率!$A$4:$AH$109,$BY$4,FALSE)","v":{"$error":"#REF!"}}]
[57,0.6639246,0.6521167,null,57,0.701324293153474,0.693456520290231,null,57,0.705750812711593,0.697598219395527,null,57,0.706038291472563,0.697866377501048,null,57,0.710500458565049,0.69952551983085,null,57,0.710464523719928,0.700316333549259,null,57,0.710843472995752,0.699000561512173,null,57,0.6795,0.679,null,57,0.014527068,0.00854611,null,57,0.0156056266556005,0.00949217603307902,null,57,0.0157041240444434,0.00957674204810645,null,57,0.0157105209228332,0.0095822400883035,null,57,0.0158098115283349,0.00964384844983036,null,57,0.0158090119185362,0.00966006248745469,null,57,0.0158174441673227,0.00965539496489208,null,57,0.01512,0.009197,null,57,0.011473,0.007077,0.007266,0.004441,null,null,57,0.0004,0.0004,57,{"$f":"VLOOKUP(BW63,癌症发生率!$A$4:$AH$109,$BX$4,FALSE)","v":{"$error":"#REF!"}},{"$f":"VLOOKUP(BW63,癌症发生率!$A$4:$AH$109,$BY$4,FALSE)","v":{"$error":"#REF!"}}]
[58,0.664848,0.6506032,null,58,0.704524052651791,0.691952991455403,null,58,0.70862668977818,0.695518312803216,null,58,0.70889313410816,0.695748053133563,null,58,0.713184264767064,0.697169497792862,null,58,0.713150959225817,0.697847396339624,null,58,0.713568792379648,0.696805711194073,null,58,0.6816,0.6783,null,58,0.01570636,0.009178288,null,58,0.0168213386632266,0.0101551107491204,null,58,0.0169192939399209,0.0102400096738747,null,58,0.0169256556110273,0.0102455295939832,null,58,0.0170281113920469,0.0103091723304497,null,58,0.0170273161831587,0.0103254600489107,null,58,0.0170372924401209,0.0103230862006043,null,58,0.016274,0.00983,null,58,0.011943,0.007143,0.007692,0.004711,null,null,58,0.0004,0.0004,58,{"$f":"VLOOKUP(BW64,癌症发生率!$A$4:$AH$109,$BX$4,FALSE)","v":{"$error":"#REF!"}},{"$f":"VLOOKUP(BW64,癌症发生率!$A$4:$AH$109,$BY$4,FALSE)","v":{"$error":"#REF!"}}]
[59,0.661055125,0.6480962,null,59,0.706364200680807,0.688865972659564,null,59,0.710170637291719,0.691907051878874,null,59,0.710417844983055,0.692101789372268,null,59,0.71454859598078,0.693306665196781,null,59,0.714517695019363,0.693883786466363,null,59,0.714967163549065,0.693076891948481,null,59,0.6822,0.6761,null,59,0.016769655,0.00990764775,null,59,0.0180473878889863,0.010878437721295,null,59,0.0181446411726688,0.0109638238908189,null,59,0.0181509572530851,0.0109693756851468,null,59,0.0182564966695177,0.0110352856331294,null,59,0.0182557071594657,0.0110517388519479,null,59,0.0182671909420408,0.0110518601058627,null,59,0.01743,0.01052,null,59,0.012431,0.007219,0.00812,0.00499,null,null,59,0.0004,0.0004,59,{"$f":"VLOOKUP(BW65,癌症发生率!$A$4:$AH$109,$BX$4,FALSE)","v":{"$error":"#REF!"}},{"$f":"VLOOKUP(BW65,癌症发生率!$A$4:$AH$109,$BY$4,FALSE)","v":{"$error":"#REF!"}}]
[60,0.6671114,0.6513325,null,60,0.708034840097847,0.686078670222379,null,60,0.711703901130634,0.689158949439299,null,60,0.711933522072022,0.689354798577163,null,60,0.715914203239413,0.690566552345538,null,60,0.71588550062174,0.691148259847215,null,60,0.716311165857425,0.69041454024095,null,60,0.6816,0.6724,null,60,0.017844042,0.0107229575,null,60,0.0193120242257322,0.0116780641836404,null,60,0.0194120998032858,0.0117677036596957,null,60,0.0194183628357408,0.0117733202724699,null,60,0.0195269380170539,0.0118419112638136,null,60,0.019526155137997,0.0118585936236156,null,60,0.0195377653821235,0.0118601364056653,null,60,0.018591,0.01128,null,60,0.016619,0.009893,0.00855,0.005314,null,null,60,0.0004,0.0004,60,{"$f":"VLOOKUP(BW66,癌症发生率!$A$4:$AH$109,$BX$4,FALSE)","v":{"$error":"#REF!"}},{"$f":"VLOOKUP(BW66,癌症发生率!$A$4:$AH$109,$BY$4,FALSE)","v":{"$error":"#REF!"}}]
[61,0.65903165,0.646924675,null,61,0.708813488901313,0.681975004466357,null,61,0.712247513375715,0.685004672657452,null,61,0.712462425018099,0.685195976034011,null,61,0.716316095480037,0.686379604361284,null,61,0.716289231524739,0.686946344990948,null,61,0.716741356961074,0.686310569462655,null,61,0.6806,0.6672,null,61,0.018926562,0.01163398675,null,61,0.0205895425735806,0.0125713120487659,null,61,0.0206892937693769,0.0126624198439704,null,61,0.02069553650104,0.012668128580597,null,61,0.0208074775310613,0.0127398305587506,null,61,0.0208066971896034,0.0127567428216104,null,61,0.0208198304835739,0.0127611177351357,null,61,0.01977,0.012127,null,61,0.01715,0.009996,0.008982,0.00573,null,null,61,0.0004,0.0004,61,{"$f":"VLOOKUP(BW67,癌症发生率!$A$4:$AH$109,$BX$4,FALSE)","v":{"$error":"#REF!"}},{"$f":"VLOOKUP(BW67,癌症发生率!$A$4:$AH$109,$BY$4,FALSE)","v":{"$error":"#REF!"}}]
[62,0.6513936,0.6413615,null,62,0.709772420222051,0.676677320465836,null,62,0.712987896994659,0.679649286867095,null,62,0.713189131260576,0.679835947110125,null,62,0.716924790917843,0.680990847536873,null,62,0.716899636634603,0.681539652499001,null,62,0.71690023228031,0.681011091997541,null,62,0.6797,0.6608,null,62,0.020013318,0.012648532,null,62,0.021912409100985,0.0135813849592827,null,62,0.022011678726697,0.0136741126621621,null,62,0.0220178913202471,0.0136799229864425,null,62,0.0221332202627924,0.0137551305056439,null,62,0.0221324436885987,0.0137722136013524,null,62,0.0221470667271906,0.0137798336332684,null,62,0.020984,0.013086,null,62,0.017649,0.010091,0.009362,0.006153,null,null,62,0.0004,0.0004,62,{"$f":"VLOOKUP(BW68,癌症发生率!$A$4:$AH$109,$BX$4,FALSE)","v":{"$error":"#REF!"}},{"$f":"VLOOKUP(BW68,癌症发生率!$A$4:$AH$109,$BY$4,FALSE)","v":{"$error":"#REF!"}}]
[63,0.6502782,0.6332482,null,63,0.712034374095701,0.670262878322012,null,63,0.715093113169399,0.67317255279595,null,63,0.715284538315857,0.673354844563853,null,63,0.717245361599957,0.674482716450904,null,63,0.717221224830601,0.675018706535017,null,63,0.716914511410705,0.674614364703311,null,63,0.6795,0.6533,null,63,0.021300084,0.013746395,null,63,0.0233195187065868,0.0147349861826881,null,63,0.0234196940992963,0.0148291548168072,null,63,0.0234259633784858,0.0148350552006211,null,63,0.0235455802245756,0.0149141199343212,null,63,0.0235447965646769,0.0149314687551326,null,63,0.0235611203482269,0.0149429767548874,null,63,0.022254,0.014186,null,63,0.018297,0.010308,0.00983,0.00661,null,null,63,0.0004,0.0004,63,{"$f":"VLOOKUP(BW69,癌症发生率!$A$4:$AH$109,$BX$4,FALSE)","v":{"$error":"#REF!"}},{"$f":"VLOOKUP(BW69,癌症发生率!$A$4:$AH$109,$BY$4,FALSE)","v":{"$error":"#REF!"}}]
[64,0.6491628,0.6241079,null,64,0.713158418973577,0.663246505171056,null,64,0.715929154356874,0.666086592716049,null,64,0.716102288983034,0.666264754472707,null,64,0.717561947062045,0.667367073238898,null,64,0.717540305233775,0.667891460172029,null,64,0.71730690940993,0.667622168730544,null,64,0.6797,0.6452,null,64,0.022610172,0.014960309,null,64,0.0248185937297921,0.0160709145749877,null,64,0.0249195070684548,0.0161670578924351,null,64,0.0249258225305349,0.0161730817942908,null,64,0.0250498667339183,0.0162567327562851,null,64,0.0250490773011583,0.0162744630227511,null,64,0.0250671002000191,0.0162903915360846,null,64,0.0236,0.01546,null,64,0.018959,0.010534,0.010334,0.007066,null,null,64,0.0004,0.0004,64,{"$f":"VLOOKUP(BW70,癌症发生率!$A$4:$AH$109,$BX$4,FALSE)","v":{"$error":"#REF!"}},{"$f":"VLOOKUP(BW70,癌症发生率!$A$4:$AH$109,$BY$4,FALSE)","v":{"$error":"#REF!"}}]
[65,0.6473376,0.6139406,null,65,0.714220703385707,0.656843708945065,null,65,0.716708120252704,0.659716223136552,null,65,0.716863875697694,0.659897380358149,null,65,0.718177013910833,0.661018232603572,null,65,0.71815754448021,0.66155016498138,null,65,0.717989792620697,0.661421003943831,null,65,0.6802,0.637,null,65,0.02417883,0.016299517,null,65,0.0266943270721181,0.0176151358004292,null,65,0.0267970041627815,0.0177138796780319,null,65,0.0268034300057987,0.0177200663214411,null,65,0.0269334748053896,0.0178091431946372,null,65,0.0269326715750124,0.0178273090502974,null,65,0.0269526159368298,0.0178482792194183,null,65,0.02529,0.016933,null,65,0.024821,0.016606,0.010848,0.007574,null,null,65,0.0004,0.0004,65,{"$f":"VLOOKUP(BW71,癌症发生率!$A$4:$AH$109,$BX$4,FALSE)","v":{"$error":"#REF!"}},{"$f":"VLOOKUP(BW71,癌症发生率!$A$4:$AH$109,$BY$4,FALSE)","v":{"$error":"#REF!"}}]
[66,0.6439914,0.6033625,null,66,0.715079403822014,0.651216801639939,null,66,0.717321054015399,0.654128960370696,null,66,0.717462137245087,0.654314274130022,null,66,0.71847522335981,0.655229201421261,null,66,0.718457587956099,0.655776810180667,null,66,0.718348134830461,0.655814931207279,null,66,0.6804,0.6294,null,66,0.026071968,0.017342949,null,66,0.0290356215797295,0.0189241848122071,null,66,0.0291407651570954,0.0190233868939399,null,66,0.0291473453603136,0.0190296020884247,null,66,0.0292768232811149,0.0191148306191435,null,66,0.0292760007557126,0.0191331967402218,null,66,0.0292980692674491,0.0191594189794763,null,66,0.027409,0.018181,null,66,0.025517,0.016854,0.011412,0.008194,null,null,66,0.0004,0.0004,66,{"$f":"VLOOKUP(BW72,癌症发生率!$A$4:$AH$109,$BX$4,FALSE)","v":{"$error":"#REF!"}},{"$f":"VLOOKUP(BW72,癌症发生率!$A$4:$AH$109,$BY$4,FALSE)","v":{"$error":"#REF!"}}]
[67,0.6390228,0.5928871,null,67,0.715144510887395,0.646543377411252,null,67,0.717151285837312,0.649443014862233,null,67,0.717278580246517,0.649629730508919,null,67,0.71827221102914,0.650668276448857,null,67,0.718256299227989,0.651225447312992,null,67,0.718199328527114,0.651442614947789,null,67,0.6801,0.623,null,67,0.028333188,0.018570214,null,67,0.0319304886212968,0.0205213302922216,null,67,0.0320398900827593,0.0206224865551209,null,67,0.0320467367572479,0.0206288240263475,null,67,0.0321902403183039,0.0207231741788047,null,67,0.0321893844839928,0.0207420855790137,null,67,0.0322140583486592,0.0207741524677458,null,67,0.03002,0.0197,null,67,0.026159,0.017071,0.012168,0.008826,null,null,67,0.0004,0.0004,67,{"$f":"VLOOKUP(BW73,癌症发生率!$A$4:$AH$109,$BX$4,FALSE)","v":{"$error":"#REF!"}},{"$f":"VLOOKUP(BW73,癌症发生率!$A$4:$AH$109,$BY$4,FALSE)","v":{"$error":"#REF!"}}]
[68,0.6323304,0.5831306,null,68,0.714441366034567,0.643586871662493,null,68,0.716241836593263,0.646474278802971,null,68,0.716357196313958,0.64666281696445,null,68,0.71725766767223,0.647711500058781,null,68,0.717243247707143,0.648272950716458,null,68,0.717231914705185,0.648670076184942,null,68,0.679,0.6182,null,68,0.030294264,0.019912503,null,68,0.0345780742548909,0.022337023223429,null,68,0.0346876058179382,0.0224414357263042,null,68,0.0346944606345776,0.0224479776060813,null,68,0.0348452337513841,0.0225486217155847,null,68,0.0348443768993042,0.0225681028788381,null,68,0.0348707938105985,0.0226064854839995,null,68,0.032422,0.021419,null,68,0.026719,0.0173,0.013017,0.009549,null,null,68,0.0004,0.0004,68,{"$f":"VLOOKUP(BW74,癌症发生率!$A$4:$AH$109,$BX$4,FALSE)","v":{"$error":"#REF!"}},{"$f":"VLOOKUP(BW74,癌症发生率!$A$4:$AH$109,$BY$4,FALSE)","v":{"$error":"#REF!"}}]
[69,0.624117,0.5741957,null,69,0.71239541636746,0.641534946294994,null,69,0.714012580297706,0.644373484938773,null,69,0.714117362357765,0.644551340908192,null,69,0.714935266938109,0.645850606030138,null,69,0.714922169180601,0.646412980452221,null,69,0.714949565308599,0.647006909129665,null,69,0.6766,0.6145,null,69,0.032404398,0.021352357,null,69,0.0375034465057067,0.0243313481828334,null,69,0.0376133394794579,0.0244390047843499,null,69,0.0376202169142728,0.0244457502867475,null,69,0.037779113583337,0.0245531879818138,null,69,0.0377782539039852,0.0245732010295041,null,69,0.0378064773393102,0.024618756499795,null,69,0.035071,0.023306,null,69,0.027287,0.017534,0.013851,0.010354,null,null,69,0.0004,0.0004,69,{"$f":"VLOOKUP(BW75,癌症发生率!$A$4:$AH$109,$BX$4,FALSE)","v":{"$error":"#REF!"}},{"$f":"VLOOKUP(BW75,癌症发生率!$A$4:$AH$109,$BY$4,FALSE)","v":{"$error":"#REF!"}}]
[70,0.6145854,0.56215775,null,70,0.709789747898732,0.635166265143533,null,70,0.71129030795227,0.637520392570601,null,70,0.711388627994825,0.637687386223201,null,70,0.712156091557769,0.640448934892186,null,70,0.71214380155245,0.640945418003819,null,70,0.712204734131979,0.642354056281886,null,70,0.6725,0.6109,null,70,0.035177688,0.022691565,null,70,0.041059447010352,0.0261167808383376,null,70,0.0411624405718347,0.0262135779030626,null,70,0.0411694334926143,0.0262204443518425,null,70,0.0413395186184692,0.0263339937723962,null,70,0.0413386445033718,0.0263544081761957,null,70,0.0413723169371259,0.0264123285967338,null,70,0.0385,0.025119,null,70,0.037419,0.026828,0.014673,0.011261,null,null,70,0.0004,0.0004,70,{"$f":"VLOOKUP(BW76,癌症发生率!$A$4:$AH$109,$BX$4,FALSE)","v":{"$error":"#REF!"}},{"$f":"VLOOKUP(BW76,癌症发生率!$A$4:$AH$109,$BY$4,FALSE)","v":{"$error":"#REF!"}}]
[71,0.6039384,0.554097775,null,71,0.705472866948302,0.631728725886992,null,71,0.706865227240224,0.633941986705915,null,71,0.706957395083772,0.634098994489324,null,71,0.707676836001003,0.636793299961532,null,71,0.707665315020559,0.637255561703467,null,71,0.707754503171467,0.638743502254398,null,71,0.6667,0.607,null,71,0.037514958,0.024258767,null,71,0.0443529492599995,0.0283122706079567,null,71,0.0444561188418534,0.0284114626134229,null,71,0.0444631237138316,0.0284184992522036,null,71,0.0446422421279851,0.0285392503000882,null,71,0.0446413665189878,0.0285599675462621,null,71,0.0446768477183559,0.0286266527764887,null,71,0.04148,0.027204,null,71,0.038003,0.027073,0.015468,0.012037,null,null,71,0.0004,0.0004,71,{"$f":"VLOOKUP(BW77,癌症发生率!$A$4:$AH$109,$BX$4,FALSE)","v":{"$error":"#REF!"}},{"$f":"VLOOKUP(BW77,癌症发生率!$A$4:$AH$109,$BY$4,FALSE)","v":{"$error":"#REF!"}}]
[72,0.5922774,0.545731725,null,72,0.69944551737643,0.627470768706407,null,72,0.700737684334432,0.629531201659483,null,72,0.700823980494483,0.629677372012887,null,72,0.701497588405341,0.632297897754221,null,72,0.701486801385335,0.632723361413763,null,72,0.701599132523526,0.634291839791127,null,72,0.6592,0.6025,null,72,0.040035762,0.025953317,null,72,0.0478691755737072,0.0306788944473914,null,72,0.0479721486891002,0.0307796350846225,null,72,0.0479791402216583,0.0307867817838267,null,72,0.0481677005113758,0.0309149070075416,null,72,0.048166826569806,0.0309357091792973,null,72,0.0482039880852504,0.0310123967079951,null,72,0.044662,0.029458,null,72,0.038494,0.027271,0.016331,0.012827,null,null,72,0.0004,0.0004,72,{"$f":"VLOOKUP(BW78,癌症发生率!$A$4:$AH$109,$BX$4,FALSE)","v":{"$error":"#REF!"}},{"$f":"VLOOKUP(BW78,癌症发生率!$A$4:$AH$109,$BY$4,FALSE)","v":{"$error":"#REF!"}}]
[73,0.5797038,0.5366515,null,73,0.692007255236642,0.62258240337548,null,73,0.693206795291737,0.624479645561636,null,73,0.693287533972966,0.624614230899686,null,73,0.693917761486633,0.627155618706261,null,73,0.693907669151479,0.627548167607536,null,73,0.694038889296576,0.629198554226008,null,73,0.6503,0.5976,null,73,0.042022188,0.0273182,null,73,0.0508485126377478,0.0326980778318989,null,73,0.0509521530648987,0.0327977211439048,null,73,0.050959189905709,0.0328047895766692,null,73,0.0511558528611874,0.0329382634683981,null,73,0.0511549732560861,0.0329588801682231,null,73,0.0511941348049432,0.0330455586059864,null,73,0.047245,0.031386,null,73,0.03882,0.027438,0.017049,0.013728,null,null,73,0.0004,0.0004,73,{"$f":"VLOOKUP(BW79,癌症发生率!$A$4:$AH$109,$BX$4,FALSE)","v":{"$error":"#REF!"}},{"$f":"VLOOKUP(BW79,癌症发生率!$A$4:$AH$109,$BY$4,FALSE)","v":{"$error":"#REF!"}}]
[74,0.5664204,0.5260409,null,74,0.683757996849137,0.617461096073028,null,74,0.684871619048244,0.619210315196119,null,74,0.684947149301988,0.619334392824949,null,74,0.685536721032657,0.621801734866844,null,74,0.685527279750939,0.622165544159061,null,74,0.685674303607233,0.623890766690374,null,74,0.6406,0.5924,null,74,0.044110014,0.02876627,null,74,0.0540187905276862,0.0349182379803216,null,74,0.0541232114020498,0.0350171586248906,null,74,0.0541303012326338,0.0350241753781712,null,74,0.0543355588140585,0.0351637068193352,null,74,0.0543346725852355,0.0351842807138297,null,74,0.0543759014913495,0.0352818443195378,null,74,0.049972,0.033501,null,74,0.039149,0.027606,0.017783,0.014644,null,null,74,0.0004,0.0004,74,{"$f":"VLOOKUP(BW80,癌症发生率!$A$4:$AH$109,$BX$4,FALSE)","v":{"$error":"#REF!"}},{"$f":"VLOOKUP(BW80,癌症发生率!$A$4:$AH$109,$BY$4,FALSE)","v":{"$error":"#REF!"}}]
[75,0.5523258,0.513695875,null,75,0.676108689183678,0.61242736301428,null,75,0.677166496943426,0.614047347572901,null,75,0.677238847585543,0.614162254323817,null,75,0.677803600001609,0.616562686296697,null,75,0.677794556171344,0.61689877829963,null,75,0.677959115762642,0.618691251497367,null,75,0.6305,0.5871,null,75,0.046305324,0.030301635,null,75,0.0574166898849701,0.0374059492596305,null,75,0.0575213764320048,0.0375048949695395,null,75,0.0575284843008809,0.0375119132648573,null,75,0.0577426756850508,0.0376585272831089,null,75,0.0577417872014412,0.0376790551712595,null,75,0.057784897971364,0.0377885361734697,null,75,0.052903,0.035859,null,75,0.05376,0.042456,0.01888,0.015638,null,null,75,0.0004,0.0004,75,{"$f":"VLOOKUP(BW81,癌症发生率!$A$4:$AH$109,$BX$4,FALSE)","v":{"$error":"#REF!"}},{"$f":"VLOOKUP(BW81,癌症发生率!$A$4:$AH$109,$BY$4,FALSE)","v":{"$error":"#REF!"}}]
[76,0.5376228,0.499412375,null,76,0.668156647516961,0.607182341379018,null,76,0.669160103345994,0.608678702500798,null,76,0.669229412315128,0.608784834945585,null,76,0.669770422133813,0.611119962652907,null,76,0.669761758512671,0.611432344196163,null,76,0.669942961974669,0.613288559112879,null,76,0.6201,0.5816,null,76,0.048614202,0.031932511,null,76,0.0611459733680085,0.040205994379623,null,76,0.061251608208917,0.0403050794200666,null,76,0.0612587804637978,0.0403121072273459,null,76,0.0614830264302622,0.0404667331528349,null,76,0.0614821298984021,0.0404874182250389,null,76,0.0615274242471606,0.040610331823513,null,76,0.056087,0.038512,null,76,0.054095,0.042625,0.019697,0.016715,null,null,76,0.0004,0.0004,76,{"$f":"VLOOKUP(BW82,癌症发生率!$A$4:$AH$109,$BX$4,FALSE)","v":{"$error":"#REF!"}},{"$f":"VLOOKUP(BW82,癌症发生率!$A$4:$AH$109,$BY$4,FALSE)","v":{"$error":"#REF!"}}]
[77,0.5226156,0.48339445,null,77,0.66040085154138,0.601837380104205,null,77,0.661351744768249,0.603226547460066,null,77,0.661418178108896,0.603325072824276,null,77,0.661936741435216,0.605600488584051,null,77,0.661928437267636,0.605897840500366,null,77,0.662125627238077,0.607810136342036,null,77,0.6099,0.5758,null,77,0.051042732,0.033639385,null,77,0.0652436037205128,0.0433473425281028,null,77,0.0653505087480104,0.0434473973189717,null,77,0.0653577672443423,0.0434544936091844,null,77,0.0655931233916718,0.0436183804490409,null,77,0.0655922160796303,0.0436397972233956,null,77,0.0656398696859835,0.0437775303479974,null,77,0.059566,0.041472,null,77,0.054309,0.042723,0.020596,0.017735,null,null,77,0.0004,0.0004,77,{"$f":"VLOOKUP(BW83,癌症发生率!$A$4:$AH$109,$BX$4,FALSE)","v":{"$error":"#REF!"}},{"$f":"VLOOKUP(BW83,癌症发生率!$A$4:$AH$109,$BY$4,FALSE)","v":{"$error":"#REF!"}}]
[78,0.5074056,0.4660502,null,78,0.653040783120499,0.596874442107437,null,78,0.65394115352595,0.598192808299324,null,78,0.654004884021251,0.598286311756038,null,78,0.654502349560538,0.600515494764951,null,78,0.654494383248625,0.600795496701582,null,78,0.65470695141263,0.602749350798591,null,78,0.6001,0.5697,null,78,0.052902408,0.034804003,null,78,0.0688895854229781,0.0460746837643651,null,78,0.0689974375457072,0.0461764527480768,null,78,0.0690047603466601,0.0461836705846854,null,78,0.0692495644410207,0.0463557484874114,null,78,0.0692486490909016,0.0463773627495971,null,78,0.0692985555713083,0.0465281871161482,null,78,0.062548,0.043977,null,78,0.05456,0.042843,0.021664,0.018972,null,null,78,0.0004,0.0004,78,{"$f":"VLOOKUP(BW84,癌症发生率!$A$4:$AH$109,$BX$4,FALSE)","v":{"$error":"#REF!"}},{"$f":"VLOOKUP(BW84,癌症发生率!$A$4:$AH$109,$BY$4,FALSE)","v":{"$error":"#REF!"}}]
[79,0.4924998,0.4480938,null,79,0.645977105268975,0.591094388023159,null,79,0.646829084918008,0.592335086924555,null,79,0.646890244180716,0.592423079813053,null,79,0.64736763927174,0.594601212052479,null,79,0.647359994363901,0.594866100218423,null,79,0.64758688913305,0.596859934699561,null,79,0.5906,0.5629,null,79,0.05484726,0.03602716,null,79,0.0728502513546414,0.0490695499341521,null,79,0.0729592429307355,0.0491725462371603,null,79,0.0729666430967876,0.049179850944367,null,79,0.0732217050852599,0.049360668036952,null,79,0.0732207800645034,0.04938265766052,null,79,0.0732730638463935,0.0495481753216837,null,79,0.065766,0.046729,null,79,0.054826,0.04297,0.022971,0.020114,null,null,79,0.0004,0.0004,79,{"$f":"VLOOKUP(BW85,癌症发生率!$A$4:$AH$109,$BX$4,FALSE)","v":{"$error":"#REF!"}},{"$f":"VLOOKUP(BW85,癌症发生率!$A$4:$AH$109,$BY$4,FALSE)","v":{"$error":"#REF!"}}]
[80,0.4779996,0.43204974,null,80,0.640191324168568,0.579058891701972,null,80,0.641010789198769,0.579996272287273,null,80,0.641073685407729,0.580079372434369,null,80,0.642627712421352,0.582208090367933,null,80,0.642620119499357,0.582459128403063,null,80,0.642868132315129,0.584572905145104,null,80,0.5814,0.5555,null,80,0.057166278,0.037490635,null,80,0.0765498810736135,0.0520371194847208,null,80,0.0766478673290307,0.052121357178363,null,80,0.0766553880453136,0.0521288249719599,null,80,0.0769226530210684,0.0523201221803191,null,80,0.076921712931533,0.0523426817099566,null,80,0.0769814447743187,0.0525326362283413,null,80,0.06952,0.04992,null,80,0.077162,0.062194,0.024181,0.021401,null,null,80,0.0004,0.0004,80,{"$f":"VLOOKUP(BW86,癌症发生率!$A$4:$AH$109,$BX$4,FALSE)","v":{"$error":"#REF!"}},{"$f":"VLOOKUP(BW86,癌症发生率!$A$4:$AH$109,$BY$4,FALSE)","v":{"$error":"#REF!"}}]
[81,0.4642092,0.41504636,null,81,0.633549501487053,0.572222283720601,null,81,0.634326635439639,0.573109238962781,null,81,0.634386282621239,0.573187868012515,null,81,0.63656817475608,0.575267716900043,null,81,0.63656071885838,0.57550486231429,null,81,0.637049366923032,0.577641565449598,null,81,0.5721,0.5475,null,81,0.059605962,0.039022919,null,81,0.0813492620691092,0.055662857326743,null,81,0.0814490479160294,0.0557491357966754,null,81,0.0814567067559406,0.0557567844285123,null,81,0.0817368668928629,0.055959101491621,null,81,0.081735909537874,0.0559821697847205,null,81,0.0817986531109929,0.0561900173382917,null,81,0.073459,0.053258,null,81,0.077454,0.062335,0.02556,0.022967,null,null,81,0.0004,0.0004,81,{"$f":"VLOOKUP(BW87,癌症发生率!$A$4:$AH$109,$BX$4,FALSE)","v":{"$error":"#REF!"}},{"$f":"VLOOKUP(BW87,癌症发生率!$A$4:$AH$109,$BY$4,FALSE)","v":{"$error":"#REF!"}}]
[82,0.45123,0.399477,null,82,0.626894191415215,0.565045397923463,null,82,0.627629522919954,0.565882603319335,null,82,0.627685961647993,0.565956821382525,null,82,0.629815209334744,0.567986935571178,null,82,0.629808154493739,0.568214666686448,null,82,0.630284627601607,0.570371063520037,null,82,0.5629,0.5391,null,82,0.062172396,0.040637363,null,82,0.0863808743448895,0.0594309110611319,null,82,0.0864821969910115,0.0595189674891726,null,82,0.0864899737845146,0.0595267736709923,null,82,0.0867833666399551,0.0597402990553829,null,82,0.0867823945407672,0.0597642515868206,null,82,0.0868480486243799,0.0599910592537807,null,82,0.077563,0.056702,null,82,0.077523,0.062319,0.026815,0.024452,null,null,82,0.0004,0.0004,82,{"$f":"VLOOKUP(BW88,癌症发生率!$A$4:$AH$109,$BX$4,FALSE)","v":{"$error":"#REF!"}},{"$f":"VLOOKUP(BW88,癌症发生率!$A$4:$AH$109,$BY$4,FALSE)","v":{"$error":"#REF!"}}]
[83,0.4392648,0.38544409,null,83,0.622023972158275,0.558526176186428,null,83,0.622732083987852,0.559328822455482,null,83,0.622786433530491,0.559399976029955,null,83,0.62487357351813,0.56138814498233,null,83,0.6248667798253,0.56160555834516,null,83,0.625339202772856,0.563775797825689,null,83,0.5543,0.5308,null,83,0.06434844,0.042133702,null,83,0.0911220793130509,0.0630635819845161,null,83,0.0912258126500047,0.0631542093372728,null,83,0.0912337744707007,0.063162243337233,null,83,0.0915395256057111,0.063386728887012,null,83,0.0915385303781241,0.0634112771821788,null,83,0.0916077369734055,0.0636563204428919,null,83,0.081201,0.059933,null,83,0.077169,0.062242,0.028369,0.025944,null,null,83,0.0004,0.0004,83,{"$f":"VLOOKUP(BW89,癌症发生率!$A$4:$AH$109,$BX$4,FALSE)","v":{"$error":"#REF!"}},{"$f":"VLOOKUP(BW89,癌症发生率!$A$4:$AH$109,$BY$4,FALSE)","v":{"$error":"#REF!"}}]
[84,0.4282122,0.37264034,null,84,0.617765567400241,0.551970728381966,null,84,0.618444489895644,0.552736978492119,null,84,0.618496599076103,0.552804905126993,null,84,0.62054285131357,0.554749925262124,null,84,0.620536337666012,0.554956668964612,null,84,0.62100231399127,0.557139647841992,null,84,0.5465,0.5224,null,84,0.066642108,0.043707066,null,84,0.0961419565836376,0.066799658152826,null,84,0.0962476163039605,0.0668923899641084,null,84,0.0962557259799115,0.0669006104652252,null,84,0.0965741812389212,0.0671359973679111,null,84,0.0965731675294273,0.0671610175509413,null,84,0.0966456867470659,0.0674252022898518,null,84,0.085051,0.063221,null,84,0.076912,0.062233,0.02979,0.02762,null,null,84,0.0004,0.0004,84,{"$f":"VLOOKUP(BW90,癌症发生率!$A$4:$AH$109,$BX$4,FALSE)","v":{"$error":"#REF!"}},{"$f":"VLOOKUP(BW90,癌症发生率!$A$4:$AH$109,$BY$4,FALSE)","v":{"$error":"#REF!"}}]
[85,0.4178694,0.36034874,null,85,0.614552275701939,0.545269418258855,null,85,0.61520284149515,0.545997864653984,null,85,0.615252774220238,0.546062439383654,null,85,0.617261637549337,0.54796301562041,null,85,0.617255395958701,0.548158898800172,null,85,0.617714392931623,0.550352876599641,null,85,0.5397,0.5138,null,85,0.069057456,0.045361563,null,85,0.101546308768848,0.0706589784684562,null,85,0.101653805815925,0.0707533745164012,null,85,0.101662056511789,0.0707617424612749,null,85,0.101993993539698,0.0710080294726013,null,85,0.101992962202715,0.0710334130809931,null,85,0.102068805137773,0.0713177206634501,null,85,0.089178,0.066581,null,85,0.100526,0.083161,0.031417,0.02918,null,null,85,0.0004,0.0004,85,{"$f":"VLOOKUP(BW91,癌症发生率!$A$4:$AH$109,$BX$4,FALSE)","v":{"$error":"#REF!"}},{"$f":"VLOOKUP(BW91,癌症发生率!$A$4:$AH$109,$BY$4,FALSE)","v":{"$error":"#REF!"}}]
[86,0.408135,0.34836443,null,86,0.611811039328368,0.537992546308506,null,86,0.612430419439932,0.538681927330932,null,86,0.612477958577647,0.53874303920461,null,86,0.614450438116073,0.5405967544148,null,86,0.614444495723859,0.540781625509076,null,86,0.614893374889584,0.542982837590445,null,86,0.5338,0.5046,null,86,0.071600568,0.047100274,null,86,0.107335129303226,0.0746920448358872,null,86,0.107443792338198,0.0747877548575025,null,86,0.10745213252686,0.0747962393074081,null,86,0.107798181114897,0.0750535993406327,null,86,0.107797138591314,0.075079265867348,null,86,0.107875889218873,0.0753848705315818,null,86,0.093649,0.070056,null,86,0.100422,0.083252,0.033044,0.031039,null,null,86,0.0004,0.0004,86,{"$f":"VLOOKUP(BW92,癌症发生率!$A$4:$AH$109,$BX$4,FALSE)","v":{"$error":"#REF!"}},{"$f":"VLOOKUP(BW92,癌症发生率!$A$4:$AH$109,$BY$4,FALSE)","v":{"$error":"#REF!"}}]
[87,0.3986034,0.33627769,null,87,0.610056849968835,0.530357961101084,null,87,0.61064764826838,0.531008015372247,null,87,0.610692993672921,0.53106564073327,null,87,0.612633049436441,0.532871163334294,null,87,0.612627381260874,0.533041338900816,null,87,0.613066882874114,0.535246536483668,null,87,0.5287,0.495,null,87,0.074277528,0.04892628,null,87,0.113678041886192,0.0789697646928392,null,87,0.113788131288262,0.0790665571171949,null,87,0.113796580954547,0.0790751374752438,null,87,0.114158091099639,0.079343977966776,null,87,0.114157034891354,0.0793693169367367,null,87,0.114238931656879,0.0796976686293511,null,87,0.098518,0.073705,null,87,0.100521,0.083458,0.034838,0.033049,null,null,87,0.0004,0.0004,87,{"$f":"VLOOKUP(BW93,癌症发生率!$A$4:$AH$109,$BX$4,FALSE)","v":{"$error":"#REF!"}},{"$f":"VLOOKUP(BW93,癌症发生率!$A$4:$AH$109,$BY$4,FALSE)","v":{"$error":"#REF!"}}]
[88,0.3890718,0.32408852,null,88,0.607093991176796,0.52183775378818,null,88,0.607645919904269,0.522437031262814,null,88,0.607688281961581,0.522490155120409,null,88,0.609591250405096,0.524241239551405,null,88,0.609585955147932,0.524398268282277,null,88,0.610007131756203,0.526608823340672,null,88,0.5241,0.4852,null,88,0.07709442,0.050645478,null,88,0.120282451726402,0.083136971079609,null,88,0.120391804382636,0.0832324454175918,null,88,0.120400197501638,0.0832409088845994,null,88,0.120777229251698,0.0835198842071797,null,88,0.120776180111822,0.0835449013565953,null,88,0.120859627083443,0.0838970775849833,null,88,0.103839,0.0773,null,88,0.100647,0.083691,0.036614,0.035227,null,null,88,0.0004,0.0004,88,{"$f":"VLOOKUP(BW94,癌症发生率!$A$4:$AH$109,$BX$4,FALSE)","v":{"$error":"#REF!"}},{"$f":"VLOOKUP(BW94,癌症发生率!$A$4:$AH$109,$BY$4,FALSE)","v":{"$error":"#REF!"}}]
[89,0.379236,0.31169449,null,89,0.604212842016335,0.513092372324884,null,89,0.604729964403619,0.513644735682394,null,89,0.604769654977994,0.513693700183296,null,89,0.606637670442199,0.515391349525813,null,89,0.606632709120402,0.515536306677322,null,89,0.607037247666912,0.517747952730808,null,89,0.5194,0.4751,null,89,0.080057328,0.052443755,null,89,0.127533812660637,0.0876555302036396,null,89,0.12764296391509,0.0877498946993507,null,89,0.127651341575948,0.0877582596829661,null,89,0.128045631663302,0.0880482822232427,null,89,0.128044584455695,0.0880730463722686,null,89,0.128129972152905,0.0884508789378994,null,89,0.109632,0.081165,null,89,0.106015,0.087756,0.038567,0.036938,null,null,89,0.0004,0.0004,89,{"$f":"VLOOKUP(BW95,癌症发生率!$A$4:$AH$109,$BX$4,FALSE)","v":{"$error":"#REF!"}},{"$f":"VLOOKUP(BW95,癌症发生率!$A$4:$AH$109,$BY$4,FALSE)","v":{"$error":"#REF!"}}]
[90,0.369096,0.299884,null,90,0.58949699074032,0.499279205237723,null,90,0.589918413164512,0.499728373820089,null,90,0.589955734707614,0.499773498528277,null,90,0.591789658060404,0.501417990254529,null,90,0.591784992867517,0.5015518582119,null,90,0.59219863997023,0.503781442547499,null,90,0.5142,0.4645,null,90,0.082718064,0.054049983,null,90,0.13209914479783,0.0912310480597566,null,90,0.132193580465372,0.0913131226186304,null,90,0.132201943771722,0.0913213680540066,null,90,0.132612903811101,0.0916218586455186,null,90,0.132611858397807,0.0916463197364763,null,90,0.132704551709859,0.0920537216741906,null,90,0.115226,0.084876,null,90,0.111654,0.091962,0.040618,0.038708,null,null,90,0.0004,0.0004,90,{"$f":"VLOOKUP(BW96,癌症发生率!$A$4:$AH$109,$BX$4,FALSE)","v":{"$error":"#REF!"}},{"$f":"VLOOKUP(BW96,癌症发生率!$A$4:$AH$109,$BY$4,FALSE)","v":{"$error":"#REF!"}}]
[91,0.3586518,0.2871492,null,91,0.585225203008346,0.489176660320604,null,91,0.585622905250975,0.489590452038579,null,91,0.585658126113791,0.489632021349802,null,91,0.587456752041041,0.49122253731998,null,91,0.587452349433189,0.491346180540567,null,91,0.587851519211769,0.493563029493418,null,91,0.5079,0.4531,null,91,0.08549541,0.055717831,null,91,0.139520730323821,0.0958315539101701,null,91,0.13961554460567,0.095912617269372,null,91,0.139623941442439,0.0959207608543231,null,91,0.140052743212525,0.0962323489354905,null,91,0.140051693607929,0.0962565711090332,null,91,0.140146857757976,0.0966908601852875,null,91,0.121086,0.088764,null,91,0.117458,0.096261,0.04273,0.040518,null,null,91,0.0004,0.0004,91,{"$f":"VLOOKUP(BW97,癌症发生率!$A$4:$AH$109,$BX$4,FALSE)","v":{"$error":"#REF!"}},{"$f":"VLOOKUP(BW97,癌症发生率!$A$4:$AH$109,$BY$4,FALSE)","v":{"$error":"#REF!"}}]
[92,0.3479034,0.2745171,null,92,0.580091496858545,0.477998307680759,null,92,0.580468565111409,0.47837922402197,null,92,0.580501958609818,0.478417488916978,null,92,0.582263820552204,0.479952125131076,null,92,0.582259646364903,0.480065452836937,null,92,0.582646454388136,0.482261243735499,null,92,0.5004,0.4406,null,92,0.08839545,0.057449353,null,92,0.147323996559289,0.100607469498599,null,92,0.147419759386857,0.100687643483662,null,92,0.147428240227675,0.100695697349535,null,92,0.147875694713982,0.101018702397085,null,92,0.14787463460888,0.101042555229882,null,92,0.147972871015021,0.101504717882558,null,92,0.127085,0.092736,null,92,0.12332,0.100582,0.044862,0.042337,null,null,92,0.0004,0.0004,92,{"$f":"VLOOKUP(BW98,癌症发生率!$A$4:$AH$109,$BX$4,FALSE)","v":{"$error":"#REF!"}},{"$f":"VLOOKUP(BW98,癌症发生率!$A$4:$AH$109,$BY$4,FALSE)","v":{"$error":"#REF!"}}]
[93,0.3372564,0.2622958,null,93,0.571876662840986,0.465047265506026,null,93,0.572227781993106,0.465395046492478,null,93,0.572258877416172,0.465429982205104,null,93,0.573975501112758,0.466904100909246,null,93,0.573971614184874,0.467007578234617,null,93,0.574339576691155,0.469172502911534,null,93,0.4913,0.4266,null,93,0.09142224,0.059244549,null,93,0.154913042033087,0.105403082640675,null,93,0.155008155087186,0.105481907290931,null,93,0.15501657838349,0.105489825479206,null,93,0.155481586690601,0.105823934863605,null,93,0.155480533778563,0.105847388026083,null,93,0.155580209451494,0.106338068762338,null,93,0.133086,0.096689,null,93,0.129137,0.104853,0.046978,0.044134,null,null,93,0.0004,0.0004,93,{"$f":"VLOOKUP(BW99,癌症发生率!$A$4:$AH$109,$BX$4,FALSE)","v":{"$error":"#REF!"}},{"$f":"VLOOKUP(BW99,癌症发生率!$A$4:$AH$109,$BY$4,FALSE)","v":{"$error":"#REF!"}}]
[94,0.3231618,0.2478151,null,94,0.555057244189283,0.446812929625306,null,94,0.555379268207358,0.447126452123142,null,94,0.555407786939586,0.447157945910932,null,94,0.557055097582113,0.448556520011353,null,94,0.557051532740584,0.448649812868597,null,94,0.55739613408834,0.450756136651586,null,94,0.4749,0.4078,null,94,0.094581864,0.061107527,null,94,0.162422910198467,0.110166011856389,null,94,0.162517142061428,0.110243313834295,null,94,0.162525487318664,0.110251078929638,null,94,0.163007529470822,0.110595910783672,null,94,0.163006486313668,0.110618913032121,null,94,0.163107324838607,0.111138247356319,null,94,0.138967,0.100547,null,94,0.134823,0.109016,0.049047,0.045887,null,null,94,0.0004,0.0004,94,{"$f":"VLOOKUP(BW100,癌症发生率!$A$4:$AH$109,$BX$4,FALSE)","v":{"$error":"#REF!"}},{"$f":"VLOOKUP(BW100,癌症发生率!$A$4:$AH$109,$BY$4,FALSE)","v":{"$error":"#REF!"}}]
[95,0.3061266,0.2315885,null,95,0.530822983458385,0.421770504665516,null,95,0.531114101754299,0.422048147925145,null,95,0.531139883448402,0.422076037076475,null,95,0.532698029402948,0.423379861541915,null,95,0.532694806691185,0.423462492323337,null,95,0.533012780918456,0.425474423276054,null,95,0.4523,0.3829,null,95,0.097879392,0.063038287,null,95,0.169709612034048,0.114809918858141,null,95,0.169802685571922,0.114885495978297,null,95,0.169810928246863,0.114893087668958,null,95,0.170309083665296,0.115248001015023,null,95,0.170308053330928,0.115270493894931,null,95,0.170409712988533,0.115818160521389,null,95,0.144605,0.104229,null,95,0.140281,0.112999,0.051032,0.047563,null,null,95,0.0004,0.0004,95,{"$f":"VLOOKUP(BW101,癌症发生率!$A$4:$AH$109,$BX$4,FALSE)","v":{"$error":"#REF!"}},{"$f":"VLOOKUP(BW101,癌症发生率!$A$4:$AH$109,$BY$4,FALSE)","v":{"$error":"#REF!"}}]
[96,0.290511,0.2167997,null,96,0.506743086567537,0.397656081566271,null,96,0.50700592362541,0.397901638443558,null,96,0.507029200708026,0.397926304048762,null,96,0.508500896243293,0.399140498572062,null,96,0.508497986607966,0.399213587316045,null,96,0.508790889897552,0.401131712679528,null,96,0.43,0.359,null,96,0.101320908,0.065040937,null,96,0.176677744840213,0.119282424667485,null,96,0.176769383897314,0.119356082838639,null,96,0.176777499533367,0.119363481627017,null,96,0.17729061131556,0.11972769601596,null,96,0.177289596861053,0.119749619992487,null,96,0.177391718614723,0.120324988142954,null,96,0.149921,0.107687,null,96,0.145437,0.116746,0.052908,0.04914,null,null,96,0.0004,0.0004,96,{"$f":"VLOOKUP(BW102,癌症发生率!$A$4:$AH$109,$BX$4,FALSE)","v":{"$error":"#REF!"}},{"$f":"VLOOKUP(BW102,癌症发生率!$A$4:$AH$109,$BY$4,FALSE)","v":{"$error":"#REF!"}}]
[97,0.276315,0.203346,null,97,0.483764513558563,0.375016538014376,null,97,0.484001919070548,0.375233745756373,null,97,0.484022943912938,0.375255563308342,null,97,0.485413458980746,0.376386716448363,null,97,0.485410830875448,0.37645137272427,null,97,0.485680649686117,0.378279344124463,null,97,0.4088,0.3366,null,97,0.104914524,0.067117531,null,97,0.183658925488687,0.123781082560711,null,97,0.183749055376296,0.123852775957453,null,97,0.183757037358963,0.123859977240404,null,97,0.184284939873662,0.124233335068715,null,97,0.184283942125828,0.124254676057751,null,97,0.184386377570048,0.124858031525763,null,97,0.155199,0.111101,null,97,0.150555,0.120444,0.05477,0.050697,null,null,97,0.0004,0.0004,97,{"$f":"VLOOKUP(BW103,癌症发生率!$A$4:$AH$109,$BX$4,FALSE)","v":{"$error":"#REF!"}},{"$f":"VLOOKUP(BW103,癌症发生率!$A$4:$AH$109,$BY$4,FALSE)","v":{"$error":"#REF!"}}]
[98,0.2633358,0.1911247,null,98,0.459886166966158,0.352517847358855,null,98,0.460099804203646,0.352709329175542,null,98,0.460118724106597,0.352728562249384,null,98,0.461427408502901,0.35377904005818,null,98,0.461425043515032,0.353836042285877,null,98,0.461672578911974,0.355571353456189,null,98,0.387,0.3145,null,98,0.108664296,0.069270123,null,98,0.189747606486618,0.127769505311402,null,98,0.189835752548365,0.127838907576216,null,98,0.189843558841656,0.127845878571724,null,98,0.190383517965635,0.128226622499943,null,98,0.190382542178973,0.128247282862217,null,98,0.1904846745162,0.128876243499113,null,98,0.159675,0.11399,null,98,0.154884,0.123562,0.056345,0.05201,null,null,98,0.0004,0.0004,98,{"$f":"VLOOKUP(BW104,癌症发生率!$A$4:$AH$109,$BX$4,FALSE)","v":{"$error":"#REF!"}},{"$f":"VLOOKUP(BW104,癌症发生率!$A$4:$AH$109,$BY$4,FALSE)","v":{"$error":"#REF!"}}]
[99,0.2515734,0.1800331,null,99,0.438195030332905,0.332286007925394,null,99,0.438387811463463,0.332455254823496,null,99,0.438404884331114,0.332472254150454,null,99,0.439639751196104,0.333450607458156,null,99,0.439637617087647,0.333502675849228,null,99,0.439865255322992,0.335153608911768,null,99,0.3672,0.2946,null,99,0.112580364,0.071502821,null,99,0.196087502707631,0.131928598788193,null,99,0.196173770163544,0.131995795436813,null,99,0.196181410085839,0.132002544735105,null,99,0.196733999556213,0.132390983543621,null,99,0.196733044565926,0.132411656426955,null,99,0.196834910196523,0.133067131771805,null,99,0.164318,0.116966,null,99,0.159411,0.12681,0.057992,0.053377,null,null,99,0.0004,0.0004,99,{"$f":"VLOOKUP(BW105,癌症发生率!$A$4:$AH$109,$BX$4,FALSE)","v":{"$error":"#REF!"}},{"$f":"VLOOKUP(BW105,癌症发生率!$A$4:$AH$109,$BY$4,FALSE)","v":{"$error":"#REF!"}}]
[100,0.240455555555556,0.169522276923077,null,100,0.417179665884698,0.311701340864676,null,100,0.417364530584322,0.31186032879144,null,100,0.417380356639788,0.311875827885948,null,100,0.418551191176588,0.31279093663149,null,100,0.418549212919655,0.312838926263497,null,100,0.418761909647856,0.314407763857568,null,100,0.3491,0.2763,null,100,0.116590734,0.07375914,null,100,0.201983791140543,0.135307487597934,null,100,0.202073296157042,0.135376503203928,null,100,0.202080958579118,0.1353832312582,null,100,0.202647835677597,0.135780473903659,null,100,0.202646877874838,0.135801305885067,null,100,0.202749858185333,0.136482327893871,null,100,0.169022,0.11994,null,100,0.163981,0.130039,0.059654,0.054736,null,null,100,0.0004,0.0004,100,{"$f":"VLOOKUP(BW106,癌症发生率!$A$4:$AH$109,$BX$4,FALSE)","v":{"$error":"#REF!"}},{"$f":"VLOOKUP(BW106,癌症发生率!$A$4:$AH$109,$BY$4,FALSE)","v":{"$error":"#REF!"}}]
[101,0.230837333333333,0.160502953846154,null,101,0.3329,0.26,null,101,0.3329,0.26,null,101,0.3329,0.26,null,101,0.3329,0.26,null,101,0.3329,0.26,null,101,0.3329,0.26,null,101,0.3329,0.26,null,101,0.12080796,0.076127402,null,101,0.20728579981686,0.138526797581089,null,101,0.207376336715476,0.138596308839206,null,101,0.207384087475801,0.138603085188395,null,101,0.207966420122256,0.139009923458856,null,101,0.207965451277215,0.139030891462816,null,101,0.20807155651338,0.139739226215076,null,101,0.173944,0.123049,null,101,0.168761,0.133414,0.061393,0.056156,null,null,101,0.0004,0.0004,101,{"$f":"VLOOKUP(BW107,癌症发生率!$A$4:$AH$109,$BX$4,FALSE)","v":{"$error":"#REF!"}},{"$f":"VLOOKUP(BW107,癌症发生率!$A$4:$AH$109,$BY$4,FALSE)","v":{"$error":"#REF!"}}]
[102,0.222231555555556,0.152406061538462,null,102,0.3183,0.2447,null,102,0.3183,0.2447,null,102,0.3183,0.2447,null,102,0.3183,0.2447,null,102,0.3183,0.2447,null,102,0.3183,0.2447,null,102,0.3183,0.2447,null,102,0.125210748,0.078581932,null,102,0.212764724761174,0.141403167324839,null,102,0.21285627430662,0.141472931994555,null,102,0.212864111758481,0.141479733023036,null,102,0.213462439099066,0.141895168564142,null,102,0.213461459417583,0.14191619921217,null,102,0.213570710793957,0.142650653993925,null,102,0.17905,0.125869,null,102,0.173719,0.136477,0.063197,0.057445,null,null,102,0.0004,0.0004,102,{"$f":"VLOOKUP(BW108,癌症发生率!$A$4:$AH$109,$BX$4,FALSE)","v":{"$error":"#REF!"}},{"$f":"VLOOKUP(BW108,癌症发生率!$A$4:$AH$109,$BY$4,FALSE)","v":{"$error":"#REF!"}}]
[103,0.214638222222222,0.1452316,null,103,0.3053,0.231,null,103,0.3053,0.231,null,103,0.3053,0.231,null,103,0.3053,0.231,null,103,0.3053,0.231,null,103,0.3053,0.231,null,103,0.3053,0.231,null,103,0.129809238,0.081127865,null,103,0.218424267346377,0.144344522851815,null,103,0.21851680677705,0.144414504945412,null,103,0.218524728971853,0.144421327144472,null,103,0.219139602796287,0.144845559440138,null,103,0.219138612521936,0.144866641699003,null,103,0.219251025734399,0.14562809634871,null,103,0.184345,0.128762,null,103,0.178861,0.139617,0.065067,0.058767,null,null,103,0.0004,0.0004,103,{"$f":"VLOOKUP(BW109,癌症发生率!$A$4:$AH$109,$BX$4,FALSE)","v":{"$error":"#REF!"}},{"$f":"VLOOKUP(BW109,癌症发生率!$A$4:$AH$109,$BY$4,FALSE)","v":{"$error":"#REF!"}}]
[104,0.208057333333333,0.138774584615385,null,104,0.2939,0.2188,null,104,0.2939,0.2188,null,104,0.2939,0.2188,null,104,0.2939,0.2188,null,104,0.2939,0.2188,null,104,0.2939,0.2188,null,104,0.2939,0.2188,null,104,0.134611542,0.083767255,null,104,0.224272100883495,0.147349358821672,null,104,0.224365606550695,0.147419520082506,null,104,0.224373611463902,0.147426359722189,null,104,0.225005606969107,0.147859584025734,null,104,0.225004606354956,0.14788072950262,null,104,0.225120194541348,0.148670074872894,null,104,0.189837,0.131727,null,104,0.184195,0.142837,0.067007,0.060123,null,null,104,0.0004,0.0004,104,{"$f":"VLOOKUP(BW110,癌症发生率!$A$4:$AH$109,$BX$4,FALSE)","v":{"$error":"#REF!"}},{"$f":"VLOOKUP(BW110,癌症发生率!$A$4:$AH$109,$BY$4,FALSE)","v":{"$error":"#REF!"}}]
[105,0.1396278,0.0864734,null,105,0.23027532957393,0.155840449510362,null,105,0.230369759103988,0.155897667819112,null,105,0.230377843108037,0.155904529712805,null,105,0.231027444978106,0.156347071637208,null,105,0.1955,0.1348,null,105,0.231145185709496,0.157191493894643,null,105,0.1955,0.1348,null,105,0.1396278,0.0864734,null,105,0.23027532957393,0.155840449510362,null,105,0.230369759103988,0.155897667819112,null,105,0.230377843108037,0.155904529712805,null,105,0.231027444978106,0.156347071637208,null,105,0.2310264344776,0.156368276562171,null,105,0.231145185709496,0.157191493894643,null,105,0.1955,0.1348,null,105,0.189726,0.146138,0.06902,0.061512,null,null,105,0.0004,0.0004,105,{"$f":"VLOOKUP(BW111,癌症发生率!$A$4:$AH$109,$BX$4,FALSE)","v":{"$error":"#REF!"}},{"$f":"VLOOKUP(BW111,癌症发生率!$A$4:$AH$109,$BY$4,FALSE)","v":{"$error":"#REF!"}}]
[null,null,null,null,null,null,null,null,null,null,null,null,null,null,null,null,null,null,null,null,null,null,null,null,null,null,null,null,106,0.195533429376627,0.134767895444122,null,null,null,null,null,null,null,null,null,null,null,null,null,null,null,null,null,null,null,null,null,null,null,null,null,null,null,null,null,106,0.1955,0.1348,null,106,null,null,null,null,null,null,106,null,null,106]
["使用说明"]
["1、定价和现价"]
["随便用（目前用精算对应病种的评估表，再乘系数）"]
["2、准备金"]
["32种及以下：行业标准"]
["32种以上：使用精算部对应的发生率和重疾死亡率"]
["3、盈利能力"]
["32种及以下：行业标准*AE"]
["32种以上：行业标准*AE+（对应病种发生率-精算部32种评估利率）*100%"]

{"sheet":"癌症发生率","index":8,"n_rows":109,"n_cols":29,"rows_kept":109,"cut":false,"hidden":true,"merged":[]}
[null,"癌症",null,"肺癌",null,"肝癌",null,"胃癌",null,"乳腺癌",null,"白血病",null,"卵巢癌",null,"子宫内膜癌",null,"宫颈癌",null,"膀胱癌",null,"胰腺癌",null,"直肠癌",null,"肺癌+胃癌+肝癌",null,"肝癌+胃癌"]
[null,2,3,4,5,6,7,8,9,10,11,12,13,14,15,16,17,18,19,20,21,22,23,24,25,26,27,28,29]
["Age","Male","Female","肺癌M","肺癌F","肝癌M","肝癌F","胃癌M","胃癌F","乳腺癌M","乳腺癌F","白血病M","白血病F","卵巢癌M","卵巢癌F","子宫内膜癌M","子宫内膜癌F","宫颈癌M","宫颈癌F","膀胱癌M","膀胱癌F","胰腺癌M","胰腺癌F","直肠癌M","直肠癌F","M","F","M","F"]
[0,0.2711,0.2847,0.0002,0.0002,0.0325,0.0072,0.0022,0.0012,null,null,0.0732,0.064,null,null,null,null,null,null,0.0014,0.0008,null,null,null,null,{"$f":"D4+H4+F4","v":0.0349},{"$f":"E4+I4+G4","v":0.0086},{"$f":"F4+H4","v":0.0347},{"$f":"G4+I4","v":0.0084}]
[1,0.2357,0.2476,0.0003,0.0002,0.0113,0.0065,0.0023,0.0013,null,null,0.1174,0.1236,null,null,null,null,null,null,0.0014,0.0008,null,null,null,null,{"$f":"D5+H5+F5","v":0.0139},{"$f":"E5+I5+G5","v":0.008},{"$f":"F5+H5","v":0.0136},{"$f":"G5+I5","v":0.0078}]
[2,0.17,0.1822,0.0005,0.0004,0.0081,0.0048,0.0023,0.0013,null,null,0.0847,0.091,null,null,null,null,null,null,0.001,0.0011,null,null,null,null,0.0109,0.0065,0.0104,0.0061]
[3,0.1517,0.1504,0.0005,0.0005,0.0073,0.0039,0.0024,0.0013,null,null,0.0756,0.0751,null,null,null,null,null,null,0.0009,0.0013,null,null,null,null,0.0102,0.0057,0.0097,0.0052]
[4,0.1335,0.1361,0.0006,0.0009,0.0064,0.0036,0.0025,0.0014,null,null,0.0664,0.068,null,null,null,null,null,null,0.0008,0.0015,null,null,null,null,0.0095,0.0059,0.0089,0.005]
[5,0.1179,0.1222,0.0005,0.0012,0.0026,0.0014,0.0026,0.0014,null,null,0.0649,0.059,null,null,null,null,null,null,0.0008,0.0014,null,null,null,null,0.0057,0.004,0.0052,0.0028]
[6,0.1129,0.116,0.0005,0.0012,0.0025,0.0013,0.0025,0.0014,null,null,0.0634,0.056,null,null,null,null,null,null,0.0009,0.0013,null,null,null,null,0.0055,0.0039,0.005,0.0027]
[7,0.103,0.1003,0.0006,0.0012,0.002,0.0013,0.0023,0.0013,null,null,0.0618,0.0482,null,null,null,null,null,null,0.001,0.0012,null,null,null,null,0.0049,0.0038,0.0043,0.0026]
[8,0.0983,0.0929,0.0006,0.0012,0.0019,0.0014,0.0024,0.0013,null,null,0.0603,0.0434,null,null,null,null,null,null,0.001,0.0011,null,null,null,null,0.0049,0.0039,0.0043,0.0027]
[9,0.0972,0.0909,0.0006,0.0012,0.0018,0.0018,0.0026,0.0014,null,null,0.0588,0.0403,null,null,null,null,null,null,0.0011,0.001,null,null,null,null,0.005,0.0044,0.0044,0.0032]
[10,0.0992,0.1045,0.0007,0.0013,0.0019,0.0024,0.0028,0.0016,null,null,0.0572,0.0378,null,null,null,null,null,null,0.0011,0.001,null,null,null,null,0.0054,0.0053,0.0047,0.004]
[11,0.1045,0.1211,0.0007,0.0014,0.0022,0.0031,0.0031,0.0017,null,null,0.0557,0.0359,null,null,null,null,null,null,0.0012,0.0011,null,null,null,null,0.006,0.0062,0.0053,0.0048]
[12,0.1133,0.1362,0.0008,0.0016,0.0028,0.0036,0.0033,0.0018,null,null,0.0542,0.0345,null,null,null,null,null,null,0.0013,0.0013,null,null,null,null,0.0069,0.007,0.0061,0.0054]
[13,0.1253,0.1455,0.0008,0.0018,0.0036,0.004,0.0035,0.0018,null,null,0.0526,0.0342,null,null,null,null,null,null,0.0013,0.0014,null,null,null,null,0.0079,0.0076,0.0071,0.0058]
[14,0.1381,0.1509,0.0007,0.0021,0.0047,0.0043,0.0035,0.0017,null,null,0.0511,0.034,null,null,null,null,null,null,0.0014,0.0014,null,null,null,null,0.0089,0.0081,0.0082,0.006]
[15,0.1495,0.1526,0.0006,0.0022,0.0057,0.0044,0.0035,0.0016,null,null,0.0496,0.0312,null,null,null,null,null,null,0.0015,0.0008,null,null,null,null,0.0098,0.0082,0.0092,0.006]
[16,0.1581,0.1546,0.0007,0.0024,0.0068,0.0045,0.0033,0.0017,null,null,0.048,0.0302,null,null,null,null,null,null,0.0015,0.0008,null,null,null,null,0.0108,0.0086,0.0101,0.0062]
[17,0.1626,0.1613,0.0011,0.0025,0.0076,0.0045,0.0032,0.002,null,null,0.0465,0.0295,null,null,null,null,null,null,0.0016,0.0009,null,null,null,null,0.0119,0.009,0.0108,0.0065]
[18,0.1627,0.1757,0.0019,0.0024,0.0081,0.0046,0.0029,0.0026,null,0.0058,0.0453,0.0291,null,0.0225,null,0.0018,null,0.0009,0.0016,0.0008,0.0012,0.0009,0.0033,0.002,0.0129,0.0096,0.011,0.0072]
[19,0.1662,0.1944,0.0028,0.0024,0.0082,0.0048,0.0025,0.0035,null,0.009,0.0431,0.029,null,0.0241,null,0.002,null,0.001,0.0016,0.0007,0.0012,0.001,0.0034,0.0021,0.0135,0.0107,0.0107,0.0083]
[20,0.1696,0.2152,0.0039,0.0023,0.0082,0.0051,0.0022,0.0046,null,0.0126,0.0405,0.029,null,0.0256,null,0.0034,null,0.0056,0.0008,0.0006,0.0013,0.0004,0.0035,0.0022,0.0143,0.012,0.0104,0.0097]
[21,0.1731,0.235,0.0051,0.0023,0.0087,0.0052,0.0023,0.0059,null,0.0169,0.0382,0.029,null,0.0272,null,0.0038,null,0.0061,0.0008,0.0005,0.0013,0.0005,0.0036,0.0024,0.0161,0.0134,0.011,0.0111]
[22,0.1765,0.2507,0.0061,0.0026,0.0098,0.0053,0.0031,0.0073,null,0.0219,0.0366,0.0287,null,0.0288,null,0.004,null,0.0065,0.001,0.0006,0.0013,0.0005,0.0036,0.0025,0.019,0.0152,0.0129,0.0126]
[23,0.1799,0.2671,0.007,0.0032,0.0114,0.0052,0.0045,0.0089,null,0.0277,0.036,0.0281,null,0.0304,null,0.0043,null,0.007,0.0015,0.0007,0.0014,0.0005,0.0037,0.0027,0.0229,0.0173,0.0159,0.0141]
[24,0.1983,0.2903,0.0079,0.0039,0.0133,0.0048,0.0066,0.0106,null,0.0343,0.0364,0.0279,null,0.0319,null,0.0046,null,0.0076,0.0023,0.001,0.0015,0.0006,0.0041,0.0029,0.0278,0.0193,0.0199,0.0154]
[25,0.2207,0.323,0.0087,0.005,0.0161,0.0045,0.0092,0.0126,null,0.042,0.0375,0.0262,null,0.0335,null,0.0065,null,0.014,0.0033,0.0013,0.0016,0.0013,0.0059,0.007,0.034,0.0221,0.0253,0.0171]
[26,0.2443,0.3658,0.0097,0.0064,0.0207,0.0045,0.0122,0.0149,null,0.0512,0.0389,0.0256,null,0.0351,null,0.0077,null,0.0194,0.0042,0.0017,0.0018,0.0017,0.0065,0.0079,0.0426,0.0258,0.0329,0.0194]
[27,0.2701,0.4187,0.011,0.0082,0.0279,0.0052,0.0156,0.0177,null,0.0624,0.0401,0.0256,null,0.0367,null,0.009,null,0.0279,0.005,0.0021,0.0019,0.0021,0.0076,0.0089,0.0545,0.0311,0.0435,0.0229]
[28,0.3014,0.4798,0.012,0.0102,0.0375,0.0067,0.0193,0.0207,null,0.0815,0.0409,0.0261,null,0.0382,null,0.0101,null,0.0399,0.0056,0.0025,0.002,0.0023,0.0103,0.0104,0.0688,0.0376,0.0568,0.0274]
[29,0.34,0.5466,0.0127,0.0122,0.0492,0.009,0.0232,0.024,null,0.1055,0.0413,0.0272,null,0.0398,null,0.0112,null,0.055,0.0058,0.0029,0.0019,0.0025,0.0138,0.0117,0.0851,0.0452,0.0724,0.033]
[30,0.3834,0.6196,0.0138,0.0147,0.0634,0.0119,0.0275,0.0279,null,0.1356,0.0418,0.0286,null,0.0414,null,0.0125,null,0.0726,0.006,0.0033,0.0019,0.0027,0.0179,0.0132,0.1047,0.0545,0.0909,0.0398]
[31,0.429,0.6967,0.0165,0.0183,0.0795,0.0149,0.0319,0.0319,null,0.1704,0.0422,0.0298,null,0.043,null,0.0143,null,0.0917,0.0065,0.0037,0.0021,0.0029,0.0221,0.0152,0.1279,0.0651,0.1114,0.0468]
[32,0.477,0.7795,0.0218,0.0234,0.097,0.0178,0.0364,0.0364,null,0.2118,0.0427,0.0307,null,0.0445,null,0.0171,null,0.1115,0.0074,0.0042,0.0026,0.0031,0.0261,0.0181,0.1552,0.0776,0.1334,0.0542]
[33,0.5263,0.8692,0.0294,0.0301,0.1157,0.0204,0.0404,0.0417,null,0.2518,0.0431,0.0311,null,0.047,null,0.0209,null,0.1314,0.0088,0.0046,0.0036,0.0034,0.0295,0.0219,0.1855,0.0922,0.1561,0.0621]
[34,0.5796,0.9693,0.0392,0.0381,0.1353,0.0226,0.0438,0.0476,null,0.2975,0.0448,0.0311,null,0.0486,null,0.0257,null,0.1513,0.0108,0.0049,0.0049,0.0037,0.0324,0.0267,0.2183,0.1083,0.1791,0.0702]
[35,0.6382,1.0799,0.0513,0.0476,0.1563,0.025,0.0477,0.0541,null,0.3492,0.0468,0.031,null,0.05,null,0.0314,null,0.1719,0.0132,0.0053,0.0065,0.0042,0.0353,0.0323,0.2553,0.1267,0.204,0.0791]
[36,0.7051,1.203,0.0662,0.0584,0.1794,0.028,0.0534,0.0611,null,0.4076,0.0487,0.0311,null,0.0523,null,0.0379,null,0.194,0.0158,0.006,0.0085,0.0048,0.0388,0.0382,0.299,0.1475,0.2328,0.0891]
[37,0.7831,1.3367,0.084,0.0705,0.2053,0.0321,0.0623,0.0683,null,0.4731,0.0503,0.0319,null,0.0563,null,0.0449,null,0.2185,0.0187,0.007,0.0106,0.0058,0.0436,0.0442,0.3516,0.1709,0.2676,0.1004]
[38,0.8751,1.481,0.104,0.0833,0.2353,0.0373,0.0748,0.0755,null,0.5318,0.0515,0.0335,null,0.0622,null,0.0524,null,0.2472,0.0217,0.0085,0.0128,0.0071,0.05,0.0501,0.4141,0.1961,0.3101,0.1128]
[39,0.9813,1.6361,0.1263,0.0964,0.2695,0.0435,0.0909,0.0826,null,0.5949,0.0523,0.0358,null,0.0701,null,0.0601,null,0.2794,0.025,0.0104,0.015,0.0086,0.0582,0.0558,0.4867,0.2225,0.3604,0.1261]
[40,1.1017,1.798,0.1516,0.1106,0.3078,0.0503,0.1107,0.0899,null,0.6614,0.0529,0.0386,null,0.0798,null,0.0683,null,0.3123,0.0285,0.0126,0.0175,0.0105,0.0676,0.0616,0.5701,0.2508,0.4185,0.1402]
[41,1.2363,1.9673,0.1812,0.1269,0.3494,0.058,0.1341,0.099,null,0.7398,0.0538,0.0417,null,0.091,null,0.0771,null,0.3425,0.0323,0.0149,0.0208,0.0127,0.0779,0.0677,0.6647,0.2839,0.4835,0.157]
[42,1.3863,2.1477,0.2164,0.1459,0.3891,0.0657,0.1594,0.1093,null,0.8225,0.0551,0.0446,null,0.1035,null,0.0868,null,0.3667,0.0367,0.0171,0.0253,0.0154,0.0887,0.0743,0.7649,0.3209,0.5485,0.175]
[43,1.5589,2.3383,0.2574,0.1672,0.4326,0.0727,0.1869,0.1205,null,0.9072,0.0567,0.0472,null,0.1173,null,0.0968,null,0.387,0.0415,0.019,0.0312,0.0182,0.1,0.081,0.8769,0.3604,0.6195,0.1932]
[44,1.7594,2.5341,0.304,0.1898,0.4809,0.079,0.217,0.1325,null,0.9939,0.0586,0.0493,null,0.1322,null,0.1067,null,0.4034,0.0468,0.0208,0.0385,0.0212,0.1121,0.0877,1.0019,0.4013,0.6979,0.2115]
[45,1.9892,2.7271,0.3568,0.2132,0.5336,0.0851,0.2515,0.1452,null,1.0808,0.0605,0.0508,null,0.1471,null,0.1169,null,0.4132,0.0528,0.0222,0.0469,0.0244,0.1254,0.0947,1.1419,0.4435,0.7851,0.2303]
[46,2.2499,2.9106,0.4163,0.2367,0.5895,0.0922,0.2927,0.1586,null,1.1661,0.0623,0.0518,null,0.1607,null,0.1277,null,0.4128,0.06,0.0235,0.056,0.0278,0.1407,0.1021,1.2985,0.4875,0.8822,0.2508]
[47,2.5391,3.0785,0.482,0.2597,0.6474,0.1011,0.3423,0.1724,null,1.2484,0.0638,0.0526,null,0.1718,null,0.1394,null,0.4,0.0684,0.0245,0.0654,0.0316,0.1582,0.1104,1.4717,0.5332,0.9897,0.2735]
[48,2.8542,3.2267,0.5501,0.2801,0.6653,0.1047,0.3999,0.1738,null,1.2716,0.0651,0.0535,null,0.1804,null,0.1518,null,0.3764,0.0779,0.0251,0.0747,0.0353,0.1778,0.1188,1.6153,0.5586,1.0652,0.2785]
[49,3.1896,3.3587,0.6191,0.2976,0.6832,0.1084,0.4208,0.1751,null,1.2862,0.0662,0.0547,null,0.1865,null,0.1645,null,0.345,0.0882,0.0253,0.0836,0.0387,0.199,0.1272,1.7231,0.5811,1.104,0.2835]
[50,3.5394,3.4835,0.6919,0.3143,0.7011,0.1121,0.4418,0.1764,null,1.2955,0.0674,0.0563,null,0.1903,null,0.1771,null,0.3095,0.0994,0.0255,0.0924,0.0423,0.2217,0.1362,1.8348,0.6028,1.1429,0.2885]
[51,3.901,3.6107,0.7732,0.3331,0.7498,0.1225,0.5001,0.1877,null,1.3028,0.0689,0.0583,null,0.192,null,0.1893,null,0.2735,0.1116,0.0262,0.1015,0.0464,0.2456,0.1469,2.0231,0.6433,1.2499,0.3102]
[52,4.2759,3.7483,0.8672,0.3567,0.7915,0.1337,0.5604,0.2007,null,1.3061,0.0709,0.0608,null,0.192,null,0.2008,null,0.241,0.1249,0.0277,0.1113,0.0513,0.2707,0.1598,2.2191,0.6911,1.3519,0.3344]
[53,4.6704,3.8947,0.9727,0.3835,0.8283,0.1447,0.6211,0.2154,null,1.3143,0.0736,0.0636,null,0.1936,null,0.213,null,0.2168,0.1393,0.0299,0.1215,0.0566,0.2966,0.1754,2.4221,0.7436,1.4494,0.3601]
[54,5.0723,4.0342,1.088,0.4129,0.8619,0.1553,0.6805,0.2316,null,1.3202,0.0772,0.0666,null,0.1953,null,0.2256,null,0.2035,0.1547,0.0328,0.132,0.0622,0.3235,0.1932,2.6304,0.7998,1.5424,0.3869]
[55,5.4837,4.1671,1.2125,0.4471,0.9024,0.1669,0.748,0.2491,null,1.3238,0.0816,0.0699,null,0.1968,null,0.2374,null,0.1975,0.1708,0.0365,0.1433,0.0685,0.3518,0.2124,2.8629,0.8631,1.6504,0.416]
[56,5.9047,4.3123,1.3466,0.4887,0.9383,0.1813,0.8169,0.2678,null,1.325,0.087,0.0735,null,0.1981,null,0.2461,null,0.1931,0.1871,0.0412,0.1563,0.0763,0.382,0.2318,3.1018,0.9378,1.7552,0.4491]
[57,6.3433,4.4984,1.4901,0.5393,0.9696,0.1995,0.8886,0.2872,null,1.3238,0.0933,0.0774,null,0.1993,null,0.2499,null,0.1858,0.2033,0.047,0.1715,0.0861,0.4148,0.2502,3.3483,1.026,1.8582,0.4867]
[58,6.8174,4.7305,1.6387,0.5954,1.0023,0.2212,0.9641,0.3053,null,1.3203,0.1004,0.0817,null,0.2003,null,0.2489,null,0.1762,0.218,0.0539,0.1894,0.097,0.4519,0.2662,3.6051,1.1219,1.9664,0.5265]
[59,7.3387,4.987,1.7913,0.6541,1.0402,0.2447,1.043,0.3214,null,1.3144,0.1086,0.0861,null,0.2011,null,0.2435,null,0.168,0.2313,0.0614,0.2097,0.1083,0.4928,0.2793,3.8745,1.2202,2.0832,0.5661]
[60,7.9041,5.2408,1.9513,0.7147,1.0802,0.2687,1.1247,0.337,null,1.3062,0.1179,0.0904,null,0.2017,null,0.2345,null,0.1606,0.2456,0.069,0.2315,0.1202,0.535,0.2904,4.1562,1.3204,2.2049,0.6057]
[61,8.5356,5.4905,2.1233,0.7776,1.1164,0.2918,1.2075,0.3546,null,1.2957,0.1285,0.0944,null,0.2022,null,0.223,null,0.1526,0.2638,0.0761,0.2534,0.1332,0.5744,0.3009,4.4472,1.424,2.3239,0.6464]
[62,9.1818,5.7009,2.31,0.8432,1.1439,0.3128,1.2898,0.3764,null,1.2839,0.1405,0.0981,null,0.2024,null,0.2104,null,0.1435,0.2882,0.082,0.2744,0.1477,0.6076,0.3123,4.7437,1.5324,2.4337,0.6892]
[63,9.8231,5.8829,2.509,0.9068,1.1665,0.3308,1.3694,0.4026,null,1.2567,0.1538,0.1015,null,0.2025,null,0.1992,null,0.1346,0.3188,0.0859,0.2928,0.1638,0.6324,0.3255,5.0449,1.6402,2.5359,0.7334]
[64,10.455,6.0587,2.7157,0.9679,1.1889,0.3461,1.4463,0.4325,null,1.2296,0.168,0.1046,null,0.2024,null,0.1903,null,0.1279,0.3545,0.0879,0.3089,0.1808,0.6499,0.3402,5.3509,1.7465,2.6352,0.7786]
[65,11.0889,6.2571,2.9299,1.0337,1.2109,0.3609,1.5246,0.4663,null,1.2029,0.1824,0.1074,null,0.2022,null,0.1832,null,0.1229,0.3944,0.0898,0.3248,0.1982,0.6653,0.3566,{"$f":"D69+H69+F69","v":5.6654},{"$f":"E69+I69+G69","v":1.8609},{"$f":"F69+H69","v":2.7355},{"$f":"G69+I69","v":0.8272}]
[66,11.7557,6.5079,3.1527,1.1133,1.2307,0.3776,1.6098,0.5037,null,1.1765,0.1964,0.1103,null,0.2017,null,0.1762,null,0.1189,0.4373,0.0936,0.3434,0.2155,0.6855,0.3742,5.9932,1.9946,2.8405,0.8813]
[67,12.4971,6.8315,3.3851,1.213,1.2482,0.3982,1.7069,0.5443,null,1.1503,0.2096,0.1133,null,0.2011,null,0.1683,null,0.1152,0.4824,0.1011,0.3672,0.2317,0.7165,0.3924,6.3402,2.1555,2.9551,0.9425]
[68,13.3399,7.2227,3.6232,1.3316,1.2675,0.4219,1.8205,0.5861,null,1.1244,0.2216,0.1166,null,0.2003,null,0.1604,null,0.1125,0.5276,0.1119,0.3973,0.2449,0.7618,0.4098,6.7112,2.3396,3.088,1.008]
[69,14.284,7.6514,3.8652,1.4622,1.2937,0.4473,1.9494,0.6278,null,1.0988,0.233,0.1205,null,0.1993,null,0.154,null,0.1125,0.5726,0.1249,0.4326,0.2548,0.8202,0.4261,7.1083,2.5373,3.2431,1.0751]
[70,15.293,8.0812,4.1164,1.5979,1.3267,0.4742,2.0873,0.6696,null,1.0735,0.2442,0.1252,null,0.1981,null,0.1486,null,0.1125,0.6189,0.1401,0.4713,0.2637,0.8873,0.4431,7.5304,2.7417,3.414,1.1438]
[71,16.3401,8.504,4.3833,1.7317,1.3645,0.5025,2.2246,0.7119,null,1.0485,0.2562,0.1306,null,0.1968,null,0.143,null,0.1125,0.6689,0.1577,0.5107,0.2752,0.9566,0.4632,7.9724,2.9461,3.5891,1.2144]
[72,17.387,8.9221,4.6681,1.8564,1.4059,0.5322,2.3522,0.7548,null,1.0237,0.2693,0.1366,null,0.1953,null,0.1367,null,0.1125,0.7235,0.1773,0.5481,0.2919,1.022,0.4884,8.4262,3.1434,3.7581,1.287]
[73,18.4128,9.3398,4.9671,1.9653,1.4515,0.5621,2.4692,0.7966,null,0.9993,0.2836,0.1429,null,0.1936,null,0.1303,null,0.1125,0.7803,0.1988,0.5795,0.3138,1.0831,0.5196,8.8878,3.324,3.9207,1.3587]
[74,19.4023,9.7468,5.2673,2.0545,1.5037,0.5912,2.5739,0.8351,null,0.9751,0.2984,0.1493,null,0.1918,null,0.1252,null,0.1125,0.8362,0.221,0.6048,0.339,1.1397,0.5552,9.3449,3.4808,4.0776,1.4263]
[75,20.3387,10.131,5.5555,2.128,1.5593,0.6191,2.6624,0.8707,null,0.9512,0.3128,0.1557,null,0.1898,null,0.1213,null,0.1125,0.891,0.2423,0.628,0.3659,1.1884,0.5911,9.7772,3.6178,4.2217,1.4898]
[76,21.2137,10.4843,5.8174,2.1924,1.614,0.646,2.7307,0.9041,null,0.9276,0.3258,0.1619,null,0.1877,null,0.1178,null,0.1125,0.945,0.261,0.6551,0.3925,1.2256,0.6224,10.1621,3.7425,4.3447,1.5501]
[77,22.0232,10.8016,6.0414,2.2529,1.6647,0.6717,2.7765,0.9359,null,0.9042,0.3367,0.1681,null,0.1854,null,0.116,null,0.1125,0.9981,0.2754,0.6906,0.4172,1.2487,0.645,10.4826,3.8605,4.4412,1.6076]
[78,22.7635,11.0855,6.2275,2.3127,1.7122,0.6943,2.8018,0.9669,null,0.8812,0.3455,0.174,null,0.183,null,0.1141,null,0.1125,1.0472,0.2836,0.7356,0.4371,1.2573,0.6571,10.7415,3.9739,4.514,1.6612]
[79,23.4289,11.3458,6.3754,2.3327,1.7591,0.7136,2.8098,0.9958,null,0.8584,0.3523,0.1796,null,0.1805,null,0.1122,null,0.1125,1.0905,0.2922,0.787,0.4603,1.2618,0.6626,10.9443,4.0421,4.5689,1.7094]
[80,24.0138,11.585,6.4841,2.3527,1.8022,0.7318,2.8141,1.0213,null,0.8359,0.3578,0.1846,null,0.1778,null,0.1103,null,0.1125,1.1301,0.3008,0.8393,0.4835,1.2663,0.6681,11.1004,4.1058,4.6163,1.7531]
[81,24.5185,11.8076,6.5527,2.3727,1.8377,0.7521,2.8184,1.0418,null,0.8137,0.3627,0.1887,null,0.1751,null,0.1085,null,0.1125,1.1695,0.3095,0.8866,0.5067,1.2708,0.6737,11.2088,4.1666,4.6561,1.7939]
[82,24.9527,12.0222,6.5827,2.3927,1.8625,0.7769,2.8226,1.056,null,0.7918,0.3675,0.1919,null,0.1722,null,0.1066,null,0.1125,1.211,0.3181,0.9235,0.53,1.2753,0.6792,11.2678,4.2256,4.6851,1.8329]
[83,25.3276,12.235,6.6075,2.4127,1.8765,0.8065,2.8269,1.0636,null,0.7702,0.3726,0.194,null,0.1692,null,0.1047,null,0.1125,1.2545,0.3267,0.9475,0.5532,1.2798,0.6847,11.3109,4.2828,4.7034,1.8701]
[84,25.6528,12.4488,6.6322,2.4326,1.8824,0.8393,2.8312,1.0653,null,0.7488,0.3779,0.1952,null,0.1661,null,0.1028,null,0.1125,1.2973,0.3354,0.9595,0.5764,1.2843,0.6903,11.3458,4.3372,4.7136,1.9046]
[85,25.938,12.6633,6.657,2.4526,1.8836,0.8728,2.8355,1.0643,null,0.7277,0.3833,0.1959,null,0.1629,null,0.101,null,0.1125,1.3375,0.344,0.9636,0.5996,1.2888,0.6958,11.3761,4.3897,4.7191,1.9371]
[86,26.1965,12.878,6.6817,2.4726,1.8836,0.9044,2.8397,1.0639,null,0.707,0.3884,0.1962,null,0.1601,null,0.0991,null,0.1125,1.3731,0.3526,0.9651,0.6228,1.2933,0.7013,11.405,4.4409,4.7233,1.9683]
[87,26.4485,13.0953,6.7064,2.478,1.8858,0.9315,2.844,1.0672,null,0.6864,0.3932,0.1964,null,0.1574,null,0.0972,null,0.1125,1.4019,0.3665,0.968,0.6473,1.2978,0.7139,11.4362,4.4767,4.7298,1.9987]
[88,26.7073,13.3165,6.7312,2.495,1.8917,0.9526,2.8483,1.0753,null,0.6662,0.3973,0.1965,null,0.1546,null,0.0953,null,0.1125,1.4226,0.3765,0.9732,0.6654,1.3023,0.7246,11.4712,4.5229,4.74,2.0279]
[89,26.9769,13.5423,6.7559,2.5229,1.9013,0.9675,2.8526,1.0875,null,0.6463,0.4008,0.1967,null,0.1548,null,0.0935,null,0.1125,1.4345,0.3828,0.9788,0.6768,1.3068,0.7344,11.5098,4.5779,4.7539,2.055]
[90,27.2536,13.7722,6.7807,2.5581,1.9135,0.9785,2.8569,1.1025,null,0.6266,0.4036,0.1968,null,0.1549,null,0.0916,null,0.1125,1.441,0.3869,0.9847,0.6839,1.3113,0.7436,11.5511,4.6391,4.7704,2.081]
[91,27.5328,14.0057,6.8054,2.5956,1.9267,0.9885,2.8611,1.1185,null,0.6266,0.406,0.197,null,0.1551,null,0.0897,null,0.1132,1.4462,0.3904,0.9909,0.6899,1.3159,0.7528,11.5932,4.7026,4.7878,2.107]
[92,27.8144,14.243,6.8301,2.6318,1.9396,0.9998,2.8654,1.1339,null,0.6266,0.4082,0.1971,null,0.1552,null,0.0878,null,0.1149,1.4532,0.3946,0.9972,0.6972,1.3204,0.7623,11.6351,4.7655,4.805,2.1337]
[93,28.0985,14.4841,6.8549,2.666,1.9519,1.0128,2.8746,1.1487,null,0.6266,0.4104,0.1973,null,0.1554,null,0.086,null,0.1164,1.4624,0.3997,1.0035,0.7063,1.3249,0.7722,11.6814,4.8275,4.8265,2.1615]
[94,28.3851,14.7291,6.8796,2.7006,1.9642,1.026,2.8878,1.1636,null,0.6266,0.4127,0.1973,null,0.1555,null,0.0841,null,0.1179,1.4716,0.4049,1.0098,0.7155,1.3294,0.7823,11.7316,4.8902,4.852,2.1896]
[95,28.6741,14.978,6.9044,2.7357,1.9766,1.0393,2.9061,1.1787,null,0.6266,0.4152,0.1975,null,0.1557,null,0.0822,null,0.1194,1.4809,0.4102,1.0162,0.7248,1.3339,0.7924,11.7871,4.9537,4.8827,2.218]
[96,28.9657,15.2309,6.9291,2.7712,1.9891,1.0528,2.9244,1.194,null,0.6266,0.4178,0.1978,null,0.1559,null,0.0803,null,0.121,1.4902,0.4155,1.0226,0.7342,1.3384,0.8027,11.8426,5.018,4.9135,2.2468]
[97,29.2598,15.4878,6.9539,2.8072,2.0016,1.0664,2.9428,1.2095,null,0.6266,0.4205,0.1986,null,0.156,null,0.0785,null,0.1225,1.4996,0.4209,1.029,0.7437,1.3429,0.8131,11.8983,5.0831,4.9444,2.2759]
[98,29.5564,15.7488,6.9786,2.8436,2.0142,1.0803,2.9613,1.2252,null,0.6266,0.4232,0.1998,null,0.1562,null,0.0766,null,0.1241,1.509,0.4263,1.0355,0.7534,1.3474,0.8237,11.9541,5.1491,4.9755,2.3055]
[99,29.8556,16.014,7.0033,2.8806,2.0269,1.0943,2.98,1.2411,null,0.6266,0.4258,0.2012,null,0.1563,null,0.0747,null,0.1257,1.5186,0.4319,1.042,0.7632,1.3519,0.8344,12.0102,5.216,5.0069,2.3354]
[100,30.1574,16.2834,7.0281,2.918,2.0397,1.1085,2.9987,1.2573,null,0.6266,0.4285,0.2038,null,0.1565,null,0.0728,null,0.1274,1.5281,0.4375,1.0486,0.7731,1.3564,0.8452,12.0665,5.2838,5.0384,2.3658]
[101,30.4619,16.5571,7.0528,2.9559,2.0525,1.1229,3.0176,1.2736,null,0.6266,0.4312,0.2065,null,0.1566,null,0.071,null,0.129,1.5377,0.4432,1.0552,0.7831,1.3609,0.8562,12.1229,5.3524,5.0701,2.3965]
[102,30.769,16.8352,7.0776,2.9943,2.0654,1.1375,3.0366,1.2901,null,0.6266,0.4339,0.2091,null,0.1568,null,0.0691,null,0.1307,1.5474,0.4489,1.0618,0.7933,1.3654,0.8673,12.1796,5.4219,5.102,2.4276]
[103,31.0787,17.1177,7.1023,3.0332,2.0784,1.1523,3.0557,1.3069,null,0.6266,0.4367,0.2119,null,0.1569,null,0.0672,null,0.1324,1.5572,0.4548,1.0685,0.8036,1.3699,0.8786,12.2364,5.4924,5.1341,2.4592]
[104,31.3911,17.4047,7.127,3.0725,2.0915,1.1673,3.075,1.3238,null,0.6266,0.4394,0.2146,null,0.1571,null,0.0653,null,0.1341,1.567,0.4607,1.0752,0.814,1.3745,0.89,12.2935,5.5636,5.1665,2.4911]
[105,31.7062,17.6962,7.1518,3.1124,2.1047,1.1824,3.0943,1.341,null,0.6266,0.4422,0.2174,null,0.1573,null,0.0635,null,0.1359,1.5768,0.4666,1.082,0.8246,1.379,0.9016,12.3508,5.6358,5.199,2.5234]

{"sheet":"尊享世家发生率","index":9,"n_rows":109,"n_cols":22,"rows_kept":109,"cut":false,"hidden":true,"merged":[[0,0,0,4],[0,6,0,8],[0,9,0,11],[0,19,0,21],[1,6,2,6],[1,9,2,9]]}
["精算部5月5日提供的60种重疾的评估发生率 from 陈治成",null,null,null,null,null,"26种轻症的独立发生率",null,null,"提前轻症 / 独立轻症",null,null,null,"发生率比较","60CI/42CI",null,"26MCI/10MCI",null,null,"普通全残净再保费率 from 夏伟峰"]
[null,"male","male","female","female",null,"AGE","Male","Female","AGE"]
["age","ix","kx","ix","kx",null,null,"ix","ix",null,"male","female",null,null,"male","female","male","female",null,"age","Male","Female"]
[0,0.000761395651910321,0.0332710705036443,0.000975245624650419,0.0311121303569459,null,0,0.000125519502333487,0.000189211162867237,0,0.88,0.88,null,0,{"$f":"B4/重疾发生率!BF6","v":1.12181996777948},{"$f":"D4/重疾发生率!BG6","v":1.11389633490899},{"$f":"H4/重疾发生率!BN6","v":0.22863297328504},{"$f":"I4/重疾发生率!BO6","v":0.366688300130304},null,0,2.5e-5,1.2e-5]
[1,0.000683516853291182,0.141990953862942,0.000796988652877606,0.241177825832394,null,1,0.000113044971254065,0.000148493423566004,1,0.88,0.88,null,1,{"$f":"B5/重疾发生率!BF7","v":1.13244898280166},{"$f":"D5/重疾发生率!BG7","v":1.130392449204},{"$f":"H5/重疾发生率!BN7","v":0.281907658987693},{"$f":"I5/重疾发生率!BO7","v":0.418291333988744},null,1,2.5e-5,1.2e-5]
[2,0.000607938250453658,0.183807343100914,0.000666795580787232,0.263590673305572,null,2,0.000106076089868146,0.000119597884431643,2,0.88,0.88,null,2,{"$f":"B6/重疾发生率!BF8","v":1.14543409603506},{"$f":"D6/重疾发生率!BG8","v":1.14833489628353},{"$f":"H6/重疾发生率!BN8","v":0.440149750490232},{"$f":"I6/重疾发生率!BO8","v":0.619678157676907},null,2,2.5e-5,1.2e-5]
[3,0.000547753183107461,0.203842434570705,0.00057162980856992,0.287473651497328,null,3,8.89133699913844e-5,9.2442746747597e-5,3,0.88,0.88,null,3,{"$f":"B7/重疾发生率!BF9","v":1.15834329926632},{"$f":"D7/重疾发生率!BG9","v":1.16621510320973},{"$f":"H7/重疾发生率!BN9","v":0.388267991228753},{"$f":"I7/重疾发生率!BO9","v":0.486540772355774},null,3,2.5e-5,1.2e-5]
[4,0.000513102517271109,0.21438023749597,0.000491452879082601,0.314164837822034,null,4,8.62849004826012e-5,7.72277101411382e-5,4,0.88,0.88,null,4,{"$f":"B8/重疾发生率!BF10","v":1.16726982750425},{"$f":"D8/重疾发生率!BG10","v":1.18430279713161},{"$f":"H8/重疾发生率!BN10","v":0.397626269505075},{"$f":"I8/重疾发生率!BO10","v":0.412982407171862},null,4,2.5e-5,1.2e-5]
[5,0.000490480714584107,0.220975835168448,0.000431861558376335,0.335213022872234,null,5,8.50229560481272e-5,6.96165629206747e-5,5,0.88,0.88,null,5,{"$f":"B9/重疾发生率!BF11","v":1.16085681322197},{"$f":"D9/重疾发生率!BG11","v":1.17500030918735},{"$f":"H9/重疾发生率!BN11","v":0.369665026296205},{"$f":"I9/重疾发生率!BO11","v":0.374282596347713},null,5,2.5e-5,1.2e-5]
[6,0.000463236700660727,0.230586067989058,0.000393034829154884,0.351662741875423,null,6,8.04601867403901e-5,6.44701533574073e-5,6,0.88,0.88,null,6,{"$f":"B10/重疾发生率!BF12","v":1.15399962188019},{"$f":"D10/重疾发生率!BG12","v":1.16655747645212},{"$f":"H10/重疾发生率!BN12","v":0.372500864538843},{"$f":"I10/重疾发生率!BO12","v":0.352295919985832},null,6,2.5e-5,1.2e-5]
[7,0.000441909022208628,0.243820733765109,0.000367713081537714,0.370284501688327,null,7,7.94158081596051e-5,6.46770570274869e-5,7,0.88,0.88,null,7,{"$f":"B11/重疾发生率!BF13","v":1.14698770037405},{"$f":"D11/重疾发生率!BG13","v":1.15811547418787},{"$f":"H11/重疾发生率!BN13","v":0.387394186144415},{"$f":"I11/重疾发生率!BO13","v":0.355368445205972},null,7,2.5e-5,1.2e-5]
[8,0.000433277065709917,0.258657245269727,0.000367074567864526,0.381300295062044,null,8,7.62292227691947e-5,6.64493583046179e-5,8,0.88,0.88,null,8,{"$f":"B12/重疾发生率!BF14","v":1.14324523238486},{"$f":"D12/重疾发生率!BG14","v":1.15007374677972},{"$f":"H12/重疾发生率!BN14","v":0.371849867166803},{"$f":"I12/重疾发生率!BO14","v":0.361137816872923},null,8,2.5e-5,1.2e-5]
[9,0.000415800640661907,0.269032138660243,0.000379157651127685,0.394525502768077,null,9,7.31643737493828e-5,7.0565320979444e-5,9,0.88,0.88,null,9,{"$f":"B13/重疾发生率!BF15","v":1.13579609595611},{"$f":"D13/重疾发生率!BG15","v":1.14075063132079},{"$f":"H13/重疾发生率!BN15","v":0.353451080914893},{"$f":"I13/重疾发生率!BO15","v":0.375347452018319},null,9,2.5e-5,1.2e-5]
[10,0.000411567397010929,0.285176377025637,0.000412887357029811,0.414426067677127,null,10,7.11560171659721e-5,7.27343077461481e-5,10,0.88,0.88,null,10,{"$f":"B14/重疾发生率!BF16","v":1.1248680934892},{"$f":"D14/重疾发生率!BG16","v":1.12754035060443},{"$f":"H14/重疾发生率!BN16","v":0.357567925457146},{"$f":"I14/重疾发生率!BO16","v":0.401847004122365},null,10,2.5e-5,1.2e-5]
[11,0.000398066716078314,0.291784216636942,0.000444167004374931,0.423242373822008,null,11,6.99958585871275e-5,7.65897647868895e-5,11,0.88,0.88,null,11,{"$f":"B15/重疾发生率!BF17","v":1.11681667129408},{"$f":"D15/重疾发生率!BG17","v":1.11584767457838},{"$f":"H15/重疾发生率!BN17","v":0.34823810242352},{"$f":"I15/重疾发生率!BO17","v":0.411772928961772},null,11,2.5e-5,1.2e-5]
[12,0.000392599216555152,0.297644987434836,0.000475084484023476,0.42770478480379,null,12,7.01610639961878e-5,8.14587047079875e-5,12,0.88,0.88,null,12,{"$f":"B16/重疾发生率!BF18","v":1.10918690430849},{"$f":"D16/重疾发生率!BG18","v":1.10564529756759},{"$f":"H16/重疾发生率!BN18","v":0.345621004907329},{"$f":"I16/重疾发生率!BO18","v":0.428730024778882},null,12,2.5e-5,1.2e-5]
[13,0.000389755853337794,0.300705674926179,0.000502179101279928,0.425822125110955,null,13,7.09733048650561e-5,8.84712786522424e-5,13,0.88,0.88,null,13,{"$f":"B17/重疾发生率!BF19","v":1.10164744121747},{"$f":"D17/重疾发生率!BG19","v":1.09616619028841},{"$f":"H17/重疾发生率!BN19","v":0.342866207077566},{"$f":"I17/重疾发生率!BO19","v":0.440155615185286},null,13,2.5e-5,1.2e-5]
[14,0.000391835984082401,0.301471203388479,0.000526997000563602,0.420693438930307,null,14,7.28326176562315e-5,9.48664110735552e-5,14,0.88,0.88,null,14,{"$f":"B18/重疾发生率!BF20","v":1.09283555140578},{"$f":"D18/重疾发生率!BG20","v":1.08644444851811},{"$f":"H18/重疾发生率!BN20","v":0.345178282730955},{"$f":"I18/重疾发生率!BO20","v":0.447483071101675},null,14,2.5e-5,1.2e-5]
[15,0.000402724506734007,0.300397022004108,0.000551755628615549,0.413816721461662,null,15,7.65037917472594e-5,0.000103641785393898,15,0.88,0.88,null,15,{"$f":"B19/重疾发生率!BF21","v":1.08473192091274},{"$f":"D19/重疾发生率!BG21","v":1.07808912625584},{"$f":"H19/重疾发生率!BN21","v":0.33554294625991},{"$f":"I19/重疾发生率!BO21","v":0.475421033916963},null,15,2.5e-5,1.2e-5]
[16,0.000413241827019562,0.291248880480254,0.000564461827197293,0.397571857740559,null,16,8.20795218651899e-5,0.00011041080708752,16,0.88,0.88,null,16,{"$f":"B20/重疾发生率!BF22","v":1.07503358855991},{"$f":"D20/重疾发生率!BG22","v":1.06349276820007},{"$f":"H20/重疾发生率!BN22","v":0.355322605477012},{"$f":"I20/重疾发生率!BO22","v":0.486391220649868},null,16,2.5e-5,1.2e-5]
[17,0.000432256357630819,0.281088738775747,0.000578725859006848,0.382138715769932,null,17,8.94811241501596e-5,0.000115720269890796,17,0.88,0.88,null,17,{"$f":"B21/重疾发生率!BF23","v":1.06655038476272},{"$f":"D21/重疾发生率!BG23","v":1.05477966925058},{"$f":"H21/重疾发生率!BN23","v":0.382397966453674},{"$f":"I21/重疾发生率!BO23","v":0.490340126655915},null,17,2.5e-5,1.2e-5]
[18,0.000457871134625702,0.267957302532931,0.000592025565271882,0.365018773254728,null,18,9.95755506291471e-5,0.000116926258760554,18,0.88,0.88,null,18,{"$f":"B22/重疾发生率!BF24","v":1.05825213097257},{"$f":"D22/重疾发生率!BG24","v":1.05092930652814},{"$f":"H22/重疾发生率!BN24","v":0.418384666509021},{"$f":"I22/重疾发生率!BO24","v":0.377181479872755},null,18,2.5e-5,1.2e-5]
[19,0.000489016829460208,0.253617551749461,0.000605274343869587,0.348284945368292,null,19,0.000109670864027955,0.000118350673671364,19,0.88,0.88,null,19,{"$f":"B23/重疾发生率!BF25","v":1.05016884279092},{"$f":"D23/重疾发生率!BG25","v":1.04814904839507},{"$f":"H23/重疾发生率!BN25","v":0.45132042809858},{"$f":"I23/重疾发生率!BO25","v":0.307404347198348},null,19,2.5e-5,1.2e-5]
[20,0.0005249039534797,0.240194144698874,0.000625267709101669,0.337468076061526,null,20,0.000121747962327439,0.000118852374003327,20,0.88,0.88,null,20,{"$f":"B24/重疾发生率!BF26","v":1.04514668254388},{"$f":"D24/重疾发生率!BG26","v":1.04425248663191},{"$f":"H24/重疾发生率!BN26","v":0.455984877630858},{"$f":"I24/重疾发生率!BO26","v":0.25287739149644},null,20,2.5e-5,1.2e-5]
[21,0.00057199511131614,0.23334528599717,0.000648176029744211,0.330255126611419,null,21,0.000147413884166768,0.000138590981949341,21,0.88,0.88,null,21,{"$f":"B25/重疾发生率!BF27","v":1.04480790184594},{"$f":"D25/重疾发生率!BG27","v":1.04385667429623},{"$f":"H25/重疾发生率!BN27","v":0.541962809436647},{"$f":"I25/重疾发生率!BO27","v":0.254295379723561},null,21,2.644e-5,1.2e-5]
[22,0.000622350649447249,0.231792640728619,0.000674835509292484,0.328637366978868,null,22,0.000165214694460517,0.000142199219682913,22,0.88,0.88,null,22,{"$f":"B26/重疾发生率!BF28","v":1.04495707009214},{"$f":"D26/重疾发生率!BG28","v":1.04361301549805},{"$f":"H26/重疾发生率!BN28","v":0.590052480216132},{"$f":"I26/重疾发生率!BO28","v":0.228616108814973},null,22,2.768e-5,1.26e-5]
[23,0.000675338110284035,0.236667160772104,0.00070870680973778,0.333017337181362,null,23,0.000186694336753511,0.000148379896079503,23,0.88,0.88,null,23,{"$f":"B27/重疾发生率!BF29","v":1.04435290733343},{"$f":"D27/重疾发生率!BG29","v":1.04259023325763},{"$f":"H27/重疾发生率!BN29","v":0.643773575012107},{"$f":"I27/重疾发生率!BO29","v":0.205797359333569},null,23,2.864e-5,1.312e-5]
[24,0.000733265396848238,0.248072254388268,0.00075009523616441,0.343308051064339,null,24,0.000204103847879394,0.000156915266453543,24,0.88,0.88,null,24,{"$f":"B28/重疾发生率!BF30","v":1.04372925035618},{"$f":"D28/重疾发生率!BG30","v":1.04197415503694},{"$f":"H28/重疾发生率!BN30","v":0.678085873353468},{"$f":"I28/重疾发生率!BO30","v":0.191360081040906},null,24,2.952e-5,1.352e-5]
[25,0.000794610387679442,0.264000406414095,0.000804082925073866,0.358811197748016,null,25,0.000222380039394951,0.000168871238769012,25,0.88,0.88,null,25,{"$f":"B29/重疾发生率!BF31","v":1.04322683888708},{"$f":"D29/重疾发生率!BG31","v":1.04146840745492},{"$f":"H29/重疾发生率!BN31","v":0.597795804825137},{"$f":"I29/重疾发生率!BO31","v":0.181973317639022},null,25,3.036e-5,1.388e-5]
[26,0.00085990361716671,0.282252110152654,0.000865369118967578,0.376263476301102,null,26,0.000242135998756134,0.000182291848527606,26,0.88,0.88,null,26,{"$f":"B30/重疾发生率!BF32","v":1.04237053729623},{"$f":"D30/重疾发生率!BG32","v":1.04078986353152},{"$f":"H30/重疾发生率!BN32","v":0.627295333565114},{"$f":"I30/重疾发生率!BO32","v":0.177499365654923},null,26,3.116e-5,1.42e-5]
[27,0.000923215208153417,0.299041447858389,0.000934387325712901,0.393690157260449,null,27,0.0002624598570321,0.000197370604015662,27,0.88,0.88,null,27,{"$f":"B31/重疾发生率!BF33","v":1.04197871583302},{"$f":"D31/重疾发生率!BG33","v":1.0404864272769},{"$f":"H31/重疾发生率!BN33","v":0.652885216497761},{"$f":"I31/重疾发生率!BO33","v":0.175129196109727},null,27,3.18e-5,1.448e-5]
[28,0.00098441708698826,0.31306342921524,0.00101085676771417,0.409938304115131,null,28,0.000282264083786727,0.000214472902850705,28,0.88,0.88,null,28,{"$f":"B32/重疾发生率!BF34","v":1.0413050368382},{"$f":"D32/重疾发生率!BG34","v":1.03996412438826},{"$f":"H32/重疾发生率!BN34","v":0.670461006619304},{"$f":"I32/重疾发生率!BO34","v":0.156435377717509},null,28,3.26e-5,1.488e-5]
[29,0.00104440384103343,0.324899649539852,0.00109741682811946,0.425627963171193,null,29,0.000300781394311537,0.000234226134646981,29,0.88,0.88,null,29,{"$f":"B33/重疾发生率!BF35","v":1.04073416253179},{"$f":"D33/重疾发生率!BG35","v":1.03934410642119},{"$f":"H33/重疾发生率!BN35","v":0.678964772712273},{"$f":"I33/重疾发生率!BO35","v":0.14494191500432},null,29,3.368e-5,1.544e-5]
[30,0.00111670859923628,0.338895760358325,0.00119750814524697,0.442119521912862,null,30,0.0003189384643583,0.00025665733338344,30,0.88,0.88,null,30,{"$f":"B34/重疾发生率!BF36","v":1.03975703925749},{"$f":"D34/重疾发生率!BG36","v":1.0386040582775},{"$f":"H34/重疾发生率!BN36","v":0.509486364789617},{"$f":"I34/重疾发生率!BO36","v":0.135653981703721},null,30,3.524e-5,1.624e-5]
[31,0.00118314178150221,0.350134921661605,0.00129818057650839,0.454844901435266,null,31,0.000338573967912121,0.000283600423637771,31,0.88,0.88,null,31,{"$f":"B35/重疾发生率!BF37","v":1.03929401234945},{"$f":"D35/重疾发生率!BG37","v":1.03817368599412},{"$f":"H35/重疾发生率!BN37","v":0.516906821239879},{"$f":"I35/重疾发生率!BO37","v":0.132585518297228},null,31,3.728e-5,1.728e-5]
[32,0.00125902549983316,0.362641389330424,0.00141588125391733,0.46860638454523,null,32,0.000362179337759562,0.000314869497269083,32,0.88,0.88,null,32,{"$f":"B36/重疾发生率!BF38","v":1.03883421405113},{"$f":"D36/重疾发生率!BG38","v":1.03765595230551},{"$f":"H36/重疾发生率!BN38","v":0.525659416196752},{"$f":"I36/重疾发生率!BO38","v":0.131910137104769},null,32,3.976e-5,1.86e-5]
[33,0.00134730892130168,0.376017455402871,0.00154955871095735,0.482362630991564,null,33,0.000392865736190801,0.000352147540686198,33,0.88,0.88,null,33,{"$f":"B37/重疾发生率!BF39","v":1.03816987074739},{"$f":"D37/重疾发生率!BG39","v":1.0369015001869},{"$f":"H37/重疾发生率!BN39","v":0.529468647157414},{"$f":"I37/重疾发生率!BO39","v":0.145275388071864},null,33,4.22e-5,1.984e-5]
[34,0.00145825201111371,0.391437655074801,0.00170200135004655,0.49620529323097,null,34,0.000433322135293246,0.000396094064559537,34,0.88,0.88,null,34,{"$f":"B38/重疾发生率!BF40","v":1.0375461922073},{"$f":"D38/重疾发生率!BG40","v":1.03623272765279},{"$f":"H38/重疾发生率!BN40","v":0.539629060141029},{"$f":"I38/重疾发生率!BO40","v":0.160752461266046},null,34,4.484e-5,2.112e-5]
[35,0.00159677241559775,0.409258717980569,0.00187729886706957,0.511776397492602,null,35,0.000485357664243572,0.000448234099394135,35,0.88,0.88,null,35,{"$f":"B39/重疾发生率!BF41","v":1.03703436874028},{"$f":"D39/重疾发生率!BG41","v":1.03559089702494},{"$f":"H39/重疾发生率!BN41","v":0.408894409640752},{"$f":"I39/重疾发生率!BO41","v":0.171540030384284},null,35,4.776e-5,2.252e-5]
[36,0.00176091443394002,0.428413440670182,0.00205979818489996,0.526470451326974,null,36,0.000549377374385767,0.000508421114202281,36,0.88,0.88,null,36,{"$f":"B40/重疾发生率!BF42","v":1.03589634543131},{"$f":"D40/重疾发生率!BG42","v":1.03460046062037},{"$f":"H40/重疾发生率!BN42","v":0.431900451561138},{"$f":"I40/重疾发生率!BO42","v":0.191207639790252},null,36,5.1e-5,2.404e-5]
[37,0.00195665686458904,0.449624383433278,0.00226253155841344,0.54245404947894,null,37,0.000626701440820702,0.000577806622118768,37,0.88,0.88,null,37,{"$f":"B41/重疾发生率!BF43","v":1.03540336825316},{"$f":"D41/重疾发生率!BG43","v":1.03428059160848},{"$f":"H41/重疾发生率!BN43","v":0.458785827833603},{"$f":"I41/重疾发生率!BO43","v":0.213449066168736},null,37,5.468e-5,2.584e-5]
[38,0.00218412870628515,0.471973930720643,0.00248175203292657,0.559565923591688,null,38,0.000718520067008609,0.000656811476167564,38,0.88,0.88,null,38,{"$f":"B42/重疾发生率!BF44","v":1.03486263673254},{"$f":"D42/重疾发生率!BG44","v":1.03389188582483},{"$f":"H42/重疾发生率!BN44","v":0.488125045522153},{"$f":"I42/重疾发生率!BO44","v":0.229895511434219},null,38,5.888e-5,2.796e-5]
[39,0.00244445892318688,0.494919217598658,0.00269549469215655,0.572595911669952,null,39,0.000825910245012309,0.000746187678828181,39,0.88,0.88,null,39,{"$f":"B43/重疾发生率!BF45","v":1.03432878374142},{"$f":"D43/重疾发生率!BG45","v":1.0338391123003},{"$f":"H43/重疾发生率!BN45","v":0.517812065838438},{"$f":"I43/重疾发生率!BO45","v":0.247820550922677},null,39,6.356e-5,3.044e-5]
[40,0.00274696165359979,0.51819199827608,0.00292891224484627,0.586447355267743,null,40,0.000952084302842184,0.00084645348900297,40,0.88,0.88,null,40,{"$f":"B44/重疾发生率!BF46","v":1.03379701265762},{"$f":"D44/重疾发生率!BG46","v":1.03374686290829},{"$f":"H44/重疾发生率!BN46","v":0.389241333950198},{"$f":"I44/重疾发生率!BO46","v":0.25117314213738},null,40,6.86e-5,3.312e-5]
[41,0.00309464835153531,0.541010845741619,0.00321751201389295,0.606228372229193,null,41,0.00109814545123759,0.000943582989060876,41,0.88,0.88,null,41,{"$f":"B45/重疾发生率!BF47","v":1.03338326755602},{"$f":"D45/重疾发生率!BG47","v":1.03360458663523},{"$f":"H45/重疾发生率!BN47","v":0.420262323474011},{"$f":"I45/重疾发生率!BO47","v":0.267001411731997},null,41,7.38e-5,3.588e-5]
[42,0.00348697104076069,0.561850850861535,0.00351975793889347,0.622870465931257,null,42,0.00126459989193774,0.0010494543326672,42,0.88,0.88,null,42,{"$f":"B46/重疾发生率!BF48","v":1.032916295978},{"$f":"D46/重疾发生率!BG48","v":1.03325442791048},{"$f":"H46/重疾发生率!BN48","v":0.453749512715371},{"$f":"I46/重疾发生率!BO48","v":0.28363630612627},null,42,7.912e-5,3.864e-5]
[43,0.00393184117756257,0.580753175322872,0.00384005422371592,0.636464596714091,null,43,0.00145192154172396,0.00116545644786825,43,0.88,0.88,null,43,{"$f":"B47/重疾发生率!BF49","v":1.03245481109725},{"$f":"D47/重疾发生率!BG49","v":1.03275286249883},{"$f":"H47/重疾发生率!BN49","v":0.489356771730354},{"$f":"I47/重疾发生率!BO49","v":0.313885388599044},null,43,8.452e-5,4.132e-5]
[44,0.00443234976311974,0.597986057722125,0.00418562446042015,0.648040344211111,null,44,0.00166025380836256,0.00129355782003523,44,0.88,0.88,null,44,{"$f":"B48/重疾发生率!BF50","v":1.03202409867061},{"$f":"D48/重疾发生率!BG50","v":1.03235088805207},{"$f":"H48/重疾发生率!BN50","v":0.523904641326147},{"$f":"I48/重疾发生率!BO50","v":0.346519641048816},null,44,9.02e-5,4.412e-5]
[45,0.00499067974875022,0.613419636944212,0.00455644830122408,0.65800857989024,null,45,0.00189287995532343,0.00143643629060716,45,0.88,0.88,null,45,{"$f":"B49/重疾发生率!BF51","v":1.03159301324034},{"$f":"D49/重疾发生率!BG51","v":1.03200467056122},{"$f":"H49/重疾发生率!BN51","v":0.443089877182451},{"$f":"I49/重疾发生率!BO51","v":0.347216894031221},null,45,9.652e-5,4.724e-5]
[46,0.00560562286386821,0.627401470833485,0.00495093840500606,0.666814600691767,null,46,0.00214950823632186,0.00159534287483777,46,0.88,0.88,null,46,{"$f":"B50/重疾发生率!BF52","v":1.0312090852362},{"$f":"D50/重疾发生率!BG52","v":1.03170363785311},{"$f":"H50/重疾发生率!BN52","v":0.474505129430874},{"$f":"I50/重疾发生率!BO52","v":0.382576228977882},null,46,0.0001038,5.096e-5]
[47,0.00627590769230434,0.640213791406807,0.00533817190700291,0.675252233928606,null,47,0.00242991255785396,0.00176057555382762,47,0.88,0.88,null,47,{"$f":"B51/重疾发生率!BF53","v":1.03085682801376},{"$f":"D51/重疾发生率!BG53","v":1.03144574881107},{"$f":"H51/重疾发生率!BN53","v":0.508669155925049},{"$f":"I51/重疾发生率!BO53","v":0.418686219697413},null,47,0.0001122,5.556e-5]
[48,0.00699752003174298,0.651860640299404,0.00571092149428333,0.681653262194171,null,48,0.00272179243815125,0.00192977735706954,48,0.88,0.88,null,48,{"$f":"B52/重疾发生率!BF54","v":1.03049553109776},{"$f":"D52/重疾发生率!BG54","v":1.03117705113225},{"$f":"H52/重疾发生率!BN54","v":0.542405826654294},{"$f":"I52/重疾发生率!BO54","v":0.456643955766574},null,48,0.00012168,6.108e-5]
[49,0.00777096700432033,0.662599798889456,0.0060822055943622,0.685406074557971,null,49,0.0030336461754847,0.00209725827467303,49,0.88,0.88,null,49,{"$f":"B53/重疾发生率!BF55","v":1.03016593646797},{"$f":"D53/重疾发生率!BG55","v":1.03090105105793},{"$f":"H53/重疾发生率!BN55","v":0.574771916537457},{"$f":"I53/重疾发生率!BO55","v":0.493008527191591},null,49,0.00013196,6.76e-5]
[50,0.00861463249780503,0.67365609579992,0.00644430268932726,0.692464315862577,null,50,0.00336534296162225,0.00226333853654756,50,0.88,0.88,null,50,{"$f":"B54/重疾发生率!BF56","v":1.0298184948914},{"$f":"D54/重疾发生率!BG56","v":1.03070742049883},{"$f":"H54/重疾发生率!BN56","v":0.50191543051786},{"$f":"I54/重疾发生率!BO56","v":0.440338236682405},null,50,0.0001428,7.492e-5]
[51,0.0095055386739137,0.683230721942475,0.0068369672339819,0.699022113041164,null,51,0.00370600181581779,0.00243461783045523,51,0.88,0.88,null,51,{"$f":"B55/重疾发生率!BF57","v":1.02956466183311},{"$f":"D55/重疾发生率!BG57","v":1.03047906943551},{"$f":"H55/重疾发生率!BN57","v":0.528522791759525},{"$f":"I55/重疾发生率!BO57","v":0.469550208380951},null,51,0.00015388,8.296e-5]
[52,0.0104662978136006,0.692602133589442,0.00725191374628114,0.704935412517943,null,52,0.00407418677211825,0.0026153171185819,52,0.88,0.88,null,52,{"$f":"B56/重疾发生率!BF58","v":1.02932392236467},{"$f":"D56/重疾发生率!BG58","v":1.03024527641658},{"$f":"H56/重疾发生率!BN58","v":0.55787851186064},{"$f":"I56/重疾发生率!BO58","v":0.499869479851281},null,52,0.00016528,9.18e-5]
[53,0.0114987620297101,0.70179029012374,0.00769860407753996,0.710028541558673,null,53,0.00447159693590877,0.00281454922510226,53,0.88,0.88,null,53,{"$f":"B57/重疾发生率!BF59","v":1.02907962674529},{"$f":"D57/重疾发生率!BG59","v":1.0300026818477},{"$f":"H57/重疾发生率!BN59","v":0.576236718544945},{"$f":"I57/重疾发生率!BO59","v":0.533462703772225},null,53,0.00017736,0.00010184]
[54,0.0126075574788675,0.710730669651952,0.00818626836009533,0.714160071723867,null,54,0.00488824330807385,0.00303212269068183,54,0.88,0.88,null,54,{"$f":"B58/重疾发生率!BF60","v":1.02885185409805},{"$f":"D58/重疾发生率!BG60","v":1.029771673424},{"$f":"H58/重疾发生率!BN60","v":0.593593601466163},{"$f":"I58/重疾发生率!BO60","v":0.568878553598842},null,54,0.00019112,0.00011344]
[55,0.0137946939433387,0.719489643610674,0.00872437895281299,0.715913369409809,null,55,0.00531886076202898,0.00327658484953091,55,0.88,0.88,null,55,{"$f":"B59/重疾发生率!BF61","v":1.02859890510856},{"$f":"D59/重疾发生率!BG61","v":1.02950094778426},{"$f":"H59/重疾发生率!BN61","v":0.508641174527014},{"$f":"I59/重疾发生率!BO61","v":0.473358111749626},null,55,0.00020812,0.00012712]
[56,0.0150153984011932,0.725996823420373,0.00930483370588543,0.71619618739967,null,56,0.00575507073629961,0.00354645750909938,56,0.88,0.88,null,56,{"$f":"B60/重疾发生率!BF62","v":1.0283947870088},{"$f":"D60/重疾发生率!BG62","v":1.02927984664156},{"$f":"H60/重疾发生率!BN62","v":0.524380021530716},{"$f":"I60/重疾发生率!BO62","v":0.506781581751841},null,56,0.00022976,0.00014308]
[57,0.0162690849929409,0.731140426766092,0.0099368601671812,0.715016271239533,null,57,0.00618644101472483,0.00382202200610788,57,0.88,0.88,null,57,{"$f":"B61/重疾发生率!BF63","v":1.02855333774791},{"$f":"D61/重疾发生率!BG63","v":1.0291510811637},{"$f":"H61/重疾发生率!BN63","v":0.539217381218934},{"$f":"I61/重疾发生率!BO63","v":0.540062456705932},null,57,0.00025708,0.00016144]
[58,0.0175263572623659,0.734052175865099,0.010625906721629,0.712859601052288,null,58,0.00660326043065738,0.0041139124843448,58,0.88,0.88,null,58,{"$f":"B62/重疾发生率!BF64","v":1.02870554837066},{"$f":"D62/重疾发生率!BG64","v":1.02933430130681},{"$f":"H62/重疾发生率!BN64","v":0.552897967902318},{"$f":"I62/重疾发生率!BO64","v":0.57593622908369},null,58,0.0002904,0.00018224]
[59,0.0187945260629021,0.735516501460964,0.0113782097177167,0.709043728517385,null,59,0.00699733882232466,0.00442445080579342,59,0.88,0.88,null,59,{"$f":"B63/重疾发生率!BF65","v":1.028867882453},{"$f":"D63/重疾发生率!BG65","v":1.0295289307617},{"$f":"H63/重疾发生率!BN65","v":0.562894282223849},{"$f":"I63/重疾发生率!BO65","v":0.612889708518274},null,59,0.00032916,0.00020532]
[60,0.0201043218722729,0.7354128670794,0.0122127615917347,0.706299522935465,null,60,0.00737574409065135,0.00476659373993135,60,0.88,0.88,null,60,{"$f":"B64/重疾发生率!BF66","v":1.02899801891714},{"$f":"D64/重疾发生率!BG66","v":1.0297319671552},{"$f":"H64/重疾发生率!BN66","v":0.44381395334565},{"$f":"I64/重疾发生率!BO66","v":0.481814792270429},null,60,0.00037252,0.00023072]
[61,0.0214271741344616,0.73480435105616,0.013143308088167,0.702129692982589,null,61,0.00776962996444244,0.00516531394184063,61,0.88,0.88,null,61,{"$f":"B65/重疾发生率!BF67","v":1.02917140230161},{"$f":"D65/重疾发生率!BG67","v":1.02994959853548},{"$f":"H65/重疾发生率!BN67","v":0.453039648072446},{"$f":"I65/重疾发生率!BO67","v":0.516738089419831},null,61,0.0004196,0.0002586]
[62,0.0227971522706658,0.734156290428357,0.0141964478132309,0.696705732625988,null,62,0.00822036606354588,0.00565355531184623,62,0.88,0.88,null,62,{"$f":"B66/重疾发生率!BF68","v":1.0293531216338},{"$f":"D66/重疾发生率!BG68","v":1.0302336146466},{"$f":"H66/重疾发生率!BN68","v":0.465769508954948},{"$f":"I66/重疾发生率!BO68","v":0.560257190748809},null,62,0.00046988,0.0002894]
[63,0.0242565725002177,0.733993166741061,0.0154002624740643,0.690329610713891,null,63,0.00876588358523001,0.00626031247846164,63,0.88,0.88,null,63,{"$f":"B67/重疾发生率!BF69","v":1.02951693899578},{"$f":"D67/重疾发生率!BG69","v":1.03060204982433},{"$f":"H67/重疾发生率!BN69","v":0.479088571089797},{"$f":"I67/重疾发生率!BO69","v":0.607325618787509},null,63,0.00052364,0.00032376]
[64,0.0258060286765924,0.734009159823335,0.0167924867625773,0.683298651065362,null,64,0.00943134739902759,0.00700982599141273,64,0.88,0.88,null,64,{"$f":"B68/重疾发生率!BF70","v":1.02947801982188},{"$f":"D68/重疾发生率!BG70","v":1.03082155670602},{"$f":"H68/重疾发生率!BN70","v":0.497460171898707},{"$f":"I68/重疾发生率!BO70","v":0.66544769236878},null,64,0.00058168,0.00036236]
[65,0.0277454353350137,0.73426522647268,0.0183998702494539,0.677038042178589,null,65,0.0103273043748444,0.00791102363348584,65,0.88,0.88,null,65,{"$f":"B69/重疾发生率!BF71","v":1.02941530425255},{"$f":"D69/重疾发生率!BG71","v":1.03090443752334},{"$f":"H69/重疾发生率!BN71","v":0.416071245108755},{"$f":"I69/重疾发生率!BO71","v":0.476395497620489},null,65,0.00064536,0.00040592]
[66,0.0301566268669447,0.734176064753569,0.0197518086037226,0.67134696527017,null,66,0.0114675783386012,0.0087359096136221,66,0.88,0.88,null,66,{"$f":"B70/重疾发生率!BF72","v":1.02930423816185},{"$f":"D70/重疾发生率!BG72","v":1.03091897645126},{"$f":"H70/重疾发生率!BN72","v":0.4494093482228},{"$f":"I70/重疾发生率!BO72","v":0.518328563760656},null,66,0.0007162,0.00045504]
[67,0.0331519061523182,0.733509553526579,0.0214148484867668,0.666822929262917,null,67,0.012868786013023,0.00970740735249005,67,0.88,0.88,null,67,{"$f":"B71/重疾发生率!BF73","v":1.02911299760833},{"$f":"D71/重疾发生率!BG73","v":1.03084101842498},{"$f":"H71/重疾发生率!BN73","v":0.491944876066478},{"$f":"I71/重疾发生率!BO73","v":0.56864901602074},null,67,0.00079544,0.0005104]
[68,0.0358780538043548,0.731959715540212,0.0233005477261587,0.663843094298289,null,68,0.0142020157103072,0.0107862792046604,68,0.88,0.88,null,68,{"$f":"B72/重疾发生率!BF74","v":1.02888549079861},{"$f":"D72/重疾发生率!BG74","v":1.03070190820464},{"$f":"H72/重疾发生率!BN74","v":0.531532456690265},{"$f":"I72/重疾发生率!BO74","v":0.623484347090197},null,68,0.00088412,0.00057264]
[69,0.0388886123048913,0.729120976628332,0.0253698857178111,0.661909290447353,null,69,0.0156336204516206,0.0119596949936423,69,0.88,0.88,null,69,{"$f":"B73/重疾发生率!BF75","v":1.02862300435634},{"$f":"D73/重疾发生率!BG75","v":1.03051044507558},{"$f":"H73/重疾发生率!BN75","v":0.572932915000572},{"$f":"I73/重疾发生率!BO75","v":0.682085946939791},null,69,0.00098284,0.00064264]
[70,0.0428557156065335,0.72954944698379,0.0274832523390448,0.664887095060677,null,70,0.018039992591708,0.0131059389642828,70,0.88,0.88,null,70,{"$f":"B74/重疾发生率!BF76","v":1.03585486091248},{"$f":"D74/重疾发生率!BG76","v":1.04054635843215},{"$f":"H74/重疾发生率!BN76","v":0.48210782200775},{"$f":"I74/重疾发生率!BO76","v":0.488517182208245},null,70,0.00109236,0.00072132]
[71,0.0462454427724165,0.724433700978063,0.0297698912356153,0.662122711922287,null,71,0.0200194333118133,0.0144060896097619,71,0.88,0.88,null,71,{"$f":"B75/重疾发生率!BF77","v":1.03510979700155},{"$f":"D75/重疾发生率!BG77","v":1.03993615558385},{"$f":"H75/重疾发生率!BN77","v":0.526785604078975},{"$f":"I75/重疾发生率!BO77","v":0.532120179136479},null,71,0.00121408405193114,0.000809632986430972]
[72,0.049863631680437,0.717698542235448,0.0322323365081635,0.658819914656107,null,72,0.0217071696189902,0.0158160097203021,72,0.88,0.88,null,72,{"$f":"B76/重疾发生率!BF78","v":1.03442959101748},{"$f":"D76/重疾发生率!BG78","v":1.03933716609055},{"$f":"H76/重疾发生率!BN78","v":0.563910469657354},{"$f":"I76/重疾发生率!BO78","v":0.579957087026589},null,72,0.00134937207985786,0.000908758349577351]
[73,0.0529268025168511,0.70943515931828,0.0343297618349991,0.653650215783963,null,73,0.0231137810304665,0.0170785663895118,73,0.88,0.88,null,73,{"$f":"B77/重疾发生率!BF79","v":1.0338450433533},{"$f":"D77/重疾发生率!BG79","v":1.0388615984473},{"$f":"H77/重疾发生率!BN79","v":0.595409094035716},{"$f":"I77/重疾发生率!BO79","v":0.622442101811787},null,73,0.0014997355471425,0.00102001987538456]
[74,0.0561999048869191,0.7004879956992,0.0366469430947627,0.648029882371792,null,74,0.0246196679429405,0.0184876424060458,74,0.88,0.88,null,74,{"$f":"B78/重疾发生率!BF80","v":1.03354433389688},{"$f":"D78/重疾发生率!BG80","v":1.03869125329338},{"$f":"H78/重疾发生率!BN80","v":0.628870927557294},{"$f":"I78/重疾发生率!BO80","v":0.669696529958915},null,74,0.00166685434279901,0.00114490342417589]
[75,0.0597308761898799,0.692565884064243,0.0392640371214844,0.642848829973604,null,75,0.0262745430344503,0.0200870251257867,75,0.88,0.88,null,75,{"$f":"B79/重疾发生率!BF81","v":1.03367624218148},{"$f":"D79/重疾发生率!BG81","v":1.03904625840073},{"$f":"H79/重疾发生率!BN81","v":0.488737779658674},{"$f":"I79/重疾发生率!BO81","v":0.473125709576661},null,75,0.00185259554952986,0.00128507677381824]
[76,0.0636358871003567,0.684480266725552,0.0422380037721714,0.637869313302214,null,76,0.0281272401649176,0.0219579801045289,76,0.88,0.88,null,76,{"$f":"B80/重疾发生率!BF82","v":1.03426866765503},{"$f":"D80/重疾发生率!BG82","v":1.04008024252872},{"$f":"H80/重疾发生率!BN82","v":0.519960073295454},{"$f":"I80/重疾发生率!BO82","v":0.515143228258742},null,76,0.00205903430312608,0.00144241189233563]
[77,0.0679572575638958,0.676841921380985,0.0456089446668033,0.633237614273373,null,77,0.0302220514384579,0.0240885101972857,77,0.88,0.88,null,77,{"$f":"B81/重疾发生率!BF83","v":1.0353045776751},{"$f":"D81/重疾发生率!BG83","v":1.0418345736785},{"$f":"H81/重疾发生率!BN83","v":0.556483298135814},{"$f":"I81/重疾发生率!BO83","v":0.563830025917789},null,77,0.00228847697627569,0.0016190099374137]
[78,0.0718450336085637,0.669801730941783,0.048585461049219,0.629400303789255,null,78,0.0321689545415852,0.0260356129769363,78,0.88,0.88,null,78,{"$f":"B82/重疾发生率!BF84","v":1.03674648073487},{"$f":"D82/重疾发生率!BG84","v":1.04421564777358},{"$f":"H82/重疾发生率!BN84","v":0.589606938078908},{"$f":"I82/重疾发生率!BO84","v":0.607698176526767},null,78,0.00254348694579435,0.00181722931665512]
[79,0.0760924267302898,0.663218016987798,0.0518791695772362,0.624939214514033,null,79,0.034335122456759,0.0281937496917515,79,0.88,0.88,null,79,{"$f":"B83/重疾发生率!BF85","v":1.0384774804805},{"$f":"D83/重疾发生率!BG85","v":1.04704500701426},{"$f":"H83/重疾发生率!BN85","v":0.626256200648579},{"$f":"I83/重疾发生率!BO85","v":0.656126360059379},null,79,0.00282691323115453,0.00203971718332141]
[80,0.0803143724180059,0.660570961376472,0.0553867963153043,0.61633344056794,null,80,0.0368724941297313,0.030674906580014,80,0.88,0.88,null,80,{"$f":"B84/重疾发生率!BF86","v":1.04329520774075},{"$f":"D84/重疾发生率!BG86","v":1.05433117947017},{"$f":"H84/重疾发生率!BN86","v":0.477858196129329},{"$f":"I84/重疾发生率!BO86","v":0.493213277486799},null,80,0.00314192232426841,0.00228944478817596]
[81,0.0854733719942972,0.656681522183128,0.0593949582788843,0.610588825297404,null,81,0.039589213231893,0.0332948180122639,81,0.88,0.88,null,81,{"$f":"B85/重疾发生率!BF87","v":1.04492395343378},{"$f":"D85/重疾发生率!BG87","v":1.05703755030537},{"$f":"H85/重疾发生率!BN87","v":0.511131939369084},{"$f":"I85/重疾发生率!BO87","v":0.534127183961882},null,81,0.00349203356613267,0.00256974715954047]
[82,0.0909347301429835,0.653084458976459,0.0636198303297791,0.60487197154922,null,82,0.0424284244403322,0.0359183495298741,82,0.88,0.88,null,82,{"$f":"B86/重疾发生率!BF88","v":1.04705553646091},{"$f":"D86/重疾发生率!BG88","v":1.06048853147679},{"$f":"H86/重疾发生率!BN88","v":0.547301116318153},{"$f":"I86/重疾发生率!BO88","v":0.576362738970043},null,82,0.00388115846556987,0.00288436764147848]
[83,0.0961087137407792,0.649949761213952,0.0677312475834472,0.59986562023082,null,83,0.0450719051413171,0.038417122196595,83,0.88,0.88,null,83,{"$f":"B87/重疾发生率!BF89","v":1.04913315093331},{"$f":"D87/重疾发生率!BG89","v":1.06401449396075},{"$f":"H87/重疾发生率!BN89","v":0.584067503029936},{"$f":"I87/重疾发生率!BO89","v":0.617221846929646},null,83,0.00431364439934262,0.00323750788489863]
[84,0.101618725139289,0.647801012429277,0.0720101895985452,0.595025751669224,null,84,0.047893840545805,0.0409581090163098,84,0.88,0.88,null,84,{"$f":"B88/重疾发生率!BF90","v":1.05145639251587},{"$f":"D88/重疾发生率!BG90","v":1.06800109088265},{"$f":"H88/重疾发生率!BN90","v":0.622709597277473},{"$f":"I88/重疾发生率!BO90","v":0.658141323997072},null,84,0.00479432318186674,0.0036338839591919]
[85,0.107608944222007,0.651242988143011,0.076517998252428,0.59048298316483,null,85,0.0509384219115856,0.0435498824500172,85,0.88,0.88,null,85,{"$f":"B89/重疾发生率!BF91","v":1.05427847496359},{"$f":"D89/重疾发生率!BG91","v":1.07291704699198},{"$f":"H89/重疾发生率!BN91","v":0.506718877818531},{"$f":"I89/重疾发生率!BO91","v":0.523681562872226},null,85,0.0053285650471531,0.00407878933375498]
[86,0.11412084567195,0.650489673351415,0.0813571474465514,0.586000008586414,null,86,0.0542491596010227,0.046222943154237,86,0.88,0.88,null,86,{"$f":"B90/重疾发生率!BF92","v":1.05789019676497},{"$f":"D90/重疾发生率!BG92","v":1.07922381338398},{"$f":"H90/重疾发生率!BN92","v":0.540211901784696},{"$f":"I90/重疾发生率!BO92","v":0.555217209847655},null,86,0.0059223386460748,0.00457816557049692]
[87,0.121361923652137,0.651292647383067,0.0866477420996892,0.581922967768077,null,87,0.0578562534100394,0.0490206387590602,87,0.88,0.88,null,87,{"$f":"B91/重疾发生率!BF93","v":1.06235170350378},{"$f":"D91/重疾发生率!BG93","v":1.08720548028401},{"$f":"H91/重疾发生率!BN93","v":0.575563846460336},{"$f":"I91/重疾发生率!BO93","v":0.587368961142853},null,87,0.00658227772926038,0.00513868167140365]
[88,0.129052876211677,0.651360398525989,0.0920350205355623,0.577689417384927,null,88,0.0617909439586056,0.0517968544113994,88,0.88,0.88,null,88,{"$f":"B92/重疾发生率!BF94","v":1.06779144802902},{"$f":"D92/重疾发生率!BG94","v":1.09699912303066},{"$f":"H92/重疾发生率!BN94","v":0.613937265478411},{"$f":"I92/重疾发生率!BO94","v":0.618905908776325},null,88,0.00731575526060688,0.00576782314082049]
[89,0.137581451629711,0.65181521796986,0.0980143346876244,0.573727720200707,null,89,0.0660624758859393,0.054771242398162,89,0.88,0.88,null,89,{"$f":"B93/重疾发生率!BF95","v":1.07376478210365},{"$f":"D93/重疾发生率!BG95","v":1.10812165876203},{"$f":"H93/重疾发生率!BN95","v":0.623142724010181},{"$f":"I93/重疾发生率!BO95","v":0.624131026917385},null,89,0.00813096578942303,0.00647399195184961]
[90,0.141889408014477,0.633186378083453,0.101334217271701,0.554570714014624,null,90,0.0702551215126103,0.0576566378481998,90,0.88,0.88,null,90,{"$f":"B94/重疾发生率!BF96","v":1.06921282040649},{"$f":"D94/重疾发生率!BG96","v":1.10081608248667},{"$f":"H94/重疾发生率!BN96","v":0.629221716307614},{"$f":"I94/重疾发生率!BO96","v":0.626961547684911},null,90,0.00903701700147953,0.00726661875188]
[91,0.15052347230061,0.631376637938984,0.10738808052692,0.548167492302592,null,91,0.0746330325938373,0.060670510830501,91,0.88,0.88,null,91,{"$f":"B95/重疾发生率!BF97","v":1.07404100747342},{"$f":"D95/重疾发生率!BG97","v":1.11063321105153},{"$f":"H95/重疾发生率!BN97","v":0.635401867849251},{"$f":"I95/重疾发生率!BO97","v":0.63027093870312},null,91,0.0100440314717921,0.00815628880571717]
[92,0.159598790296768,0.628423768851578,0.113741780996343,0.540401016940441,null,92,0.0791034757405589,0.0637421809619336,92,0.88,0.88,null,92,{"$f":"B96/重疾发生率!BF98","v":1.07856791046899},{"$f":"D96/重疾发生率!BG98","v":1.12055659450178},{"$f":"H96/重疾发生率!BN98","v":0.6414488788563},{"$f":"I96/重疾发生率!BO98","v":0.633733480761305},null,92,0.0111632597559388,0.00915488335824086]
[93,0.168511079870462,0.622075150957712,0.120238222167468,0.530501148803297,null,93,0.0835678106586424,0.066793208960854,93,0.88,0.88,null,93,{"$f":"B97/重疾发生率!BF99","v":1.08311385146322},{"$f":"D97/重疾发生率!BG99","v":1.13071662450628},{"$f":"H97/重疾发生率!BN99","v":0.647125228700081},{"$f":"I97/重疾发生率!BO99","v":0.637017624301203},null,93,0.0124072060833882,0.0102757383044415]
[94,0.177428192527035,0.60633566696474,0.126848790289514,0.514475187524875,null,94,0.0879380611249762,0.0697650471655602,94,0.88,0.88,null,94,{"$f":"B98/重疾发生率!BF100","v":1.08780027324094},{"$f":"D98/重疾发生率!BG100","v":1.14136036249362},{"$f":"H98/重疾发生率!BN100","v":0.652248215252414},{"$f":"I98/重疾发生率!BO100","v":0.639952366309167},null,94,0.01378976805711,0.0115338222858206]
[95,0.186213363665757,0.582443929228048,0.133472775068633,0.490331151347319,null,95,0.0921232864825106,0.0725936849978919,95,0.88,0.88,null,95,{"$f":"B99/重疾发生率!BF101","v":1.09273914262321},{"$f":"D99/重疾发生率!BG101","v":1.15243390559621},{"$f":"H99/重疾发生率!BN101","v":0.656705373375657},{"$f":"I99/重疾发生率!BO101","v":0.642427676332462},null,95,0.0153263919202155,0.0129459365915725]
[96,0.19491995103064,0.559064967170544,0.140221432546025,0.467461200367946,null,96,0.0960636422449281,0.07523978595947,96,0.88,0.88,null,96,{"$f":"B100/重疾发生率!BF102","v":1.0988108833535},{"$f":"D100/重疾发生率!BG102","v":1.16535588085355},{"$f":"H100/重疾发生率!BN102","v":0.660517215322979},{"$f":"I100/重疾发生率!BO102","v":0.64447420861931},null,96,0.0170342451242996,0.0145309395341607]
[97,0.203888314824115,0.537049485499894,0.147286561071536,0.446230515086983,null,97,0.099974223566675,0.0778481565686126,97,0.88,0.88,null,97,{"$f":"B101/重疾发生率!BF103","v":1.10576669226369},{"$f":"D101/重疾发生率!BG103","v":1.17963225330158},{"$f":"H101/重疾发生率!BN103","v":0.664037883608482},{"$f":"I101/重疾发生率!BO103","v":0.646343168348881},null,97,0.0189324081274469,0.01630999829575]
[98,0.212151476041868,0.514185822628483,0.15406490847682,0.425067231476094,null,98,0.103270911191092,0.0800285228989945,98,0.88,0.88,null,98,{"$f":"B102/重疾发生率!BF104","v":1.11374564164124},{"$f":"D102/重疾发生率!BG104","v":1.19544847284349},{"$f":"H102/重疾发生率!BN104","v":0.666762939949201},{"$f":"I102/重疾发生率!BO104","v":0.64767908336701},null,98,0.0210420875647083,0.0183068716088174]
[99,0.220832403682522,0.493492244502866,0.161075196309613,0.405696978889695,null,99,0.106698634217198,0.0822806919421683,99,0.88,0.88,null,99,{"$f":"B103/重疾发生率!BF105","v":1.12191685642572},{"$f":"D103/重疾发生率!BG105","v":1.21048071123858},{"$f":"H103/重疾发生率!BN105","v":0.669330436526952},{"$f":"I103/重疾发生率!BO105","v":0.648850184860565},null,99,0.0233868531726271,0.0205482270460478]
[100,0.229330500668229,0.473661877053156,0.167797752533691,0.386547599008327,null,100,0.110170052808225,0.0845275394120724,100,0.88,0.88,null,100,{"$f":"B104/重疾发生率!BF106","v":1.13110067114621},{"$f":"D104/重疾发生率!BG106","v":1.22944673587463},{"$f":"H104/重疾发生率!BN106","v":0.67184645055357},{"$f":"I104/重疾发生率!BO106","v":0.650016836580352},null,100,0.0259929011147805,0.0230639971568144]
[101,0.237081101884297,0.406300445173304,0.174164185521772,0.368005333124697,null,101,0.113806945918262,0.0868815578591492,101,0.88,0.88,null,101,{"$f":"B105/重疾发生率!BF107","v":1.13942100427865},{"$f":"D105/重疾发生率!BG107","v":1.24635143788267},{"$f":"H105/重疾发生率!BN107","v":0.674367572592376},{"$f":"I105/重疾发生率!BO107","v":0.651217697236791},null,101,0.0288893466502601,0.0258877792063261]
[102,0.24479182971945,0.396559476492513,0.179893551075306,0.349728304412742,null,102,0.117583343535298,0.0889995351991732,102,0.88,0.88,null,102,{"$f":"B106/重疾发生率!BF108","v":1.14618633243026},{"$f":"D106/重疾发生率!BG108","v":1.26107764695539},{"$f":"H106/重疾发生率!BN108","v":0.676859431238368},{"$f":"I106/重疾发生率!BO108","v":0.652121128096113},null,102,0.0321085494148368,0.0290572838558246]
[103,0.252688551540229,0.388418507811723,0.185691070560804,0.333131182332875,null,103,0.121503226598383,0.0911743430627509,103,0.88,0.88,null,103,{"$f":"B107/重疾发生率!BF109","v":1.15250795609201},{"$f":"D107/重疾发生率!BG109","v":1.27510470312104},{"$f":"H107/重疾发生率!BN109","v":0.679316489331844},{"$f":"I107/重疾发生率!BO109","v":0.653031816059297},null,103,0.0356864749489145,0.0326148387758051]
[104,0.260779431734217,0.381877539130932,0.1915545489482,0.318174218724075,null,104,0.125572567536104,0.0934053985413606,104,0.88,0.88,null,104,{"$f":"B108/重疾发生率!BF110","v":1.15840088120713},{"$f":"D108/重疾发生率!BG110","v":1.28845397509869},{"$f":"H108/重疾发生率!BN110","v":0.681737113038378},{"$f":"I108/重疾发生率!BO110","v":0.653929993918667},null,104,0.0396630965113306,0.0366079539178447]
[105,0.269025240000382,0.269025240000382,0.202910580722824,0.202910580722824,null,105,0.129774802902178,0.0957183820546326,105,0.88,0.88,null,105,{"$f":"B109/重疾发生率!BF111","v":1.16387991891163},{"$f":"D109/重疾发生率!BG111","v":1.2908496235733},{"$f":"H109/重疾发生率!BN111","v":0.684011695298367},{"$f":"I109/重疾发生率!BO111","v":0.654986259936721},null,105,0.0440828416681425,0.0410899559940554]

{"sheet":"中再报价","index":10,"n_rows":112,"n_cols":18,"rows_kept":112,"cut":false,"hidden":true,"merged":[]}
["61种重疾提前给付",null,null,null,"75种重疾提前给付",null,null,null,"轻症多次给付",null,null,null,"轻症1次给付"]
[null,null,"每千元保额",null,null,null,"每千元保额",null,null,null,"每千元保额",null,null,null,"每千元保额"]
["ALB","male","female",null,"ALB","male","female",null,"ALB","male","female",null,"ALB","male","female"]
[0,0.7778,0.5813,null,0,0.7977,0.5962,null,0,0.1137,0.1379,null,0,0.108,0.131,null,{"$f":"B4/'Mortality&Morbidity'!AD6","v":{"$error":"#DIV/0!"}},{"$f":"C4/'Mortality&Morbidity'!H6","v":{"$error":"#DIV/0!"}}]
[1,0.7186,0.4952,null,1,0.7366,0.5077,null,1,0.0998,0.1178,null,1,0.0949,0.1119,null,{"$f":"B5/'Mortality&Morbidity'!AD7","v":{"$error":"#DIV/0!"}},{"$f":"C5/'Mortality&Morbidity'!H7","v":{"$error":"#DIV/0!"}}]
[2,0.6599,0.4488,null,2,0.6763,0.4599,null,2,0.0824,0.0853,null,2,0.0782,0.081,null,{"$f":"B6/'Mortality&Morbidity'!AD8","v":{"$error":"#DIV/0!"}},{"$f":"C6/'Mortality&Morbidity'!H8","v":{"$error":"#DIV/0!"}}]
[3,0.6211,0.4047,null,3,0.6363,0.4145,null,3,0.061,0.0585,null,3,0.058,0.0555,null,{"$f":"B7/'Mortality&Morbidity'!AD9","v":{"$error":"#DIV/0!"}},{"$f":"C7/'Mortality&Morbidity'!H9","v":{"$error":"#DIV/0!"}}]
[4,0.5513,0.3775,null,4,0.5647,0.3864,null,4,0.0577,0.0531,null,4,0.0548,0.0505,null,{"$f":"B8/'Mortality&Morbidity'!AD10","v":{"$error":"#DIV/0!"}},{"$f":"C8/'Mortality&Morbidity'!H10","v":{"$error":"#DIV/0!"}}]
[5,0.4595,0.3355,null,5,0.4707,0.3435,null,5,0.0532,0.0495,null,5,0.0505,0.047,null,{"$f":"B9/'Mortality&Morbidity'!AD11","v":{"$error":"#DIV/0!"}},{"$f":"C9/'Mortality&Morbidity'!H11","v":{"$error":"#DIV/0!"}}]
[6,0.3695,0.2974,null,6,0.3786,0.3045,null,6,0.0496,0.0473,null,6,0.0471,0.045,null,{"$f":"B10/'Mortality&Morbidity'!AD12","v":{"$error":"#DIV/0!"}},{"$f":"C10/'Mortality&Morbidity'!H12","v":{"$error":"#DIV/0!"}}]
[7,0.2993,0.2691,null,7,0.3067,0.2756,null,7,0.0479,0.0471,null,7,0.0455,0.0447,null,{"$f":"B11/'Mortality&Morbidity'!AD13","v":{"$error":"#DIV/0!"}},{"$f":"C11/'Mortality&Morbidity'!H13","v":{"$error":"#DIV/0!"}}]
[8,0.2554,0.2534,null,8,0.2617,0.2596,null,8,0.0446,0.0445,null,8,0.0424,0.0422,null,{"$f":"B12/'Mortality&Morbidity'!AD14","v":{"$error":"#DIV/0!"}},{"$f":"C12/'Mortality&Morbidity'!H14","v":{"$error":"#DIV/0!"}}]
[9,0.2326,0.2406,null,9,0.2383,0.2465,null,9,0.043,0.0446,null,9,0.0408,0.0424,null,{"$f":"B13/'Mortality&Morbidity'!AD15","v":{"$error":"#DIV/0!"}},{"$f":"C13/'Mortality&Morbidity'!H15","v":{"$error":"#DIV/0!"}}]
[10,0.2189,0.2381,null,10,0.2244,0.2439,null,10,0.0432,0.0457,null,10,0.0411,0.0434,null,{"$f":"B14/'Mortality&Morbidity'!AD16","v":{"$error":"#DIV/0!"}},{"$f":"C14/'Mortality&Morbidity'!H16","v":{"$error":"#DIV/0!"}}]
[11,0.2233,0.2407,null,11,0.2289,0.2466,null,11,0.0455,0.0493,null,11,0.0432,0.0469,null,{"$f":"B15/'Mortality&Morbidity'!AD17","v":{"$error":"#DIV/0!"}},{"$f":"C15/'Mortality&Morbidity'!H17","v":{"$error":"#DIV/0!"}}]
[12,0.2293,0.2444,null,12,0.2351,0.2504,null,12,0.0496,0.0539,null,12,0.0471,0.0512,null,{"$f":"B16/'Mortality&Morbidity'!AD18","v":{"$error":"#DIV/0!"}},{"$f":"C16/'Mortality&Morbidity'!H18","v":{"$error":"#DIV/0!"}}]
[13,0.2382,0.252,null,13,0.2443,0.2581,null,13,0.0551,0.0598,null,13,0.0523,0.0568,null,{"$f":"B17/'Mortality&Morbidity'!AD19","v":{"$error":"#DIV/0!"}},{"$f":"C17/'Mortality&Morbidity'!H19","v":{"$error":"#DIV/0!"}}]
[14,0.2547,0.2619,null,14,0.2613,0.2683,null,14,0.0611,0.0638,null,14,0.058,0.0606,null,{"$f":"B18/'Mortality&Morbidity'!AD20","v":{"$error":"#DIV/0!"}},{"$f":"C18/'Mortality&Morbidity'!H20","v":{"$error":"#DIV/0!"}}]
[15,0.2651,0.2727,null,15,0.2721,0.2793,null,15,0.0672,0.0703,null,15,0.0639,0.0667,null,{"$f":"B19/'Mortality&Morbidity'!AD21","v":{"$error":"#DIV/0!"}},{"$f":"C19/'Mortality&Morbidity'!H21","v":{"$error":"#DIV/0!"}}]
[16,0.2787,0.2951,null,16,0.2861,0.3022,null,16,0.0735,0.0747,null,16,0.0698,0.0709,null,{"$f":"B20/'Mortality&Morbidity'!AD22","v":{"$error":"#DIV/0!"}},{"$f":"C20/'Mortality&Morbidity'!H22","v":{"$error":"#DIV/0!"}}]
[17,0.2844,0.3167,null,17,0.292,0.3244,null,17,0.0793,0.08,null,17,0.0753,0.076,null,{"$f":"B21/'Mortality&Morbidity'!AD23","v":{"$error":"#DIV/0!"}},{"$f":"C21/'Mortality&Morbidity'!H23","v":{"$error":"#DIV/0!"}}]
[18,0.2926,0.337,null,18,0.3006,0.3452,null,18,0.0854,0.0828,null,18,0.0812,0.0787,null,{"$f":"B22/'Mortality&Morbidity'!AD24","v":{"$error":"#DIV/0!"}},{"$f":"C22/'Mortality&Morbidity'!H24","v":{"$error":"#DIV/0!"}}]
[19,0.3069,0.3637,null,19,0.3153,0.3727,null,19,0.0906,0.088,null,19,0.086,0.0836,null,{"$f":"B23/'Mortality&Morbidity'!AD25","v":{"$error":"#DIV/0!"}},{"$f":"C23/'Mortality&Morbidity'!H25","v":{"$error":"#DIV/0!"}}]
[20,0.3214,0.3888,null,20,0.3302,0.3985,null,20,0.0968,0.0921,null,20,0.092,0.0875,null,{"$f":"B24/'Mortality&Morbidity'!AD26","v":{"$error":"#DIV/0!"}},{"$f":"C24/'Mortality&Morbidity'!H26","v":{"$error":"#DIV/0!"}}]
[21,0.3373,0.4289,null,21,0.3466,0.4397,null,21,0.1134,0.1096,null,21,0.1078,0.1041,null,{"$f":"B25/'Mortality&Morbidity'!AD27","v":{"$error":"#DIV/0!"}},{"$f":"C25/'Mortality&Morbidity'!H27","v":{"$error":"#DIV/0!"}}]
[22,0.3594,0.4606,null,22,0.3692,0.4723,null,22,0.124,0.1117,null,22,0.1178,0.1062,null,{"$f":"B26/'Mortality&Morbidity'!AD28","v":{"$error":"#DIV/0!"}},{"$f":"C26/'Mortality&Morbidity'!H28","v":{"$error":"#DIV/0!"}}]
[23,0.3842,0.4944,null,23,0.3947,0.507,null,23,0.138,0.1146,null,23,0.1311,0.1089,null,{"$f":"B27/'Mortality&Morbidity'!AD29","v":{"$error":"#DIV/0!"}},{"$f":"C27/'Mortality&Morbidity'!H29","v":{"$error":"#DIV/0!"}}]
[24,0.4052,0.5301,null,24,0.4164,0.5436,null,24,0.1496,0.1203,null,24,0.1421,0.1143,null,{"$f":"B28/'Mortality&Morbidity'!AD30","v":{"$error":"#DIV/0!"}},{"$f":"C28/'Mortality&Morbidity'!H30","v":{"$error":"#DIV/0!"}}]
[25,0.4348,0.5754,null,25,0.4467,0.5902,null,25,0.1634,0.13,null,25,0.1552,0.1235,null,{"$f":"B29/'Mortality&Morbidity'!AD31","v":{"$error":"#DIV/0!"}},{"$f":"C29/'Mortality&Morbidity'!H31","v":{"$error":"#DIV/0!"}}]
[26,0.467,0.6146,null,26,0.4798,0.6305,null,26,0.1793,0.1424,null,26,0.1703,0.1352,null,{"$f":"B30/'Mortality&Morbidity'!AD32","v":{"$error":"#DIV/0!"}},{"$f":"C30/'Mortality&Morbidity'!H32","v":{"$error":"#DIV/0!"}}]
[27,0.5133,0.67,null,27,0.5274,0.6874,null,27,0.1973,0.1578,null,27,0.1874,0.1499,null,{"$f":"B31/'Mortality&Morbidity'!AD33","v":{"$error":"#DIV/0!"}},{"$f":"C31/'Mortality&Morbidity'!H33","v":{"$error":"#DIV/0!"}}]
[28,0.5675,0.7324,null,28,0.5831,0.7515,null,28,0.2176,0.1762,null,28,0.2067,0.1674,null,{"$f":"B32/'Mortality&Morbidity'!AD34","v":{"$error":"#DIV/0!"}},{"$f":"C32/'Mortality&Morbidity'!H34","v":{"$error":"#DIV/0!"}}]
[29,0.6288,0.8033,null,29,0.6461,0.8242,null,29,0.2403,0.1974,null,29,0.2283,0.1875,null,{"$f":"B33/'Mortality&Morbidity'!AD35","v":{"$error":"#DIV/0!"}},{"$f":"C33/'Mortality&Morbidity'!H35","v":{"$error":"#DIV/0!"}}]
[30,0.7007,0.8768,null,30,0.72,0.8997,null,30,0.2641,0.221,null,30,0.2509,0.21,null,{"$f":"B34/'Mortality&Morbidity'!AD36","v":{"$error":"#DIV/0!"}},{"$f":"C34/'Mortality&Morbidity'!H36","v":{"$error":"#DIV/0!"}}]
[31,0.7773,0.9646,null,31,0.7988,0.9899,null,31,0.2888,0.2477,null,31,0.2744,0.2353,null,{"$f":"B35/'Mortality&Morbidity'!AD37","v":{"$error":"#DIV/0!"}},{"$f":"C35/'Mortality&Morbidity'!H37","v":{"$error":"#DIV/0!"}}]
[32,0.8642,1.0547,null,32,0.8881,1.0825,null,32,0.3164,0.2768,null,32,0.3006,0.2629,null,{"$f":"B36/'Mortality&Morbidity'!AD38","v":{"$error":"#DIV/0!"}},{"$f":"C36/'Mortality&Morbidity'!H38","v":{"$error":"#DIV/0!"}}]
[33,0.963,1.1521,null,33,0.9898,1.1826,null,33,0.3484,0.3101,null,33,0.3309,0.2946,null,{"$f":"B37/'Mortality&Morbidity'!AD39","v":{"$error":"#DIV/0!"}},{"$f":"C37/'Mortality&Morbidity'!H39","v":{"$error":"#DIV/0!"}}]
[34,1.0698,1.2586,null,34,1.0996,1.2921,null,34,0.3878,0.3493,null,34,0.3684,0.3318,null,{"$f":"B38/'Mortality&Morbidity'!AD40","v":{"$error":"#DIV/0!"}},{"$f":"C38/'Mortality&Morbidity'!H40","v":{"$error":"#DIV/0!"}}]
[35,1.1967,1.3757,null,35,1.2301,1.4125,null,35,0.4369,0.3953,null,35,0.4151,0.3756,null,{"$f":"B39/'Mortality&Morbidity'!AD41","v":{"$error":"#DIV/0!"}},{"$f":"C39/'Mortality&Morbidity'!H41","v":{"$error":"#DIV/0!"}}]
[36,1.3423,1.495,null,36,1.3798,1.5353,null,36,0.4973,0.4497,null,36,0.4724,0.4272,null,{"$f":"B40/'Mortality&Morbidity'!AD42","v":{"$error":"#DIV/0!"}},{"$f":"C40/'Mortality&Morbidity'!H42","v":{"$error":"#DIV/0!"}}]
[37,1.5164,1.6398,null,37,1.5589,1.6843,null,37,0.571,0.5129,null,37,0.5424,0.4873,null,{"$f":"B41/'Mortality&Morbidity'!AD43","v":{"$error":"#DIV/0!"}},{"$f":"C41/'Mortality&Morbidity'!H43","v":{"$error":"#DIV/0!"}}]
[38,1.7062,1.8046,null,38,1.7541,1.8538,null,38,0.6597,0.586,null,38,0.6267,0.5567,null,{"$f":"B42/'Mortality&Morbidity'!AD44","v":{"$error":"#DIV/0!"}},{"$f":"C42/'Mortality&Morbidity'!H44","v":{"$error":"#DIV/0!"}}]
[39,1.9222,1.9612,null,39,1.9763,2.0155,null,39,0.7648,0.6695,null,39,0.7265,0.636,null,{"$f":"B43/'Mortality&Morbidity'!AD45","v":{"$error":"#DIV/0!"}},{"$f":"C43/'Mortality&Morbidity'!H45","v":{"$error":"#DIV/0!"}}]
[40,2.1665,2.1353,null,40,2.2276,2.1951,null,40,0.8867,0.7624,null,40,0.8423,0.7243,null,{"$f":"B44/'Mortality&Morbidity'!AD46","v":{"$error":"#DIV/0!"}},{"$f":"C44/'Mortality&Morbidity'!H46","v":{"$error":"#DIV/0!"}}]
[41,2.439,2.3539,null,41,2.5078,2.42,null,41,1.0242,0.8507,null,41,0.973,0.8081,null,{"$f":"B45/'Mortality&Morbidity'!AD47","v":{"$error":"#DIV/0!"}},{"$f":"C45/'Mortality&Morbidity'!H47","v":{"$error":"#DIV/0!"}}]
[42,2.7241,2.581,null,42,2.8011,2.6535,null,42,1.1744,0.9464,null,42,1.1157,0.8991,null,{"$f":"B46/'Mortality&Morbidity'!AD48","v":{"$error":"#DIV/0!"}},{"$f":"C46/'Mortality&Morbidity'!H48","v":{"$error":"#DIV/0!"}}]
[43,3.0202,2.812,null,43,3.1056,2.8912,null,43,1.3383,1.0504,null,43,1.2714,0.9979,null,{"$f":"B47/'Mortality&Morbidity'!AD49","v":{"$error":"#DIV/0!"}},{"$f":"C47/'Mortality&Morbidity'!H49","v":{"$error":"#DIV/0!"}}]
[44,3.3449,3.0633,null,44,3.4396,3.1496,null,44,1.5191,1.1631,null,44,1.4431,1.1049,null,{"$f":"B48/'Mortality&Morbidity'!AD50","v":{"$error":"#DIV/0!"}},{"$f":"C48/'Mortality&Morbidity'!H50","v":{"$error":"#DIV/0!"}}]
[45,3.7049,3.3356,null,45,3.8099,3.4298,null,45,1.7217,1.2851,null,45,1.6356,1.2209,null,{"$f":"B49/'Mortality&Morbidity'!AD51","v":{"$error":"#DIV/0!"}},{"$f":"C49/'Mortality&Morbidity'!H51","v":{"$error":"#DIV/0!"}}]
[46,4.0471,3.6319,null,46,4.162,3.7345,null,46,1.9478,1.4152,null,46,1.8504,1.3444,null,{"$f":"B50/'Mortality&Morbidity'!AD52","v":{"$error":"#DIV/0!"}},{"$f":"C50/'Mortality&Morbidity'!H52","v":{"$error":"#DIV/0!"}}]
[47,4.4151,3.927,null,47,4.5406,4.0381,null,47,2.1958,1.5503,null,47,2.086,1.4728,null,{"$f":"B51/'Mortality&Morbidity'!AD53","v":{"$error":"#DIV/0!"}},{"$f":"C51/'Mortality&Morbidity'!H53","v":{"$error":"#DIV/0!"}}]
[48,4.7967,4.2293,null,48,4.9332,4.349,null,48,2.4497,1.6879,null,48,2.3272,1.6035,null,{"$f":"B52/'Mortality&Morbidity'!AD54","v":{"$error":"#DIV/0!"}},{"$f":"C52/'Mortality&Morbidity'!H54","v":{"$error":"#DIV/0!"}}]
[49,5.2017,4.5464,null,49,5.3498,4.6752,null,49,2.7144,1.8195,null,49,2.5786,1.7285,null,{"$f":"B53/'Mortality&Morbidity'!AD55","v":{"$error":"#DIV/0!"}},{"$f":"C53/'Mortality&Morbidity'!H55","v":{"$error":"#DIV/0!"}}]
[50,5.6432,4.8697,null,50,5.804,5.008,null,50,2.9825,1.9437,null,50,2.8334,1.8465,null,{"$f":"B54/'Mortality&Morbidity'!AD56","v":{"$error":"#DIV/0!"}},{"$f":"C54/'Mortality&Morbidity'!H56","v":{"$error":"#DIV/0!"}}]
[51,6.1236,5.2317,null,51,6.2981,5.3805,null,51,3.2373,2.0625,null,51,3.0754,1.9594,null,{"$f":"B55/'Mortality&Morbidity'!AD57","v":{"$error":"#DIV/0!"}},{"$f":"C55/'Mortality&Morbidity'!H57","v":{"$error":"#DIV/0!"}}]
[52,6.6553,5.6338,null,52,6.8451,5.794,null,52,3.5014,2.1859,null,52,3.3264,2.0766,null,{"$f":"B56/'Mortality&Morbidity'!AD58","v":{"$error":"#DIV/0!"}},{"$f":"C56/'Mortality&Morbidity'!H58","v":{"$error":"#DIV/0!"}}]
[53,7.2408,6.0899,null,53,7.4475,6.2632,null,53,3.7798,2.3235,null,53,3.5908,2.2073,null,{"$f":"B57/'Mortality&Morbidity'!AD59","v":{"$error":"#DIV/0!"}},{"$f":"C57/'Mortality&Morbidity'!H59","v":{"$error":"#DIV/0!"}}]
[54,7.8713,6.5786,null,54,8.096,6.7659,null,54,4.0557,2.4676,null,54,3.8529,2.3442,null,{"$f":"B58/'Mortality&Morbidity'!AD60","v":{"$error":"#DIV/0!"}},{"$f":"C58/'Mortality&Morbidity'!H60","v":{"$error":"#DIV/0!"}}]
[55,8.5668,7.105,null,55,8.8113,7.3072,null,55,4.3189,2.6233,null,55,4.103,2.4921,null,{"$f":"B59/'Mortality&Morbidity'!AD61","v":{"$error":"#DIV/0!"}},{"$f":"C59/'Mortality&Morbidity'!H61","v":{"$error":"#DIV/0!"}}]
[56,9.3363,7.6588,null,56,9.6029,7.8769,null,56,4.5691,2.794,null,56,4.3407,2.6543,null,{"$f":"B60/'Mortality&Morbidity'!AD62","v":{"$error":"#DIV/0!"}},{"$f":"C60/'Mortality&Morbidity'!H62","v":{"$error":"#DIV/0!"}}]
[57,10.2187,8.2617,null,57,10.5106,8.497,null,57,4.8091,2.9717,null,57,4.5686,2.8231,null,{"$f":"B61/'Mortality&Morbidity'!AD63","v":{"$error":"#DIV/0!"}},{"$f":"C61/'Mortality&Morbidity'!H63","v":{"$error":"#DIV/0!"}}]
[58,11.226,8.8983,null,58,11.5467,9.1517,null,58,5.047,3.1678,null,58,4.7947,3.0094,null,{"$f":"B62/'Mortality&Morbidity'!AD64","v":{"$error":"#DIV/0!"}},{"$f":"C62/'Mortality&Morbidity'!H64","v":{"$error":"#DIV/0!"}}]
[59,12.334,9.5891,null,59,12.6864,9.8622,null,59,5.2801,3.3687,null,59,5.0161,3.2002,null,{"$f":"B63/'Mortality&Morbidity'!AD65","v":{"$error":"#DIV/0!"}},{"$f":"C63/'Mortality&Morbidity'!H65","v":{"$error":"#DIV/0!"}}]
[60,13.5578,10.3384,null,60,13.9452,10.6328,null,60,5.5152,3.5689,null,60,5.2395,3.3904,null,{"$f":"B64/'Mortality&Morbidity'!AD66","v":{"$error":"#DIV/0!"}},{"$f":"C64/'Mortality&Morbidity'!H66","v":{"$error":"#DIV/0!"}}]
[61,14.9154,11.1394,null,61,15.3416,11.4567,null,61,5.7883,3.7839,null,61,5.4989,3.5947,null,{"$f":"B65/'Mortality&Morbidity'!AD67","v":{"$error":"#DIV/0!"}},{"$f":"C65/'Mortality&Morbidity'!H67","v":{"$error":"#DIV/0!"}}]
[62,16.2571,11.978,null,62,16.7217,12.3191,null,62,6.1332,4.0338,null,62,5.8265,3.8321,null,{"$f":"B66/'Mortality&Morbidity'!AD68","v":{"$error":"#DIV/0!"}},{"$f":"C66/'Mortality&Morbidity'!H68","v":{"$error":"#DIV/0!"}}]
[63,17.6167,12.9217,null,63,18.1201,13.2896,null,63,6.5831,4.3459,null,63,6.254,4.1286,null,{"$f":"B67/'Mortality&Morbidity'!AD69","v":{"$error":"#DIV/0!"}},{"$f":"C67/'Mortality&Morbidity'!H69","v":{"$error":"#DIV/0!"}}]
[64,19.1228,14.0534,null,64,19.6692,14.4535,null,64,7.1654,4.7434,null,64,6.8071,4.5062,null,{"$f":"B68/'Mortality&Morbidity'!AD70","v":{"$error":"#DIV/0!"}},{"$f":"C68/'Mortality&Morbidity'!H70","v":{"$error":"#DIV/0!"}}]
[65,20.7089,15.4086,null,65,21.3008,15.8474,null,65,7.8973,5.2379,null,65,7.5024,4.976,null,{"$f":"B69/'Mortality&Morbidity'!AD71","v":{"$error":"#DIV/0!"}},{"$f":"C69/'Mortality&Morbidity'!H71","v":{"$error":"#DIV/0!"}}]
[66,22.2633,17.0911,null,66,22.9,17.5781,null,66,8.7704,5.8245,null,66,8.3319,5.5333,null,{"$f":"B70/'Mortality&Morbidity'!AD72","v":{"$error":"#DIV/0!"}},{"$f":"C70/'Mortality&Morbidity'!H72","v":{"$error":"#DIV/0!"}}]
[67,23.9472,19.1528,null,67,24.6321,19.6985,null,67,9.7824,6.503,null,67,9.2933,6.1779,null,{"$f":"B71/'Mortality&Morbidity'!AD73","v":{"$error":"#DIV/0!"}},{"$f":"C71/'Mortality&Morbidity'!H73","v":{"$error":"#DIV/0!"}}]
[68,25.7007,21.6151,null,68,26.436,22.231,null,68,10.9044,7.2575,null,68,10.3592,6.8946,null,{"$f":"B72/'Mortality&Morbidity'!AD74","v":{"$error":"#DIV/0!"}},{"$f":"C72/'Mortality&Morbidity'!H74","v":{"$error":"#DIV/0!"}}]
[69,27.5663,24.5381,null,69,28.3553,25.2375,null,69,12.0879,8.0615,null,69,11.4835,7.6585,null,{"$f":"B73/'Mortality&Morbidity'!AD75","v":{"$error":"#DIV/0!"}},{"$f":"C73/'Mortality&Morbidity'!H75","v":{"$error":"#DIV/0!"}}]
[70,29.7541,28.2472,null,70,30.5997,29.0445,null,70,13.7674,8.8803,null,70,13.079,8.4363,null,{"$f":"B74/'Mortality&Morbidity'!AD76","v":{"$error":"#DIV/0!"}},{"$f":"C74/'Mortality&Morbidity'!H76","v":{"$error":"#DIV/0!"}}]
[71,31.3937,27.6962,null,71,32.2867,28.4785,null,71,15.2933,9.7258,null,71,14.5286,9.2395,null,{"$f":"B75/'Mortality&Morbidity'!AD77","v":{"$error":"#DIV/0!"}},{"$f":"C75/'Mortality&Morbidity'!H77","v":{"$error":"#DIV/0!"}}]
[72,33.0623,29.4325,null,72,34.0036,30.2644,null,72,16.5013,10.5931,null,72,15.6762,10.0634,null,{"$f":"B76/'Mortality&Morbidity'!AD78","v":{"$error":"#DIV/0!"}},{"$f":"C76/'Mortality&Morbidity'!H78","v":{"$error":"#DIV/0!"}}]
[73,34.3292,30.9547,null,73,35.3071,31.8302,null,73,17.7001,11.507,null,73,16.8151,10.9316,null,{"$f":"B77/'Mortality&Morbidity'!AD79","v":{"$error":"#DIV/0!"}},{"$f":"C77/'Mortality&Morbidity'!H79","v":{"$error":"#DIV/0!"}}]
[74,35.6715,32.5401,null,74,36.6879,33.4606,null,74,18.9187,12.4972,null,74,17.9727,11.8724,null,{"$f":"B78/'Mortality&Morbidity'!AD80","v":{"$error":"#DIV/0!"}},{"$f":"C78/'Mortality&Morbidity'!H80","v":{"$error":"#DIV/0!"}}]
[75,37.1339,34.2496,null,75,38.1919,35.2182,null,75,20.182,13.5711,null,75,19.1729,12.8926,null,{"$f":"B79/'Mortality&Morbidity'!AD81","v":{"$error":"#DIV/0!"}},{"$f":"C79/'Mortality&Morbidity'!H81","v":{"$error":"#DIV/0!"}}]
[76,38.7118,36.1294,null,76,39.814,37.1501,null,76,21.5318,14.7706,null,76,20.4552,14.032,null,{"$f":"B80/'Mortality&Morbidity'!AD82","v":{"$error":"#DIV/0!"}},{"$f":"C80/'Mortality&Morbidity'!H82","v":{"$error":"#DIV/0!"}}]
[77,40.2602,37.9048,null,77,41.4051,38.9739,null,77,23.0099,16.0861,null,77,21.8594,15.2818,null,{"$f":"B81/'Mortality&Morbidity'!AD83","v":{"$error":"#DIV/0!"}},{"$f":"C81/'Mortality&Morbidity'!H83","v":{"$error":"#DIV/0!"}}]
[78,41.7978,39.9013,null,78,42.9846,41.0239,null,78,24.6452,17.5278,null,78,23.413,16.6514,null,{"$f":"B82/'Mortality&Morbidity'!AD84","v":{"$error":"#DIV/0!"}},{"$f":"C82/'Mortality&Morbidity'!H84","v":{"$error":"#DIV/0!"}}]
[79,43.597,41.863,null,79,44.8323,43.0374,null,79,26.4309,19.0886,null,79,25.1094,18.1342,null,{"$f":"B83/'Mortality&Morbidity'!AD85","v":{"$error":"#DIV/0!"}},{"$f":"C83/'Mortality&Morbidity'!H85","v":{"$error":"#DIV/0!"}}]
[80,45.5371,44.2063,null,80,46.8213,45.438,null,80,28.3407,20.7467,null,80,26.9237,19.7094,null,{"$f":"B84/'Mortality&Morbidity'!AD86","v":{"$error":"#DIV/0!"}},{"$f":"C84/'Mortality&Morbidity'!H86","v":{"$error":"#DIV/0!"}}]
[81,47.5954,46.5229,null,81,48.9352,47.8156,null,81,30.3417,22.4737,null,81,28.8246,21.35,null,{"$f":"B85/'Mortality&Morbidity'!AD87","v":{"$error":"#DIV/0!"}},{"$f":"C85/'Mortality&Morbidity'!H87","v":{"$error":"#DIV/0!"}}]
[82,49.2497,48.6222,null,82,50.6327,49.9684,null,82,32.386,24.1802,null,82,30.7667,22.9712,null,{"$f":"B86/'Mortality&Morbidity'!AD88","v":{"$error":"#DIV/0!"}},{"$f":"C86/'Mortality&Morbidity'!H88","v":{"$error":"#DIV/0!"}}]
[83,50.6381,50.4494,null,83,52.0564,51.841,null,83,34.5086,25.9112,null,83,32.7832,24.6156,null,{"$f":"B87/'Mortality&Morbidity'!AD89","v":{"$error":"#DIV/0!"}},{"$f":"C87/'Mortality&Morbidity'!H89","v":{"$error":"#DIV/0!"}}]
[84,51.9959,52.5613,null,84,53.4482,54.0051,null,84,36.7408,27.6642,null,84,34.9038,26.281,null,{"$f":"B88/'Mortality&Morbidity'!AD90","v":{"$error":"#DIV/0!"}},{"$f":"C88/'Mortality&Morbidity'!H90","v":{"$error":"#DIV/0!"}}]
[85,53.4995,54.6424,null,85,54.9888,56.1357,null,85,39.1145,29.4326,null,85,37.1587,27.961,null,{"$f":"B89/'Mortality&Morbidity'!AD91","v":{"$error":"#DIV/0!"}},{"$f":"C89/'Mortality&Morbidity'!H91","v":{"$error":"#DIV/0!"}}]
[86,55.0632,57.1909,null,86,56.5897,58.7438,null,86,41.6613,31.2201,null,86,39.5782,29.6591,null,{"$f":"B90/'Mortality&Morbidity'!AD92","v":{"$error":"#DIV/0!"}},{"$f":"C90/'Mortality&Morbidity'!H92","v":{"$error":"#DIV/0!"}}]
[87,56.7686,60.0714,null,87,58.3343,61.6892,null,87,44.4045,33.0426,null,87,42.1843,31.3904,null,{"$f":"B91/'Mortality&Morbidity'!AD93","v":{"$error":"#DIV/0!"}},{"$f":"C91/'Mortality&Morbidity'!H93","v":{"$error":"#DIV/0!"}}]
[88,58.5229,63.3625,null,88,60.1274,65.0523,null,88,47.3592,34.9239,null,88,44.9913,33.1777,null,{"$f":"B92/'Mortality&Morbidity'!AD94","v":{"$error":"#DIV/0!"}},{"$f":"C92/'Mortality&Morbidity'!H94","v":{"$error":"#DIV/0!"}}]
[89,60.2994,66.8173,null,89,61.9417,68.5795,null,89,50.5156,36.8793,null,89,47.9898,35.0354,null,{"$f":"B93/'Mortality&Morbidity'!AD95","v":{"$error":"#DIV/0!"}},{"$f":"C93/'Mortality&Morbidity'!H95","v":{"$error":"#DIV/0!"}}]
[90,61.5588,69.2327,null,90,63.2455,71.0725,null,90,53.8319,38.9039,null,90,51.1403,36.9587,null,{"$f":"B94/'Mortality&Morbidity'!AD96","v":{"$error":"#DIV/0!"}},{"$f":"C94/'Mortality&Morbidity'!H96","v":{"$error":"#DIV/0!"}}]
[91,63.503,73.042,null,91,65.2337,74.9639,null,91,57.2478,40.9742,null,91,54.3854,38.9255,null,{"$f":"B95/'Mortality&Morbidity'!AD97","v":{"$error":"#DIV/0!"}},{"$f":"C95/'Mortality&Morbidity'!H97","v":{"$error":"#DIV/0!"}}]
[92,65.2845,76.9381,null,92,67.0545,78.9424,null,92,60.6978,43.0546,null,92,57.6629,40.9018,null,{"$f":"B96/'Mortality&Morbidity'!AD98","v":{"$error":"#DIV/0!"}},{"$f":"C96/'Mortality&Morbidity'!H98","v":{"$error":"#DIV/0!"}}]
[93,67.3924,81.187,null,93,69.2103,83.2805,null,93,64.1204,45.1081,null,93,60.9144,42.8527,null,{"$f":"B97/'Mortality&Morbidity'!AD99","v":{"$error":"#DIV/0!"}},{"$f":"C97/'Mortality&Morbidity'!H99","v":{"$error":"#DIV/0!"}}]
[94,69.5179,85.4929,null,94,71.3835,87.6741,null,94,67.4636,47.1062,null,94,64.0904,44.7509,null,{"$f":"B98/'Mortality&Morbidity'!AD100","v":{"$error":"#DIV/0!"}},{"$f":"C98/'Mortality&Morbidity'!H100","v":{"$error":"#DIV/0!"}}]
[95,72.1058,90.4945,null,95,74.0302,92.7776,null,95,70.6682,49.0122,null,95,67.1347,46.5616,null,{"$f":"B99/'Mortality&Morbidity'!AD101","v":{"$error":"#DIV/0!"}},{"$f":"C99/'Mortality&Morbidity'!H101","v":{"$error":"#DIV/0!"}}]
[96,74.84,95.7221,null,96,76.824,98.1064,null,96,73.6903,50.7979,null,96,70.0058,48.258,null,{"$f":"B100/'Mortality&Morbidity'!AD102","v":{"$error":"#DIV/0!"}},{"$f":"C100/'Mortality&Morbidity'!H102","v":{"$error":"#DIV/0!"}}]
[97,77.3842,100.9348,null,97,79.4201,103.4136,null,97,76.6892,52.5575,null,97,72.8548,49.9296,null,{"$f":"B101/'Mortality&Morbidity'!AD103","v":{"$error":"#DIV/0!"}},{"$f":"C101/'Mortality&Morbidity'!H103","v":{"$error":"#DIV/0!"}}]
[98,80.6042,106.8664,null,98,82.7064,109.4504,null,98,79.2112,54.0238,null,98,75.2506,51.3226,null,{"$f":"B102/'Mortality&Morbidity'!AD104","v":{"$error":"#DIV/0!"}},{"$f":"C102/'Mortality&Morbidity'!H104","v":{"$error":"#DIV/0!"}}]
[99,83.9385,113.0886,null,99,86.1083,115.7829,null,99,81.8525,55.5536,null,99,77.7599,52.7759,null,{"$f":"B103/'Mortality&Morbidity'!AD105","v":{"$error":"#DIV/0!"}},{"$f":"C103/'Mortality&Morbidity'!H105","v":{"$error":"#DIV/0!"}}]
[100,86.8623,117.6255,null,100,87.2944,118.2107,null,100,84.5185,57.0727,null,100,80.2926,54.2191,null,{"$f":"B104/'Mortality&Morbidity'!AD106","v":{"$error":"#DIV/0!"}},{"$f":"C104/'Mortality&Morbidity'!H106","v":{"$error":"#DIV/0!"}}]
[101,90.1226,122.4531,null,101,90.571,123.0624,null,101,87.3113,58.6641,null,101,82.9458,55.7309,null,{"$f":"B105/'Mortality&Morbidity'!AD107","v":{"$error":"#DIV/0!"}},{"$f":"C105/'Mortality&Morbidity'!H107","v":{"$error":"#DIV/0!"}}]
[102,93.3685,126.8308,null,102,93.833,127.4618,null,102,90.2108,60.0963,null,102,85.7002,57.0915,null,{"$f":"B106/'Mortality&Morbidity'!AD108","v":{"$error":"#DIV/0!"}},{"$f":"C106/'Mortality&Morbidity'!H108","v":{"$error":"#DIV/0!"}}]
[103,96.7004,131.2672,null,103,97.1815,131.9202,null,103,93.2208,61.5664,null,103,88.5597,58.488,null,{"$f":"B107/'Mortality&Morbidity'!AD109","v":{"$error":"#DIV/0!"}},{"$f":"C107/'Mortality&Morbidity'!H109","v":{"$error":"#DIV/0!"}}]
[104,100.122,135.761,null,104,100.6201,136.4365,null,104,96.3453,63.0751,null,104,91.528,59.9213,null,{"$f":"B108/'Mortality&Morbidity'!AD110","v":{"$error":"#DIV/0!"}},{"$f":"C108/'Mortality&Morbidity'!H110","v":{"$error":"#DIV/0!"}}]
[105,103.619,140.3495,null,105,104.1345,141.0477,null,105,99.5884,64.6233,null,105,94.609,61.3921,null,{"$f":"B109/'Mortality&Morbidity'!AD111","v":{"$error":"#DIV/0!"}},{"$f":"C109/'Mortality&Morbidity'!H111","v":{"$error":"#DIV/0!"}}]
[]
[]
["注：以上费率非保证，但未来调整总上限不超过上述各表的150%。"]

{"sheet":"GP","index":11,"n_rows":122,"n_cols":35,"rows_kept":122,"cut":false,"hidden":true,"merged":[]}
[null,null,null,null,null,null,null,null,null,null,null,null,"GP",1000,{"$f":"VLOOKUP(PPP,$AF$1:$AG$6,2,FALSE)*N1","v":1000},null,null,null,null,null,null,null,null,null,"产品形态","生存保险金",null,null,null,null,null,1,0.1]
[null,null,null,null,null,null,null,null,null,null,null,null,"SA",{"$f":"'SA&Table'!F2","v":578},"复制批注的公式",null,null,null,null,null,null,null,null,null,null,"基本保额","生存金：第7保单年度开始，20%，至终身",null,null,null,null,3,0.3]
[null,null,"Basic Info",null,null,"Pricing Int Rate",null,null,null,null,null,null,null,null,null,null,null,null,null,"生存金期初给付",null,null,null,null,null,"年度保费","特别金：第6保单年度100%标准保费，",null,null,null,null,5,0.5]
[null,null,"Insured Age",{"$f":"Age","v":30},null,"i",{"$f":"Assumption!C17","v":0.025},null,null,null,null,null,null,null,null,null,null,null,null,"精算现值","loading","GP","占比",null,null,null,"祝寿金：0-17岁投保，66-75岁，每年给付累计保费10%",null,null,null,null,10,1]
[null,null,"Insured Sex",{"$f":"Sex","v":"M"},null,"v",{"$f":"1/(1+G4)","v":0.975609756097561},null,null,null,null,null,"GP",{"$f":"ROUND(N6/(1-N7),0)","v":1000},null,"Check",null,null,"Death",{"$f":"SUMPRODUCT(V16:V121,Z16:Z121)/Q16","v":1413.22438230766},{"$f":"$N$7","v":0.158868826942765},{"$f":"T5/$T$10/(1-U5)","v":187.519712107591},{"$f":"V5/$V$10","v":0.346175492644787},null,null,null,"            18岁以上投保，80-89岁，每年给付累计保费10%",null,null,null,null,15,1]
[null,null,null,null,null,"v-1/2",{"$f":"$G$5^(-1/2)","v":1.01242283656583},null,null,null,null,null,"NP",{"$f":"(T5+T7+T6*N2)/T10","v":841.315955985012},null,"APV(used_load)",{"$f":"SUMPRODUCT(AD16:AD121,Q16:Q121)/Q16","v":1.42343996252675},null,"Annuity-SA",{"$f":"SUMPRODUCT(Q16:Q121,AA16:AA121)/Q16","v":5.98902442708575},{"$f":"$N$7","v":0.158868826942765},{"$f":"T6/$T$10/(1-U6)","v":0.794679281246618},{"$f":"V6/$V$10","v":0.00146703772413171},null,null,"身故保险金",null,null,null,null,null,20,1]
[null,null,null,null,null,"v-3/4",{"$f":"$G$5^(-3/4)","v":1.01869200815554},null,null,null,null,null,"level used load",{"$f":"Q8","v":0.158868826942765},null,"ax:n",{"$f":"T10","v":8.95984435662488},null,"Annuity-GP",{"$f":"SUMPRODUCT(Q16:Q121,AB16:AB121)/Q16","v":2663.17951920754},{"$f":"$N$7","v":0.158868826942765},{"$f":"T7/$T$10/(1-U7)","v":353.375347173928},{"$f":"V7/$V$10","v":0.652357469631082},null,null,null,"给付累计已交保费与已领取的祝寿金的差额"]
[null,null,"PPP",{"$f":"PPP","v":10},null,"v-1/4",{"$f":"$G$5^(-1/4)","v":1.00619224632564},null,null,null,null,null,null,null,null,"loading",{"$f":"Q6/Q7","v":0.158868826942765},null,null,null,null,null,null,null,null,null,null,null,null,null,null,"被保险人投保年龄",{"$f":"Age","v":30},"0-17","18-55"]
[null,null,"BP",{"$f":"BP","v":76},null,null,null,null,null,null,null,null,"ax:n",{"$f":"(R16-LOOKUP(PPP+1,A:A,R:R))/Q16","v":8.95984435662488},null,null,null,null,null,null,null,null,null,null,null,null,null,null,null,null,null,"返费开始年龄",{"$f":"IF($AG$8<18,AH9,AI9)","v":80},66,80]
[null,null,"Unit",{"$f":"N2","v":578},null,null,null,null,null,null,null,null,null,null,null,null,null,null,"ax:n",{"$f":"(R16-LOOKUP(PPP+1,A:A,R:R))/Q16","v":8.95984435662488},null,{"$f":"SUM(V5:V9)","v":541.689738562766},null,null,null,null,null,null,null,null,null,"返费结束年龄",{"$f":"IF($AG$8<18,AH10,AI10)","v":89},75,89]
[null,null,null,null,null,null,null,null,null,null,null,null,null,null,null,null,null,null,null,null,null,null,null,null,null,null,null,null,null,null,null,"返费比例",0.1]
[null,null,null,null,null,null,null,null,null,null,null,null,null,null,null,null,null,null,null,null,null,null,null,null,null,null,null,null,null,null,null,"身故保险金结束年龄",{"$f":"IF($AG$8<18,AH12,AI12)","v":89},75,89]
[null,null,"保费计算",null,null,null,null,null,null,null,null,null,null,null,null,null,null,null,null,null,null,null,null,null,"Sum Assured"]
[null,null,null,null,null,null,null,null,null,null,null,null,null,null,null,null,null,null,null,null,null,null,null,null,null,null,null,null,null,null,null,null,null,{"$f":"SUM(AH16:AH122)","v":0}]
["policy yr","age\n（期初）","qx(Death)","ix(CI)","kx(CI)","qx(Death w/o CI)","mx(MinorCI)","qx(TPD WP)","mx(MCI WP)","vx","px(Death&CI)","lx(Death&CI)","dx(CI)","dx(Death)","dx(SpecificCA)","dx(ADD)","Dx(Death&CI)","Nx(Death&CI)",null,null,null,"Cx身故","Cx(SpecificCA)","Cx(ADD)","PPP","身故保险金\n（期末）","生存保险金\n基本保额\n（期初）","生存保险金\n年度保费\n（期初）","Loading(std)","Loading(used)","Min CSV\n含生存金","累计已交\n保费的20%","当年\n生存金","Check"]
[1,{"$f":"Age","v":30},{"$f":"IF(B16=\"\",0,VLOOKUP(B16,'Mortality&Morbidity'!AB:AC,2,FALSE)/1000)","v":0.0002328},{"$f":"0","v":0},{"$f":"0","v":0},{"$f":"IF(B16=\"\",0,IF(B16=105,1-D16,(1-E16)*C16))","v":0.0002328},{"$f":"IF(B16=\"\",0,0/1000)","v":0},{"$f":"IF(B16=\"\",0,0/1000)","v":0},{"$f":"IF(B16=\"\",0,0/1000)","v":0},{"$f":"IF(A16=1,1,$G$5^(A15))","v":1},{"$f":"IF(A16>=107,0,IF(B16=\"\",0,1-D16-F16))","v":0.9997672},1000,{"$f":"IF(B16=\"\",0,D16*L16)","v":0},{"$f":"IF(B16=\"\",0,F16*L16)","v":0.2328},{"$f":"IF(B16=\"\",0,0)","v":0},{"$f":"IF(B16=\"\",0,0)","v":0},{"$f":"IF(A16>BP+1,0,J16*L16)","v":1000},{"$f":"IF(B15=\"\",0,SUM(Q16:$Q$122))","v":30825.5176959052},null,null,null,{"$f":"IF(B16=\"\",0,IF(A16=1,J17*N16*$G$6,J17*N16*$G$6))","v":0.229943450100024},{"$f":"IF(B16=\"\",0,IF(A16=1,J17*O16/2*$G$8,J17*O16*$G$6))","v":0},{"$f":"IF(B16=\"\",0,J17*P16*$G$6)","v":0},{"$f":"IF(B16=\"\",\"\",IF(A16<=PPP,1,0))","v":1},{"$f":"IF(B16=\"\",0,MAX(IF(B16<=$AG$12,$N$1*SUM($Y$16:Y16),0),AE16))","v":1000},{"$f":"IF(B16=\"\",0,IF(A16>6,IF(B16>=60,30%,20%),0%))","v":0},{"$f":"IF(B16=\"\",0,IF(OR(A16=6,A16=6),100%*$O$1,IF(AND(B16>=$AG$9,B16<=$AG$10),$AG$11*PPP*$N$1,0)))","v":0},{"$f":"IF(B16=\"\",0,0)*(A16<=PPP)","v":0},{"$f":"IF(B16=\"\",0,VLOOKUP(A16,'Mortality&Morbidity'!$BE$37:$BF$42,2,TRUE)*Y16)","v":0.4},{"$f":"CSV!AJ17","v":382},{"$f":"$N$1*SUM($Y$16:Y16)*20%","v":200},{"$f":"AA16*$D$10+AB16","v":0},{"$f":"IF(AG16<AF16,0,1)","v":0}]
[{"$f":"IF(A16=\"\",\"\",IF(A16<BP,A16+1,\"\"))","v":2},{"$f":"IF(A17=\"\",\"\",B16+1)","v":31},{"$f":"IF(B17=\"\",0,VLOOKUP(B17,'Mortality&Morbidity'!AB:AC,2,FALSE)/1000)","v":0.0002496},0,0,{"$f":"IF(B17=\"\",0,IF(B17=105,1-D17,(1-E17)*C17))","v":0.0002496},{"$f":"IF(B17=\"\",0,0/1000)","v":0},{"$f":"IF(B17=\"\",0,0/1000)","v":0},{"$f":"IF(B17=\"\",0,0/1000)","v":0},{"$f":"IF(A17=1,1,$G$5^(A16))","v":0.975609756097561},{"$f":"IF(A17>=107,0,IF(B17=\"\",0,1-D17-F17))","v":0.9997504},{"$f":"IF(B16=\"\",0,L16*K16)","v":999.7672},0,0.24954189312,{"$f":"IF(B17=\"\",0,0)","v":0},{"$f":"IF(B17=\"\",0,0)","v":0},975.382634146342,{"$f":"IF(B16=\"\",0,SUM(Q17:$Q$122))","v":29825.5176959052},null,null,null,{"$f":"IF(B17=\"\",0,IF(A17=1,J18*N17*$G$6,J18*N17*$G$6))","v":0.240468208232773},0,0,1,{"$f":"IF(B17=\"\",0,MAX(IF(B17<=$AG$12,$N$1*SUM($Y$16:Y17),0),AE17))","v":2000},{"$f":"IF(B17=\"\",0,IF(A17>6,IF(B17>=60,30%,20%),0%))","v":0},{"$f":"IF(B17=\"\",0,IF(OR(A17=6,A17=6),100%*$O$1,IF(AND(B17>=$AG$9,B17<=$AG$10),$AG$11*PPP*$N$1,0)))","v":0},0,{"$f":"IF(B17=\"\",0,VLOOKUP(A17,'Mortality&Morbidity'!$BE$37:$BF$42,2,TRUE)*Y17)","v":0.18},{"$f":"CSV!AJ18","v":884},{"$f":"$N$1*SUM($Y$16:Y17)*20%","v":400},{"$f":"AA17*$D$10+AB17","v":0},{"$f":"IF(AG17<AF17,0,1)","v":0}]
[3,{"$f":"IF(A18=\"\",\"\",B17+1)","v":32},{"$f":"IF(B18=\"\",0,VLOOKUP(B18,'Mortality&Morbidity'!AB:AC,2,FALSE)/1000)","v":0.000268},0,0,0.000268,0,0,0,0.951814396192743,0.999732,999.51765810688,0,0.267870732372644,0,0,951.355296234984,{"$f":"IF(B17=\"\",0,SUM(Q18:$Q$122))","v":28850.1350617588},null,null,null,0.251834717849529,0,0,1,{"$f":"IF(B18=\"\",0,MAX(IF(B18<=$AG$12,$N$1*SUM($Y$16:Y18),0),AE18))","v":3000},0,0,0,{"$f":"IF(B18=\"\",0,VLOOKUP(A18,'Mortality&Morbidity'!$BE$37:$BF$42,2,TRUE)*Y18)","v":0.18},{"$f":"CSV!AJ19","v":1481},{"$f":"$N$1*SUM($Y$16:Y18)*20%","v":600},0,0]
[4,33,{"$f":"IF(B19=\"\",0,VLOOKUP(B19,'Mortality&Morbidity'!AB:AC,2,FALSE)/1000)","v":0.0002888},0,0,0.0002888,0,0,0,0.928599410919749,0.9997112,999.249787374507,0,0.288583338593758,0,0,927.902763917652,{"$f":"IF(B18=\"\",0,SUM(Q19:$Q$122))","v":27898.7797655238},null,null,null,0.264690116165701,0,0,1,{"$f":"IF(B19=\"\",0,MAX(IF(B19<=$AG$12,$N$1*SUM($Y$16:Y19),0),AE19))","v":4000},0,0,0,{"$f":"IF(B19=\"\",0,VLOOKUP(A19,'Mortality&Morbidity'!$BE$37:$BF$42,2,TRUE)*Y19)","v":0.14},{"$f":"CSV!AJ20","v":2135},{"$f":"$N$1*SUM($Y$16:Y19)*20%","v":800},0,0]
[5,34,{"$f":"IF(B20=\"\",0,VLOOKUP(B20,'Mortality&Morbidity'!AB:AC,2,FALSE)/1000)","v":0.000312},0,0,0.000312,0,0,0,0.905950644799755,0.999688,998.961204035914,0,0.311675895659205,0,0,905.009546926276,{"$f":"IF(B19=\"\",0,SUM(Q20:$Q$122))","v":26970.8770016062},null,null,null,0.27889827100185,0,0,1,{"$f":"IF(B20=\"\",0,MAX(IF(B20<=$AG$12,$N$1*SUM($Y$16:Y20),0),AE20))","v":5000},0,0,0,{"$f":"IF(B20=\"\",0,VLOOKUP(A20,'Mortality&Morbidity'!$BE$37:$BF$42,2,TRUE)*Y20)","v":0.14},{"$f":"CSV!AJ21","v":2878},{"$f":"$N$1*SUM($Y$16:Y20)*20%","v":1000},0,0]
[6,35,{"$f":"IF(B21=\"\",0,VLOOKUP(B21,'Mortality&Morbidity'!AB:AC,2,FALSE)/1000)","v":0.000338},0,0,0.000338,0,0,0,0.883854287609517,0.999662,998.649528140254,0,0.337543540511406,0,0,882.660667265985,{"$f":"IF(B20=\"\",0,SUM(Q21:$Q$122))","v":26065.8674546799},null,null,null,0.294678561921696,0,0,1,{"$f":"IF(B21=\"\",0,MAX(IF(B21<=$AG$12,$N$1*SUM($Y$16:Y21),0),AE21))","v":6000},0,1000,0,{"$f":"IF(B21=\"\",0,VLOOKUP(A21,'Mortality&Morbidity'!$BE$37:$BF$42,2,TRUE)*Y21)","v":0.1},{"$f":"CSV!AJ22","v":2568.6},{"$f":"$N$1*SUM($Y$16:Y21)*20%","v":1200},1000,0]
[7,36,{"$f":"IF(B22=\"\",0,VLOOKUP(B22,'Mortality&Morbidity'!AB:AC,2,FALSE)/1000)","v":0.0003664},0,0,0.0003664,0,0,0,0.862296865960505,0.9996336,998.311984599743,0,0.365781511157346,0,0,860.84129557117,{"$f":"IF(B21=\"\",0,SUM(Q22:$Q$122))","v":25183.2067874139},null,null,null,0.31154201515956,0,0,1,{"$f":"IF(B22=\"\",0,MAX(IF(B22<=$AG$12,$N$1*SUM($Y$16:Y22)-SUM($AB$22:AB22),0),AE22))","v":7000},0.2,0,0,{"$f":"IF(B22=\"\",0,VLOOKUP(A22,'Mortality&Morbidity'!$BE$37:$BF$42,2,TRUE)*Y22)","v":0.1},{"$f":"CSV!AJ23","v":3176.6},{"$f":"$N$1*SUM($Y$16:Y22)*20%","v":1400},115.6,0]
[8,37,{"$f":"IF(B23=\"\",0,VLOOKUP(B23,'Mortality&Morbidity'!AB:AC,2,FALSE)/1000)","v":0.000398},0,0,0.000398,0,0,0,0.841265235083419,0.999602,997.946203088586,0,0.397182588829257,0,0,839.537447141925,{"$f":"IF(B22=\"\",0,SUM(Q23:$Q$122))","v":24322.3654918427},null,null,null,0.330035921647012,0,0,1,{"$f":"IF(B23=\"\",0,MAX(IF(B23<=$AG$12,$N$1*SUM($Y$16:Y23)-SUM($AB$22:AB23),0),AE23))","v":8000},0.2,0,0,{"$f":"IF(B23=\"\",0,VLOOKUP(A23,'Mortality&Morbidity'!$BE$37:$BF$42,2,TRUE)*Y23)","v":0.1},{"$f":"CSV!AJ24","v":3819.6},{"$f":"$N$1*SUM($Y$16:Y23)*20%","v":1600},115.6,0]
[9,38,{"$f":"IF(B24=\"\",0,VLOOKUP(B24,'Mortality&Morbidity'!AB:AC,2,FALSE)/1000)","v":0.0004332},0,0,0.0004332,0,0,0,0.820746570813092,0.9995668,997.549020499756,0,0.432138235680495,0,0,818.734937793134,{"$f":"IF(B23=\"\",0,SUM(Q24:$Q$122))","v":23482.8280447008},null,null,null,0.350323957779398,0,0,1,{"$f":"IF(B24=\"\",0,MAX(IF(B24<=$AG$12,$N$1*SUM($Y$16:Y24)-SUM($AB$22:AB24),0),AE24))","v":9000},0.2,0,0,{"$f":"IF(B24=\"\",0,VLOOKUP(A24,'Mortality&Morbidity'!$BE$37:$BF$42,2,TRUE)*Y24)","v":0.1},{"$f":"CSV!AJ25","v":4499.6},{"$f":"$N$1*SUM($Y$16:Y24)*20%","v":1800},115.6,0]
[10,39,{"$f":"IF(B25=\"\",0,VLOOKUP(B25,'Mortality&Morbidity'!AB:AC,2,FALSE)/1000)","v":0.000472},0,0,0.000472,0,0,0,0.80072836176887,0.999528,997.116882264076,0,0.470639168428644,0,0,798.419767627397,{"$f":"IF(B24=\"\",0,SUM(Q25:$Q$122))","v":22664.0931069077},null,null,null,0.372229978136835,0,0,1,{"$f":"IF(B25=\"\",0,MAX(IF(B25<=$AG$12,$N$1*SUM($Y$16:Y25)-SUM($AB$22:AB25),0),AE25))","v":10000},0.2,0,0,{"$f":"IF(B25=\"\",0,VLOOKUP(A25,'Mortality&Morbidity'!$BE$37:$BF$42,2,TRUE)*Y25)","v":0.1},{"$f":"CSV!AJ26","v":5218.6},{"$f":"$N$1*SUM($Y$16:Y25)*20%","v":2000},115.6,0]
[11,40,{"$f":"IF(B26=\"\",0,VLOOKUP(B26,'Mortality&Morbidity'!AB:AC,2,FALSE)/1000)","v":0.0005152},0,0,0.0005152,0,0,0,0.781198401725727,0.9994848,996.646243095647,0,0.513472144442877,0,0,778.57845219227,{"$f":"IF(B25=\"\",0,SUM(Q26:$Q$122))","v":21865.6733392803},null,null,null,0.396201669976234,0,0,0,{"$f":"IF(B26=\"\",0,MAX(IF(B26<=$AG$12,$N$1*SUM($Y$16:Y26)-SUM($AB$22:AB26),0),AE26))","v":10000},0.2,0,0,{"$f":"IF(B26=\"\",0,VLOOKUP(A26,'Mortality&Morbidity'!$BE$37:$BF$42,2,TRUE)*Y26)","v":0},{"$f":"CSV!AJ27","v":5304.6},{"$f":"$N$1*SUM($Y$16:Y26)*20%","v":2000},115.6,0]
[12,41,{"$f":"IF(B27=\"\",0,VLOOKUP(B27,'Mortality&Morbidity'!AB:AC,2,FALSE)/1000)","v":0.000562},0,0,0.000562,0,0,0,0.762144782171441,0.999438,996.132770951204,0,0.559826617274577,0,0,759.19739373044,{"$f":"IF(B26=\"\",0,SUM(Q27:$Q$122))","v":21087.094887088},null,null,null,0.421433535343574,0,0,0,{"$f":"IF(B27=\"\",0,MAX(IF(B27<=$AG$12,$N$1*SUM($Y$16:Y27)-SUM($AB$22:AB27),0),AE27))","v":10000},0.2,0,0,{"$f":"IF(B27=\"\",0,VLOOKUP(A27,'Mortality&Morbidity'!$BE$37:$BF$42,2,TRUE)*Y27)","v":0},{"$f":"CSV!AJ28","v":5394.6},{"$f":"$N$1*SUM($Y$16:Y27)*20%","v":2000},115.6,0]
[13,42,{"$f":"IF(B28=\"\",0,VLOOKUP(B28,'Mortality&Morbidity'!AB:AC,2,FALSE)/1000)","v":0.000614},0,0,0.000614,0,0,0,0.743555885045309,0.999386,995.57294433393,0,0.611281787821033,0,0,740.264121751379,{"$f":"IF(B27=\"\",0,SUM(Q28:$Q$122))","v":20327.8974933576},null,null,null,0.448945000388474,0,0,0,{"$f":"IF(B28=\"\",0,MAX(IF(B28<=$AG$12,$N$1*SUM($Y$16:Y28)-SUM($AB$22:AB28),0),AE28))","v":10000},0.2,0,0,{"$f":"IF(B28=\"\",0,VLOOKUP(A28,'Mortality&Morbidity'!$BE$37:$BF$42,2,TRUE)*Y28)","v":0},{"$f":"CSV!AJ29","v":5486.6},{"$f":"$N$1*SUM($Y$16:Y28)*20%","v":2000},115.6,0]
[14,43,{"$f":"IF(B29=\"\",0,VLOOKUP(B29,'Mortality&Morbidity'!AB:AC,2,FALSE)/1000)","v":0.0006712},0,0,0.0006712,0,0,0,0.72542037565396,0.9993288,994.961662546109,0,0.667818267900948,0,0,721.765463005486,{"$f":"IF(B28=\"\",0,SUM(Q29:$Q$122))","v":19587.6333716062},null,null,null,0.478504594397089,0,0,0,{"$f":"IF(B29=\"\",0,MAX(IF(B29<=$AG$12,$N$1*SUM($Y$16:Y29)-SUM($AB$22:AB29),0),AE29))","v":10000},0.2,0,0,{"$f":"IF(B29=\"\",0,VLOOKUP(A29,'Mortality&Morbidity'!$BE$37:$BF$42,2,TRUE)*Y29)","v":0},{"$f":"CSV!AJ30","v":5582.6},{"$f":"$N$1*SUM($Y$16:Y29)*20%","v":2000},115.6,0]
[15,44,{"$f":"IF(B30=\"\",0,VLOOKUP(B30,'Mortality&Morbidity'!AB:AC,2,FALSE)/1000)","v":0.0007336},0,0,0.0007336,0,0,0,0.707727195759961,0.9992664,994.293844278208,0,0.729413964162493,0,0,703.688794172407,{"$f":"IF(B29=\"\",0,SUM(Q30:$Q$122))","v":18865.8679086007},null,null,null,0.509891796945171,0,0,0,{"$f":"IF(B30=\"\",0,MAX(IF(B30<=$AG$12,$N$1*SUM($Y$16:Y30)-SUM($AB$22:AB30),0),AE30))","v":10000},0.2,0,0,{"$f":"IF(B30=\"\",0,VLOOKUP(A30,'Mortality&Morbidity'!$BE$37:$BF$42,2,TRUE)*Y30)","v":0},{"$f":"CSV!AJ31","v":5682.6},{"$f":"$N$1*SUM($Y$16:Y30)*20%","v":2000},115.6,0]
[16,45,{"$f":"IF(B31=\"\",0,VLOOKUP(B31,'Mortality&Morbidity'!AB:AC,2,FALSE)/1000)","v":0.0008016},0,0,0.0008016,0,0,0,0.690465556838986,0.9991984,993.564430314045,0,0.796441247339739,0,0,686.022017632197,{"$f":"IF(B30=\"\",0,SUM(Q31:$Q$122))","v":18162.1791144283},null,null,null,0.5431675674161,0,0,0,{"$f":"IF(B31=\"\",0,MAX(IF(B31<=$AG$12,$N$1*SUM($Y$16:Y31)-SUM($AB$22:AB31),0),AE31))","v":10000},0.2,0,0,{"$f":"IF(B31=\"\",0,VLOOKUP(A31,'Mortality&Morbidity'!$BE$37:$BF$42,2,TRUE)*Y31)","v":0},{"$f":"CSV!AJ32","v":5786.6},{"$f":"$N$1*SUM($Y$16:Y31)*20%","v":2000},115.6,0]
[17,46,{"$f":"IF(B32=\"\",0,VLOOKUP(B32,'Mortality&Morbidity'!AB:AC,2,FALSE)/1000)","v":0.0008756},0,0,0.0008756,0,0,0,0.67362493350145,0.9991244,992.767989066706,0,0.869267651226807,0,0,668.753270617428,{"$f":"IF(B31=\"\",0,SUM(Q32:$Q$122))","v":17476.1570967961},null,null,null,0.578375301903362,0,0,0,{"$f":"IF(B32=\"\",0,MAX(IF(B32<=$AG$12,$N$1*SUM($Y$16:Y32)-SUM($AB$22:AB32),0),AE32))","v":10000},0.2,0,0,{"$f":"IF(B32=\"\",0,VLOOKUP(A32,'Mortality&Morbidity'!$BE$37:$BF$42,2,TRUE)*Y32)","v":0},{"$f":"CSV!AJ33","v":5893.6},{"$f":"$N$1*SUM($Y$16:Y32)*20%","v":2000},115.6,0]
[18,47,{"$f":"IF(B33=\"\",0,VLOOKUP(B33,'Mortality&Morbidity'!AB:AC,2,FALSE)/1000)","v":0.0009564},0,0,0.0009564,0,0,0,0.657195057074585,0.9990436,991.898721415479,0,0.948651937161764,0,0,651.870936832854,{"$f":"IF(B32=\"\",0,SUM(Q33:$Q$122))","v":16807.4038261787},null,null,null,0.615799388822265,0,0,0,{"$f":"IF(B33=\"\",0,MAX(IF(B33<=$AG$12,$N$1*SUM($Y$16:Y33)-SUM($AB$22:AB33),0),AE33))","v":10000},0.2,0,0,{"$f":"IF(B33=\"\",0,VLOOKUP(A33,'Mortality&Morbidity'!$BE$37:$BF$42,2,TRUE)*Y33)","v":0},{"$f":"CSV!AJ34","v":6005.6},{"$f":"$N$1*SUM($Y$16:Y33)*20%","v":2000},115.6,0]
[19,48,{"$f":"IF(B34=\"\",0,VLOOKUP(B34,'Mortality&Morbidity'!AB:AC,2,FALSE)/1000)","v":0.0010436},0,0,0.0010436,0,0,0,0.641165909341059,0.9989564,990.950069478317,0,1.03415549250757,0,0,635.363402408651,{"$f":"IF(B33=\"\",0,SUM(Q34:$Q$122))","v":16155.5328893458},null,null,null,0.654929168728361,0,0,0,{"$f":"IF(B34=\"\",0,MAX(IF(B34<=$AG$12,$N$1*SUM($Y$16:Y34)-SUM($AB$22:AB34),0),AE34))","v":10000},0.2,0,0,{"$f":"IF(B34=\"\",0,VLOOKUP(A34,'Mortality&Morbidity'!$BE$37:$BF$42,2,TRUE)*Y34)","v":0},{"$f":"CSV!AJ35","v":6121.6},{"$f":"$N$1*SUM($Y$16:Y34)*20%","v":2000},115.6,0]
[20,49,{"$f":"IF(B35=\"\",0,VLOOKUP(B35,'Mortality&Morbidity'!AB:AC,2,FALSE)/1000)","v":0.0011376},0,0,0.0011376,0,0,0,0.625527716430301,0.9988624,989.91591398581,0,1.12612834375026,0,0,619.219841133558,{"$f":"IF(B34=\"\",0,SUM(Q35:$Q$122))","v":15520.1694869372},null,null,null,0.695780918635702,0,0,0,{"$f":"IF(B35=\"\",0,MAX(IF(B35<=$AG$12,$N$1*SUM($Y$16:Y35)-SUM($AB$22:AB35),0),AE35))","v":10000},0.2,0,0,{"$f":"IF(B35=\"\",0,VLOOKUP(A35,'Mortality&Morbidity'!$BE$37:$BF$42,2,TRUE)*Y35)","v":0},{"$f":"CSV!AJ36","v":6241.6},{"$f":"$N$1*SUM($Y$16:Y35)*20%","v":2000},115.6,0]
[21,50,{"$f":"IF(B36=\"\",0,VLOOKUP(B36,'Mortality&Morbidity'!AB:AC,2,FALSE)/1000)","v":0.0012392},0,0,0.0012392,0,0,0,0.610270942858831,0.9987608,988.789785642059,0,1.22530830236764,0,0,603.429674772961,{"$f":"IF(B35=\"\",0,SUM(Q36:$Q$122))","v":14900.9496458036},null,null,null,0.738594612815247,0,0,0,{"$f":"IF(B36=\"\",0,MAX(IF(B36<=$AG$12,$N$1*SUM($Y$16:Y36)-SUM($AB$22:AB36),0),AE36))","v":10000},0.2,0,0,{"$f":"IF(B36=\"\",0,VLOOKUP(A36,'Mortality&Morbidity'!$BE$37:$BF$42,2,TRUE)*Y36)","v":0},{"$f":"CSV!AJ37","v":6365.6},{"$f":"$N$1*SUM($Y$16:Y36)*20%","v":2000},115.6,0]
[22,51,{"$f":"IF(B37=\"\",0,VLOOKUP(B37,'Mortality&Morbidity'!AB:AC,2,FALSE)/1000)","v":0.0013484},0,0,0.0013484,0,0,0,0.595386285715932,0.9986516,987.564477339692,0,1.33163194124484,0,0,587.982346068275,{"$f":"IF(B36=\"\",0,SUM(Q37:$Q$122))","v":14297.5199710307},null,null,null,0.78310698534595,0,0,0,{"$f":"IF(B37=\"\",0,MAX(IF(B37<=$AG$12,$N$1*SUM($Y$16:Y37)-SUM($AB$22:AB37),0),AE37))","v":10000},0.2,0,0,{"$f":"IF(B37=\"\",0,VLOOKUP(A37,'Mortality&Morbidity'!$BE$37:$BF$42,2,TRUE)*Y37)","v":0},{"$f":"CSV!AJ38","v":6495.6},{"$f":"$N$1*SUM($Y$16:Y37)*20%","v":2000},115.6,0]
[23,52,{"$f":"IF(B38=\"\",0,VLOOKUP(B38,'Mortality&Morbidity'!AB:AC,2,FALSE)/1000)","v":0.0014656},0,0,0.0014656,0,0,0,0.580864668991154,0.9985344,986.232845398447,0,1.44542285821596,0,0,572.867815290572,{"$f":"IF(B37=\"\",0,SUM(Q38:$Q$122))","v":13709.5376249624},null,null,null,0.829292899928844,0,0,0,{"$f":"IF(B38=\"\",0,MAX(IF(B38<=$AG$12,$N$1*SUM($Y$16:Y38)-SUM($AB$22:AB38),0),AE38))","v":10000},0.2,0,0,{"$f":"IF(B38=\"\",0,VLOOKUP(A38,'Mortality&Morbidity'!$BE$37:$BF$42,2,TRUE)*Y38)","v":0},{"$f":"CSV!AJ39","v":6629.6},{"$f":"$N$1*SUM($Y$16:Y38)*20%","v":2000},115.6,0]
[24,53,{"$f":"IF(B39=\"\",0,VLOOKUP(B39,'Mortality&Morbidity'!AB:AC,2,FALSE)/1000)","v":0.0015912},0,0,0.0015912,0,0,0,0.56669723804015,0.9984088,984.787422540231,0,1.56699374674602,0,0,558.076312410227,{"$f":"IF(B38=\"\",0,SUM(Q39:$Q$122))","v":13136.6698096718},null,null,null,0.877114774810212,0,0,0,{"$f":"IF(B39=\"\",0,MAX(IF(B39<=$AG$12,$N$1*SUM($Y$16:Y39)-SUM($AB$22:AB39),0),AE39))","v":10000},0.2,0,0,{"$f":"IF(B39=\"\",0,VLOOKUP(A39,'Mortality&Morbidity'!$BE$37:$BF$42,2,TRUE)*Y39)","v":0},{"$f":"CSV!AJ40","v":6769.6},{"$f":"$N$1*SUM($Y$16:Y39)*20%","v":2000},115.6,0]
[25,54,{"$f":"IF(B40=\"\",0,VLOOKUP(B40,'Mortality&Morbidity'!AB:AC,2,FALSE)/1000)","v":0.0017256},0,0,0.0017256,0,0,0,0.552875354185512,0.9982744,983.220428793485,0,1.69664517192604,0,0,543.598342811629,{"$f":"IF(B39=\"\",0,SUM(Q40:$Q$122))","v":12578.5934972616},null,null,null,0.926523253404266,0,0,0,{"$f":"IF(B40=\"\",0,MAX(IF(B40<=$AG$12,$N$1*SUM($Y$16:Y40)-SUM($AB$22:AB40),0),AE40))","v":10000},0.2,0,0,{"$f":"IF(B40=\"\",0,VLOOKUP(A40,'Mortality&Morbidity'!$BE$37:$BF$42,2,TRUE)*Y40)","v":0},{"$f":"CSV!AJ41","v":6913.6},{"$f":"$N$1*SUM($Y$16:Y40)*20%","v":2000},115.6,0]
[26,55,{"$f":"IF(B41=\"\",0,VLOOKUP(B41,'Mortality&Morbidity'!AB:AC,2,FALSE)/1000)","v":0.0018684},0,0,0.0018684,0,0,0,0.53939058944928,0.9981316,981.523783621559,0,1.83387903731852,0,0,529.42469220612,{"$f":"IF(B40=\"\",0,SUM(Q41:$Q$122))","v":12034.99515445},null,null,null,0.977039492978285,0,0,0,{"$f":"IF(B41=\"\",0,MAX(IF(B41<=$AG$12,$N$1*SUM($Y$16:Y41)-SUM($AB$22:AB41),0),AE41))","v":10000},0.2,0,0,{"$f":"IF(B41=\"\",0,VLOOKUP(A41,'Mortality&Morbidity'!$BE$37:$BF$42,2,TRUE)*Y41)","v":0},{"$f":"CSV!AJ42","v":7064.6},{"$f":"$N$1*SUM($Y$16:Y41)*20%","v":2000},115.6,0]
[27,56,{"$f":"IF(B42=\"\",0,VLOOKUP(B42,'Mortality&Morbidity'!AB:AC,2,FALSE)/1000)","v":0.0020216},0,0,0.0020216,0,0,0,0.526234721413932,0.9979784,979.689904584241,0,1.9805411111075,0,0,515.546844010929,{"$f":"IF(B41=\"\",0,SUM(Q42:$Q$122))","v":11505.5704622438},null,null,null,1.02944092350561,0,0,0,{"$f":"IF(B42=\"\",0,MAX(IF(B42<=$AG$12,$N$1*SUM($Y$16:Y42)-SUM($AB$22:AB42),0),AE42))","v":10000},0.2,0,0,{"$f":"IF(B42=\"\",0,VLOOKUP(A42,'Mortality&Morbidity'!$BE$37:$BF$42,2,TRUE)*Y42)","v":0},{"$f":"CSV!AJ43","v":7220.6},{"$f":"$N$1*SUM($Y$16:Y42)*20%","v":2000},115.6,0]
[28,57,{"$f":"IF(B43=\"\",0,VLOOKUP(B43,'Mortality&Morbidity'!AB:AC,2,FALSE)/1000)","v":0.0021868},0,0,0.0021868,0,0,0,0.513399728208714,0.9978132,977.709363473133,0,2.13805483604305,0,0,501.955721474221,{"$f":"IF(B42=\"\",0,SUM(Q43:$Q$122))","v":10990.0236182329},null,null,null,1.08420783498245,0,0,0,{"$f":"IF(B43=\"\",0,MAX(IF(B43<=$AG$12,$N$1*SUM($Y$16:Y43)-SUM($AB$22:AB43),0),AE43))","v":10000},0.2,0,0,{"$f":"IF(B43=\"\",0,VLOOKUP(A43,'Mortality&Morbidity'!$BE$37:$BF$42,2,TRUE)*Y43)","v":0},{"$f":"CSV!AJ44","v":7383.6},{"$f":"$N$1*SUM($Y$16:Y43)*20%","v":2000},115.6,0]
[29,58,{"$f":"IF(B44=\"\",0,VLOOKUP(B44,'Mortality&Morbidity'!AB:AC,2,FALSE)/1000)","v":0.0023676},0,0,0.0023676,0,0,0,0.500877783618258,0.9976324,975.57130863709,0,2.30976263032917,0,0,488.641994831709,{"$f":"IF(B43=\"\",0,SUM(Q44:$Q$122))","v":10488.0678967587},null,null,null,1.14271304950788,0,0,0,{"$f":"IF(B44=\"\",0,MAX(IF(B44<=$AG$12,$N$1*SUM($Y$16:Y44)-SUM($AB$22:AB44),0),AE44))","v":10000},0.2,0,0,{"$f":"IF(B44=\"\",0,VLOOKUP(A44,'Mortality&Morbidity'!$BE$37:$BF$42,2,TRUE)*Y44)","v":0},{"$f":"CSV!AJ45","v":7552.6},{"$f":"$N$1*SUM($Y$16:Y44)*20%","v":2000},115.6,0]
[30,59,{"$f":"IF(B45=\"\",0,VLOOKUP(B45,'Mortality&Morbidity'!AB:AC,2,FALSE)/1000)","v":0.002568},0,0,0.002568,0,0,0,0.488661252310495,0.997432,973.261546006761,0,2.49933565014536,0,0,475.595205897312,{"$f":"IF(B44=\"\",0,SUM(Q45:$Q$122))","v":9999.42590192697},null,null,null,1.20634229556406,0,0,0,{"$f":"IF(B45=\"\",0,MAX(IF(B45<=$AG$12,$N$1*SUM($Y$16:Y45)-SUM($AB$22:AB45),0),AE45))","v":10000},0.2,0,0,{"$f":"IF(B45=\"\",0,VLOOKUP(A45,'Mortality&Morbidity'!$BE$37:$BF$42,2,TRUE)*Y45)","v":0},{"$f":"CSV!AJ46","v":7727.4},{"$f":"$N$1*SUM($Y$16:Y45)*20%","v":2000},115.6,0]
[31,60,{"$f":"IF(B46=\"\",0,VLOOKUP(B46,'Mortality&Morbidity'!AB:AC,2,FALSE)/1000)","v":0.00279},0,0,0.00279,0,0,0,0.476742685180971,0.99721,970.762210356616,0,2.70842656689496,0,0,462.803782837628,{"$f":"IF(B45=\"\",0,SUM(Q46:$Q$122))","v":9523.83069602966},null,null,null,1.27537873256282,0,0,0,{"$f":"IF(B46=\"\",0,MAX(IF(B46<=$AG$12,$N$1*SUM($Y$16:Y46)-SUM($AB$22:AB46),0),AE46))","v":10000},0.3,0,0,{"$f":"IF(B46=\"\",0,VLOOKUP(A46,'Mortality&Morbidity'!$BE$37:$BF$42,2,TRUE)*Y46)","v":0},{"$f":"CSV!AJ47","v":7850.4},{"$f":"$N$1*SUM($Y$16:Y46)*20%","v":2000},173.4,0]
[32,61,{"$f":"IF(B47=\"\",0,VLOOKUP(B47,'Mortality&Morbidity'!AB:AC,2,FALSE)/1000)","v":0.003038},0,0,0.003038,0,0,0,0.465114814810704,0.996962,968.053783789721,0,2.94094739515317,0,0,450.256156374157,{"$f":"IF(B46=\"\",0,SUM(Q47:$Q$122))","v":9061.02691319203},null,null,null,1.35109378577885,0,0,0,{"$f":"IF(B47=\"\",0,MAX(IF(B47<=$AG$12,$N$1*SUM($Y$16:Y47)-SUM($AB$22:AB47),0),AE47))","v":10000},0.3,0,0,{"$f":"IF(B47=\"\",0,VLOOKUP(A47,'Mortality&Morbidity'!$BE$37:$BF$42,2,TRUE)*Y47)","v":0},{"$f":"CSV!AJ48","v":7976.4},{"$f":"$N$1*SUM($Y$16:Y47)*20%","v":2000},173.4,0]
[33,62,{"$f":"IF(B48=\"\",0,VLOOKUP(B48,'Mortality&Morbidity'!AB:AC,2,FALSE)/1000)","v":0.0033136},0,0,0.0033136,0,0,0,0.453770551034833,0.9966864,965.112836394568,{"$f":"IF(B48=\"\",0,D48*L48)","v":0},{"$f":"IF(B48=\"\",0,F48*L48)","v":3.19799789467704},0,0,{"$f":"IF(A48>BP+1,0,J48*L48)","v":437.939783581553},{"$f":"IF(B47=\"\",0,SUM(Q48:$Q$122))","v":8610.77075681788},null,null,null,{"$f":"IF(B48=\"\",0,IF(A48=1,J49*N48*$G$6,J49*N48*$G$6))","v":1.43335098188639},{"$f":"IF(B48=\"\",0,IF(A48=1,J49*O48/2*$G$8,J49*O48*$G$6))","v":0},{"$f":"IF(B48=\"\",0,J49*P48*$G$6)","v":0},{"$f":"IF(B48=\"\",\"\",IF(A48<=PPP,1,0))","v":0},{"$f":"IF(B48=\"\",0,MAX(IF(B48<=$AG$12,$N$1*SUM($Y$16:Y48)-SUM($AB$22:AB48),0),AE48))","v":10000},0.3,{"$f":"IF(B48=\"\",0,IF(OR(A48=6,A48=6),100%*$O$1,IF(AND(B48>=$AG$9,B48<=$AG$10),$AG$11*PPP*$N$1,0)))","v":0},{"$f":"IF(B48=\"\",0,0)*(A48<=PPP)","v":0},{"$f":"IF(B48=\"\",0,VLOOKUP(A48,'Mortality&Morbidity'!$BE$37:$BF$42,2,TRUE)*Y48)","v":0},{"$f":"CSV!AJ49","v":8108.4},{"$f":"$N$1*SUM($Y$16:Y48)*20%","v":2000},173.4,0]
[{"$f":"IF(A48=\"\",\"\",IF(A48<BP,A48+1,\"\"))","v":34},63,{"$f":"IF(B49=\"\",0,VLOOKUP(B49,'Mortality&Morbidity'!AB:AC,2,FALSE)/1000)","v":0.0036184},0,0,0.0036184,0,0,0,0.442702976619349,0.9963816,{"$f":"IF(B48=\"\",0,L48*K48)","v":961.91483849989},0,3.480592651628,0,0,425.842562258222,{"$f":"IF(B48=\"\",0,SUM(Q49:$Q$122))","v":8172.83097323632},null,null,null,1.52196164648145,0,0,0,{"$f":"IF(B49=\"\",0,MAX(IF(B49<=$AG$12,$N$1*SUM($Y$16:Y49)-SUM($AB$22:AB49),0),AE49))","v":10000},0.3,0,0,{"$f":"IF(B49=\"\",0,VLOOKUP(A49,'Mortality&Morbidity'!$BE$37:$BF$42,2,TRUE)*Y49)","v":0},{"$f":"CSV!AJ50","v":8245.4},{"$f":"$N$1*SUM($Y$16:Y49)*20%","v":2000},173.4,0]
[35,64,{"$f":"IF(B50=\"\",0,VLOOKUP(B50,'Mortality&Morbidity'!AB:AC,2,FALSE)/1000)","v":0.003956},0,0,0.003956,0,0,0,0.431905343043267,0.996044,958.434245848262,0,3.79156587657573,0,0,413.952871737509,{"$f":"IF(B49=\"\",0,SUM(Q50:$Q$122))","v":7746.9884109781},null,null,null,1.61750357799945,0,0,0,{"$f":"IF(B50=\"\",0,MAX(IF(B50<=$AG$12,$N$1*SUM($Y$16:Y50)-SUM($AB$22:AB50),0),AE50))","v":10000},0.3,0,0,{"$f":"IF(B50=\"\",0,VLOOKUP(A50,'Mortality&Morbidity'!$BE$37:$BF$42,2,TRUE)*Y50)","v":0},{"$f":"CSV!AJ51","v":8388.4},{"$f":"$N$1*SUM($Y$16:Y50)*20%","v":2000},173.4,0]
[36,65,{"$f":"IF(B51=\"\",0,VLOOKUP(B51,'Mortality&Morbidity'!AB:AC,2,FALSE)/1000)","v":0.0043292},0,0,0.0043292,0,0,0,0.421371066383675,0.9956708,954.642679971687,0,4.13283909013343,0,0,402.25880407504,{"$f":"IF(B50=\"\",0,SUM(Q51:$Q$122))","v":7333.03553924059},null,null,null,1.72009041252837,0,0,0,{"$f":"IF(B51=\"\",0,MAX(IF(B51<=$AG$12,$N$1*SUM($Y$16:Y51)-SUM($AB$22:AB51),0),AE51))","v":10000},0.3,0,0,{"$f":"IF(B51=\"\",0,VLOOKUP(A51,'Mortality&Morbidity'!$BE$37:$BF$42,2,TRUE)*Y51)","v":0},{"$f":"CSV!AJ52","v":8536.4},{"$f":"$N$1*SUM($Y$16:Y51)*20%","v":2000},173.4,0]
[37,66,{"$f":"IF(B52=\"\",0,VLOOKUP(B52,'Mortality&Morbidity'!AB:AC,2,FALSE)/1000)","v":0.0047456},0,0,0.0047456,0,0,0,0.411093723301147,0.9952544,950.509840881553,0,4.5107395008875,0,0,390.748629522378,{"$f":"IF(B51=\"\",0,SUM(Q52:$Q$122))","v":6930.77673516555},null,null,null,1.8315832370508,0,0,0,{"$f":"IF(B52=\"\",0,MAX(IF(B52<=$AG$12,$N$1*SUM($Y$16:Y52)-SUM($AB$22:AB52),0),AE52))","v":10000},0.3,0,0,{"$f":"IF(B52=\"\",0,VLOOKUP(A52,'Mortality&Morbidity'!$BE$37:$BF$42,2,TRUE)*Y52)","v":0},{"$f":"CSV!AJ53","v":8689.4},{"$f":"$N$1*SUM($Y$16:Y52)*20%","v":2000},173.4,0]
[38,67,{"$f":"IF(B53=\"\",0,VLOOKUP(B53,'Mortality&Morbidity'!AB:AC,2,FALSE)/1000)","v":0.0052128},0,0,0.0052128,0,0,0,0.40106704712307,0.9947872,945.999101380666,0,4.93130411567714,0,0,379.409066171822,{"$f":"IF(B52=\"\",0,SUM(Q53:$Q$122))","v":6540.02810564317},null,null,null,1.95351537787233,0,0,0,{"$f":"IF(B53=\"\",0,MAX(IF(B53<=$AG$12,$N$1*SUM($Y$16:Y53)-SUM($AB$22:AB53),0),AE53))","v":10000},0.3,0,0,{"$f":"IF(B53=\"\",0,VLOOKUP(A53,'Mortality&Morbidity'!$BE$37:$BF$42,2,TRUE)*Y53)","v":0},{"$f":"CSV!AJ54","v":8850.4},{"$f":"$N$1*SUM($Y$16:Y53)*20%","v":2000},173.4,0]
[39,68,{"$f":"IF(B54=\"\",0,VLOOKUP(B54,'Mortality&Morbidity'!AB:AC,2,FALSE)/1000)","v":0.0057392},0,0,0.0057392,0,0,0,0.391284924022507,0.9942608,941.067797264989,0,5.40097630206322,0,0,368.22564155286,{"$f":"IF(B53=\"\",0,SUM(Q54:$Q$122))","v":6160.61903947135},null,null,null,2.0873893058049,0,0,0,{"$f":"IF(B54=\"\",0,MAX(IF(B54<=$AG$12,$N$1*SUM($Y$16:Y54)-SUM($AB$22:AB54),0),AE54))","v":10000},0.3,0,0,{"$f":"IF(B54=\"\",0,VLOOKUP(A54,'Mortality&Morbidity'!$BE$37:$BF$42,2,TRUE)*Y54)","v":0},{"$f":"CSV!AJ55","v":9017.4},{"$f":"$N$1*SUM($Y$16:Y54)*20%","v":2000},173.4,0]
[40,69,{"$f":"IF(B55=\"\",0,VLOOKUP(B55,'Mortality&Morbidity'!AB:AC,2,FALSE)/1000)","v":0.006336},0,0,0.006336,0,0,0,0.381741389290251,0.993664,935.666820962925,0,5.9283849776211,0,0,357.18275214718,{"$f":"IF(B54=\"\",0,SUM(Q55:$Q$122))","v":5792.39339791849},null,null,null,2.23534064608921,0,0,0,{"$f":"IF(B55=\"\",0,MAX(IF(B55<=$AG$12,$N$1*SUM($Y$16:Y55)-SUM($AB$22:AB55),0),AE55))","v":10000},0.3,0,0,{"$f":"IF(B55=\"\",0,VLOOKUP(A55,'Mortality&Morbidity'!$BE$37:$BF$42,2,TRUE)*Y55)","v":0},{"$f":"CSV!AJ56","v":9191.4},{"$f":"$N$1*SUM($Y$16:Y55)*20%","v":2000},173.4,0]
[41,70,{"$f":"IF(B56=\"\",0,VLOOKUP(B56,'Mortality&Morbidity'!AB:AC,2,FALSE)/1000)","v":0.0070192},0,0,0.0070192,0,0,0,0.372430623697806,0.9929808,929.738435985304,0,6.52602002986805,0,0,346.26306558983,{"$f":"IF(B55=\"\",0,SUM(Q56:$Q$122))","v":5435.21064577132},null,null,null,2.40066662090756,0,0,0,{"$f":"IF(B56=\"\",0,MAX(IF(B56<=$AG$12,$N$1*SUM($Y$16:Y56)-SUM($AB$22:AB56),0),AE56))","v":10000},0.3,0,0,{"$f":"IF(B56=\"\",0,VLOOKUP(A56,'Mortality&Morbidity'!$BE$37:$BF$42,2,TRUE)*Y56)","v":0},{"$f":"CSV!AJ57","v":9372.4},{"$f":"$N$1*SUM($Y$16:Y56)*20%","v":2000},173.4,0]
[42,71,{"$f":"IF(B57=\"\",0,VLOOKUP(B57,'Mortality&Morbidity'!AB:AC,2,FALSE)/1000)","v":0.007816},0,0,0.007816,0,0,0,0.363346949949079,0.992184,923.212415955436,0,7.21582824310769,0,0,335.446415492528,{"$f":"IF(B56=\"\",0,SUM(Q57:$Q$122))","v":5088.94758018149},null,null,null,2.58967803648424,0,0,0,{"$f":"IF(B57=\"\",0,MAX(IF(B57<=$AG$12,$N$1*SUM($Y$16:Y57)-SUM($AB$22:AB57),0),AE57))","v":10000},0.3,0,0,{"$f":"IF(B57=\"\",0,VLOOKUP(A57,'Mortality&Morbidity'!$BE$37:$BF$42,2,TRUE)*Y57)","v":0},{"$f":"CSV!AJ58","v":9562.4},{"$f":"$N$1*SUM($Y$16:Y57)*20%","v":2000},173.4,0]
[43,72,{"$f":"IF(B58=\"\",0,VLOOKUP(B58,'Mortality&Morbidity'!AB:AC,2,FALSE)/1000)","v":0.0087676},0,0,0.0087676,0,0,0,0.354484829218614,0.9912324,915.996587712329,0,8.03109168242661,0,0,324.706893960038,{"$f":"IF(B57=\"\",0,SUM(Q58:$Q$122))","v":4753.50116468896},null,null,null,2.81196755017973,0,0,0,{"$f":"IF(B58=\"\",0,MAX(IF(B58<=$AG$12,$N$1*SUM($Y$16:Y58)-SUM($AB$22:AB58),0),AE58))","v":10000},0.3,0,0,{"$f":"IF(B58=\"\",0,VLOOKUP(A58,'Mortality&Morbidity'!$BE$37:$BF$42,2,TRUE)*Y58)","v":0},{"$f":"CSV!AJ59","v":9760.4},{"$f":"$N$1*SUM($Y$16:Y58)*20%","v":2000},173.4,0]
[44,73,{"$f":"IF(B59=\"\",0,VLOOKUP(B59,'Mortality&Morbidity'!AB:AC,2,FALSE)/1000)","v":0.0099292},0,0,0.0099292,0,0,0,0.345838857774257,0.9900708,907.965496029902,0,9.0153710031801,0,0,314.009750045418,{"$f":"IF(B58=\"\",0,SUM(Q59:$Q$122))","v":4428.79427072892},null,null,null,3.07960814152204,0,0,0,{"$f":"IF(B59=\"\",0,MAX(IF(B59<=$AG$12,$N$1*SUM($Y$16:Y59)-SUM($AB$22:AB59),0),AE59))","v":10000},0.3,0,0,{"$f":"IF(B59=\"\",0,VLOOKUP(A59,'Mortality&Morbidity'!$BE$37:$BF$42,2,TRUE)*Y59)","v":0},{"$f":"CSV!AJ60","v":9968.4},{"$f":"$N$1*SUM($Y$16:Y59)*20%","v":2000},173.4,0]
[45,74,{"$f":"IF(B60=\"\",0,VLOOKUP(B60,'Mortality&Morbidity'!AB:AC,2,FALSE)/1000)","v":0.0113664},0,0,0.0113664,0,0,0,0.337403763682202,0.9886336,898.950125026722,0,10.2178267011037,0,0,303.309155546602,{"$f":"IF(B59=\"\",0,SUM(Q60:$Q$122))","v":4114.7845206835},null,null,null,3.4052305628536,0,0,0,{"$f":"IF(B60=\"\",0,MAX(IF(B60<=$AG$12,$N$1*SUM($Y$16:Y60)-SUM($AB$22:AB60),0),AE60))","v":10184.4},0.3,0,0,{"$f":"IF(B60=\"\",0,VLOOKUP(A60,'Mortality&Morbidity'!$BE$37:$BF$42,2,TRUE)*Y60)","v":0},{"$f":"CSV!AJ61","v":10184.4},{"$f":"$N$1*SUM($Y$16:Y60)*20%","v":2000},173.4,0]
[46,75,{"$f":"IF(B61=\"\",0,VLOOKUP(B61,'Mortality&Morbidity'!AB:AC,2,FALSE)/1000)","v":0.0131484},0,0,0.0131484,0,0,0,0.329174403592393,0.9868516,888.732298325618,0,11.6854077513046,0,0,292.547924254632,{"$f":"IF(B60=\"\",0,SUM(Q61:$Q$122))","v":3811.4753651369},null,null,null,3.79933856521567,0,0,0,{"$f":"IF(B61=\"\",0,MAX(IF(B61<=$AG$12,$N$1*SUM($Y$16:Y61)-SUM($AB$22:AB61),0),AE61))","v":10408.4},0.3,0,0,{"$f":"IF(B61=\"\",0,VLOOKUP(A61,'Mortality&Morbidity'!$BE$37:$BF$42,2,TRUE)*Y61)","v":0},{"$f":"CSV!AJ62","v":10408.4},{"$f":"$N$1*SUM($Y$16:Y61)*20%","v":2000},173.4,0]
[47,76,{"$f":"IF(B62=\"\",0,VLOOKUP(B62,'Mortality&Morbidity'!AB:AC,2,FALSE)/1000)","v":0.0153328},0,0,0.0153328,0,0,0,0.321145759602334,0.9846672,877.046890574314,0,13.4475845637978,0,0,281.659889880353,{"$f":"IF(B61=\"\",0,SUM(Q62:$Q$122))","v":3518.92744088227},null,null,null,4.26564336913461,0,0,0,{"$f":"IF(B62=\"\",0,MAX(IF(B62<=$AG$12,$N$1*SUM($Y$16:Y62)-SUM($AB$22:AB62),0),AE62))","v":10641.4},0.3,0,0,{"$f":"IF(B62=\"\",0,VLOOKUP(A62,'Mortality&Morbidity'!$BE$37:$BF$42,2,TRUE)*Y62)","v":0},{"$f":"CSV!AJ63","v":10641.4},{"$f":"$N$1*SUM($Y$16:Y62)*20%","v":2000},173.4,0]
[48,77,{"$f":"IF(B63=\"\",0,VLOOKUP(B63,'Mortality&Morbidity'!AB:AC,2,FALSE)/1000)","v":0.0179584},0,0,0.0179584,0,0,0,0.313312936197399,0.9820416,863.599306010516,0,15.5088617770592,0,0,270.576834264191,{"$f":"IF(B62=\"\",0,SUM(Q63:$Q$122))","v":3237.26755100191},null,null,null,4.79950357197825,0,0,0,{"$f":"IF(B63=\"\",0,MAX(IF(B63<=$AG$12,$N$1*SUM($Y$16:Y63)-SUM($AB$22:AB63),0),AE63))","v":10882.4},0.3,0,0,{"$f":"IF(B63=\"\",0,VLOOKUP(A63,'Mortality&Morbidity'!$BE$37:$BF$42,2,TRUE)*Y63)","v":0},{"$f":"CSV!AJ64","v":10882.4},{"$f":"$N$1*SUM($Y$16:Y63)*20%","v":2000},173.4,0]
[49,78,{"$f":"IF(B64=\"\",0,VLOOKUP(B64,'Mortality&Morbidity'!AB:AC,2,FALSE)/1000)","v":0.0210388},0,0,0.0210388,0,0,0,0.305671157265755,0.9789612,848.090444233456,0,17.8428052381388,0,0,259.236787554869,{"$f":"IF(B63=\"\",0,SUM(Q64:$Q$122))","v":2966.69071673772},null,null,null,5.38710776666164,0,0,0,{"$f":"IF(B64=\"\",0,MAX(IF(B64<=$AG$12,$N$1*SUM($Y$16:Y64)-SUM($AB$22:AB64),0),AE64))","v":11133.4},0.3,0,0,{"$f":"IF(B64=\"\",0,VLOOKUP(A64,'Mortality&Morbidity'!$BE$37:$BF$42,2,TRUE)*Y64)","v":0},{"$f":"CSV!AJ65","v":11133.4},{"$f":"$N$1*SUM($Y$16:Y64)*20%","v":2000},173.4,0]
[50,79,{"$f":"IF(B65=\"\",0,VLOOKUP(B65,'Mortality&Morbidity'!AB:AC,2,FALSE)/1000)","v":0.0245632},0,0,0.0245632,0,0,0,0.298215763186103,0.9754368,830.247638995318,0,20.3935388061698,0,0,247.592933296449,{"$f":"IF(B64=\"\",0,SUM(Q65:$Q$122))","v":2707.45392918285},null,null,null,6.00705013705199,0,0,0,{"$f":"IF(B65=\"\",0,MAX(IF(B65<=$AG$12,$N$1*SUM($Y$16:Y65)-SUM($AB$22:AB65),0),AE65))","v":11392.4},0.3,0,0,{"$f":"IF(B65=\"\",0,VLOOKUP(A65,'Mortality&Morbidity'!$BE$37:$BF$42,2,TRUE)*Y65)","v":0},{"$f":"CSV!AJ66","v":11392.4},{"$f":"$N$1*SUM($Y$16:Y65)*20%","v":2000},173.4,0]
[51,80,{"$f":"IF(B66=\"\",0,VLOOKUP(B66,'Mortality&Morbidity'!AB:AC,2,FALSE)/1000)","v":0.0285048},0,0,0.0285048,0,0,0,0.290942207986442,0.9714952,809.854100189148,0,23.0847291550716,0,0,235.620740055904,{"$f":"IF(B65=\"\",0,SUM(Q66:$Q$122))","v":2459.86099588641},null,null,null,6.6339100903013,0,0,0,{"$f":"IF(B66=\"\",0,MAX(IF(B66<=$AG$12,$N$1*SUM($Y$16:Y66)-SUM($AB$22:AB66),0),AE66))","v":10622.4},0.3,1000,0,{"$f":"IF(B66=\"\",0,VLOOKUP(A66,'Mortality&Morbidity'!$BE$37:$BF$42,2,TRUE)*Y66)","v":0},{"$f":"CSV!AJ67","v":10622.4},{"$f":"$N$1*SUM($Y$16:Y66)*20%","v":2000},1173.4,0]
[52,81,{"$f":"IF(B67=\"\",0,VLOOKUP(B67,'Mortality&Morbidity'!AB:AC,2,FALSE)/1000)","v":0.03283},0,0,0.03283,0,0,0,0.283846056572138,0.96717,786.769371034076,0,25.8296384510487,0,0,223.321383399764,{"$f":"IF(B66=\"\",0,SUM(Q67:$Q$122))","v":2224.2402558305},null,null,null,7.24167882451508,0,0,0,{"$f":"IF(B67=\"\",0,MAX(IF(B67<=$AG$12,$N$1*SUM($Y$16:Y67)-SUM($AB$22:AB67),0),AE67))","v":9820.4},0.3,1000,0,{"$f":"IF(B67=\"\",0,VLOOKUP(A67,'Mortality&Morbidity'!$BE$37:$BF$42,2,TRUE)*Y67)","v":0},{"$f":"CSV!AJ68","v":9820.4},{"$f":"$N$1*SUM($Y$16:Y67)*20%","v":2000},1173.4,0]
[53,82,{"$f":"IF(B68=\"\",0,VLOOKUP(B68,'Mortality&Morbidity'!AB:AC,2,FALSE)/1000)","v":0.0375084},0,0,0.0375084,0,0,0,0.276922982021598,0.9624916,760.939732583027,0,28.5416318656172,0,0,210.72169988561,{"$f":"IF(B67=\"\",0,SUM(Q68:$Q$122))","v":2000.91887243074},null,null,null,7.80685057915076,0,0,0,{"$f":"IF(B68=\"\",0,MAX(IF(B68<=$AG$12,$N$1*SUM($Y$16:Y68)-SUM($AB$22:AB68),0),AE68))","v":8985.4},0.3,1000,0,{"$f":"IF(B68=\"\",0,VLOOKUP(A68,'Mortality&Morbidity'!$BE$37:$BF$42,2,TRUE)*Y68)","v":0},{"$f":"CSV!AJ69","v":8985.4},{"$f":"$N$1*SUM($Y$16:Y68)*20%","v":2000},1173.4,0]
[54,83,{"$f":"IF(B69=\"\",0,VLOOKUP(B69,'Mortality&Morbidity'!AB:AC,2,FALSE)/1000)","v":0.0425192},0,0,0.0425192,0,0,0,0.270168762947901,0.9574808,732.39810071741,0,31.1409813240237,0,0,197.871088856215,{"$f":"IF(B68=\"\",0,SUM(Q69:$Q$122))","v":1790.19717254513},null,null,null,8.31008556645504,0,0,0,{"$f":"IF(B69=\"\",0,MAX(IF(B69<=$AG$12,$N$1*SUM($Y$16:Y69)-SUM($AB$22:AB69),0),AE69))","v":8118.4},0.3,1000,0,{"$f":"IF(B69=\"\",0,VLOOKUP(A69,'Mortality&Morbidity'!$BE$37:$BF$42,2,TRUE)*Y69)","v":0},{"$f":"CSV!AJ70","v":8118.4},{"$f":"$N$1*SUM($Y$16:Y69)*20%","v":2000},1173.4,0]
[55,84,{"$f":"IF(B70=\"\",0,VLOOKUP(B70,'Mortality&Morbidity'!AB:AC,2,FALSE)/1000)","v":0.0478576},0,0,0.0478576,0,0,0,0.263579280924781,0.9521424,701.257119393387,0,33.5604827170809,0,0,184.836847273092,{"$f":"IF(B69=\"\",0,SUM(Q70:$Q$122))","v":1592.32608368891},null,null,null,8.73730578032213,0,0,0,{"$f":"IF(B70=\"\",0,MAX(IF(B70<=$AG$12,$N$1*SUM($Y$16:Y70)-SUM($AB$22:AB70),0),AE70))","v":7215.4},0.3,1000,0,{"$f":"IF(B70=\"\",0,VLOOKUP(A70,'Mortality&Morbidity'!$BE$37:$BF$42,2,TRUE)*Y70)","v":0},{"$f":"CSV!AJ71","v":7215.4},{"$f":"$N$1*SUM($Y$16:Y70)*20%","v":2000},1173.4,0]
[56,85,{"$f":"IF(B71=\"\",0,VLOOKUP(B71,'Mortality&Morbidity'!AB:AC,2,FALSE)/1000)","v":0.0535356},0,0,0.0535356,0,0,0,0.257150517975397,0.9464644,667.696636676306,0,35.745540062448,0,0,171.698535971742,{"$f":"IF(B70=\"\",0,SUM(Q71:$Q$122))","v":1407.48923641582},null,null,null,9.07919478935136,0,0,0,{"$f":"IF(B71=\"\",0,MAX(IF(B71<=$AG$12,$N$1*SUM($Y$16:Y71)-SUM($AB$22:AB71),0),AE71))","v":6277.4},0.3,1000,0,{"$f":"IF(B71=\"\",0,VLOOKUP(A71,'Mortality&Morbidity'!$BE$37:$BF$42,2,TRUE)*Y71)","v":0},{"$f":"CSV!AJ72","v":6277.4},{"$f":"$N$1*SUM($Y$16:Y71)*20%","v":2000},1173.4,0]
[57,86,{"$f":"IF(B72=\"\",0,VLOOKUP(B72,'Mortality&Morbidity'!AB:AC,2,FALSE)/1000)","v":0.059554},0,0,0.059554,0,0,0,0.250878554122338,0.940446,631.951096613858,0,37.6352156077417,0,0,158.542977394511,{"$f":"IF(B71=\"\",0,SUM(Q72:$Q$122))","v":1235.79070044408},null,null,null,9.32601294117367,0,0,0,{"$f":"IF(B72=\"\",0,MAX(IF(B72<=$AG$12,$N$1*SUM($Y$16:Y72)-SUM($AB$22:AB72),0),AE72))","v":5301.4},0.3,1000,0,{"$f":"IF(B72=\"\",0,VLOOKUP(A72,'Mortality&Morbidity'!$BE$37:$BF$42,2,TRUE)*Y72)","v":0},{"$f":"CSV!AJ73","v":5301.4},{"$f":"$N$1*SUM($Y$16:Y72)*20%","v":2000},1173.4,0]
[58,87,{"$f":"IF(B73=\"\",0,VLOOKUP(B73,'Mortality&Morbidity'!AB:AC,2,FALSE)/1000)","v":0.0659936},0,0,0.0659936,0,0,0,0.244759564997403,0.9340064,594.315881006116,0,39.2210445247652,0,0,145.464496506105,{"$f":"IF(B72=\"\",0,SUM(Q73:$Q$122))","v":1077.24772304957},null,null,null,9.48193328904738,0,0,0,{"$f":"IF(B73=\"\",0,MAX(IF(B73<=$AG$12,$N$1*SUM($Y$16:Y73)-SUM($AB$22:AB73),0),AE73))","v":4288.4},0.3,1000,0,{"$f":"IF(B73=\"\",0,VLOOKUP(A73,'Mortality&Morbidity'!$BE$37:$BF$42,2,TRUE)*Y73)","v":0},{"$f":"CSV!AJ74","v":4288.4},{"$f":"$N$1*SUM($Y$16:Y73)*20%","v":2000},1173.4,0]
[59,88,{"$f":"IF(B74=\"\",0,VLOOKUP(B74,'Mortality&Morbidity'!AB:AC,2,FALSE)/1000)","v":0.0729052},0,0,0.0729052,0,0,0,0.238789819509661,0.9270948,555.094836481351,0,40.4693000726402,0,0,132.550995814127,{"$f":"IF(B73=\"\",0,SUM(Q74:$Q$122))","v":931.783226543463},null,null,null,9.54507989251557,0,0,0,{"$f":"IF(B74=\"\",0,MAX(IF(B74<=$AG$12,$N$1*SUM($Y$16:Y74)-SUM($AB$22:AB74),0),AE74))","v":3234.4},0.3,1000,0,{"$f":"IF(B74=\"\",0,VLOOKUP(A74,'Mortality&Morbidity'!$BE$37:$BF$42,2,TRUE)*Y74)","v":0},{"$f":"CSV!AJ75","v":3234.4},{"$f":"$N$1*SUM($Y$16:Y74)*20%","v":2000},1173.4,0]
[60,89,{"$f":"IF(B75=\"\",0,VLOOKUP(B75,'Mortality&Morbidity'!AB:AC,2,FALSE)/1000)","v":0.0803396},0,0,0.0803396,0,0,0,0.232965677570401,0.9196604,514.625536408711,0,41.3448097448613,0,0,119.890086784487,{"$f":"IF(B74=\"\",0,SUM(Q75:$Q$122))","v":799.232230729336},null,null,null,9.51373405296025,0,0,0,{"$f":"IF(B75=\"\",0,MAX(IF(B75<=$AG$12,$N$1*SUM($Y$16:Y75)-SUM($AB$22:AB75),0),AE75))","v":2140.4},0.3,1000,0,{"$f":"IF(B75=\"\",0,VLOOKUP(A75,'Mortality&Morbidity'!$BE$37:$BF$42,2,TRUE)*Y75)","v":0},{"$f":"CSV!AJ76","v":2140.4},{"$f":"$N$1*SUM($Y$16:Y75)*20%","v":2000},1173.4,0]
[61,90,{"$f":"IF(B76=\"\",0,VLOOKUP(B76,'Mortality&Morbidity'!AB:AC,2,FALSE)/1000)","v":0.0883492},0,0,0.0883492,0,0,0,0.227283587873562,0.9116508,473.280726663849,0,41.8139735761698,0,0,107.568941627566,{"$f":"IF(B75=\"\",0,SUM(Q76:$Q$122))","v":679.342143944849},null,null,null,9.38701656501429,0,0,0,{"$f":"IF(B76=\"\",0,MAX(IF(B76<=$AG$12,$N$1*SUM($Y$16:Y76)-SUM($AB$22:AB76),0),AE76))","v":2041.4},0.3,0,0,{"$f":"IF(B76=\"\",0,VLOOKUP(A76,'Mortality&Morbidity'!$BE$37:$BF$42,2,TRUE)*Y76)","v":0},{"$f":"CSV!AJ77","v":2041.4},{"$f":"$N$1*SUM($Y$16:Y76)*20%","v":2000},173.4,0]
[62,91,{"$f":"IF(B77=\"\",0,VLOOKUP(B77,'Mortality&Morbidity'!AB:AC,2,FALSE)/1000)","v":0.0969844},0,0,0.0969844,0,0,0,0.221740085730305,0.9030156,431.46675308768,0,41.8455441681567,0,0,95.6734748194383,{"$f":"IF(B76=\"\",0,SUM(Q77:$Q$122))","v":571.773202317283},null,null,null,9.16497950871243,0,0,0,{"$f":"IF(B77=\"\",0,MAX(IF(B77<=$AG$12,$N$1*SUM($Y$16:Y77)-SUM($AB$22:AB77),0),AE77))","v":1939.4},0.3,0,0,{"$f":"IF(B77=\"\",0,VLOOKUP(A77,'Mortality&Morbidity'!$BE$37:$BF$42,2,TRUE)*Y77)","v":0},{"$f":"CSV!AJ78","v":1939.4},{"$f":"$N$1*SUM($Y$16:Y77)*20%","v":2000},173.4,0]
[63,92,{"$f":"IF(B78=\"\",0,VLOOKUP(B78,'Mortality&Morbidity'!AB:AC,2,FALSE)/1000)","v":0.1062976},0,0,0.1062976,0,0,0,0.216331790956395,0.8937024,389.621208919523,0,41.4157994172439,0,0,84.2874539201561,{"$f":"IF(B77=\"\",0,SUM(Q78:$Q$122))","v":476.099727497845},null,null,null,8.84961671964481,0,0,0,{"$f":"IF(B78=\"\",0,MAX(IF(B78<=$AG$12,$N$1*SUM($Y$16:Y78)-SUM($AB$22:AB78),0),AE78))","v":1832.4},0.3,0,0,{"$f":"IF(B78=\"\",0,VLOOKUP(A78,'Mortality&Morbidity'!$BE$37:$BF$42,2,TRUE)*Y78)","v":0},{"$f":"CSV!AJ79","v":1832.4},{"$f":"$N$1*SUM($Y$16:Y78)*20%","v":2000},173.4,0]
[64,93,{"$f":"IF(B79=\"\",0,VLOOKUP(B79,'Mortality&Morbidity'!AB:AC,2,FALSE)/1000)","v":0.1163388},0,0,0.1163388,0,0,0,0.211055405811117,0.8836612,348.205409502279,0,40.5097994950037,0,0,73.4906340081297,{"$f":"IF(B78=\"\",0,SUM(Q79:$Q$122))","v":391.812273577689},null,null,null,8.44490252782744,0,0,0,{"$f":"IF(B79=\"\",0,MAX(IF(B79<=$AG$12,$N$1*SUM($Y$16:Y79)-SUM($AB$22:AB79),0),AE79))","v":1721.4},0.3,0,0,{"$f":"IF(B79=\"\",0,VLOOKUP(A79,'Mortality&Morbidity'!$BE$37:$BF$42,2,TRUE)*Y79)","v":0},{"$f":"CSV!AJ80","v":1721.4},{"$f":"$N$1*SUM($Y$16:Y79)*20%","v":2000},173.4,0]
[65,94,{"$f":"IF(B80=\"\",0,VLOOKUP(B80,'Mortality&Morbidity'!AB:AC,2,FALSE)/1000)","v":0.1271608},{"$f":"0","v":0},{"$f":"0","v":0},0.1271608,0,0,0,0.205907712986456,0.8728392,307.695610007275,{"$f":"IF(B80=\"\",0,D80*L80)","v":0},{"$f":"IF(B80=\"\",0,F80*L80)","v":39.1268199250131},0,0,{"$f":"IF(A80>BP+1,0,J80*L80)","v":63.3568993525704},{"$f":"IF(B79=\"\",0,SUM(Q80:$Q$122))","v":318.321639569559},null,null,null,{"$f":"IF(B80=\"\",0,IF(A80=1,J81*N80*$G$6,J81*N80*$G$6))","v":7.95765733072585},{"$f":"IF(B80=\"\",0,IF(A80=1,J81*O80/2*$G$8,J81*O80*$G$6))","v":0},{"$f":"IF(B80=\"\",0,J81*P80*$G$6)","v":0},{"$f":"IF(B80=\"\",\"\",IF(A80<=PPP,1,0))","v":0},{"$f":"IF(B80=\"\",0,MAX(IF(B80<=$AG$12,$N$1*SUM($Y$16:Y80)-SUM($AB$22:AB80),0),AE80))","v":1606.4},0.3,{"$f":"IF(B80=\"\",0,IF(OR(A80=6,A80=6),100%*$O$1,IF(AND(B80>=$AG$9,B80<=$AG$10),$AG$11*PPP*$N$1,0)))","v":0},{"$f":"IF(B80=\"\",0,0)*(A80<=PPP)","v":0},{"$f":"IF(B80=\"\",0,VLOOKUP(A80,'Mortality&Morbidity'!$BE$37:$BF$42,2,TRUE)*Y80)","v":0},{"$f":"CSV!AJ81","v":1606.4},{"$f":"$N$1*SUM($Y$16:Y80)*20%","v":2000},173.4,0]
[{"$f":"IF(A80=\"\",\"\",IF(A80<BP,A80+1,\"\"))","v":66},95,{"$f":"IF(B81=\"\",0,VLOOKUP(B81,'Mortality&Morbidity'!AB:AC,2,FALSE)/1000)","v":0.1388156},0,0,{"$f":"IF(B81=\"\",0,IF(B81=105,1-D81,(1-E81)*C81))","v":0.1388156},{"$f":"IF(B81=\"\",0,0/1000)","v":0},{"$f":"IF(B81=\"\",0,0/1000)","v":0},{"$f":"IF(B81=\"\",0,0/1000)","v":0},{"$f":"IF(A81=1,1,$G$5^(A80))","v":0.200885573645323},{"$f":"IF(A81>=107,0,IF(B81=\"\",0,1-D81-F81))","v":0.8611844},{"$f":"IF(B80=\"\",0,L80*K80)","v":268.568790082262},0,37.2815377365433,{"$f":"IF(B81=\"\",0,0)","v":0},{"$f":"IF(B81=\"\",0,0)","v":0},53.9515954589054,{"$f":"IF(B80=\"\",0,SUM(Q81:$Q$122))","v":254.964740216988},null,null,null,7.39742607939313,0,0,0,{"$f":"IF(B81=\"\",0,MAX(IF(B81<=$AG$12,$N$1*SUM($Y$16:Y81)-SUM($AB$22:AB81),0),AE81))","v":1486.4},{"$f":"IF(B81=\"\",0,IF(A81>6,IF(B81>=60,30%,20%),0%))","v":0.3},0,0,{"$f":"IF(B81=\"\",0,VLOOKUP(A81,'Mortality&Morbidity'!$BE$37:$BF$42,2,TRUE)*Y81)","v":0},{"$f":"CSV!AJ82","v":1486.4},{"$f":"$N$1*SUM($Y$16:Y81)*20%","v":2000},{"$f":"AA81*$D$10+AB81","v":173.4},{"$f":"IF(AG81<AF81,0,1)","v":0}]
[67,{"$f":"IF(A82=\"\",\"\",B81+1)","v":96},{"$f":"IF(B82=\"\",0,VLOOKUP(B82,'Mortality&Morbidity'!AB:AC,2,FALSE)/1000)","v":0.1513628},0,0,0.1513628,0,0,0,0.195985925507632,0.8486372,231.287252345719,0,35.0082861193546,0,0,45.3290462090929,{"$f":"IF(B81=\"\",0,SUM(Q82:$Q$122))","v":201.013144758083},null,null,null,6.77694250636509,0,0,0,{"$f":"IF(B82=\"\",0,MAX(IF(B82<=$AG$12,$N$1*SUM($Y$16:Y82)-SUM($AB$22:AB82),0),AE82))","v":1361.4},0.3,0,0,{"$f":"IF(B82=\"\",0,VLOOKUP(A82,'Mortality&Morbidity'!$BE$37:$BF$42,2,TRUE)*Y82)","v":0},{"$f":"CSV!AJ83","v":1361.4},{"$f":"$N$1*SUM($Y$16:Y82)*20%","v":2000},173.4,0]
[68,97,{"$f":"IF(B83=\"\",0,VLOOKUP(B83,'Mortality&Morbidity'!AB:AC,2,FALSE)/1000)","v":0.1648636},0,0,0.1648636,0,0,0,0.191205780983055,0.8351364,196.278966226364,0,32.3592569763568,0,0,37.5296730278587,{"$f":"IF(B82=\"\",0,SUM(Q83:$Q$122))","v":155.68409854899},null,null,null,6.11135661773803,0,0,0,{"$f":"IF(B83=\"\",0,MAX(IF(B83<=$AG$12,$N$1*SUM($Y$16:Y83)-SUM($AB$22:AB83),0),AE83))","v":1231.4},0.3,0,0,{"$f":"IF(B83=\"\",0,VLOOKUP(A83,'Mortality&Morbidity'!$BE$37:$BF$42,2,TRUE)*Y83)","v":0},{"$f":"CSV!AJ84","v":1231.4},{"$f":"$N$1*SUM($Y$16:Y83)*20%","v":2000},173.4,0]
[69,98,{"$f":"IF(B84=\"\",0,VLOOKUP(B84,'Mortality&Morbidity'!AB:AC,2,FALSE)/1000)","v":0.1793784},0,0,0.1793784,0,0,0,0.186542225349322,0.8206216,163.919709250007,0,29.4036551737315,0,0,30.5779473421103,{"$f":"IF(B83=\"\",0,SUM(Q84:$Q$122))","v":118.154425521131},null,null,null,5.4177198216087,0,0,0,{"$f":"IF(B84=\"\",0,MAX(IF(B84<=$AG$12,$N$1*SUM($Y$16:Y84)-SUM($AB$22:AB84),0),AE84))","v":1096.4},0.3,0,0,{"$f":"IF(B84=\"\",0,VLOOKUP(A84,'Mortality&Morbidity'!$BE$37:$BF$42,2,TRUE)*Y84)","v":0},{"$f":"CSV!AJ85","v":1096.4},{"$f":"$N$1*SUM($Y$16:Y84)*20%","v":2000},173.4,0]
[70,99,{"$f":"IF(B85=\"\",0,VLOOKUP(B85,'Mortality&Morbidity'!AB:AC,2,FALSE)/1000)","v":0.1949684},0,0,0.1949684,0,0,0,0.181992414974949,0.8050316,134.516054076276,0,26.226379837565,0,0,24.4809015342422,{"$f":"IF(B84=\"\",0,SUM(Q85:$Q$122))","v":87.5764781790211},null,null,null,4.71443554046937,0,0,0,{"$f":"IF(B85=\"\",0,MAX(IF(B85<=$AG$12,$N$1*SUM($Y$16:Y85)-SUM($AB$22:AB85),0),AE85))","v":956.4},0.3,0,0,{"$f":"IF(B85=\"\",0,VLOOKUP(A85,'Mortality&Morbidity'!$BE$37:$BF$42,2,TRUE)*Y85)","v":0},{"$f":"CSV!AJ86","v":956.4},{"$f":"$N$1*SUM($Y$16:Y85)*20%","v":2000},173.4,0]
[71,100,{"$f":"IF(B86=\"\",0,VLOOKUP(B86,'Mortality&Morbidity'!AB:AC,2,FALSE)/1000)","v":0.2116948},0,0,0.2116948,0,0,0,0.177553575585316,0.7883052,108.289674238711,0,22.9243609300291,0,0,19.2272188600522,{"$f":"IF(B85=\"\",0,SUM(Q86:$Q$122))","v":63.0955766447788},null,null,null,4.02035800075546,0,0,0,{"$f":"IF(B86=\"\",0,MAX(IF(B86<=$AG$12,$N$1*SUM($Y$16:Y86)-SUM($AB$22:AB86),0),AE86))","v":810.4},0.3,0,0,{"$f":"IF(B86=\"\",0,VLOOKUP(A86,'Mortality&Morbidity'!$BE$37:$BF$42,2,TRUE)*Y86)","v":0},{"$f":"CSV!AJ87","v":810.4},{"$f":"$N$1*SUM($Y$16:Y86)*20%","v":2000},173.4,0]
[72,101,{"$f":"IF(B87=\"\",0,VLOOKUP(B87,'Mortality&Morbidity'!AB:AC,2,FALSE)/1000)","v":0.229618},0,0,0.229618,0,0,0,0.17322300057104,0.770382,85.3653133086818,0,19.6014125113129,0,0,14.7872357160168,{"$f":"IF(B86=\"\",0,SUM(Q87:$Q$122))","v":43.8683577847266},null,null,null,3.35375237302795,0,0,0,{"$f":"IF(B87=\"\",0,MAX(IF(B87<=$AG$12,$N$1*SUM($Y$16:Y87)-SUM($AB$22:AB87),0),AE87))","v":659.4},0.3,0,0,{"$f":"IF(B87=\"\",0,VLOOKUP(A87,'Mortality&Morbidity'!$BE$37:$BF$42,2,TRUE)*Y87)","v":0},{"$f":"CSV!AJ88","v":659.4},{"$f":"$N$1*SUM($Y$16:Y87)*20%","v":2000},173.4,0]
[73,102,{"$f":"IF(B88=\"\",0,VLOOKUP(B88,'Mortality&Morbidity'!AB:AC,2,FALSE)/1000)","v":0.2487992},0,0,0.2487992,0,0,0,0.1689980493376,0.7512008,65.7639007973689,0,16.3620059072648,0,0,11.1139709515868,{"$f":"IF(B87=\"\",0,SUM(Q88:$Q$122))","v":29.0811220687098},null,null,null,2.73121761156386,0,0,0,{"$f":"IF(B88=\"\",0,MAX(IF(B88<=$AG$12,$N$1*SUM($Y$16:Y88)-SUM($AB$22:AB88),0),AE88))","v":503.4},0.3,0,0,{"$f":"IF(B88=\"\",0,VLOOKUP(A88,'Mortality&Morbidity'!$BE$37:$BF$42,2,TRUE)*Y88)","v":0},{"$f":"CSV!AJ89","v":503.4},{"$f":"$N$1*SUM($Y$16:Y88)*20%","v":2000},173.4,0]
[74,103,{"$f":"IF(B89=\"\",0,VLOOKUP(B89,'Mortality&Morbidity'!AB:AC,2,FALSE)/1000)","v":0.2692988},0,0,0.2692988,0,0,0,0.164876145695219,0.7307012,49.4018948901042,0,13.3038710116312,0,0,8.14519401952073,{"$f":"IF(B88=\"\",0,SUM(Q89:$Q$122))","v":17.9671511171231},null,null,null,2.16657595621262,0,0,0,{"$f":"IF(B89=\"\",0,MAX(IF(B89<=$AG$12,$N$1*SUM($Y$16:Y89)-SUM($AB$22:AB89),0),AE89))","v":341.4},0.3,0,0,{"$f":"IF(B89=\"\",0,VLOOKUP(A89,'Mortality&Morbidity'!$BE$37:$BF$42,2,TRUE)*Y89)","v":0},{"$f":"CSV!AJ90","v":341.4},{"$f":"$N$1*SUM($Y$16:Y89)*20%","v":2000},173.4,0]
[75,104,{"$f":"IF(B90=\"\",0,VLOOKUP(B90,'Mortality&Morbidity'!AB:AC,2,FALSE)/1000)","v":0.291178},0,0,0.291178,0,0,0,0.160854776288019,0.708822,36.098023878473,0,10.510950396886,0,0,5.80653955541134,{"$f":"IF(B89=\"\",0,SUM(Q90:$Q$122))","v":9.82195709760234},null,null,null,1.66999055493512,0,0,0,{"$f":"IF(B90=\"\",0,MAX(IF(B90<=$AG$12,$N$1*SUM($Y$16:Y90)-SUM($AB$22:AB90),0),AE90))","v":173.4},0.3,0,0,{"$f":"IF(B90=\"\",0,VLOOKUP(A90,'Mortality&Morbidity'!$BE$37:$BF$42,2,TRUE)*Y90)","v":0},{"$f":"CSV!AJ91","v":173.4},{"$f":"$N$1*SUM($Y$16:Y90)*20%","v":2000},173.4,0]
[76,105,{"$f":"IF(B91=\"\",0,VLOOKUP(B91,'Mortality&Morbidity'!AB:AC,2,FALSE)/1000)","v":1},0,0,1,0,0,0,0.156931489061482,0,25.587073481587,0,25.587073481587,0,0,4.015417542191,{"$f":"IF(B90=\"\",0,SUM(Q91:$Q$122))","v":4.015417542191},null,null,null,3.966146749328,0,0,0,{"$f":"IF(B91=\"\",0,MAX(IF(B91<=$AG$12,$N$1*SUM($Y$16:Y91)-SUM($AB$22:AB91),0),AE91))","v":0},0.3,0,0,{"$f":"IF(B91=\"\",0,VLOOKUP(A91,'Mortality&Morbidity'!$BE$37:$BF$42,2,TRUE)*Y91)","v":0},{"$f":"CSV!AJ92","v":0},{"$f":"$N$1*SUM($Y$16:Y91)*20%","v":2000},173.4,0]
["","",{"$f":"IF(B92=\"\",0,VLOOKUP(B92,'Mortality&Morbidity'!AB:AC,2,FALSE)/1000)","v":0},0,0,0,0,0,0,0.153103891767299,0,0,0,0,0,0,0,{"$f":"IF(B91=\"\",0,SUM(Q92:$Q$122))","v":0},null,null,null,0,0,0,"",{"$f":"IF(B92=\"\",0,MAX(IF(B92<=$AG$12,$N$1*SUM($Y$16:Y92)-SUM($AB$22:AB92),0),AE92))","v":0},0,0,0,{"$f":"IF(B92=\"\",0,VLOOKUP(A92,'Mortality&Morbidity'!$BE$37:$BF$42,2,TRUE)*Y92)","v":0},{"$f":"CSV!AJ93","v":{"$error":"#VALUE!"}},{"$f":"$N$1*SUM($Y$16:Y92)*20%","v":2000},0,0]
["","",{"$f":"IF(B93=\"\",0,VLOOKUP(B93,'Mortality&Morbidity'!AB:AC,2,FALSE)/1000)","v":0},0,0,0,0,0,0,{"$error":"#VALUE!"},0,0,0,0,0,0,0,{"$f":"IF(B92=\"\",0,SUM(Q93:$Q$122))","v":0},null,null,null,0,0,0,"",{"$f":"IF(B93=\"\",0,MAX(IF(B93<=$AG$12,$N$1*SUM($Y$16:Y93)-SUM($AB$22:AB93),0),AE93))","v":0},0,0,0,{"$f":"IF(B93=\"\",0,VLOOKUP(A93,'Mortality&Morbidity'!$BE$37:$BF$42,2,TRUE)*Y93)","v":0},{"$f":"CSV!AJ94","v":{"$error":"#VALUE!"}},{"$f":"$N$1*SUM($Y$16:Y93)*20%","v":2000},0,0]
["","",{"$f":"IF(B94=\"\",0,VLOOKUP(B94,'Mortality&Morbidity'!AB:AC,2,FALSE)/1000)","v":0},0,0,0,0,0,0,{"$error":"#VALUE!"},0,0,0,0,0,0,0,{"$f":"IF(B93=\"\",0,SUM(Q94:$Q$122))","v":0},null,null,null,0,0,0,"",{"$f":"IF(B94=\"\",0,MAX(IF(B94<=$AG$12,$N$1*SUM($Y$16:Y94)-SUM($AB$22:AB94),0),AE94))","v":0},0,0,0,{"$f":"IF(B94=\"\",0,VLOOKUP(A94,'Mortality&Morbidity'!$BE$37:$BF$42,2,TRUE)*Y94)","v":0},{"$f":"CSV!AJ95","v":{"$error":"#VALUE!"}},{"$f":"$N$1*SUM($Y$16:Y94)*20%","v":2000},0,0]
["","",{"$f":"IF(B95=\"\",0,VLOOKUP(B95,'Mortality&Morbidity'!AB:AC,2,FALSE)/1000)","v":0},0,0,0,0,0,0,{"$error":"#VALUE!"},0,0,0,0,0,0,0,{"$f":"IF(B94=\"\",0,SUM(Q95:$Q$122))","v":0},null,null,null,0,0,0,"",{"$f":"IF(B95=\"\",0,MAX(IF(B95<=$AG$12,$N$1*SUM($Y$16:Y95)-SUM($AB$22:AB95),0),AE95))","v":0},0,0,0,{"$f":"IF(B95=\"\",0,VLOOKUP(A95,'Mortality&Morbidity'!$BE$37:$BF$42,2,TRUE)*Y95)","v":0},{"$f":"CSV!AJ96","v":{"$error":"#VALUE!"}},{"$f":"$N$1*SUM($Y$16:Y95)*20%","v":2000},0,0]
["","",{"$f":"IF(B96=\"\",0,VLOOKUP(B96,'Mortality&Morbidity'!AB:AC,2,FALSE)/1000)","v":0},0,0,0,0,0,0,{"$error":"#VALUE!"},0,0,0,0,0,0,0,{"$f":"IF(B95=\"\",0,SUM(Q96:$Q$122))","v":0},null,null,null,0,0,0,"",{"$f":"IF(B96=\"\",0,MAX(IF(B96<=$AG$12,$N$1*SUM($Y$16:Y96)-SUM($AB$22:AB96),0),AE96))","v":0},0,0,0,{"$f":"IF(B96=\"\",0,VLOOKUP(A96,'Mortality&Morbidity'!$BE$37:$BF$42,2,TRUE)*Y96)","v":0},{"$f":"CSV!AJ97","v":{"$error":"#VALUE!"}},{"$f":"$N$1*SUM($Y$16:Y96)*20%","v":2000},0,0]
["","",{"$f":"IF(B97=\"\",0,VLOOKUP(B97,'Mortality&Morbidity'!AB:AC,2,FALSE)/1000)","v":0},0,0,0,0,0,0,{"$error":"#VALUE!"},0,0,0,0,0,0,0,{"$f":"IF(B96=\"\",0,SUM(Q97:$Q$122))","v":0},null,null,null,0,0,0,"",{"$f":"IF(B97=\"\",0,MAX(IF(B97<=$AG$12,$N$1*SUM($Y$16:Y97)-SUM($AB$22:AB97),0),AE97))","v":0},0,0,0,{"$f":"IF(B97=\"\",0,VLOOKUP(A97,'Mortality&Morbidity'!$BE$37:$BF$42,2,TRUE)*Y97)","v":0},{"$f":"CSV!AJ98","v":{"$error":"#VALUE!"}},{"$f":"$N$1*SUM($Y$16:Y97)*20%","v":2000},0,0]
["","",{"$f":"IF(B98=\"\",0,VLOOKUP(B98,'Mortality&Morbidity'!AB:AC,2,FALSE)/1000)","v":0},0,0,0,0,0,0,{"$error":"#VALUE!"},0,0,0,0,0,0,0,{"$f":"IF(B97=\"\",0,SUM(Q98:$Q$122))","v":0},null,null,null,0,0,0,"",{"$f":"IF(B98=\"\",0,MAX(IF(B98<=$AG$12,$N$1*SUM($Y$16:Y98)-SUM($AB$22:AB98),0),AE98))","v":0},0,0,0,{"$f":"IF(B98=\"\",0,VLOOKUP(A98,'Mortality&Morbidity'!$BE$37:$BF$42,2,TRUE)*Y98)","v":0},{"$f":"CSV!AJ99","v":{"$error":"#VALUE!"}},{"$f":"$N$1*SUM($Y$16:Y98)*20%","v":2000},0,0]
["","",{"$f":"IF(B99=\"\",0,VLOOKUP(B99,'Mortality&Morbidity'!AB:AC,2,FALSE)/1000)","v":0},0,0,0,0,0,0,{"$error":"#VALUE!"},0,0,0,0,0,0,0,{"$f":"IF(B98=\"\",0,SUM(Q99:$Q$122))","v":0},null,null,null,0,0,0,"",{"$f":"IF(B99=\"\",0,MAX(IF(B99<=$AG$12,$N$1*SUM($Y$16:Y99)-SUM($AB$22:AB99),0),AE99))","v":0},0,0,0,{"$f":"IF(B99=\"\",0,VLOOKUP(A99,'Mortality&Morbidity'!$BE$37:$BF$42,2,TRUE)*Y99)","v":0},{"$f":"CSV!AJ100","v":{"$error":"#VALUE!"}},{"$f":"$N$1*SUM($Y$16:Y99)*20%","v":2000},0,0]
["","",{"$f":"IF(B100=\"\",0,VLOOKUP(B100,'Mortality&Morbidity'!AB:AC,2,FALSE)/1000)","v":0},0,0,0,0,0,0,{"$error":"#VALUE!"},0,0,0,0,0,0,0,{"$f":"IF(B99=\"\",0,SUM(Q100:$Q$122))","v":0},null,null,null,0,0,0,"",{"$f":"IF(B100=\"\",0,MAX(IF(B100<=$AG$12,$N$1*SUM($Y$16:Y100)-SUM($AB$22:AB100),0),AE100))","v":0},0,0,0,{"$f":"IF(B100=\"\",0,VLOOKUP(A100,'Mortality&Morbidity'!$BE$37:$BF$42,2,TRUE)*Y100)","v":0},{"$f":"CSV!AJ101","v":{"$error":"#VALUE!"}},{"$f":"$N$1*SUM($Y$16:Y100)*20%","v":2000},0,0]
["","",{"$f":"IF(B101=\"\",0,VLOOKUP(B101,'Mortality&Morbidity'!AB:AC,2,FALSE)/1000)","v":0},0,0,0,0,0,0,{"$error":"#VALUE!"},0,0,0,0,0,0,0,{"$f":"IF(B100=\"\",0,SUM(Q101:$Q$122))","v":0},null,null,null,0,0,0,"",{"$f":"IF(B101=\"\",0,MAX(IF(B101<=$AG$12,$N$1*SUM($Y$16:Y101)-SUM($AB$22:AB101),0),AE101))","v":0},0,0,0,{"$f":"IF(B101=\"\",0,VLOOKUP(A101,'Mortality&Morbidity'!$BE$37:$BF$42,2,TRUE)*Y101)","v":0},{"$f":"CSV!AJ102","v":{"$error":"#VALUE!"}},{"$f":"$N$1*SUM($Y$16:Y101)*20%","v":2000},0,0]
["","",{"$f":"IF(B102=\"\",0,VLOOKUP(B102,'Mortality&Morbidity'!AB:AC,2,FALSE)/1000)","v":0},0,0,0,0,0,0,{"$error":"#VALUE!"},0,0,0,0,0,0,0,{"$f":"IF(B101=\"\",0,SUM(Q102:$Q$122))","v":0},null,null,null,0,0,0,"",{"$f":"IF(B102=\"\",0,MAX(IF(B102<=$AG$12,$N$1*SUM($Y$16:Y102)-SUM($AB$22:AB102),0),AE102))","v":0},0,0,0,{"$f":"IF(B102=\"\",0,VLOOKUP(A102,'Mortality&Morbidity'!$BE$37:$BF$42,2,TRUE)*Y102)","v":0},{"$f":"CSV!AJ103","v":{"$error":"#VALUE!"}},{"$f":"$N$1*SUM($Y$16:Y102)*20%","v":2000},0,0]
["","",{"$f":"IF(B103=\"\",0,VLOOKUP(B103,'Mortality&Morbidity'!AB:AC,2,FALSE)/1000)","v":0},0,0,0,0,0,0,{"$error":"#VALUE!"},0,0,0,0,0,0,0,{"$f":"IF(B102=\"\",0,SUM(Q103:$Q$122))","v":0},null,null,null,0,0,0,"",{"$f":"IF(B103=\"\",0,MAX(IF(B103<=$AG$12,$N$1*SUM($Y$16:Y103)-SUM($AB$22:AB103),0),AE103))","v":0},0,0,0,{"$f":"IF(B103=\"\",0,VLOOKUP(A103,'Mortality&Morbidity'!$BE$37:$BF$42,2,TRUE)*Y103)","v":0},{"$f":"CSV!AJ104","v":{"$error":"#VALUE!"}},{"$f":"$N$1*SUM($Y$16:Y103)*20%","v":2000},0,0]
["","",{"$f":"IF(B104=\"\",0,VLOOKUP(B104,'Mortality&Morbidity'!AB:AC,2,FALSE)/1000)","v":0},0,0,0,0,0,0,{"$error":"#VALUE!"},0,0,0,0,0,0,0,{"$f":"IF(B103=\"\",0,SUM(Q104:$Q$122))","v":0},null,null,null,0,0,0,"",{"$f":"IF(B104=\"\",0,MAX(IF(B104<=$AG$12,$N$1*SUM($Y$16:Y104)-SUM($AB$22:AB104),0),AE104))","v":0},0,0,0,{"$f":"IF(B104=\"\",0,VLOOKUP(A104,'Mortality&Morbidity'!$BE$37:$BF$42,2,TRUE)*Y104)","v":0},{"$f":"CSV!AJ105","v":{"$error":"#VALUE!"}},{"$f":"$N$1*SUM($Y$16:Y104)*20%","v":2000},0,0]
["","",{"$f":"IF(B105=\"\",0,VLOOKUP(B105,'Mortality&Morbidity'!AB:AC,2,FALSE)/1000)","v":0},0,0,0,0,0,0,{"$error":"#VALUE!"},0,0,0,0,0,0,0,{"$f":"IF(B104=\"\",0,SUM(Q105:$Q$122))","v":0},null,null,null,0,0,0,"",{"$f":"IF(B105=\"\",0,MAX(IF(B105<=$AG$12,$N$1*SUM($Y$16:Y105)-SUM($AB$22:AB105),0),AE105))","v":0},0,0,0,{"$f":"IF(B105=\"\",0,VLOOKUP(A105,'Mortality&Morbidity'!$BE$37:$BF$42,2,TRUE)*Y105)","v":0},{"$f":"CSV!AJ106","v":{"$error":"#VALUE!"}},{"$f":"$N$1*SUM($Y$16:Y105)*20%","v":2000},0,0]
["","",{"$f":"IF(B106=\"\",0,VLOOKUP(B106,'Mortality&Morbidity'!AB:AC,2,FALSE)/1000)","v":0},0,0,0,0,0,0,{"$error":"#VALUE!"},0,0,0,0,0,0,0,{"$f":"IF(B105=\"\",0,SUM(Q106:$Q$122))","v":0},null,null,null,0,0,0,"",{"$f":"IF(B106=\"\",0,MAX(IF(B106<=$AG$12,$N$1*SUM($Y$16:Y106)-SUM($AB$22:AB106),0),AE106))","v":0},0,0,0,{"$f":"IF(B106=\"\",0,VLOOKUP(A106,'Mortality&Morbidity'!$BE$37:$BF$42,2,TRUE)*Y106)","v":0},{"$f":"CSV!AJ107","v":{"$error":"#VALUE!"}},{"$f":"$N$1*SUM($Y$16:Y106)*20%","v":2000},0,0]
["","",{"$f":"IF(B107=\"\",0,VLOOKUP(B107,'Mortality&Morbidity'!AB:AC,2,FALSE)/1000)","v":0},0,0,0,0,0,0,{"$error":"#VALUE!"},0,0,0,0,0,0,0,{"$f":"IF(B106=\"\",0,SUM(Q107:$Q$122))","v":0},null,null,null,0,0,0,"",{"$f":"IF(B107=\"\",0,MAX(IF(B107<=$AG$12,$N$1*SUM($Y$16:Y107)-SUM($AB$22:AB107),0),AE107))","v":0},0,0,0,{"$f":"IF(B107=\"\",0,VLOOKUP(A107,'Mortality&Morbidity'!$BE$37:$BF$42,2,TRUE)*Y107)","v":0},{"$f":"CSV!AJ108","v":{"$error":"#VALUE!"}},{"$f":"$N$1*SUM($Y$16:Y107)*20%","v":2000},0,0]
["","",{"$f":"IF(B108=\"\",0,VLOOKUP(B108,'Mortality&Morbidity'!AB:AC,2,FALSE)/1000)","v":0},0,0,0,0,0,0,{"$error":"#VALUE!"},0,0,0,0,0,0,0,{"$f":"IF(B107=\"\",0,SUM(Q108:$Q$122))","v":0},null,null,null,0,0,0,"",{"$f":"IF(B108=\"\",0,MAX(IF(B108<=$AG$12,$N$1*SUM($Y$16:Y108)-SUM($AB$22:AB108),0),AE108))","v":0},0,0,0,{"$f":"IF(B108=\"\",0,VLOOKUP(A108,'Mortality&Morbidity'!$BE$37:$BF$42,2,TRUE)*Y108)","v":0},{"$f":"CSV!AJ109","v":{"$error":"#VALUE!"}},{"$f":"$N$1*SUM($Y$16:Y108)*20%","v":2000},0,0]
["","",{"$f":"IF(B109=\"\",0,VLOOKUP(B109,'Mortality&Morbidity'!AB:AC,2,FALSE)/1000)","v":0},0,0,0,0,0,0,{"$error":"#VALUE!"},0,0,0,0,0,0,0,{"$f":"IF(B108=\"\",0,SUM(Q109:$Q$122))","v":0},null,null,null,0,0,0,"",{"$f":"IF(B109=\"\",0,MAX(IF(B109<=$AG$12,$N$1*SUM($Y$16:Y109)-SUM($AB$22:AB109),0),AE109))","v":0},0,0,0,{"$f":"IF(B109=\"\",0,VLOOKUP(A109,'Mortality&Morbidity'!$BE$37:$BF$42,2,TRUE)*Y109)","v":0},{"$f":"CSV!AJ110","v":{"$error":"#VALUE!"}},{"$f":"$N$1*SUM($Y$16:Y109)*20%","v":2000},0,0]
["","",{"$f":"IF(B110=\"\",0,VLOOKUP(B110,'Mortality&Morbidity'!AB:AC,2,FALSE)/1000)","v":0},0,0,0,0,0,0,{"$error":"#VALUE!"},0,0,0,0,0,0,0,{"$f":"IF(B109=\"\",0,SUM(Q110:$Q$122))","v":0},null,null,null,0,0,0,"",{"$f":"IF(B110=\"\",0,MAX(IF(B110<=$AG$12,$N$1*SUM($Y$16:Y110)-SUM($AB$22:AB110),0),AE110))","v":0},0,0,0,{"$f":"IF(B110=\"\",0,VLOOKUP(A110,'Mortality&Morbidity'!$BE$37:$BF$42,2,TRUE)*Y110)","v":0},{"$f":"CSV!AJ111","v":{"$error":"#VALUE!"}},{"$f":"$N$1*SUM($Y$16:Y110)*20%","v":2000},0,0]
["","",{"$f":"IF(B111=\"\",0,VLOOKUP(B111,'Mortality&Morbidity'!AB:AC,2,FALSE)/1000)","v":0},0,0,0,0,0,0,{"$error":"#VALUE!"},0,0,0,0,0,0,0,{"$f":"IF(B110=\"\",0,SUM(Q111:$Q$122))","v":0},null,null,null,0,0,0,"",{"$f":"IF(B111=\"\",0,MAX(IF(B111<=$AG$12,$N$1*SUM($Y$16:Y111)-SUM($AB$22:AB111),0),AE111))","v":0},0,0,0,{"$f":"IF(B111=\"\",0,VLOOKUP(A111,'Mortality&Morbidity'!$BE$37:$BF$42,2,TRUE)*Y111)","v":0},{"$f":"CSV!AJ112","v":{"$error":"#VALUE!"}},{"$f":"$N$1*SUM($Y$16:Y111)*20%","v":2000},0,0]
["","",{"$f":"IF(B112=\"\",0,VLOOKUP(B112,'Mortality&Morbidity'!AB:AC,2,FALSE)/1000)","v":0},0,0,0,0,0,0,{"$error":"#VALUE!"},0,0,{"$f":"IF(B112=\"\",0,D112*L112)","v":0},{"$f":"IF(B112=\"\",0,F112*L112)","v":0},0,0,{"$f":"IF(A112>BP+1,0,J112*L112)","v":0},{"$f":"IF(B111=\"\",0,SUM(Q112:$Q$122))","v":0},null,null,null,{"$f":"IF(B112=\"\",0,IF(A112=1,J113*N112*$G$6,J113*N112*$G$6))","v":0},{"$f":"IF(B112=\"\",0,IF(A112=1,J113*O112/2*$G$8,J113*O112*$G$6))","v":0},{"$f":"IF(B112=\"\",0,J113*P112*$G$6)","v":0},{"$f":"IF(B112=\"\",\"\",IF(A112<=PPP,1,0))","v":""},{"$f":"IF(B112=\"\",0,MAX(IF(B112<=$AG$12,$N$1*SUM($Y$16:Y112)-SUM($AB$22:AB112),0),AE112))","v":0},0,{"$f":"IF(B112=\"\",0,IF(OR(A112=6,A112=6),100%*$O$1,IF(AND(B112>=$AG$9,B112<=$AG$10),$AG$11*PPP*$N$1,0)))","v":0},{"$f":"IF(B112=\"\",0,0)*(A112<=PPP)","v":0},{"$f":"IF(B112=\"\",0,VLOOKUP(A112,'Mortality&Morbidity'!$BE$37:$BF$42,2,TRUE)*Y112)","v":0},{"$f":"CSV!AJ113","v":{"$error":"#VALUE!"}},{"$f":"$N$1*SUM($Y$16:Y112)*20%","v":2000},0,0]
[{"$f":"IF(A112=\"\",\"\",IF(A112<BP,A112+1,\"\"))","v":""},"",{"$f":"IF(B113=\"\",0,VLOOKUP(B113,'Mortality&Morbidity'!AB:AC,2,FALSE)/1000)","v":0},0,0,0,0,0,0,{"$error":"#VALUE!"},0,{"$f":"IF(B112=\"\",0,L112*K112)","v":0},0,0,0,0,0,{"$f":"IF(B112=\"\",0,SUM(Q113:$Q$122))","v":0},null,null,null,0,0,0,"",{"$f":"IF(B113=\"\",0,MAX(IF(B113<=$AG$12,$N$1*SUM($Y$16:Y113)-SUM($AB$22:AB113),0),AE113))","v":0},0,0,0,{"$f":"IF(B113=\"\",0,VLOOKUP(A113,'Mortality&Morbidity'!$BE$37:$BF$42,2,TRUE)*Y113)","v":0},{"$f":"CSV!AJ114","v":{"$error":"#VALUE!"}},{"$f":"$N$1*SUM($Y$16:Y113)*20%","v":2000},0,0]
["","",{"$f":"IF(B114=\"\",0,VLOOKUP(B114,'Mortality&Morbidity'!AB:AC,2,FALSE)/1000)","v":0},0,0,0,0,0,0,{"$error":"#VALUE!"},0,0,0,0,0,0,0,{"$f":"IF(B113=\"\",0,SUM(Q114:$Q$122))","v":0},null,null,null,0,0,0,"",{"$f":"IF(B114=\"\",0,MAX(IF(B114<=$AG$12,$N$1*SUM($Y$16:Y114)-SUM($AB$22:AB114),0),AE114))","v":0},0,0,0,{"$f":"IF(B114=\"\",0,VLOOKUP(A114,'Mortality&Morbidity'!$BE$37:$BF$42,2,TRUE)*Y114)","v":0},{"$f":"CSV!AJ115","v":{"$error":"#VALUE!"}},{"$f":"$N$1*SUM($Y$16:Y114)*20%","v":2000},0,0]
["","",{"$f":"IF(B115=\"\",0,VLOOKUP(B115,'Mortality&Morbidity'!AB:AC,2,FALSE)/1000)","v":0},0,0,0,0,0,0,{"$error":"#VALUE!"},0,0,0,0,0,0,0,{"$f":"IF(B114=\"\",0,SUM(Q115:$Q$122))","v":0},null,null,null,0,0,0,"",{"$f":"IF(B115=\"\",0,MAX(IF(B115<=$AG$12,$N$1*SUM($Y$16:Y115)-SUM($AB$22:AB115),0),AE115))","v":0},0,0,0,{"$f":"IF(B115=\"\",0,VLOOKUP(A115,'Mortality&Morbidity'!$BE$37:$BF$42,2,TRUE)*Y115)","v":0},{"$f":"CSV!AJ116","v":{"$error":"#VALUE!"}},{"$f":"$N$1*SUM($Y$16:Y115)*20%","v":2000},0,0]
["","",{"$f":"IF(B116=\"\",0,VLOOKUP(B116,'Mortality&Morbidity'!AB:AC,2,FALSE)/1000)","v":0},0,0,0,0,0,0,{"$error":"#VALUE!"},0,0,0,0,0,0,0,{"$f":"IF(B115=\"\",0,SUM(Q116:$Q$122))","v":0},null,null,null,0,0,0,"",{"$f":"IF(B116=\"\",0,MAX(IF(B116<=$AG$12,$N$1*SUM($Y$16:Y116)-SUM($AB$22:AB116),0),AE116))","v":0},0,0,0,{"$f":"IF(B116=\"\",0,VLOOKUP(A116,'Mortality&Morbidity'!$BE$37:$BF$42,2,TRUE)*Y116)","v":0},{"$f":"CSV!AJ117","v":{"$error":"#VALUE!"}},{"$f":"$N$1*SUM($Y$16:Y116)*20%","v":2000},0,0]
["","",{"$f":"IF(B117=\"\",0,VLOOKUP(B117,'Mortality&Morbidity'!AB:AC,2,FALSE)/1000)","v":0},0,0,0,0,0,0,{"$error":"#VALUE!"},0,0,0,0,0,0,0,{"$f":"IF(B116=\"\",0,SUM(Q117:$Q$122))","v":0},null,null,null,0,0,0,"",{"$f":"IF(B117=\"\",0,MAX(IF(B117<=$AG$12,$N$1*SUM($Y$16:Y117)-SUM($AB$22:AB117),0),AE117))","v":0},0,0,0,{"$f":"IF(B117=\"\",0,VLOOKUP(A117,'Mortality&Morbidity'!$BE$37:$BF$42,2,TRUE)*Y117)","v":0},{"$f":"CSV!AJ118","v":{"$error":"#VALUE!"}},{"$f":"$N$1*SUM($Y$16:Y117)*20%","v":2000},0,0]
["","",{"$f":"IF(B118=\"\",0,VLOOKUP(B118,'Mortality&Morbidity'!AB:AC,2,FALSE)/1000)","v":0},0,0,0,0,0,0,{"$error":"#VALUE!"},0,0,0,0,0,0,0,{"$f":"IF(B117=\"\",0,SUM(Q118:$Q$122))","v":0},null,null,null,0,0,0,"",{"$f":"IF(B118=\"\",0,MAX(IF(B118<=$AG$12,$N$1*SUM($Y$16:Y118)-SUM($AB$22:AB118),0),AE118))","v":0},0,0,0,{"$f":"IF(B118=\"\",0,VLOOKUP(A118,'Mortality&Morbidity'!$BE$37:$BF$42,2,TRUE)*Y118)","v":0},{"$f":"CSV!AJ119","v":{"$error":"#VALUE!"}},{"$f":"$N$1*SUM($Y$16:Y118)*20%","v":2000},0,0]
["","",{"$f":"IF(B119=\"\",0,VLOOKUP(B119,'Mortality&Morbidity'!AB:AC,2,FALSE)/1000)","v":0},0,0,0,0,0,0,{"$error":"#VALUE!"},0,0,0,0,0,0,0,{"$f":"IF(B118=\"\",0,SUM(Q119:$Q$122))","v":0},null,null,null,0,0,0,"",{"$f":"IF(B119=\"\",0,MAX(IF(B119<=$AG$12,$N$1*SUM($Y$16:Y119)-SUM($AB$22:AB119),0),AE119))","v":0},0,0,0,{"$f":"IF(B119=\"\",0,VLOOKUP(A119,'Mortality&Morbidity'!$BE$37:$BF$42,2,TRUE)*Y119)","v":0},{"$f":"CSV!AJ120","v":{"$error":"#VALUE!"}},{"$f":"$N$1*SUM($Y$16:Y119)*20%","v":2000},0,0]
["","",{"$f":"IF(B120=\"\",0,VLOOKUP(B120,'Mortality&Morbidity'!AB:AC,2,FALSE)/1000)","v":0},0,0,0,0,0,0,{"$error":"#VALUE!"},0,0,0,0,0,0,0,{"$f":"IF(B119=\"\",0,SUM(Q120:$Q$122))","v":0},null,null,null,0,0,0,"",{"$f":"IF(B120=\"\",0,MAX(IF(B120<=$AG$12,$N$1*SUM($Y$16:Y120)-SUM($AB$22:AB120),0),AE120))","v":0},0,0,0,{"$f":"IF(B120=\"\",0,VLOOKUP(A120,'Mortality&Morbidity'!$BE$37:$BF$42,2,TRUE)*Y120)","v":0},{"$f":"CSV!AJ121","v":{"$error":"#VALUE!"}},{"$f":"$N$1*SUM($Y$16:Y120)*20%","v":2000},0,0]
["","",{"$f":"IF(B121=\"\",0,VLOOKUP(B121,'Mortality&Morbidity'!AB:AC,2,FALSE)/1000)","v":0},0,0,0,0,0,0,{"$error":"#VALUE!"},0,0,0,0,0,0,0,{"$f":"IF(B120=\"\",0,SUM(Q121:$Q$122))","v":0},null,null,null,0,0,0,"",{"$f":"IF(B121=\"\",0,MAX(IF(B121<=$AG$12,$N$1*SUM($Y$16:Y121)-SUM($AB$22:AB121),0),AE121))","v":0},0,0,0,{"$f":"IF(B121=\"\",0,VLOOKUP(A121,'Mortality&Morbidity'!$BE$37:$BF$42,2,TRUE)*Y121)","v":0},{"$f":"CSV!AJ122","v":{"$error":"#VALUE!"}},{"$f":"$N$1*SUM($Y$16:Y121)*20%","v":2000},0,0]
["","",{"$f":"IF(B122=\"\",0,VLOOKUP(B122,'Mortality&Morbidity'!AB:AC,2,FALSE)/1000)","v":0},0,0,0,0,0,0,{"$error":"#VALUE!"},0,0,0,0,0,0,0,{"$f":"IF(B121=\"\",0,SUM(Q122:$Q$122))","v":0},null,null,null,0,0,0,"",{"$f":"IF(B122=\"\",0,MAX(IF(B122<=$AG$12,$N$1*SUM($Y$16:Y122)-SUM($AB$22:AB122),0),AE122))","v":0},0,0,0,{"$f":"IF(B122=\"\",0,VLOOKUP(A122,'Mortality&Morbidity'!$BE$37:$BF$42,2,TRUE)*Y122)","v":0},{"$f":"CSV!AJ123","v":0},{"$f":"$N$1*SUM($Y$16:Y122)*20%","v":2000},0,0]

{"sheet":"CSV","index":12,"n_rows":122,"n_cols":38,"rows_kept":122,"cut":false,"hidden":true,"merged":[]}
[]
[]
[null,null,"Basic Info",null,null,"CSV Int Rate",null,null,null,"Pricing basis",null,null,null,null,"CSV basis ",null,null,null,null,null,null,null,"PVFB"]
[null,null,"Insured Age",{"$f":"Age","v":30},null,"i",{"$f":"Assumption!C18","v":0.04},null,"GP",{"$f":"GP!N1","v":1000},null,null,null,"GP",{"$f":"O5/(1-O9)","v":672.428642408258}]
[null,null,"Insured Sex",{"$f":"Sex","v":"M"},null,"v",{"$f":"1/(1+G4)","v":0.961538461538461},null,"NP",{"$f":"GP!N6","v":841.315955985012},null,null,null,"NP",{"$f":"SUM(W4:W11)/W12","v":557.203541676014},null,null,null,null,null,null,"Death",{"$f":"(SUMPRODUCT(V16:V122,Z16:Z122))/Q16","v":732.576279937947}]
[null,null,null,null,null,"v-1/2",{"$f":"$G$5^(-1/2)","v":1.01980390271856},null,null,null,null,null,null,null,null,null,null,null,null,null,null,"Annuity",{"$f":"SUMPRODUCT(AA16:AA122,Q16:Q122)*$D$10/Q16","v":2326.83522588663}]
[null,null,null,null,null,"v-3/4",{"$f":"$G$5^(-3/4)","v":1.02985244517227},null,null,null,null,null,null,"APV(load)",{"$f":"SUMPRODUCT(AC16:AC122,Q16:Q122)/Q16","v":1.44372847890993},null,null,null,null,null,null,"Maturity",{"$f":"SUMPRODUCT(AB16:AB122,Q16:Q122)/Q16","v":1635.18746587969}]
[null,null,"PPP",{"$f":"PPP","v":10},null,"v-1/4",{"$f":"$G$5^(-1/4)","v":1.00985340654897},null,null,null,null,null,null,"APV(prem)",{"$f":"(R16-LOOKUP(PPP+1,A:A,R:R))/Q16","v":8.42528559237683}]
[null,null,"BP",{"$f":"BP","v":76},null,null,null,null,null,null,null,null,null,"Avg Load",{"$f":"O7/O8","v":0.171356622049252}]
[null,null,"Unit",{"$f":"GP!N2","v":578}]
[]
[null,null,null,null,null,null,null,null,null,null,null,null,null,null,null,null,null,null,null,null,null,"ax:n",{"$f":"(R16-LOOKUP(PPP+1,A:A,R:R))/Q16","v":8.42528559237683},null,null,null,null,null,null,null,null,"Annual"]
[null,null,null,null,null,null,null,null,null,null,null,null,null,null,null,null,null,null,null,null,null,null,null,null,"Sum Assured",null,null,null,null,null,null,"Base"]
[null,null,null,null,null,null,null,null,null,null,null,null,null,null,null,null,null,null,null,null,null,null,null,null,null,null,null,null,null,null,null,null,null,{"$f":"IF(PPP=1,100,90)","v":90}]
["policy yr","age","qx(Death)","ix(CI)","kx(CI)","qx(Death w/o CI)","mx(MinorCI)","qx(TPD WP)","mx(MCI WP)","vx","px(Death&CI)","lx(Death&CI)","dx(CI)","dx(Death)","dx(SpecificCA)","dx(ADD)","Dx(Death&CI)","Nx(Death&CI)",null,null,null,"Cx身故","Cx(SpecificCA)","Cx(ADD)","PPP","身故保险金\n（期末）","生存保险金\n基本保额\n（期初）","生存保险金\n年度保费\n（期初）","Loading",null,null,"NP_CSV","Res_CSV\n（期初）","r","Min CSV\n（期初）","Min CSV\n含生存金","Min CSV\n（期初）\n读表","身故保险金 - CSV"]
[1,{"$f":"Age","v":30},{"$f":"IF(B16=\"\",0,VLOOKUP(B16,'Mortality&Morbidity'!AB:AC,2,FALSE)/1000)","v":0.0002328},{"$f":"0","v":0},{"$f":"0","v":0},{"$f":"IF(B16=\"\",0,IF(B16=105,1-D16,(1-E16)*C16))","v":0.0002328},{"$f":"IF(B16=\"\",0,0/1000)","v":0},{"$f":"IF(B16=\"\",0,0/1000)","v":0},{"$f":"IF(B16=\"\",0,0/1000)","v":0},{"$f":"IF(A16=1,1,$G$5^(A15))","v":1},{"$f":"IF(B16=\"\",0,1-D16-F16)","v":0.9997672},1000,{"$f":"IF(B16=\"\",0,D16*L16)","v":0},{"$f":"IF(B16=\"\",0,F16*L16)","v":0.2328},{"$f":"IF(B16=\"\",0,0)","v":0},{"$f":"IF(B16=\"\",0,0)","v":0},{"$f":"IF(A16>BP+1,0,J16*L16)","v":1000},{"$f":"IF(B15=\"\",0,SUM(Q16:$Q$122))","v":23008.2631795138},null,null,null,{"$f":"IF(B16=\"\",0,IF(A16=1,J17*N16*$G$6,J17*N16*$G$6))","v":0.228279181300846},{"$f":"IF(B16=\"\",0,IF(A16=1,J17*O16/2*$G$8,J17*O16*$G$6))","v":0},{"$f":"IF(B16=\"\",0,J17*P16*$G$6)","v":0},{"$f":"IF(B16=\"\",\"\",IF(A16<=PPP,1,0))","v":1},{"$f":"IF(B16=\"\",0,GP!Z16)","v":1000},{"$f":"IF(OR(A16=107,B16=\"\"),0,GP!AA16)","v":0},{"$f":"IF(B16=\"\",0,GP!AB16)","v":0},{"$f":"IF(B16=\"\",0,VLOOKUP(A16,'Mortality&Morbidity'!$BE$37:$BG$42,3,TRUE)*Y16)","v":0.4},null,null,{"$f":"IF(B16=\"\",0,$O$4*(1-AC16)*(A16<=PPP))","v":403.457185444955},{"$f":"IF(OR(A16=\"\",A16=BP+1),0,IF(A16=1,0,(SUMPRODUCT(Z16:$Z$122,V16:$V$122)+SUMPRODUCT(AA16:$AA$122,Q16:$Q$122)*$D$10+SUMPRODUCT(AB16:$AB$122,Q16:$Q$122))/Q16-SUMPRODUCT(AF16:$AF$122,Q16:$Q$122)/Q16-AA16*$D$10*1-AB16*1))","v":0}]
[{"$f":"IF(A16=\"\",\"\",IF(A16<BP,A16+1,\"\"))","v":2},{"$f":"IF(A17=\"\",\"\",B16+1)","v":31},{"$f":"IF(B17=\"\",0,VLOOKUP(B17,'Mortality&Morbidity'!AB:AC,2,FALSE)/1000)","v":0.0002496},0,0,{"$f":"IF(B17=\"\",0,IF(B17=105,1-D17,(1-E17)*C17))","v":0.0002496},{"$f":"IF(B17=\"\",0,0/1000)","v":0},{"$f":"IF(B17=\"\",0,0/1000)","v":0},{"$f":"IF(B17=\"\",0,0/1000)","v":0},{"$f":"IF(A17=1,1,$G$5^(A16))","v":0.961538461538461},{"$f":"IF(B17=\"\",0,1-D17-F17)","v":0.9997504},{"$f":"IF(B16=\"\",0,L16*K16)","v":999.7672},0,0.24954189312,{"$f":"IF(B17=\"\",0,0)","v":0},{"$f":"IF(B17=\"\",0,0)","v":0},961.314615384615,{"$f":"IF(B16=\"\",0,SUM(Q17:$Q$122))","v":22008.2631795138},null,null,null,{"$f":"IF(B17=\"\",0,IF(A17=1,J18*N17*$G$6,J18*N17*$G$6))","v":0.235284575162309},0,0,1,{"$f":"IF(B17=\"\",0,GP!Z17)","v":2000},{"$f":"IF(OR(A17=107,B17=\"\"),0,GP!AA17)","v":0},{"$f":"IF(B17=\"\",0,GP!AB17)","v":0},{"$f":"IF(B17=\"\",0,VLOOKUP(A17,'Mortality&Morbidity'!$BE$37:$BG$42,3,TRUE)*Y17)","v":0.25},null,null,{"$f":"IF(B17=\"\",0,$O$4*(1-AC17)*(A17<=PPP))","v":504.321481806193},{"$f":"IF(OR(A17=\"\",A17=BP+1),0,IF(A17=1,0,(SUMPRODUCT(Z17:$Z$122,V17:$V$122)+SUMPRODUCT(AA17:$AA$122,Q17:$Q$122)*$D$10+SUMPRODUCT(AB17:$AB$122,Q17:$Q$122))/Q17-SUMPRODUCT(AF17:$AF$122,Q17:$Q$122)/Q17-AA17*$D$10*1-AB17*1))","v":419.45571180392},{"$f":"IF(BP+1<A17,0,IF(A17-1>MIN(20,PPP),1,$AH$14/100+(A17-1)/MIN(20,PPP)*(100-$AH$14)/100))","v":0.91},{"$f":"AK17","v":382},{"$f":"AI17+AA17*$D$10+AB17","v":382},{"$f":"'SA&Table'!H2","v":382},{"$f":"IF(B16=\"\",0,Z16-AJ17)","v":618}]
[3,{"$f":"IF(A18=\"\",\"\",B17+1)","v":32},{"$f":"IF(B18=\"\",0,VLOOKUP(B18,'Mortality&Morbidity'!AB:AC,2,FALSE)/1000)","v":0.000268},0,0,0.000268,0,0,0,0.924556213017751,0.999732,999.51765810688,0,0.267870732372644,0,0,924.110260823668,{"$f":"IF(B17=\"\",0,SUM(Q18:$Q$122))","v":21046.9485641292},null,null,null,0.242852129944331,0,0,1,{"$f":"IF(B18=\"\",0,GP!Z18)","v":3000},{"$f":"IF(OR(A18=107,B18=\"\"),0,GP!AA18)","v":0},{"$f":"IF(B18=\"\",0,GP!AB18)","v":0},{"$f":"IF(B18=\"\",0,VLOOKUP(A18,'Mortality&Morbidity'!$BE$37:$BG$42,3,TRUE)*Y18)","v":0.15},null,null,571.564346047019,{"$f":"IF(OR(A18=\"\",A18=BP+1),0,IF(A18=1,0,(SUMPRODUCT(Z18:$Z$122,V18:$V$122)+SUMPRODUCT(AA18:$AA$122,Q18:$Q$122)*$D$10+SUMPRODUCT(AB18:$AB$122,Q18:$Q$122))/Q18-SUMPRODUCT(AF18:$AF$122,Q18:$Q$122)/Q18-AA18*$D$10*1-AB18*1))","v":960.458925794158},0.92,{"$f":"AK18","v":884},{"$f":"AI18+AA18*$D$10+AB18","v":884},{"$f":"'SA&Table'!I2","v":884},{"$f":"IF(B17=\"\",0,Z17-AJ18)","v":1116}]
[4,33,{"$f":"IF(B19=\"\",0,VLOOKUP(B19,'Mortality&Morbidity'!AB:AC,2,FALSE)/1000)","v":0.0002888},0,0,0.0002888,0,0,0,0.888996358670915,0.9997112,999.249787374507,0,0.288583338593758,0,0,888.329422378623,{"$f":"IF(B18=\"\",0,SUM(Q19:$Q$122))","v":20122.8383033055},null,null,null,0.251567518519046,0,0,1,{"$f":"IF(B19=\"\",0,GP!Z19)","v":4000},{"$f":"IF(OR(A19=107,B19=\"\"),0,GP!AA19)","v":0},{"$f":"IF(B19=\"\",0,GP!AB19)","v":0},{"$f":"IF(B19=\"\",0,VLOOKUP(A19,'Mortality&Morbidity'!$BE$37:$BG$42,3,TRUE)*Y19)","v":0.12},null,null,591.737205319267,{"$f":"IF(OR(A19=\"\",A19=BP+1),0,IF(A19=1,0,(SUMPRODUCT(Z19:$Z$122,V19:$V$122)+SUMPRODUCT(AA19:$AA$122,Q19:$Q$122)*$D$10+SUMPRODUCT(AB19:$AB$122,Q19:$Q$122))/Q19-SUMPRODUCT(AF19:$AF$122,Q19:$Q$122)/Q19-AA19*$D$10*1-AB19*1))","v":1592.91118057343},0.93,1481,1481,{"$f":"'SA&Table'!J2","v":1481},1519]
[5,34,{"$f":"IF(B20=\"\",0,VLOOKUP(B20,'Mortality&Morbidity'!AB:AC,2,FALSE)/1000)","v":0.000312},0,0,0.000312,0,0,0,0.854804191029725,0.999688,998.961204035914,0,0.311675895659205,0,0,853.916223886,{"$f":"IF(B19=\"\",0,SUM(Q20:$Q$122))","v":19234.5088809269},null,null,null,0.261248129314091,0,0,1,{"$f":"IF(B20=\"\",0,GP!Z20)","v":5000},{"$f":"IF(OR(A20=107,B20=\"\"),0,GP!AA20)","v":0},{"$f":"IF(B20=\"\",0,GP!AB20)","v":0},{"$f":"IF(B20=\"\",0,VLOOKUP(A20,'Mortality&Morbidity'!$BE$37:$BG$42,3,TRUE)*Y20)","v":0.12},null,null,591.737205319267,{"$f":"IF(OR(A20=\"\",A20=BP+1),0,IF(A20=1,0,(SUMPRODUCT(Z20:$Z$122,V20:$V$122)+SUMPRODUCT(AA20:$AA$122,Q20:$Q$122)*$D$10+SUMPRODUCT(AB20:$AB$122,Q20:$Q$122))/Q20-SUMPRODUCT(AF20:$AF$122,Q20:$Q$122)/Q20-AA20*$D$10*1-AB20*1))","v":2271.51225659969},0.94,2135,2135,{"$f":"'SA&Table'!K2","v":2135},1865]
[6,35,{"$f":"IF(B21=\"\",0,VLOOKUP(B21,'Mortality&Morbidity'!AB:AC,2,FALSE)/1000)","v":0.000338},0,0,0.000338,0,0,0,0.821927106759351,0.999662,998.649528140254,0,0.337543540511406,0,0,820.817117330911,{"$f":"IF(B20=\"\",0,SUM(Q21:$Q$122))","v":18380.5926570409},null,null,null,0.272048562393484,0,0,1,{"$f":"IF(B21=\"\",0,GP!Z21)","v":6000},{"$f":"IF(OR(A21=107,B21=\"\"),0,GP!AA21)","v":0},{"$f":"IF(B21=\"\",0,GP!AB21)","v":1000},{"$f":"IF(B21=\"\",0,VLOOKUP(A21,'Mortality&Morbidity'!$BE$37:$BG$42,3,TRUE)*Y21)","v":0.12},null,null,591.737205319267,{"$f":"IF(OR(A21=\"\",A21=BP+1),0,IF(A21=1,0,(SUMPRODUCT(Z21:$Z$122,V21:$V$122)+SUMPRODUCT(AA21:$AA$122,Q21:$Q$122)*$D$10+SUMPRODUCT(AB21:$AB$122,Q21:$Q$122))/Q21-SUMPRODUCT(AF21:$AF$122,Q21:$Q$122)/Q21-AA21*$D$10*1-AB21*1))","v":1977.11740693844},0.95,1878,2878,{"$f":"'SA&Table'!L2","v":1878},2122]
[7,36,{"$f":"IF(B22=\"\",0,VLOOKUP(B22,'Mortality&Morbidity'!AB:AC,2,FALSE)/1000)","v":0.0003664},0,0,0.0003664,0,0,0,0.790314525730145,0.9996336,998.311984599743,0,0.365781511157346,0,0,788.980462639666,{"$f":"IF(B21=\"\",0,SUM(Q22:$Q$122))","v":17559.7755397099},null,null,null,0.283468655827408,0,0,1,{"$f":"IF(B22=\"\",0,GP!Z22)","v":7000},{"$f":"IF(OR(A22=107,B22=\"\"),0,GP!AA22)","v":0.2},{"$f":"IF(B22=\"\",0,GP!AB22)","v":0},{"$f":"IF(B22=\"\",0,VLOOKUP(A22,'Mortality&Morbidity'!$BE$37:$BG$42,3,TRUE)*Y22)","v":0.12},null,null,591.737205319267,{"$f":"IF(OR(A22=\"\",A22=BP+1),0,IF(A22=1,0,(SUMPRODUCT(Z22:$Z$122,V22:$V$122)+SUMPRODUCT(AA22:$AA$122,Q22:$Q$122)*$D$10+SUMPRODUCT(AB22:$AB$122,Q22:$Q$122))/Q22-SUMPRODUCT(AF22:$AF$122,Q22:$Q$122)/Q22-AA22*$D$10*1-AB22*1))","v":2554.84324424986},0.96,2453,2568.6,{"$f":"'SA&Table'!M2","v":2453},3431.4]
[8,37,{"$f":"IF(B23=\"\",0,VLOOKUP(B23,'Mortality&Morbidity'!AB:AC,2,FALSE)/1000)","v":0.000398},0,0,0.000398,0,0,0,0.759917813202063,0.999602,997.946203088586,0,0.397182588829257,0,0,758.35709634438,{"$f":"IF(B22=\"\",0,SUM(Q23:$Q$122))","v":16770.7950770703},null,null,null,0.295964864951454,0,0,1,{"$f":"IF(B23=\"\",0,GP!Z23)","v":8000},{"$f":"IF(OR(A23=107,B23=\"\"),0,GP!AA23)","v":0.2},{"$f":"IF(B23=\"\",0,GP!AB23)","v":0},{"$f":"IF(B23=\"\",0,VLOOKUP(A23,'Mortality&Morbidity'!$BE$37:$BG$42,3,TRUE)*Y23)","v":0.12},null,null,591.737205319267,{"$f":"IF(OR(A23=\"\",A23=BP+1),0,IF(A23=1,0,(SUMPRODUCT(Z23:$Z$122,V23:$V$122)+SUMPRODUCT(AA23:$AA$122,Q23:$Q$122)*$D$10+SUMPRODUCT(AB23:$AB$122,Q23:$Q$122))/Q23-SUMPRODUCT(AF23:$AF$122,Q23:$Q$122)/Q23-AA23*$D$10*1-AB23*1))","v":3155.42657864062},0.97,3061,3176.6,{"$f":"'SA&Table'!N2","v":3061},3823.4]
[9,38,{"$f":"IF(B24=\"\",0,VLOOKUP(B24,'Mortality&Morbidity'!AB:AC,2,FALSE)/1000)","v":0.0004332},0,0,0.0004332,0,0,0,0.730690205001983,0.9995668,997.549020499756,0,0.432138235680495,0,0,728.899298288495,{"$f":"IF(B23=\"\",0,SUM(Q24:$Q$122))","v":16012.4379807259},null,null,null,0.309627346175903,0,0,1,{"$f":"IF(B24=\"\",0,GP!Z24)","v":9000},{"$f":"IF(OR(A24=107,B24=\"\"),0,GP!AA24)","v":0.2},{"$f":"IF(B24=\"\",0,GP!AB24)","v":0},{"$f":"IF(B24=\"\",0,VLOOKUP(A24,'Mortality&Morbidity'!$BE$37:$BG$42,3,TRUE)*Y24)","v":0.12},null,null,591.737205319267,{"$f":"IF(OR(A24=\"\",A24=BP+1),0,IF(A24=1,0,(SUMPRODUCT(Z24:$Z$122,V24:$V$122)+SUMPRODUCT(AA24:$AA$122,Q24:$Q$122)*$D$10+SUMPRODUCT(AB24:$AB$122,Q24:$Q$122))/Q24-SUMPRODUCT(AF24:$AF$122,Q24:$Q$122)/Q24-AA24*$D$10*1-AB24*1))","v":3779.75363043694},0.98,3704,3819.6,{"$f":"'SA&Table'!O2","v":3704},4180.4]
[10,39,{"$f":"IF(B25=\"\",0,VLOOKUP(B25,'Mortality&Morbidity'!AB:AC,2,FALSE)/1000)","v":0.000472},0,0,0.000472,0,0,0,0.70258673557883,0.999528,997.116882264076,0,0.470639168428644,0,0,700.561095300458,{"$f":"IF(B24=\"\",0,SUM(Q25:$Q$122))","v":15283.5386824374},null,null,null,0.324243549274857,0,0,1,{"$f":"IF(B25=\"\",0,GP!Z25)","v":10000},{"$f":"IF(OR(A25=107,B25=\"\"),0,GP!AA25)","v":0.2},{"$f":"IF(B25=\"\",0,GP!AB25)","v":0},{"$f":"IF(B25=\"\",0,VLOOKUP(A25,'Mortality&Morbidity'!$BE$37:$BG$42,3,TRUE)*Y25)","v":0.12},null,null,591.737205319267,{"$f":"IF(OR(A25=\"\",A25=BP+1),0,IF(A25=1,0,(SUMPRODUCT(Z25:$Z$122,V25:$V$122)+SUMPRODUCT(AA25:$AA$122,Q25:$Q$122)*$D$10+SUMPRODUCT(AB25:$AB$122,Q25:$Q$122))/Q25-SUMPRODUCT(AF25:$AF$122,Q25:$Q$122)/Q25-AA25*$D$10*1-AB25*1))","v":4428.74306714722},0.99,4384,4499.6,{"$f":"'SA&Table'!P2","v":4384},4500.4]
[11,40,{"$f":"IF(B26=\"\",0,VLOOKUP(B26,'Mortality&Morbidity'!AB:AC,2,FALSE)/1000)","v":0.0005152},0,0,0.0005152,0,0,0,0.675564168825798,0.9994848,996.646243095647,0,0.513472144442877,0,0,673.298490830265,{"$f":"IF(B25=\"\",0,SUM(Q26:$Q$122))","v":14582.9775871369},null,null,null,0.340147141574025,0,0,0,{"$f":"IF(B26=\"\",0,GP!Z26)","v":10000},{"$f":"IF(OR(A26=107,B26=\"\"),0,GP!AA26)","v":0.2},{"$f":"IF(B26=\"\",0,GP!AB26)","v":0},{"$f":"IF(B26=\"\",0,VLOOKUP(A26,'Mortality&Morbidity'!$BE$37:$BG$42,3,TRUE)*Y26)","v":0},null,null,0,{"$f":"IF(OR(A26=\"\",A26=BP+1),0,IF(A26=1,0,(SUMPRODUCT(Z26:$Z$122,V26:$V$122)+SUMPRODUCT(AA26:$AA$122,Q26:$Q$122)*$D$10+SUMPRODUCT(AB26:$AB$122,Q26:$Q$122))/Q26-SUMPRODUCT(AF26:$AF$122,Q26:$Q$122)/Q26-AA26*$D$10*1-AB26*1))","v":5103.34935303895},1,5103,5218.6,{"$f":"'SA&Table'!Q2","v":5103},4781.4]
[12,41,{"$f":"IF(B27=\"\",0,VLOOKUP(B27,'Mortality&Morbidity'!AB:AC,2,FALSE)/1000)","v":0.000562},0,0,0.000562,0,0,0,0.649580931563267,0.999438,996.132770951204,0,0.559826617274577,0,0,647.068853315182,{"$f":"IF(B26=\"\",0,SUM(Q27:$Q$122))","v":13909.6790963067},null,null,null,0.356590805932121,0,0,0,{"$f":"IF(B27=\"\",0,GP!Z27)","v":10000},{"$f":"IF(OR(A27=107,B27=\"\"),0,GP!AA27)","v":0.2},{"$f":"IF(B27=\"\",0,GP!AB27)","v":0},{"$f":"IF(B27=\"\",0,VLOOKUP(A27,'Mortality&Morbidity'!$BE$37:$BG$42,3,TRUE)*Y27)","v":0},null,null,0,{"$f":"IF(OR(A27=\"\",A27=BP+1),0,IF(A27=1,0,(SUMPRODUCT(Z27:$Z$122,V27:$V$122)+SUMPRODUCT(AA27:$AA$122,Q27:$Q$122)*$D$10+SUMPRODUCT(AB27:$AB$122,Q27:$Q$122))/Q27-SUMPRODUCT(AF27:$AF$122,Q27:$Q$122)/Q27-AA27*$D$10*1-AB27*1))","v":5189.36241408944},1,5189,5304.6,{"$f":"'SA&Table'!R2","v":5189},4695.4]
[13,42,{"$f":"IF(B28=\"\",0,VLOOKUP(B28,'Mortality&Morbidity'!AB:AC,2,FALSE)/1000)","v":0.000614},0,0,0.000614,0,0,0,0.624597049580065,0.999386,995.57294433393,0,0.611281787821033,0,0,621.831923672711,{"$f":"IF(B27=\"\",0,SUM(Q28:$Q$122))","v":13262.6102429915},null,null,null,0.374390409879039,0,0,0,{"$f":"IF(B28=\"\",0,GP!Z28)","v":10000},{"$f":"IF(OR(A28=107,B28=\"\"),0,GP!AA28)","v":0.2},{"$f":"IF(B28=\"\",0,GP!AB28)","v":0},{"$f":"IF(B28=\"\",0,VLOOKUP(A28,'Mortality&Morbidity'!$BE$37:$BG$42,3,TRUE)*Y28)","v":0},null,null,0,{"$f":"IF(OR(A28=\"\",A28=BP+1),0,IF(A28=1,0,(SUMPRODUCT(Z28:$Z$122,V28:$V$122)+SUMPRODUCT(AA28:$AA$122,Q28:$Q$122)*$D$10+SUMPRODUCT(AB28:$AB$122,Q28:$Q$122))/Q28-SUMPRODUCT(AF28:$AF$122,Q28:$Q$122)/Q28-AA28*$D$10*1-AB28*1))","v":5278.63717401154},1,5279,5394.6,{"$f":"'SA&Table'!S2","v":5279},4605.4]
[14,43,{"$f":"IF(B29=\"\",0,VLOOKUP(B29,'Mortality&Morbidity'!AB:AC,2,FALSE)/1000)","v":0.0006712},0,0,0.0006712,0,0,0,0.600574086134678,0.9993288,994.961662546109,0,0.667818267900948,0,0,597.548191222669,{"$f":"IF(B28=\"\",0,SUM(Q29:$Q$122))","v":12640.7783193188},null,null,null,0.393285753152626,0,0,0,{"$f":"IF(B29=\"\",0,GP!Z29)","v":10000},{"$f":"IF(OR(A29=107,B29=\"\"),0,GP!AA29)","v":0.2},{"$f":"IF(B29=\"\",0,GP!AB29)","v":0},{"$f":"IF(B29=\"\",0,VLOOKUP(A29,'Mortality&Morbidity'!$BE$37:$BG$42,3,TRUE)*Y29)","v":0},null,null,0,{"$f":"IF(OR(A29=\"\",A29=BP+1),0,IF(A29=1,0,(SUMPRODUCT(Z29:$Z$122,V29:$V$122)+SUMPRODUCT(AA29:$AA$122,Q29:$Q$122)*$D$10+SUMPRODUCT(AB29:$AB$122,Q29:$Q$122))/Q29-SUMPRODUCT(AF29:$AF$122,Q29:$Q$122)/Q29-AA29*$D$10*1-AB29*1))","v":5371.29001547881},1,5371,5486.6,{"$f":"'SA&Table'!T2","v":5371},4513.4]
[15,44,{"$f":"IF(B30=\"\",0,VLOOKUP(B30,'Mortality&Morbidity'!AB:AC,2,FALSE)/1000)","v":0.0007336},0,0,0.0007336,0,0,0,0.577475082821805,0.9992664,994.293844278208,0,0.729413964162493,0,0,574.179920073769,{"$f":"IF(B29=\"\",0,SUM(Q30:$Q$122))","v":12043.2301280961},null,null,null,0.413038612858068,0,0,0,{"$f":"IF(B30=\"\",0,GP!Z30)","v":10000},{"$f":"IF(OR(A30=107,B30=\"\"),0,GP!AA30)","v":0.2},{"$f":"IF(B30=\"\",0,GP!AB30)","v":0},{"$f":"IF(B30=\"\",0,VLOOKUP(A30,'Mortality&Morbidity'!$BE$37:$BG$42,3,TRUE)*Y30)","v":0},null,null,0,{"$f":"IF(OR(A30=\"\",A30=BP+1),0,IF(A30=1,0,(SUMPRODUCT(Z30:$Z$122,V30:$V$122)+SUMPRODUCT(AA30:$AA$122,Q30:$Q$122)*$D$10+SUMPRODUCT(AB30:$AB$122,Q30:$Q$122))/Q30-SUMPRODUCT(AF30:$AF$122,Q30:$Q$122)/Q30-AA30*$D$10*1-AB30*1))","v":5467.44403145683},1,5467,5582.6,{"$f":"'SA&Table'!U2","v":5467},4417.4]
[16,45,{"$f":"IF(B31=\"\",0,VLOOKUP(B31,'Mortality&Morbidity'!AB:AC,2,FALSE)/1000)","v":0.0008016},0,0,0.0008016,0,0,0,0.555264502713274,0.9991984,993.564430314045,0,0.796441247339739,0,0,551.691059311926,{"$f":"IF(B30=\"\",0,SUM(Q31:$Q$122))","v":11469.0502080223},null,null,null,0.433647637516923,0,0,0,{"$f":"IF(B31=\"\",0,GP!Z31)","v":10000},{"$f":"IF(OR(A31=107,B31=\"\"),0,GP!AA31)","v":0.2},{"$f":"IF(B31=\"\",0,GP!AB31)","v":0},{"$f":"IF(B31=\"\",0,VLOOKUP(A31,'Mortality&Morbidity'!$BE$37:$BG$42,3,TRUE)*Y31)","v":0},null,null,0,{"$f":"IF(OR(A31=\"\",A31=BP+1),0,IF(A31=1,0,(SUMPRODUCT(Z31:$Z$122,V31:$V$122)+SUMPRODUCT(AA31:$AA$122,Q31:$Q$122)*$D$10+SUMPRODUCT(AB31:$AB$122,Q31:$Q$122))/Q31-SUMPRODUCT(AF31:$AF$122,Q31:$Q$122)/Q31-AA31*$D$10*1-AB31*1))","v":5567.22943495824},1,5567,5682.6,{"$f":"'SA&Table'!V2","v":5567},4317.4]
[17,46,{"$f":"IF(B32=\"\",0,VLOOKUP(B32,'Mortality&Morbidity'!AB:AC,2,FALSE)/1000)","v":0.0008756},0,0,0.0008756,0,0,0,0.533908175685841,0.9991244,992.767989066706,0,0.869267651226807,0,0,530.046945921905,{"$f":"IF(B31=\"\",0,SUM(Q32:$Q$122))","v":10917.3591487104},null,null,null,0.455096420607937,0,0,0,{"$f":"IF(B32=\"\",0,GP!Z32)","v":10000},{"$f":"IF(OR(A32=107,B32=\"\"),0,GP!AA32)","v":0.2},{"$f":"IF(B32=\"\",0,GP!AB32)","v":0},{"$f":"IF(B32=\"\",0,VLOOKUP(A32,'Mortality&Morbidity'!$BE$37:$BG$42,3,TRUE)*Y32)","v":0},null,null,0,{"$f":"IF(OR(A32=\"\",A32=BP+1),0,IF(A32=1,0,(SUMPRODUCT(Z32:$Z$122,V32:$V$122)+SUMPRODUCT(AA32:$AA$122,Q32:$Q$122)*$D$10+SUMPRODUCT(AB32:$AB$122,Q32:$Q$122))/Q32-SUMPRODUCT(AF32:$AF$122,Q32:$Q$122)/Q32-AA32*$D$10*1-AB32*1))","v":5670.78222826656},1,5671,5786.6,{"$f":"'SA&Table'!W2","v":5671},4213.4]
[18,47,{"$f":"IF(B33=\"\",0,VLOOKUP(B33,'Mortality&Morbidity'!AB:AC,2,FALSE)/1000)","v":0.0009564},0,0,0.0009564,0,0,0,0.51337324585177,0.9990436,991.898721415479,0,0.948651937161764,0,0,509.214266169285,{"$f":"IF(B32=\"\",0,SUM(Q33:$Q$122))","v":10387.3122027885},null,null,null,0.477555070014974,0,0,0,{"$f":"IF(B33=\"\",0,GP!Z33)","v":10000},{"$f":"IF(OR(A33=107,B33=\"\"),0,GP!AA33)","v":0.2},{"$f":"IF(B33=\"\",0,GP!AB33)","v":0},{"$f":"IF(B33=\"\",0,VLOOKUP(A33,'Mortality&Morbidity'!$BE$37:$BG$42,3,TRUE)*Y33)","v":0},null,null,0,{"$f":"IF(OR(A33=\"\",A33=BP+1),0,IF(A33=1,0,(SUMPRODUCT(Z33:$Z$122,V33:$V$122)+SUMPRODUCT(AA33:$AA$122,Q33:$Q$122)*$D$10+SUMPRODUCT(AB33:$AB$122,Q33:$Q$122))/Q33-SUMPRODUCT(AF33:$AF$122,Q33:$Q$122)/Q33-AA33*$D$10*1-AB33*1))","v":5778.24476490117},1,5778,5893.6,{"$f":"'SA&Table'!X2","v":5778},4106.4]
[19,48,{"$f":"IF(B34=\"\",0,VLOOKUP(B34,'Mortality&Morbidity'!AB:AC,2,FALSE)/1000)","v":0.0010436},0,0,0.0010436,0,0,0,0.493628121011317,0.9989564,990.950069478317,0,1.03415549250757,0,0,489.160820812616,{"$f":"IF(B33=\"\",0,SUM(Q34:$Q$122))","v":9878.09793661924},null,null,null,0.500574896055217,0,0,0,{"$f":"IF(B34=\"\",0,GP!Z34)","v":10000},{"$f":"IF(OR(A34=107,B34=\"\"),0,GP!AA34)","v":0.2},{"$f":"IF(B34=\"\",0,GP!AB34)","v":0},{"$f":"IF(B34=\"\",0,VLOOKUP(A34,'Mortality&Morbidity'!$BE$37:$BG$42,3,TRUE)*Y34)","v":0},null,null,0,{"$f":"IF(OR(A34=\"\",A34=BP+1),0,IF(A34=1,0,(SUMPRODUCT(Z34:$Z$122,V34:$V$122)+SUMPRODUCT(AA34:$AA$122,Q34:$Q$122)*$D$10+SUMPRODUCT(AB34:$AB$122,Q34:$Q$122))/Q34-SUMPRODUCT(AF34:$AF$122,Q34:$Q$122)/Q34-AA34*$D$10*1-AB34*1))","v":5889.76468175325},1,5890,6005.6,{"$f":"'SA&Table'!Y2","v":5890},3994.4]
[20,49,{"$f":"IF(B35=\"\",0,VLOOKUP(B35,'Mortality&Morbidity'!AB:AC,2,FALSE)/1000)","v":0.0011376},0,0,0.0011376,0,0,0,0.474642424049343,0.9988624,989.91591398581,0,1.12612834375026,0,0,469.856089019246,{"$f":"IF(B34=\"\",0,SUM(Q35:$Q$122))","v":9388.93711580662},null,null,null,0.524128497099708,0,0,0,{"$f":"IF(B35=\"\",0,GP!Z35)","v":10000},{"$f":"IF(OR(A35=107,B35=\"\"),0,GP!AA35)","v":0.2},{"$f":"IF(B35=\"\",0,GP!AB35)","v":0},{"$f":"IF(B35=\"\",0,VLOOKUP(A35,'Mortality&Morbidity'!$BE$37:$BG$42,3,TRUE)*Y35)","v":0},null,null,0,{"$f":"IF(OR(A35=\"\",A35=BP+1),0,IF(A35=1,0,(SUMPRODUCT(Z35:$Z$122,V35:$V$122)+SUMPRODUCT(AA35:$AA$122,Q35:$Q$122)*$D$10+SUMPRODUCT(AB35:$AB$122,Q35:$Q$122))/Q35-SUMPRODUCT(AF35:$AF$122,Q35:$Q$122)/Q35-AA35*$D$10*1-AB35*1))","v":6005.50057605578},1,6006,6121.6,{"$f":"'SA&Table'!Z2","v":6006},3878.4]
[21,50,{"$f":"IF(B36=\"\",0,VLOOKUP(B36,'Mortality&Morbidity'!AB:AC,2,FALSE)/1000)","v":0.0012392},0,0,0.0012392,0,0,0,0.456386946201291,0.9987608,988.789785642059,0,1.22530830236764,0,0,451.270750704209,{"$f":"IF(B35=\"\",0,SUM(Q36:$Q$122))","v":8919.08102678737},null,null,null,0.548355142377786,0,0,0,{"$f":"IF(B36=\"\",0,GP!Z36)","v":10000},{"$f":"IF(OR(A36=107,B36=\"\"),0,GP!AA36)","v":0.2},{"$f":"IF(B36=\"\",0,GP!AB36)","v":0},{"$f":"IF(B36=\"\",0,VLOOKUP(A36,'Mortality&Morbidity'!$BE$37:$BG$42,3,TRUE)*Y36)","v":0},null,null,0,{"$f":"IF(OR(A36=\"\",A36=BP+1),0,IF(A36=1,0,(SUMPRODUCT(Z36:$Z$122,V36:$V$122)+SUMPRODUCT(AA36:$AA$122,Q36:$Q$122)*$D$10+SUMPRODUCT(AB36:$AB$122,Q36:$Q$122))/Q36-SUMPRODUCT(AF36:$AF$122,Q36:$Q$122)/Q36-AA36*$D$10*1-AB36*1))","v":6125.61932100025},1,6126,6241.6,{"$f":"'SA&Table'!AA2","v":6126},3758.4]
[22,51,{"$f":"IF(B37=\"\",0,VLOOKUP(B37,'Mortality&Morbidity'!AB:AC,2,FALSE)/1000)","v":0.0013484},0,0,0.0013484,0,0,0,0.438833602116626,0.9986516,987.564477339692,0,1.33163194124484,0,0,433.3764769134,{"$f":"IF(B36=\"\",0,SUM(Q37:$Q$122))","v":8467.81027608317},null,null,null,0.573016871098699,0,0,0,{"$f":"IF(B37=\"\",0,GP!Z37)","v":10000},{"$f":"IF(OR(A37=107,B37=\"\"),0,GP!AA37)","v":0.2},{"$f":"IF(B37=\"\",0,GP!AB37)","v":0},{"$f":"IF(B37=\"\",0,VLOOKUP(A37,'Mortality&Morbidity'!$BE$37:$BG$42,3,TRUE)*Y37)","v":0},null,null,0,{"$f":"IF(OR(A37=\"\",A37=BP+1),0,IF(A37=1,0,(SUMPRODUCT(Z37:$Z$122,V37:$V$122)+SUMPRODUCT(AA37:$AA$122,Q37:$Q$122)*$D$10+SUMPRODUCT(AB37:$AB$122,Q37:$Q$122))/Q37-SUMPRODUCT(AF37:$AF$122,Q37:$Q$122)/Q37-AA37*$D$10*1-AB37*1))","v":6250.29530133519},1,6250,6365.6,{"$f":"'SA&Table'!AB2","v":6250},3634.4]
[23,52,{"$f":"IF(B38=\"\",0,VLOOKUP(B38,'Mortality&Morbidity'!AB:AC,2,FALSE)/1000)","v":0.0014656},0,0,0.0014656,0,0,0,0.421955386650602,0.9985344,986.232845398447,0,1.44542285821596,0,0,416.146261607625,{"$f":"IF(B37=\"\",0,SUM(Q38:$Q$122))","v":8034.43379916976},null,null,null,0.598060038195849,0,0,0,{"$f":"IF(B38=\"\",0,GP!Z38)","v":10000},{"$f":"IF(OR(A38=107,B38=\"\"),0,GP!AA38)","v":0.2},{"$f":"IF(B38=\"\",0,GP!AB38)","v":0},{"$f":"IF(B38=\"\",0,VLOOKUP(A38,'Mortality&Morbidity'!$BE$37:$BG$42,3,TRUE)*Y38)","v":0},null,null,0,{"$f":"IF(OR(A38=\"\",A38=BP+1),0,IF(A38=1,0,(SUMPRODUCT(Z38:$Z$122,V38:$V$122)+SUMPRODUCT(AA38:$AA$122,Q38:$Q$122)*$D$10+SUMPRODUCT(AB38:$AB$122,Q38:$Q$122))/Q38-SUMPRODUCT(AF38:$AF$122,Q38:$Q$122)/Q38-AA38*$D$10*1-AB38*1))","v":6379.71435944662},1,6380,6495.6,{"$f":"'SA&Table'!AC2","v":6380},3504.4]
[24,53,{"$f":"IF(B39=\"\",0,VLOOKUP(B39,'Mortality&Morbidity'!AB:AC,2,FALSE)/1000)","v":0.0015912},0,0,0.0015912,0,0,0,0.405726333317887,0.9984088,984.787422540231,0,1.56699374674602,0,0,399.55419004482,{"$f":"IF(B38=\"\",0,SUM(Q39:$Q$122))","v":7618.28753756214},null,null,null,0.623424391203548,0,0,0,{"$f":"IF(B39=\"\",0,GP!Z39)","v":10000},{"$f":"IF(OR(A39=107,B39=\"\"),0,GP!AA39)","v":0.2},{"$f":"IF(B39=\"\",0,GP!AB39)","v":0},{"$f":"IF(B39=\"\",0,VLOOKUP(A39,'Mortality&Morbidity'!$BE$37:$BG$42,3,TRUE)*Y39)","v":0},null,null,0,{"$f":"IF(OR(A39=\"\",A39=BP+1),0,IF(A39=1,0,(SUMPRODUCT(Z39:$Z$122,V39:$V$122)+SUMPRODUCT(AA39:$AA$122,Q39:$Q$122)*$D$10+SUMPRODUCT(AB39:$AB$122,Q39:$Q$122))/Q39-SUMPRODUCT(AF39:$AF$122,Q39:$Q$122)/Q39-AA39*$D$10*1-AB39*1))","v":6514.0731367755},1,6514,6629.6,{"$f":"'SA&Table'!AD2","v":6514},3370.4]
[25,54,{"$f":"IF(B40=\"\",0,VLOOKUP(B40,'Mortality&Morbidity'!AB:AC,2,FALSE)/1000)","v":0.0017256},0,0,0.0017256,0,0,0,0.390121474344122,0.9982744,983.220428793485,0,1.69664517192604,0,0,383.575403286174,{"$f":"IF(B39=\"\",0,SUM(Q40:$Q$122))","v":7218.73334751732},null,null,null,0.649044109505915,0,0,0,{"$f":"IF(B40=\"\",0,GP!Z40)","v":10000},{"$f":"IF(OR(A40=107,B40=\"\"),0,GP!AA40)","v":0.2},{"$f":"IF(B40=\"\",0,GP!AB40)","v":0},{"$f":"IF(B40=\"\",0,VLOOKUP(A40,'Mortality&Morbidity'!$BE$37:$BG$42,3,TRUE)*Y40)","v":0},null,null,0,{"$f":"IF(OR(A40=\"\",A40=BP+1),0,IF(A40=1,0,(SUMPRODUCT(Z40:$Z$122,V40:$V$122)+SUMPRODUCT(AA40:$AA$122,Q40:$Q$122)*$D$10+SUMPRODUCT(AB40:$AB$122,Q40:$Q$122))/Q40-SUMPRODUCT(AF40:$AF$122,Q40:$Q$122)/Q40-AA40*$D$10*1-AB40*1))","v":6653.58006186089},1,6654,6769.6,{"$f":"'SA&Table'!AE2","v":6654},3230.4]
[26,55,{"$f":"IF(B41=\"\",0,VLOOKUP(B41,'Mortality&Morbidity'!AB:AC,2,FALSE)/1000)","v":0.0018684},0,0,0.0018684,0,0,0,0.375116802253963,0.9981316,981.523783621559,0,1.83387903731852,0,0,368.18606304833,{"$f":"IF(B40=\"\",0,SUM(Q41:$Q$122))","v":6835.15794423114},null,null,null,0.67455992114334,0,0,0,{"$f":"IF(B41=\"\",0,GP!Z41)","v":10000},{"$f":"IF(OR(A41=107,B41=\"\"),0,GP!AA41)","v":0.2},{"$f":"IF(B41=\"\",0,GP!AB41)","v":0},{"$f":"IF(B41=\"\",0,VLOOKUP(A41,'Mortality&Morbidity'!$BE$37:$BG$42,3,TRUE)*Y41)","v":0},null,null,0,{"$f":"IF(OR(A41=\"\",A41=BP+1),0,IF(A41=1,0,(SUMPRODUCT(Z41:$Z$122,V41:$V$122)+SUMPRODUCT(AA41:$AA$122,Q41:$Q$122)*$D$10+SUMPRODUCT(AB41:$AB$122,Q41:$Q$122))/Q41-SUMPRODUCT(AF41:$AF$122,Q41:$Q$122)/Q41-AA41*$D$10*1-AB41*1))","v":6798.45642395519},1,6798,6913.6,{"$f":"'SA&Table'!AF2","v":6798},3086.4]
[27,56,{"$f":"IF(B42=\"\",0,VLOOKUP(B42,'Mortality&Morbidity'!AB:AC,2,FALSE)/1000)","v":0.0020216},0,0,0.0020216,0,0,0,0.360689232936503,0.9979784,979.689904584241,0,1.9805411111075,0,0,353.363600200126,{"$f":"IF(B41=\"\",0,SUM(Q42:$Q$122))","v":6466.97188118281},null,null,null,0.700487468483165,0,0,0,{"$f":"IF(B42=\"\",0,GP!Z42)","v":10000},{"$f":"IF(OR(A42=107,B42=\"\"),0,GP!AA42)","v":0.2},{"$f":"IF(B42=\"\",0,GP!AB42)","v":0},{"$f":"IF(B42=\"\",0,VLOOKUP(A42,'Mortality&Morbidity'!$BE$37:$BG$42,3,TRUE)*Y42)","v":0},null,null,0,{"$f":"IF(OR(A42=\"\",A42=BP+1),0,IF(A42=1,0,(SUMPRODUCT(Z42:$Z$122,V42:$V$122)+SUMPRODUCT(AA42:$AA$122,Q42:$Q$122)*$D$10+SUMPRODUCT(AB42:$AB$122,Q42:$Q$122))/Q42-SUMPRODUCT(AF42:$AF$122,Q42:$Q$122)/Q42-AA42*$D$10*1-AB42*1))","v":6948.9400514271},1,6949,7064.6,{"$f":"'SA&Table'!AG2","v":6949},2935.4]
[28,57,{"$f":"IF(B43=\"\",0,VLOOKUP(B43,'Mortality&Morbidity'!AB:AC,2,FALSE)/1000)","v":0.0021868},0,0,0.0021868,0,0,0,0.346816570131253,0.9978132,977.709363473133,0,2.13805483604305,0,0,339.085808024963,{"$f":"IF(B42=\"\",0,SUM(Q43:$Q$122))","v":6113.60828098268},null,null,null,0.727113166572799,0,0,0,{"$f":"IF(B43=\"\",0,GP!Z43)","v":10000},{"$f":"IF(OR(A43=107,B43=\"\"),0,GP!AA43)","v":0.2},{"$f":"IF(B43=\"\",0,GP!AB43)","v":0},{"$f":"IF(B43=\"\",0,VLOOKUP(A43,'Mortality&Morbidity'!$BE$37:$BG$42,3,TRUE)*Y43)","v":0},null,null,0,{"$f":"IF(OR(A43=\"\",A43=BP+1),0,IF(A43=1,0,(SUMPRODUCT(Z43:$Z$122,V43:$V$122)+SUMPRODUCT(AA43:$AA$122,Q43:$Q$122)*$D$10+SUMPRODUCT(AB43:$AB$122,Q43:$Q$122))/Q43-SUMPRODUCT(AF43:$AF$122,Q43:$Q$122)/Q43-AA43*$D$10*1-AB43*1))","v":7105.27902682746},1,7105,7220.6,{"$f":"'SA&Table'!AH2","v":7105},2779.4]
[29,58,{"$f":"IF(B44=\"\",0,VLOOKUP(B44,'Mortality&Morbidity'!AB:AC,2,FALSE)/1000)","v":0.0023676},0,0,0.0023676,0,0,0,0.333477471280051,0.9976324,975.57130863709,0,2.30976263032917,0,0,325.331053057667,{"$f":"IF(B43=\"\",0,SUM(Q44:$Q$122))","v":5774.52247295772},null,null,null,0.755295992853152,0,0,0,{"$f":"IF(B44=\"\",0,GP!Z44)","v":10000},{"$f":"IF(OR(A44=107,B44=\"\"),0,GP!AA44)","v":0.2},{"$f":"IF(B44=\"\",0,GP!AB44)","v":0},{"$f":"IF(B44=\"\",0,VLOOKUP(A44,'Mortality&Morbidity'!$BE$37:$BG$42,3,TRUE)*Y44)","v":0},null,null,0,{"$f":"IF(OR(A44=\"\",A44=BP+1),0,IF(A44=1,0,(SUMPRODUCT(Z44:$Z$122,V44:$V$122)+SUMPRODUCT(AA44:$AA$122,Q44:$Q$122)*$D$10+SUMPRODUCT(AB44:$AB$122,Q44:$Q$122))/Q44-SUMPRODUCT(AF44:$AF$122,Q44:$Q$122)/Q44-AA44*$D$10*1-AB44*1))","v":7267.73499311886},1,7268,7383.6,{"$f":"'SA&Table'!AI2","v":7268},2616.4]
[30,59,{"$f":"IF(B45=\"\",0,VLOOKUP(B45,'Mortality&Morbidity'!AB:AC,2,FALSE)/1000)","v":0.002568},0,0,0.002568,0,0,0,0.320651414692357,0.997432,973.261546006761,0,2.49933565014536,0,0,312.077691592738,{"$f":"IF(B44=\"\",0,SUM(Q45:$Q$122))","v":5449.19141990005},null,null,null,0.785852564276099,0,0,0,{"$f":"IF(B45=\"\",0,GP!Z45)","v":10000},{"$f":"IF(OR(A45=107,B45=\"\"),0,GP!AA45)","v":0.2},{"$f":"IF(B45=\"\",0,GP!AB45)","v":0},{"$f":"IF(B45=\"\",0,VLOOKUP(A45,'Mortality&Morbidity'!$BE$37:$BG$42,3,TRUE)*Y45)","v":0},null,null,0,{"$f":"IF(OR(A45=\"\",A45=BP+1),0,IF(A45=1,0,(SUMPRODUCT(Z45:$Z$122,V45:$V$122)+SUMPRODUCT(AA45:$AA$122,Q45:$Q$122)*$D$10+SUMPRODUCT(AB45:$AB$122,Q45:$Q$122))/Q45-SUMPRODUCT(AF45:$AF$122,Q45:$Q$122)/Q45-AA45*$D$10*1-AB45*1))","v":7436.58005714615},1,7437,7552.6,{"$f":"'SA&Table'!AJ2","v":7437},2447.4]
[31,60,{"$f":"IF(B46=\"\",0,VLOOKUP(B46,'Mortality&Morbidity'!AB:AC,2,FALSE)/1000)","v":0.00279},0,0,0.00279,0,0,0,0.30831866797342,0.99721,970.762210356616,0,2.70842656689496,0,0,299.304111616084,{"$f":"IF(B45=\"\",0,SUM(Q46:$Q$122))","v":5137.11372830732},null,null,null,0.818842200135542,0,0,0,{"$f":"IF(B46=\"\",0,GP!Z46)","v":10000},{"$f":"IF(OR(A46=107,B46=\"\"),0,GP!AA46)","v":0.3},{"$f":"IF(B46=\"\",0,GP!AB46)","v":0},{"$f":"IF(B46=\"\",0,VLOOKUP(A46,'Mortality&Morbidity'!$BE$37:$BG$42,3,TRUE)*Y46)","v":0},null,null,0,{"$f":"IF(OR(A46=\"\",A46=BP+1),0,IF(A46=1,0,(SUMPRODUCT(Z46:$Z$122,V46:$V$122)+SUMPRODUCT(AA46:$AA$122,Q46:$Q$122)*$D$10+SUMPRODUCT(AB46:$AB$122,Q46:$Q$122))/Q46-SUMPRODUCT(AF46:$AF$122,Q46:$Q$122)/Q46-AA46*$D$10*1-AB46*1))","v":7554.29942733959},1,7554,7727.4,{"$f":"'SA&Table'!AK2","v":7554},2272.6]
[32,61,{"$f":"IF(B47=\"\",0,VLOOKUP(B47,'Mortality&Morbidity'!AB:AC,2,FALSE)/1000)","v":0.003038},0,0,0.003038,0,0,0,0.29646025766675,0.996962,968.053783789721,0,2.94094739515317,0,0,286.989474177573,{"$f":"IF(B46=\"\",0,SUM(Q47:$Q$122))","v":4837.80961669123},null,null,null,0.854942818150877,0,0,0,{"$f":"IF(B47=\"\",0,GP!Z47)","v":10000},{"$f":"IF(OR(A47=107,B47=\"\"),0,GP!AA47)","v":0.3},{"$f":"IF(B47=\"\",0,GP!AB47)","v":0},{"$f":"IF(B47=\"\",0,VLOOKUP(A47,'Mortality&Morbidity'!$BE$37:$BG$42,3,TRUE)*Y47)","v":0},null,null,0,{"$f":"IF(OR(A47=\"\",A47=BP+1),0,IF(A47=1,0,(SUMPRODUCT(Z47:$Z$122,V47:$V$122)+SUMPRODUCT(AA47:$AA$122,Q47:$Q$122)*$D$10+SUMPRODUCT(AB47:$AB$122,Q47:$Q$122))/Q47-SUMPRODUCT(AF47:$AF$122,Q47:$Q$122)/Q47-AA47*$D$10*1-AB47*1))","v":7676.52015277356},1,7677,7850.4,{"$f":"'SA&Table'!AL2","v":7677},2149.6]
[33,62,{"$f":"IF(B48=\"\",0,VLOOKUP(B48,'Mortality&Morbidity'!AB:AC,2,FALSE)/1000)","v":0.0033136},0,0,0.0033136,0,0,0,0.285057940064182,0.9966864,965.112836394568,{"$f":"IF(B48=\"\",0,D48*L48)","v":0},{"$f":"IF(B48=\"\",0,F48*L48)","v":3.19799789467704},0,0,{"$f":"IF(A48>BP+1,0,J48*L48)","v":275.113077072136},{"$f":"IF(B47=\"\",0,SUM(Q48:$Q$122))","v":4550.82014251366},null,null,null,0.893911750833742,{"$f":"IF(B48=\"\",0,IF(A48=1,J49*O48/2*$G$8,J49*O48*$G$6))","v":0},{"$f":"IF(B48=\"\",0,J49*P48*$G$6)","v":0},{"$f":"IF(B48=\"\",\"\",IF(A48<=PPP,1,0))","v":0},{"$f":"IF(B48=\"\",0,GP!Z48)","v":10000},{"$f":"IF(OR(A48=107,B48=\"\"),0,GP!AA48)","v":0.3},{"$f":"IF(B48=\"\",0,GP!AB48)","v":0},{"$f":"IF(B48=\"\",0,VLOOKUP(A48,'Mortality&Morbidity'!$BE$37:$BG$42,3,TRUE)*Y48)","v":0},null,null,{"$f":"IF(B48=\"\",0,$O$4*(1-AC48)*(A48<=PPP))","v":0},{"$f":"IF(OR(A48=\"\",A48=BP+1),0,IF(A48=1,0,(SUMPRODUCT(Z48:$Z$122,V48:$V$122)+SUMPRODUCT(AA48:$AA$122,Q48:$Q$122)*$D$10+SUMPRODUCT(AB48:$AB$122,Q48:$Q$122))/Q48-SUMPRODUCT(AF48:$AF$122,Q48:$Q$122)/Q48-AA48*$D$10*1-AB48*1))","v":7803.43293477577},1,7803,7976.4,{"$f":"'SA&Table'!AM2","v":7803},2023.6]
[{"$f":"IF(A48=\"\",\"\",IF(A48<BP,A48+1,\"\"))","v":34},63,{"$f":"IF(B49=\"\",0,VLOOKUP(B49,'Mortality&Morbidity'!AB:AC,2,FALSE)/1000)","v":0.0036184},0,0,0.0036184,0,0,0,0.274094173138637,0.9963816,{"$f":"IF(B48=\"\",0,L48*K48)","v":961.91483849989},0,3.480592651628,0,0,263.655252288413,{"$f":"IF(B48=\"\",0,SUM(Q49:$Q$122))","v":4275.70706544153},null,null,null,0.935483932094422,0,0,0,{"$f":"IF(B49=\"\",0,GP!Z49)","v":10000},{"$f":"IF(OR(A49=107,B49=\"\"),0,GP!AA49)","v":0.3},{"$f":"IF(B49=\"\",0,GP!AB49)","v":0},{"$f":"IF(B49=\"\",0,VLOOKUP(A49,'Mortality&Morbidity'!$BE$37:$BG$42,3,TRUE)*Y49)","v":0},null,null,0,{"$f":"IF(OR(A49=\"\",A49=BP+1),0,IF(A49=1,0,(SUMPRODUCT(Z49:$Z$122,V49:$V$122)+SUMPRODUCT(AA49:$AA$122,Q49:$Q$122)*$D$10+SUMPRODUCT(AB49:$AB$122,Q49:$Q$122))/Q49-SUMPRODUCT(AF49:$AF$122,Q49:$Q$122)/Q49-AA49*$D$10*1-AB49*1))","v":7935.2468422227},1,7935,8108.4,{"$f":"'SA&Table'!AN2","v":7935},1891.6]
[35,64,{"$f":"IF(B50=\"\",0,VLOOKUP(B50,'Mortality&Morbidity'!AB:AC,2,FALSE)/1000)","v":0.003956},0,0,0.003956,0,0,0,0.263552089556382,0.996044,958.434245848262,0,3.79156587657573,0,0,252.597348195704,{"$f":"IF(B49=\"\",0,SUM(Q50:$Q$122))","v":4012.05181315311},null,null,null,0.979869862037568,0,0,0,{"$f":"IF(B50=\"\",0,GP!Z50)","v":10000},{"$f":"IF(OR(A50=107,B50=\"\"),0,GP!AA50)","v":0.3},{"$f":"IF(B50=\"\",0,GP!AB50)","v":0},{"$f":"IF(B50=\"\",0,VLOOKUP(A50,'Mortality&Morbidity'!$BE$37:$BG$42,3,TRUE)*Y50)","v":0},null,null,0,{"$f":"IF(OR(A50=\"\",A50=BP+1),0,IF(A50=1,0,(SUMPRODUCT(Z50:$Z$122,V50:$V$122)+SUMPRODUCT(AA50:$AA$122,Q50:$Q$122)*$D$10+SUMPRODUCT(AB50:$AB$122,Q50:$Q$122))/Q50-SUMPRODUCT(AF50:$AF$122,Q50:$Q$122)/Q50-AA50*$D$10*1-AB50*1))","v":8072.19198152158},1,8072,8245.4,{"$f":"'SA&Table'!AO2","v":8072},1754.6]
[36,65,{"$f":"IF(B51=\"\",0,VLOOKUP(B51,'Mortality&Morbidity'!AB:AC,2,FALSE)/1000)","v":0.0043292},0,0,0.0043292,0,0,0,0.25341547072729,0.9956708,954.642679971687,0,4.13283909013343,0,0,241.921224121387,{"$f":"IF(B50=\"\",0,SUM(Q51:$Q$122))","v":3759.45446495741},null,null,null,1.02698701257603,0,0,0,{"$f":"IF(B51=\"\",0,GP!Z51)","v":10000},{"$f":"IF(OR(A51=107,B51=\"\"),0,GP!AA51)","v":0.3},{"$f":"IF(B51=\"\",0,GP!AB51)","v":0},{"$f":"IF(B51=\"\",0,VLOOKUP(A51,'Mortality&Morbidity'!$BE$37:$BG$42,3,TRUE)*Y51)","v":0},null,null,0,{"$f":"IF(OR(A51=\"\",A51=BP+1),0,IF(A51=1,0,(SUMPRODUCT(Z51:$Z$122,V51:$V$122)+SUMPRODUCT(AA51:$AA$122,Q51:$Q$122)*$D$10+SUMPRODUCT(AB51:$AB$122,Q51:$Q$122))/Q51-SUMPRODUCT(AF51:$AF$122,Q51:$Q$122)/Q51-AA51*$D$10*1-AB51*1))","v":8214.51882526364},1,8215,8388.4,{"$f":"'SA&Table'!AP2","v":8215},1611.6]
[37,66,{"$f":"IF(B52=\"\",0,VLOOKUP(B52,'Mortality&Morbidity'!AB:AC,2,FALSE)/1000)","v":0.0047456},0,0,0.0047456,0,0,0,0.243668721853163,0.9952544,950.509840881553,0,4.5107395008875,0,0,231.609518036462,{"$f":"IF(B51=\"\",0,SUM(Q52:$Q$122))","v":3517.53324083602},null,null,null,1.0777818420422,0,0,0,{"$f":"IF(B52=\"\",0,GP!Z52)","v":10000},{"$f":"IF(OR(A52=107,B52=\"\"),0,GP!AA52)","v":0.3},{"$f":"IF(B52=\"\",0,GP!AB52)","v":0},{"$f":"IF(B52=\"\",0,VLOOKUP(A52,'Mortality&Morbidity'!$BE$37:$BG$42,3,TRUE)*Y52)","v":0},null,null,0,{"$f":"IF(OR(A52=\"\",A52=BP+1),0,IF(A52=1,0,(SUMPRODUCT(Z52:$Z$122,V52:$V$122)+SUMPRODUCT(AA52:$AA$122,Q52:$Q$122)*$D$10+SUMPRODUCT(AB52:$AB$122,Q52:$Q$122))/Q52-SUMPRODUCT(AF52:$AF$122,Q52:$Q$122)/Q52-AA52*$D$10*1-AB52*1))","v":8362.50386272019},1,8363,8536.4,{"$f":"'SA&Table'!AQ2","v":8363},1463.6]
[38,67,{"$f":"IF(B53=\"\",0,VLOOKUP(B53,'Mortality&Morbidity'!AB:AC,2,FALSE)/1000)","v":0.0052128},0,0,0.0052128,0,0,0,0.234296847935734,0.9947872,945.999101380666,0,4.93130411567714,0,0,221.644607603527,{"$f":"IF(B52=\"\",0,SUM(Q53:$Q$122))","v":3285.92372279956},null,null,null,1.13295213661731,0,0,0,{"$f":"IF(B53=\"\",0,GP!Z53)","v":10000},{"$f":"IF(OR(A53=107,B53=\"\"),0,GP!AA53)","v":0.3},{"$f":"IF(B53=\"\",0,GP!AB53)","v":0},{"$f":"IF(B53=\"\",0,VLOOKUP(A53,'Mortality&Morbidity'!$BE$37:$BG$42,3,TRUE)*Y53)","v":0},null,null,0,{"$f":"IF(OR(A53=\"\",A53=BP+1),0,IF(A53=1,0,(SUMPRODUCT(Z53:$Z$122,V53:$V$122)+SUMPRODUCT(AA53:$AA$122,Q53:$Q$122)*$D$10+SUMPRODUCT(AB53:$AB$122,Q53:$Q$122))/Q53-SUMPRODUCT(AF53:$AF$122,Q53:$Q$122)/Q53-AA53*$D$10*1-AB53*1))","v":8516.44673991051},1,8516,8689.4,{"$f":"'SA&Table'!AR2","v":8516},1310.6]
[39,68,{"$f":"IF(B54=\"\",0,VLOOKUP(B54,'Mortality&Morbidity'!AB:AC,2,FALSE)/1000)","v":0.0057392},0,0,0.0057392,0,0,0,0.225285430707437,0.9942608,941.067797264989,0,5.40097630206322,0,0,212.008864031742,{"$f":"IF(B53=\"\",0,SUM(Q54:$Q$122))","v":3064.27911519603},null,null,null,1.19313259069452,0,0,0,{"$f":"IF(B54=\"\",0,GP!Z54)","v":10000},{"$f":"IF(OR(A54=107,B54=\"\"),0,GP!AA54)","v":0.3},{"$f":"IF(B54=\"\",0,GP!AB54)","v":0},{"$f":"IF(B54=\"\",0,VLOOKUP(A54,'Mortality&Morbidity'!$BE$37:$BG$42,3,TRUE)*Y54)","v":0},null,null,0,{"$f":"IF(OR(A54=\"\",A54=BP+1),0,IF(A54=1,0,(SUMPRODUCT(Z54:$Z$122,V54:$V$122)+SUMPRODUCT(AA54:$AA$122,Q54:$Q$122)*$D$10+SUMPRODUCT(AB54:$AB$122,Q54:$Q$122))/Q54-SUMPRODUCT(AF54:$AF$122,Q54:$Q$122)/Q54-AA54*$D$10*1-AB54*1))","v":8676.67795804571},1,8677,8850.4,{"$f":"'SA&Table'!AS2","v":8677},1149.6]
[40,69,{"$f":"IF(B55=\"\",0,VLOOKUP(B55,'Mortality&Morbidity'!AB:AC,2,FALSE)/1000)","v":0.006336},0,0,0.006336,0,0,0,0.216620606449458,0.993664,935.666820962925,0,5.9283849776211,0,0,202.684714191626,{"$f":"IF(B54=\"\",0,SUM(Q55:$Q$122))","v":2852.27025116429},null,null,null,1.25927185186754,0,0,0,{"$f":"IF(B55=\"\",0,GP!Z55)","v":10000},{"$f":"IF(OR(A55=107,B55=\"\"),0,GP!AA55)","v":0.3},{"$f":"IF(B55=\"\",0,GP!AB55)","v":0},{"$f":"IF(B55=\"\",0,VLOOKUP(A55,'Mortality&Morbidity'!$BE$37:$BG$42,3,TRUE)*Y55)","v":0},null,null,0,{"$f":"IF(OR(A55=\"\",A55=BP+1),0,IF(A55=1,0,(SUMPRODUCT(Z55:$Z$122,V55:$V$122)+SUMPRODUCT(AA55:$AA$122,Q55:$Q$122)*$D$10+SUMPRODUCT(AB55:$AB$122,Q55:$Q$122))/Q55-SUMPRODUCT(AF55:$AF$122,Q55:$Q$122)/Q55-AA55*$D$10*1-AB55*1))","v":8843.56666587149},1,8844,9017.4,{"$f":"'SA&Table'!AT2","v":8844},982.6]
[41,70,{"$f":"IF(B56=\"\",0,VLOOKUP(B56,'Mortality&Morbidity'!AB:AC,2,FALSE)/1000)","v":0.0070192},0,0,0.0070192,0,0,0,0.208289044662941,0.9929808,929.738435985304,0,6.52602002986805,0,0,193.654330617796,{"$f":"IF(B55=\"\",0,SUM(Q56:$Q$122))","v":2649.58553697267},null,null,null,1.33290181950556,0,0,0,{"$f":"IF(B56=\"\",0,GP!Z56)","v":10000},{"$f":"IF(OR(A56=107,B56=\"\"),0,GP!AA56)","v":0.3},{"$f":"IF(B56=\"\",0,GP!AB56)","v":0},{"$f":"IF(B56=\"\",0,VLOOKUP(A56,'Mortality&Morbidity'!$BE$37:$BG$42,3,TRUE)*Y56)","v":0},null,null,0,{"$f":"IF(OR(A56=\"\",A56=BP+1),0,IF(A56=1,0,(SUMPRODUCT(Z56:$Z$122,V56:$V$122)+SUMPRODUCT(AA56:$AA$122,Q56:$Q$122)*$D$10+SUMPRODUCT(AB56:$AB$122,Q56:$Q$122))/Q56-SUMPRODUCT(AF56:$AF$122,Q56:$Q$122)/Q56-AA56*$D$10*1-AB56*1))","v":9017.52827880461},1,9018,9191.4,{"$f":"'SA&Table'!AU2","v":9018},808.6]
[42,71,{"$f":"IF(B57=\"\",0,VLOOKUP(B57,'Mortality&Morbidity'!AB:AC,2,FALSE)/1000)","v":0.007816},0,0,0.007816,0,0,0,0.20027792756052,0.992184,923.212415955436,0,7.21582824310769,0,0,184.899069365695,{"$f":"IF(B56=\"\",0,SUM(Q57:$Q$122))","v":2455.93120635487},null,null,null,1.41710687938121,0,0,0,{"$f":"IF(B57=\"\",0,GP!Z57)","v":10000},{"$f":"IF(OR(A57=107,B57=\"\"),0,GP!AA57)","v":0.3},{"$f":"IF(B57=\"\",0,GP!AB57)","v":0},{"$f":"IF(B57=\"\",0,VLOOKUP(A57,'Mortality&Morbidity'!$BE$37:$BG$42,3,TRUE)*Y57)","v":0},null,null,0,{"$f":"IF(OR(A57=\"\",A57=BP+1),0,IF(A57=1,0,(SUMPRODUCT(Z57:$Z$122,V57:$V$122)+SUMPRODUCT(AA57:$AA$122,Q57:$Q$122)*$D$10+SUMPRODUCT(AB57:$AB$122,Q57:$Q$122))/Q57-SUMPRODUCT(AF57:$AF$122,Q57:$Q$122)/Q57-AA57*$D$10*1-AB57*1))","v":9199.03432543426},1,9199,9372.4,{"$f":"'SA&Table'!AV2","v":9199},627.6]
[43,72,{"$f":"IF(B58=\"\",0,VLOOKUP(B58,'Mortality&Morbidity'!AB:AC,2,FALSE)/1000)","v":0.0087676},0,0,0.0087676,0,0,0,0.192574930346654,0.9912324,915.996587712329,0,8.03109168242661,0,0,176.397979076474,{"$f":"IF(B57=\"\",0,SUM(Q58:$Q$122))","v":2271.03213698918},null,null,null,1.516553248353,0,0,0,{"$f":"IF(B58=\"\",0,GP!Z58)","v":10000},{"$f":"IF(OR(A58=107,B58=\"\"),0,GP!AA58)","v":0.3},{"$f":"IF(B58=\"\",0,GP!AB58)","v":0},{"$f":"IF(B58=\"\",0,VLOOKUP(A58,'Mortality&Morbidity'!$BE$37:$BG$42,3,TRUE)*Y58)","v":0},null,null,0,{"$f":"IF(OR(A58=\"\",A58=BP+1),0,IF(A58=1,0,(SUMPRODUCT(Z58:$Z$122,V58:$V$122)+SUMPRODUCT(AA58:$AA$122,Q58:$Q$122)*$D$10+SUMPRODUCT(AB58:$AB$122,Q58:$Q$122))/Q58-SUMPRODUCT(AF58:$AF$122,Q58:$Q$122)/Q58-AA58*$D$10*1-AB58*1))","v":9388.62460976508},1,9389,9562.4,{"$f":"'SA&Table'!AW2","v":9389},437.6]
[44,73,{"$f":"IF(B59=\"\",0,VLOOKUP(B59,'Mortality&Morbidity'!AB:AC,2,FALSE)/1000)","v":0.0099292},0,0,0.0099292,0,0,0,0.185168202256398,0.9900708,907.965496029902,0,9.0153710031801,0,0,168.126338610695,{"$f":"IF(B58=\"\",0,SUM(Q59:$Q$122))","v":2094.6341579127},null,null,null,1.63694219730205,0,0,0,{"$f":"IF(B59=\"\",0,GP!Z59)","v":10000},{"$f":"IF(OR(A59=107,B59=\"\"),0,GP!AA59)","v":0.3},{"$f":"IF(B59=\"\",0,GP!AB59)","v":0},{"$f":"IF(B59=\"\",0,VLOOKUP(A59,'Mortality&Morbidity'!$BE$37:$BG$42,3,TRUE)*Y59)","v":0},null,null,0,{"$f":"IF(OR(A59=\"\",A59=BP+1),0,IF(A59=1,0,(SUMPRODUCT(Z59:$Z$122,V59:$V$122)+SUMPRODUCT(AA59:$AA$122,Q59:$Q$122)*$D$10+SUMPRODUCT(AB59:$AB$122,Q59:$Q$122))/Q59-SUMPRODUCT(AF59:$AF$122,Q59:$Q$122)/Q59-AA59*$D$10*1-AB59*1))","v":9586.93195361746},1,9587,9760.4,{"$f":"'SA&Table'!AX2","v":9587},239.6]
[45,74,{"$f":"IF(B60=\"\",0,VLOOKUP(B60,'Mortality&Morbidity'!AB:AC,2,FALSE)/1000)","v":0.0113664},0,0,0.0113664,0,0,0,0.178046348323459,0.9886336,898.950125026722,0,10.2178267011037,0,0,160.054787085925,{"$f":"IF(B59=\"\",0,SUM(Q60:$Q$122))","v":1926.50781930201},null,null,null,1.78391818964781,0,0,0,{"$f":"IF(B60=\"\",0,GP!Z60)","v":10184.4},{"$f":"IF(OR(A60=107,B60=\"\"),0,GP!AA60)","v":0.3},{"$f":"IF(B60=\"\",0,GP!AB60)","v":0},{"$f":"IF(B60=\"\",0,VLOOKUP(A60,'Mortality&Morbidity'!$BE$37:$BG$42,3,TRUE)*Y60)","v":0},null,null,0,{"$f":"IF(OR(A60=\"\",A60=BP+1),0,IF(A60=1,0,(SUMPRODUCT(Z60:$Z$122,V60:$V$122)+SUMPRODUCT(AA60:$AA$122,Q60:$Q$122)*$D$10+SUMPRODUCT(AB60:$AB$122,Q60:$Q$122))/Q60-SUMPRODUCT(AF60:$AF$122,Q60:$Q$122)/Q60-AA60*$D$10*1-AB60*1))","v":9794.72638313687},1,9795,9968.4,{"$f":"'SA&Table'!AY2","v":9795},31.6000000000004]
[46,75,{"$f":"IF(B61=\"\",0,VLOOKUP(B61,'Mortality&Morbidity'!AB:AC,2,FALSE)/1000)","v":0.0131484},0,0,0.0131484,0,0,0,0.17119841184948,0.9868516,888.732298325618,0,11.6854077513046,0,0,152.149558032684,{"$f":"IF(B60=\"\",0,SUM(Q61:$Q$122))","v":1766.45303221608},null,null,null,1.96167443907993,0,0,0,{"$f":"IF(B61=\"\",0,GP!Z61)","v":10408.4},{"$f":"IF(OR(A61=107,B61=\"\"),0,GP!AA61)","v":0.3},{"$f":"IF(B61=\"\",0,GP!AB61)","v":0},{"$f":"IF(B61=\"\",0,VLOOKUP(A61,'Mortality&Morbidity'!$BE$37:$BG$42,3,TRUE)*Y61)","v":0},null,null,0,{"$f":"IF(OR(A61=\"\",A61=BP+1),0,IF(A61=1,0,(SUMPRODUCT(Z61:$Z$122,V61:$V$122)+SUMPRODUCT(AA61:$AA$122,Q61:$Q$122)*$D$10+SUMPRODUCT(AB61:$AB$122,Q61:$Q$122))/Q61-SUMPRODUCT(AF61:$AF$122,Q61:$Q$122)/Q61-AA61*$D$10*1-AB61*1))","v":10010.8209037134},1,10011,10184.4,{"$f":"'SA&Table'!AZ2","v":10011},0]
[47,76,{"$f":"IF(B62=\"\",0,VLOOKUP(B62,'Mortality&Morbidity'!AB:AC,2,FALSE)/1000)","v":0.0153328},0,0,0.0153328,0,0,0,0.164613857547577,0.9846672,877.046890574314,0,13.4475845637978,0,0,144.374071907545,{"$f":"IF(B61=\"\",0,SUM(Q62:$Q$122))","v":1614.3034741834},null,null,null,2.17067101218471,0,0,0,{"$f":"IF(B62=\"\",0,GP!Z62)","v":10641.4},{"$f":"IF(OR(A62=107,B62=\"\"),0,GP!AA62)","v":0.3},{"$f":"IF(B62=\"\",0,GP!AB62)","v":0},{"$f":"IF(B62=\"\",0,VLOOKUP(A62,'Mortality&Morbidity'!$BE$37:$BG$42,3,TRUE)*Y62)","v":0},null,null,0,{"$f":"IF(OR(A62=\"\",A62=BP+1),0,IF(A62=1,0,(SUMPRODUCT(Z62:$Z$122,V62:$V$122)+SUMPRODUCT(AA62:$AA$122,Q62:$Q$122)*$D$10+SUMPRODUCT(AB62:$AB$122,Q62:$Q$122))/Q62-SUMPRODUCT(AF62:$AF$122,Q62:$Q$122)/Q62-AA62*$D$10*1-AB62*1))","v":10235.1454123296},1,10235,10408.4,{"$f":"'SA&Table'!BA2","v":10235},0]
[48,77,{"$f":"IF(B63=\"\",0,VLOOKUP(B63,'Mortality&Morbidity'!AB:AC,2,FALSE)/1000)","v":0.0179584},0,0,0.0179584,0,0,0,0.158282555334209,0.9820416,863.599306010516,0,15.5088617770592,0,0,136.692704940194,{"$f":"IF(B62=\"\",0,SUM(Q63:$Q$122))","v":1469.92940227585},null,null,null,2.4071120593421,0,0,0,{"$f":"IF(B63=\"\",0,GP!Z63)","v":10882.4},{"$f":"IF(OR(A63=107,B63=\"\"),0,GP!AA63)","v":0.3},{"$f":"IF(B63=\"\",0,GP!AB63)","v":0},{"$f":"IF(B63=\"\",0,VLOOKUP(A63,'Mortality&Morbidity'!$BE$37:$BG$42,3,TRUE)*Y63)","v":0},null,null,0,{"$f":"IF(OR(A63=\"\",A63=BP+1),0,IF(A63=1,0,(SUMPRODUCT(Z63:$Z$122,V63:$V$122)+SUMPRODUCT(AA63:$AA$122,Q63:$Q$122)*$D$10+SUMPRODUCT(AB63:$AB$122,Q63:$Q$122))/Q63-SUMPRODUCT(AF63:$AF$122,Q63:$Q$122)/Q63-AA63*$D$10*1-AB63*1))","v":10467.918729271},1,10468,10641.4,{"$f":"'SA&Table'!BB2","v":10468},0]
[49,78,{"$f":"IF(B64=\"\",0,VLOOKUP(B64,'Mortality&Morbidity'!AB:AC,2,FALSE)/1000)","v":0.0210388},0,0,0.0210388,0,0,0,0.152194764744431,0.9789612,848.090444233456,0,17.8428052381388,0,0,129.074925642111,{"$f":"IF(B63=\"\",0,SUM(Q64:$Q$122))","v":1333.23669733566},null,null,null,2.66284678687751,0,0,0,{"$f":"IF(B64=\"\",0,GP!Z64)","v":11133.4},{"$f":"IF(OR(A64=107,B64=\"\"),0,GP!AA64)","v":0.3},{"$f":"IF(B64=\"\",0,GP!AB64)","v":0},{"$f":"IF(B64=\"\",0,VLOOKUP(A64,'Mortality&Morbidity'!$BE$37:$BG$42,3,TRUE)*Y64)","v":0},null,null,0,{"$f":"IF(OR(A64=\"\",A64=BP+1),0,IF(A64=1,0,(SUMPRODUCT(Z64:$Z$122,V64:$V$122)+SUMPRODUCT(AA64:$AA$122,Q64:$Q$122)*$D$10+SUMPRODUCT(AB64:$AB$122,Q64:$Q$122))/Q64-SUMPRODUCT(AF64:$AF$122,Q64:$Q$122)/Q64-AA64*$D$10*1-AB64*1))","v":10709.3718701803},1,10709,10882.4,{"$f":"'SA&Table'!BC2","v":10709},0]
[50,79,{"$f":"IF(B65=\"\",0,VLOOKUP(B65,'Mortality&Morbidity'!AB:AC,2,FALSE)/1000)","v":0.0245632},0,0,0.0245632,0,0,0,0.146341119946569,0.9754368,830.247638995318,0,20.3935388061698,0,0,121.499369323569,{"$f":"IF(B64=\"\",0,SUM(Q65:$Q$122))","v":1204.16177169355},null,null,null,2.92645801865726,0,0,0,{"$f":"IF(B65=\"\",0,GP!Z65)","v":11392.4},{"$f":"IF(OR(A65=107,B65=\"\"),0,GP!AA65)","v":0.3},{"$f":"IF(B65=\"\",0,GP!AB65)","v":0},{"$f":"IF(B65=\"\",0,VLOOKUP(A65,'Mortality&Morbidity'!$BE$37:$BG$42,3,TRUE)*Y65)","v":0},null,null,0,{"$f":"IF(OR(A65=\"\",A65=BP+1),0,IF(A65=1,0,(SUMPRODUCT(Z65:$Z$122,V65:$V$122)+SUMPRODUCT(AA65:$AA$122,Q65:$Q$122)*$D$10+SUMPRODUCT(AB65:$AB$122,Q65:$Q$122))/Q65-SUMPRODUCT(AF65:$AF$122,Q65:$Q$122)/Q65-AA65*$D$10*1-AB65*1))","v":10959.7017348567},1,10960,11133.4,{"$f":"'SA&Table'!BD2","v":10960},0]
[51,80,{"$f":"IF(B66=\"\",0,VLOOKUP(B66,'Mortality&Morbidity'!AB:AC,2,FALSE)/1000)","v":0.0285048},0,0,0.0285048,0,0,0,0.140712615333239,0.9714952,809.854100189148,0,23.0847291550716,0,0,113.956688475962,{"$f":"IF(B65=\"\",0,SUM(Q66:$Q$122))","v":1082.66240236998},null,null,null,3.18523257756747,0,0,0,{"$f":"IF(B66=\"\",0,GP!Z66)","v":10622.4},{"$f":"IF(OR(A66=107,B66=\"\"),0,GP!AA66)","v":0.3},{"$f":"IF(B66=\"\",0,GP!AB66)","v":1000},{"$f":"IF(B66=\"\",0,VLOOKUP(A66,'Mortality&Morbidity'!$BE$37:$BG$42,3,TRUE)*Y66)","v":0},null,null,0,{"$f":"IF(OR(A66=\"\",A66=BP+1),0,IF(A66=1,0,(SUMPRODUCT(Z66:$Z$122,V66:$V$122)+SUMPRODUCT(AA66:$AA$122,Q66:$Q$122)*$D$10+SUMPRODUCT(AB66:$AB$122,Q66:$Q$122))/Q66-SUMPRODUCT(AF66:$AF$122,Q66:$Q$122)/Q66-AA66*$D$10*1-AB66*1))","v":10219.151729876},1,10219,11392.4,{"$f":"'SA&Table'!BE2","v":10219},0]
[52,81,{"$f":"IF(B67=\"\",0,VLOOKUP(B67,'Mortality&Morbidity'!AB:AC,2,FALSE)/1000)","v":0.03283},0,0,0.03283,0,0,0,0.135300591666576,0.96717,786.769371034076,0,25.8296384510487,0,0,106.45036140605,{"$f":"IF(B66=\"\",0,SUM(Q67:$Q$122))","v":968.705713894016},null,null,null,3.42689938295432,0,0,0,{"$f":"IF(B67=\"\",0,GP!Z67)","v":9820.4},{"$f":"IF(OR(A67=107,B67=\"\"),0,GP!AA67)","v":0.3},{"$f":"IF(B67=\"\",0,GP!AB67)","v":1000},{"$f":"IF(B67=\"\",0,VLOOKUP(A67,'Mortality&Morbidity'!$BE$37:$BG$42,3,TRUE)*Y67)","v":0},null,null,0,{"$f":"IF(OR(A67=\"\",A67=BP+1),0,IF(A67=1,0,(SUMPRODUCT(Z67:$Z$122,V67:$V$122)+SUMPRODUCT(AA67:$AA$122,Q67:$Q$122)*$D$10+SUMPRODUCT(AB67:$AB$122,Q67:$Q$122))/Q67-SUMPRODUCT(AF67:$AF$122,Q67:$Q$122)/Q67-AA67*$D$10*1-AB67*1))","v":9448.50734444842},1,9449,10622.4,{"$f":"'SA&Table'!BF2","v":9449},0]
[53,82,{"$f":"IF(B68=\"\",0,VLOOKUP(B68,'Mortality&Morbidity'!AB:AC,2,FALSE)/1000)","v":0.0375084},0,0,0.0375084,0,0,0,0.130096722756323,0.9624916,760.939732583027,0,28.5416318656172,0,0,98.9957654241247,{"$f":"IF(B67=\"\",0,SUM(Q68:$Q$122))","v":862.255352487966},null,null,null,3.64106546164002,0,0,0,{"$f":"IF(B68=\"\",0,GP!Z68)","v":8985.4},{"$f":"IF(OR(A68=107,B68=\"\"),0,GP!AA68)","v":0.3},{"$f":"IF(B68=\"\",0,GP!AB68)","v":1000},{"$f":"IF(B68=\"\",0,VLOOKUP(A68,'Mortality&Morbidity'!$BE$37:$BG$42,3,TRUE)*Y68)","v":0},null,null,0,{"$f":"IF(OR(A68=\"\",A68=BP+1),0,IF(A68=1,0,(SUMPRODUCT(Z68:$Z$122,V68:$V$122)+SUMPRODUCT(AA68:$AA$122,Q68:$Q$122)*$D$10+SUMPRODUCT(AB68:$AB$122,Q68:$Q$122))/Q68-SUMPRODUCT(AF68:$AF$122,Q68:$Q$122)/Q68-AA68*$D$10*1-AB68*1))","v":8646.65133955947},1,8647,9820.4,{"$f":"'SA&Table'!BG2","v":8647},0]
[54,83,{"$f":"IF(B69=\"\",0,VLOOKUP(B69,'Mortality&Morbidity'!AB:AC,2,FALSE)/1000)","v":0.0425192},0,0,0.0425192,0,0,0,0.125093002650311,0.9574808,732.39810071741,0,31.1409813240237,0,0,91.6178775541254,{"$f":"IF(B68=\"\",0,SUM(Q69:$Q$122))","v":763.259587063841},null,null,null,3.8198705152185,0,0,0,{"$f":"IF(B69=\"\",0,GP!Z69)","v":8118.4},{"$f":"IF(OR(A69=107,B69=\"\"),0,GP!AA69)","v":0.3},{"$f":"IF(B69=\"\",0,GP!AB69)","v":1000},{"$f":"IF(B69=\"\",0,VLOOKUP(A69,'Mortality&Morbidity'!$BE$37:$BG$42,3,TRUE)*Y69)","v":0},null,null,0,{"$f":"IF(OR(A69=\"\",A69=BP+1),0,IF(A69=1,0,(SUMPRODUCT(Z69:$Z$122,V69:$V$122)+SUMPRODUCT(AA69:$AA$122,Q69:$Q$122)*$D$10+SUMPRODUCT(AB69:$AB$122,Q69:$Q$122))/Q69-SUMPRODUCT(AF69:$AF$122,Q69:$Q$122)/Q69-AA69*$D$10*1-AB69*1))","v":7812.46018465489},1,7812,8985.4,{"$f":"'SA&Table'!BH2","v":7812},0]
[55,84,{"$f":"IF(B70=\"\",0,VLOOKUP(B70,'Mortality&Morbidity'!AB:AC,2,FALSE)/1000)","v":0.0478576},0,0,0.0478576,0,0,0,0.120281733317606,0.9521424,701.257119393387,0,33.5604827170809,0,0,84.3484218219481,{"$f":"IF(B69=\"\",0,SUM(Q70:$Q$122))","v":671.641709509716},null,null,null,3.95832279267136,0,0,0,{"$f":"IF(B70=\"\",0,GP!Z70)","v":7215.4},{"$f":"IF(OR(A70=107,B70=\"\"),0,GP!AA70)","v":0.3},{"$f":"IF(B70=\"\",0,GP!AB70)","v":1000},{"$f":"IF(B70=\"\",0,VLOOKUP(A70,'Mortality&Morbidity'!$BE$37:$BG$42,3,TRUE)*Y70)","v":0},null,null,0,{"$f":"IF(OR(A70=\"\",A70=BP+1),0,IF(A70=1,0,(SUMPRODUCT(Z70:$Z$122,V70:$V$122)+SUMPRODUCT(AA70:$AA$122,Q70:$Q$122)*$D$10+SUMPRODUCT(AB70:$AB$122,Q70:$Q$122))/Q70-SUMPRODUCT(AF70:$AF$122,Q70:$Q$122)/Q70-AA70*$D$10*1-AB70*1))","v":6944.7102030443},1,6945,8118.4,{"$f":"'SA&Table'!BI2","v":6945},0]
[56,85,{"$f":"IF(B71=\"\",0,VLOOKUP(B71,'Mortality&Morbidity'!AB:AC,2,FALSE)/1000)","v":0.0535356},0,0,0.0535356,0,0,0,0.115655512805391,0.9464644,667.696636676306,0,35.745540062448,0,0,77.2227969132327,{"$f":"IF(B70=\"\",0,SUM(Q71:$Q$122))","v":587.293287687767},null,null,null,4.05388600240433,0,0,0,{"$f":"IF(B71=\"\",0,GP!Z71)","v":6277.4},{"$f":"IF(OR(A71=107,B71=\"\"),0,GP!AA71)","v":0.3},{"$f":"IF(B71=\"\",0,GP!AB71)","v":1000},{"$f":"IF(B71=\"\",0,VLOOKUP(A71,'Mortality&Morbidity'!$BE$37:$BG$42,3,TRUE)*Y71)","v":0},null,null,0,{"$f":"IF(OR(A71=\"\",A71=BP+1),0,IF(A71=1,0,(SUMPRODUCT(Z71:$Z$122,V71:$V$122)+SUMPRODUCT(AA71:$AA$122,Q71:$Q$122)*$D$10+SUMPRODUCT(AB71:$AB$122,Q71:$Q$122))/Q71-SUMPRODUCT(AF71:$AF$122,Q71:$Q$122)/Q71-AA71*$D$10*1-AB71*1))","v":6042.27316430421},1,6042,7215.4,{"$f":"'SA&Table'!BJ2","v":6042},0]
[57,86,{"$f":"IF(B72=\"\",0,VLOOKUP(B72,'Mortality&Morbidity'!AB:AC,2,FALSE)/1000)","v":0.059554},0,0,0.059554,0,0,0,0.111207223851337,0.940446,631.951096613858,0,37.6352156077417,0,0,70.2775270642353,{"$f":"IF(B71=\"\",0,SUM(Q72:$Q$122))","v":510.070490774535},null,null,null,4.10403199637344,0,0,0,{"$f":"IF(B72=\"\",0,GP!Z72)","v":5301.4},{"$f":"IF(OR(A72=107,B72=\"\"),0,GP!AA72)","v":0.3},{"$f":"IF(B72=\"\",0,GP!AB72)","v":1000},{"$f":"IF(B72=\"\",0,VLOOKUP(A72,'Mortality&Morbidity'!$BE$37:$BG$42,3,TRUE)*Y72)","v":0},null,null,0,{"$f":"IF(OR(A72=\"\",A72=BP+1),0,IF(A72=1,0,(SUMPRODUCT(Z72:$Z$122,V72:$V$122)+SUMPRODUCT(AA72:$AA$122,Q72:$Q$122)*$D$10+SUMPRODUCT(AB72:$AB$122,Q72:$Q$122))/Q72-SUMPRODUCT(AF72:$AF$122,Q72:$Q$122)/Q72-AA72*$D$10*1-AB72*1))","v":5103.90354066987},1,5104,6277.4,{"$f":"'SA&Table'!BK2","v":5104},0]
[58,87,{"$f":"IF(B73=\"\",0,VLOOKUP(B73,'Mortality&Morbidity'!AB:AC,2,FALSE)/1000)","v":0.0659936},0,0,0.0659936,0,0,0,0.106930022933978,0.9340064,594.315881006116,0,39.2210445247652,0,0,63.5502107860113,{"$f":"IF(B72=\"\",0,SUM(Q73:$Q$122))","v":439.7929637103},null,null,null,4.11246434667268,0,0,0,{"$f":"IF(B73=\"\",0,GP!Z73)","v":4288.4},{"$f":"IF(OR(A73=107,B73=\"\"),0,GP!AA73)","v":0.3},{"$f":"IF(B73=\"\",0,GP!AB73)","v":1000},{"$f":"IF(B73=\"\",0,VLOOKUP(A73,'Mortality&Morbidity'!$BE$37:$BG$42,3,TRUE)*Y73)","v":0},null,null,0,{"$f":"IF(OR(A73=\"\",A73=BP+1),0,IF(A73=1,0,(SUMPRODUCT(Z73:$Z$122,V73:$V$122)+SUMPRODUCT(AA73:$AA$122,Q73:$Q$122)*$D$10+SUMPRODUCT(AB73:$AB$122,Q73:$Q$122))/Q73-SUMPRODUCT(AF73:$AF$122,Q73:$Q$122)/Q73-AA73*$D$10*1-AB73*1))","v":4128.43298874698},1,4128,5301.4,{"$f":"'SA&Table'!BL2","v":4128},0]
[59,88,{"$f":"IF(B74=\"\",0,VLOOKUP(B74,'Mortality&Morbidity'!AB:AC,2,FALSE)/1000)","v":0.0729052},0,0,0.0729052,0,0,0,0.10281732974421,0.9270948,555.094836481351,0,40.4693000726402,0,0,57.0733688418112,{"$f":"IF(B73=\"\",0,SUM(Q74:$Q$122))","v":376.242752924288},null,null,null,4.08014262251195,0,0,0,{"$f":"IF(B74=\"\",0,GP!Z74)","v":3234.4},{"$f":"IF(OR(A74=107,B74=\"\"),0,GP!AA74)","v":0.3},{"$f":"IF(B74=\"\",0,GP!AB74)","v":1000},{"$f":"IF(B74=\"\",0,VLOOKUP(A74,'Mortality&Morbidity'!$BE$37:$BG$42,3,TRUE)*Y74)","v":0},null,null,0,{"$f":"IF(OR(A74=\"\",A74=BP+1),0,IF(A74=1,0,(SUMPRODUCT(Z74:$Z$122,V74:$V$122)+SUMPRODUCT(AA74:$AA$122,Q74:$Q$122)*$D$10+SUMPRODUCT(AB74:$AB$122,Q74:$Q$122))/Q74-SUMPRODUCT(AF74:$AF$122,Q74:$Q$122)/Q74-AA74*$D$10*1-AB74*1))","v":3114.53497760445},1,3115,4288.4,{"$f":"'SA&Table'!BM2","v":3115},0]
[60,89,{"$f":"IF(B75=\"\",0,VLOOKUP(B75,'Mortality&Morbidity'!AB:AC,2,FALSE)/1000)","v":0.0803396},0,0,0.0803396,0,0,0,0.09886281706174,0.9196604,514.625536408711,0,41.3448097448613,0,0,50.8773302612742,{"$f":"IF(B74=\"\",0,SUM(Q75:$Q$122))","v":319.169384082477},null,null,null,4.00808856620616,0,0,0,{"$f":"IF(B75=\"\",0,GP!Z75)","v":2140.4},{"$f":"IF(OR(A75=107,B75=\"\"),0,GP!AA75)","v":0.3},{"$f":"IF(B75=\"\",0,GP!AB75)","v":1000},{"$f":"IF(B75=\"\",0,VLOOKUP(A75,'Mortality&Morbidity'!$BE$37:$BG$42,3,TRUE)*Y75)","v":0},null,null,0,{"$f":"IF(OR(A75=\"\",A75=BP+1),0,IF(A75=1,0,(SUMPRODUCT(Z75:$Z$122,V75:$V$122)+SUMPRODUCT(AA75:$AA$122,Q75:$Q$122)*$D$10+SUMPRODUCT(AB75:$AB$122,Q75:$Q$122))/Q75-SUMPRODUCT(AF75:$AF$122,Q75:$Q$122)/Q75-AA75*$D$10*1-AB75*1))","v":2061.05018447725},1,2061,3234.4,{"$f":"'SA&Table'!BN2","v":2061},0]
[61,90,{"$f":"IF(B76=\"\",0,VLOOKUP(B76,'Mortality&Morbidity'!AB:AC,2,FALSE)/1000)","v":0.0883492},0,0,0.0883492,0,0,0,0.0950604010209039,0.9116508,473.280726663849,0,41.8139735761698,0,0,44.9902556721303,{"$f":"IF(B75=\"\",0,SUM(Q76:$Q$122))","v":268.292053821203},null,null,null,3.89766413506769,0,0,0,{"$f":"IF(B76=\"\",0,GP!Z76)","v":2041.4},{"$f":"IF(OR(A76=107,B76=\"\"),0,GP!AA76)","v":0.3},{"$f":"IF(B76=\"\",0,GP!AB76)","v":0},{"$f":"IF(B76=\"\",0,VLOOKUP(A76,'Mortality&Morbidity'!$BE$37:$BG$42,3,TRUE)*Y76)","v":0},null,null,0,{"$f":"IF(OR(A76=\"\",A76=BP+1),0,IF(A76=1,0,(SUMPRODUCT(Z76:$Z$122,V76:$V$122)+SUMPRODUCT(AA76:$AA$122,Q76:$Q$122)*$D$10+SUMPRODUCT(AB76:$AB$122,Q76:$Q$122))/Q76-SUMPRODUCT(AF76:$AF$122,Q76:$Q$122)/Q76-AA76*$D$10*1-AB76*1))","v":1966.65936875003},1,1967,2140.4,{"$f":"'SA&Table'!BO2","v":1967},0]
[62,91,{"$f":"IF(B77=\"\",0,VLOOKUP(B77,'Mortality&Morbidity'!AB:AC,2,FALSE)/1000)","v":0.0969844},0,0,0.0969844,0,0,0,0.0914042317508691,0.9030156,431.46675308768,0,41.8455441681567,0,0,39.4378870920213,{"$f":"IF(B76=\"\",0,SUM(Q77:$Q$122))","v":223.301798149073},null,null,null,3.75058362366652,0,0,0,{"$f":"IF(B77=\"\",0,GP!Z77)","v":1939.4},{"$f":"IF(OR(A77=107,B77=\"\"),0,GP!AA77)","v":0.3},{"$f":"IF(B77=\"\",0,GP!AB77)","v":0},{"$f":"IF(B77=\"\",0,VLOOKUP(A77,'Mortality&Morbidity'!$BE$37:$BG$42,3,TRUE)*Y77)","v":0},null,null,0,{"$f":"IF(OR(A77=\"\",A77=BP+1),0,IF(A77=1,0,(SUMPRODUCT(Z77:$Z$122,V77:$V$122)+SUMPRODUCT(AA77:$AA$122,Q77:$Q$122)*$D$10+SUMPRODUCT(AB77:$AB$122,Q77:$Q$122))/Q77-SUMPRODUCT(AF77:$AF$122,Q77:$Q$122)/Q77-AA77*$D$10*1-AB77*1))","v":1868.38829527148},1,1868,2041.4,{"$f":"'SA&Table'!BP2","v":1868},0]
[63,92,{"$f":"IF(B78=\"\",0,VLOOKUP(B78,'Mortality&Morbidity'!AB:AC,2,FALSE)/1000)","v":0.1062976},0,0,0.1062976,0,0,0,0.0878886843758356,0.8937024,389.621208919523,0,41.4157994172439,0,0,34.2432954568595,{"$f":"IF(B77=\"\",0,SUM(Q78:$Q$122))","v":183.863911057051},null,null,null,3.56929416866491,0,0,0,{"$f":"IF(B78=\"\",0,GP!Z78)","v":1832.4},{"$f":"IF(OR(A78=107,B78=\"\"),0,GP!AA78)","v":0.3},{"$f":"IF(B78=\"\",0,GP!AB78)","v":0},{"$f":"IF(B78=\"\",0,VLOOKUP(A78,'Mortality&Morbidity'!$BE$37:$BG$42,3,TRUE)*Y78)","v":0},null,null,0,{"$f":"IF(OR(A78=\"\",A78=BP+1),0,IF(A78=1,0,(SUMPRODUCT(Z78:$Z$122,V78:$V$122)+SUMPRODUCT(AA78:$AA$122,Q78:$Q$122)*$D$10+SUMPRODUCT(AB78:$AB$122,Q78:$Q$122))/Q78-SUMPRODUCT(AF78:$AF$122,Q78:$Q$122)/Q78-AA78*$D$10*1-AB78*1))","v":1765.99876017185},1,1766,1939.4,{"$f":"'SA&Table'!BQ2","v":1766},0]
[64,93,{"$f":"IF(B79=\"\",0,VLOOKUP(B79,'Mortality&Morbidity'!AB:AC,2,FALSE)/1000)","v":0.1163388},0,0,0.1163388,0,0,0,0.0845083503613804,0.8836612,348.205409502279,0,40.5097994950037,0,0,29.4262647439465,{"$f":"IF(B78=\"\",0,SUM(Q79:$Q$122))","v":149.620615600192},null,null,null,3.35693589685922,0,0,0,{"$f":"IF(B79=\"\",0,GP!Z79)","v":1721.4},{"$f":"IF(OR(A79=107,B79=\"\"),0,GP!AA79)","v":0.3},{"$f":"IF(B79=\"\",0,GP!AB79)","v":0},{"$f":"IF(B79=\"\",0,VLOOKUP(A79,'Mortality&Morbidity'!$BE$37:$BG$42,3,TRUE)*Y79)","v":0},null,null,0,{"$f":"IF(OR(A79=\"\",A79=BP+1),0,IF(A79=1,0,(SUMPRODUCT(Z79:$Z$122,V79:$V$122)+SUMPRODUCT(AA79:$AA$122,Q79:$Q$122)*$D$10+SUMPRODUCT(AB79:$AB$122,Q79:$Q$122))/Q79-SUMPRODUCT(AF79:$AF$122,Q79:$Q$122)/Q79-AA79*$D$10*1-AB79*1))","v":1659.42666541786},1,1659,1832.4,{"$f":"'SA&Table'!BR2","v":1659},0]
[65,94,{"$f":"IF(B80=\"\",0,VLOOKUP(B80,'Mortality&Morbidity'!AB:AC,2,FALSE)/1000)","v":0.1271608},{"$f":"0","v":0},{"$f":"0","v":0},0.1271608,0,0,0,0.081258029193635,0.8728392,307.695610007275,{"$f":"IF(B80=\"\",0,D80*L80)","v":0},{"$f":"IF(B80=\"\",0,F80*L80)","v":39.1268199250131},0,0,{"$f":"IF(A80>BP+1,0,J80*L80)","v":25.0027388607245},{"$f":"IF(B79=\"\",0,SUM(Q80:$Q$122))","v":120.194350856245},null,null,null,3.11762709207659,{"$f":"IF(B80=\"\",0,IF(A80=1,J81*O80/2*$G$8,J81*O80*$G$6))","v":0},{"$f":"IF(B80=\"\",0,J81*P80*$G$6)","v":0},{"$f":"IF(B80=\"\",\"\",IF(A80<=PPP,1,0))","v":0},{"$f":"IF(B80=\"\",0,GP!Z80)","v":1606.4},{"$f":"IF(OR(A80=107,B80=\"\"),0,GP!AA80)","v":0.3},{"$f":"IF(B80=\"\",0,GP!AB80)","v":0},{"$f":"IF(B80=\"\",0,VLOOKUP(A80,'Mortality&Morbidity'!$BE$37:$BG$42,3,TRUE)*Y80)","v":0},null,null,{"$f":"IF(B80=\"\",0,$O$4*(1-AC80)*(A80<=PPP))","v":0},{"$f":"IF(OR(A80=\"\",A80=BP+1),0,IF(A80=1,0,(SUMPRODUCT(Z80:$Z$122,V80:$V$122)+SUMPRODUCT(AA80:$AA$122,Q80:$Q$122)*$D$10+SUMPRODUCT(AB80:$AB$122,Q80:$Q$122))/Q80-SUMPRODUCT(AF80:$AF$122,Q80:$Q$122)/Q80-AA80*$D$10*1-AB80*1))","v":1548.49531581779},1,1548,1721.4,{"$f":"'SA&Table'!BS2","v":1548},0]
[{"$f":"IF(A80=\"\",\"\",IF(A80<BP,A80+1,\"\"))","v":66},95,{"$f":"IF(B81=\"\",0,VLOOKUP(B81,'Mortality&Morbidity'!AB:AC,2,FALSE)/1000)","v":0.1388156},0,0,{"$f":"IF(B81=\"\",0,IF(B81=105,1-D81,(1-E81)*C81))","v":0.1388156},{"$f":"IF(B81=\"\",0,0/1000)","v":0},{"$f":"IF(B81=\"\",0,0/1000)","v":0},{"$f":"IF(B81=\"\",0,0/1000)","v":0},{"$f":"IF(A81=1,1,$G$5^(A80))","v":0.0781327203784952},{"$f":"IF(B81=\"\",0,1-D81-F81)","v":0.8611844},{"$f":"IF(B80=\"\",0,L80*K80)","v":268.568790082262},0,37.2815377365433,{"$f":"IF(B81=\"\",0,0)","v":0},{"$f":"IF(B81=\"\",0,0)","v":0},20.9840101778882,{"$f":"IF(B80=\"\",0,SUM(Q81:$Q$122))","v":95.1916119955208},null,null,null,{"$f":"IF(B81=\"\",0,IF(A81=1,J82*N81*$G$6,J82*N81*$G$6))","v":2.85634125882881},0,0,0,{"$f":"IF(B81=\"\",0,GP!Z81)","v":1486.4},{"$f":"IF(OR(A81=107,B81=\"\"),0,GP!AA81)","v":0.3},{"$f":"IF(B81=\"\",0,GP!AB81)","v":0},{"$f":"IF(B81=\"\",0,VLOOKUP(A81,'Mortality&Morbidity'!$BE$37:$BG$42,3,TRUE)*Y81)","v":0},null,null,0,{"$f":"IF(OR(A81=\"\",A81=BP+1),0,IF(A81=1,0,(SUMPRODUCT(Z81:$Z$122,V81:$V$122)+SUMPRODUCT(AA81:$AA$122,Q81:$Q$122)*$D$10+SUMPRODUCT(AB81:$AB$122,Q81:$Q$122))/Q81-SUMPRODUCT(AF81:$AF$122,Q81:$Q$122)/Q81-AA81*$D$10*1-AB81*1))","v":1432.988271926},{"$f":"IF(BP+1<A81,0,IF(A81-1>MIN(20,PPP),1,$AH$14/100+(A81-1)/MIN(20,PPP)*(100-$AH$14)/100))","v":1},1433,1606.4,{"$f":"'SA&Table'!BT2","v":1433},0]
[67,{"$f":"IF(A82=\"\",\"\",B81+1)","v":96},{"$f":"IF(B82=\"\",0,VLOOKUP(B82,'Mortality&Morbidity'!AB:AC,2,FALSE)/1000)","v":0.1513628},0,0,0.1513628,0,0,0,0.0751276157485531,0.8486372,231.287252345719,0,35.0082861193546,0,0,17.3760598217678,{"$f":"IF(B81=\"\",0,SUM(Q82:$Q$122))","v":74.2076018176327},null,null,null,2.57901451502497,0,0,0,{"$f":"IF(B82=\"\",0,GP!Z82)","v":1361.4},{"$f":"IF(OR(A82=107,B82=\"\"),0,GP!AA82)","v":0.3},{"$f":"IF(B82=\"\",0,GP!AB82)","v":0},{"$f":"IF(B82=\"\",0,VLOOKUP(A82,'Mortality&Morbidity'!$BE$37:$BG$42,3,TRUE)*Y82)","v":0},null,null,0,{"$f":"IF(OR(A82=\"\",A82=BP+1),0,IF(A82=1,0,(SUMPRODUCT(Z82:$Z$122,V82:$V$122)+SUMPRODUCT(AA82:$AA$122,Q82:$Q$122)*$D$10+SUMPRODUCT(AB82:$AB$122,Q82:$Q$122))/Q82-SUMPRODUCT(AF82:$AF$122,Q82:$Q$122)/Q82-AA82*$D$10*1-AB82*1))","v":1312.79279057818},1,{"$f":"AK82","v":1313},{"$f":"AI82+AA82*$D$10+AB82","v":1486.4},{"$f":"'SA&Table'!BU2","v":1313},{"$f":"IF(B81=\"\",0,Z81-AJ82)","v":0}]
[68,97,{"$f":"IF(B83=\"\",0,VLOOKUP(B83,'Mortality&Morbidity'!AB:AC,2,FALSE)/1000)","v":0.1648636},0,0,0.1648636,0,0,0,0.0722380920659164,0.8351364,196.278966226364,0,32.3592569763568,0,0,14.178818032863,{"$f":"IF(B82=\"\",0,SUM(Q83:$Q$122))","v":56.8315419958649},null,null,null,2.29217693559644,0,0,0,{"$f":"IF(B83=\"\",0,GP!Z83)","v":1231.4},{"$f":"IF(OR(A83=107,B83=\"\"),0,GP!AA83)","v":0.3},{"$f":"IF(B83=\"\",0,GP!AB83)","v":0},{"$f":"IF(B83=\"\",0,VLOOKUP(A83,'Mortality&Morbidity'!$BE$37:$BG$42,3,TRUE)*Y83)","v":0},null,null,0,{"$f":"IF(OR(A83=\"\",A83=BP+1),0,IF(A83=1,0,(SUMPRODUCT(Z83:$Z$122,V83:$V$122)+SUMPRODUCT(AA83:$AA$122,Q83:$Q$122)*$D$10+SUMPRODUCT(AB83:$AB$122,Q83:$Q$122))/Q83-SUMPRODUCT(AF83:$AF$122,Q83:$Q$122)/Q83-AA83*$D$10*1-AB83*1))","v":1187.79214289824},1,1188,1361.4,{"$f":"'SA&Table'!BV2","v":1188},0]
[69,98,{"$f":"IF(B84=\"\",0,VLOOKUP(B84,'Mortality&Morbidity'!AB:AC,2,FALSE)/1000)","v":0.1793784},0,0,0.1793784,0,0,0,0.069459703909535,0.8206216,163.919709250007,0,29.4036551737315,0,0,11.3858144694426,{"$f":"IF(B83=\"\",0,SUM(Q84:$Q$122))","v":42.6527239630019},null,null,null,2.00270775271695,0,0,0,{"$f":"IF(B84=\"\",0,GP!Z84)","v":1096.4},{"$f":"IF(OR(A84=107,B84=\"\"),0,GP!AA84)","v":0.3},{"$f":"IF(B84=\"\",0,GP!AB84)","v":0},{"$f":"IF(B84=\"\",0,VLOOKUP(A84,'Mortality&Morbidity'!$BE$37:$BG$42,3,TRUE)*Y84)","v":0},null,null,0,{"$f":"IF(OR(A84=\"\",A84=BP+1),0,IF(A84=1,0,(SUMPRODUCT(Z84:$Z$122,V84:$V$122)+SUMPRODUCT(AA84:$AA$122,Q84:$Q$122)*$D$10+SUMPRODUCT(AB84:$AB$122,Q84:$Q$122))/Q84-SUMPRODUCT(AF84:$AF$122,Q84:$Q$122)/Q84-AA84*$D$10*1-AB84*1))","v":1057.86035595866},1,1058,1231.4,{"$f":"'SA&Table'!BW2","v":1058},0]
[70,99,{"$f":"IF(B85=\"\",0,VLOOKUP(B85,'Mortality&Morbidity'!AB:AC,2,FALSE)/1000)","v":0.1949684},0,0,0.1949684,0,0,0,0.0667881768360914,0.8050316,134.516054076276,0,26.226379837565,0,0,8.98408200693954,{"$f":"IF(B84=\"\",0,SUM(Q85:$Q$122))","v":31.2669094935593},null,null,null,1.71759697103767,0,0,0,{"$f":"IF(B85=\"\",0,GP!Z85)","v":956.4},{"$f":"IF(OR(A85=107,B85=\"\"),0,GP!AA85)","v":0.3},{"$f":"IF(B85=\"\",0,GP!AB85)","v":0},{"$f":"IF(B85=\"\",0,VLOOKUP(A85,'Mortality&Morbidity'!$BE$37:$BG$42,3,TRUE)*Y85)","v":0},null,null,0,{"$f":"IF(OR(A85=\"\",A85=BP+1),0,IF(A85=1,0,(SUMPRODUCT(Z85:$Z$122,V85:$V$122)+SUMPRODUCT(AA85:$AA$122,Q85:$Q$122)*$D$10+SUMPRODUCT(AB85:$AB$122,Q85:$Q$122))/Q85-SUMPRODUCT(AF85:$AF$122,Q85:$Q$122)/Q85-AA85*$D$10*1-AB85*1))","v":922.853680658455},1,923,1096.4,{"$f":"'SA&Table'!BX2","v":923},0]
[71,100,{"$f":"IF(B86=\"\",0,VLOOKUP(B86,'Mortality&Morbidity'!AB:AC,2,FALSE)/1000)","v":0.2116948},0,0,0.2116948,0,0,0,0.064219400803934,0.7883052,108.289674238711,0,22.9243609300291,0,0,6.95429799286322,{"$f":"IF(B85=\"\",0,SUM(Q86:$Q$122))","v":22.2828274866197},null,null,null,1.44359981248853,0,0,0,{"$f":"IF(B86=\"\",0,GP!Z86)","v":810.4},{"$f":"IF(OR(A86=107,B86=\"\"),0,GP!AA86)","v":0.3},{"$f":"IF(B86=\"\",0,GP!AB86)","v":0},{"$f":"IF(B86=\"\",0,VLOOKUP(A86,'Mortality&Morbidity'!$BE$37:$BG$42,3,TRUE)*Y86)","v":0},null,null,0,{"$f":"IF(OR(A86=\"\",A86=BP+1),0,IF(A86=1,0,(SUMPRODUCT(Z86:$Z$122,V86:$V$122)+SUMPRODUCT(AA86:$AA$122,Q86:$Q$122)*$D$10+SUMPRODUCT(AB86:$AB$122,Q86:$Q$122))/Q86-SUMPRODUCT(AF86:$AF$122,Q86:$Q$122)/Q86-AA86*$D$10*1-AB86*1))","v":782.596336533732},1,783,956.4,{"$f":"'SA&Table'!BY2","v":783},0]
[72,101,{"$f":"IF(B87=\"\",0,VLOOKUP(B87,'Mortality&Morbidity'!AB:AC,2,FALSE)/1000)","v":0.229618},0,0,0.229618,0,0,0,0.0617494238499365,0.770382,85.3653133086818,0,19.6014125113129,0,0,5.27125891358042,{"$f":"IF(B86=\"\",0,SUM(Q87:$Q$122))","v":15.3285294937565},null,null,null,1.18687124651311,0,0,0,{"$f":"IF(B87=\"\",0,GP!Z87)","v":659.4},{"$f":"IF(OR(A87=107,B87=\"\"),0,GP!AA87)","v":0.3},{"$f":"IF(B87=\"\",0,GP!AB87)","v":0},{"$f":"IF(B87=\"\",0,VLOOKUP(A87,'Mortality&Morbidity'!$BE$37:$BG$42,3,TRUE)*Y87)","v":0},null,null,0,{"$f":"IF(OR(A87=\"\",A87=BP+1),0,IF(A87=1,0,(SUMPRODUCT(Z87:$Z$122,V87:$V$122)+SUMPRODUCT(AA87:$AA$122,Q87:$Q$122)*$D$10+SUMPRODUCT(AB87:$AB$122,Q87:$Q$122))/Q87-SUMPRODUCT(AF87:$AF$122,Q87:$Q$122)/Q87-AA87*$D$10*1-AB87*1))","v":637.13025745531},1,637,810.4,{"$f":"'SA&Table'!BZ2","v":637},0]
[73,102,{"$f":"IF(B88=\"\",0,VLOOKUP(B88,'Mortality&Morbidity'!AB:AC,2,FALSE)/1000)","v":0.2487992},0,0,0.2487992,0,0,0,0.0593744460095543,0.7512008,65.7639007973689,0,16.3620059072648,0,0,3.90469517727107,{"$f":"IF(B87=\"\",0,SUM(Q88:$Q$122))","v":10.0572705801761},null,null,null,0.952619453366623,0,0,0,{"$f":"IF(B88=\"\",0,GP!Z88)","v":503.4},{"$f":"IF(OR(A88=107,B88=\"\"),0,GP!AA88)","v":0.3},{"$f":"IF(B88=\"\",0,GP!AB88)","v":0},{"$f":"IF(B88=\"\",0,VLOOKUP(A88,'Mortality&Morbidity'!$BE$37:$BG$42,3,TRUE)*Y88)","v":0},null,null,0,{"$f":"IF(OR(A88=\"\",A88=BP+1),0,IF(A88=1,0,(SUMPRODUCT(Z88:$Z$122,V88:$V$122)+SUMPRODUCT(AA88:$AA$122,Q88:$Q$122)*$D$10+SUMPRODUCT(AB88:$AB$122,Q88:$Q$122))/Q88-SUMPRODUCT(AF88:$AF$122,Q88:$Q$122)/Q88-AA88*$D$10*1-AB88*1))","v":486.281622208618},1,486,659.4,{"$f":"'SA&Table'!CA2","v":486},0]
[74,103,{"$f":"IF(B89=\"\",0,VLOOKUP(B89,'Mortality&Morbidity'!AB:AC,2,FALSE)/1000)","v":0.2692988},0,0,0.2692988,0,0,0,0.0570908134707253,0.7307012,49.4018948901042,0,13.3038710116312,0,0,2.82039436627132,{"$f":"IF(B88=\"\",0,SUM(Q89:$Q$122))","v":6.15257540290503},null,null,null,0.74477928191773,0,0,0,{"$f":"IF(B89=\"\",0,GP!Z89)","v":341.4},{"$f":"IF(OR(A89=107,B89=\"\"),0,GP!AA89)","v":0.3},{"$f":"IF(B89=\"\",0,GP!AB89)","v":0},{"$f":"IF(B89=\"\",0,VLOOKUP(A89,'Mortality&Morbidity'!$BE$37:$BG$42,3,TRUE)*Y89)","v":0},null,null,0,{"$f":"IF(OR(A89=\"\",A89=BP+1),0,IF(A89=1,0,(SUMPRODUCT(Z89:$Z$122,V89:$V$122)+SUMPRODUCT(AA89:$AA$122,Q89:$Q$122)*$D$10+SUMPRODUCT(AB89:$AB$122,Q89:$Q$122))/Q89-SUMPRODUCT(AF89:$AF$122,Q89:$Q$122)/Q89-AA89*$D$10*1-AB89*1))","v":329.80369703655},1,330,503.4,{"$f":"'SA&Table'!CB2","v":330},0]
[75,104,{"$f":"IF(B90=\"\",0,VLOOKUP(B90,'Mortality&Morbidity'!AB:AC,2,FALSE)/1000)","v":0.291178},0,0,0.291178,0,0,0,0.0548950129526205,0.708822,36.098023878473,0,10.510950396886,0,0,1.98160148837278,{"$f":"IF(B89=\"\",0,SUM(Q90:$Q$122))","v":3.33218103663371},null,null,null,0.565793832170348,0,0,0,{"$f":"IF(B90=\"\",0,GP!Z90)","v":173.4},{"$f":"IF(OR(A90=107,B90=\"\"),0,GP!AA90)","v":0.3},{"$f":"IF(B90=\"\",0,GP!AB90)","v":0},{"$f":"IF(B90=\"\",0,VLOOKUP(A90,'Mortality&Morbidity'!$BE$37:$BG$42,3,TRUE)*Y90)","v":0},null,null,0,{"$f":"IF(OR(A90=\"\",A90=BP+1),0,IF(A90=1,0,(SUMPRODUCT(Z90:$Z$122,V90:$V$122)+SUMPRODUCT(AA90:$AA$122,Q90:$Q$122)*$D$10+SUMPRODUCT(AB90:$AB$122,Q90:$Q$122))/Q90-SUMPRODUCT(AF90:$AF$122,Q90:$Q$122)/Q90-AA90*$D$10*1-AB90*1))","v":167.692215673322},1,168,341.4,{"$f":"'SA&Table'!CC2","v":168},0]
[76,105,{"$f":"IF(B91=\"\",0,VLOOKUP(B91,'Mortality&Morbidity'!AB:AC,2,FALSE)/1000)","v":1},0,0,1,0,0,0,0.0527836663005966,0,25.587073481587,0,25.587073481587,0,0,1.35057954826093,{"$f":"IF(B90=\"\",0,SUM(Q91:$Q$122))","v":1.35057954826093},null,null,null,1.32435220600804,0,0,0,{"$f":"IF(B91=\"\",0,GP!Z91)","v":0},{"$f":"IF(OR(A91=107,B91=\"\"),0,GP!AA91)","v":0.3},{"$f":"IF(B91=\"\",0,GP!AB91)","v":0},{"$f":"IF(B91=\"\",0,VLOOKUP(A91,'Mortality&Morbidity'!$BE$37:$BG$42,3,TRUE)*Y91)","v":0},null,null,0,{"$f":"IF(OR(A91=\"\",A91=BP+1),0,IF(A91=1,0,(SUMPRODUCT(Z91:$Z$122,V91:$V$122)+SUMPRODUCT(AA91:$AA$122,Q91:$Q$122)*$D$10+SUMPRODUCT(AB91:$AB$122,Q91:$Q$122))/Q91-SUMPRODUCT(AF91:$AF$122,Q91:$Q$122)/Q91-AA91*$D$10*1-AB91*1))","v":0},1,0,173.4,{"$f":"'SA&Table'!CD2","v":0},0]
["","",{"$f":"IF(B92=\"\",0,VLOOKUP(B92,'Mortality&Morbidity'!AB:AC,2,FALSE)/1000)","v":0},0,0,0,0,0,0,0.0507535252890352,0,0,0,0,0,0,0,{"$f":"IF(B91=\"\",0,SUM(Q92:$Q$122))","v":0},null,null,null,0,0,0,"",{"$f":"IF(B92=\"\",0,GP!Z92)","v":0},{"$f":"IF(OR(A92=107,B92=\"\"),0,GP!AA92)","v":0},{"$f":"IF(B92=\"\",0,GP!AB92)","v":0},{"$f":"IF(B92=\"\",0,VLOOKUP(A92,'Mortality&Morbidity'!$BE$37:$BG$42,3,TRUE)*Y92)","v":0},null,null,0,{"$f":"IF(OR(A92=\"\",A92=BP+1),0,IF(A92=1,0,(SUMPRODUCT(Z92:$Z$122,V92:$V$122)+SUMPRODUCT(AA92:$AA$122,Q92:$Q$122)*$D$10+SUMPRODUCT(AB92:$AB$122,Q92:$Q$122))/Q92-SUMPRODUCT(AF92:$AF$122,Q92:$Q$122)/Q92-AA92*$D$10*1-AB92*1))","v":0},0,0,0,{"$f":"'SA&Table'!CE2","v":0},0]
["","",{"$f":"IF(B93=\"\",0,VLOOKUP(B93,'Mortality&Morbidity'!AB:AC,2,FALSE)/1000)","v":0},0,0,0,0,0,0,{"$error":"#VALUE!"},0,0,0,0,0,0,0,{"$f":"IF(B92=\"\",0,SUM(Q93:$Q$122))","v":0},null,null,null,0,0,0,"",{"$f":"IF(B93=\"\",0,GP!Z93)","v":0},{"$f":"IF(OR(A93=107,B93=\"\"),0,GP!AA93)","v":0},{"$f":"IF(B93=\"\",0,GP!AB93)","v":0},{"$f":"IF(B93=\"\",0,VLOOKUP(A93,'Mortality&Morbidity'!$BE$37:$BG$42,3,TRUE)*Y93)","v":0},null,null,0,{"$f":"IF(OR(A93=\"\",A93=BP+1),0,IF(A93=1,0,(SUMPRODUCT(Z93:$Z$122,V93:$V$122)+SUMPRODUCT(AA93:$AA$122,Q93:$Q$122)*$D$10+SUMPRODUCT(AB93:$AB$122,Q93:$Q$122))/Q93-SUMPRODUCT(AF93:$AF$122,Q93:$Q$122)/Q93-AA93*$D$10*1-AB93*1))","v":0},0,"",{"$error":"#VALUE!"},{"$f":"'SA&Table'!CF2","v":""},0]
["","",{"$f":"IF(B94=\"\",0,VLOOKUP(B94,'Mortality&Morbidity'!AB:AC,2,FALSE)/1000)","v":0},0,0,0,0,0,0,{"$error":"#VALUE!"},0,0,0,0,0,0,0,{"$f":"IF(B93=\"\",0,SUM(Q94:$Q$122))","v":0},null,null,null,0,0,0,"",{"$f":"IF(B94=\"\",0,GP!Z94)","v":0},{"$f":"IF(OR(A94=107,B94=\"\"),0,GP!AA94)","v":0},{"$f":"IF(B94=\"\",0,GP!AB94)","v":0},{"$f":"IF(B94=\"\",0,VLOOKUP(A94,'Mortality&Morbidity'!$BE$37:$BG$42,3,TRUE)*Y94)","v":0},null,null,0,{"$f":"IF(OR(A94=\"\",A94=BP+1),0,IF(A94=1,0,(SUMPRODUCT(Z94:$Z$122,V94:$V$122)+SUMPRODUCT(AA94:$AA$122,Q94:$Q$122)*$D$10+SUMPRODUCT(AB94:$AB$122,Q94:$Q$122))/Q94-SUMPRODUCT(AF94:$AF$122,Q94:$Q$122)/Q94-AA94*$D$10*1-AB94*1))","v":0},0,"",{"$error":"#VALUE!"},{"$f":"'SA&Table'!CG2","v":""},0]
["","",{"$f":"IF(B95=\"\",0,VLOOKUP(B95,'Mortality&Morbidity'!AB:AC,2,FALSE)/1000)","v":0},0,0,0,0,0,0,{"$error":"#VALUE!"},0,0,0,0,0,0,0,{"$f":"IF(B94=\"\",0,SUM(Q95:$Q$122))","v":0},null,null,null,0,0,0,"",{"$f":"IF(B95=\"\",0,GP!Z95)","v":0},{"$f":"IF(OR(A95=107,B95=\"\"),0,GP!AA95)","v":0},{"$f":"IF(B95=\"\",0,GP!AB95)","v":0},{"$f":"IF(B95=\"\",0,VLOOKUP(A95,'Mortality&Morbidity'!$BE$37:$BG$42,3,TRUE)*Y95)","v":0},null,null,0,{"$f":"IF(OR(A95=\"\",A95=BP+1),0,IF(A95=1,0,(SUMPRODUCT(Z95:$Z$122,V95:$V$122)+SUMPRODUCT(AA95:$AA$122,Q95:$Q$122)*$D$10+SUMPRODUCT(AB95:$AB$122,Q95:$Q$122))/Q95-SUMPRODUCT(AF95:$AF$122,Q95:$Q$122)/Q95-AA95*$D$10*1-AB95*1))","v":0},0,"",{"$error":"#VALUE!"},{"$f":"'SA&Table'!CH2","v":""},0]
["","",{"$f":"IF(B96=\"\",0,VLOOKUP(B96,'Mortality&Morbidity'!AB:AC,2,FALSE)/1000)","v":0},0,0,0,0,0,0,{"$error":"#VALUE!"},0,0,0,0,0,0,0,{"$f":"IF(B95=\"\",0,SUM(Q96:$Q$122))","v":0},null,null,null,0,0,0,"",{"$f":"IF(B96=\"\",0,GP!Z96)","v":0},{"$f":"IF(OR(A96=107,B96=\"\"),0,GP!AA96)","v":0},{"$f":"IF(B96=\"\",0,GP!AB96)","v":0},{"$f":"IF(B96=\"\",0,VLOOKUP(A96,'Mortality&Morbidity'!$BE$37:$BG$42,3,TRUE)*Y96)","v":0},null,null,0,{"$f":"IF(OR(A96=\"\",A96=BP+1),0,IF(A96=1,0,(SUMPRODUCT(Z96:$Z$122,V96:$V$122)+SUMPRODUCT(AA96:$AA$122,Q96:$Q$122)*$D$10+SUMPRODUCT(AB96:$AB$122,Q96:$Q$122))/Q96-SUMPRODUCT(AF96:$AF$122,Q96:$Q$122)/Q96-AA96*$D$10*1-AB96*1))","v":0},0,"",{"$error":"#VALUE!"},{"$f":"'SA&Table'!CI2","v":""},0]
["","",{"$f":"IF(B97=\"\",0,VLOOKUP(B97,'Mortality&Morbidity'!AB:AC,2,FALSE)/1000)","v":0},0,0,0,0,0,0,{"$error":"#VALUE!"},0,0,0,0,0,0,0,{"$f":"IF(B96=\"\",0,SUM(Q97:$Q$122))","v":0},null,null,null,0,0,0,"",{"$f":"IF(B97=\"\",0,GP!Z97)","v":0},{"$f":"IF(OR(A97=107,B97=\"\"),0,GP!AA97)","v":0},{"$f":"IF(B97=\"\",0,GP!AB97)","v":0},{"$f":"IF(B97=\"\",0,VLOOKUP(A97,'Mortality&Morbidity'!$BE$37:$BG$42,3,TRUE)*Y97)","v":0},null,null,0,{"$f":"IF(OR(A97=\"\",A97=BP+1),0,IF(A97=1,0,(SUMPRODUCT(Z97:$Z$122,V97:$V$122)+SUMPRODUCT(AA97:$AA$122,Q97:$Q$122)*$D$10+SUMPRODUCT(AB97:$AB$122,Q97:$Q$122))/Q97-SUMPRODUCT(AF97:$AF$122,Q97:$Q$122)/Q97-AA97*$D$10*1-AB97*1))","v":0},0,"",{"$error":"#VALUE!"},{"$f":"'SA&Table'!CJ2","v":""},0]
["","",{"$f":"IF(B98=\"\",0,VLOOKUP(B98,'Mortality&Morbidity'!AB:AC,2,FALSE)/1000)","v":0},0,0,0,0,0,0,{"$error":"#VALUE!"},0,0,0,0,0,0,0,{"$f":"IF(B97=\"\",0,SUM(Q98:$Q$122))","v":0},null,null,null,0,0,0,"",{"$f":"IF(B98=\"\",0,GP!Z98)","v":0},{"$f":"IF(OR(A98=107,B98=\"\"),0,GP!AA98)","v":0},{"$f":"IF(B98=\"\",0,GP!AB98)","v":0},{"$f":"IF(B98=\"\",0,VLOOKUP(A98,'Mortality&Morbidity'!$BE$37:$BG$42,3,TRUE)*Y98)","v":0},null,null,0,{"$f":"IF(OR(A98=\"\",A98=BP+1),0,IF(A98=1,0,(SUMPRODUCT(Z98:$Z$122,V98:$V$122)+SUMPRODUCT(AA98:$AA$122,Q98:$Q$122)*$D$10+SUMPRODUCT(AB98:$AB$122,Q98:$Q$122))/Q98-SUMPRODUCT(AF98:$AF$122,Q98:$Q$122)/Q98-AA98*$D$10*1-AB98*1))","v":0},0,"",{"$error":"#VALUE!"},{"$f":"'SA&Table'!CK2","v":""},0]
["","",{"$f":"IF(B99=\"\",0,VLOOKUP(B99,'Mortality&Morbidity'!AB:AC,2,FALSE)/1000)","v":0},0,0,0,0,0,0,{"$error":"#VALUE!"},0,0,0,0,0,0,0,{"$f":"IF(B98=\"\",0,SUM(Q99:$Q$122))","v":0},null,null,null,0,0,0,"",{"$f":"IF(B99=\"\",0,GP!Z99)","v":0},{"$f":"IF(OR(A99=107,B99=\"\"),0,GP!AA99)","v":0},{"$f":"IF(B99=\"\",0,GP!AB99)","v":0},{"$f":"IF(B99=\"\",0,VLOOKUP(A99,'Mortality&Morbidity'!$BE$37:$BG$42,3,TRUE)*Y99)","v":0},null,null,0,{"$f":"IF(OR(A99=\"\",A99=BP+1),0,IF(A99=1,0,(SUMPRODUCT(Z99:$Z$122,V99:$V$122)+SUMPRODUCT(AA99:$AA$122,Q99:$Q$122)*$D$10+SUMPRODUCT(AB99:$AB$122,Q99:$Q$122))/Q99-SUMPRODUCT(AF99:$AF$122,Q99:$Q$122)/Q99-AA99*$D$10*1-AB99*1))","v":0},0,"",{"$error":"#VALUE!"},{"$f":"'SA&Table'!CL2","v":""},0]
["","",{"$f":"IF(B100=\"\",0,VLOOKUP(B100,'Mortality&Morbidity'!AB:AC,2,FALSE)/1000)","v":0},0,0,0,0,0,0,{"$error":"#VALUE!"},0,0,0,0,0,0,0,{"$f":"IF(B99=\"\",0,SUM(Q100:$Q$122))","v":0},null,null,null,0,0,0,"",{"$f":"IF(B100=\"\",0,GP!Z100)","v":0},{"$f":"IF(OR(A100=107,B100=\"\"),0,GP!AA100)","v":0},{"$f":"IF(B100=\"\",0,GP!AB100)","v":0},{"$f":"IF(B100=\"\",0,VLOOKUP(A100,'Mortality&Morbidity'!$BE$37:$BG$42,3,TRUE)*Y100)","v":0},null,null,0,{"$f":"IF(OR(A100=\"\",A100=BP+1),0,IF(A100=1,0,(SUMPRODUCT(Z100:$Z$122,V100:$V$122)+SUMPRODUCT(AA100:$AA$122,Q100:$Q$122)*$D$10+SUMPRODUCT(AB100:$AB$122,Q100:$Q$122))/Q100-SUMPRODUCT(AF100:$AF$122,Q100:$Q$122)/Q100-AA100*$D$10*1-AB100*1))","v":0},0,"",{"$error":"#VALUE!"},{"$f":"'SA&Table'!CM2","v":""},0]
["","",{"$f":"IF(B101=\"\",0,VLOOKUP(B101,'Mortality&Morbidity'!AB:AC,2,FALSE)/1000)","v":0},0,0,0,0,0,0,{"$error":"#VALUE!"},0,0,0,0,0,0,0,{"$f":"IF(B100=\"\",0,SUM(Q101:$Q$122))","v":0},null,null,null,0,0,0,"",{"$f":"IF(B101=\"\",0,GP!Z101)","v":0},{"$f":"IF(OR(A101=107,B101=\"\"),0,GP!AA101)","v":0},{"$f":"IF(B101=\"\",0,GP!AB101)","v":0},{"$f":"IF(B101=\"\",0,VLOOKUP(A101,'Mortality&Morbidity'!$BE$37:$BG$42,3,TRUE)*Y101)","v":0},null,null,0,{"$f":"IF(OR(A101=\"\",A101=BP+1),0,IF(A101=1,0,(SUMPRODUCT(Z101:$Z$122,V101:$V$122)+SUMPRODUCT(AA101:$AA$122,Q101:$Q$122)*$D$10+SUMPRODUCT(AB101:$AB$122,Q101:$Q$122))/Q101-SUMPRODUCT(AF101:$AF$122,Q101:$Q$122)/Q101-AA101*$D$10*1-AB101*1))","v":0},0,"",{"$error":"#VALUE!"},{"$f":"'SA&Table'!CN2","v":""},0]
["","",{"$f":"IF(B102=\"\",0,VLOOKUP(B102,'Mortality&Morbidity'!AB:AC,2,FALSE)/1000)","v":0},0,0,0,0,0,0,{"$error":"#VALUE!"},0,0,0,0,0,0,0,{"$f":"IF(B101=\"\",0,SUM(Q102:$Q$122))","v":0},null,null,null,0,0,0,"",{"$f":"IF(B102=\"\",0,GP!Z102)","v":0},{"$f":"IF(OR(A102=107,B102=\"\"),0,GP!AA102)","v":0},{"$f":"IF(B102=\"\",0,GP!AB102)","v":0},{"$f":"IF(B102=\"\",0,VLOOKUP(A102,'Mortality&Morbidity'!$BE$37:$BG$42,3,TRUE)*Y102)","v":0},null,null,0,{"$f":"IF(OR(A102=\"\",A102=BP+1),0,IF(A102=1,0,(SUMPRODUCT(Z102:$Z$122,V102:$V$122)+SUMPRODUCT(AA102:$AA$122,Q102:$Q$122)*$D$10+SUMPRODUCT(AB102:$AB$122,Q102:$Q$122))/Q102-SUMPRODUCT(AF102:$AF$122,Q102:$Q$122)/Q102-AA102*$D$10*1-AB102*1))","v":0},0,"",{"$error":"#VALUE!"},{"$f":"'SA&Table'!CO2","v":""},0]
["","",{"$f":"IF(B103=\"\",0,VLOOKUP(B103,'Mortality&Morbidity'!AB:AC,2,FALSE)/1000)","v":0},0,0,0,0,0,0,{"$error":"#VALUE!"},0,0,0,0,0,0,0,{"$f":"IF(B102=\"\",0,SUM(Q103:$Q$122))","v":0},null,null,null,0,0,0,"",{"$f":"IF(B103=\"\",0,GP!Z103)","v":0},{"$f":"IF(OR(A103=107,B103=\"\"),0,GP!AA103)","v":0},{"$f":"IF(B103=\"\",0,GP!AB103)","v":0},{"$f":"IF(B103=\"\",0,VLOOKUP(A103,'Mortality&Morbidity'!$BE$37:$BG$42,3,TRUE)*Y103)","v":0},null,null,0,{"$f":"IF(OR(A103=\"\",A103=BP+1),0,IF(A103=1,0,(SUMPRODUCT(Z103:$Z$122,V103:$V$122)+SUMPRODUCT(AA103:$AA$122,Q103:$Q$122)*$D$10+SUMPRODUCT(AB103:$AB$122,Q103:$Q$122))/Q103-SUMPRODUCT(AF103:$AF$122,Q103:$Q$122)/Q103-AA103*$D$10*1-AB103*1))","v":0},0,"",{"$error":"#VALUE!"},{"$f":"'SA&Table'!CP2","v":""},0]
["","",{"$f":"IF(B104=\"\",0,VLOOKUP(B104,'Mortality&Morbidity'!AB:AC,2,FALSE)/1000)","v":0},0,0,0,0,0,0,{"$error":"#VALUE!"},0,0,0,0,0,0,0,{"$f":"IF(B103=\"\",0,SUM(Q104:$Q$122))","v":0},null,null,null,0,0,0,"",{"$f":"IF(B104=\"\",0,GP!Z104)","v":0},{"$f":"IF(OR(A104=107,B104=\"\"),0,GP!AA104)","v":0},{"$f":"IF(B104=\"\",0,GP!AB104)","v":0},{"$f":"IF(B104=\"\",0,VLOOKUP(A104,'Mortality&Morbidity'!$BE$37:$BG$42,3,TRUE)*Y104)","v":0},null,null,0,{"$f":"IF(OR(A104=\"\",A104=BP+1),0,IF(A104=1,0,(SUMPRODUCT(Z104:$Z$122,V104:$V$122)+SUMPRODUCT(AA104:$AA$122,Q104:$Q$122)*$D$10+SUMPRODUCT(AB104:$AB$122,Q104:$Q$122))/Q104-SUMPRODUCT(AF104:$AF$122,Q104:$Q$122)/Q104-AA104*$D$10*1-AB104*1))","v":0},0,"",{"$error":"#VALUE!"},{"$f":"'SA&Table'!CQ2","v":""},0]
["","",{"$f":"IF(B105=\"\",0,VLOOKUP(B105,'Mortality&Morbidity'!AB:AC,2,FALSE)/1000)","v":0},0,0,0,0,0,0,{"$error":"#VALUE!"},0,0,0,0,0,0,0,{"$f":"IF(B104=\"\",0,SUM(Q105:$Q$122))","v":0},null,null,null,0,0,0,"",{"$f":"IF(B105=\"\",0,GP!Z105)","v":0},{"$f":"IF(OR(A105=107,B105=\"\"),0,GP!AA105)","v":0},{"$f":"IF(B105=\"\",0,GP!AB105)","v":0},{"$f":"IF(B105=\"\",0,VLOOKUP(A105,'Mortality&Morbidity'!$BE$37:$BG$42,3,TRUE)*Y105)","v":0},null,null,0,{"$f":"IF(OR(A105=\"\",A105=BP+1),0,IF(A105=1,0,(SUMPRODUCT(Z105:$Z$122,V105:$V$122)+SUMPRODUCT(AA105:$AA$122,Q105:$Q$122)*$D$10+SUMPRODUCT(AB105:$AB$122,Q105:$Q$122))/Q105-SUMPRODUCT(AF105:$AF$122,Q105:$Q$122)/Q105-AA105*$D$10*1-AB105*1))","v":0},0,"",{"$error":"#VALUE!"},{"$f":"'SA&Table'!CR2","v":""},0]
["","",{"$f":"IF(B106=\"\",0,VLOOKUP(B106,'Mortality&Morbidity'!AB:AC,2,FALSE)/1000)","v":0},0,0,0,0,0,0,{"$error":"#VALUE!"},0,0,0,0,0,0,0,{"$f":"IF(B105=\"\",0,SUM(Q106:$Q$122))","v":0},null,null,null,0,0,0,"",{"$f":"IF(B106=\"\",0,GP!Z106)","v":0},{"$f":"IF(OR(A106=107,B106=\"\"),0,GP!AA106)","v":0},{"$f":"IF(B106=\"\",0,GP!AB106)","v":0},{"$f":"IF(B106=\"\",0,VLOOKUP(A106,'Mortality&Morbidity'!$BE$37:$BG$42,3,TRUE)*Y106)","v":0},null,null,0,{"$f":"IF(OR(A106=\"\",A106=BP+1),0,IF(A106=1,0,(SUMPRODUCT(Z106:$Z$122,V106:$V$122)+SUMPRODUCT(AA106:$AA$122,Q106:$Q$122)*$D$10+SUMPRODUCT(AB106:$AB$122,Q106:$Q$122))/Q106-SUMPRODUCT(AF106:$AF$122,Q106:$Q$122)/Q106-AA106*$D$10*1-AB106*1))","v":0},0,"",{"$error":"#VALUE!"},{"$f":"'SA&Table'!CS2","v":""},0]
["","",{"$f":"IF(B107=\"\",0,VLOOKUP(B107,'Mortality&Morbidity'!AB:AC,2,FALSE)/1000)","v":0},0,0,0,0,0,0,{"$error":"#VALUE!"},0,0,0,0,0,0,0,{"$f":"IF(B106=\"\",0,SUM(Q107:$Q$122))","v":0},null,null,null,0,0,0,"",{"$f":"IF(B107=\"\",0,GP!Z107)","v":0},{"$f":"IF(OR(A107=107,B107=\"\"),0,GP!AA107)","v":0},{"$f":"IF(B107=\"\",0,GP!AB107)","v":0},{"$f":"IF(B107=\"\",0,VLOOKUP(A107,'Mortality&Morbidity'!$BE$37:$BG$42,3,TRUE)*Y107)","v":0},null,null,0,{"$f":"IF(OR(A107=\"\",A107=BP+1),0,IF(A107=1,0,(SUMPRODUCT(Z107:$Z$122,V107:$V$122)+SUMPRODUCT(AA107:$AA$122,Q107:$Q$122)*$D$10+SUMPRODUCT(AB107:$AB$122,Q107:$Q$122))/Q107-SUMPRODUCT(AF107:$AF$122,Q107:$Q$122)/Q107-AA107*$D$10*1-AB107*1))","v":0},0,"",{"$error":"#VALUE!"},{"$f":"'SA&Table'!CT2","v":""},0]
["","",{"$f":"IF(B108=\"\",0,VLOOKUP(B108,'Mortality&Morbidity'!AB:AC,2,FALSE)/1000)","v":0},0,0,0,0,0,0,{"$error":"#VALUE!"},0,0,0,0,0,0,0,{"$f":"IF(B107=\"\",0,SUM(Q108:$Q$122))","v":0},null,null,null,0,0,0,"",{"$f":"IF(B108=\"\",0,GP!Z108)","v":0},{"$f":"IF(OR(A108=107,B108=\"\"),0,GP!AA108)","v":0},{"$f":"IF(B108=\"\",0,GP!AB108)","v":0},{"$f":"IF(B108=\"\",0,VLOOKUP(A108,'Mortality&Morbidity'!$BE$37:$BG$42,3,TRUE)*Y108)","v":0},null,null,0,{"$f":"IF(OR(A108=\"\",A108=BP+1),0,IF(A108=1,0,(SUMPRODUCT(Z108:$Z$122,V108:$V$122)+SUMPRODUCT(AA108:$AA$122,Q108:$Q$122)*$D$10+SUMPRODUCT(AB108:$AB$122,Q108:$Q$122))/Q108-SUMPRODUCT(AF108:$AF$122,Q108:$Q$122)/Q108-AA108*$D$10*1-AB108*1))","v":0},0,"",{"$error":"#VALUE!"},{"$f":"'SA&Table'!CU2","v":""},0]
["","",{"$f":"IF(B109=\"\",0,VLOOKUP(B109,'Mortality&Morbidity'!AB:AC,2,FALSE)/1000)","v":0},0,0,0,0,0,0,{"$error":"#VALUE!"},0,0,0,0,0,0,0,{"$f":"IF(B108=\"\",0,SUM(Q109:$Q$122))","v":0},null,null,null,0,0,0,"",{"$f":"IF(B109=\"\",0,GP!Z109)","v":0},{"$f":"IF(OR(A109=107,B109=\"\"),0,GP!AA109)","v":0},{"$f":"IF(B109=\"\",0,GP!AB109)","v":0},{"$f":"IF(B109=\"\",0,VLOOKUP(A109,'Mortality&Morbidity'!$BE$37:$BG$42,3,TRUE)*Y109)","v":0},null,null,0,{"$f":"IF(OR(A109=\"\",A109=BP+1),0,IF(A109=1,0,(SUMPRODUCT(Z109:$Z$122,V109:$V$122)+SUMPRODUCT(AA109:$AA$122,Q109:$Q$122)*$D$10+SUMPRODUCT(AB109:$AB$122,Q109:$Q$122))/Q109-SUMPRODUCT(AF109:$AF$122,Q109:$Q$122)/Q109-AA109*$D$10*1-AB109*1))","v":0},0,"",{"$error":"#VALUE!"},{"$f":"'SA&Table'!CV2","v":""},0]
["","",{"$f":"IF(B110=\"\",0,VLOOKUP(B110,'Mortality&Morbidity'!AB:AC,2,FALSE)/1000)","v":0},0,0,0,0,0,0,{"$error":"#VALUE!"},0,0,0,0,0,0,0,{"$f":"IF(B109=\"\",0,SUM(Q110:$Q$122))","v":0},null,null,null,0,0,0,"",{"$f":"IF(B110=\"\",0,GP!Z110)","v":0},{"$f":"IF(OR(A110=107,B110=\"\"),0,GP!AA110)","v":0},{"$f":"IF(B110=\"\",0,GP!AB110)","v":0},{"$f":"IF(B110=\"\",0,VLOOKUP(A110,'Mortality&Morbidity'!$BE$37:$BG$42,3,TRUE)*Y110)","v":0},null,null,0,{"$f":"IF(OR(A110=\"\",A110=BP+1),0,IF(A110=1,0,(SUMPRODUCT(Z110:$Z$122,V110:$V$122)+SUMPRODUCT(AA110:$AA$122,Q110:$Q$122)*$D$10+SUMPRODUCT(AB110:$AB$122,Q110:$Q$122))/Q110-SUMPRODUCT(AF110:$AF$122,Q110:$Q$122)/Q110-AA110*$D$10*1-AB110*1))","v":0},0,"",{"$error":"#VALUE!"},{"$f":"'SA&Table'!CW2","v":""},0]
["","",{"$f":"IF(B111=\"\",0,VLOOKUP(B111,'Mortality&Morbidity'!AB:AC,2,FALSE)/1000)","v":0},0,0,0,0,0,0,{"$error":"#VALUE!"},0,0,0,0,0,0,0,{"$f":"IF(B110=\"\",0,SUM(Q111:$Q$122))","v":0},null,null,null,0,0,0,"",{"$f":"IF(B111=\"\",0,GP!Z111)","v":0},{"$f":"IF(OR(A111=107,B111=\"\"),0,GP!AA111)","v":0},{"$f":"IF(B111=\"\",0,GP!AB111)","v":0},{"$f":"IF(B111=\"\",0,VLOOKUP(A111,'Mortality&Morbidity'!$BE$37:$BG$42,3,TRUE)*Y111)","v":0},null,null,0,{"$f":"IF(OR(A111=\"\",A111=BP+1),0,IF(A111=1,0,(SUMPRODUCT(Z111:$Z$122,V111:$V$122)+SUMPRODUCT(AA111:$AA$122,Q111:$Q$122)*$D$10+SUMPRODUCT(AB111:$AB$122,Q111:$Q$122))/Q111-SUMPRODUCT(AF111:$AF$122,Q111:$Q$122)/Q111-AA111*$D$10*1-AB111*1))","v":0},0,"",{"$error":"#VALUE!"},{"$f":"'SA&Table'!CX2","v":""},0]
["","",{"$f":"IF(B112=\"\",0,VLOOKUP(B112,'Mortality&Morbidity'!AB:AC,2,FALSE)/1000)","v":0},0,0,0,0,0,0,{"$error":"#VALUE!"},0,0,{"$f":"IF(B112=\"\",0,D112*L112)","v":0},{"$f":"IF(B112=\"\",0,F112*L112)","v":0},0,0,{"$f":"IF(A112>BP+1,0,J112*L112)","v":0},{"$f":"IF(B111=\"\",0,SUM(Q112:$Q$122))","v":0},null,null,null,0,{"$f":"IF(B112=\"\",0,IF(A112=1,J113*O112/2*$G$8,J113*O112*$G$6))","v":0},{"$f":"IF(B112=\"\",0,J113*P112*$G$6)","v":0},{"$f":"IF(B112=\"\",\"\",IF(A112<=PPP,1,0))","v":""},{"$f":"IF(B112=\"\",0,GP!Z112)","v":0},{"$f":"IF(OR(A112=107,B112=\"\"),0,GP!AA112)","v":0},{"$f":"IF(B112=\"\",0,GP!AB112)","v":0},{"$f":"IF(B112=\"\",0,VLOOKUP(A112,'Mortality&Morbidity'!$BE$37:$BG$42,3,TRUE)*Y112)","v":0},null,null,{"$f":"IF(B112=\"\",0,$O$4*(1-AC112)*(A112<=PPP))","v":0},{"$f":"IF(OR(A112=\"\",A112=BP+1),0,IF(A112=1,0,(SUMPRODUCT(Z112:$Z$122,V112:$V$122)+SUMPRODUCT(AA112:$AA$122,Q112:$Q$122)*$D$10+SUMPRODUCT(AB112:$AB$122,Q112:$Q$122))/Q112-SUMPRODUCT(AF112:$AF$122,Q112:$Q$122)/Q112-AA112*$D$10*1-AB112*1))","v":0},0,"",{"$error":"#VALUE!"},{"$f":"'SA&Table'!CY2","v":""},0]
[{"$f":"IF(A112=\"\",\"\",IF(A112<BP,A112+1,\"\"))","v":""},"",{"$f":"IF(B113=\"\",0,VLOOKUP(B113,'Mortality&Morbidity'!AB:AC,2,FALSE)/1000)","v":0},0,0,0,0,0,0,{"$error":"#VALUE!"},0,{"$f":"IF(B112=\"\",0,L112*K112)","v":0},0,0,0,0,0,{"$f":"IF(B112=\"\",0,SUM(Q113:$Q$122))","v":0},null,null,null,0,0,0,"",{"$f":"IF(B113=\"\",0,GP!Z113)","v":0},{"$f":"IF(OR(A113=107,B113=\"\"),0,GP!AA113)","v":0},{"$f":"IF(B113=\"\",0,GP!AB113)","v":0},{"$f":"IF(B113=\"\",0,VLOOKUP(A113,'Mortality&Morbidity'!$BE$37:$BG$42,3,TRUE)*Y113)","v":0},null,null,0,{"$f":"IF(OR(A113=\"\",A113=BP+1),0,IF(A113=1,0,(SUMPRODUCT(Z113:$Z$122,V113:$V$122)+SUMPRODUCT(AA113:$AA$122,Q113:$Q$122)*$D$10+SUMPRODUCT(AB113:$AB$122,Q113:$Q$122))/Q113-SUMPRODUCT(AF113:$AF$122,Q113:$Q$122)/Q113-AA113*$D$10*1-AB113*1))","v":0},0,"",{"$error":"#VALUE!"},{"$f":"'SA&Table'!CZ2","v":""},0]
["","",{"$f":"IF(B114=\"\",0,VLOOKUP(B114,'Mortality&Morbidity'!AB:AC,2,FALSE)/1000)","v":0},0,0,0,0,0,0,{"$error":"#VALUE!"},0,0,0,0,0,0,0,{"$f":"IF(B113=\"\",0,SUM(Q114:$Q$122))","v":0},null,null,null,0,0,0,"",{"$f":"IF(B114=\"\",0,GP!Z114)","v":0},{"$f":"IF(OR(A114=107,B114=\"\"),0,GP!AA114)","v":0},{"$f":"IF(B114=\"\",0,GP!AB114)","v":0},{"$f":"IF(B114=\"\",0,VLOOKUP(A114,'Mortality&Morbidity'!$BE$37:$BG$42,3,TRUE)*Y114)","v":0},null,null,0,{"$f":"IF(OR(A114=\"\",A114=BP+1),0,IF(A114=1,0,(SUMPRODUCT(Z114:$Z$122,V114:$V$122)+SUMPRODUCT(AA114:$AA$122,Q114:$Q$122)*$D$10+SUMPRODUCT(AB114:$AB$122,Q114:$Q$122))/Q114-SUMPRODUCT(AF114:$AF$122,Q114:$Q$122)/Q114-AA114*$D$10*1-AB114*1))","v":0},0,"",{"$error":"#VALUE!"},{"$f":"'SA&Table'!DA2","v":""},0]
["","",{"$f":"IF(B115=\"\",0,VLOOKUP(B115,'Mortality&Morbidity'!AB:AC,2,FALSE)/1000)","v":0},0,0,0,0,0,0,{"$error":"#VALUE!"},0,0,0,0,0,0,0,{"$f":"IF(B114=\"\",0,SUM(Q115:$Q$122))","v":0},null,null,null,0,0,0,"",{"$f":"IF(B115=\"\",0,GP!Z115)","v":0},{"$f":"IF(OR(A115=107,B115=\"\"),0,GP!AA115)","v":0},{"$f":"IF(B115=\"\",0,GP!AB115)","v":0},{"$f":"IF(B115=\"\",0,VLOOKUP(A115,'Mortality&Morbidity'!$BE$37:$BG$42,3,TRUE)*Y115)","v":0},null,null,0,{"$f":"IF(OR(A115=\"\",A115=BP+1),0,IF(A115=1,0,(SUMPRODUCT(Z115:$Z$122,V115:$V$122)+SUMPRODUCT(AA115:$AA$122,Q115:$Q$122)*$D$10+SUMPRODUCT(AB115:$AB$122,Q115:$Q$122))/Q115-SUMPRODUCT(AF115:$AF$122,Q115:$Q$122)/Q115-AA115*$D$10*1-AB115*1))","v":0},0,"",{"$error":"#VALUE!"},{"$f":"'SA&Table'!DB2","v":""},0]
["","",{"$f":"IF(B116=\"\",0,VLOOKUP(B116,'Mortality&Morbidity'!AB:AC,2,FALSE)/1000)","v":0},0,0,0,0,0,0,{"$error":"#VALUE!"},0,0,0,0,0,0,0,{"$f":"IF(B115=\"\",0,SUM(Q116:$Q$122))","v":0},null,null,null,0,0,0,"",{"$f":"IF(B116=\"\",0,GP!Z116)","v":0},{"$f":"IF(OR(A116=107,B116=\"\"),0,GP!AA116)","v":0},{"$f":"IF(B116=\"\",0,GP!AB116)","v":0},{"$f":"IF(B116=\"\",0,VLOOKUP(A116,'Mortality&Morbidity'!$BE$37:$BG$42,3,TRUE)*Y116)","v":0},null,null,0,{"$f":"IF(OR(A116=\"\",A116=BP+1),0,IF(A116=1,0,(SUMPRODUCT(Z116:$Z$122,V116:$V$122)+SUMPRODUCT(AA116:$AA$122,Q116:$Q$122)*$D$10+SUMPRODUCT(AB116:$AB$122,Q116:$Q$122))/Q116-SUMPRODUCT(AF116:$AF$122,Q116:$Q$122)/Q116-AA116*$D$10*1-AB116*1))","v":0},0,"",{"$error":"#VALUE!"},{"$f":"'SA&Table'!DC2","v":""},0]
["","",{"$f":"IF(B117=\"\",0,VLOOKUP(B117,'Mortality&Morbidity'!AB:AC,2,FALSE)/1000)","v":0},0,0,0,0,0,0,{"$error":"#VALUE!"},0,0,0,0,0,0,0,{"$f":"IF(B116=\"\",0,SUM(Q117:$Q$122))","v":0},null,null,null,0,0,0,"",{"$f":"IF(B117=\"\",0,GP!Z117)","v":0},{"$f":"IF(OR(A117=107,B117=\"\"),0,GP!AA117)","v":0},{"$f":"IF(B117=\"\",0,GP!AB117)","v":0},{"$f":"IF(B117=\"\",0,VLOOKUP(A117,'Mortality&Morbidity'!$BE$37:$BG$42,3,TRUE)*Y117)","v":0},null,null,0,{"$f":"IF(OR(A117=\"\",A117=BP+1),0,IF(A117=1,0,(SUMPRODUCT(Z117:$Z$122,V117:$V$122)+SUMPRODUCT(AA117:$AA$122,Q117:$Q$122)*$D$10+SUMPRODUCT(AB117:$AB$122,Q117:$Q$122))/Q117-SUMPRODUCT(AF117:$AF$122,Q117:$Q$122)/Q117-AA117*$D$10*1-AB117*1))","v":0},0,"",{"$error":"#VALUE!"},{"$f":"'SA&Table'!DD2","v":""},0]
["","",{"$f":"IF(B118=\"\",0,VLOOKUP(B118,'Mortality&Morbidity'!AB:AC,2,FALSE)/1000)","v":0},0,0,0,0,0,0,{"$error":"#VALUE!"},0,0,0,0,0,0,0,{"$f":"IF(B117=\"\",0,SUM(Q118:$Q$122))","v":0},null,null,null,0,0,0,"",{"$f":"IF(B118=\"\",0,GP!Z118)","v":0},{"$f":"IF(OR(A118=107,B118=\"\"),0,GP!AA118)","v":0},{"$f":"IF(B118=\"\",0,GP!AB118)","v":0},{"$f":"IF(B118=\"\",0,VLOOKUP(A118,'Mortality&Morbidity'!$BE$37:$BG$42,3,TRUE)*Y118)","v":0},null,null,0,{"$f":"IF(OR(A118=\"\",A118=BP+1),0,IF(A118=1,0,(SUMPRODUCT(Z118:$Z$122,V118:$V$122)+SUMPRODUCT(AA118:$AA$122,Q118:$Q$122)*$D$10+SUMPRODUCT(AB118:$AB$122,Q118:$Q$122))/Q118-SUMPRODUCT(AF118:$AF$122,Q118:$Q$122)/Q118-AA118*$D$10*1-AB118*1))","v":0},0,"",{"$error":"#VALUE!"},{"$f":"'SA&Table'!DE2","v":""},0]
["","",{"$f":"IF(B119=\"\",0,VLOOKUP(B119,'Mortality&Morbidity'!AB:AC,2,FALSE)/1000)","v":0},0,0,0,0,0,0,{"$error":"#VALUE!"},0,0,0,0,0,0,0,{"$f":"IF(B118=\"\",0,SUM(Q119:$Q$122))","v":0},null,null,null,0,0,0,"",{"$f":"IF(B119=\"\",0,GP!Z119)","v":0},{"$f":"IF(OR(A119=107,B119=\"\"),0,GP!AA119)","v":0},{"$f":"IF(B119=\"\",0,GP!AB119)","v":0},{"$f":"IF(B119=\"\",0,VLOOKUP(A119,'Mortality&Morbidity'!$BE$37:$BG$42,3,TRUE)*Y119)","v":0},null,null,0,{"$f":"IF(OR(A119=\"\",A119=BP+1),0,IF(A119=1,0,(SUMPRODUCT(Z119:$Z$122,V119:$V$122)+SUMPRODUCT(AA119:$AA$122,Q119:$Q$122)*$D$10+SUMPRODUCT(AB119:$AB$122,Q119:$Q$122))/Q119-SUMPRODUCT(AF119:$AF$122,Q119:$Q$122)/Q119-AA119*$D$10*1-AB119*1))","v":0},0,"",{"$error":"#VALUE!"},{"$f":"'SA&Table'!DF2","v":""},0]
["","",{"$f":"IF(B120=\"\",0,VLOOKUP(B120,'Mortality&Morbidity'!AB:AC,2,FALSE)/1000)","v":0},0,0,0,0,0,0,{"$error":"#VALUE!"},0,0,0,0,0,0,0,{"$f":"IF(B119=\"\",0,SUM(Q120:$Q$122))","v":0},null,null,null,0,0,0,"",{"$f":"IF(B120=\"\",0,GP!Z120)","v":0},{"$f":"IF(OR(A120=107,B120=\"\"),0,GP!AA120)","v":0},{"$f":"IF(B120=\"\",0,GP!AB120)","v":0},{"$f":"IF(B120=\"\",0,VLOOKUP(A120,'Mortality&Morbidity'!$BE$37:$BG$42,3,TRUE)*Y120)","v":0},null,null,0,{"$f":"IF(OR(A120=\"\",A120=BP+1),0,IF(A120=1,0,(SUMPRODUCT(Z120:$Z$122,V120:$V$122)+SUMPRODUCT(AA120:$AA$122,Q120:$Q$122)*$D$10+SUMPRODUCT(AB120:$AB$122,Q120:$Q$122))/Q120-SUMPRODUCT(AF120:$AF$122,Q120:$Q$122)/Q120-AA120*$D$10*1-AB120*1))","v":0},0,"",{"$error":"#VALUE!"},{"$f":"'SA&Table'!DG2","v":""},0]
["","",{"$f":"IF(B121=\"\",0,VLOOKUP(B121,'Mortality&Morbidity'!AB:AC,2,FALSE)/1000)","v":0},0,0,0,0,0,0,{"$error":"#VALUE!"},0,0,0,0,0,0,0,{"$f":"IF(B120=\"\",0,SUM(Q121:$Q$122))","v":0},null,null,null,0,0,0,"",{"$f":"IF(B121=\"\",0,GP!Z121)","v":0},{"$f":"IF(OR(A121=107,B121=\"\"),0,GP!AA121)","v":0},{"$f":"IF(B121=\"\",0,GP!AB121)","v":0},{"$f":"IF(B121=\"\",0,VLOOKUP(A121,'Mortality&Morbidity'!$BE$37:$BG$42,3,TRUE)*Y121)","v":0},null,null,0,{"$f":"IF(OR(A121=\"\",A121=BP+1),0,IF(A121=1,0,(SUMPRODUCT(Z121:$Z$122,V121:$V$122)+SUMPRODUCT(AA121:$AA$122,Q121:$Q$122)*$D$10+SUMPRODUCT(AB121:$AB$122,Q121:$Q$122))/Q121-SUMPRODUCT(AF121:$AF$122,Q121:$Q$122)/Q121-AA121*$D$10*1-AB121*1))","v":0},0,"",{"$error":"#VALUE!"},{"$f":"'SA&Table'!DH2","v":""},0]
["","",{"$f":"IF(B122=\"\",0,VLOOKUP(B122,'Mortality&Morbidity'!AB:AC,2,FALSE)/1000)","v":0},0,0,0,0,0,0,{"$error":"#VALUE!"},0,0,0,0,0,0,0,{"$f":"IF(B121=\"\",0,SUM(Q122:$Q$122))","v":0},null,null,null,0,0,0,"",{"$f":"IF(B122=\"\",0,GP!Z122)","v":0},{"$f":"IF(OR(A122=107,B122=\"\"),0,GP!AA122)","v":0},{"$f":"IF(B122=\"\",0,GP!AB122)","v":0},{"$f":"IF(B122=\"\",0,VLOOKUP(A122,'Mortality&Morbidity'!$BE$37:$BG$42,3,TRUE)*Y122)","v":0},null,null,0,{"$f":"IF(OR(A122=\"\",A122=BP+1),0,IF(A122=1,0,(SUMPRODUCT(Z122:$Z$122,V122:$V$122)+SUMPRODUCT(AA122:$AA$122,Q122:$Q$122)*$D$10+SUMPRODUCT(AB122:$AB$122,Q122:$Q$122))/Q122-SUMPRODUCT(AF122:$AF$122,Q122:$Q$122)/Q122-AA122*$D$10*1-AB122*1))","v":0},0,"",{"$error":"#VALUE!"},{"$f":"'SA&Table'!DI2","v":""},0]

{"sheet":"Reserve","index":13,"n_rows":122,"n_cols":60,"rows_kept":122,"cut":false,"hidden":true,"merged":[[13,33,13,38]]}
[]
[null,null,null,null,null,null,null,null,null,null,null,null,null,null,null,null,null,null,null,null,null,null,null,null,null,null,null,null,null,null,null,"基本死亡保险金额",{"$f":"SUMPRODUCT(Z16:Z122,Q16:Q122)/(R16-LOOKUP(BP+1,A:A,R:R))","v":8396.36693009883}]
[null,null,"Basic Info",null,null,"Res Int Rate",null,null,null,null,null,null,"Pricing basis",null,null,null,null,null,null,null,null,null,"PVFB",null,null,null,null,null,null,null,null,"费用扣除额 EA",{"$f":"3.5%*AG2","v":293.872842553459}]
[null,null,"Insured Age",{"$f":"Age","v":30},null,"i",{"$f":"Assumption!C19","v":0.025},null,null,null,null,"GP",{"$f":"GP!N1","v":1000},null,null,null,null,null,null,null,null,"Death",{"$f":"SUMPRODUCT(Z16:Z122,V16:V122)/Q16","v":1916.20430008378},null,null,null,null,null,null,null,null,null,"FPT","Zillmer"]
[null,null,"Insured Sex",{"$f":"Sex","v":"M"},null,"v",{"$f":"1/(1+G4)","v":0.975609756097561},null,null,null,null,"NP",{"$f":"GP!N6","v":841.315955985012},null,null,null,null,null,null,null,null,"Annuity",{"$f":"SUMPRODUCT(AA16:AA122,Q16:Q122)*$D$10/Q16","v":3273.90374147521},null,null,null,null,null,null,null,null,null,{"$f":"IF(PPP=1,(SUMPRODUCT(V16:V122,Z16:Z122)+SUMPRODUCT(Q16:Q122,AA16:AA122)*$D$10+SUMPRODUCT(Q16:Q122,AB16:AB122))/Q16,(V16*Z16+AA16*Q16*$D$10+Q16*AB16)/Q16)","v":0.402005945836383},{"$f":"MAX(AG5,AG8-AG3)","v":544.922302739312}]
[null,null,null,null,null,"v-1/2",{"$f":"$G$5^(-1/2)","v":1.01242283656583},null,null,null,null,null,null,null,null,null,null,null,null,null,null,"Annuity",{"$f":"SUMPRODUCT(AB16:AB122,Q16:Q122)/Q16","v":2318.41684044067},null,null,null,null,null,null,null,null,null,{"$f":"IF(PPP=1,0,(AG8*W8-AG5)/(W8-1))","v":944.23271516321},{"$f":"IF(PPP=1,0,(AH8*W8-AH5)/(W8-1))","v":875.753031653686}]
[null,null,null,null,null,"v-3/4",{"$f":"$G$5^(-3/4)","v":1.01869200815554},null,null,null,null,null,null,null,null,null,null,null,null,null,null,null,null,null,null,null,null,null,null,null,null,null,{"$f":"MIN(M4,AG6)","v":944.23271516321}]
[null,null,"PPP",{"$f":"PPP","v":10},null,"v-1/4",{"$f":"$G$5^(-1/4)","v":1.00619224632564},null,null,null,null,null,null,null,null,null,null,null,null,null,null,"ax:n",{"$f":"(R16-LOOKUP(PPP+1,A:A,R:R))/Q16","v":8.95155977491847},null,null,null,null,null,null,null,null,"NP",{"$f":"SUM(W4:W6)/W8","v":838.795145292771},{"$f":"AG8","v":838.795145292771}]
[null,null,"BP",{"$f":"BP","v":76}]
[null,null,"Unit",{"$f":"GP!N2","v":578}]
[]
[null,null,null,null,null,null,null,null,null,null,null,null,null,null,null,null,null,null,null,null,null,null,null,null,null,null,null,null,null,null,null,"Annual"]
[null,null,null,null,null,null,null,null,null,null,null,null,null,null,null,null,null,null,null,null,null,null,null,null,"Sum Assured",null,null,null,null,null,null,"Base",null,null,null,null,null,null,null,null,null,null,null,null,null,null,null,null,null,null,"当年度红利",null,null,"红利累积生息",null,null,null,"偿二：新EV负债"]
[null,null,null,null,null,null,null,null,null,null,null,null,null,null,null,null,null,null,null,null,null,null,null,null,null,null,null,null,null,null,null,null,"APV of FP","APV of Future Benefit",null,null,null,null,null,null,null,null,null,null,null,"合理估计假设",null,null,null,null,0.025,0.045,0.06,null,null,null,null,0.045]
["policy yr","age","qx(Death)","ix(CI)","kx(CI)","qx(Death w/o CI)","mx(MinorCI)","qx(TPD WP)","mx(MCI WP)","vx","px(Death&CI)","lx(Death&CI)","dx(CI)","dx(Death)","dx(SpecificCA)","dx(ADD)","Dx(Death&CI)","Nx(Death&CI)",null,null,null,"Cx身故","Cx(SpecificCA)","Cx(ADD)","PPP","身故保险金\n（期末）","生存保险金\n基本保额\n（期初）","生存保险金\n年度保费\n（期初）",null,null,null,"修正净保费","PV NP",null,null,"身故保险金","生存金","生存金",null,"修正Rsv","保费不足Rsv","Rsv(修正+保费不足)","Min CSV\n含生存金","Stat Rsv","Stat Rsv\n不含生存金","利差\n(合理估计假设)","死差","费差","利差\n(不利情景)",null,"利差\n(低档)","利差\n(中档)","利差\n(高档)","利差\n(低档)","利差\n(中档)","利差\n(高档)",null,"利差\n(合理估计假设)","Stat Rsv\n不含生存金\n读表","身故保险金 - 准备金"]
[1,{"$f":"Age","v":30},{"$f":"IF(B16=\"\",0,VLOOKUP(B16,'Mortality&Morbidity'!AB:AJ,9,FALSE)/1000)","v":0.000407},{"$f":"IF(B16=\"\",0,0)","v":0},{"$f":"IF(B16=\"\",0,0)","v":0},{"$f":"IF(B16=\"\",0,IF(B16=105,1-D16,(1-E16)*C16))","v":0.000407},{"$f":"IF(B16=\"\",0,0/1000)","v":0},{"$f":"IF(B16=\"\",0,0/1000)","v":0},{"$f":"IF(B16=\"\",0,0/1000)","v":0},{"$f":"IF(A16=1,1,$G$5^(A15))","v":1},{"$f":"IF(B16=\"\",0,1-D16-F16)","v":0.999593},1000,{"$f":"IF(B16=\"\",0,D16*L16)","v":0},{"$f":"IF(B16=\"\",0,F16*L16)","v":0.407},{"$f":"IF(B16=\"\",0,0)","v":0},{"$f":"IF(B16=\"\",0,0)","v":0},{"$f":"IF(A16>BP+1,0,J16*L16)","v":1000},{"$f":"IF(B15=\"\",0,SUM(Q16:$Q$122))","v":29704.707421713},null,null,null,{"$f":"IF(B16=\"\",0,IF(A16=1,J17*N16*$G$6,J17*N16*$G$6))","v":0.402005945836383},{"$f":"IF(B16=\"\",0,IF(A16=1,J17*O16/2*$G$8,J17*O16*$G$6))","v":0},{"$f":"IF(B16=\"\",0,J17*P16*$G$6)","v":0},{"$f":"IF(B16=\"\",\"\",IF(A16<=PPP,1,0))","v":1},{"$f":"IF(B16=\"\",0,GP!Z16)","v":1000},{"$f":"IF(B16=\"\",0,GP!AA16)","v":0},{"$f":"IF(B16=\"\",0,GP!AB16)","v":0},null,null,null,{"$f":"IF(B16=\"\",0,IF(A16=1,$AH$5,IF(A16>PPP,0,$AH$6)))","v":544.922302739312},{"$f":"IF(A16>PPP,0,SUMPRODUCT(AF16:$AF$122,Q16:$Q$122)/Q16)","v":7508.52488199967},null,null,{"$f":"IF(B16=\"\",0,IF(B16=106,0,SUMPRODUCT(Z16:$Z$122,V16:$V$122)/Q16))","v":1916.20430008378},{"$f":"IF(B16=\"\",0,IF(B16=106,0,SUMPRODUCT(AA16:$AA$122,Q16:$Q$122)*$D$10/Q16))","v":3273.90374147521},{"$f":"IF(B16=\"\",0,IF(B16=106,0,SUMPRODUCT(AB16:$AB$122,Q16:$Q$122)/Q16))","v":2318.41684044067},null,{"$f":"SUM(AJ16:AL16)-AG16","v":-1.00044417195022e-11},{"$f":"IF(B16=\"\",0,IF(B16=106,0,IF(A16=1,0,MAX($AH$6-$M$4,0)*(R16-LOOKUP(PPP+1,A:A,R:R))/Q16)*(A16<=PPP)))","v":0},{"$f":"MAX(AN16+AO16,0)","v":0},{"$f":"CSV!AJ16","v":0},{"$f":"ROUND(MAX(AP16,AQ16),1000)","v":0},{"$f":"IF(B16=\"\",0,AR16-AA16*$D$10-AB16)","v":0},null,{"$f":"IF(B16=\"\",0,0)","v":0},{"$f":"IF(B16=\"\",0,0)","v":0}]
[{"$f":"IF(A16=\"\",\"\",IF(A16<BP,A16+1,\"\"))","v":2},{"$f":"IF(A17=\"\",\"\",B16+1)","v":31},{"$f":"IF(B17=\"\",0,VLOOKUP(B17,'Mortality&Morbidity'!AB:AJ,9,FALSE)/1000)","v":0.000438},{"$f":"IF(B17=\"\",0,0)","v":0},{"$f":"IF(B17=\"\",0,0)","v":0},{"$f":"IF(B17=\"\",0,IF(B17=105,1-D17,(1-E17)*C17))","v":0.000438},{"$f":"IF(B17=\"\",0,0/1000)","v":0},{"$f":"IF(B17=\"\",0,0/1000)","v":0},{"$f":"IF(B17=\"\",0,0/1000)","v":0},{"$f":"IF(A17=1,1,$G$5^(A16))","v":0.975609756097561},{"$f":"IF(B17=\"\",0,1-D17-F17)","v":0.999562},{"$f":"IF(B16=\"\",0,L16*K16)","v":999.593},0,0.437821734,{"$f":"IF(B17=\"\",0,0)","v":0},{"$f":"IF(B17=\"\",0,0)","v":0},{"$f":"IF(A17>BP+1,0,J17*L17)","v":975.212682926829},{"$f":"IF(B16=\"\",0,SUM(Q17:$Q$122))","v":28704.707421713},null,null,null,{"$f":"IF(B17=\"\",0,IF(A17=1,J18*N17*$G$6,J18*N17*$G$6))","v":0.421901936320238},0,0,1,{"$f":"IF(B17=\"\",0,GP!Z17)","v":2000},{"$f":"IF(B17=\"\",0,GP!AA17)","v":0},{"$f":"IF(B17=\"\",0,GP!AB17)","v":0},null,null,null,875.753031653686,{"$f":"IF(A17>PPP,0,SUMPRODUCT(AF17:$AF$122,Q17:$Q$122)/Q17)","v":7140.59886748093},null,null,{"$f":"IF(B17=\"\",0,IF(B17=106,0,SUMPRODUCT(Z17:$Z$122,V17:$V$122)/Q17))","v":1964.4969017304},{"$f":"IF(B17=\"\",0,IF(B17=106,0,SUMPRODUCT(AA17:$AA$122,Q17:$Q$122)*$D$10/Q17))","v":3357.11768190863},{"$f":"IF(B17=\"\",0,IF(B17=106,0,SUMPRODUCT(AB17:$AB$122,Q17:$Q$122)/Q17))","v":2377.34484080189},null,{"$f":"SUM(AJ17:AL17)-AG17","v":558.360556959986},0,{"$f":"MAX(AN17+AO17,0)","v":558.360556959986},{"$f":"CSV!AJ17","v":382},{"$f":"ROUND(MAX(AP17,AQ17),1000)","v":558.360556959986},{"$f":"BG17","v":558.360556959994},{"$f":"IF(B16=\"\",0,(AF16+AS16)*(VLOOKUP(A16,#REF!,2,TRUE)-$G$4))","v":{"$error":"#REF!"}},{"$f":"IF(B17=\"\",0,0)","v":0},{"$f":"IF(B17=\"\",0,0)","v":0},{"$f":"IF(B16=\"\",0,(AF16+AS16)*(VLOOKUP(A16,#REF!,2,TRUE)+PAD_Int-$G$4))","v":{"$error":"#REF!"}},null,{"$f":"IF(B16=\"\",\"\",(AF16+AS16)*($AY$14-$G$4))","v":0},{"$f":"IF(B16=\"\",\"\",(AF16+AS16)*($AZ$14-$G$4))","v":10.8984460547862},{"$f":"IF(B16=\"\",\"\",(AF16+AS16)*($BA$14-$G$4))","v":19.0722805958759},{"$f":"IF(ISERROR(BB16*1.03+AY17),\"\",BB16*1.03+AY17)","v":0},{"$f":"IF(ISERROR(BC16*1.03+AZ17),\"\",BC16*1.03+AZ17)","v":10.8984460547862},{"$f":"IF(ISERROR(BD16*1.03+BA17),\"\",BD16*1.03+BA17)","v":19.0722805958759},null,{"$f":"IF(B16=\"\",0,(AF16+AS16)*($BF$14-$G$4))","v":10.8984460547862},{"$f":"'SA&Table'!DL2","v":558.360556959994},{"$f":"IF(B16=\"\",0,Z16-AR17)","v":441.639443040014}]
[3,{"$f":"IF(A18=\"\",\"\",B17+1)","v":32},{"$f":"IF(B18=\"\",0,VLOOKUP(B18,'Mortality&Morbidity'!AB:AJ,9,FALSE)/1000)","v":0.000472},0,0,0.000472,0,0,0,0.951814396192743,0.999528,999.155178266,0,0.471601244141552,0,0,951.010282704105,{"$f":"IF(B17=\"\",0,SUM(Q18:$Q$122))","v":27729.4947387862},null,null,null,0.44336895339001,0,0,1,{"$f":"IF(B18=\"\",0,GP!Z18)","v":3000},{"$f":"IF(B18=\"\",0,GP!AA18)","v":0},{"$f":"IF(B18=\"\",0,GP!AB18)","v":0},null,null,null,875.753031653686,{"$f":"IF(A18>PPP,0,SUMPRODUCT(AF18:$AF$122,Q18:$Q$122)/Q18)","v":6424.28081672065},null,null,{"$f":"IF(B18=\"\",0,IF(B18=106,0,SUMPRODUCT(Z18:$Z$122,V18:$V$122)/Q18))","v":2013.60440059629},{"$f":"IF(B18=\"\",0,IF(B18=106,0,SUMPRODUCT(AA18:$AA$122,Q18:$Q$122)*$D$10/Q18))","v":3442.55346237286},{"$f":"IF(B18=\"\",0,IF(B18=106,0,SUMPRODUCT(AB18:$AB$122,Q18:$Q$122)/Q18))","v":2437.84623847439},null,{"$f":"SUM(AJ18:AL18)-AG18","v":1469.72328472289},0,{"$f":"MAX(AN18+AO18,0)","v":1469.72328472289},{"$f":"CSV!AJ18","v":884},{"$f":"ROUND(MAX(AP18,AQ18),1000)","v":1469.72328472289},{"$f":"BG18","v":1469.7232847229},{"$f":"IF(B17=\"\",0,(AF17+AS17)*(VLOOKUP(A17,#REF!,2,TRUE)-$G$4))","v":{"$error":"#REF!"}},0,0,{"$f":"IF(B17=\"\",0,(AF17+AS17)*(VLOOKUP(A17,#REF!,2,TRUE)+PAD_Int-$G$4))","v":{"$error":"#REF!"}},null,{"$f":"IF(B17=\"\",\"\",(AF17+AS17)*($AY$14-$G$4))","v":0},{"$f":"IF(B17=\"\",\"\",(AF17+AS17)*($AZ$14-$G$4))","v":28.6822717722736},{"$f":"IF(B17=\"\",\"\",(AF17+AS17)*($BA$14-$G$4))","v":50.1939756014788},{"$f":"IF(ISERROR(BB17*1.03+AY18),\"\",BB17*1.03+AY18)","v":0},{"$f":"IF(ISERROR(BC17*1.03+AZ18),\"\",BC17*1.03+AZ18)","v":39.9076712087034},{"$f":"IF(ISERROR(BD17*1.03+BA18),\"\",BD17*1.03+BA18)","v":69.838424615231},null,{"$f":"IF(B17=\"\",0,(AF17+AS17)*($BF$14-$G$4))","v":28.6822717722736},{"$f":"'SA&Table'!DM2","v":1469.7232847229},{"$f":"IF(B17=\"\",0,Z17-AR18)","v":530.27671527711}]
[4,33,{"$f":"IF(B19=\"\",0,VLOOKUP(B19,'Mortality&Morbidity'!AB:AJ,9,FALSE)/1000)","v":0.000509},0,0,0.000509,0,0,0,0.928599410919749,0.999491,998.683577021858,0,0.508329940704126,0,0,927.376981317725,{"$f":"IF(B18=\"\",0,SUM(Q19:$Q$122))","v":26778.4844560821},null,null,null,0.466242825074827,0,0,1,{"$f":"IF(B19=\"\",0,GP!Z19)","v":4000},{"$f":"IF(B19=\"\",0,GP!AA19)","v":0},{"$f":"IF(B19=\"\",0,GP!AB19)","v":0},null,null,null,875.753031653686,{"$f":"IF(A19>PPP,0,SUMPRODUCT(AF19:$AF$122,Q19:$Q$122)/Q19)","v":5689.92662506067},null,null,{"$f":"IF(B19=\"\",0,IF(B19=106,0,SUMPRODUCT(Z19:$Z$122,V19:$V$122)/Q19))","v":2063.48488474022},{"$f":"IF(B19=\"\",0,IF(B19=106,0,SUMPRODUCT(AA19:$AA$122,Q19:$Q$122)*$D$10/Q19))","v":3530.28359278798},{"$f":"IF(B19=\"\",0,IF(B19=106,0,SUMPRODUCT(AB19:$AB$122,Q19:$Q$122)/Q19))","v":2499.97238140027},null,2403.8142338678,0,2403.8142338678,{"$f":"CSV!AJ19","v":1481},2403.8142338678,2403.81423386781,{"$f":"IF(B18=\"\",0,(AF18+AS18)*(VLOOKUP(A18,#REF!,2,TRUE)-$G$4))","v":{"$error":"#REF!"}},0,0,{"$f":"IF(B18=\"\",0,(AF18+AS18)*(VLOOKUP(A18,#REF!,2,TRUE)+PAD_Int-$G$4))","v":{"$error":"#REF!"}},null,0,46.9095263275317,82.0916710731805,0,88.0144276724962,154.025248426868,null,46.9095263275317,{"$f":"'SA&Table'!DN2","v":2403.81423386781},596.1857661322]
[5,34,{"$f":"IF(B20=\"\",0,VLOOKUP(B20,'Mortality&Morbidity'!AB:AJ,9,FALSE)/1000)","v":0.000549},0,0,0.000549,0,0,0,0.905950644799755,0.999451,998.175247081154,0,0.547998210647554,0,0,904.297508716327,{"$f":"IF(B19=\"\",0,SUM(Q20:$Q$122))","v":25851.1074747644},null,null,null,0.490367576031048,0,0,1,{"$f":"IF(B20=\"\",0,GP!Z20)","v":5000},{"$f":"IF(B20=\"\",0,GP!AA20)","v":0},{"$f":"IF(B20=\"\",0,GP!AB20)","v":0},null,null,null,875.753031653686,{"$f":"IF(A20>PPP,0,SUMPRODUCT(AF20:$AF$122,Q20:$Q$122)/Q20)","v":4937.04088705366},null,null,{"$f":"IF(B20=\"\",0,IF(B20=106,0,SUMPRODUCT(Z20:$Z$122,V20:$V$122)/Q20))","v":2114.0867841366},{"$f":"IF(B20=\"\",0,IF(B20=106,0,SUMPRODUCT(AA20:$AA$122,Q20:$Q$122)*$D$10/Q20))","v":3620.38345778769},{"$f":"IF(B20=\"\",0,IF(B20=106,0,SUMPRODUCT(AB20:$AB$122,Q20:$Q$122)/Q20))","v":2563.77665325178},null,3361.20600812241,0,3361.20600812241,{"$f":"CSV!AJ20","v":2135},3361.20600812241,3361.20600812242,{"$f":"IF(B19=\"\",0,(AF19+AS19)*(VLOOKUP(A19,#REF!,2,TRUE)-$G$4))","v":{"$error":"#REF!"}},0,0,{"$f":"IF(B19=\"\",0,(AF19+AS19)*(VLOOKUP(A19,#REF!,2,TRUE)+PAD_Int-$G$4))","v":{"$error":"#REF!"}},null,0,65.5913453104299,114.784854293252,0,156.246205813101,273.430860172927,null,65.5913453104299,{"$f":"'SA&Table'!DO2","v":3361.20600812242},638.79399187759]
[6,35,{"$f":"IF(B21=\"\",0,VLOOKUP(B21,'Mortality&Morbidity'!AB:AJ,9,FALSE)/1000)","v":0.000592},0,0,0.000592,0,0,0,0.883854287609517,0.999408,997.627248870507,0,0.59059533133134,0,0,881.757121350284,{"$f":"IF(B20=\"\",0,SUM(Q21:$Q$122))","v":24946.8099660481},null,null,null,0.515595062642018,0,0,1,{"$f":"IF(B21=\"\",0,GP!Z21)","v":6000},{"$f":"IF(B21=\"\",0,GP!AA21)","v":0},{"$f":"IF(B21=\"\",0,GP!AB21)","v":1000},null,null,null,875.753031653686,{"$f":"IF(A21>PPP,0,SUMPRODUCT(AF21:$AF$122,Q21:$Q$122)/Q21)","v":4165.10669536073},null,null,{"$f":"IF(B21=\"\",0,IF(B21=106,0,SUMPRODUCT(Z21:$Z$122,V21:$V$122)/Q21))","v":2165.34862945121},{"$f":"IF(B21=\"\",0,IF(B21=106,0,SUMPRODUCT(AA21:$AA$122,Q21:$Q$122)*$D$10/Q21))","v":3712.93144359492},{"$f":"IF(B21=\"\",0,IF(B21=106,0,SUMPRODUCT(AB21:$AB$122,Q21:$Q$122)/Q21))","v":2629.31456327831},null,4342.48794096371,0,4342.48794096371,{"$f":"CSV!AJ21","v":2878},4342.48794096371,3342.48794096372,{"$f":"IF(B20=\"\",0,(AF20+AS20)*(VLOOKUP(A20,#REF!,2,TRUE)-$G$4))","v":{"$error":"#REF!"}},0,0,{"$f":"IF(B20=\"\",0,(AF20+AS20)*(VLOOKUP(A20,#REF!,2,TRUE)+PAD_Int-$G$4))","v":{"$error":"#REF!"}},null,0,84.7391807955221,148.293566392164,0,245.672772783016,429.927352370278,null,84.7391807955221,{"$f":"'SA&Table'!DP2","v":3342.48794096372},657.51205903629]
[7,36,{"$f":"IF(B22=\"\",0,VLOOKUP(B22,'Mortality&Morbidity'!AB:AJ,9,FALSE)/1000)","v":0.000639},0,0,0.000639,0,0,0,0.862296865960505,0.999361,997.036653539175,0,0.637106421611533,0,0,859.74158159458,{"$f":"IF(B21=\"\",0,SUM(Q22:$Q$122))","v":24065.0528446978},null,null,null,0.542633819385617,0,0,1,{"$f":"IF(B22=\"\",0,GP!Z22)","v":7000},{"$f":"IF(B22=\"\",0,GP!AA22)","v":0.2},{"$f":"IF(B22=\"\",0,GP!AB22)","v":0},null,null,null,875.753031653686,{"$f":"IF(A22>PPP,0,SUMPRODUCT(AF22:$AF$122,Q22:$Q$122)/Q22)","v":3373.58466742284},null,null,{"$f":"IF(B22=\"\",0,IF(B22=106,0,SUMPRODUCT(Z22:$Z$122,V22:$V$122)/Q22))","v":2217.19880096218},{"$f":"IF(B22=\"\",0,IF(B22=106,0,SUMPRODUCT(AA22:$AA$122,Q22:$Q$122)*$D$10/Q22))","v":3808.00907105486},{"$f":"IF(B22=\"\",0,IF(B22=106,0,SUMPRODUCT(AB22:$AB$122,Q22:$Q$122)/Q22))","v":1671.03668107547},null,4322.65988566967,0,4322.65988566967,{"$f":"CSV!AJ22","v":2568.6},4322.65988566967,4207.05988566967,{"$f":"IF(B21=\"\",0,(AF21+AS21)*(VLOOKUP(A21,#REF!,2,TRUE)-$G$4))","v":{"$error":"#REF!"}},0,0,{"$f":"IF(B21=\"\",0,(AF21+AS21)*(VLOOKUP(A21,#REF!,2,TRUE)+PAD_Int-$G$4))","v":{"$error":"#REF!"}},null,0,84.3648194523481,147.638434041609,0,337.407775418855,590.463606982996,null,84.3648194523481,{"$f":"'SA&Table'!DQ2","v":4207.05988566967},1677.34011433033]
[8,37,{"$f":"IF(B23=\"\",0,VLOOKUP(B23,'Mortality&Morbidity'!AB:AJ,9,FALSE)/1000)","v":0.00069},0,0,0.00069,0,0,0,0.841265235083419,0.99931,996.399547117564,0,0.687515687511119,0,0,838.23629924287,{"$f":"IF(B22=\"\",0,SUM(Q23:$Q$122))","v":23205.3112631032},null,null,null,0.571286053206261,0,0,1,{"$f":"IF(B23=\"\",0,GP!Z23)","v":8000},{"$f":"IF(B23=\"\",0,GP!AA23)","v":0.2},{"$f":"IF(B23=\"\",0,GP!AB23)","v":0},null,null,null,875.753031653686,{"$f":"IF(A23>PPP,0,SUMPRODUCT(AF23:$AF$122,Q23:$Q$122)/Q23)","v":2561.9144900225},null,null,{"$f":"IF(B23=\"\",0,IF(B23=106,0,SUMPRODUCT(Z23:$Z$122,V23:$V$122)/Q23))","v":2269.55044637351},{"$f":"IF(B23=\"\",0,IF(B23=106,0,SUMPRODUCT(AA23:$AA$122,Q23:$Q$122)*$D$10/Q23))","v":3787.13927983104},{"$f":"IF(B23=\"\",0,IF(B23=106,0,SUMPRODUCT(AB23:$AB$122,Q23:$Q$122)/Q23))","v":1713.90778517708},null,5208.68302135912,0,5208.68302135912,{"$f":"CSV!AJ23","v":3176.6},5208.68302135912,5093.08302135913,{"$f":"IF(B22=\"\",0,(AF22+AS22)*(VLOOKUP(A22,#REF!,2,TRUE)-$G$4))","v":{"$error":"#REF!"}},0,0,{"$f":"IF(B22=\"\",0,(AF22+AS22)*(VLOOKUP(A22,#REF!,2,TRUE)+PAD_Int-$G$4))","v":{"$error":"#REF!"}},null,0,101.656258346467,177.898452106317,0,449.186267027888,786.075967298803,null,101.656258346467,{"$f":"'SA&Table'!DR2","v":5093.08302135913},1791.31697864088]
[9,38,{"$f":"IF(B24=\"\",0,VLOOKUP(B24,'Mortality&Morbidity'!AB:AJ,9,FALSE)/1000)","v":0.000746},0,0,0.000746,0,0,0,0.820746570813092,0.999254,995.712031430053,0,0.742801175446819,0,0,817.227235313553,{"$f":"IF(B23=\"\",0,SUM(Q24:$Q$122))","v":22367.0749638603},null,null,null,0.602170847520457,0,0,1,{"$f":"IF(B24=\"\",0,GP!Z24)","v":9000},{"$f":"IF(B24=\"\",0,GP!AA24)","v":0.2},{"$f":"IF(B24=\"\",0,GP!AB24)","v":0},null,null,null,875.753031653686,{"$f":"IF(A24>PPP,0,SUMPRODUCT(AF24:$AF$122,Q24:$Q$122)/Q24)","v":1729.50885593863},null,null,{"$f":"IF(B24=\"\",0,IF(B24=106,0,SUMPRODUCT(Z24:$Z$122,V24:$V$122)/Q24))","v":2322.30302256057},{"$f":"IF(B24=\"\",0,IF(B24=106,0,SUMPRODUCT(AA24:$AA$122,Q24:$Q$122)*$D$10/Q24))","v":3765.92625093996},{"$f":"IF(B24=\"\",0,IF(B24=106,0,SUMPRODUCT(AB24:$AB$122,Q24:$Q$122)/Q24))","v":1757.96847805637},null,6116.68889561826,0,6116.68889561826,{"$f":"CSV!AJ24","v":3819.6},6116.68889561826,6001.08889561827,{"$f":"IF(B23=\"\",0,(AF23+AS23)*(VLOOKUP(A23,#REF!,2,TRUE)-$G$4))","v":{"$error":"#REF!"}},0,0,{"$f":"IF(B23=\"\",0,(AF23+AS23)*(VLOOKUP(A23,#REF!,2,TRUE)+PAD_Int-$G$4))","v":{"$error":"#REF!"}},null,0,119.376721060256,208.909261855449,0,582.03857609898,1018.56750817322,null,119.376721060256,{"$f":"'SA&Table'!DS2","v":6001.08889561827},1883.31110438174]
[10,39,{"$f":"IF(B25=\"\",0,VLOOKUP(B25,'Mortality&Morbidity'!AB:AJ,9,FALSE)/1000)","v":0.000808},0,0,0.000808,0,0,0,0.80072836176887,0.999192,994.969230254606,0,0.803935138045721,0,0,796.700081752204,{"$f":"IF(B24=\"\",0,SUM(Q25:$Q$122))","v":21549.8477285468},null,null,null,0.635834794323038,0,0,1,{"$f":"IF(B25=\"\",0,GP!Z25)","v":10000},{"$f":"IF(B25=\"\",0,GP!AA25)","v":0.2},{"$f":"IF(B25=\"\",0,GP!AB25)","v":0},null,null,null,875.753031653686,{"$f":"IF(A25>PPP,0,SUMPRODUCT(AF25:$AF$122,Q25:$Q$122)/Q25)","v":875.753031653686},null,null,{"$f":"IF(B25=\"\",0,IF(B25=106,0,SUMPRODUCT(Z25:$Z$122,V25:$V$122)/Q25))","v":2375.33519125255},{"$f":"IF(B25=\"\",0,IF(B25=106,0,SUMPRODUCT(AA25:$AA$122,Q25:$Q$122)*$D$10/Q25))","v":3744.37771298735},{"$f":"IF(B25=\"\",0,IF(B25=106,0,SUMPRODUCT(AB25:$AB$122,Q25:$Q$122)/Q25))","v":1803.26292414919},null,7047.22279673541,0,7047.22279673541,{"$f":"CSV!AJ25","v":4499.6},7047.22279673541,6931.62279673542,{"$f":"IF(B24=\"\",0,(AF24+AS24)*(VLOOKUP(A24,#REF!,2,TRUE)-$G$4))","v":{"$error":"#REF!"}},0,0,{"$f":"IF(B24=\"\",0,(AF24+AS24)*(VLOOKUP(A24,#REF!,2,TRUE)+PAD_Int-$G$4))","v":{"$error":"#REF!"}},null,0,137.536838545439,240.689467454518,0,737.036571927389,1289.81400087293,null,137.536838545439,{"$f":"'SA&Table'!DT2","v":6931.62279673542},1952.77720326459]
[11,40,{"$f":"IF(B26=\"\",0,VLOOKUP(B26,'Mortality&Morbidity'!AB:AJ,9,FALSE)/1000)","v":0.000878},0,0,0.000878,0,0,0,0.781198401725727,0.999122,994.16529511656,0,0.87287712911234,0,0,776.640339596242,{"$f":"IF(B25=\"\",0,SUM(Q26:$Q$122))","v":20753.1476467946},null,null,null,0.673523150147911,0,0,0,{"$f":"IF(B26=\"\",0,GP!Z26)","v":10000},{"$f":"IF(B26=\"\",0,GP!AA26)","v":0.2},{"$f":"IF(B26=\"\",0,GP!AB26)","v":0},null,null,null,0,{"$f":"IF(A26>PPP,0,SUMPRODUCT(AF26:$AF$122,Q26:$Q$122)/Q26)","v":0},null,null,{"$f":"IF(B26=\"\",0,IF(B26=106,0,SUMPRODUCT(Z26:$Z$122,V26:$V$122)/Q26))","v":2428.50042285608},{"$f":"IF(B26=\"\",0,IF(B26=106,0,SUMPRODUCT(AA26:$AA$122,Q26:$Q$122)*$D$10/Q26))","v":3722.5049398034},{"$f":"IF(B26=\"\",0,IF(B26=106,0,SUMPRODUCT(AB26:$AB$122,Q26:$Q$122)/Q26))","v":1849.8391673001},null,8000.84452995958,0,8000.84452995958,{"$f":"CSV!AJ26","v":5218.6},8000.84452995958,7885.24452995958,{"$f":"IF(B25=\"\",0,(AF25+AS25)*(VLOOKUP(A25,#REF!,2,TRUE)-$G$4))","v":{"$error":"#REF!"}},0,0,{"$f":"IF(B25=\"\",0,(AF25+AS25)*(VLOOKUP(A25,#REF!,2,TRUE)+PAD_Int-$G$4))","v":{"$error":"#REF!"}},null,0,156.147516567782,273.258153993619,0,915.295185652993,1601.76657489274,null,156.147516567782,{"$f":"'SA&Table'!DU2","v":7885.24452995958},1999.15547004042]
[12,41,{"$f":"IF(B27=\"\",0,VLOOKUP(B27,'Mortality&Morbidity'!AB:AJ,9,FALSE)/1000)","v":0.000955},0,0,0.000955,0,0,0,0.762144782171441,0.999045,993.292417987448,0,0.948594259178012,0,0,757.032633539587,{"$f":"IF(B26=\"\",0,SUM(Q27:$Q$122))","v":19976.5073071983},null,null,null,0.714095078576685,0,0,0,{"$f":"IF(B27=\"\",0,GP!Z27)","v":10000},{"$f":"IF(B27=\"\",0,GP!AA27)","v":0.2},{"$f":"IF(B27=\"\",0,GP!AB27)","v":0},null,null,null,0,{"$f":"IF(A27>PPP,0,SUMPRODUCT(AF27:$AF$122,Q27:$Q$122)/Q27)","v":0},null,null,{"$f":"IF(B27=\"\",0,IF(B27=106,0,SUMPRODUCT(Z27:$Z$122,V27:$V$122)/Q27))","v":2482.50349899455},{"$f":"IF(B27=\"\",0,IF(B27=106,0,SUMPRODUCT(AA27:$AA$122,Q27:$Q$122)*$D$10/Q27))","v":3700.32644992151},{"$f":"IF(B27=\"\",0,IF(B27=106,0,SUMPRODUCT(AB27:$AB$122,Q27:$Q$122)/Q27))","v":1897.75137218738},null,8080.58132110345,0,8080.58132110345,{"$f":"CSV!AJ27","v":5304.6},8080.58132110345,7964.98132110345,{"$f":"IF(B26=\"\",0,(AF26+AS26)*(VLOOKUP(A26,#REF!,2,TRUE)-$G$4))","v":{"$error":"#REF!"}},0,0,{"$f":"IF(B26=\"\",0,(AF26+AS26)*(VLOOKUP(A26,#REF!,2,TRUE)+PAD_Int-$G$4))","v":{"$error":"#REF!"}},null,0,157.704890599192,275.983558548585,0,1100.45893182177,1925.8031306881,null,157.704890599192,{"$f":"'SA&Table'!DV2","v":7964.98132110345},1919.41867889655]
[13,42,{"$f":"IF(B28=\"\",0,VLOOKUP(B28,'Mortality&Morbidity'!AB:AJ,9,FALSE)/1000)","v":0.001041},0,0,0.001041,0,0,0,0.743555885045309,0.998959,992.34382372827,0,1.03302992050113,0,0,737.863090121519,{"$f":"IF(B27=\"\",0,SUM(Q28:$Q$122))","v":19219.4746736587},null,null,null,0.75869039009627,0,0,0,{"$f":"IF(B28=\"\",0,GP!Z28)","v":10000},{"$f":"IF(B28=\"\",0,GP!AA28)","v":0.2},{"$f":"IF(B28=\"\",0,GP!AB28)","v":0},null,null,null,0,{"$f":"IF(A28>PPP,0,SUMPRODUCT(AF28:$AF$122,Q28:$Q$122)/Q28)","v":0},null,null,{"$f":"IF(B28=\"\",0,IF(B28=106,0,SUMPRODUCT(Z28:$Z$122,V28:$V$122)/Q28))","v":2537.32058954323},{"$f":"IF(B28=\"\",0,IF(B28=106,0,SUMPRODUCT(AA28:$AA$122,Q28:$Q$122)*$D$10/Q28))","v":3677.85696457071},{"$f":"IF(B28=\"\",0,IF(B28=106,0,SUMPRODUCT(AB28:$AB$122,Q28:$Q$122)/Q28))","v":1947.05459362898},null,8162.23214774292,0,8162.23214774292,{"$f":"CSV!AJ28","v":5394.6},8162.23214774292,8046.63214774293,{"$f":"IF(B27=\"\",0,(AF27+AS27)*(VLOOKUP(A27,#REF!,2,TRUE)-$G$4))","v":{"$error":"#REF!"}},0,0,{"$f":"IF(B27=\"\",0,(AF27+AS27)*(VLOOKUP(A27,#REF!,2,TRUE)+PAD_Int-$G$4))","v":{"$error":"#REF!"}},null,0,159.299626422069,278.774346238621,0,1292.7723261985,2262.35157084737,null,159.299626422069,{"$f":"'SA&Table'!DW2","v":8046.63214774293},1837.76785225708]
[14,43,{"$f":"IF(B29=\"\",0,VLOOKUP(B29,'Mortality&Morbidity'!AB:AJ,9,FALSE)/1000)","v":0.001138},0,0,0.001138,0,0,0,0.72542037565396,0.998862,991.310793807768,0,1.12811168335324,0,0,719.117048433856,{"$f":"IF(B28=\"\",0,SUM(Q29:$Q$122))","v":18481.6115835372},null,null,null,0.808313652716108,0,0,0,{"$f":"IF(B29=\"\",0,GP!Z29)","v":10000},{"$f":"IF(B29=\"\",0,GP!AA29)","v":0.2},{"$f":"IF(B29=\"\",0,GP!AB29)","v":0},null,null,null,0,{"$f":"IF(A29>PPP,0,SUMPRODUCT(AF29:$AF$122,Q29:$Q$122)/Q29)","v":0},null,null,{"$f":"IF(B29=\"\",0,IF(B29=106,0,SUMPRODUCT(Z29:$Z$122,V29:$V$122)/Q29))","v":2592.9135055124},{"$f":"IF(B29=\"\",0,IF(B29=106,0,SUMPRODUCT(AA29:$AA$122,Q29:$Q$122)*$D$10/Q29))","v":3655.11836690493},{"$f":"IF(B29=\"\",0,IF(B29=106,0,SUMPRODUCT(AB29:$AB$122,Q29:$Q$122)/Q29))","v":1997.81067938695},null,8245.84255180427,0,8245.84255180427,{"$f":"CSV!AJ29","v":5486.6},8245.84255180427,8130.24255180428,{"$f":"IF(B28=\"\",0,(AF28+AS28)*(VLOOKUP(A28,#REF!,2,TRUE)-$G$4))","v":{"$error":"#REF!"}},0,0,{"$f":"IF(B28=\"\",0,(AF28+AS28)*(VLOOKUP(A28,#REF!,2,TRUE)+PAD_Int-$G$4))","v":{"$error":"#REF!"}},null,0,160.932642954859,281.632125171003,0,1492.48813893931,2611.85424314379,null,160.932642954859,{"$f":"'SA&Table'!DX2","v":8130.24255180428},1754.15744819573]
[15,44,{"$f":"IF(B30=\"\",0,VLOOKUP(B30,'Mortality&Morbidity'!AB:AJ,9,FALSE)/1000)","v":0.001245},0,0,0.001245,0,0,0,0.707727195759961,0.998755,990.182682124415,0,1.2327774392449,0,0,700.779212909989,{"$f":"IF(B29=\"\",0,SUM(Q30:$Q$122))","v":17762.4945351033},null,null,null,0.86176455978846,0,0,0,{"$f":"IF(B30=\"\",0,GP!Z30)","v":10000},{"$f":"IF(B30=\"\",0,GP!AA30)","v":0.2},{"$f":"IF(B30=\"\",0,GP!AB30)","v":0},null,null,null,0,{"$f":"IF(A30>PPP,0,SUMPRODUCT(AF30:$AF$122,Q30:$Q$122)/Q30)","v":0},null,null,{"$f":"IF(B30=\"\",0,IF(B30=106,0,SUMPRODUCT(Z30:$Z$122,V30:$V$122)/Q30))","v":2649.22979477654},{"$f":"IF(B30=\"\",0,IF(B30=106,0,SUMPRODUCT(AA30:$AA$122,Q30:$Q$122)*$D$10/Q30))","v":3632.13970105736},{"$f":"IF(B30=\"\",0,IF(B30=106,0,SUMPRODUCT(AB30:$AB$122,Q30:$Q$122)/Q30))","v":2050.08894759399},null,8331.45844342788,0,8331.45844342788,{"$f":"CSV!AJ30","v":5582.6},8331.45844342788,8215.85844342789,{"$f":"IF(B29=\"\",0,(AF29+AS29)*(VLOOKUP(A29,#REF!,2,TRUE)-$G$4))","v":{"$error":"#REF!"}},0,0,{"$f":"IF(B29=\"\",0,(AF29+AS29)*(VLOOKUP(A29,#REF!,2,TRUE)+PAD_Int-$G$4))","v":{"$error":"#REF!"}},null,0,162.604851036086,284.55848931315,0,1699.86763414357,2974.76835975126,null,162.604851036086,{"$f":"'SA&Table'!DY2","v":8215.85844342789},1668.54155657212]
[16,45,{"$f":"IF(B31=\"\",0,VLOOKUP(B31,'Mortality&Morbidity'!AB:AJ,9,FALSE)/1000)","v":0.001364},0,0,0.001364,0,0,0,0.690465556838986,0.998636,988.94990468517,0,1.34892766999057,0,0,682.835846624308,{"$f":"IF(B30=\"\",0,SUM(Q31:$Q$122))","v":17061.7153221934},null,null,null,0.919959587196645,0,0,0,{"$f":"IF(B31=\"\",0,GP!Z31)","v":10000},{"$f":"IF(B31=\"\",0,GP!AA31)","v":0.2},{"$f":"IF(B31=\"\",0,GP!AB31)","v":0},null,null,null,0,{"$f":"IF(A31>PPP,0,SUMPRODUCT(AF31:$AF$122,Q31:$Q$122)/Q31)","v":0},null,null,{"$f":"IF(B31=\"\",0,IF(B31=106,0,SUMPRODUCT(Z31:$Z$122,V31:$V$122)/Q31))","v":2706.2251256121},{"$f":"IF(B31=\"\",0,IF(B31=106,0,SUMPRODUCT(AA31:$AA$122,Q31:$Q$122)*$D$10/Q31))","v":3608.94633176684},{"$f":"IF(B31=\"\",0,IF(B31=106,0,SUMPRODUCT(AB31:$AB$122,Q31:$Q$122)/Q31))","v":2103.96060223362},null,8419.13205961255,0,8419.13205961255,{"$f":"CSV!AJ31","v":5682.6},8419.13205961255,8303.53205961256,{"$f":"IF(B30=\"\",0,(AF30+AS30)*(VLOOKUP(A30,#REF!,2,TRUE)-$G$4))","v":{"$error":"#REF!"}},0,0,{"$f":"IF(B30=\"\",0,(AF30+AS30)*(VLOOKUP(A30,#REF!,2,TRUE)+PAD_Int-$G$4))","v":{"$error":"#REF!"}},null,0,164.317168868558,287.555045519976,0,1915.18083203644,3351.56645606377,null,164.317168868558,{"$f":"'SA&Table'!DZ2","v":8303.53205961256},1580.86794038745]
[17,46,{"$f":"IF(B32=\"\",0,VLOOKUP(B32,'Mortality&Morbidity'!AB:AJ,9,FALSE)/1000)","v":0.001496},0,0,0.001496,0,0,0,0.67362493350145,0.998504,987.60097701518,0,1.47745106161471,0,0,665.272642467817,{"$f":"IF(B31=\"\",0,SUM(Q32:$Q$122))","v":16378.8794755691},null,null,null,0.983035780294888,0,0,0,{"$f":"IF(B32=\"\",0,GP!Z32)","v":10000},{"$f":"IF(B32=\"\",0,GP!AA32)","v":0.2},{"$f":"IF(B32=\"\",0,GP!AB32)","v":0},null,null,null,0,{"$f":"IF(A32>PPP,0,SUMPRODUCT(AF32:$AF$122,Q32:$Q$122)/Q32)","v":0},null,null,{"$f":"IF(B32=\"\",0,IF(B32=106,0,SUMPRODUCT(Z32:$Z$122,V32:$V$122)/Q32))","v":2763.84118563885},{"$f":"IF(B32=\"\",0,IF(B32=106,0,SUMPRODUCT(AA32:$AA$122,Q32:$Q$122)*$D$10/Q32))","v":3585.57070850741},{"$f":"IF(B32=\"\",0,IF(B32=106,0,SUMPRODUCT(AB32:$AB$122,Q32:$Q$122)/Q32))","v":2159.50518235819},null,8508.91707650446,0,8508.91707650446,{"$f":"CSV!AJ32","v":5786.6},8508.91707650446,8393.31707650447,{"$f":"IF(B31=\"\",0,(AF31+AS31)*(VLOOKUP(A31,#REF!,2,TRUE)-$G$4))","v":{"$error":"#REF!"}},0,0,{"$f":"IF(B31=\"\",0,(AF31+AS31)*(VLOOKUP(A31,#REF!,2,TRUE)+PAD_Int-$G$4))","v":{"$error":"#REF!"}},null,0,166.070641192251,290.62362208644,0,2138.70689818978,3742.73707183212,null,166.070641192251,{"$f":"'SA&Table'!EA2","v":8393.31707650447},1491.08292349554]
[18,47,{"$f":"IF(B33=\"\",0,VLOOKUP(B33,'Mortality&Morbidity'!AB:AJ,9,FALSE)/1000)","v":0.001641},0,0,0.001641,0,0,0,0.657195057074585,0.998359,986.123525953565,0,1.6182287060898,0,0,648.075506921644,{"$f":"IF(B32=\"\",0,SUM(Q33:$Q$122))","v":15713.6068331012},null,null,null,1.05044243220137,0,0,0,{"$f":"IF(B33=\"\",0,GP!Z33)","v":10000},{"$f":"IF(B33=\"\",0,GP!AA33)","v":0.2},{"$f":"IF(B33=\"\",0,GP!AB33)","v":0},null,null,null,0,{"$f":"IF(A33>PPP,0,SUMPRODUCT(AF33:$AF$122,Q33:$Q$122)/Q33)","v":0},null,null,{"$f":"IF(B33=\"\",0,IF(B33=106,0,SUMPRODUCT(Z33:$Z$122,V33:$V$122)/Q33))","v":2822.01310124426},{"$f":"IF(B33=\"\",0,IF(B33=106,0,SUMPRODUCT(AA33:$AA$122,Q33:$Q$122)*$D$10/Q33))","v":3562.04880122673},{"$f":"IF(B33=\"\",0,IF(B33=106,0,SUMPRODUCT(AB33:$AB$122,Q33:$Q$122)/Q33))","v":2216.80915841814},null,8600.87106088914,0,8600.87106088914,{"$f":"CSV!AJ33","v":5893.6},8600.87106088914,8485.27106088914,{"$f":"IF(B32=\"\",0,(AF32+AS32)*(VLOOKUP(A32,#REF!,2,TRUE)-$G$4))","v":{"$error":"#REF!"}},0,0,{"$f":"IF(B32=\"\",0,(AF32+AS32)*(VLOOKUP(A32,#REF!,2,TRUE)+PAD_Int-$G$4))","v":{"$error":"#REF!"}},null,0,167.866341530089,293.766097677656,0,2370.73444666557,4148.78528166474,null,167.866341530089,{"$f":"'SA&Table'!EB2","v":8485.27106088914},1399.12893911086]
[19,48,{"$f":"IF(B34=\"\",0,VLOOKUP(B34,'Mortality&Morbidity'!AB:AJ,9,FALSE)/1000)","v":0.001798},0,0,0.001798,0,0,0,0.641165909341059,0.998202,984.505297247475,0,1.77014052445096,0,0,631.231234160767,{"$f":"IF(B33=\"\",0,SUM(Q34:$Q$122))","v":15065.5313261796},null,null,null,1.12102741861381,0,0,0,{"$f":"IF(B34=\"\",0,GP!Z34)","v":10000},{"$f":"IF(B34=\"\",0,GP!AA34)","v":0.2},{"$f":"IF(B34=\"\",0,GP!AB34)","v":0},null,null,null,0,{"$f":"IF(A34>PPP,0,SUMPRODUCT(AF34:$AF$122,Q34:$Q$122)/Q34)","v":0},null,null,{"$f":"IF(B34=\"\",0,IF(B34=106,0,SUMPRODUCT(Z34:$Z$122,V34:$V$122)/Q34))","v":2880.67676059145},{"$f":"IF(B34=\"\",0,IF(B34=106,0,SUMPRODUCT(AA34:$AA$122,Q34:$Q$122)*$D$10/Q34))","v":3538.41656283702},{"$f":"IF(B34=\"\",0,IF(B34=106,0,SUMPRODUCT(AB34:$AB$122,Q34:$Q$122)/Q34))","v":2275.96424470416},null,8695.05756813263,0,8695.05756813263,{"$f":"CSV!AJ34","v":6005.6},8695.05756813263,8579.45756813263,{"$f":"IF(B33=\"\",0,(AF33+AS33)*(VLOOKUP(A33,#REF!,2,TRUE)-$G$4))","v":{"$error":"#REF!"}},0,0,{"$f":"IF(B33=\"\",0,(AF33+AS33)*(VLOOKUP(A33,#REF!,2,TRUE)+PAD_Int-$G$4))","v":{"$error":"#REF!"}},null,0,169.705421217783,296.98448713112,0,2611.56190128332,4570.2333272458,null,169.705421217783,{"$f":"'SA&Table'!EC2","v":8579.45756813263},1304.94243186737]
[20,49,{"$f":"IF(B35=\"\",0,VLOOKUP(B35,'Mortality&Morbidity'!AB:AJ,9,FALSE)/1000)","v":0.001967},0,0,0.001967,0,0,0,0.625527716430301,0.998033,982.735156723024,0,1.93304005327419,0,0,614.728078440728,{"$f":"IF(B34=\"\",0,SUM(Q35:$Q$122))","v":14434.3000920188},null,null,null,1.19433312507495,0,0,0,{"$f":"IF(B35=\"\",0,GP!Z35)","v":10000},{"$f":"IF(B35=\"\",0,GP!AA35)","v":0.2},{"$f":"IF(B35=\"\",0,GP!AB35)","v":0},null,null,null,0,{"$f":"IF(A35>PPP,0,SUMPRODUCT(AF35:$AF$122,Q35:$Q$122)/Q35)","v":0},null,null,{"$f":"IF(B35=\"\",0,IF(B35=106,0,SUMPRODUCT(Z35:$Z$122,V35:$V$122)/Q35))","v":2939.77603431448},{"$f":"IF(B35=\"\",0,IF(B35=106,0,SUMPRODUCT(AA35:$AA$122,Q35:$Q$122)*$D$10/Q35))","v":3514.70641904939},{"$f":"IF(B35=\"\",0,IF(B35=106,0,SUMPRODUCT(AB35:$AB$122,Q35:$Q$122)/Q35))","v":2337.06539440089},null,8791.54784776477,0,8791.54784776477,{"$f":"CSV!AJ35","v":6121.6},8791.54784776477,8675.94784776478,{"$f":"IF(B34=\"\",0,(AF34+AS34)*(VLOOKUP(A34,#REF!,2,TRUE)-$G$4))","v":{"$error":"#REF!"}},0,0,{"$f":"IF(B34=\"\",0,(AF34+AS34)*(VLOOKUP(A34,#REF!,2,TRUE)+PAD_Int-$G$4))","v":{"$error":"#REF!"}},null,0,171.589151362653,300.281014884642,0,2861.49790968447,5007.62134194782,null,171.589151362653,{"$f":"'SA&Table'!ED2","v":8675.94784776478},1208.45215223523]
[21,50,{"$f":"IF(B36=\"\",0,VLOOKUP(B36,'Mortality&Morbidity'!AB:AJ,9,FALSE)/1000)","v":0.002148},0,0,0.002148,0,0,0,0.610270942858831,0.997852,980.80211666975,0,2.10676294660662,0,0,598.555032497985,{"$f":"IF(B35=\"\",0,SUM(Q36:$Q$122))","v":13819.5720135781},null,null,null,1.26992019872526,0,0,0,{"$f":"IF(B36=\"\",0,GP!Z36)","v":10000},{"$f":"IF(B36=\"\",0,GP!AA36)","v":0.2},{"$f":"IF(B36=\"\",0,GP!AB36)","v":0},null,null,null,0,{"$f":"IF(A36>PPP,0,SUMPRODUCT(AF36:$AF$122,Q36:$Q$122)/Q36)","v":0},null,null,{"$f":"IF(B36=\"\",0,IF(B36=106,0,SUMPRODUCT(Z36:$Z$122,V36:$V$122)/Q36))","v":2999.25561376938},{"$f":"IF(B36=\"\",0,IF(B36=106,0,SUMPRODUCT(AA36:$AA$122,Q36:$Q$122)*$D$10/Q36))","v":3490.95077970932},{"$f":"IF(B36=\"\",0,IF(B36=106,0,SUMPRODUCT(AB36:$AB$122,Q36:$Q$122)/Q36))","v":2400.21324872115},null,8890.41964219984,0,8890.41964219984,{"$f":"CSV!AJ36","v":6241.6},8890.41964219984,8774.81964219985,{"$f":"IF(B35=\"\",0,(AF35+AS35)*(VLOOKUP(A35,#REF!,2,TRUE)-$G$4))","v":{"$error":"#REF!"}},0,0,{"$f":"IF(B35=\"\",0,(AF35+AS35)*(VLOOKUP(A35,#REF!,2,TRUE)+PAD_Int-$G$4))","v":{"$error":"#REF!"}},null,0,173.518956955296,303.658174671767,0,3120.8618039303,5461.50815687802,null,173.518956955296,{"$f":"'SA&Table'!EE2","v":8774.81964219985},1109.58035780016]
[22,51,{"$f":"IF(B37=\"\",0,VLOOKUP(B37,'Mortality&Morbidity'!AB:AJ,9,FALSE)/1000)","v":0.00234},0,0,0.00234,0,0,0,0.595386285715932,0.99766,978.695353723143,0,2.29014712771216,0,0,582.701791500663,{"$f":"IF(B36=\"\",0,SUM(Q37:$Q$122))","v":13221.0169810801},null,null,null,1.34679122483711,0,0,0,{"$f":"IF(B37=\"\",0,GP!Z37)","v":10000},{"$f":"IF(B37=\"\",0,GP!AA37)","v":0.2},{"$f":"IF(B37=\"\",0,GP!AB37)","v":0},null,null,null,0,{"$f":"IF(A37>PPP,0,SUMPRODUCT(AF37:$AF$122,Q37:$Q$122)/Q37)","v":0},null,null,{"$f":"IF(B37=\"\",0,IF(B37=106,0,SUMPRODUCT(Z37:$Z$122,V37:$V$122)/Q37))","v":3059.06102466516},{"$f":"IF(B37=\"\",0,IF(B37=106,0,SUMPRODUCT(AA37:$AA$122,Q37:$Q$122)*$D$10/Q37))","v":3467.18205625889},{"$f":"IF(B37=\"\",0,IF(B37=106,0,SUMPRODUCT(AB37:$AB$122,Q37:$Q$122)/Q37))","v":2465.51450509612},null,8991.75758602018,0,8991.75758602018,{"$f":"CSV!AJ37","v":6365.6},8991.75758602018,8876.15758602018,{"$f":"IF(B36=\"\",0,(AF36+AS36)*(VLOOKUP(A36,#REF!,2,TRUE)-$G$4))","v":{"$error":"#REF!"}},0,0,{"$f":"IF(B36=\"\",0,(AF36+AS36)*(VLOOKUP(A36,#REF!,2,TRUE)+PAD_Int-$G$4))","v":{"$error":"#REF!"}},null,0,175.496392843997,307.118687476995,0,3389.9840508922,5932.47208906136,null,175.496392843997,{"$f":"'SA&Table'!EF2","v":8876.15758602018},1008.24241397982]
[23,52,{"$f":"IF(B38=\"\",0,VLOOKUP(B38,'Mortality&Morbidity'!AB:AJ,9,FALSE)/1000)","v":0.002544},0,0,0.002544,0,0,0,0.580864668991154,0.997456,976.405206595431,0,2.48397484557878,0,0,{"$f":"IF(A38>BP+1,0,J38*L38)","v":567.159287130294},{"$f":"IF(B37=\"\",0,SUM(Q38:$Q$122))","v":12638.3151895794},null,null,null,1.42514883539537,0,0,0,{"$f":"IF(B38=\"\",0,GP!Z38)","v":10000},{"$f":"IF(B38=\"\",0,GP!AA38)","v":0.2},{"$f":"IF(B38=\"\",0,GP!AB38)","v":0},null,null,null,0,{"$f":"IF(A38>PPP,0,SUMPRODUCT(AF38:$AF$122,Q38:$Q$122)/Q38)","v":0},null,null,{"$f":"IF(B38=\"\",0,IF(B38=106,0,SUMPRODUCT(Z38:$Z$122,V38:$V$122)/Q38))","v":3119.14565674293},{"$f":"IF(B38=\"\",0,IF(B38=106,0,SUMPRODUCT(AA38:$AA$122,Q38:$Q$122)*$D$10/Q38))","v":3443.4292320684},{"$f":"IF(B38=\"\",0,IF(B38=106,0,SUMPRODUCT(AB38:$AB$122,Q38:$Q$122)/Q38))","v":2533.07977439561},null,9095.65466320694,0,9095.65466320694,{"$f":"CSV!AJ38","v":6495.6},9095.65466320694,8980.05466320695,{"$f":"IF(B37=\"\",0,(AF37+AS37)*(VLOOKUP(A37,#REF!,2,TRUE)-$G$4))","v":{"$error":"#REF!"}},0,0,{"$f":"IF(B37=\"\",0,(AF37+AS37)*(VLOOKUP(A37,#REF!,2,TRUE)+PAD_Int-$G$4))","v":{"$error":"#REF!"}},null,0,177.523151720404,310.665515510706,0,3669.20672413937,6421.11176724391,null,177.523151720404,{"$f":"'SA&Table'!EG2","v":8980.05466320695},904.34533679306]
[24,53,{"$f":"IF(B39=\"\",0,VLOOKUP(B39,'Mortality&Morbidity'!AB:AJ,9,FALSE)/1000)","v":0.002759},0,0,0.002759,0,0,0,0.56669723804015,0.997241,973.921231749852,0,2.68704867839784,0,0,551.918472101302,{"$f":"IF(B38=\"\",0,SUM(Q39:$Q$122))","v":12071.1559024492},null,null,null,1.5040583929267,0,0,0,{"$f":"IF(B39=\"\",0,GP!Z39)","v":10000},{"$f":"IF(B39=\"\",0,GP!AA39)","v":0.2},{"$f":"IF(B39=\"\",0,GP!AB39)","v":0},null,null,null,0,{"$f":"IF(A39>PPP,0,SUMPRODUCT(AF39:$AF$122,Q39:$Q$122)/Q39)","v":0},null,null,{"$f":"IF(B39=\"\",0,IF(B39=106,0,SUMPRODUCT(Z39:$Z$122,V39:$V$122)/Q39))","v":3179.45679929668},{"$f":"IF(B39=\"\",0,IF(B39=106,0,SUMPRODUCT(AA39:$AA$122,Q39:$Q$122)*$D$10/Q39))","v":3419.72474261533},{"$f":"IF(B39=\"\",0,IF(B39=106,0,SUMPRODUCT(AB39:$AB$122,Q39:$Q$122)/Q39))","v":2603.0288742115},null,9202.2104161235,0,9202.2104161235,{"$f":"CSV!AJ39","v":6629.6},9202.2104161235,9086.61041612351,{"$f":"IF(B38=\"\",0,(AF38+AS38)*(VLOOKUP(A38,#REF!,2,TRUE)-$G$4))","v":{"$error":"#REF!"}},0,0,{"$f":"IF(B38=\"\",0,(AF38+AS38)*(VLOOKUP(A38,#REF!,2,TRUE)+PAD_Int-$G$4))","v":{"$error":"#REF!"}},null,0,179.601093264139,314.301913212243,0,3958.88401912769,6928.04703347347,null,179.601093264139,{"$f":"'SA&Table'!EH2","v":9086.61041612351},797.7895838765]
[25,54,{"$f":"IF(B40=\"\",0,VLOOKUP(B40,'Mortality&Morbidity'!AB:AJ,9,FALSE)/1000)","v":0.002985},0,0,0.002985,0,0,0,0.552875354185512,0.997015,971.234183071454,0,2.89913403646829,0,0,536.971442962707,{"$f":"IF(B39=\"\",0,SUM(Q40:$Q$122))","v":11519.2374303478},null,null,null,1.58319202150816,0,0,0,{"$f":"IF(B40=\"\",0,GP!Z40)","v":10000},{"$f":"IF(B40=\"\",0,GP!AA40)","v":0.2},{"$f":"IF(B40=\"\",0,GP!AB40)","v":0},null,null,null,0,{"$f":"IF(A40>PPP,0,SUMPRODUCT(AF40:$AF$122,Q40:$Q$122)/Q40)","v":0},null,null,{"$f":"IF(B40=\"\",0,IF(B40=106,0,SUMPRODUCT(Z40:$Z$122,V40:$V$122)/Q40))","v":3239.94949387183},{"$f":"IF(B40=\"\",0,IF(B40=106,0,SUMPRODUCT(AA40:$AA$122,Q40:$Q$122)*$D$10/Q40))","v":3396.09769472044},{"$f":"IF(B40=\"\",0,IF(B40=106,0,SUMPRODUCT(AB40:$AB$122,Q40:$Q$122)/Q40))","v":2675.48626266548},null,9311.53345125776,0,9311.53345125776,{"$f":"CSV!AJ40","v":6769.6},9311.53345125776,9195.93345125776,{"$f":"IF(B39=\"\",0,(AF39+AS39)*(VLOOKUP(A39,#REF!,2,TRUE)-$G$4))","v":{"$error":"#REF!"}},0,0,{"$f":"IF(B39=\"\",0,(AF39+AS39)*(VLOOKUP(A39,#REF!,2,TRUE)+PAD_Int-$G$4))","v":{"$error":"#REF!"}},null,0,181.73220832247,318.031364564323,0,4259.382748024,7453.91980904199,null,181.73220832247,{"$f":"'SA&Table'!EI2","v":9195.93345125776},688.466548742241]
[26,55,{"$f":"IF(B41=\"\",0,VLOOKUP(B41,'Mortality&Morbidity'!AB:AJ,9,FALSE)/1000)","v":0.003221},0,0,0.003221,0,0,0,0.53939058944928,0.996779,968.335049034986,0,3.11900719294169,0,0,522.310812883379,{"$f":"IF(B40=\"\",0,SUM(Q41:$Q$122))","v":10982.2659873851},null,null,null,1.6617198541313,0,0,0,{"$f":"IF(B41=\"\",0,GP!Z41)","v":10000},{"$f":"IF(B41=\"\",0,GP!AA41)","v":0.2},{"$f":"IF(B41=\"\",0,GP!AB41)","v":0},null,null,null,0,{"$f":"IF(A41>PPP,0,SUMPRODUCT(AF41:$AF$122,Q41:$Q$122)/Q41)","v":0},null,null,{"$f":"IF(B41=\"\",0,IF(B41=106,0,SUMPRODUCT(Z41:$Z$122,V41:$V$122)/Q41))","v":3300.57963977186},{"$f":"IF(B41=\"\",0,IF(B41=106,0,SUMPRODUCT(AA41:$AA$122,Q41:$Q$122)*$D$10/Q41))","v":3372.57728027006},{"$f":"IF(B41=\"\",0,IF(B41=106,0,SUMPRODUCT(AB41:$AB$122,Q41:$Q$122)/Q41))","v":2750.58391221006},null,9423.74083225198,0,9423.74083225198,{"$f":"CSV!AJ41","v":6913.6},9423.74083225198,9308.14083225199,{"$f":"IF(B40=\"\",0,(AF40+AS40)*(VLOOKUP(A40,#REF!,2,TRUE)-$G$4))","v":{"$error":"#REF!"}},0,0,{"$f":"IF(B40=\"\",0,(AF40+AS40)*(VLOOKUP(A40,#REF!,2,TRUE)+PAD_Int-$G$4))","v":{"$error":"#REF!"}},null,0,183.918669025155,321.857670794022,0,4571.08289948987,7999.39507410727,null,183.918669025155,{"$f":"'SA&Table'!EJ2","v":9308.14083225199},576.25916774802]
[27,56,{"$f":"IF(B42=\"\",0,VLOOKUP(B42,'Mortality&Morbidity'!AB:AJ,9,FALSE)/1000)","v":0.003469},0,0,0.003469,0,0,0,0.526234721413932,0.996531,965.216041842044,0,3.34833444915005,0,0,507.930194883006,{"$f":"IF(B41=\"\",0,SUM(Q42:$Q$122))","v":10459.9551745018},null,null,null,1.74038927453073,0,0,0,{"$f":"IF(B42=\"\",0,GP!Z42)","v":10000},{"$f":"IF(B42=\"\",0,GP!AA42)","v":0.2},{"$f":"IF(B42=\"\",0,GP!AB42)","v":0},null,null,null,0,{"$f":"IF(A42>PPP,0,SUMPRODUCT(AF42:$AF$122,Q42:$Q$122)/Q42)","v":0},null,null,{"$f":"IF(B42=\"\",0,IF(B42=106,0,SUMPRODUCT(Z42:$Z$122,V42:$V$122)/Q42))","v":3361.31077320085},{"$f":"IF(B42=\"\",0,IF(B42=106,0,SUMPRODUCT(AA42:$AA$122,Q42:$Q$122)*$D$10/Q42))","v":3349.1894515001},{"$f":"IF(B42=\"\",0,IF(B42=106,0,SUMPRODUCT(AB42:$AB$122,Q42:$Q$122)/Q42))","v":2828.45897637823},null,9538.95920107917,0,9538.95920107917,{"$f":"CSV!AJ42","v":7064.6},9538.95920107917,9423.35920107918,{"$f":"IF(B41=\"\",0,(AF41+AS41)*(VLOOKUP(A41,#REF!,2,TRUE)-$G$4))","v":{"$error":"#REF!"}},0,0,{"$f":"IF(B41=\"\",0,(AF41+AS41)*(VLOOKUP(A41,#REF!,2,TRUE)+PAD_Int-$G$4))","v":{"$error":"#REF!"}},null,0,186.16281664504,325.78492912882,0,4894.37820311961,8565.16185545931,null,186.16281664504,{"$f":"'SA&Table'!EK2","v":9423.35920107918},461.040798920831]
[28,57,{"$f":"IF(B43=\"\",0,VLOOKUP(B43,'Mortality&Morbidity'!AB:AJ,9,FALSE)/1000)","v":0.003731},0,0,0.003731,0,0,0,0.513399728208714,0.996269,961.867707392894,0,3.58872841628289,0,0,493.822619548251,{"$f":"IF(B42=\"\",0,SUM(Q43:$Q$122))","v":9952.02497961876},null,null,null,1.81984456196601,0,0,0,{"$f":"IF(B43=\"\",0,GP!Z43)","v":10000},{"$f":"IF(B43=\"\",0,GP!AA43)","v":0.2},{"$f":"IF(B43=\"\",0,GP!AB43)","v":0},null,null,null,0,{"$f":"IF(A43>PPP,0,SUMPRODUCT(AF43:$AF$122,Q43:$Q$122)/Q43)","v":0},null,null,{"$f":"IF(B43=\"\",0,IF(B43=106,0,SUMPRODUCT(Z43:$Z$122,V43:$V$122)/Q43))","v":3422.09383785392},{"$f":"IF(B43=\"\",0,IF(B43=106,0,SUMPRODUCT(AA43:$AA$122,Q43:$Q$122)*$D$10/Q43))","v":3325.9669671968},{"$f":"IF(B43=\"\",0,IF(B43=106,0,SUMPRODUCT(AB43:$AB$122,Q43:$Q$122)/Q43))","v":2909.26268303513},null,9657.32348808585,0,9657.32348808585,{"$f":"CSV!AJ43","v":7220.6},9657.32348808585,9541.72348808586,{"$f":"IF(B42=\"\",0,(AF42+AS42)*(VLOOKUP(A42,#REF!,2,TRUE)-$G$4))","v":{"$error":"#REF!"}},0,0,{"$f":"IF(B42=\"\",0,(AF42+AS42)*(VLOOKUP(A42,#REF!,2,TRUE)+PAD_Int-$G$4))","v":{"$error":"#REF!"}},null,0,188.467184021584,329.817572037771,0,5229.67673323478,9151.93428316086,null,188.467184021584,{"$f":"'SA&Table'!EL2","v":9541.72348808586},342.676511914149]
[29,58,{"$f":"IF(B44=\"\",0,VLOOKUP(B44,'Mortality&Morbidity'!AB:AJ,9,FALSE)/1000)","v":0.004014},0,0,0.004014,0,0,0,0.500877783618258,0.995986,958.278978976611,0,3.84653182161212,0,0,479.980651077772,{"$f":"IF(B43=\"\",0,SUM(Q44:$Q$122))","v":9458.20236007051},null,null,null,1.90300165488306,0,0,0,{"$f":"IF(B44=\"\",0,GP!Z44)","v":10000},{"$f":"IF(B44=\"\",0,GP!AA44)","v":0.2},{"$f":"IF(B44=\"\",0,GP!AB44)","v":0},null,null,null,0,{"$f":"IF(A44>PPP,0,SUMPRODUCT(AF44:$AF$122,Q44:$Q$122)/Q44)","v":0},null,null,{"$f":"IF(B44=\"\",0,IF(B44=106,0,SUMPRODUCT(Z44:$Z$122,V44:$V$122)/Q44))","v":3482.86726553571},{"$f":"IF(B44=\"\",0,IF(B44=106,0,SUMPRODUCT(AA44:$AA$122,Q44:$Q$122)*$D$10/Q44))","v":3302.94944575885},{"$f":"IF(B44=\"\",0,IF(B44=106,0,SUMPRODUCT(AB44:$AB$122,Q44:$Q$122)/Q44))","v":2993.16173655008},null,9778.97844784464,0,9778.97844784464,{"$f":"CSV!AJ44","v":7383.6},9778.97844784464,9663.37844784464,{"$f":"IF(B43=\"\",0,(AF43+AS43)*(VLOOKUP(A43,#REF!,2,TRUE)-$G$4))","v":{"$error":"#REF!"}},0,0,{"$f":"IF(B43=\"\",0,(AF43+AS43)*(VLOOKUP(A43,#REF!,2,TRUE)+PAD_Int-$G$4))","v":{"$error":"#REF!"}},null,0,190.834469761717,333.960322083005,0,5577.40150499354,9760.4526337387,null,190.834469761717,{"$f":"'SA&Table'!EM2","v":9663.37844784464},221.02155215536]
[30,59,{"$f":"IF(B45=\"\",0,VLOOKUP(B45,'Mortality&Morbidity'!AB:AJ,9,FALSE)/1000)","v":0.004323},0,0,0.004323,0,0,0,0.488661252310495,0.995677,954.432447154999,0,4.12601146905106,0,0,466.394154872533,{"$f":"IF(B44=\"\",0,SUM(Q45:$Q$122))","v":8978.22170899274},null,null,null,1.99148207517034,0,0,0,{"$f":"IF(B45=\"\",0,GP!Z45)","v":10000},{"$f":"IF(B45=\"\",0,GP!AA45)","v":0.2},{"$f":"IF(B45=\"\",0,GP!AB45)","v":0},null,null,null,0,{"$f":"IF(A45>PPP,0,SUMPRODUCT(AF45:$AF$122,Q45:$Q$122)/Q45)","v":0},null,null,{"$f":"IF(B45=\"\",0,IF(B45=106,0,SUMPRODUCT(Z45:$Z$122,V45:$V$122)/Q45))","v":3543.52399984974},{"$f":"IF(B45=\"\",0,IF(B45=106,0,SUMPRODUCT(AA45:$AA$122,Q45:$Q$122)*$D$10/Q45))","v":3280.19990431876},{"$f":"IF(B45=\"\",0,IF(B45=106,0,SUMPRODUCT(AB45:$AB$122,Q45:$Q$122)/Q45))","v":3080.35532624337},null,9904.07923041187,0,9904.07923041187,{"$f":"CSV!AJ45","v":7552.6},9904.07923041187,9788.47923041187,{"$f":"IF(B44=\"\",0,(AF44+AS44)*(VLOOKUP(A44,#REF!,2,TRUE)-$G$4))","v":{"$error":"#REF!"}},0,0,{"$f":"IF(B44=\"\",0,(AF44+AS44)*(VLOOKUP(A44,#REF!,2,TRUE)+PAD_Int-$G$4))","v":{"$error":"#REF!"}},null,0,193.267568956893,338.218245674562,0,5937.99111910024,10391.4844584254,null,193.267568956893,{"$f":"'SA&Table'!EN2","v":9788.47923041187},95.9207695881305]
[31,60,{"$f":"IF(B46=\"\",0,VLOOKUP(B46,'Mortality&Morbidity'!AB:AJ,9,FALSE)/1000)","v":0.00466},0,0,0.00466,0,0,0,0.476742685180971,0.99534,950.306435685948,0,4.42842799029652,0,0,453.051641893677,{"$f":"IF(B45=\"\",0,SUM(Q46:$Q$122))","v":8511.82755412021},null,null,null,2.08531512227229,0,0,0,{"$f":"IF(B46=\"\",0,GP!Z46)","v":10000},{"$f":"IF(B46=\"\",0,GP!AA46)","v":0.3},{"$f":"IF(B46=\"\",0,GP!AB46)","v":0},null,null,null,0,{"$f":"IF(A46>PPP,0,SUMPRODUCT(AF46:$AF$122,Q46:$Q$122)/Q46)","v":0},null,null,{"$f":"IF(B46=\"\",0,IF(B46=106,0,SUMPRODUCT(Z46:$Z$122,V46:$V$122)/Q46))","v":3603.92482765118},{"$f":"IF(B46=\"\",0,IF(B46=106,0,SUMPRODUCT(AA46:$AA$122,Q46:$Q$122)*$D$10/Q46))","v":3257.7983642554},{"$f":"IF(B46=\"\",0,IF(B46=106,0,SUMPRODUCT(AB46:$AB$122,Q46:$Q$122)/Q46))","v":3171.07275692765},null,10032.7959488342,0,10032.7959488342,{"$f":"CSV!AJ46","v":7727.4},10032.7959488342,9859.39594883424,{"$f":"IF(B45=\"\",0,(AF45+AS45)*(VLOOKUP(A45,#REF!,2,TRUE)-$G$4))","v":{"$error":"#REF!"}},0,0,{"$f":"IF(B45=\"\",0,(AF45+AS45)*(VLOOKUP(A45,#REF!,2,TRUE)+PAD_Int-$G$4))","v":{"$error":"#REF!"}},null,0,195.769584608237,342.596773064415,0,6311.90043728148,11045.8257652426,null,195.769584608237,{"$f":"'SA&Table'!EO2","v":9859.39594883424},-32.7959488342003]
[32,61,{"$f":"IF(B47=\"\",0,VLOOKUP(B47,'Mortality&Morbidity'!AB:AJ,9,FALSE)/1000)","v":0.005034},0,0,0.005034,0,0,0,0.465114814810704,0.994966,945.878007695652,0,4.76154989073991,0,0,439.94187438288,{"$f":"IF(B46=\"\",0,SUM(Q47:$Q$122))","v":8058.77591222653},null,null,null,2.18749253341187,0,0,0,{"$f":"IF(B47=\"\",0,GP!Z47)","v":10000},{"$f":"IF(B47=\"\",0,GP!AA47)","v":0.3},{"$f":"IF(B47=\"\",0,GP!AB47)","v":0},null,null,null,0,{"$f":"IF(A47>PPP,0,SUMPRODUCT(AF47:$AF$122,Q47:$Q$122)/Q47)","v":0},null,null,{"$f":"IF(B47=\"\",0,IF(B47=106,0,SUMPRODUCT(Z47:$Z$122,V47:$V$122)/Q47))","v":3663.91790157986},{"$f":"IF(B47=\"\",0,IF(B47=106,0,SUMPRODUCT(AA47:$AA$122,Q47:$Q$122)*$D$10/Q47))","v":3176.30992762452},{"$f":"IF(B47=\"\",0,IF(B47=106,0,SUMPRODUCT(AB47:$AB$122,Q47:$Q$122)/Q47))","v":3265.56711862363},null,10105.794947828,0,10105.794947828,{"$f":"CSV!AJ47","v":7850.4},10105.794947828,9932.394947828,{"$f":"IF(B46=\"\",0,(AF46+AS46)*(VLOOKUP(A46,#REF!,2,TRUE)-$G$4))","v":{"$error":"#REF!"}},0,0,{"$f":"IF(B46=\"\",0,(AF46+AS46)*(VLOOKUP(A46,#REF!,2,TRUE)+PAD_Int-$G$4))","v":{"$error":"#REF!"}},null,0,197.187918976685,345.078858209198,0,6698.44536937661,11722.2793964091,null,197.187918976685,{"$f":"'SA&Table'!EP2","v":9932.394947828},-105.794947828001]
[33,62,{"$f":"IF(B48=\"\",0,VLOOKUP(B48,'Mortality&Morbidity'!AB:AJ,9,FALSE)/1000)","v":0.005448},0,0,0.005448,0,0,0,0.453770551034833,0.994552,941.116457804912,{"$f":"IF(B48=\"\",0,D48*L48)","v":0},{"$f":"IF(B48=\"\",0,F48*L48)","v":5.12720246212116},0,0,{"$f":"IF(A48>BP+1,0,J48*L48)","v":427.050933646085},{"$f":"IF(B47=\"\",0,SUM(Q48:$Q$122))","v":7618.83403784365},null,null,null,2.2980254914001,{"$f":"IF(B48=\"\",0,IF(A48=1,J49*O48/2*$G$8,J49*O48*$G$6))","v":0},{"$f":"IF(B48=\"\",0,J49*P48*$G$6)","v":0},{"$f":"IF(B48=\"\",\"\",IF(A48<=PPP,1,0))","v":0},{"$f":"IF(B48=\"\",0,GP!Z48)","v":10000},{"$f":"IF(B48=\"\",0,GP!AA48)","v":0.3},{"$f":"IF(B48=\"\",0,GP!AB48)","v":0},null,null,null,{"$f":"IF(B48=\"\",0,IF(A48=1,$AH$5,IF(A48>PPP,0,$AH$6)))","v":0},{"$f":"IF(A48>PPP,0,SUMPRODUCT(AF48:$AF$122,Q48:$Q$122)/Q48)","v":0},null,null,{"$f":"IF(B48=\"\",0,IF(B48=106,0,SUMPRODUCT(Z48:$Z$122,V48:$V$122)/Q48))","v":3723.29354322321},{"$f":"IF(B48=\"\",0,IF(B48=106,0,SUMPRODUCT(AA48:$AA$122,Q48:$Q$122)*$D$10/Q48))","v":3093.55563488112},{"$f":"IF(B48=\"\",0,IF(B48=106,0,SUMPRODUCT(AB48:$AB$122,Q48:$Q$122)/Q48))","v":3364.14138431788},null,10180.9905624222,{"$f":"IF(B48=\"\",0,IF(B48=106,0,IF(A48=1,0,MAX($AH$6-$M$4,0)*(R48-LOOKUP(PPP+1,A:A,R:R))/Q48)*(A48<=PPP)))","v":0},10180.9905624222,{"$f":"CSV!AJ48","v":7976.4},10180.9905624222,10007.5905624222,{"$f":"IF(B47=\"\",0,(AF47+AS47)*(VLOOKUP(A47,#REF!,2,TRUE)-$G$4))","v":{"$error":"#REF!"}},0,0,{"$f":"IF(B47=\"\",0,(AF47+AS47)*(VLOOKUP(A47,#REF!,2,TRUE)+PAD_Int-$G$4))","v":{"$error":"#REF!"}},null,0,198.64789895656,347.63382317398,0,7098.04662941447,12421.5816014753,null,198.64789895656,{"$f":"'SA&Table'!EQ2","v":10007.5905624222},-180.990562422199]
[{"$f":"IF(A48=\"\",\"\",IF(A48<BP,A48+1,\"\"))","v":34},63,{"$f":"IF(B49=\"\",0,VLOOKUP(B49,'Mortality&Morbidity'!AB:AJ,9,FALSE)/1000)","v":0.005909},0,0,0.005909,0,0,0,0.442702976619349,0.994091,{"$f":"IF(B48=\"\",0,L48*K48)","v":935.989255342791},0,5.53076050982055,0,0,414.365229423981,{"$f":"IF(B48=\"\",0,SUM(Q49:$Q$122))","v":7191.78310419756},null,null,null,2.41844025266325,0,0,0,{"$f":"IF(B49=\"\",0,GP!Z49)","v":10000},{"$f":"IF(B49=\"\",0,GP!AA49)","v":0.3},{"$f":"IF(B49=\"\",0,GP!AB49)","v":0},null,null,null,0,{"$f":"IF(A49>PPP,0,SUMPRODUCT(AF49:$AF$122,Q49:$Q$122)/Q49)","v":0},null,null,{"$f":"IF(B49=\"\",0,IF(B49=106,0,SUMPRODUCT(Z49:$Z$122,V49:$V$122)/Q49))","v":3781.82245439926},{"$f":"IF(B49=\"\",0,IF(B49=106,0,SUMPRODUCT(AA49:$AA$122,Q49:$Q$122)*$D$10/Q49))","v":3009.55558457793},{"$f":"IF(B49=\"\",0,IF(B49=106,0,SUMPRODUCT(AB49:$AB$122,Q49:$Q$122)/Q49))","v":3467.13386421808},null,10258.5119031953,0,10258.5119031953,{"$f":"CSV!AJ49","v":8108.4},10258.5119031953,10085.1119031953,{"$f":"IF(B48=\"\",0,(AF48+AS48)*(VLOOKUP(A48,#REF!,2,TRUE)-$G$4))","v":{"$error":"#REF!"}},0,0,{"$f":"IF(B48=\"\",0,(AF48+AS48)*(VLOOKUP(A48,#REF!,2,TRUE)+PAD_Int-$G$4))","v":{"$error":"#REF!"}},null,0,200.151811248444,350.265669684777,0,7511.13983954535,13144.4947192044,null,200.151811248444,{"$f":"'SA&Table'!ER2","v":10085.1119031953},-258.5119031953]
[35,64,{"$f":"IF(B50=\"\",0,VLOOKUP(B50,'Mortality&Morbidity'!AB:AJ,9,FALSE)/1000)","v":0.006422},0,0,0.006422,0,0,0,0.431905343043267,0.993578,930.45849483297,0,5.97540445381733,0,0,401.869995398356,{"$f":"IF(B49=\"\",0,SUM(Q50:$Q$122))","v":6777.41787477358},null,null,null,2.54914154169263,0,0,0,{"$f":"IF(B50=\"\",0,GP!Z50)","v":10000},{"$f":"IF(B50=\"\",0,GP!AA50)","v":0.3},{"$f":"IF(B50=\"\",0,GP!AB50)","v":0},null,null,null,0,{"$f":"IF(A50>PPP,0,SUMPRODUCT(AF50:$AF$122,Q50:$Q$122)/Q50)","v":0},null,null,{"$f":"IF(B50=\"\",0,IF(B50=106,0,SUMPRODUCT(Z50:$Z$122,V50:$V$122)/Q50))","v":3839.22996018127},{"$f":"IF(B50=\"\",0,IF(B50=106,0,SUMPRODUCT(AA50:$AA$122,Q50:$Q$122)*$D$10/Q50))","v":2924.33939568146},{"$f":"IF(B50=\"\",0,IF(B50=106,0,SUMPRODUCT(AB50:$AB$122,Q50:$Q$122)/Q50))","v":3574.93651066506},null,10338.5058665278,0,10338.5058665278,{"$f":"CSV!AJ50","v":8245.4},10338.5058665278,10165.1058665278,{"$f":"IF(B49=\"\",0,(AF49+AS49)*(VLOOKUP(A49,#REF!,2,TRUE)-$G$4))","v":{"$error":"#REF!"}},0,0,{"$f":"IF(B49=\"\",0,(AF49+AS49)*(VLOOKUP(A49,#REF!,2,TRUE)+PAD_Int-$G$4))","v":{"$error":"#REF!"}},null,0,201.702238063906,352.978916611835,0,7938.17627279561,13891.8084773923,null,201.702238063906,{"$f":"'SA&Table'!ES2","v":10165.1058665278},-338.505866527799]
[36,65,{"$f":"IF(B51=\"\",0,VLOOKUP(B51,'Mortality&Morbidity'!AB:AJ,9,FALSE)/1000)","v":0.006988},0,0,0.006988,0,0,0,0.421371066383675,0.993012,924.483090379153,0,6.46028783556952,0,0,389.550425646739,{"$f":"IF(B50=\"\",0,SUM(Q51:$Q$122))","v":6375.54787937522},null,null,null,2.68877614777352,0,0,0,{"$f":"IF(B51=\"\",0,GP!Z51)","v":10000},{"$f":"IF(B51=\"\",0,GP!AA51)","v":0.3},{"$f":"IF(B51=\"\",0,GP!AB51)","v":0},null,null,null,0,{"$f":"IF(A51>PPP,0,SUMPRODUCT(AF51:$AF$122,Q51:$Q$122)/Q51)","v":0},null,null,{"$f":"IF(B51=\"\",0,IF(B51=106,0,SUMPRODUCT(Z51:$Z$122,V51:$V$122)/Q51))","v":3895.20794001231},{"$f":"IF(B51=\"\",0,IF(B51=106,0,SUMPRODUCT(AA51:$AA$122,Q51:$Q$122)*$D$10/Q51))","v":2837.93811917483},{"$f":"IF(B51=\"\",0,IF(B51=106,0,SUMPRODUCT(AB51:$AB$122,Q51:$Q$122)/Q51))","v":3687.99422232747},null,10421.1402815146,0,10421.1402815146,{"$f":"CSV!AJ51","v":8388.4},10421.1402815146,10247.7402815146,{"$f":"IF(B50=\"\",0,(AF50+AS50)*(VLOOKUP(A50,#REF!,2,TRUE)-$G$4))","v":{"$error":"#REF!"}},0,0,{"$f":"IF(B50=\"\",0,(AF50+AS50)*(VLOOKUP(A50,#REF!,2,TRUE)+PAD_Int-$G$4))","v":{"$error":"#REF!"}},null,0,203.302117330556,355.778705328473,0,8379.62367831004,14664.3414370426,null,203.302117330556,{"$f":"'SA&Table'!ET2","v":10247.7402815146},-421.140281514599]
[37,66,{"$f":"IF(B52=\"\",0,VLOOKUP(B52,'Mortality&Morbidity'!AB:AJ,9,FALSE)/1000)","v":0.00761},0,0,0.00761,0,0,0,0.411093723301147,0.99239,918.022802543583,0,6.98615352735667,0,0,377.393411972995,{"$f":"IF(B51=\"\",0,SUM(Q52:$Q$122))","v":5985.99745372849},null,null,null,2.83672371008173,0,0,0,{"$f":"IF(B52=\"\",0,GP!Z52)","v":10000},{"$f":"IF(B52=\"\",0,GP!AA52)","v":0.3},{"$f":"IF(B52=\"\",0,GP!AB52)","v":0},null,null,null,0,{"$f":"IF(A52>PPP,0,SUMPRODUCT(AF52:$AF$122,Q52:$Q$122)/Q52)","v":0},null,null,{"$f":"IF(B52=\"\",0,IF(B52=106,0,SUMPRODUCT(Z52:$Z$122,V52:$V$122)/Q52))","v":3949.43870838761},{"$f":"IF(B52=\"\",0,IF(B52=106,0,SUMPRODUCT(AA52:$AA$122,Q52:$Q$122)*$D$10/Q52))","v":2750.37116586124},{"$f":"IF(B52=\"\",0,IF(B52=106,0,SUMPRODUCT(AB52:$AB$122,Q52:$Q$122)/Q52))","v":3806.79596811081},null,10506.6058423597,0,10506.6058423597,{"$f":"CSV!AJ52","v":8536.4},10506.6058423597,10333.2058423597,{"$f":"IF(B51=\"\",0,(AF51+AS51)*(VLOOKUP(A51,#REF!,2,TRUE)-$G$4))","v":{"$error":"#REF!"}},0,0,{"$f":"IF(B51=\"\",0,(AF51+AS51)*(VLOOKUP(A51,#REF!,2,TRUE)+PAD_Int-$G$4))","v":{"$error":"#REF!"}},null,0,204.954805630292,358.670909853011,0,8835.96719428963,15462.9425900069,null,204.954805630292,{"$f":"'SA&Table'!EU2","v":10333.2058423597},-506.605842359701]
[38,67,{"$f":"IF(B53=\"\",0,VLOOKUP(B53,'Mortality&Morbidity'!AB:AJ,9,FALSE)/1000)","v":0.008292},0,0,0.008292,0,0,0,0.40106704712307,0.991708,911.036649016227,0,7.55431589364255,0,0,365.386778641835,{"$f":"IF(B52=\"\",0,SUM(Q53:$Q$122))","v":5608.60404175549},null,null,null,2.99261045787472,0,0,0,{"$f":"IF(B53=\"\",0,GP!Z53)","v":10000},{"$f":"IF(B53=\"\",0,GP!AA53)","v":0.3},{"$f":"IF(B53=\"\",0,GP!AB53)","v":0},null,null,null,0,{"$f":"IF(A53>PPP,0,SUMPRODUCT(AF53:$AF$122,Q53:$Q$122)/Q53)","v":0},null,null,{"$f":"IF(B53=\"\",0,IF(B53=106,0,SUMPRODUCT(Z53:$Z$122,V53:$V$122)/Q53))","v":4001.58133217247},{"$f":"IF(B53=\"\",0,IF(B53=106,0,SUMPRODUCT(AA53:$AA$122,Q53:$Q$122)*$D$10/Q53))","v":2661.65060612035},{"$f":"IF(B53=\"\",0,IF(B53=106,0,SUMPRODUCT(AB53:$AB$122,Q53:$Q$122)/Q53))","v":3931.88753142775},null,10595.1194697206,0,10595.1194697206,{"$f":"CSV!AJ53","v":8689.4},10595.1194697206,10421.7194697206,{"$f":"IF(B52=\"\",0,(AF52+AS52)*(VLOOKUP(A52,#REF!,2,TRUE)-$G$4))","v":{"$error":"#REF!"}},0,0,{"$f":"IF(B52=\"\",0,(AF52+AS52)*(VLOOKUP(A52,#REF!,2,TRUE)+PAD_Int-$G$4))","v":{"$error":"#REF!"}},null,0,206.664116847194,361.662204482589,0,9307.71032696552,16288.4930721897,null,206.664116847194,{"$f":"'SA&Table'!EV2","v":10421.7194697206},-595.119469720599]
[39,68,{"$f":"IF(B54=\"\",0,VLOOKUP(B54,'Mortality&Morbidity'!AB:AJ,9,FALSE)/1000)","v":0.009046},0,0,0.009046,0,0,0,0.391284924022507,0.990954,903.482333122584,0,8.17290118542689,0,0,353.519016071548,{"$f":"IF(B53=\"\",0,SUM(Q54:$Q$122))","v":5243.21726311366},null,null,null,3.15869309134779,0,0,0,{"$f":"IF(B54=\"\",0,GP!Z54)","v":10000},{"$f":"IF(B54=\"\",0,GP!AA54)","v":0.3},{"$f":"IF(B54=\"\",0,GP!AB54)","v":0},null,null,null,0,{"$f":"IF(A54>PPP,0,SUMPRODUCT(AF54:$AF$122,Q54:$Q$122)/Q54)","v":0},null,null,{"$f":"IF(B54=\"\",0,IF(B54=106,0,SUMPRODUCT(Z54:$Z$122,V54:$V$122)/Q54))","v":4051.26384366037},{"$f":"IF(B54=\"\",0,IF(B54=106,0,SUMPRODUCT(AA54:$AA$122,Q54:$Q$122)*$D$10/Q54))","v":2571.78208834996},{"$f":"IF(B54=\"\",0,IF(B54=106,0,SUMPRODUCT(AB54:$AB$122,Q54:$Q$122)/Q54))","v":4063.88243284661},null,10686.9283648569,0,10686.9283648569,{"$f":"CSV!AJ54","v":8850.4},10686.9283648569,10513.5283648569,{"$f":"IF(B53=\"\",0,(AF53+AS53)*(VLOOKUP(A53,#REF!,2,TRUE)-$G$4))","v":{"$error":"#REF!"}},0,0,{"$f":"IF(B53=\"\",0,(AF53+AS53)*(VLOOKUP(A53,#REF!,2,TRUE)+PAD_Int-$G$4))","v":{"$error":"#REF!"}},null,0,208.434389394412,364.760181440221,0,9795.37602616889,17141.9080457956,null,208.434389394412,{"$f":"'SA&Table'!EW2","v":10513.5283648569},-686.9283648569]
[40,69,{"$f":"IF(B55=\"\",0,VLOOKUP(B55,'Mortality&Morbidity'!AB:AJ,9,FALSE)/1000)","v":0.009897},0,0,0.009897,0,0,0,0.381741389290251,0.990103,895.309431937157,0,8.86087744788204,0,0,341.776666392356,{"$f":"IF(B54=\"\",0,SUM(Q55:$Q$122))","v":4889.69824704211},null,null,null,3.34105824672911,0,0,0,{"$f":"IF(B55=\"\",0,GP!Z55)","v":10000},{"$f":"IF(B55=\"\",0,GP!AA55)","v":0.3},{"$f":"IF(B55=\"\",0,GP!AB55)","v":0},null,null,null,0,{"$f":"IF(A55>PPP,0,SUMPRODUCT(AF55:$AF$122,Q55:$Q$122)/Q55)","v":0},null,null,{"$f":"IF(B55=\"\",0,IF(B55=106,0,SUMPRODUCT(Z55:$Z$122,V55:$V$122)/Q55))","v":4098.03247169509},{"$f":"IF(B55=\"\",0,IF(B55=106,0,SUMPRODUCT(AA55:$AA$122,Q55:$Q$122)*$D$10/Q55))","v":2480.78280178364},{"$f":"IF(B55=\"\",0,IF(B55=106,0,SUMPRODUCT(AB55:$AB$122,Q55:$Q$122)/Q55))","v":4203.50439441969},null,10782.3196678984,0,10782.3196678984,{"$f":"CSV!AJ55","v":9017.4},10782.3196678984,10608.9196678984,{"$f":"IF(B54=\"\",0,(AF54+AS54)*(VLOOKUP(A54,#REF!,2,TRUE)-$G$4))","v":{"$error":"#REF!"}},0,0,{"$f":"IF(B54=\"\",0,(AF54+AS54)*(VLOOKUP(A54,#REF!,2,TRUE)+PAD_Int-$G$4))","v":{"$error":"#REF!"}},null,0,210.270567297138,367.973492769991,0,10299.5078742511,18024.1387799394,null,210.270567297138,{"$f":"'SA&Table'!EX2","v":10608.9196678984},-782.3196678984]
[41,70,{"$f":"IF(B56=\"\",0,VLOOKUP(B56,'Mortality&Morbidity'!AB:AJ,9,FALSE)/1000)","v":0.010888},0,0,0.010888,0,0,0,0.372430623697806,0.989112,886.448554489275,0,9.65165186127923,0,0,330.140588024459,{"$f":"IF(B55=\"\",0,SUM(Q56:$Q$122))","v":4547.92158064975},null,null,null,3.55046388977476,0,0,0,{"$f":"IF(B56=\"\",0,GP!Z56)","v":10000},{"$f":"IF(B56=\"\",0,GP!AA56)","v":0.3},{"$f":"IF(B56=\"\",0,GP!AB56)","v":0},null,null,null,0,{"$f":"IF(A56>PPP,0,SUMPRODUCT(AF56:$AF$122,Q56:$Q$122)/Q56)","v":0},null,null,{"$f":"IF(B56=\"\",0,IF(B56=106,0,SUMPRODUCT(Z56:$Z$122,V56:$V$122)/Q56))","v":4141.2699439882},{"$f":"IF(B56=\"\",0,IF(B56=106,0,SUMPRODUCT(AA56:$AA$122,Q56:$Q$122)*$D$10/Q56))","v":2388.70841905159},{"$f":"IF(B56=\"\",0,IF(B56=106,0,SUMPRODUCT(AB56:$AB$122,Q56:$Q$122)/Q56))","v":4351.66038713163},null,10881.6387501714,0,10881.6387501714,{"$f":"CSV!AJ56","v":9191.4},10881.6387501714,10708.2387501714,{"$f":"IF(B55=\"\",0,(AF55+AS55)*(VLOOKUP(A55,#REF!,2,TRUE)-$G$4))","v":{"$error":"#REF!"}},0,0,{"$f":"IF(B55=\"\",0,(AF55+AS55)*(VLOOKUP(A55,#REF!,2,TRUE)+PAD_Int-$G$4))","v":{"$error":"#REF!"}},null,0,212.178393357968,371.312188376444,0,10820.6715038366,18936.1751317141,null,212.178393357968,{"$f":"'SA&Table'!EY2","v":10708.2387501714},-881.6387501714]
[42,71,{"$f":"IF(B57=\"\",0,VLOOKUP(B57,'Mortality&Morbidity'!AB:AJ,9,FALSE)/1000)","v":0.01208},0,0,0.01208,0,0,0,0.363346949949079,0.98792,876.796902627996,0,10.5917065837462,0,0,318.581480294682,{"$f":"IF(B56=\"\",0,SUM(Q57:$Q$122))","v":4217.78099262529},null,null,null,3.80124207294046,0,0,0,{"$f":"IF(B57=\"\",0,GP!Z57)","v":10000},{"$f":"IF(B57=\"\",0,GP!AA57)","v":0.3},{"$f":"IF(B57=\"\",0,GP!AB57)","v":0},null,null,null,0,{"$f":"IF(A57>PPP,0,SUMPRODUCT(AF57:$AF$122,Q57:$Q$122)/Q57)","v":0},null,null,{"$f":"IF(B57=\"\",0,IF(B57=106,0,SUMPRODUCT(Z57:$Z$122,V57:$V$122)/Q57))","v":4180.0818250538},{"$f":"IF(B57=\"\",0,IF(B57=106,0,SUMPRODUCT(AA57:$AA$122,Q57:$Q$122)*$D$10/Q57))","v":2295.68656484592},{"$f":"IF(B57=\"\",0,IF(B57=106,0,SUMPRODUCT(AB57:$AB$122,Q57:$Q$122)/Q57))","v":4509.55189787397},null,10985.3202877737,0,10985.3202877737,{"$f":"CSV!AJ57","v":9372.4},10985.3202877737,10811.9202877737,{"$f":"IF(B56=\"\",0,(AF56+AS56)*(VLOOKUP(A56,#REF!,2,TRUE)-$G$4))","v":{"$error":"#REF!"}},0,0,{"$f":"IF(B56=\"\",0,(AF56+AS56)*(VLOOKUP(A56,#REF!,2,TRUE)+PAD_Int-$G$4))","v":{"$error":"#REF!"}},null,0,214.164775003428,374.788356255999,0,11359.4564239551,19879.0487419215,null,214.164775003428,{"$f":"'SA&Table'!EZ2","v":10811.9202877737},-985.3202877737]
[43,72,{"$f":"IF(B58=\"\",0,VLOOKUP(B58,'Mortality&Morbidity'!AB:AJ,9,FALSE)/1000)","v":0.01355},0,0,0.01355,0,0,0,0.354484829218614,0.98645,866.20519604425,0,11.7370804063996,0,0,307.056600988022,{"$f":"IF(B57=\"\",0,SUM(Q58:$Q$122))","v":3899.19951233061},null,null,null,4.10956449530578,0,0,0,{"$f":"IF(B58=\"\",0,GP!Z58)","v":10000},{"$f":"IF(B58=\"\",0,GP!AA58)","v":0.3},{"$f":"IF(B58=\"\",0,GP!AB58)","v":0},null,null,null,0,{"$f":"IF(A58>PPP,0,SUMPRODUCT(AF58:$AF$122,Q58:$Q$122)/Q58)","v":0},null,null,{"$f":"IF(B58=\"\",0,IF(B58=106,0,SUMPRODUCT(Z58:$Z$122,V58:$V$122)/Q58))","v":4213.1783869372},{"$f":"IF(B58=\"\",0,IF(B58=106,0,SUMPRODUCT(AA58:$AA$122,Q58:$Q$122)*$D$10/Q58))","v":2201.94320285758},{"$f":"IF(B58=\"\",0,IF(B58=106,0,SUMPRODUCT(AB58:$AB$122,Q58:$Q$122)/Q58))","v":4678.81072892625},null,11093.932318721,0,11093.932318721,{"$f":"CSV!AJ58","v":9562.4},11093.932318721,10920.532318721,{"$f":"IF(B57=\"\",0,(AF57+AS57)*(VLOOKUP(A57,#REF!,2,TRUE)-$G$4))","v":{"$error":"#REF!"}},0,0,{"$f":"IF(B57=\"\",0,(AF57+AS57)*(VLOOKUP(A57,#REF!,2,TRUE)+PAD_Int-$G$4))","v":{"$error":"#REF!"}},null,0,216.238405755474,378.41721007208,0,11916.4785224293,20853.8374142512,null,216.238405755474,{"$f":"'SA&Table'!FA2","v":10920.532318721},-1093.932318721]
[44,73,{"$f":"IF(B59=\"\",0,VLOOKUP(B59,'Mortality&Morbidity'!AB:AJ,9,FALSE)/1000)","v":0.015387},0,0,0.015387,0,0,0,0.345838857774257,0.984613,854.46811563785,0,13.1477008953196,0,0,295.508277116716,{"$f":"IF(B58=\"\",0,SUM(Q59:$Q$122))","v":3592.14291134259},null,null,null,4.49119250946416,0,0,0,{"$f":"IF(B59=\"\",0,GP!Z59)","v":10000},{"$f":"IF(B59=\"\",0,GP!AA59)","v":0.3},{"$f":"IF(B59=\"\",0,GP!AB59)","v":0},null,null,null,0,{"$f":"IF(A59>PPP,0,SUMPRODUCT(AF59:$AF$122,Q59:$Q$122)/Q59)","v":0},null,null,{"$f":"IF(B59=\"\",0,IF(B59=106,0,SUMPRODUCT(Z59:$Z$122,V59:$V$122)/Q59))","v":4238.75974682544},{"$f":"IF(B59=\"\",0,IF(B59=106,0,SUMPRODUCT(AA59:$AA$122,Q59:$Q$122)*$D$10/Q59))","v":2107.81771293935},{"$f":"IF(B59=\"\",0,IF(B59=106,0,SUMPRODUCT(AB59:$AB$122,Q59:$Q$122)/Q59))","v":4861.65644193766},null,11208.2339017025,0,11208.2339017025,{"$f":"CSV!AJ59","v":9760.4},11208.2339017025,11034.8339017025,{"$f":"IF(B58=\"\",0,(AF58+AS58)*(VLOOKUP(A58,#REF!,2,TRUE)-$G$4))","v":{"$error":"#REF!"}},0,0,{"$f":"IF(B58=\"\",0,(AF58+AS58)*(VLOOKUP(A58,#REF!,2,TRUE)+PAD_Int-$G$4))","v":{"$error":"#REF!"}},null,0,218.41064637442,382.218631155235,0,12492.3835244766,21861.671167834,null,218.41064637442,{"$f":"'SA&Table'!FB2","v":11034.8339017025},-1208.2339017025]
[45,74,{"$f":"IF(B60=\"\",0,VLOOKUP(B60,'Mortality&Morbidity'!AB:AJ,9,FALSE)/1000)","v":0.017686},0,0,0.017686,0,0,0,0.337403763682202,0.982314,841.32041474253,0,14.8795928551364,0,0,283.864674396801,{"$f":"IF(B59=\"\",0,SUM(Q60:$Q$122))","v":3296.63463422587},null,null,null,4.95882792254201,0,0,0,{"$f":"IF(B60=\"\",0,GP!Z60)","v":10184.4},{"$f":"IF(B60=\"\",0,GP!AA60)","v":0.3},{"$f":"IF(B60=\"\",0,GP!AB60)","v":0},null,null,null,0,{"$f":"IF(A60>PPP,0,SUMPRODUCT(AF60:$AF$122,Q60:$Q$122)/Q60)","v":0},null,null,{"$f":"IF(B60=\"\",0,IF(B60=106,0,SUMPRODUCT(Z60:$Z$122,V60:$V$122)/Q60))","v":4254.40984288618},{"$f":"IF(B60=\"\",0,IF(B60=106,0,SUMPRODUCT(AA60:$AA$122,Q60:$Q$122)*$D$10/Q60))","v":2013.76394153118},{"$f":"IF(B60=\"\",0,IF(B60=106,0,SUMPRODUCT(AB60:$AB$122,Q60:$Q$122)/Q60))","v":5061.07257672415},null,11329.2463611415,0,11329.2463611415,{"$f":"CSV!AJ60","v":9968.4},11329.2463611415,11155.8463611415,{"$f":"IF(B59=\"\",0,(AF59+AS59)*(VLOOKUP(A59,#REF!,2,TRUE)-$G$4))","v":{"$error":"#REF!"}},0,0,{"$f":"IF(B59=\"\",0,(AF59+AS59)*(VLOOKUP(A59,#REF!,2,TRUE)+PAD_Int-$G$4))","v":{"$error":"#REF!"}},null,0,220.69667803405,386.219186559587,0,13087.8517082449,22903.7404894286,null,220.69667803405,{"$f":"'SA&Table'!FC2","v":11155.8463611415},-1329.2463611415]
[46,75,{"$f":"IF(B61=\"\",0,VLOOKUP(B61,'Mortality&Morbidity'!AB:AJ,9,FALSE)/1000)","v":0.020539},0,0,0.020539,0,0,0,0.329174403592393,0.979461,826.440821887394,0,16.9742680407452,0,0,272.04316464919,{"$f":"IF(B60=\"\",0,SUM(Q61:$Q$122))","v":3012.76995982907},null,null,null,5.51893374677587,0,0,0,{"$f":"IF(B61=\"\",0,GP!Z61)","v":10408.4},{"$f":"IF(B61=\"\",0,GP!AA61)","v":0.3},{"$f":"IF(B61=\"\",0,GP!AB61)","v":0},null,null,null,0,{"$f":"IF(A61>PPP,0,SUMPRODUCT(AF61:$AF$122,Q61:$Q$122)/Q61)","v":0},null,null,{"$f":"IF(B61=\"\",0,IF(B61=106,0,SUMPRODUCT(Z61:$Z$122,V61:$V$122)/Q61))","v":4253.64106905357},{"$f":"IF(B61=\"\",0,IF(B61=106,0,SUMPRODUCT(AA61:$AA$122,Q61:$Q$122)*$D$10/Q61))","v":1920.33610441209},{"$f":"IF(B61=\"\",0,IF(B61=106,0,SUMPRODUCT(AB61:$AB$122,Q61:$Q$122)/Q61))","v":5280.99914196709},null,11454.9763154327,0,11454.9763154327,{"$f":"CSV!AJ61","v":10184.4},11454.9763154327,11281.5763154328,{"$f":"IF(B60=\"\",0,(AF60+AS60)*(VLOOKUP(A60,#REF!,2,TRUE)-$G$4))","v":{"$error":"#REF!"}},0,0,{"$f":"IF(B60=\"\",0,(AF60+AS60)*(VLOOKUP(A60,#REF!,2,TRUE)+PAD_Int-$G$4))","v":{"$error":"#REF!"}},null,0,223.11692722283,390.454622639953,0,13703.6041867151,23981.3073267514,null,223.11692722283,{"$f":"'SA&Table'!FD2","v":11281.5763154328},-1270.5763154327]
[47,76,{"$f":"IF(B62=\"\",0,VLOOKUP(B62,'Mortality&Morbidity'!AB:AJ,9,FALSE)/1000)","v":0.024017},0,0,0.024017,0,0,0,0.321145759602334,0.975983,809.466553846649,0,19.440958223735,0,0,259.956751307766,{"$f":"IF(B61=\"\",0,SUM(Q62:$Q$122))","v":2740.72679517988},null,null,null,6.16677248938434,0,0,0,{"$f":"IF(B62=\"\",0,GP!Z62)","v":10641.4},{"$f":"IF(B62=\"\",0,GP!AA62)","v":0.3},{"$f":"IF(B62=\"\",0,GP!AB62)","v":0},null,null,null,0,{"$f":"IF(A62>PPP,0,SUMPRODUCT(AF62:$AF$122,Q62:$Q$122)/Q62)","v":0},null,null,{"$f":"IF(B62=\"\",0,IF(B62=106,0,SUMPRODUCT(Z62:$Z$122,V62:$V$122)/Q62))","v":4230.43718681947},{"$f":"IF(B62=\"\",0,IF(B62=106,0,SUMPRODUCT(AA62:$AA$122,Q62:$Q$122)*$D$10/Q62))","v":1828.15804511092},{"$f":"IF(B62=\"\",0,IF(B62=106,0,SUMPRODUCT(AB62:$AB$122,Q62:$Q$122)/Q62))","v":5526.5335940035},null,11585.1288259339,0,11585.1288259339,{"$f":"CSV!AJ62","v":10408.4},11585.1288259339,11411.7288259339,{"$f":"IF(B61=\"\",0,(AF61+AS61)*(VLOOKUP(A61,#REF!,2,TRUE)-$G$4))","v":{"$error":"#REF!"}},0,0,{"$f":"IF(B61=\"\",0,(AF61+AS61)*(VLOOKUP(A61,#REF!,2,TRUE)+PAD_Int-$G$4))","v":{"$error":"#REF!"}},null,0,225.631526308656,394.855171040148,0,14340.3438386252,25095.6017175941,null,225.631526308656,{"$f":"'SA&Table'!FE2","v":11411.7288259339},-1176.7288259339]
[48,77,{"$f":"IF(B63=\"\",0,VLOOKUP(B63,'Mortality&Morbidity'!AB:AJ,9,FALSE)/1000)","v":0.028162},0,0,0.028162,0,0,0,0.313312936197399,0.971838,790.025595622914,0,22.2487008239325,0,0,247.525239035714,{"$f":"IF(B62=\"\",0,SUM(Q63:$Q$122))","v":2480.77004387212},null,null,null,6.88527118310467,0,0,0,{"$f":"IF(B63=\"\",0,GP!Z63)","v":10882.4},{"$f":"IF(B63=\"\",0,GP!AA63)","v":0.3},{"$f":"IF(B63=\"\",0,GP!AB63)","v":0},null,null,null,0,{"$f":"IF(A63>PPP,0,SUMPRODUCT(AF63:$AF$122,Q63:$Q$122)/Q63)","v":0},null,null,{"$f":"IF(B63=\"\",0,IF(B63=106,0,SUMPRODUCT(Z63:$Z$122,V63:$V$122)/Q63))","v":4177.78655201869},{"$f":"IF(B63=\"\",0,IF(B63=106,0,SUMPRODUCT(AA63:$AA$122,Q63:$Q$122)*$D$10/Q63))","v":1737.86530732471},{"$f":"IF(B63=\"\",0,IF(B63=106,0,SUMPRODUCT(AB63:$AB$122,Q63:$Q$122)/Q63))","v":5804.09385599297},null,11719.7457153364,0,11719.7457153364,{"$f":"CSV!AJ63","v":10641.4},11719.7457153364,11546.3457153364,{"$f":"IF(B62=\"\",0,(AF62+AS62)*(VLOOKUP(A62,#REF!,2,TRUE)-$G$4))","v":{"$error":"#REF!"}},0,0,{"$f":"IF(B62=\"\",0,(AF62+AS62)*(VLOOKUP(A62,#REF!,2,TRUE)+PAD_Int-$G$4))","v":{"$error":"#REF!"}},null,0,228.234576518678,399.410508907686,0,14998.7887303026,26247.8802780296,null,228.234576518678,{"$f":"'SA&Table'!FF2","v":11546.3457153364},-1078.3457153364]
[49,78,{"$f":"IF(B64=\"\",0,VLOOKUP(B64,'Mortality&Morbidity'!AB:AJ,9,FALSE)/1000)","v":0.032978},0,0,0.032978,0,0,0,0.305671157265755,0.967022,767.776894798982,0,25.3197464366808,0,0,234.687251955113,{"$f":"IF(B63=\"\",0,SUM(Q64:$Q$122))","v":2233.2448048364},null,null,null,7.64454920952632,0,0,0,{"$f":"IF(B64=\"\",0,GP!Z64)","v":11133.4},{"$f":"IF(B64=\"\",0,GP!AA64)","v":0.3},{"$f":"IF(B64=\"\",0,GP!AB64)","v":0},null,null,null,0,{"$f":"IF(A64>PPP,0,SUMPRODUCT(AF64:$AF$122,Q64:$Q$122)/Q64)","v":0},null,null,{"$f":"IF(B64=\"\",0,IF(B64=106,0,SUMPRODUCT(Z64:$Z$122,V64:$V$122)/Q64))","v":4087.05343735099},{"$f":"IF(B64=\"\",0,IF(B64=106,0,SUMPRODUCT(AA64:$AA$122,Q64:$Q$122)*$D$10/Q64))","v":1650.04552199835},{"$f":"IF(B64=\"\",0,IF(B64=106,0,SUMPRODUCT(AB64:$AB$122,Q64:$Q$122)/Q64))","v":6121.59249009896},null,11858.6914494483,0,11858.6914494483,{"$f":"CSV!AJ64","v":10882.4},11858.6914494483,11685.2914494483,{"$f":"IF(B63=\"\",0,(AF63+AS63)*(VLOOKUP(A63,#REF!,2,TRUE)-$G$4))","v":{"$error":"#REF!"}},0,0,{"$f":"IF(B63=\"\",0,(AF63+AS63)*(VLOOKUP(A63,#REF!,2,TRUE)+PAD_Int-$G$4))","v":{"$error":"#REF!"}},null,0,230.926914306728,404.122100036774,0,15679.6793065184,27439.4387864073,null,230.926914306728,{"$f":"'SA&Table'!FG2","v":11685.2914494483},-976.291449448301]
[50,79,{"$f":"IF(B65=\"\",0,VLOOKUP(B65,'Mortality&Morbidity'!AB:AJ,9,FALSE)/1000)","v":0.038437},0,0,0.038437,0,0,0,0.298215763186103,0.961563,742.457148362301,0,28.5378254116018,0,0,221.412425131841,{"$f":"IF(B64=\"\",0,SUM(Q65:$Q$122))","v":1998.55755288129},null,null,null,8.40600298355598,0,0,0,{"$f":"IF(B65=\"\",0,GP!Z65)","v":11392.4},{"$f":"IF(B65=\"\",0,GP!AA65)","v":0.3},{"$f":"IF(B65=\"\",0,GP!AB65)","v":0},null,null,null,0,{"$f":"IF(A65>PPP,0,SUMPRODUCT(AF65:$AF$122,Q65:$Q$122)/Q65)","v":0},null,null,{"$f":"IF(B65=\"\",0,IF(B65=106,0,SUMPRODUCT(Z65:$Z$122,V65:$V$122)/Q65))","v":3947.69857705949},{"$f":"IF(B65=\"\",0,IF(B65=106,0,SUMPRODUCT(AA65:$AA$122,Q65:$Q$122)*$D$10/Q65))","v":1565.17810354708},{"$f":"IF(B65=\"\",0,IF(B65=106,0,SUMPRODUCT(AB65:$AB$122,Q65:$Q$122)/Q65))","v":6488.61380852911},null,12001.4904891357,0,12001.4904891357,{"$f":"CSV!AJ65","v":11133.4},12001.4904891357,11828.0904891357,{"$f":"IF(B64=\"\",0,(AF64+AS64)*(VLOOKUP(A64,#REF!,2,TRUE)-$G$4))","v":{"$error":"#REF!"}},0,0,{"$f":"IF(B64=\"\",0,(AF64+AS64)*(VLOOKUP(A64,#REF!,2,TRUE)+PAD_Int-$G$4))","v":{"$error":"#REF!"}},null,0,233.705828988966,408.98520073069,0,16383.7755147029,28671.6071507302,null,233.705828988966,{"$f":"'SA&Table'!FH2","v":11828.0904891357},-868.0904891357]
[51,80,{"$f":"IF(B66=\"\",0,VLOOKUP(B66,'Mortality&Morbidity'!AB:AJ,9,FALSE)/1000)","v":0.044492},0,0,0.044492,0,0,0,0.290942207986442,0.955508,713.919322950699,0,31.7636985167225,0,0,207.709264143462,{"$f":"IF(B65=\"\",0,SUM(Q66:$Q$122))","v":1777.14512774945},null,null,null,9.12800486762827,0,0,0,{"$f":"IF(B66=\"\",0,GP!Z66)","v":10622.4},{"$f":"IF(B66=\"\",0,GP!AA66)","v":0.3},{"$f":"IF(B66=\"\",0,GP!AB66)","v":1000},null,null,null,0,{"$f":"IF(A66>PPP,0,SUMPRODUCT(AF66:$AF$122,Q66:$Q$122)/Q66)","v":0},null,null,{"$f":"IF(B66=\"\",0,IF(B66=106,0,SUMPRODUCT(Z66:$Z$122,V66:$V$122)/Q66))","v":3747.08836630817},{"$f":"IF(B66=\"\",0,IF(B66=106,0,SUMPRODUCT(AA66:$AA$122,Q66:$Q$122)*$D$10/Q66))","v":1483.59759697052},{"$f":"IF(B66=\"\",0,IF(B66=106,0,SUMPRODUCT(AB66:$AB$122,Q66:$Q$122)/Q66))","v":6916.68580607026},null,12147.3717693489,0,12147.3717693489,{"$f":"CSV!AJ66","v":11392.4},12147.3717693489,10973.971769349,{"$f":"IF(B65=\"\",0,(AF65+AS65)*(VLOOKUP(A65,#REF!,2,TRUE)-$G$4))","v":{"$error":"#REF!"}},0,0,{"$f":"IF(B65=\"\",0,(AF65+AS65)*(VLOOKUP(A65,#REF!,2,TRUE)+PAD_Int-$G$4))","v":{"$error":"#REF!"}},null,0,236.561809782714,413.983167119749,0,17111.8505899268,29945.7385323718,null,236.561809782714,{"$f":"'SA&Table'!FI2","v":10973.971769349},-754.9717693489]
[52,81,{"$f":"IF(B67=\"\",0,VLOOKUP(B67,'Mortality&Morbidity'!AB:AJ,9,FALSE)/1000)","v":0.051086},0,0,0.051086,0,0,0,0.283846056572138,0.948914,682.155624433976,0,34.8486022298341,0,0,193.627183964089,{"$f":"IF(B66=\"\",0,SUM(Q67:$Q$122))","v":1569.43586360599},null,null,null,9.7702639280068,0,0,0,{"$f":"IF(B67=\"\",0,GP!Z67)","v":9820.4},{"$f":"IF(B67=\"\",0,GP!AA67)","v":0.3},{"$f":"IF(B67=\"\",0,GP!AB67)","v":1000},null,null,null,0,{"$f":"IF(A67>PPP,0,SUMPRODUCT(AF67:$AF$122,Q67:$Q$122)/Q67)","v":0},null,null,{"$f":"IF(B67=\"\",0,IF(B67=106,0,SUMPRODUCT(Z67:$Z$122,V67:$V$122)/Q67))","v":3518.84293512665},{"$f":"IF(B67=\"\",0,IF(B67=106,0,SUMPRODUCT(AA67:$AA$122,Q67:$Q$122)*$D$10/Q67))","v":1405.48539300014},{"$f":"IF(B67=\"\",0,IF(B67=106,0,SUMPRODUCT(AB67:$AB$122,Q67:$Q$122)/Q67))","v":6346.99338071687},null,11271.3217088437,0,11271.3217088437,{"$f":"CSV!AJ67","v":10622.4},11271.3217088437,10097.9217088437,{"$f":"IF(B66=\"\",0,(AF66+AS66)*(VLOOKUP(A66,#REF!,2,TRUE)-$G$4))","v":{"$error":"#REF!"}},0,0,{"$f":"IF(B66=\"\",0,(AF66+AS66)*(VLOOKUP(A66,#REF!,2,TRUE)+PAD_Int-$G$4))","v":{"$error":"#REF!"}},null,0,219.47943538698,384.089011927215,0,17844.6855430115,31228.1997002702,null,219.47943538698,{"$f":"'SA&Table'!FJ2","v":10097.9217088437},-648.9217088437]
[53,82,{"$f":"IF(B68=\"\",0,VLOOKUP(B68,'Mortality&Morbidity'!AB:AJ,9,FALSE)/1000)","v":0.058173},0,0,0.058173,0,0,0,0.276922982021598,0.941827,647.307022204142,0,37.6557914026816,0,0,179.254190872292,{"$f":"IF(B67=\"\",0,SUM(Q68:$Q$122))","v":1375.8086796419},null,null,null,10.2998012974353,0,0,0,{"$f":"IF(B68=\"\",0,GP!Z68)","v":8985.4},{"$f":"IF(B68=\"\",0,GP!AA68)","v":0.3},{"$f":"IF(B68=\"\",0,GP!AB68)","v":1000},null,null,null,0,{"$f":"IF(A68>PPP,0,SUMPRODUCT(AF68:$AF$122,Q68:$Q$122)/Q68)","v":0},null,null,{"$f":"IF(B68=\"\",0,IF(B68=106,0,SUMPRODUCT(Z68:$Z$122,V68:$V$122)/Q68))","v":3265.72977520489},{"$f":"IF(B68=\"\",0,IF(B68=106,0,SUMPRODUCT(AA68:$AA$122,Q68:$Q$122)*$D$10/Q68))","v":1330.87669464793},{"$f":"IF(B68=\"\",0,IF(B68=106,0,SUMPRODUCT(AB68:$AB$122,Q68:$Q$122)/Q68))","v":5775.72700501288},null,10372.3334748657,0,10372.3334748657,{"$f":"CSV!AJ68","v":9820.4},10372.3334748657,9198.9334748657,{"$f":"IF(B67=\"\",0,(AF67+AS67)*(VLOOKUP(A67,#REF!,2,TRUE)-$G$4))","v":{"$error":"#REF!"}},0,0,{"$f":"IF(B67=\"\",0,(AF67+AS67)*(VLOOKUP(A67,#REF!,2,TRUE)+PAD_Int-$G$4))","v":{"$error":"#REF!"}},null,0,201.958434176874,353.427259809529,0,18581.9845434788,32518.4729510878,null,201.958434176874,{"$f":"'SA&Table'!FK2","v":9198.9334748657},-551.9334748657]
[54,83,{"$f":"IF(B69=\"\",0,VLOOKUP(B69,'Mortality&Morbidity'!AB:AJ,9,FALSE)/1000)","v":0.065722},0,0,0.065722,0,0,0,0.270168762947901,0.934278,609.651230801461,0,40.0674981907336,0,0,164.708718855296,{"$f":"IF(B68=\"\",0,SUM(Q69:$Q$122))","v":1196.55448876961},null,null,null,10.6921594709642,0,0,0,{"$f":"IF(B69=\"\",0,GP!Z69)","v":8118.4},{"$f":"IF(B69=\"\",0,GP!AA69)","v":0.3},{"$f":"IF(B69=\"\",0,GP!AB69)","v":1000},null,null,null,0,{"$f":"IF(A69>PPP,0,SUMPRODUCT(AF69:$AF$122,Q69:$Q$122)/Q69)","v":0},null,null,{"$f":"IF(B69=\"\",0,IF(B69=106,0,SUMPRODUCT(Z69:$Z$122,V69:$V$122)/Q69))","v":2992.2393745101},{"$f":"IF(B69=\"\",0,IF(B69=106,0,SUMPRODUCT(AA69:$AA$122,Q69:$Q$122)*$D$10/Q69))","v":1259.69377817171},{"$f":"IF(B69=\"\",0,IF(B69=106,0,SUMPRODUCT(AB69:$AB$122,Q69:$Q$122)/Q69))","v":5197.47276319133},null,9449.40591587314,0,9449.40591587314,{"$f":"CSV!AJ69","v":8985.4},9449.40591587314,8276.00591587314,{"$f":"IF(B68=\"\",0,(AF68+AS68)*(VLOOKUP(A68,#REF!,2,TRUE)-$G$4))","v":{"$error":"#REF!"}},0,0,{"$f":"IF(B68=\"\",0,(AF68+AS68)*(VLOOKUP(A68,#REF!,2,TRUE)+PAD_Int-$G$4))","v":{"$error":"#REF!"}},null,0,183.978669497314,321.962671620299,0,19323.4227492804,33815.9898112408,null,183.978669497314,{"$f":"'SA&Table'!FL2","v":8276.00591587314},-464.00591587314]
[55,84,{"$f":"IF(B70=\"\",0,VLOOKUP(B70,'Mortality&Morbidity'!AB:AJ,9,FALSE)/1000)","v":0.073729},0,0,0.073729,0,0,0,0.263579280924781,0.926271,569.583732610727,0,41.9948390216563,0,0,150.130470667988,{"$f":"IF(B69=\"\",0,SUM(Q70:$Q$122))","v":1031.84576991431},null,null,null,10.9331487517868,0,0,0,{"$f":"IF(B70=\"\",0,GP!Z70)","v":7215.4},{"$f":"IF(B70=\"\",0,GP!AA70)","v":0.3},{"$f":"IF(B70=\"\",0,GP!AB70)","v":1000},null,null,null,0,{"$f":"IF(A70>PPP,0,SUMPRODUCT(AF70:$AF$122,Q70:$Q$122)/Q70)","v":0},null,null,{"$f":"IF(B70=\"\",0,IF(B70=106,0,SUMPRODUCT(Z70:$Z$122,V70:$V$122)/Q70))","v":2704.6120925899},{"$f":"IF(B70=\"\",0,IF(B70=106,0,SUMPRODUCT(AA70:$AA$122,Q70:$Q$122)*$D$10/Q70))","v":1191.77709699469},{"$f":"IF(B70=\"\",0,IF(B70=106,0,SUMPRODUCT(AB70:$AB$122,Q70:$Q$122)/Q70))","v":4605.06357023403},null,8501.45275981862,0,8501.45275981862,{"$f":"CSV!AJ70","v":8118.4},8501.45275981862,7328.05275981862,{"$f":"IF(B69=\"\",0,(AF69+AS69)*(VLOOKUP(A69,#REF!,2,TRUE)-$G$4))","v":{"$error":"#REF!"}},0,0,{"$f":"IF(B69=\"\",0,(AF69+AS69)*(VLOOKUP(A69,#REF!,2,TRUE)+PAD_Int-$G$4))","v":{"$error":"#REF!"}},null,0,165.520118317463,289.66020705556,0,20068.6455500763,35120.1297126335,null,165.520118317463,{"$f":"'SA&Table'!FM2","v":7328.05275981862},-383.05275981862]
[56,85,{"$f":"IF(B71=\"\",0,VLOOKUP(B71,'Mortality&Morbidity'!AB:AJ,9,FALSE)/1000)","v":0.082223},0,0,0.082223,0,0,0,0.257150517975397,0.917777,527.588893589071,0,43.3799415975742,0,0,135.669757264496,{"$f":"IF(B70=\"\",0,SUM(Q71:$Q$122))","v":881.715299246321},null,null,null,11.0182959615938,0,0,0,{"$f":"IF(B71=\"\",0,GP!Z71)","v":6277.4},{"$f":"IF(B71=\"\",0,GP!AA71)","v":0.3},{"$f":"IF(B71=\"\",0,GP!AB71)","v":1000},null,null,null,0,{"$f":"IF(A71>PPP,0,SUMPRODUCT(AF71:$AF$122,Q71:$Q$122)/Q71)","v":0},null,null,{"$f":"IF(B71=\"\",0,IF(B71=106,0,SUMPRODUCT(Z71:$Z$122,V71:$V$122)/Q71))","v":2411.42647799834},{"$f":"IF(B71=\"\",0,IF(B71=106,0,SUMPRODUCT(AA71:$AA$122,Q71:$Q$122)*$D$10/Q71))","v":1126.92346453636},{"$f":"IF(B71=\"\",0,IF(B71=106,0,SUMPRODUCT(AB71:$AB$122,Q71:$Q$122)/Q71))","v":3989.31863298093},null,7527.66857551562,0,7527.66857551562,{"$f":"CSV!AJ71","v":7215.4},7527.66857551562,6354.26857551563,{"$f":"IF(B70=\"\",0,(AF70+AS70)*(VLOOKUP(A70,#REF!,2,TRUE)-$G$4))","v":{"$error":"#REF!"}},0,0,{"$f":"IF(B70=\"\",0,(AF70+AS70)*(VLOOKUP(A70,#REF!,2,TRUE)+PAD_Int-$G$4))","v":{"$error":"#REF!"}},null,0,146.561055196372,256.481846593652,0,20817.265971775,36430.2154506062,null,146.561055196372,{"$f":"'SA&Table'!FN2","v":6354.26857551563},-312.268575515621]
[57,86,{"$f":"IF(B72=\"\",0,VLOOKUP(B72,'Mortality&Morbidity'!AB:AJ,9,FALSE)/1000)","v":0.091239},0,0,0.091239,0,0,0,0.250878554122338,0.908761,484.208951991497,0,44.1787405707522,0,0,121.477641768719,{"$f":"IF(B71=\"\",0,SUM(Q72:$Q$122))","v":746.045541981826},null,null,null,10.947499559504,0,0,0,{"$f":"IF(B72=\"\",0,GP!Z72)","v":5301.4},{"$f":"IF(B72=\"\",0,GP!AA72)","v":0.3},{"$f":"IF(B72=\"\",0,GP!AB72)","v":1000},null,null,null,0,{"$f":"IF(A72>PPP,0,SUMPRODUCT(AF72:$AF$122,Q72:$Q$122)/Q72)","v":0},null,null,{"$f":"IF(B72=\"\",0,IF(B72=106,0,SUMPRODUCT(Z72:$Z$122,V72:$V$122)/Q72))","v":2123.77677163911},{"$f":"IF(B72=\"\",0,IF(B72=106,0,SUMPRODUCT(AA72:$AA$122,Q72:$Q$122)*$D$10/Q72))","v":1064.92268944391},{"$f":"IF(B72=\"\",0,IF(B72=106,0,SUMPRODUCT(AB72:$AB$122,Q72:$Q$122)/Q72))","v":3338.55784009128},null,6527.25730117431,0,6527.25730117431,{"$f":"CSV!AJ72","v":6277.4},6527.25730117431,5353.85730117431,{"$f":"IF(B71=\"\",0,(AF71+AS71)*(VLOOKUP(A71,#REF!,2,TRUE)-$G$4))","v":{"$error":"#REF!"}},0,0,{"$f":"IF(B71=\"\",0,(AF71+AS71)*(VLOOKUP(A71,#REF!,2,TRUE)+PAD_Int-$G$4))","v":{"$error":"#REF!"}},null,0,127.085371510313,222.399400143047,0,21568.8693224385,37745.5213142674,null,127.085371510313,{"$f":"'SA&Table'!FO2","v":5353.85730117431},-249.85730117431]
[58,87,{"$f":"IF(B73=\"\",0,VLOOKUP(B73,'Mortality&Morbidity'!AB:AJ,9,FALSE)/1000)","v":0.1009},0,0,0.1009,0,0,0,0.244759564997403,0.8991,440.030211420744,0,44.3990483323531,0,0,107.701603133057,{"$f":"IF(B72=\"\",0,SUM(Q73:$Q$122))","v":624.567900213106},null,null,null,10.7337481570318,0,0,0,{"$f":"IF(B73=\"\",0,GP!Z73)","v":4288.4},{"$f":"IF(B73=\"\",0,GP!AA73)","v":0.3},{"$f":"IF(B73=\"\",0,GP!AB73)","v":1000},null,null,null,0,{"$f":"IF(A73>PPP,0,SUMPRODUCT(AF73:$AF$122,Q73:$Q$122)/Q73)","v":0},null,null,{"$f":"IF(B73=\"\",0,IF(B73=106,0,SUMPRODUCT(Z73:$Z$122,V73:$V$122)/Q73))","v":1856.55843441923},{"$f":"IF(B73=\"\",0,IF(B73=106,0,SUMPRODUCT(AA73:$AA$122,Q73:$Q$122)*$D$10/Q73))","v":1005.55674889218},{"$f":"IF(B73=\"\",0,IF(B73=106,0,SUMPRODUCT(AB73:$AB$122,Q73:$Q$122)/Q73))","v":2637.68117920286},null,5499.79636251427,0,5499.79636251427,{"$f":"CSV!AJ73","v":5301.4},5499.79636251427,4326.39636251427,{"$f":"IF(B72=\"\",0,(AF72+AS72)*(VLOOKUP(A72,#REF!,2,TRUE)-$G$4))","v":{"$error":"#REF!"}},0,0,{"$f":"IF(B72=\"\",0,(AF72+AS72)*(VLOOKUP(A72,#REF!,2,TRUE)+PAD_Int-$G$4))","v":{"$error":"#REF!"}},null,0,107.077146023486,187.385005541101,0,22323.0125481352,39065.2719592366,null,107.077146023486,{"$f":"'SA&Table'!FP2","v":4326.39636251427},-198.396362514271]
[59,88,{"$f":"IF(B74=\"\",0,VLOOKUP(B74,'Mortality&Morbidity'!AB:AJ,9,FALSE)/1000)","v":0.111321},0,0,0.111321,0,0,0,0.238789819509661,0.888679,395.631163088391,0,44.0420567061628,0,0,94.4726940262744,{"$f":"IF(B73=\"\",0,SUM(Q74:$Q$122))","v":516.86629708005},null,null,null,10.3877494578967,0,0,0,{"$f":"IF(B74=\"\",0,GP!Z74)","v":3234.4},{"$f":"IF(B74=\"\",0,GP!AA74)","v":0.3},{"$f":"IF(B74=\"\",0,GP!AB74)","v":1000},null,null,null,0,{"$f":"IF(A74>PPP,0,SUMPRODUCT(AF74:$AF$122,Q74:$Q$122)/Q74)","v":0},null,null,{"$f":"IF(B74=\"\",0,IF(B74=106,0,SUMPRODUCT(Z74:$Z$122,V74:$V$122)/Q74))","v":1629.29315911881},{"$f":"IF(B74=\"\",0,IF(B74=106,0,SUMPRODUCT(AA74:$AA$122,Q74:$Q$122)*$D$10/Q74))","v":948.682757885094},{"$f":"IF(B74=\"\",0,IF(B74=106,0,SUMPRODUCT(AB74:$AB$122,Q74:$Q$122)/Q74))","v":1867.00390243902},null,4444.97981944293,0,4444.97981944293,{"$f":"CSV!AJ74","v":4288.4},4444.97981944293,3271.57981944293,{"$f":"IF(B73=\"\",0,(AF73+AS73)*(VLOOKUP(A73,#REF!,2,TRUE)-$G$4))","v":{"$error":"#REF!"}},0,0,{"$f":"IF(B73=\"\",0,(AF73+AS73)*(VLOOKUP(A73,#REF!,2,TRUE)+PAD_Int-$G$4))","v":{"$error":"#REF!"}},null,0,86.5279272502854,151.423872687999,0,23079.2308518295,40388.6539907017,null,86.5279272502854,{"$f":"'SA&Table'!FQ2","v":3271.57981944293},-156.579819442931]
[60,89,{"$f":"IF(B75=\"\",0,VLOOKUP(B75,'Mortality&Morbidity'!AB:AJ,9,FALSE)/1000)","v":0.122608},0,0,0.122608,0,0,0,0.232965677570401,0.877392,351.589106382228,0,43.1076371553123,0,0,81.9081943947078,{"$f":"IF(B74=\"\",0,SUM(Q75:$Q$122))","v":422.393603053775},null,null,null,9.91937314690684,0,0,0,{"$f":"IF(B75=\"\",0,GP!Z75)","v":2140.4},{"$f":"IF(B75=\"\",0,GP!AA75)","v":0.3},{"$f":"IF(B75=\"\",0,GP!AB75)","v":1000},null,null,null,0,{"$f":"IF(A75>PPP,0,SUMPRODUCT(AF75:$AF$122,Q75:$Q$122)/Q75)","v":0},null,null,{"$f":"IF(B75=\"\",0,IF(B75=106,0,SUMPRODUCT(Z75:$Z$122,V75:$V$122)/Q75))","v":1469.02978564117},{"$f":"IF(B75=\"\",0,IF(B75=106,0,SUMPRODUCT(AA75:$AA$122,Q75:$Q$122)*$D$10/Q75))","v":894.209075304155},{"$f":"IF(B75=\"\",0,IF(B75=106,0,SUMPRODUCT(AB75:$AB$122,Q75:$Q$122)/Q75))","v":1000},null,3363.23886094532,0,3363.23886094532,{"$f":"CSV!AJ75","v":3234.4},3363.23886094532,2189.83886094532,{"$f":"IF(B74=\"\",0,(AF74+AS74)*(VLOOKUP(A74,#REF!,2,TRUE)-$G$4))","v":{"$error":"#REF!"}},0,0,{"$f":"IF(B74=\"\",0,(AF74+AS74)*(VLOOKUP(A74,#REF!,2,TRUE)+PAD_Int-$G$4))","v":{"$error":"#REF!"}},null,0,65.4315963888586,114.505293680503,0,23837.0393737733,41714.8189041032,null,65.4315963888586,{"$f":"'SA&Table'!FR2","v":2189.83886094532},-128.83886094532]
[61,90,{"$f":"IF(B76=\"\",0,VLOOKUP(B76,'Mortality&Morbidity'!AB:AJ,9,FALSE)/1000)","v":0.13487},0,0,0.13487,0,0,0,0.227283587873562,0.86513,308.481469226916,0,41.6048957546342,0,0,70.1127751184015,{"$f":"IF(B75=\"\",0,SUM(Q76:$Q$122))","v":340.485408659067},null,null,null,9.34007969663568,0,0,0,{"$f":"IF(B76=\"\",0,GP!Z76)","v":2041.4},{"$f":"IF(B76=\"\",0,GP!AA76)","v":0.3},{"$f":"IF(B76=\"\",0,GP!AB76)","v":0},null,null,null,0,{"$f":"IF(A76>PPP,0,SUMPRODUCT(AF76:$AF$122,Q76:$Q$122)/Q76)","v":0},null,null,{"$f":"IF(B76=\"\",0,IF(B76=106,0,SUMPRODUCT(Z76:$Z$122,V76:$V$122)/Q76))","v":1413.35371197232},{"$f":"IF(B76=\"\",0,IF(B76=106,0,SUMPRODUCT(AA76:$AA$122,Q76:$Q$122)*$D$10/Q76))","v":842.074354663319},{"$f":"IF(B76=\"\",0,IF(B76=106,0,SUMPRODUCT(AB76:$AB$122,Q76:$Q$122)/Q76))","v":0},null,2255.42806663564,0,2255.42806663564,{"$f":"CSV!AJ76","v":2140.4},2255.42806663564,2082.02806663564,{"$f":"IF(B75=\"\",0,(AF75+AS75)*(VLOOKUP(A75,#REF!,2,TRUE)-$G$4))","v":{"$error":"#REF!"}},0,0,{"$f":"IF(B75=\"\",0,(AF75+AS75)*(VLOOKUP(A75,#REF!,2,TRUE)+PAD_Int-$G$4))","v":{"$error":"#REF!"}},null,0,43.7967772189064,76.6443601330862,0,24595.9473322054,43042.9078313594,null,43.7967772189064,{"$f":"'SA&Table'!FS2","v":2082.02806663564},-115.02806663564]
[62,91,{"$f":"IF(B77=\"\",0,VLOOKUP(B77,'Mortality&Morbidity'!AB:AJ,9,FALSE)/1000)","v":0.148212},0,0,0.148212,0,0,0,0.221740085730305,0.851788,266.876573472282,0,39.5543107074739,0,0,59.1772342811538,{"$f":"IF(B76=\"\",0,SUM(Q77:$Q$122))","v":270.372633540666},null,null,null,8.66315528502807,0,0,0,{"$f":"IF(B77=\"\",0,GP!Z77)","v":1939.4},{"$f":"IF(B77=\"\",0,GP!AA77)","v":0.3},{"$f":"IF(B77=\"\",0,GP!AB77)","v":0},null,null,null,0,{"$f":"IF(A77>PPP,0,SUMPRODUCT(AF77:$AF$122,Q77:$Q$122)/Q77)","v":0},null,null,{"$f":"IF(B77=\"\",0,IF(B77=106,0,SUMPRODUCT(Z77:$Z$122,V77:$V$122)/Q77))","v":1352.33275514952},{"$f":"IF(B77=\"\",0,IF(B77=106,0,SUMPRODUCT(AA77:$AA$122,Q77:$Q$122)*$D$10/Q77))","v":792.240719348424},{"$f":"IF(B77=\"\",0,IF(B77=106,0,SUMPRODUCT(AB77:$AB$122,Q77:$Q$122)/Q77))","v":0},null,2144.57347449794,0,2144.57347449794,{"$f":"CSV!AJ77","v":2041.4},2144.57347449794,1971.17347449794,{"$f":"IF(B76=\"\",0,(AF76+AS76)*(VLOOKUP(A76,#REF!,2,TRUE)-$G$4))","v":{"$error":"#REF!"}},0,0,{"$f":"IF(B76=\"\",0,(AF76+AS76)*(VLOOKUP(A76,#REF!,2,TRUE)+PAD_Int-$G$4))","v":{"$error":"#REF!"}},null,0,41.6405613327128,72.8709823322474,0,25375.4663135042,44407.0660486324,null,41.6405613327128,{"$f":"'SA&Table'!FT2","v":1971.17347449794},-103.17347449794]
[63,92,{"$f":"IF(B78=\"\",0,VLOOKUP(B78,'Mortality&Morbidity'!AB:AJ,9,FALSE)/1000)","v":0.162742},0,0,0.162742,0,0,0,0.216331790956395,0.837258,227.322262764808,0,36.9948796868704,0,0,49.1770322281712,{"$f":"IF(B77=\"\",0,SUM(Q78:$Q$122))","v":211.195399259512},null,null,null,7.90496647233288,0,0,0,{"$f":"IF(B78=\"\",0,GP!Z78)","v":1832.4},{"$f":"IF(B78=\"\",0,GP!AA78)","v":0.3},{"$f":"IF(B78=\"\",0,GP!AB78)","v":0},null,null,null,0,{"$f":"IF(A78>PPP,0,SUMPRODUCT(AF78:$AF$122,Q78:$Q$122)/Q78)","v":0},null,null,{"$f":"IF(B78=\"\",0,IF(B78=106,0,SUMPRODUCT(Z78:$Z$122,V78:$V$122)/Q78))","v":1285.68126324546},{"$f":"IF(B78=\"\",0,IF(B78=106,0,SUMPRODUCT(AA78:$AA$122,Q78:$Q$122)*$D$10/Q78))","v":744.68264090611},{"$f":"IF(B78=\"\",0,IF(B78=106,0,SUMPRODUCT(AB78:$AB$122,Q78:$Q$122)/Q78))","v":0},null,2030.36390415157,0,2030.36390415157,{"$f":"CSV!AJ78","v":1939.4},2030.36390415157,1856.96390415157,{"$f":"IF(B77=\"\",0,(AF77+AS77)*(VLOOKUP(A77,#REF!,2,TRUE)-$G$4))","v":{"$error":"#REF!"}},0,0,{"$f":"IF(B77=\"\",0,(AF77+AS77)*(VLOOKUP(A77,#REF!,2,TRUE)+PAD_Int-$G$4))","v":{"$error":"#REF!"}},null,0,39.4234694899588,68.9910716074279,0,26176.1537723993,45808.2691016988,null,39.4234694899588,{"$f":"'SA&Table'!FU2","v":1856.96390415157},-90.96390415157]
[64,93,{"$f":"IF(B79=\"\",0,VLOOKUP(B79,'Mortality&Morbidity'!AB:AJ,9,FALSE)/1000)","v":0.178566},0,0,0.178566,0,0,0,0.211055405811117,0.821434,190.327383077938,0,33.985999486695,0,0,40.1696230724821,{"$f":"IF(B78=\"\",0,SUM(Q79:$Q$122))","v":162.018367031341},null,null,null,7.08491418258762,0,0,0,{"$f":"IF(B79=\"\",0,GP!Z79)","v":1721.4},{"$f":"IF(B79=\"\",0,GP!AA79)","v":0.3},{"$f":"IF(B79=\"\",0,GP!AB79)","v":0},null,null,null,0,{"$f":"IF(A79>PPP,0,SUMPRODUCT(AF79:$AF$122,Q79:$Q$122)/Q79)","v":0},null,null,{"$f":"IF(B79=\"\",0,IF(B79=106,0,SUMPRODUCT(Z79:$Z$122,V79:$V$122)/Q79))","v":1213.37778713848},{"$f":"IF(B79=\"\",0,IF(B79=106,0,SUMPRODUCT(AA79:$AA$122,Q79:$Q$122)*$D$10/Q79))","v":699.383830227676},{"$f":"IF(B79=\"\",0,IF(B79=106,0,SUMPRODUCT(AB79:$AB$122,Q79:$Q$122)/Q79))","v":0},null,1912.76161736615,0,1912.76161736615,{"$f":"CSV!AJ79","v":1832.4},1912.76161736615,1739.36161736615,{"$f":"IF(B78=\"\",0,(AF78+AS78)*(VLOOKUP(A78,#REF!,2,TRUE)-$G$4))","v":{"$error":"#REF!"}},0,0,{"$f":"IF(B78=\"\",0,(AF78+AS78)*(VLOOKUP(A78,#REF!,2,TRUE)+PAD_Int-$G$4))","v":{"$error":"#REF!"}},null,0,37.1392780830314,64.9937366453049,0,26998.5776636543,47247.5109113951,null,37.1392780830314,{"$f":"'SA&Table'!FV2","v":1739.36161736615},-80.3616173661499]
[65,94,{"$f":"IF(B80=\"\",0,VLOOKUP(B80,'Mortality&Morbidity'!AB:AJ,9,FALSE)/1000)","v":0.195793},0,0,0.195793,0,0,0,0.205907712986456,0.804207,156.341383591243,{"$f":"IF(B80=\"\",0,D80*L80)","v":0},{"$f":"IF(B80=\"\",0,F80*L80)","v":30.6105485174802},0,0,{"$f":"IF(A80>BP+1,0,J80*L80)","v":32.191896740411},{"$f":"IF(B79=\"\",0,SUM(Q80:$Q$122))","v":121.848743958859},null,null,null,6.22560832376627,{"$f":"IF(B80=\"\",0,IF(A80=1,J81*O80/2*$G$8,J81*O80*$G$6))","v":0},{"$f":"IF(B80=\"\",0,J81*P80*$G$6)","v":0},{"$f":"IF(B80=\"\",\"\",IF(A80<=PPP,1,0))","v":0},{"$f":"IF(B80=\"\",0,GP!Z80)","v":1606.4},{"$f":"IF(B80=\"\",0,GP!AA80)","v":0.3},{"$f":"IF(B80=\"\",0,GP!AB80)","v":0},null,null,null,{"$f":"IF(B80=\"\",0,IF(A80=1,$AH$5,IF(A80>PPP,0,$AH$6)))","v":0},{"$f":"IF(A80>PPP,0,SUMPRODUCT(AF80:$AF$122,Q80:$Q$122)/Q80)","v":0},null,null,{"$f":"IF(B80=\"\",0,IF(B80=106,0,SUMPRODUCT(Z80:$Z$122,V80:$V$122)/Q80))","v":1135.22223852356},{"$f":"IF(B80=\"\",0,IF(B80=106,0,SUMPRODUCT(AA80:$AA$122,Q80:$Q$122)*$D$10/Q80))","v":656.332007176922},{"$f":"IF(B80=\"\",0,IF(B80=106,0,SUMPRODUCT(AB80:$AB$122,Q80:$Q$122)/Q80))","v":0},null,1791.55424570048,{"$f":"IF(B80=\"\",0,IF(B80=106,0,IF(A80=1,0,MAX($AH$6-$M$4,0)*(R80-LOOKUP(PPP+1,A:A,R:R))/Q80)*(A80<=PPP)))","v":0},1791.55424570048,{"$f":"CSV!AJ80","v":1721.4},1791.55424570048,1618.15424570048,{"$f":"IF(B79=\"\",0,(AF79+AS79)*(VLOOKUP(A79,#REF!,2,TRUE)-$G$4))","v":{"$error":"#REF!"}},0,0,{"$f":"IF(B79=\"\",0,(AF79+AS79)*(VLOOKUP(A79,#REF!,2,TRUE)+PAD_Int-$G$4))","v":{"$error":"#REF!"}},null,0,34.787232347323,60.8776566078152,0,27843.3222259113,48725.8138953448,null,34.787232347323,{"$f":"'SA&Table'!FW2","v":1618.15424570048},-70.1542457004798]
[{"$f":"IF(A80=\"\",\"\",IF(A80<BP,A80+1,\"\"))","v":66},95,{"$f":"IF(B81=\"\",0,VLOOKUP(B81,'Mortality&Morbidity'!AB:AJ,9,FALSE)/1000)","v":0.214499},{"$f":"IF(B81=\"\",0,0)","v":0},{"$f":"IF(B81=\"\",0,0)","v":0},{"$f":"IF(B81=\"\",0,IF(B81=105,1-D81,(1-E81)*C81))","v":0.214499},{"$f":"IF(B81=\"\",0,0/1000)","v":0},{"$f":"IF(B81=\"\",0,0/1000)","v":0},{"$f":"IF(B81=\"\",0,0/1000)","v":0},{"$f":"IF(A81=1,1,$G$5^(A80))","v":0.200885573645323},{"$f":"IF(B81=\"\",0,1-D81-F81)","v":0.785501},{"$f":"IF(B80=\"\",0,L80*K80)","v":125.730835073763},0,26.969138392487,{"$f":"IF(B81=\"\",0,0)","v":0},{"$f":"IF(B81=\"\",0,0)","v":0},25.2575109286982,{"$f":"IF(B80=\"\",0,SUM(Q81:$Q$122))","v":89.656847218448},null,null,null,{"$f":"IF(B81=\"\",0,IF(A81=1,J82*N81*$G$6,J82*N81*$G$6))","v":5.35123333949271},0,0,0,{"$f":"IF(B81=\"\",0,GP!Z81)","v":1486.4},{"$f":"IF(B81=\"\",0,GP!AA81)","v":0.3},{"$f":"IF(B81=\"\",0,GP!AB81)","v":0},null,null,null,0,{"$f":"IF(A81>PPP,0,SUMPRODUCT(AF81:$AF$122,Q81:$Q$122)/Q81)","v":0},null,null,{"$f":"IF(B81=\"\",0,IF(B81=106,0,SUMPRODUCT(Z81:$Z$122,V81:$V$122)/Q81))","v":1050.94044870868},{"$f":"IF(B81=\"\",0,IF(B81=106,0,SUMPRODUCT(AA81:$AA$122,Q81:$Q$122)*$D$10/Q81))","v":615.51976960701},{"$f":"IF(B81=\"\",0,IF(B81=106,0,SUMPRODUCT(AB81:$AB$122,Q81:$Q$122)/Q81))","v":0},null,{"$f":"SUM(AJ81:AL81)-AG81","v":1666.46021831569},0,{"$f":"MAX(AN81+AO81,0)","v":1666.46021831569},{"$f":"CSV!AJ81","v":1606.4},{"$f":"ROUND(MAX(AP81,AQ81),1000)","v":1666.46021831569},1493.06021831569,{"$f":"IF(B80=\"\",0,(AF80+AS80)*(VLOOKUP(A80,#REF!,2,TRUE)-$G$4))","v":{"$error":"#REF!"}},{"$f":"IF(B81=\"\",0,0)","v":0},{"$f":"IF(B81=\"\",0,0)","v":0},{"$f":"IF(B80=\"\",0,(AF80+AS80)*(VLOOKUP(A80,#REF!,2,TRUE)+PAD_Int-$G$4))","v":{"$error":"#REF!"}},null,0,32.3630849140096,56.6353985995168,0,28710.9849776027,50244.2237108046,null,32.3630849140096,{"$f":"'SA&Table'!FX2","v":1493.06021831569},-60.06021831569]
[67,{"$f":"IF(A82=\"\",\"\",B81+1)","v":96},{"$f":"IF(B82=\"\",0,VLOOKUP(B82,'Mortality&Morbidity'!AB:AJ,9,FALSE)/1000)","v":0.23465},0,0,0.23465,0,0,0,0.195985925507632,0.76535,98.7616966812756,0,23.1744321262613,0,0,19.3559025287838,{"$f":"IF(B81=\"\",0,SUM(Q82:$Q$122))","v":64.3993362897497},null,null,null,4.48613204319379,0,0,0,{"$f":"IF(B82=\"\",0,GP!Z82)","v":1361.4},{"$f":"IF(B82=\"\",0,GP!AA82)","v":0.3},{"$f":"IF(B82=\"\",0,GP!AB82)","v":0},null,null,null,0,{"$f":"IF(A82>PPP,0,SUMPRODUCT(AF82:$AF$122,Q82:$Q$122)/Q82)","v":0},null,null,{"$f":"IF(B82=\"\",0,IF(B82=106,0,SUMPRODUCT(Z82:$Z$122,V82:$V$122)/Q82))","v":960.433986749191},{"$f":"IF(B82=\"\",0,IF(B82=106,0,SUMPRODUCT(AA82:$AA$122,Q82:$Q$122)*$D$10/Q82))","v":576.92194388955},{"$f":"IF(B82=\"\",0,IF(B82=106,0,SUMPRODUCT(AB82:$AB$122,Q82:$Q$122)/Q82))","v":0},null,1537.35593063874,0,1537.35593063874,{"$f":"CSV!AJ82","v":1486.4},1537.35593063874,{"$f":"BG82","v":1363.95593063874},{"$f":"IF(B81=\"\",0,(AF81+AS81)*(VLOOKUP(A81,#REF!,2,TRUE)-$G$4))","v":{"$error":"#REF!"}},0,0,{"$f":"IF(B81=\"\",0,(AF81+AS81)*(VLOOKUP(A81,#REF!,2,TRUE)+PAD_Int-$G$4))","v":{"$error":"#REF!"}},null,{"$f":"IF(B81=\"\",\"\",(AF81+AS81)*($AY$14-$G$4))","v":0},{"$f":"IF(B81=\"\",\"\",(AF81+AS81)*($AZ$14-$G$4))","v":29.8612043663138},{"$f":"IF(B81=\"\",\"\",(AF81+AS81)*($BA$14-$G$4))","v":52.2571076410491},{"$f":"IF(ISERROR(BB81*1.03+AY82),\"\",BB81*1.03+AY82)","v":0},{"$f":"IF(ISERROR(BC81*1.03+AZ82),\"\",BC81*1.03+AZ82)","v":29602.175731297},{"$f":"IF(ISERROR(BD81*1.03+BA82),\"\",BD81*1.03+BA82)","v":51803.8075297698},null,{"$f":"IF(B81=\"\",0,(AF81+AS81)*($BF$14-$G$4))","v":29.8612043663138},{"$f":"'SA&Table'!FY2","v":1363.95593063874},{"$f":"IF(B81=\"\",0,Z81-AR82)","v":-50.9559306387398}]
[68,97,{"$f":"IF(B83=\"\",0,VLOOKUP(B83,'Mortality&Morbidity'!AB:AJ,9,FALSE)/1000)","v":0.25618},0,0,0.25618,0,0,0,0.191205780983055,0.74382,75.5872645550142,0,19.3639454337035,0,0,14.4527219516143,{"$f":"IF(B82=\"\",0,SUM(Q83:$Q$122))","v":45.0434337609659},null,null,null,3.65706716190199,0,0,0,{"$f":"IF(B83=\"\",0,GP!Z83)","v":1231.4},{"$f":"IF(B83=\"\",0,GP!AA83)","v":0.3},{"$f":"IF(B83=\"\",0,GP!AB83)","v":0},null,null,null,0,{"$f":"IF(A83>PPP,0,SUMPRODUCT(AF83:$AF$122,Q83:$Q$122)/Q83)","v":0},null,null,{"$f":"IF(B83=\"\",0,IF(B83=106,0,SUMPRODUCT(Z83:$Z$122,V83:$V$122)/Q83))","v":863.688273463966},{"$f":"IF(B83=\"\",0,IF(B83=106,0,SUMPRODUCT(AA83:$AA$122,Q83:$Q$122)*$D$10/Q83))","v":540.419406136785},{"$f":"IF(B83=\"\",0,IF(B83=106,0,SUMPRODUCT(AB83:$AB$122,Q83:$Q$122)/Q83))","v":0},null,1404.10767960075,0,1404.10767960075,{"$f":"CSV!AJ83","v":1361.4},1404.10767960075,1230.70767960075,{"$f":"IF(B82=\"\",0,(AF82+AS82)*(VLOOKUP(A82,#REF!,2,TRUE)-$G$4))","v":{"$error":"#REF!"}},0,0,{"$f":"IF(B82=\"\",0,(AF82+AS82)*(VLOOKUP(A82,#REF!,2,TRUE)+PAD_Int-$G$4))","v":{"$error":"#REF!"}},null,0,27.2791186127748,47.7384575723559,0,30517.5201218487,53405.6602132353,null,27.2791186127748,{"$f":"'SA&Table'!FZ2","v":1230.70767960075},-42.70767960075]
[69,98,{"$f":"IF(B84=\"\",0,VLOOKUP(B84,'Mortality&Morbidity'!AB:AJ,9,FALSE)/1000)","v":0.279025},0,0,0.279025,0,0,0,0.186542225349322,0.720975,56.2233191213107,0,15.6877116178237,0,0,10.4880230654144,{"$f":"IF(B83=\"\",0,SUM(Q84:$Q$122))","v":30.5907118093516},null,null,null,2.89051227425269,0,0,0,{"$f":"IF(B84=\"\",0,GP!Z84)","v":1096.4},{"$f":"IF(B84=\"\",0,GP!AA84)","v":0.3},{"$f":"IF(B84=\"\",0,GP!AB84)","v":0},null,null,null,0,{"$f":"IF(A84>PPP,0,SUMPRODUCT(AF84:$AF$122,Q84:$Q$122)/Q84)","v":0},null,null,{"$f":"IF(B84=\"\",0,IF(B84=106,0,SUMPRODUCT(Z84:$Z$122,V84:$V$122)/Q84))","v":760.804387663039},{"$f":"IF(B84=\"\",0,IF(B84=106,0,SUMPRODUCT(AA84:$AA$122,Q84:$Q$122)*$D$10/Q84))","v":505.760656193978},{"$f":"IF(B84=\"\",0,IF(B84=106,0,SUMPRODUCT(AB84:$AB$122,Q84:$Q$122)/Q84))","v":0},null,1266.56504385702,0,1266.56504385702,{"$f":"CSV!AJ84","v":1231.4},1266.56504385702,1093.16504385702,{"$f":"IF(B83=\"\",0,(AF83+AS83)*(VLOOKUP(A83,#REF!,2,TRUE)-$G$4))","v":{"$error":"#REF!"}},0,0,{"$f":"IF(B83=\"\",0,(AF83+AS83)*(VLOOKUP(A83,#REF!,2,TRUE)+PAD_Int-$G$4))","v":{"$error":"#REF!"}},null,0,24.614153592015,43.0747687860262,0,31457.6598790962,55050.9047884184,null,24.614153592015,{"$f":"'SA&Table'!GA2","v":1093.16504385702},-35.16504385702]
[70,99,{"$f":"IF(B85=\"\",0,VLOOKUP(B85,'Mortality&Morbidity'!AB:AJ,9,FALSE)/1000)","v":0.30312},0,0,0.30312,0,0,0,0.181992414974949,0.69688,40.535607503487,0,12.287153346457,0,0,7.37717310203625,{"$f":"IF(B84=\"\",0,SUM(Q85:$Q$122))","v":20.1026887439372},null,null,null,2.2087300186495,0,0,0,{"$f":"IF(B85=\"\",0,GP!Z85)","v":956.4},{"$f":"IF(B85=\"\",0,GP!AA85)","v":0.3},{"$f":"IF(B85=\"\",0,GP!AB85)","v":0},null,null,null,0,{"$f":"IF(A85>PPP,0,SUMPRODUCT(AF85:$AF$122,Q85:$Q$122)/Q85)","v":0},null,null,{"$f":"IF(B85=\"\",0,IF(B85=106,0,SUMPRODUCT(Z85:$Z$122,V85:$V$122)/Q85))","v":652.035168764046},{"$f":"IF(B85=\"\",0,IF(B85=106,0,SUMPRODUCT(AA85:$AA$122,Q85:$Q$122)*$D$10/Q85))","v":472.512462427723},{"$f":"IF(B85=\"\",0,IF(B85=106,0,SUMPRODUCT(AB85:$AB$122,Q85:$Q$122)/Q85))","v":0},null,1124.54763119177,0,1124.54763119177,{"$f":"CSV!AJ85","v":1096.4},1124.54763119177,951.147631191769,{"$f":"IF(B84=\"\",0,(AF84+AS84)*(VLOOKUP(A84,#REF!,2,TRUE)-$G$4))","v":{"$error":"#REF!"}},0,0,{"$f":"IF(B84=\"\",0,(AF84+AS84)*(VLOOKUP(A84,#REF!,2,TRUE)+PAD_Int-$G$4))","v":{"$error":"#REF!"}},null,0,21.8633008771404,38.2607765349957,0,32423.2529763462,56740.6927086059,null,21.8633008771404,{"$f":"'SA&Table'!GB2","v":951.147631191769},-28.14763119177]
[71,100,{"$f":"IF(B86=\"\",0,VLOOKUP(B86,'Mortality&Morbidity'!AB:AJ,9,FALSE)/1000)","v":0.328401},0,0,0.328401,0,0,0,0.177553575585316,0.671599,28.24845415703,0,9.27682059362281,0,0,5.01561404033856,{"$f":"IF(B85=\"\",0,SUM(Q86:$Q$122))","v":12.7255156419009},null,null,null,1.62692168427211,0,0,0,{"$f":"IF(B86=\"\",0,GP!Z86)","v":810.4},{"$f":"IF(B86=\"\",0,GP!AA86)","v":0.3},{"$f":"IF(B86=\"\",0,GP!AB86)","v":0},null,null,null,0,{"$f":"IF(A86>PPP,0,SUMPRODUCT(AF86:$AF$122,Q86:$Q$122)/Q86)","v":0},null,null,{"$f":"IF(B86=\"\",0,IF(B86=106,0,SUMPRODUCT(Z86:$Z$122,V86:$V$122)/Q86))","v":537.869719849756},{"$f":"IF(B86=\"\",0,IF(B86=106,0,SUMPRODUCT(AA86:$AA$122,Q86:$Q$122)*$D$10/Q86))","v":439.947012381495},{"$f":"IF(B86=\"\",0,IF(B86=106,0,SUMPRODUCT(AB86:$AB$122,Q86:$Q$122)/Q86))","v":0},null,977.81673223125,0,977.81673223125,{"$f":"CSV!AJ86","v":956.4},977.81673223125,804.416732231251,{"$f":"IF(B85=\"\",0,(AF85+AS85)*(VLOOKUP(A85,#REF!,2,TRUE)-$G$4))","v":{"$error":"#REF!"}},0,0,{"$f":"IF(B85=\"\",0,(AF85+AS85)*(VLOOKUP(A85,#REF!,2,TRUE)+PAD_Int-$G$4))","v":{"$error":"#REF!"}},null,0,19.0229526238354,33.2901670917119,0,33414.9735182605,58476.2036569558,null,19.0229526238354,{"$f":"'SA&Table'!GC2","v":804.416732231251},-21.41673223125]
[72,101,{"$f":"IF(B87=\"\",0,VLOOKUP(B87,'Mortality&Morbidity'!AB:AJ,9,FALSE)/1000)","v":0.354803},0,0,0.354803,0,0,0,0.17322300057104,0.645197,18.9716335634072,0,6.73119250319756,0,0,3.28632329158764,{"$f":"IF(B86=\"\",0,SUM(Q87:$Q$122))","v":7.70990160156239},null,null,null,1.15169010487779,0,0,0,{"$f":"IF(B87=\"\",0,GP!Z87)","v":659.4},{"$f":"IF(B87=\"\",0,GP!AA87)","v":0.3},{"$f":"IF(B87=\"\",0,GP!AB87)","v":0},null,null,null,0,{"$f":"IF(A87>PPP,0,SUMPRODUCT(AF87:$AF$122,Q87:$Q$122)/Q87)","v":0},null,null,{"$f":"IF(B87=\"\",0,IF(B87=106,0,SUMPRODUCT(Z87:$Z$122,V87:$V$122)/Q87))","v":419.705994643924},{"$f":"IF(B87=\"\",0,IF(B87=106,0,SUMPRODUCT(AA87:$AA$122,Q87:$Q$122)*$D$10/Q87))","v":406.806275308677},{"$f":"IF(B87=\"\",0,IF(B87=106,0,SUMPRODUCT(AB87:$AB$122,Q87:$Q$122)/Q87))","v":0},null,826.512269952601,0,826.512269952601,{"$f":"CSV!AJ87","v":810.4},826.512269952601,653.112269952601,{"$f":"IF(B86=\"\",0,(AF86+AS86)*(VLOOKUP(A86,#REF!,2,TRUE)-$G$4))","v":{"$error":"#REF!"}},0,0,{"$f":"IF(B86=\"\",0,(AF86+AS86)*(VLOOKUP(A86,#REF!,2,TRUE)+PAD_Int-$G$4))","v":{"$error":"#REF!"}},null,0,16.088334644625,28.1545856280938,0,34433.5110584529,60258.6443522926,null,16.088334644625,{"$f":"'SA&Table'!GD2","v":653.112269952601},-16.112269952601]
[73,102,{"$f":"IF(B88=\"\",0,VLOOKUP(B88,'Mortality&Morbidity'!AB:AJ,9,FALSE)/1000)","v":0.382261},0,0,0.382261,0,0,0,0.1689980493376,0.617739,12.2404410602096,0,4.67904324011679,0,0,2.06861066220729,{"$f":"IF(B87=\"\",0,SUM(Q88:$Q$122))","v":4.42357830997475},null,null,null,0.781046368954169,0,0,0,{"$f":"IF(B88=\"\",0,GP!Z88)","v":503.4},{"$f":"IF(B88=\"\",0,GP!AA88)","v":0.3},{"$f":"IF(B88=\"\",0,GP!AB88)","v":0},null,null,null,0,{"$f":"IF(A88>PPP,0,SUMPRODUCT(AF88:$AF$122,Q88:$Q$122)/Q88)","v":0},null,null,{"$f":"IF(B88=\"\",0,IF(B88=106,0,SUMPRODUCT(Z88:$Z$122,V88:$V$122)/Q88))","v":299.652874262695},{"$f":"IF(B88=\"\",0,IF(B88=106,0,SUMPRODUCT(AA88:$AA$122,Q88:$Q$122)*$D$10/Q88))","v":370.803695912091},{"$f":"IF(B88=\"\",0,IF(B88=106,0,SUMPRODUCT(AB88:$AB$122,Q88:$Q$122)/Q88))","v":0},null,670.456570174787,0,670.456570174787,{"$f":"CSV!AJ88","v":659.4},670.456570174787,497.056570174787,{"$f":"IF(B87=\"\",0,(AF87+AS87)*(VLOOKUP(A87,#REF!,2,TRUE)-$G$4))","v":{"$error":"#REF!"}},0,0,{"$f":"IF(B87=\"\",0,(AF87+AS87)*(VLOOKUP(A87,#REF!,2,TRUE)+PAD_Int-$G$4))","v":{"$error":"#REF!"}},null,0,13.062245399052,22.858929448341,0,35479.5786356055,62089.2626123097,null,13.062245399052,{"$f":"'SA&Table'!GE2","v":497.056570174787},-11.056570174787]
[74,103,{"$f":"IF(B89=\"\",0,VLOOKUP(B89,'Mortality&Morbidity'!AB:AJ,9,FALSE)/1000)","v":0.41071},0,0,0.41071,0,0,0,0.164876145695219,0.58929,7.56139782009284,0,3.10554169869033,0,0,1.24669412864514,{"$f":"IF(B88=\"\",0,SUM(Q89:$Q$122))","v":2.35496764776746},null,null,null,0.505746934070222,0,0,0,{"$f":"IF(B89=\"\",0,GP!Z89)","v":341.4},{"$f":"IF(B89=\"\",0,GP!AA89)","v":0.3},{"$f":"IF(B89=\"\",0,GP!AB89)","v":0},null,null,null,0,{"$f":"IF(A89>PPP,0,SUMPRODUCT(AF89:$AF$122,Q89:$Q$122)/Q89)","v":0},null,null,{"$f":"IF(B89=\"\",0,IF(B89=106,0,SUMPRODUCT(Z89:$Z$122,V89:$V$122)/Q89))","v":181.829996083881},{"$f":"IF(B89=\"\",0,IF(B89=106,0,SUMPRODUCT(AA89:$AA$122,Q89:$Q$122)*$D$10/Q89))","v":327.547375687618},{"$f":"IF(B89=\"\",0,IF(B89=106,0,SUMPRODUCT(AB89:$AB$122,Q89:$Q$122)/Q89))","v":0},null,509.377371771499,0,509.377371771499,{"$f":"CSV!AJ89","v":503.4},509.377371771499,335.977371771499,{"$f":"IF(B88=\"\",0,(AF88+AS88)*(VLOOKUP(A88,#REF!,2,TRUE)-$G$4))","v":{"$error":"#REF!"}},0,0,{"$f":"IF(B88=\"\",0,(AF88+AS88)*(VLOOKUP(A88,#REF!,2,TRUE)+PAD_Int-$G$4))","v":{"$error":"#REF!"}},null,0,9.94113140349574,17.3969799561175,0,36553.9071260772,63969.3374706351,null,9.94113140349574,{"$f":"'SA&Table'!GF2","v":335.977371771499},-5.97737177149901]
[75,104,{"$f":"IF(B90=\"\",0,VLOOKUP(B90,'Mortality&Morbidity'!AB:AJ,9,FALSE)/1000)","v":0.440086},0,0,0.440086,0,0,0,0.160854776288019,0.559914,4.45585612140251,0,1.96095989704354,0,0,0.7167457395798,{"$f":"IF(B89=\"\",0,SUM(Q90:$Q$122))","v":1.10827351912232},null,null,null,0.311559315096708,0,0,0,{"$f":"IF(B90=\"\",0,GP!Z90)","v":173.4},{"$f":"IF(B90=\"\",0,GP!AA90)","v":0.3},{"$f":"IF(B90=\"\",0,GP!AB90)","v":0},null,null,null,0,{"$f":"IF(A90>PPP,0,SUMPRODUCT(AF90:$AF$122,Q90:$Q$122)/Q90)","v":0},null,null,{"$f":"IF(B90=\"\",0,IF(B90=106,0,SUMPRODUCT(Z90:$Z$122,V90:$V$122)/Q90))","v":75.3745467248142},{"$f":"IF(B90=\"\",0,IF(B90=106,0,SUMPRODUCT(AA90:$AA$122,Q90:$Q$122)*$D$10/Q90))","v":268.121061073171},{"$f":"IF(B90=\"\",0,IF(B90=106,0,SUMPRODUCT(AB90:$AB$122,Q90:$Q$122)/Q90))","v":0},null,343.495607797985,0,343.495607797985,{"$f":"CSV!AJ90","v":341.4},343.495607797985,170.095607797985,{"$f":"IF(B89=\"\",0,(AF89+AS89)*(VLOOKUP(A89,#REF!,2,TRUE)-$G$4))","v":{"$error":"#REF!"}},0,0,{"$f":"IF(B89=\"\",0,(AF89+AS89)*(VLOOKUP(A89,#REF!,2,TRUE)+PAD_Int-$G$4))","v":{"$error":"#REF!"}},null,0,6.71954743542998,11.7592080120025,0,37657.2438872949,65900.1768027661,null,6.71954743542998,{"$f":"'SA&Table'!GG2","v":170.095607797985},-2.095607797985]
[76,105,{"$f":"IF(B91=\"\",0,VLOOKUP(B91,'Mortality&Morbidity'!AB:AJ,9,FALSE)/1000)","v":1},0,0,1,0,0,0,0.156931489061482,0,2.49489622435896,0,2.49489622435896,0,0,0.391527779542521,{"$f":"IF(B90=\"\",0,SUM(Q91:$Q$122))","v":0.391527779542521},null,null,null,0.386723575764644,0,0,0,{"$f":"IF(B91=\"\",0,GP!Z91)","v":0},{"$f":"IF(B91=\"\",0,GP!AA91)","v":0.3},{"$f":"IF(B91=\"\",0,GP!AB91)","v":0},null,null,null,0,{"$f":"IF(A91>PPP,0,SUMPRODUCT(AF91:$AF$122,Q91:$Q$122)/Q91)","v":0},null,null,{"$f":"IF(B91=\"\",0,IF(B91=106,0,SUMPRODUCT(Z91:$Z$122,V91:$V$122)/Q91))","v":0},{"$f":"IF(B91=\"\",0,IF(B91=106,0,SUMPRODUCT(AA91:$AA$122,Q91:$Q$122)*$D$10/Q91))","v":173.4},{"$f":"IF(B91=\"\",0,IF(B91=106,0,SUMPRODUCT(AB91:$AB$122,Q91:$Q$122)/Q91))","v":0},null,173.4,0,173.4,{"$f":"CSV!AJ91","v":173.4},173.4,0,{"$f":"IF(B90=\"\",0,(AF90+AS90)*(VLOOKUP(A90,#REF!,2,TRUE)-$G$4))","v":{"$error":"#REF!"}},0,0,{"$f":"IF(B90=\"\",0,(AF90+AS90)*(VLOOKUP(A90,#REF!,2,TRUE)+PAD_Int-$G$4))","v":{"$error":"#REF!"}},null,0,3.4019121559597,5.95334627292947,0,38790.3631160698,67883.1354531221,null,3.4019121559597,{"$f":"'SA&Table'!GH2","v":0},0]
["","",{"$f":"IF(B92=\"\",0,VLOOKUP(B92,'Mortality&Morbidity'!AB:AJ,9,FALSE)/1000)","v":0},0,0,0,0,0,0,0.153103891767299,0,0,0,0,0,0,0,{"$f":"IF(B91=\"\",0,SUM(Q92:$Q$122))","v":0},null,null,null,0,0,0,"",{"$f":"IF(B92=\"\",0,GP!Z92)","v":0},{"$f":"IF(B92=\"\",0,GP!AA92)","v":0},{"$f":"IF(B92=\"\",0,GP!AB92)","v":0},null,null,null,0,{"$f":"IF(A92>PPP,0,SUMPRODUCT(AF92:$AF$122,Q92:$Q$122)/Q92)","v":0},null,null,{"$f":"IF(B92=\"\",0,IF(B92=106,0,SUMPRODUCT(Z92:$Z$122,V92:$V$122)/Q92))","v":0},{"$f":"IF(B92=\"\",0,IF(B92=106,0,SUMPRODUCT(AA92:$AA$122,Q92:$Q$122)*$D$10/Q92))","v":0},{"$f":"IF(B92=\"\",0,IF(B92=106,0,SUMPRODUCT(AB92:$AB$122,Q92:$Q$122)/Q92))","v":0},null,0,0,0,{"$f":"CSV!AJ92","v":0},0,0,{"$f":"IF(B91=\"\",0,(AF91+AS91)*(VLOOKUP(A91,#REF!,2,TRUE)-$G$4))","v":{"$error":"#REF!"}},0,0,{"$f":"IF(B91=\"\",0,(AF91+AS91)*(VLOOKUP(A91,#REF!,2,TRUE)+PAD_Int-$G$4))","v":{"$error":"#REF!"}},null,0,0,0,0,39954.0740095519,69919.6295167157,null,0,{"$f":"'SA&Table'!GI2","v":0},0]
["","",{"$f":"IF(B93=\"\",0,VLOOKUP(B93,'Mortality&Morbidity'!AB:AJ,9,FALSE)/1000)","v":0},0,0,0,0,0,0,{"$error":"#VALUE!"},0,0,0,0,0,0,0,{"$f":"IF(B92=\"\",0,SUM(Q93:$Q$122))","v":0},null,null,null,0,0,0,"",{"$f":"IF(B93=\"\",0,GP!Z93)","v":0},{"$f":"IF(B93=\"\",0,GP!AA93)","v":0},{"$f":"IF(B93=\"\",0,GP!AB93)","v":0},null,null,null,0,{"$f":"IF(A93>PPP,0,SUMPRODUCT(AF93:$AF$122,Q93:$Q$122)/Q93)","v":0},null,null,{"$f":"IF(B93=\"\",0,IF(B93=106,0,SUMPRODUCT(Z93:$Z$122,V93:$V$122)/Q93))","v":0},{"$f":"IF(B93=\"\",0,IF(B93=106,0,SUMPRODUCT(AA93:$AA$122,Q93:$Q$122)*$D$10/Q93))","v":0},{"$f":"IF(B93=\"\",0,IF(B93=106,0,SUMPRODUCT(AB93:$AB$122,Q93:$Q$122)/Q93))","v":0},null,0,0,0,{"$f":"CSV!AJ93","v":{"$error":"#VALUE!"}},{"$error":"#VALUE!"},"",{"$f":"IF(B92=\"\",0,(AF92+AS92)*(VLOOKUP(A92,#REF!,2,TRUE)-$G$4))","v":0},0,0,{"$f":"IF(B92=\"\",0,(AF92+AS92)*(VLOOKUP(A92,#REF!,2,TRUE)+PAD_Int-$G$4))","v":0},null,"","","","","","",null,0,{"$f":"'SA&Table'!GJ2","v":""},0]
["","",{"$f":"IF(B94=\"\",0,VLOOKUP(B94,'Mortality&Morbidity'!AB:AJ,9,FALSE)/1000)","v":0},0,0,0,0,0,0,{"$error":"#VALUE!"},0,0,0,0,0,0,0,{"$f":"IF(B93=\"\",0,SUM(Q94:$Q$122))","v":0},null,null,null,0,0,0,"",{"$f":"IF(B94=\"\",0,GP!Z94)","v":0},{"$f":"IF(B94=\"\",0,GP!AA94)","v":0},{"$f":"IF(B94=\"\",0,GP!AB94)","v":0},null,null,null,0,{"$f":"IF(A94>PPP,0,SUMPRODUCT(AF94:$AF$122,Q94:$Q$122)/Q94)","v":0},null,null,{"$f":"IF(B94=\"\",0,IF(B94=106,0,SUMPRODUCT(Z94:$Z$122,V94:$V$122)/Q94))","v":0},{"$f":"IF(B94=\"\",0,IF(B94=106,0,SUMPRODUCT(AA94:$AA$122,Q94:$Q$122)*$D$10/Q94))","v":0},{"$f":"IF(B94=\"\",0,IF(B94=106,0,SUMPRODUCT(AB94:$AB$122,Q94:$Q$122)/Q94))","v":0},null,0,0,0,{"$f":"CSV!AJ94","v":{"$error":"#VALUE!"}},{"$error":"#VALUE!"},"",{"$f":"IF(B93=\"\",0,(AF93+AS93)*(VLOOKUP(A93,#REF!,2,TRUE)-$G$4))","v":0},0,0,{"$f":"IF(B93=\"\",0,(AF93+AS93)*(VLOOKUP(A93,#REF!,2,TRUE)+PAD_Int-$G$4))","v":0},null,"","","","","","",null,0,{"$f":"'SA&Table'!GK2","v":""},0]
["","",{"$f":"IF(B95=\"\",0,VLOOKUP(B95,'Mortality&Morbidity'!AB:AJ,9,FALSE)/1000)","v":0},0,0,0,0,0,0,{"$error":"#VALUE!"},0,0,0,0,0,0,0,{"$f":"IF(B94=\"\",0,SUM(Q95:$Q$122))","v":0},null,null,null,0,0,0,"",{"$f":"IF(B95=\"\",0,GP!Z95)","v":0},{"$f":"IF(B95=\"\",0,GP!AA95)","v":0},{"$f":"IF(B95=\"\",0,GP!AB95)","v":0},null,null,null,0,{"$f":"IF(A95>PPP,0,SUMPRODUCT(AF95:$AF$122,Q95:$Q$122)/Q95)","v":0},null,null,{"$f":"IF(B95=\"\",0,IF(B95=106,0,SUMPRODUCT(Z95:$Z$122,V95:$V$122)/Q95))","v":0},{"$f":"IF(B95=\"\",0,IF(B95=106,0,SUMPRODUCT(AA95:$AA$122,Q95:$Q$122)*$D$10/Q95))","v":0},{"$f":"IF(B95=\"\",0,IF(B95=106,0,SUMPRODUCT(AB95:$AB$122,Q95:$Q$122)/Q95))","v":0},null,0,0,0,{"$f":"CSV!AJ95","v":{"$error":"#VALUE!"}},{"$error":"#VALUE!"},"",{"$f":"IF(B94=\"\",0,(AF94+AS94)*(VLOOKUP(A94,#REF!,2,TRUE)-$G$4))","v":0},0,0,{"$f":"IF(B94=\"\",0,(AF94+AS94)*(VLOOKUP(A94,#REF!,2,TRUE)+PAD_Int-$G$4))","v":0},null,"","","","","","",null,0,{"$f":"'SA&Table'!GL2","v":""},0]
["","",{"$f":"IF(B96=\"\",0,VLOOKUP(B96,'Mortality&Morbidity'!AB:AJ,9,FALSE)/1000)","v":0},0,0,0,0,0,0,{"$error":"#VALUE!"},0,0,0,0,0,0,0,{"$f":"IF(B95=\"\",0,SUM(Q96:$Q$122))","v":0},null,null,null,0,0,0,"",{"$f":"IF(B96=\"\",0,GP!Z96)","v":0},{"$f":"IF(B96=\"\",0,GP!AA96)","v":0},{"$f":"IF(B96=\"\",0,GP!AB96)","v":0},null,null,null,0,{"$f":"IF(A96>PPP,0,SUMPRODUCT(AF96:$AF$122,Q96:$Q$122)/Q96)","v":0},null,null,{"$f":"IF(B96=\"\",0,IF(B96=106,0,SUMPRODUCT(Z96:$Z$122,V96:$V$122)/Q96))","v":0},{"$f":"IF(B96=\"\",0,IF(B96=106,0,SUMPRODUCT(AA96:$AA$122,Q96:$Q$122)*$D$10/Q96))","v":0},{"$f":"IF(B96=\"\",0,IF(B96=106,0,SUMPRODUCT(AB96:$AB$122,Q96:$Q$122)/Q96))","v":0},null,0,0,0,{"$f":"CSV!AJ96","v":{"$error":"#VALUE!"}},{"$error":"#VALUE!"},"",{"$f":"IF(B95=\"\",0,(AF95+AS95)*(VLOOKUP(A95,#REF!,2,TRUE)-$G$4))","v":0},0,0,{"$f":"IF(B95=\"\",0,(AF95+AS95)*(VLOOKUP(A95,#REF!,2,TRUE)+PAD_Int-$G$4))","v":0},null,"","","","","","",null,0,{"$f":"'SA&Table'!GM2","v":""},0]
["","",{"$f":"IF(B97=\"\",0,VLOOKUP(B97,'Mortality&Morbidity'!AB:AJ,9,FALSE)/1000)","v":0},0,0,0,0,0,0,{"$error":"#VALUE!"},0,0,0,0,0,0,0,{"$f":"IF(B96=\"\",0,SUM(Q97:$Q$122))","v":0},null,null,null,0,0,0,"",{"$f":"IF(B97=\"\",0,GP!Z97)","v":0},{"$f":"IF(B97=\"\",0,GP!AA97)","v":0},{"$f":"IF(B97=\"\",0,GP!AB97)","v":0},null,null,null,0,{"$f":"IF(A97>PPP,0,SUMPRODUCT(AF97:$AF$122,Q97:$Q$122)/Q97)","v":0},null,null,{"$f":"IF(B97=\"\",0,IF(B97=106,0,SUMPRODUCT(Z97:$Z$122,V97:$V$122)/Q97))","v":0},{"$f":"IF(B97=\"\",0,IF(B97=106,0,SUMPRODUCT(AA97:$AA$122,Q97:$Q$122)*$D$10/Q97))","v":0},{"$f":"IF(B97=\"\",0,IF(B97=106,0,SUMPRODUCT(AB97:$AB$122,Q97:$Q$122)/Q97))","v":0},null,0,0,0,{"$f":"CSV!AJ97","v":{"$error":"#VALUE!"}},{"$error":"#VALUE!"},"",{"$f":"IF(B96=\"\",0,(AF96+AS96)*(VLOOKUP(A96,#REF!,2,TRUE)-$G$4))","v":0},0,0,{"$f":"IF(B96=\"\",0,(AF96+AS96)*(VLOOKUP(A96,#REF!,2,TRUE)+PAD_Int-$G$4))","v":0},null,"","","","","","",null,0,{"$f":"'SA&Table'!GN2","v":""},0]
["","",{"$f":"IF(B98=\"\",0,VLOOKUP(B98,'Mortality&Morbidity'!AB:AJ,9,FALSE)/1000)","v":0},0,0,0,0,0,0,{"$error":"#VALUE!"},0,0,0,0,0,0,0,{"$f":"IF(B97=\"\",0,SUM(Q98:$Q$122))","v":0},null,null,null,0,0,0,"",{"$f":"IF(B98=\"\",0,GP!Z98)","v":0},{"$f":"IF(B98=\"\",0,GP!AA98)","v":0},{"$f":"IF(B98=\"\",0,GP!AB98)","v":0},null,null,null,0,{"$f":"IF(A98>PPP,0,SUMPRODUCT(AF98:$AF$122,Q98:$Q$122)/Q98)","v":0},null,null,{"$f":"IF(B98=\"\",0,IF(B98=106,0,SUMPRODUCT(Z98:$Z$122,V98:$V$122)/Q98))","v":0},{"$f":"IF(B98=\"\",0,IF(B98=106,0,SUMPRODUCT(AA98:$AA$122,Q98:$Q$122)*$D$10/Q98))","v":0},{"$f":"IF(B98=\"\",0,IF(B98=106,0,SUMPRODUCT(AB98:$AB$122,Q98:$Q$122)/Q98))","v":0},null,0,0,0,{"$f":"CSV!AJ98","v":{"$error":"#VALUE!"}},{"$error":"#VALUE!"},"",{"$f":"IF(B97=\"\",0,(AF97+AS97)*(VLOOKUP(A97,#REF!,2,TRUE)-$G$4))","v":0},0,0,{"$f":"IF(B97=\"\",0,(AF97+AS97)*(VLOOKUP(A97,#REF!,2,TRUE)+PAD_Int-$G$4))","v":0},null,"","","","","","",null,0,{"$f":"'SA&Table'!GO2","v":""},0]
["","",{"$f":"IF(B99=\"\",0,VLOOKUP(B99,'Mortality&Morbidity'!AB:AJ,9,FALSE)/1000)","v":0},0,0,0,0,0,0,{"$error":"#VALUE!"},0,0,0,0,0,0,0,{"$f":"IF(B98=\"\",0,SUM(Q99:$Q$122))","v":0},null,null,null,0,0,0,"",{"$f":"IF(B99=\"\",0,GP!Z99)","v":0},{"$f":"IF(B99=\"\",0,GP!AA99)","v":0},{"$f":"IF(B99=\"\",0,GP!AB99)","v":0},null,null,null,0,{"$f":"IF(A99>PPP,0,SUMPRODUCT(AF99:$AF$122,Q99:$Q$122)/Q99)","v":0},null,null,{"$f":"IF(B99=\"\",0,IF(B99=106,0,SUMPRODUCT(Z99:$Z$122,V99:$V$122)/Q99))","v":0},{"$f":"IF(B99=\"\",0,IF(B99=106,0,SUMPRODUCT(AA99:$AA$122,Q99:$Q$122)*$D$10/Q99))","v":0},{"$f":"IF(B99=\"\",0,IF(B99=106,0,SUMPRODUCT(AB99:$AB$122,Q99:$Q$122)/Q99))","v":0},null,0,0,0,{"$f":"CSV!AJ99","v":{"$error":"#VALUE!"}},{"$error":"#VALUE!"},"",{"$f":"IF(B98=\"\",0,(AF98+AS98)*(VLOOKUP(A98,#REF!,2,TRUE)-$G$4))","v":0},0,0,{"$f":"IF(B98=\"\",0,(AF98+AS98)*(VLOOKUP(A98,#REF!,2,TRUE)+PAD_Int-$G$4))","v":0},null,"","","","","","",null,0,{"$f":"'SA&Table'!GP2","v":""},0]
["","",{"$f":"IF(B100=\"\",0,VLOOKUP(B100,'Mortality&Morbidity'!AB:AJ,9,FALSE)/1000)","v":0},0,0,0,0,0,0,{"$error":"#VALUE!"},0,0,0,0,0,0,0,{"$f":"IF(B99=\"\",0,SUM(Q100:$Q$122))","v":0},null,null,null,0,0,0,"",{"$f":"IF(B100=\"\",0,GP!Z100)","v":0},{"$f":"IF(B100=\"\",0,GP!AA100)","v":0},{"$f":"IF(B100=\"\",0,GP!AB100)","v":0},null,null,null,0,{"$f":"IF(A100>PPP,0,SUMPRODUCT(AF100:$AF$122,Q100:$Q$122)/Q100)","v":0},null,null,{"$f":"IF(B100=\"\",0,IF(B100=106,0,SUMPRODUCT(Z100:$Z$122,V100:$V$122)/Q100))","v":0},{"$f":"IF(B100=\"\",0,IF(B100=106,0,SUMPRODUCT(AA100:$AA$122,Q100:$Q$122)*$D$10/Q100))","v":0},{"$f":"IF(B100=\"\",0,IF(B100=106,0,SUMPRODUCT(AB100:$AB$122,Q100:$Q$122)/Q100))","v":0},null,0,0,0,{"$f":"CSV!AJ100","v":{"$error":"#VALUE!"}},{"$error":"#VALUE!"},"",{"$f":"IF(B99=\"\",0,(AF99+AS99)*(VLOOKUP(A99,#REF!,2,TRUE)-$G$4))","v":0},0,0,{"$f":"IF(B99=\"\",0,(AF99+AS99)*(VLOOKUP(A99,#REF!,2,TRUE)+PAD_Int-$G$4))","v":0},null,"","","","","","",null,0,{"$f":"'SA&Table'!GQ2","v":""},0]
["","",{"$f":"IF(B101=\"\",0,VLOOKUP(B101,'Mortality&Morbidity'!AB:AJ,9,FALSE)/1000)","v":0},0,0,0,0,0,0,{"$error":"#VALUE!"},0,0,0,0,0,0,0,{"$f":"IF(B100=\"\",0,SUM(Q101:$Q$122))","v":0},null,null,null,0,0,0,"",{"$f":"IF(B101=\"\",0,GP!Z101)","v":0},{"$f":"IF(B101=\"\",0,GP!AA101)","v":0},{"$f":"IF(B101=\"\",0,GP!AB101)","v":0},null,null,null,0,{"$f":"IF(A101>PPP,0,SUMPRODUCT(AF101:$AF$122,Q101:$Q$122)/Q101)","v":0},null,null,{"$f":"IF(B101=\"\",0,IF(B101=106,0,SUMPRODUCT(Z101:$Z$122,V101:$V$122)/Q101))","v":0},{"$f":"IF(B101=\"\",0,IF(B101=106,0,SUMPRODUCT(AA101:$AA$122,Q101:$Q$122)*$D$10/Q101))","v":0},{"$f":"IF(B101=\"\",0,IF(B101=106,0,SUMPRODUCT(AB101:$AB$122,Q101:$Q$122)/Q101))","v":0},null,0,0,0,{"$f":"CSV!AJ101","v":{"$error":"#VALUE!"}},{"$error":"#VALUE!"},"",{"$f":"IF(B100=\"\",0,(AF100+AS100)*(VLOOKUP(A100,#REF!,2,TRUE)-$G$4))","v":0},0,0,{"$f":"IF(B100=\"\",0,(AF100+AS100)*(VLOOKUP(A100,#REF!,2,TRUE)+PAD_Int-$G$4))","v":0},null,"","","","","","",null,0,{"$f":"'SA&Table'!GR2","v":""},0]
["","",{"$f":"IF(B102=\"\",0,VLOOKUP(B102,'Mortality&Morbidity'!AB:AJ,9,FALSE)/1000)","v":0},0,0,0,0,0,0,{"$error":"#VALUE!"},0,0,0,0,0,0,0,{"$f":"IF(B101=\"\",0,SUM(Q102:$Q$122))","v":0},null,null,null,0,0,0,"",{"$f":"IF(B102=\"\",0,GP!Z102)","v":0},{"$f":"IF(B102=\"\",0,GP!AA102)","v":0},{"$f":"IF(B102=\"\",0,GP!AB102)","v":0},null,null,null,0,{"$f":"IF(A102>PPP,0,SUMPRODUCT(AF102:$AF$122,Q102:$Q$122)/Q102)","v":0},null,null,{"$f":"IF(B102=\"\",0,IF(B102=106,0,SUMPRODUCT(Z102:$Z$122,V102:$V$122)/Q102))","v":0},{"$f":"IF(B102=\"\",0,IF(B102=106,0,SUMPRODUCT(AA102:$AA$122,Q102:$Q$122)*$D$10/Q102))","v":0},{"$f":"IF(B102=\"\",0,IF(B102=106,0,SUMPRODUCT(AB102:$AB$122,Q102:$Q$122)/Q102))","v":0},null,0,0,0,{"$f":"CSV!AJ102","v":{"$error":"#VALUE!"}},{"$error":"#VALUE!"},"",{"$f":"IF(B101=\"\",0,(AF101+AS101)*(VLOOKUP(A101,#REF!,2,TRUE)-$G$4))","v":0},0,0,{"$f":"IF(B101=\"\",0,(AF101+AS101)*(VLOOKUP(A101,#REF!,2,TRUE)+PAD_Int-$G$4))","v":0},null,"","","","","","",null,0,{"$f":"'SA&Table'!GS2","v":""},0]
["","",{"$f":"IF(B103=\"\",0,VLOOKUP(B103,'Mortality&Morbidity'!AB:AJ,9,FALSE)/1000)","v":0},0,0,0,0,0,0,{"$error":"#VALUE!"},0,0,0,0,0,0,0,{"$f":"IF(B102=\"\",0,SUM(Q103:$Q$122))","v":0},null,null,null,0,0,0,"",{"$f":"IF(B103=\"\",0,GP!Z103)","v":0},{"$f":"IF(B103=\"\",0,GP!AA103)","v":0},{"$f":"IF(B103=\"\",0,GP!AB103)","v":0},null,null,null,0,{"$f":"IF(A103>PPP,0,SUMPRODUCT(AF103:$AF$122,Q103:$Q$122)/Q103)","v":0},null,null,{"$f":"IF(B103=\"\",0,IF(B103=106,0,SUMPRODUCT(Z103:$Z$122,V103:$V$122)/Q103))","v":0},{"$f":"IF(B103=\"\",0,IF(B103=106,0,SUMPRODUCT(AA103:$AA$122,Q103:$Q$122)*$D$10/Q103))","v":0},{"$f":"IF(B103=\"\",0,IF(B103=106,0,SUMPRODUCT(AB103:$AB$122,Q103:$Q$122)/Q103))","v":0},null,0,0,0,{"$f":"CSV!AJ103","v":{"$error":"#VALUE!"}},{"$error":"#VALUE!"},"",{"$f":"IF(B102=\"\",0,(AF102+AS102)*(VLOOKUP(A102,#REF!,2,TRUE)-$G$4))","v":0},0,0,{"$f":"IF(B102=\"\",0,(AF102+AS102)*(VLOOKUP(A102,#REF!,2,TRUE)+PAD_Int-$G$4))","v":0},null,"","","","","","",null,0,{"$f":"'SA&Table'!GT2","v":""},0]
["","",{"$f":"IF(B104=\"\",0,VLOOKUP(B104,'Mortality&Morbidity'!AB:AJ,9,FALSE)/1000)","v":0},0,0,0,0,0,0,{"$error":"#VALUE!"},0,0,0,0,0,0,0,{"$f":"IF(B103=\"\",0,SUM(Q104:$Q$122))","v":0},null,null,null,0,0,0,"",{"$f":"IF(B104=\"\",0,GP!Z104)","v":0},{"$f":"IF(B104=\"\",0,GP!AA104)","v":0},{"$f":"IF(B104=\"\",0,GP!AB104)","v":0},null,null,null,0,{"$f":"IF(A104>PPP,0,SUMPRODUCT(AF104:$AF$122,Q104:$Q$122)/Q104)","v":0},null,null,{"$f":"IF(B104=\"\",0,IF(B104=106,0,SUMPRODUCT(Z104:$Z$122,V104:$V$122)/Q104))","v":0},{"$f":"IF(B104=\"\",0,IF(B104=106,0,SUMPRODUCT(AA104:$AA$122,Q104:$Q$122)*$D$10/Q104))","v":0},{"$f":"IF(B104=\"\",0,IF(B104=106,0,SUMPRODUCT(AB104:$AB$122,Q104:$Q$122)/Q104))","v":0},null,0,0,0,{"$f":"CSV!AJ104","v":{"$error":"#VALUE!"}},{"$error":"#VALUE!"},"",{"$f":"IF(B103=\"\",0,(AF103+AS103)*(VLOOKUP(A103,#REF!,2,TRUE)-$G$4))","v":0},0,0,{"$f":"IF(B103=\"\",0,(AF103+AS103)*(VLOOKUP(A103,#REF!,2,TRUE)+PAD_Int-$G$4))","v":0},null,"","","","","","",null,0,{"$f":"'SA&Table'!GU2","v":""},0]
["","",{"$f":"IF(B105=\"\",0,VLOOKUP(B105,'Mortality&Morbidity'!AB:AJ,9,FALSE)/1000)","v":0},0,0,0,0,0,0,{"$error":"#VALUE!"},0,0,0,0,0,0,0,{"$f":"IF(B104=\"\",0,SUM(Q105:$Q$122))","v":0},null,null,null,0,0,0,"",{"$f":"IF(B105=\"\",0,GP!Z105)","v":0},{"$f":"IF(B105=\"\",0,GP!AA105)","v":0},{"$f":"IF(B105=\"\",0,GP!AB105)","v":0},null,null,null,0,{"$f":"IF(A105>PPP,0,SUMPRODUCT(AF105:$AF$122,Q105:$Q$122)/Q105)","v":0},null,null,{"$f":"IF(B105=\"\",0,IF(B105=106,0,SUMPRODUCT(Z105:$Z$122,V105:$V$122)/Q105))","v":0},{"$f":"IF(B105=\"\",0,IF(B105=106,0,SUMPRODUCT(AA105:$AA$122,Q105:$Q$122)*$D$10/Q105))","v":0},{"$f":"IF(B105=\"\",0,IF(B105=106,0,SUMPRODUCT(AB105:$AB$122,Q105:$Q$122)/Q105))","v":0},null,0,0,0,{"$f":"CSV!AJ105","v":{"$error":"#VALUE!"}},{"$error":"#VALUE!"},"",{"$f":"IF(B104=\"\",0,(AF104+AS104)*(VLOOKUP(A104,#REF!,2,TRUE)-$G$4))","v":0},0,0,{"$f":"IF(B104=\"\",0,(AF104+AS104)*(VLOOKUP(A104,#REF!,2,TRUE)+PAD_Int-$G$4))","v":0},null,"","","","","","",null,0,{"$f":"'SA&Table'!GV2","v":""},0]
["","",{"$f":"IF(B106=\"\",0,VLOOKUP(B106,'Mortality&Morbidity'!AB:AJ,9,FALSE)/1000)","v":0},0,0,0,0,0,0,{"$error":"#VALUE!"},0,0,0,0,0,0,0,{"$f":"IF(B105=\"\",0,SUM(Q106:$Q$122))","v":0},null,null,null,0,0,0,"",{"$f":"IF(B106=\"\",0,GP!Z106)","v":0},{"$f":"IF(B106=\"\",0,GP!AA106)","v":0},{"$f":"IF(B106=\"\",0,GP!AB106)","v":0},null,null,null,0,{"$f":"IF(A106>PPP,0,SUMPRODUCT(AF106:$AF$122,Q106:$Q$122)/Q106)","v":0},null,null,{"$f":"IF(B106=\"\",0,IF(B106=106,0,SUMPRODUCT(Z106:$Z$122,V106:$V$122)/Q106))","v":0},{"$f":"IF(B106=\"\",0,IF(B106=106,0,SUMPRODUCT(AA106:$AA$122,Q106:$Q$122)*$D$10/Q106))","v":0},{"$f":"IF(B106=\"\",0,IF(B106=106,0,SUMPRODUCT(AB106:$AB$122,Q106:$Q$122)/Q106))","v":0},null,0,0,0,{"$f":"CSV!AJ106","v":{"$error":"#VALUE!"}},{"$error":"#VALUE!"},"",{"$f":"IF(B105=\"\",0,(AF105+AS105)*(VLOOKUP(A105,#REF!,2,TRUE)-$G$4))","v":0},0,0,{"$f":"IF(B105=\"\",0,(AF105+AS105)*(VLOOKUP(A105,#REF!,2,TRUE)+PAD_Int-$G$4))","v":0},null,"","","","","","",null,0,{"$f":"'SA&Table'!GW2","v":""},0]
["","",{"$f":"IF(B107=\"\",0,VLOOKUP(B107,'Mortality&Morbidity'!AB:AJ,9,FALSE)/1000)","v":0},0,0,0,0,0,0,{"$error":"#VALUE!"},0,0,0,0,0,0,0,{"$f":"IF(B106=\"\",0,SUM(Q107:$Q$122))","v":0},null,null,null,0,0,0,"",{"$f":"IF(B107=\"\",0,GP!Z107)","v":0},{"$f":"IF(B107=\"\",0,GP!AA107)","v":0},{"$f":"IF(B107=\"\",0,GP!AB107)","v":0},null,null,null,0,{"$f":"IF(A107>PPP,0,SUMPRODUCT(AF107:$AF$122,Q107:$Q$122)/Q107)","v":0},null,null,{"$f":"IF(B107=\"\",0,IF(B107=106,0,SUMPRODUCT(Z107:$Z$122,V107:$V$122)/Q107))","v":0},{"$f":"IF(B107=\"\",0,IF(B107=106,0,SUMPRODUCT(AA107:$AA$122,Q107:$Q$122)*$D$10/Q107))","v":0},{"$f":"IF(B107=\"\",0,IF(B107=106,0,SUMPRODUCT(AB107:$AB$122,Q107:$Q$122)/Q107))","v":0},null,0,0,0,{"$f":"CSV!AJ107","v":{"$error":"#VALUE!"}},{"$error":"#VALUE!"},"",{"$f":"IF(B106=\"\",0,(AF106+AS106)*(VLOOKUP(A106,#REF!,2,TRUE)-$G$4))","v":0},0,0,{"$f":"IF(B106=\"\",0,(AF106+AS106)*(VLOOKUP(A106,#REF!,2,TRUE)+PAD_Int-$G$4))","v":0},null,"","","","","","",null,0,{"$f":"'SA&Table'!GX2","v":""},0]
["","",{"$f":"IF(B108=\"\",0,VLOOKUP(B108,'Mortality&Morbidity'!AB:AJ,9,FALSE)/1000)","v":0},0,0,0,0,0,0,{"$error":"#VALUE!"},0,0,0,0,0,0,0,{"$f":"IF(B107=\"\",0,SUM(Q108:$Q$122))","v":0},null,null,null,0,0,0,"",{"$f":"IF(B108=\"\",0,GP!Z108)","v":0},{"$f":"IF(B108=\"\",0,GP!AA108)","v":0},{"$f":"IF(B108=\"\",0,GP!AB108)","v":0},null,null,null,0,{"$f":"IF(A108>PPP,0,SUMPRODUCT(AF108:$AF$122,Q108:$Q$122)/Q108)","v":0},null,null,{"$f":"IF(B108=\"\",0,IF(B108=106,0,SUMPRODUCT(Z108:$Z$122,V108:$V$122)/Q108))","v":0},{"$f":"IF(B108=\"\",0,IF(B108=106,0,SUMPRODUCT(AA108:$AA$122,Q108:$Q$122)*$D$10/Q108))","v":0},{"$f":"IF(B108=\"\",0,IF(B108=106,0,SUMPRODUCT(AB108:$AB$122,Q108:$Q$122)/Q108))","v":0},null,0,0,0,{"$f":"CSV!AJ108","v":{"$error":"#VALUE!"}},{"$error":"#VALUE!"},"",{"$f":"IF(B107=\"\",0,(AF107+AS107)*(VLOOKUP(A107,#REF!,2,TRUE)-$G$4))","v":0},0,0,{"$f":"IF(B107=\"\",0,(AF107+AS107)*(VLOOKUP(A107,#REF!,2,TRUE)+PAD_Int-$G$4))","v":0},null,"","","","","","",null,0,{"$f":"'SA&Table'!GY2","v":""},0]
["","",{"$f":"IF(B109=\"\",0,VLOOKUP(B109,'Mortality&Morbidity'!AB:AJ,9,FALSE)/1000)","v":0},0,0,0,0,0,0,{"$error":"#VALUE!"},0,0,0,0,0,0,0,{"$f":"IF(B108=\"\",0,SUM(Q109:$Q$122))","v":0},null,null,null,0,0,0,"",{"$f":"IF(B109=\"\",0,GP!Z109)","v":0},{"$f":"IF(B109=\"\",0,GP!AA109)","v":0},{"$f":"IF(B109=\"\",0,GP!AB109)","v":0},null,null,null,0,{"$f":"IF(A109>PPP,0,SUMPRODUCT(AF109:$AF$122,Q109:$Q$122)/Q109)","v":0},null,null,{"$f":"IF(B109=\"\",0,IF(B109=106,0,SUMPRODUCT(Z109:$Z$122,V109:$V$122)/Q109))","v":0},{"$f":"IF(B109=\"\",0,IF(B109=106,0,SUMPRODUCT(AA109:$AA$122,Q109:$Q$122)*$D$10/Q109))","v":0},{"$f":"IF(B109=\"\",0,IF(B109=106,0,SUMPRODUCT(AB109:$AB$122,Q109:$Q$122)/Q109))","v":0},null,0,0,0,{"$f":"CSV!AJ109","v":{"$error":"#VALUE!"}},{"$error":"#VALUE!"},"",{"$f":"IF(B108=\"\",0,(AF108+AS108)*(VLOOKUP(A108,#REF!,2,TRUE)-$G$4))","v":0},0,0,{"$f":"IF(B108=\"\",0,(AF108+AS108)*(VLOOKUP(A108,#REF!,2,TRUE)+PAD_Int-$G$4))","v":0},null,"","","","","","",null,0,{"$f":"'SA&Table'!GZ2","v":""},0]
["","",{"$f":"IF(B110=\"\",0,VLOOKUP(B110,'Mortality&Morbidity'!AB:AJ,9,FALSE)/1000)","v":0},0,0,0,0,0,0,{"$error":"#VALUE!"},0,0,0,0,0,0,0,{"$f":"IF(B109=\"\",0,SUM(Q110:$Q$122))","v":0},null,null,null,0,0,0,"",{"$f":"IF(B110=\"\",0,GP!Z110)","v":0},{"$f":"IF(B110=\"\",0,GP!AA110)","v":0},{"$f":"IF(B110=\"\",0,GP!AB110)","v":0},null,null,null,0,{"$f":"IF(A110>PPP,0,SUMPRODUCT(AF110:$AF$122,Q110:$Q$122)/Q110)","v":0},null,null,{"$f":"IF(B110=\"\",0,IF(B110=106,0,SUMPRODUCT(Z110:$Z$122,V110:$V$122)/Q110))","v":0},{"$f":"IF(B110=\"\",0,IF(B110=106,0,SUMPRODUCT(AA110:$AA$122,Q110:$Q$122)*$D$10/Q110))","v":0},{"$f":"IF(B110=\"\",0,IF(B110=106,0,SUMPRODUCT(AB110:$AB$122,Q110:$Q$122)/Q110))","v":0},null,0,0,0,{"$f":"CSV!AJ110","v":{"$error":"#VALUE!"}},{"$error":"#VALUE!"},"",{"$f":"IF(B109=\"\",0,(AF109+AS109)*(VLOOKUP(A109,#REF!,2,TRUE)-$G$4))","v":0},0,0,{"$f":"IF(B109=\"\",0,(AF109+AS109)*(VLOOKUP(A109,#REF!,2,TRUE)+PAD_Int-$G$4))","v":0},null,"","","","","","",null,0,{"$f":"'SA&Table'!HA2","v":""},0]
["","",{"$f":"IF(B111=\"\",0,VLOOKUP(B111,'Mortality&Morbidity'!AB:AJ,9,FALSE)/1000)","v":0},0,0,0,0,0,0,{"$error":"#VALUE!"},0,0,0,0,0,0,0,{"$f":"IF(B110=\"\",0,SUM(Q111:$Q$122))","v":0},null,null,null,0,0,0,"",{"$f":"IF(B111=\"\",0,GP!Z111)","v":0},{"$f":"IF(B111=\"\",0,GP!AA111)","v":0},{"$f":"IF(B111=\"\",0,GP!AB111)","v":0},null,null,null,0,{"$f":"IF(A111>PPP,0,SUMPRODUCT(AF111:$AF$122,Q111:$Q$122)/Q111)","v":0},null,null,{"$f":"IF(B111=\"\",0,IF(B111=106,0,SUMPRODUCT(Z111:$Z$122,V111:$V$122)/Q111))","v":0},{"$f":"IF(B111=\"\",0,IF(B111=106,0,SUMPRODUCT(AA111:$AA$122,Q111:$Q$122)*$D$10/Q111))","v":0},{"$f":"IF(B111=\"\",0,IF(B111=106,0,SUMPRODUCT(AB111:$AB$122,Q111:$Q$122)/Q111))","v":0},null,0,0,0,{"$f":"CSV!AJ111","v":{"$error":"#VALUE!"}},{"$error":"#VALUE!"},"",{"$f":"IF(B110=\"\",0,(AF110+AS110)*(VLOOKUP(A110,#REF!,2,TRUE)-$G$4))","v":0},0,0,{"$f":"IF(B110=\"\",0,(AF110+AS110)*(VLOOKUP(A110,#REF!,2,TRUE)+PAD_Int-$G$4))","v":0},null,"","","","","","",null,0,{"$f":"'SA&Table'!HB2","v":""},0]
["","",{"$f":"IF(B112=\"\",0,VLOOKUP(B112,'Mortality&Morbidity'!AB:AJ,9,FALSE)/1000)","v":0},0,0,0,0,0,0,{"$error":"#VALUE!"},0,0,{"$f":"IF(B112=\"\",0,D112*L112)","v":0},{"$f":"IF(B112=\"\",0,F112*L112)","v":0},0,0,{"$f":"IF(A112>BP+1,0,J112*L112)","v":0},{"$f":"IF(B111=\"\",0,SUM(Q112:$Q$122))","v":0},null,null,null,0,{"$f":"IF(B112=\"\",0,IF(A112=1,J113*O112/2*$G$8,J113*O112*$G$6))","v":0},{"$f":"IF(B112=\"\",0,J113*P112*$G$6)","v":0},{"$f":"IF(B112=\"\",\"\",IF(A112<=PPP,1,0))","v":""},{"$f":"IF(B112=\"\",0,GP!Z112)","v":0},{"$f":"IF(B112=\"\",0,GP!AA112)","v":0},{"$f":"IF(B112=\"\",0,GP!AB112)","v":0},null,null,null,{"$f":"IF(B112=\"\",0,IF(A112=1,$AH$5,IF(A112>PPP,0,$AH$6)))","v":0},{"$f":"IF(A112>PPP,0,SUMPRODUCT(AF112:$AF$122,Q112:$Q$122)/Q112)","v":0},null,null,{"$f":"IF(B112=\"\",0,IF(B112=106,0,SUMPRODUCT(Z112:$Z$122,V112:$V$122)/Q112))","v":0},{"$f":"IF(B112=\"\",0,IF(B112=106,0,SUMPRODUCT(AA112:$AA$122,Q112:$Q$122)*$D$10/Q112))","v":0},{"$f":"IF(B112=\"\",0,IF(B112=106,0,SUMPRODUCT(AB112:$AB$122,Q112:$Q$122)/Q112))","v":0},null,0,{"$f":"IF(B112=\"\",0,IF(B112=106,0,IF(A112=1,0,MAX($AH$6-$M$4,0)*(R112-LOOKUP(PPP+1,A:A,R:R))/Q112)*(A112<=PPP)))","v":0},0,{"$f":"CSV!AJ112","v":{"$error":"#VALUE!"}},{"$error":"#VALUE!"},"",{"$f":"IF(B111=\"\",0,(AF111+AS111)*(VLOOKUP(A111,#REF!,2,TRUE)-$G$4))","v":0},0,0,{"$f":"IF(B111=\"\",0,(AF111+AS111)*(VLOOKUP(A111,#REF!,2,TRUE)+PAD_Int-$G$4))","v":0},null,"","","","","","",null,0,{"$f":"'SA&Table'!HC2","v":""},0]
[{"$f":"IF(A112=\"\",\"\",IF(A112<BP,A112+1,\"\"))","v":""},"",{"$f":"IF(B113=\"\",0,VLOOKUP(B113,'Mortality&Morbidity'!AB:AJ,9,FALSE)/1000)","v":0},0,0,0,0,0,0,{"$error":"#VALUE!"},0,{"$f":"IF(B112=\"\",0,L112*K112)","v":0},0,0,0,0,0,{"$f":"IF(B112=\"\",0,SUM(Q113:$Q$122))","v":0},null,null,null,0,0,0,"",{"$f":"IF(B113=\"\",0,GP!Z113)","v":0},{"$f":"IF(B113=\"\",0,GP!AA113)","v":0},{"$f":"IF(B113=\"\",0,GP!AB113)","v":0},null,null,null,0,{"$f":"IF(A113>PPP,0,SUMPRODUCT(AF113:$AF$122,Q113:$Q$122)/Q113)","v":0},null,null,{"$f":"IF(B113=\"\",0,IF(B113=106,0,SUMPRODUCT(Z113:$Z$122,V113:$V$122)/Q113))","v":0},{"$f":"IF(B113=\"\",0,IF(B113=106,0,SUMPRODUCT(AA113:$AA$122,Q113:$Q$122)*$D$10/Q113))","v":0},{"$f":"IF(B113=\"\",0,IF(B113=106,0,SUMPRODUCT(AB113:$AB$122,Q113:$Q$122)/Q113))","v":0},null,0,0,0,{"$f":"CSV!AJ113","v":{"$error":"#VALUE!"}},{"$error":"#VALUE!"},"",{"$f":"IF(B112=\"\",0,(AF112+AS112)*(VLOOKUP(A112,#REF!,2,TRUE)-$G$4))","v":0},0,0,{"$f":"IF(B112=\"\",0,(AF112+AS112)*(VLOOKUP(A112,#REF!,2,TRUE)+PAD_Int-$G$4))","v":0},null,"","","","","","",null,0,{"$f":"'SA&Table'!HD2","v":""},0]
["","",{"$f":"IF(B114=\"\",0,VLOOKUP(B114,'Mortality&Morbidity'!AB:AJ,9,FALSE)/1000)","v":0},0,0,0,0,0,0,{"$error":"#VALUE!"},0,0,0,0,0,0,0,{"$f":"IF(B113=\"\",0,SUM(Q114:$Q$122))","v":0},null,null,null,0,0,0,"",{"$f":"IF(B114=\"\",0,GP!Z114)","v":0},{"$f":"IF(B114=\"\",0,GP!AA114)","v":0},{"$f":"IF(B114=\"\",0,GP!AB114)","v":0},null,null,null,0,{"$f":"IF(A114>PPP,0,SUMPRODUCT(AF114:$AF$122,Q114:$Q$122)/Q114)","v":0},null,null,{"$f":"IF(B114=\"\",0,IF(B114=106,0,SUMPRODUCT(Z114:$Z$122,V114:$V$122)/Q114))","v":0},{"$f":"IF(B114=\"\",0,IF(B114=106,0,SUMPRODUCT(AA114:$AA$122,Q114:$Q$122)*$D$10/Q114))","v":0},{"$f":"IF(B114=\"\",0,IF(B114=106,0,SUMPRODUCT(AB114:$AB$122,Q114:$Q$122)/Q114))","v":0},null,0,0,0,{"$f":"CSV!AJ114","v":{"$error":"#VALUE!"}},{"$error":"#VALUE!"},"",{"$f":"IF(B113=\"\",0,(AF113+AS113)*(VLOOKUP(A113,#REF!,2,TRUE)-$G$4))","v":0},0,0,{"$f":"IF(B113=\"\",0,(AF113+AS113)*(VLOOKUP(A113,#REF!,2,TRUE)+PAD_Int-$G$4))","v":0},null,"","","","","","",null,0,{"$f":"'SA&Table'!HE2","v":""},0]
["","",{"$f":"IF(B115=\"\",0,VLOOKUP(B115,'Mortality&Morbidity'!AB:AJ,9,FALSE)/1000)","v":0},0,0,0,0,0,0,{"$error":"#VALUE!"},0,0,0,0,0,0,0,{"$f":"IF(B114=\"\",0,SUM(Q115:$Q$122))","v":0},null,null,null,0,0,0,"",{"$f":"IF(B115=\"\",0,GP!Z115)","v":0},{"$f":"IF(B115=\"\",0,GP!AA115)","v":0},{"$f":"IF(B115=\"\",0,GP!AB115)","v":0},null,null,null,0,{"$f":"IF(A115>PPP,0,SUMPRODUCT(AF115:$AF$122,Q115:$Q$122)/Q115)","v":0},null,null,{"$f":"IF(B115=\"\",0,IF(B115=106,0,SUMPRODUCT(Z115:$Z$122,V115:$V$122)/Q115))","v":0},{"$f":"IF(B115=\"\",0,IF(B115=106,0,SUMPRODUCT(AA115:$AA$122,Q115:$Q$122)*$D$10/Q115))","v":0},{"$f":"IF(B115=\"\",0,IF(B115=106,0,SUMPRODUCT(AB115:$AB$122,Q115:$Q$122)/Q115))","v":0},null,0,0,0,{"$f":"CSV!AJ115","v":{"$error":"#VALUE!"}},{"$error":"#VALUE!"},"",{"$f":"IF(B114=\"\",0,(AF114+AS114)*(VLOOKUP(A114,#REF!,2,TRUE)-$G$4))","v":0},0,0,{"$f":"IF(B114=\"\",0,(AF114+AS114)*(VLOOKUP(A114,#REF!,2,TRUE)+PAD_Int-$G$4))","v":0},null,"","","","","","",null,0,{"$f":"'SA&Table'!HF2","v":""},0]
["","",{"$f":"IF(B116=\"\",0,VLOOKUP(B116,'Mortality&Morbidity'!AB:AJ,9,FALSE)/1000)","v":0},0,0,0,0,0,0,{"$error":"#VALUE!"},0,0,0,0,0,0,0,{"$f":"IF(B115=\"\",0,SUM(Q116:$Q$122))","v":0},null,null,null,0,0,0,"",{"$f":"IF(B116=\"\",0,GP!Z116)","v":0},{"$f":"IF(B116=\"\",0,GP!AA116)","v":0},{"$f":"IF(B116=\"\",0,GP!AB116)","v":0},null,null,null,0,{"$f":"IF(A116>PPP,0,SUMPRODUCT(AF116:$AF$122,Q116:$Q$122)/Q116)","v":0},null,null,{"$f":"IF(B116=\"\",0,IF(B116=106,0,SUMPRODUCT(Z116:$Z$122,V116:$V$122)/Q116))","v":0},{"$f":"IF(B116=\"\",0,IF(B116=106,0,SUMPRODUCT(AA116:$AA$122,Q116:$Q$122)*$D$10/Q116))","v":0},{"$f":"IF(B116=\"\",0,IF(B116=106,0,SUMPRODUCT(AB116:$AB$122,Q116:$Q$122)/Q116))","v":0},null,0,0,0,{"$f":"CSV!AJ116","v":{"$error":"#VALUE!"}},{"$error":"#VALUE!"},"",{"$f":"IF(B115=\"\",0,(AF115+AS115)*(VLOOKUP(A115,#REF!,2,TRUE)-$G$4))","v":0},0,0,{"$f":"IF(B115=\"\",0,(AF115+AS115)*(VLOOKUP(A115,#REF!,2,TRUE)+PAD_Int-$G$4))","v":0},null,"","","","","","",null,0,{"$f":"'SA&Table'!HG2","v":""},0]
["","",{"$f":"IF(B117=\"\",0,VLOOKUP(B117,'Mortality&Morbidity'!AB:AJ,9,FALSE)/1000)","v":0},0,0,0,0,0,0,{"$error":"#VALUE!"},0,0,0,0,0,0,0,{"$f":"IF(B116=\"\",0,SUM(Q117:$Q$122))","v":0},null,null,null,0,0,0,"",{"$f":"IF(B117=\"\",0,GP!Z117)","v":0},{"$f":"IF(B117=\"\",0,GP!AA117)","v":0},{"$f":"IF(B117=\"\",0,GP!AB117)","v":0},null,null,null,0,{"$f":"IF(A117>PPP,0,SUMPRODUCT(AF117:$AF$122,Q117:$Q$122)/Q117)","v":0},null,null,{"$f":"IF(B117=\"\",0,IF(B117=106,0,SUMPRODUCT(Z117:$Z$122,V117:$V$122)/Q117))","v":0},{"$f":"IF(B117=\"\",0,IF(B117=106,0,SUMPRODUCT(AA117:$AA$122,Q117:$Q$122)*$D$10/Q117))","v":0},{"$f":"IF(B117=\"\",0,IF(B117=106,0,SUMPRODUCT(AB117:$AB$122,Q117:$Q$122)/Q117))","v":0},null,0,0,0,{"$f":"CSV!AJ117","v":{"$error":"#VALUE!"}},{"$error":"#VALUE!"},"",{"$f":"IF(B116=\"\",0,(AF116+AS116)*(VLOOKUP(A116,#REF!,2,TRUE)-$G$4))","v":0},0,0,{"$f":"IF(B116=\"\",0,(AF116+AS116)*(VLOOKUP(A116,#REF!,2,TRUE)+PAD_Int-$G$4))","v":0},null,"","","","","","",null,0,{"$f":"'SA&Table'!HH2","v":""},0]
["","",{"$f":"IF(B118=\"\",0,VLOOKUP(B118,'Mortality&Morbidity'!AB:AJ,9,FALSE)/1000)","v":0},0,0,0,0,0,0,{"$error":"#VALUE!"},0,0,0,0,0,0,0,{"$f":"IF(B117=\"\",0,SUM(Q118:$Q$122))","v":0},null,null,null,0,0,0,"",{"$f":"IF(B118=\"\",0,GP!Z118)","v":0},{"$f":"IF(B118=\"\",0,GP!AA118)","v":0},{"$f":"IF(B118=\"\",0,GP!AB118)","v":0},null,null,null,0,{"$f":"IF(A118>PPP,0,SUMPRODUCT(AF118:$AF$122,Q118:$Q$122)/Q118)","v":0},null,null,{"$f":"IF(B118=\"\",0,IF(B118=106,0,SUMPRODUCT(Z118:$Z$122,V118:$V$122)/Q118))","v":0},{"$f":"IF(B118=\"\",0,IF(B118=106,0,SUMPRODUCT(AA118:$AA$122,Q118:$Q$122)*$D$10/Q118))","v":0},{"$f":"IF(B118=\"\",0,IF(B118=106,0,SUMPRODUCT(AB118:$AB$122,Q118:$Q$122)/Q118))","v":0},null,0,0,0,{"$f":"CSV!AJ118","v":{"$error":"#VALUE!"}},{"$error":"#VALUE!"},"",{"$f":"IF(B117=\"\",0,(AF117+AS117)*(VLOOKUP(A117,#REF!,2,TRUE)-$G$4))","v":0},0,0,{"$f":"IF(B117=\"\",0,(AF117+AS117)*(VLOOKUP(A117,#REF!,2,TRUE)+PAD_Int-$G$4))","v":0},null,"","","","","","",null,0,{"$f":"'SA&Table'!HI2","v":""},0]
["","",{"$f":"IF(B119=\"\",0,VLOOKUP(B119,'Mortality&Morbidity'!AB:AJ,9,FALSE)/1000)","v":0},0,0,0,0,0,0,{"$error":"#VALUE!"},0,0,0,0,0,0,0,{"$f":"IF(B118=\"\",0,SUM(Q119:$Q$122))","v":0},null,null,null,0,0,0,"",{"$f":"IF(B119=\"\",0,GP!Z119)","v":0},{"$f":"IF(B119=\"\",0,GP!AA119)","v":0},{"$f":"IF(B119=\"\",0,GP!AB119)","v":0},null,null,null,0,{"$f":"IF(A119>PPP,0,SUMPRODUCT(AF119:$AF$122,Q119:$Q$122)/Q119)","v":0},null,null,{"$f":"IF(B119=\"\",0,IF(B119=106,0,SUMPRODUCT(Z119:$Z$122,V119:$V$122)/Q119))","v":0},{"$f":"IF(B119=\"\",0,IF(B119=106,0,SUMPRODUCT(AA119:$AA$122,Q119:$Q$122)*$D$10/Q119))","v":0},{"$f":"IF(B119=\"\",0,IF(B119=106,0,SUMPRODUCT(AB119:$AB$122,Q119:$Q$122)/Q119))","v":0},null,0,0,0,{"$f":"CSV!AJ119","v":{"$error":"#VALUE!"}},{"$error":"#VALUE!"},"",{"$f":"IF(B118=\"\",0,(AF118+AS118)*(VLOOKUP(A118,#REF!,2,TRUE)-$G$4))","v":0},0,0,{"$f":"IF(B118=\"\",0,(AF118+AS118)*(VLOOKUP(A118,#REF!,2,TRUE)+PAD_Int-$G$4))","v":0},null,"","","","","","",null,0,{"$f":"'SA&Table'!HJ2","v":""},0]
["","",{"$f":"IF(B120=\"\",0,VLOOKUP(B120,'Mortality&Morbidity'!AB:AJ,9,FALSE)/1000)","v":0},0,0,0,0,0,0,{"$error":"#VALUE!"},0,0,0,0,0,0,0,{"$f":"IF(B119=\"\",0,SUM(Q120:$Q$122))","v":0},null,null,null,0,0,0,"",{"$f":"IF(B120=\"\",0,GP!Z120)","v":0},{"$f":"IF(B120=\"\",0,GP!AA120)","v":0},{"$f":"IF(B120=\"\",0,GP!AB120)","v":0},null,null,null,0,{"$f":"IF(A120>PPP,0,SUMPRODUCT(AF120:$AF$122,Q120:$Q$122)/Q120)","v":0},null,null,{"$f":"IF(B120=\"\",0,IF(B120=106,0,SUMPRODUCT(Z120:$Z$122,V120:$V$122)/Q120))","v":0},{"$f":"IF(B120=\"\",0,IF(B120=106,0,SUMPRODUCT(AA120:$AA$122,Q120:$Q$122)*$D$10/Q120))","v":0},{"$f":"IF(B120=\"\",0,IF(B120=106,0,SUMPRODUCT(AB120:$AB$122,Q120:$Q$122)/Q120))","v":0},null,0,0,0,{"$f":"CSV!AJ120","v":{"$error":"#VALUE!"}},{"$error":"#VALUE!"},"",{"$f":"IF(B119=\"\",0,(AF119+AS119)*(VLOOKUP(A119,#REF!,2,TRUE)-$G$4))","v":0},0,0,{"$f":"IF(B119=\"\",0,(AF119+AS119)*(VLOOKUP(A119,#REF!,2,TRUE)+PAD_Int-$G$4))","v":0},null,"","","","","","",null,0,{"$f":"'SA&Table'!HK2","v":""},0]
["","",{"$f":"IF(B121=\"\",0,VLOOKUP(B121,'Mortality&Morbidity'!AB:AJ,9,FALSE)/1000)","v":0},0,0,0,0,0,0,{"$error":"#VALUE!"},0,0,0,0,0,0,0,{"$f":"IF(B120=\"\",0,SUM(Q121:$Q$122))","v":0},null,null,null,0,0,0,"",{"$f":"IF(B121=\"\",0,GP!Z121)","v":0},{"$f":"IF(B121=\"\",0,GP!AA121)","v":0},{"$f":"IF(B121=\"\",0,GP!AB121)","v":0},null,null,null,0,{"$f":"IF(A121>PPP,0,SUMPRODUCT(AF121:$AF$122,Q121:$Q$122)/Q121)","v":0},null,null,{"$f":"IF(B121=\"\",0,IF(B121=106,0,SUMPRODUCT(Z121:$Z$122,V121:$V$122)/Q121))","v":0},{"$f":"IF(B121=\"\",0,IF(B121=106,0,SUMPRODUCT(AA121:$AA$122,Q121:$Q$122)*$D$10/Q121))","v":0},{"$f":"IF(B121=\"\",0,IF(B121=106,0,SUMPRODUCT(AB121:$AB$122,Q121:$Q$122)/Q121))","v":0},null,0,0,0,{"$f":"CSV!AJ121","v":{"$error":"#VALUE!"}},{"$error":"#VALUE!"},"",{"$f":"IF(B120=\"\",0,(AF120+AS120)*(VLOOKUP(A120,#REF!,2,TRUE)-$G$4))","v":0},0,0,{"$f":"IF(B120=\"\",0,(AF120+AS120)*(VLOOKUP(A120,#REF!,2,TRUE)+PAD_Int-$G$4))","v":0},null,"","","","","","",null,0,{"$f":"'SA&Table'!HL2","v":""},0]
["","",{"$f":"IF(B122=\"\",0,VLOOKUP(B122,'Mortality&Morbidity'!AB:AJ,9,FALSE)/1000)","v":0},0,0,0,0,0,0,{"$error":"#VALUE!"},0,0,0,0,0,0,0,{"$f":"IF(B121=\"\",0,SUM(Q122:$Q$122))","v":0},null,null,null,0,0,0,"",{"$f":"IF(B122=\"\",0,GP!Z122)","v":0},{"$f":"IF(B122=\"\",0,GP!AA122)","v":0},{"$f":"IF(B122=\"\",0,GP!AB122)","v":0},null,null,null,0,{"$f":"IF(A122>PPP,0,SUMPRODUCT(AF122:$AF$122,Q122:$Q$122)/Q122)","v":0},null,null,{"$f":"IF(B122=\"\",0,IF(B122=106,0,SUMPRODUCT(Z122:$Z$122,V122:$V$122)/Q122))","v":0},{"$f":"IF(B122=\"\",0,IF(B122=106,0,SUMPRODUCT(AA122:$AA$122,Q122:$Q$122)*$D$10/Q122))","v":0},{"$f":"IF(B122=\"\",0,IF(B122=106,0,SUMPRODUCT(AB122:$AB$122,Q122:$Q$122)/Q122))","v":0},null,0,0,0,{"$f":"CSV!AJ122","v":{"$error":"#VALUE!"}},{"$error":"#VALUE!"},"",{"$f":"IF(B121=\"\",0,(AF121+AS121)*(VLOOKUP(A121,#REF!,2,TRUE)-$G$4))","v":0},0,0,{"$f":"IF(B121=\"\",0,(AF121+AS121)*(VLOOKUP(A121,#REF!,2,TRUE)+PAD_Int-$G$4))","v":0},null,"","","","","","",null,0,{"$f":"'SA&Table'!HM2","v":""},0]

{"sheet":"Sheet1","index":14,"n_rows":142,"n_cols":14,"rows_kept":142,"cut":false,"hidden":true,"merged":[]}
["分红年金",null,null,null,null,"鑫福年金",null,null,null,null,"非分红年金"]
["年初年龄","保费","生存金","红利","万能账户","保费","生存金","红利","万能账户",null,null,"生存金","红利","万能账户"]
[{"$f":"#REF!","v":{"$error":"#REF!"}},{"$f":"#REF!","v":{"$error":"#REF!"}},{"$f":"#REF!","v":{"$error":"#REF!"}},{"$f":"#REF!","v":{"$error":"#REF!"}},{"$f":"#REF!","v":{"$error":"#REF!"}},null,null,null,{"$f":"[1]利益演示!$S9/10","v":1.01365},null,null,{"$f":"[2]利益演示表!$J8","v":0},null,{"$f":"[2]利益演示表!$AB8","v":10.1365}]
[{"$f":"#REF!","v":{"$error":"#REF!"}},{"$f":"#REF!","v":{"$error":"#REF!"}},{"$f":"#REF!","v":{"$error":"#REF!"}},{"$f":"#REF!","v":{"$error":"#REF!"}},{"$f":"#REF!","v":{"$error":"#REF!"}},null,{"$f":"[1]利益演示!$L9/10","v":0},{"$f":"[1]利益演示!$N9/10","v":8.09070722180706},{"$f":"[1]利益演示!$S10/10","v":9.4295054063205},{"$f":"E4-I4","v":{"$error":"#REF!"}},null,{"$f":"[2]利益演示表!$J9","v":0},null,{"$f":"[2]利益演示表!$AB9","v":10.5926425}]
[{"$f":"#REF!","v":{"$error":"#REF!"}},{"$f":"#REF!","v":{"$error":"#REF!"}},{"$f":"#REF!","v":{"$error":"#REF!"}},{"$f":"#REF!","v":{"$error":"#REF!"}},{"$f":"#REF!","v":{"$error":"#REF!"}},null,{"$f":"[1]利益演示!$L10/10","v":0},{"$f":"[1]利益演示!$N10/10","v":25.8343912906617},{"$f":"[1]利益演示!$S11/10","v":36.580802659359},{"$f":"E5-I5","v":{"$error":"#REF!"}},null,{"$f":"[2]利益演示表!$J10","v":0},null,{"$f":"[2]利益演示表!$AB10","v":11.0693114125}]
[{"$f":"#REF!","v":{"$error":"#REF!"}},{"$f":"#REF!","v":{"$error":"#REF!"}},{"$f":"#REF!","v":{"$error":"#REF!"}},{"$f":"#REF!","v":{"$error":"#REF!"}},{"$f":"#REF!","v":{"$error":"#REF!"}},null,{"$f":"[1]利益演示!$L11/10","v":0},{"$f":"[1]利益演示!$N11/10","v":44.0185759403728},{"$f":"[1]利益演示!$S12/10","v":83.7663565181428},{"$error":"#REF!"},null,{"$f":"[2]利益演示表!$J11","v":0},null,{"$f":"[2]利益演示表!$AB11","v":11.5674304260625}]
[{"$f":"#REF!","v":{"$error":"#REF!"}},{"$f":"#REF!","v":{"$error":"#REF!"}},{"$f":"#REF!","v":{"$error":"#REF!"}},{"$f":"#REF!","v":{"$error":"#REF!"}},{"$f":"#REF!","v":{"$error":"#REF!"}},null,{"$f":"[1]利益演示!$L12/10","v":0},{"$f":"[1]利益演示!$N12/10","v":62.6540925294855},{"$f":"[1]利益演示!$S13/10","v":152.354633987839},{"$error":"#REF!"},null,{"$f":"[2]利益演示表!$J12","v":0},null,{"$f":"[2]利益演示表!$AB12","v":12.0879647952353}]
[{"$f":"#REF!","v":{"$error":"#REF!"}},{"$f":"#REF!","v":{"$error":"#REF!"}},{"$f":"#REF!","v":{"$error":"#REF!"}},{"$f":"#REF!","v":{"$error":"#REF!"}},{"$f":"#REF!","v":{"$error":"#REF!"}},null,{"$f":"[1]利益演示!$L13/10","v":1000},{"$f":"[1]利益演示!$N13/10","v":81.7518121141308},{"$f":"[1]利益演示!$S14/10","v":1278.33692973997},{"$error":"#REF!"},null,{"$f":"[2]利益演示表!$J13","v":1000},null,{"$f":"[2]利益演示表!$AB13","v":1047.18192321102}]
[{"$f":"#REF!","v":{"$error":"#REF!"}},{"$f":"#REF!","v":{"$error":"#REF!"}},{"$f":"#REF!","v":{"$error":"#REF!"}},{"$f":"#REF!","v":{"$error":"#REF!"}},{"$f":"#REF!","v":{"$error":"#REF!"}},null,{"$f":"[1]利益演示!$L14/10","v":1000},{"$f":"[1]利益演示!$N14/10","v":81.3228063678784},{"$f":"[1]利益演示!$S15/10","v":2454.62914879662},{"$error":"#REF!"},null,{"$f":"[2]利益演示表!$J14","v":261},null,{"$f":"[2]利益演示表!$AB14","v":1364.32265975552}]
[{"$f":"#REF!","v":{"$error":"#REF!"}},{"$f":"#REF!","v":{"$error":"#REF!"}},{"$f":"#REF!","v":{"$error":"#REF!"}},{"$f":"#REF!","v":{"$error":"#REF!"}},{"$f":"#REF!","v":{"$error":"#REF!"}},null,{"$f":"[1]利益演示!$L15/10","v":225},{"$f":"[1]利益演示!$N15/10","v":80.7280121717283},{"$f":"[1]利益演示!$S16/10","v":2881.64834487372},{"$error":"#REF!"},null,{"$f":"[2]利益演示表!$J15","v":261},null,{"$f":"[2]利益演示表!$AB15","v":1695.73472944451}]
[{"$f":"#REF!","v":{"$error":"#REF!"}},{"$f":"#REF!","v":{"$error":"#REF!"}},{"$f":"#REF!","v":{"$error":"#REF!"}},{"$f":"#REF!","v":{"$error":"#REF!"}},{"$f":"#REF!","v":{"$error":"#REF!"}},null,{"$f":"[1]利益演示!$L16/10","v":225},{"$f":"[1]利益演示!$N16/10","v":95.6442145041301},{"$f":"[1]利益演示!$S17/10","v":3343.50498662686},{"$error":"#REF!"},null,{"$f":"[2]利益演示表!$J16","v":261},null,{"$f":"[2]利益演示表!$AB16","v":2042.06034226952}]
[{"$f":"#REF!","v":{"$error":"#REF!"}},{"$f":"#REF!","v":{"$error":"#REF!"}},{"$f":"#REF!","v":{"$error":"#REF!"}},{"$f":"#REF!","v":{"$error":"#REF!"}},{"$f":"#REF!","v":{"$error":"#REF!"}},null,{"$f":"[1]利益演示!$L17/10","v":225},{"$f":"[1]利益演示!$N17/10","v":111.050415421962},{"$f":"[1]利益演示!$S18/10","v":3842.27840356679},{"$error":"#REF!"},null,{"$f":"[2]利益演示表!$J17","v":261},null,{"$f":"[2]利益演示表!$AB17","v":2403.97060767165}]
[{"$f":"#REF!","v":{"$error":"#REF!"}},{"$f":"#REF!","v":{"$error":"#REF!"}},{"$f":"#REF!","v":{"$error":"#REF!"}},{"$f":"#REF!","v":{"$error":"#REF!"}},{"$f":"#REF!","v":{"$error":"#REF!"}},null,{"$f":"[1]利益演示!$L18/10","v":225},{"$f":"[1]利益演示!$N18/10","v":126.844198093861},{"$f":"[1]利益演示!$S19/10","v":4390.48565330189},{"$error":"#REF!"},null,{"$f":"[2]利益演示表!$J18","v":261},null,{"$f":"[2]利益演示表!$AB18","v":2792.61683501687}]
[{"$f":"#REF!","v":{"$error":"#REF!"}},{"$f":"#REF!","v":{"$error":"#REF!"}},{"$f":"#REF!","v":{"$error":"#REF!"}},{"$f":"#REF!","v":{"$error":"#REF!"}},{"$f":"#REF!","v":{"$error":"#REF!"}},null,{"$f":"[1]利益演示!$L19/10","v":225},{"$f":"[1]利益演示!$N19/10","v":143.034985730482},{"$f":"[1]利益演示!$S20/10","v":4980.10792551449},{"$error":"#REF!"},null,{"$f":"[2]利益演示表!$J19","v":261},null,{"$f":"[2]利益演示表!$AB19","v":3191.02959259263}]
[{"$f":"#REF!","v":{"$error":"#REF!"}},{"$f":"#REF!","v":{"$error":"#REF!"}},{"$f":"#REF!","v":{"$error":"#REF!"}},{"$f":"#REF!","v":{"$error":"#REF!"}},{"$f":"#REF!","v":{"$error":"#REF!"}},null,{"$f":"[1]利益演示!$L20/10","v":225},{"$f":"[1]利益演示!$N20/10","v":159.632475130098},{"$f":"[1]利益演示!$S21/10","v":5605.32916703568},{"$error":"#REF!"},null,{"$f":"[2]利益演示表!$J20","v":261},null,{"$f":"[2]利益演示表!$AB20","v":3607.3709242593}]
[{"$f":"#REF!","v":{"$error":"#REF!"}},{"$f":"#REF!","v":{"$error":"#REF!"}},{"$f":"#REF!","v":{"$error":"#REF!"}},{"$f":"#REF!","v":{"$error":"#REF!"}},{"$f":"#REF!","v":{"$error":"#REF!"}},null,{"$f":"[1]利益演示!$L21/10","v":225},{"$f":"[1]利益演示!$N21/10","v":176.646667012842},{"$f":"[1]利益演示!$S22/10","v":6276.44327095199},{"$error":"#REF!"},null,{"$f":"[2]利益演示表!$J21","v":261},null,{"$f":"[2]利益演示表!$AB21","v":4042.44761585096}]
[{"$f":"#REF!","v":{"$error":"#REF!"}},{"$f":"#REF!","v":{"$error":"#REF!"}},{"$f":"#REF!","v":{"$error":"#REF!"}},{"$f":"#REF!","v":{"$error":"#REF!"}},{"$f":"#REF!","v":{"$error":"#REF!"}},null,{"$f":"[1]利益演示!$L22/10","v":225},{"$f":"[1]利益演示!$N22/10","v":194.087810079359},{"$f":"[1]利益演示!$S23/10","v":6995.96223890359},{"$error":"#REF!"},null,{"$f":"[2]利益演示表!$J22","v":261},null,{"$f":"[2]利益演示表!$AB22","v":4497.10275856426}]
[{"$f":"#REF!","v":{"$error":"#REF!"}},{"$f":"#REF!","v":{"$error":"#REF!"}},{"$f":"#REF!","v":{"$error":"#REF!"}},{"$f":"#REF!","v":{"$error":"#REF!"}},{"$f":"#REF!","v":{"$error":"#REF!"}},null,{"$f":"[1]利益演示!$L23/10","v":225},{"$f":"[1]利益演示!$N23/10","v":211.966498335877},{"$f":"[1]利益演示!$S24/10","v":7766.52100237772},{"$error":"#REF!"},null,{"$f":"[2]利益演示表!$J23","v":261},null,{"$f":"[2]利益演示表!$AB23","v":4972.21738269965}]
[{"$f":"#REF!","v":{"$error":"#REF!"}},{"$f":"#REF!","v":{"$error":"#REF!"}},{"$f":"#REF!","v":{"$error":"#REF!"}},{"$f":"#REF!","v":{"$error":"#REF!"}},{"$f":"#REF!","v":{"$error":"#REF!"}},null,{"$f":"[1]利益演示!$L24/10","v":225},{"$f":"[1]利益演示!$N24/10","v":212.571228996622},{"$f":"[1]利益演示!$S25/10","v":8572.54972804405},{"$error":"#REF!"},null,{"$f":"[2]利益演示表!$J24","v":261},null,{"$f":"[2]利益演示表!$AB24","v":5468.71216492113}]
[{"$f":"#REF!","v":{"$error":"#REF!"}},{"$f":"#REF!","v":{"$error":"#REF!"}},{"$f":"#REF!","v":{"$error":"#REF!"}},{"$f":"#REF!","v":{"$error":"#REF!"}},{"$f":"#REF!","v":{"$error":"#REF!"}},null,{"$f":"[1]利益演示!$L25/10","v":225},{"$f":"[1]利益演示!$N25/10","v":213.367651007945},{"$f":"[1]利益演示!$S26/10","v":9415.84712852141},{"$error":"#REF!"},null,{"$f":"[2]利益演示表!$J25","v":261},null,{"$f":"[2]利益演示表!$AB25","v":5987.54921234258}]
[{"$f":"#REF!","v":{"$error":"#REF!"}},{"$f":"#REF!","v":{"$error":"#REF!"}},{"$f":"#REF!","v":{"$error":"#REF!"}},{"$f":"#REF!","v":{"$error":"#REF!"}},{"$f":"#REF!","v":{"$error":"#REF!"}},null,{"$f":"[1]利益演示!$L26/10","v":225},{"$f":"[1]利益演示!$N26/10","v":214.183217727464},{"$f":"[1]利益演示!$S27/10","v":10295.9098345326},{"$error":"#REF!"},null,{"$f":"[2]利益演示表!$J26","v":261},null,{"$f":"[2]利益演示表!$AB26","v":6528.33604145893}]
[{"$f":"#REF!","v":{"$error":"#REF!"}},{"$f":"#REF!","v":{"$error":"#REF!"}},{"$f":"#REF!","v":{"$error":"#REF!"}},{"$f":"#REF!","v":{"$error":"#REF!"}},{"$f":"#REF!","v":{"$error":"#REF!"}},null,{"$f":"[1]利益演示!$L27/10","v":225},{"$f":"[1]利益演示!$N27/10","v":215.018682916502},{"$f":"[1]利益演示!$S28/10","v":11216.1502098459},{"$error":"#REF!"},null,{"$f":"[2]利益演示表!$J27","v":261},null,{"$f":"[2]利益演示表!$AB27","v":7093.16361443826}]
[{"$f":"#REF!","v":{"$error":"#REF!"}},{"$f":"#REF!","v":{"$error":"#REF!"}},{"$f":"#REF!","v":{"$error":"#REF!"}},{"$f":"#REF!","v":{"$error":"#REF!"}},{"$f":"#REF!","v":{"$error":"#REF!"}},null,{"$f":"[1]利益演示!$L28/10","v":225},{"$f":"[1]利益演示!$N28/10","v":215.874562201554},{"$f":"[1]利益演示!$S29/10","v":12178.3925897499},{"$error":"#REF!"},null,{"$f":"[2]利益演示表!$J28","v":261},null,{"$f":"[2]利益演示表!$AB28","v":7683.10899891472}]
[{"$f":"#REF!","v":{"$error":"#REF!"}},{"$f":"#REF!","v":{"$error":"#REF!"}},{"$f":"#REF!","v":{"$error":"#REF!"}},{"$f":"#REF!","v":{"$error":"#REF!"}},{"$f":"#REF!","v":{"$error":"#REF!"}},null,{"$f":"[1]利益演示!$L29/10","v":225},{"$f":"[1]利益演示!$N29/10","v":216.751549708989},{"$f":"[1]利益演示!$S30/10","v":13184.3670514672},{"$error":"#REF!"},null,{"$f":"[2]利益演示表!$J29","v":261},null,{"$f":"[2]利益演示表!$AB29","v":8299.30266394841}]
[{"$f":"#REF!","v":{"$error":"#REF!"}},{"$f":"#REF!","v":{"$error":"#REF!"}},{"$f":"#REF!","v":{"$error":"#REF!"}},{"$f":"#REF!","v":{"$error":"#REF!"}},{"$f":"#REF!","v":{"$error":"#REF!"}},null,{"$f":"[1]利益演示!$L30/10","v":225},{"$f":"[1]利益演示!$N30/10","v":217.650107419313},{"$f":"[1]利益演示!$S31/10","v":14236.080169881},{"$error":"#REF!"},null,{"$f":"[2]利益演示表!$J30","v":261},null,{"$f":"[2]利益演示表!$AB30","v":8942.93568128853}]
[{"$f":"#REF!","v":{"$error":"#REF!"}},{"$f":"#REF!","v":{"$error":"#REF!"}},{"$f":"#REF!","v":{"$error":"#REF!"}},{"$f":"#REF!","v":{"$error":"#REF!"}},{"$f":"#REF!","v":{"$error":"#REF!"}},null,{"$f":"[1]利益演示!$L31/10","v":225},{"$f":"[1]利益演示!$N31/10","v":218.570712133254},{"$f":"[1]利益演示!$S32/10","v":15335.6019921733},{"$error":"#REF!"},null,{"$f":"[2]利益演示表!$J31","v":261},null,{"$f":"[2]利益演示表!$AB31","v":9615.23658649871}]
[{"$f":"#REF!","v":{"$error":"#REF!"}},{"$f":"#REF!","v":{"$error":"#REF!"}},{"$f":"#REF!","v":{"$error":"#REF!"}},{"$f":"#REF!","v":{"$error":"#REF!"}},{"$f":"#REF!","v":{"$error":"#REF!"}},null,{"$f":"[1]利益演示!$L32/10","v":225},{"$f":"[1]利益演示!$N32/10","v":219.513935726961},{"$f":"[1]利益演示!$S33/10","v":16485.0846419083},{"$error":"#REF!"},null,{"$f":"[2]利益演示表!$J32","v":261},null,{"$f":"[2]利益演示表!$AB32","v":10317.4818621564}]
[{"$f":"#REF!","v":{"$error":"#REF!"}},{"$f":"#REF!","v":{"$error":"#REF!"}},{"$f":"#REF!","v":{"$error":"#REF!"}},{"$f":"#REF!","v":{"$error":"#REF!"}},{"$f":"#REF!","v":{"$error":"#REF!"}},null,{"$f":"[1]利益演示!$L33/10","v":225},{"$f":"[1]利益演示!$N33/10","v":220.480286307983},{"$f":"[1]利益演示!$S34/10","v":17686.7872703138},{"$error":"#REF!"},null,{"$f":"[2]利益演示表!$J33","v":261},null,{"$f":"[2]利益演示表!$AB33","v":11051.0114760621}]
[{"$f":"#REF!","v":{"$error":"#REF!"}},{"$f":"#REF!","v":{"$error":"#REF!"}},{"$f":"#REF!","v":{"$error":"#REF!"}},{"$f":"#REF!","v":{"$error":"#REF!"}},{"$f":"#REF!","v":{"$error":"#REF!"}},null,{"$f":"[1]利益演示!$L34/10","v":225},{"$f":"[1]利益演示!$N34/10","v":221.470210579811},{"$f":"[1]利益演示!$S35/10","v":18943.056119568},{"$error":"#REF!"},null,{"$f":"[2]利益演示表!$J34","v":261},null,{"$f":"[2]利益演示表!$AB34","v":11817.2162975343}]
[{"$f":"#REF!","v":{"$error":"#REF!"}},{"$f":"#REF!","v":{"$error":"#REF!"}},{"$f":"#REF!","v":{"$error":"#REF!"}},{"$f":"#REF!","v":{"$error":"#REF!"}},{"$f":"#REF!","v":{"$error":"#REF!"}},null,{"$f":"[1]利益演示!$L35/10","v":225},{"$f":"[1]利益演示!$N35/10","v":222.484173269029},{"$f":"[1]利益演示!$S36/10","v":20256.3237843877},{"$error":"#REF!"},null,{"$f":"[2]利益演示表!$J35","v":261},null,{"$f":"[2]利益演示表!$AB35","v":12617.5375366501}]
[{"$f":"#REF!","v":{"$error":"#REF!"}},{"$f":"#REF!","v":{"$error":"#REF!"}},{"$f":"#REF!","v":{"$error":"#REF!"}},{"$f":"#REF!","v":{"$error":"#REF!"}},{"$f":"#REF!","v":{"$error":"#REF!"}},null,{"$f":"[1]利益演示!$L36/10","v":225},{"$f":"[1]利益演示!$N36/10","v":223.522506436572},{"$f":"[1]利益演示!$S37/10","v":21629.1181331052},{"$error":"#REF!"},null,{"$f":"[2]利益演示表!$J36","v":261},null,{"$f":"[2]利益演示表!$AB36","v":13453.4722952063}]
[{"$f":"#REF!","v":{"$error":"#REF!"}},{"$f":"#REF!","v":{"$error":"#REF!"}},{"$f":"#REF!","v":{"$error":"#REF!"}},{"$f":"#REF!","v":{"$error":"#REF!"}},{"$f":"#REF!","v":{"$error":"#REF!"}},null,{"$f":"[1]利益演示!$L37/10","v":225},{"$f":"[1]利益演示!$N37/10","v":224.585713598742},{"$f":"[1]利益演示!$S38/10","v":23064.0637248583},{"$error":"#REF!"},null,{"$f":"[2]利益演示表!$J37","v":261},null,{"$f":"[2]利益演示表!$AB37","v":14326.574230882}]
[{"$f":"#REF!","v":{"$error":"#REF!"}},{"$f":"#REF!","v":{"$error":"#REF!"}},{"$f":"#REF!","v":{"$error":"#REF!"}},{"$f":"#REF!","v":{"$error":"#REF!"}},{"$f":"#REF!","v":{"$error":"#REF!"}},null,{"$f":"[1]利益演示!$L38/10","v":225},{"$f":"[1]利益演示!$N38/10","v":225.674318842337},{"$f":"[1]利益演示!$S39/10","v":24563.8945984162},{"$error":"#REF!"},null,{"$f":"[2]利益演示表!$J38","v":261},null,{"$f":"[2]利益演示表!$AB38","v":15238.4613717009}]
[{"$f":"#REF!","v":{"$error":"#REF!"}},{"$f":"#REF!","v":{"$error":"#REF!"}},{"$f":"#REF!","v":{"$error":"#REF!"}},{"$f":"#REF!","v":{"$error":"#REF!"}},{"$f":"#REF!","v":{"$error":"#REF!"}},null,{"$f":"[1]利益演示!$L39/10","v":225},{"$f":"[1]利益演示!$N39/10","v":226.788722762805},{"$f":"[1]利益演示!$S40/10","v":26131.4457941996},{"$error":"#REF!"},null,{"$f":"[2]利益演示表!$J39","v":261},null,{"$f":"[2]利益演示表!$AB39","v":16190.8108039261}]
[{"$f":"#REF!","v":{"$error":"#REF!"}},{"$f":"#REF!","v":{"$error":"#REF!"}},{"$f":"#REF!","v":{"$error":"#REF!"}},{"$f":"#REF!","v":{"$error":"#REF!"}},{"$f":"#REF!","v":{"$error":"#REF!"}},null,{"$f":"[1]利益演示!$L40/10","v":225},{"$f":"[1]利益演示!$N40/10","v":227.929422778601},{"$f":"[1]利益演示!$S41/10","v":27769.6807487426},{"$error":"#REF!"},null,{"$f":"[2]利益演示表!$J40","v":261},null,{"$f":"[2]利益演示表!$AB40","v":17185.3754628974}]
[{"$f":"#REF!","v":{"$error":"#REF!"}},{"$f":"#REF!","v":{"$error":"#REF!"}},{"$f":"#REF!","v":{"$error":"#REF!"}},{"$f":"#REF!","v":{"$error":"#REF!"}},{"$f":"#REF!","v":{"$error":"#REF!"}},null,{"$f":"[1]利益演示!$L41/10","v":225},{"$f":"[1]利益演示!$N41/10","v":229.096941447696},{"$f":"[1]利益演示!$S42/10","v":29481.6851822195},{"$error":"#REF!"},null,{"$f":"[2]利益演示表!$J41","v":261},null,{"$f":"[2]利益演示表!$AB41","v":18223.9801665757}]
[{"$f":"#REF!","v":{"$error":"#REF!"}},{"$f":"#REF!","v":{"$error":"#REF!"}},{"$f":"#REF!","v":{"$error":"#REF!"}},{"$f":"#REF!","v":{"$error":"#REF!"}},{"$f":"#REF!","v":{"$error":"#REF!"}},null,{"$f":"[1]利益演示!$L42/10","v":225},{"$f":"[1]利益演示!$N42/10","v":230.291827652882},{"$f":"[1]利益演示!$S43/10","v":31270.6717377965},{"$error":"#REF!"},null,{"$f":"[2]利益演示表!$J42","v":261},null,{"$f":"[2]利益演示表!$AB42","v":19308.5243190876}]
[{"$f":"#REF!","v":{"$error":"#REF!"}},{"$f":"#REF!","v":{"$error":"#REF!"}},{"$f":"#REF!","v":{"$error":"#REF!"}},{"$f":"#REF!","v":{"$error":"#REF!"}},{"$f":"#REF!","v":{"$error":"#REF!"}},null,{"$f":"[1]利益演示!$L43/10","v":225},{"$f":"[1]利益演示!$N43/10","v":231.5146578379},{"$f":"[1]利益演示!$S44/10","v":33139.9529414482},{"$error":"#REF!"},null,{"$f":"[2]利益演示表!$J43","v":261},null,{"$f":"[2]利益演示表!$AB43","v":20440.9650687456}]
[{"$f":"#REF!","v":{"$error":"#REF!"}},{"$f":"#REF!","v":{"$error":"#REF!"}},{"$f":"#REF!","v":{"$error":"#REF!"}},{"$f":"#REF!","v":{"$error":"#REF!"}},{"$f":"#REF!","v":{"$error":"#REF!"}},null,{"$f":"[1]利益演示!$L44/10","v":225},{"$f":"[1]利益演示!$N44/10","v":232.766037297142},{"$f":"[1]利益演示!$S45/10","v":35092.9540727823},{"$error":"#REF!"},null,{"$f":"[2]利益演示表!$J44","v":261},null,{"$f":"[2]利益演示表!$AB44","v":21623.3251527458}]
[{"$f":"#REF!","v":{"$error":"#REF!"}},{"$f":"#REF!","v":{"$error":"#REF!"}},{"$f":"#REF!","v":{"$error":"#REF!"}},{"$f":"#REF!","v":{"$error":"#REF!"}},{"$f":"#REF!","v":{"$error":"#REF!"}},null,{"$f":"[1]利益演示!$L45/10","v":225},{"$f":"[1]利益演示!$N45/10","v":234.046601521897},{"$f":"[1]利益演示!$S46/10","v":37133.1771146028},{"$error":"#REF!"},null,{"$f":"[2]利益演示表!$J45","v":261},null,{"$f":"[2]利益演示表!$AB45","v":22857.6705884904}]
[{"$f":"#REF!","v":{"$error":"#REF!"}},{"$f":"#REF!","v":{"$error":"#REF!"}},{"$f":"#REF!","v":{"$error":"#REF!"}},{"$f":"#REF!","v":{"$error":"#REF!"}},{"$f":"#REF!","v":{"$error":"#REF!"}},null,{"$f":"[1]利益演示!$L46/10","v":225},{"$f":"[1]利益演示!$N46/10","v":235.356953695586},{"$f":"[1]利益演示!$S47/10","v":39264.2276846884},{"$error":"#REF!"},null,{"$f":"[2]利益演示表!$J46","v":261},null,{"$f":"[2]利益演示表!$AB46","v":24146.1272477117}]
[{"$f":"#REF!","v":{"$error":"#REF!"}},{"$f":"#REF!","v":{"$error":"#REF!"}},{"$f":"#REF!","v":{"$error":"#REF!"}},{"$f":"#REF!","v":{"$error":"#REF!"}},{"$f":"#REF!","v":{"$error":"#REF!"}},null,{"$f":"[1]利益演示!$L47/10","v":225},{"$f":"[1]利益演示!$N47/10","v":236.697732446195},{"$f":"[1]利益演示!$S48/10","v":41489.8325201445},{"$error":"#REF!"},null,{"$f":"[2]利益演示表!$J47","v":261},null,{"$f":"[2]利益演示表!$AB47","v":25490.8915045911}]
[{"$f":"#REF!","v":{"$error":"#REF!"}},{"$f":"#REF!","v":{"$error":"#REF!"}},{"$f":"#REF!","v":{"$error":"#REF!"}},{"$f":"#REF!","v":{"$error":"#REF!"}},{"$f":"#REF!","v":{"$error":"#REF!"}},null,{"$f":"[1]利益演示!$L48/10","v":225},{"$f":"[1]利益演示!$N48/10","v":238.069552412626},{"$f":"[1]利益演示!$S49/10","v":43813.8836501036},{"$error":"#REF!"},null,{"$f":"[2]利益演示表!$J48","v":261},null,{"$f":"[2]利益演示表!$AB48","v":26894.2572576049}]
[{"$f":"#REF!","v":{"$error":"#REF!"}},{"$f":"#REF!","v":{"$error":"#REF!"}},{"$f":"#REF!","v":{"$error":"#REF!"}},{"$f":"#REF!","v":{"$error":"#REF!"}},{"$f":"#REF!","v":{"$error":"#REF!"}},null,{"$f":"[1]利益演示!$L49/10","v":225},{"$f":"[1]利益演示!$N49/10","v":239.473010119534},{"$f":"[1]利益演示!$S50/10","v":46250.5867244538},{"$error":"#REF!"},null,{"$f":"[2]利益演示表!$J49","v":261},null,{"$f":"[2]利益演示表!$AB49","v":28364.8395733723}]
[{"$f":"#REF!","v":{"$error":"#REF!"}},{"$f":"#REF!","v":{"$error":"#REF!"}},{"$f":"#REF!","v":{"$error":"#REF!"}},{"$f":"#REF!","v":{"$error":"#REF!"}},{"$f":"#REF!","v":{"$error":"#REF!"}},null,{"$f":"[1]利益演示!$L50/10","v":225},{"$f":"[1]利益演示!$N50/10","v":240.908631976246},{"$f":"[1]利益演示!$S51/10","v":48795.8422365512},{"$error":"#REF!"},null,{"$f":"[2]利益演示表!$J50","v":261},null,{"$f":"[2]利益演示表!$AB50","v":29900.0169597934}]
[{"$f":"#REF!","v":{"$error":"#REF!"}},{"$f":"#REF!","v":{"$error":"#REF!"}},{"$f":"#REF!","v":{"$error":"#REF!"}},{"$f":"#REF!","v":{"$error":"#REF!"}},{"$f":"#REF!","v":{"$error":"#REF!"}},null,{"$f":"[1]利益演示!$L51/10","v":225},{"$f":"[1]利益演示!$N51/10","v":242.377056221668},{"$f":"[1]利益演示!$S52/10","v":51454.2919894684},{"$error":"#REF!"},null,{"$f":"[2]利益演示表!$J51","v":261},null,{"$f":"[2]利益演示表!$AB51","v":31502.5288062328}]
[{"$f":"#REF!","v":{"$error":"#REF!"}},{"$f":"#REF!","v":{"$error":"#REF!"}},{"$f":"#REF!","v":{"$error":"#REF!"}},{"$f":"#REF!","v":{"$error":"#REF!"}},{"$f":"#REF!","v":{"$error":"#REF!"}},null,{"$f":"[1]利益演示!$L52/10","v":225},{"$f":"[1]利益演示!$N52/10","v":243.878865374205},{"$f":"[1]利益演示!$S53/10","v":54230.7289650784},{"$error":"#REF!"},null,{"$f":"[2]利益演示表!$J52","v":261},null,{"$f":"[2]利益演示表!$AB52","v":33175.2024319987}]
[{"$f":"#REF!","v":{"$error":"#REF!"}},{"$f":"#REF!","v":{"$error":"#REF!"}},{"$f":"#REF!","v":{"$error":"#REF!"}},{"$f":"#REF!","v":{"$error":"#REF!"}},{"$f":"#REF!","v":{"$error":"#REF!"}},null,{"$f":"[1]利益演示!$L53/10","v":225},{"$f":"[1]利益演示!$N53/10","v":245.414598665438},{"$f":"[1]利益演示!$S54/10","v":57130.0035648998},{"$error":"#REF!"},null,{"$f":"[2]利益演示表!$J53","v":261},null,{"$f":"[2]利益演示表!$AB53","v":34920.8957005943}]
[{"$f":"#REF!","v":{"$error":"#REF!"}},{"$f":"#REF!","v":{"$error":"#REF!"}},{"$f":"#REF!","v":{"$error":"#REF!"}},{"$f":"#REF!","v":{"$error":"#REF!"}},{"$f":"#REF!","v":{"$error":"#REF!"}},null,{"$f":"[1]利益演示!$L54/10","v":225},{"$f":"[1]利益演示!$N54/10","v":246.984922431043},{"$f":"[1]利益演示!$S55/10","v":60157.0548006625},{"$error":"#REF!"},null,{"$f":"[2]利益演示表!$J54","v":261},null,{"$f":"[2]利益演示表!$AB54","v":36742.5160710021}]
[{"$f":"#REF!","v":{"$error":"#REF!"}},{"$f":"#REF!","v":{"$error":"#REF!"}},{"$f":"#REF!","v":{"$error":"#REF!"}},{"$f":"#REF!","v":{"$error":"#REF!"}},{"$f":"#REF!","v":{"$error":"#REF!"}},null,{"$f":"[1]利益演示!$L55/10","v":225},{"$f":"[1]利益演示!$N55/10","v":248.590477478377},{"$f":"[1]利益演示!$S56/10","v":63317.2791987708},{"$error":"#REF!"},null,{"$f":"[2]利益演示表!$J55","v":261},null,{"$f":"[2]利益演示表!$AB55","v":38643.2457739813}]
[{"$f":"#REF!","v":{"$error":"#REF!"}},{"$f":"#REF!","v":{"$error":"#REF!"}},{"$f":"#REF!","v":{"$error":"#REF!"}},{"$f":"#REF!","v":{"$error":"#REF!"}},{"$f":"#REF!","v":{"$error":"#REF!"}},null,{"$f":"[1]利益演示!$L56/10","v":225},{"$f":"[1]利益演示!$N56/10","v":250.231943033063},{"$f":"[1]利益演示!$S57/10","v":66615.3506196084},{"$error":"#REF!"},null,{"$f":"[2]利益演示表!$J56","v":261},null,{"$f":"[2]利益演示表!$AB56","v":40625.8213942476}]
[{"$f":"#REF!","v":{"$error":"#REF!"}},{"$f":"#REF!","v":{"$error":"#REF!"}},{"$f":"#REF!","v":{"$error":"#REF!"}},{"$f":"#REF!","v":{"$error":"#REF!"}},{"$f":"#REF!","v":{"$error":"#REF!"}},null,{"$f":"[1]利益演示!$L57/10","v":225},{"$f":"[1]利益演示!$N57/10","v":251.910094812035},{"$f":"[1]利益演示!$S58/10","v":70056.4509811624},{"$error":"#REF!"},null,{"$f":"[2]利益演示表!$J57","v":261},null,{"$f":"[2]利益演示表!$AB57","v":42693.2852921692}]
[{"$f":"#REF!","v":{"$error":"#REF!"}},{"$f":"#REF!","v":{"$error":"#REF!"}},{"$f":"#REF!","v":{"$error":"#REF!"}},{"$f":"#REF!","v":{"$error":"#REF!"}},{"$f":"#REF!","v":{"$error":"#REF!"}},null,{"$f":"[1]利益演示!$L58/10","v":225},{"$f":"[1]利益演示!$N58/10","v":253.625856594449},{"$f":"[1]利益演示!$S59/10","v":73646.1868064491},{"$error":"#REF!"},null,{"$f":"[2]利益演示表!$J58","v":261},null,{"$f":"[2]利益演示表!$AB58","v":44848.9339382542}]
[{"$f":"#REF!","v":{"$error":"#REF!"}},{"$f":"#REF!","v":{"$error":"#REF!"}},{"$f":"#REF!","v":{"$error":"#REF!"}},{"$f":"#REF!","v":{"$error":"#REF!"}},{"$f":"#REF!","v":{"$error":"#REF!"}},null,{"$f":"[1]利益演示!$L59/10","v":225},{"$f":"[1]利益演示!$N59/10","v":255.380256758496},{"$f":"[1]利益演示!$S60/10","v":77390.7857094666},{"$error":"#REF!"},null,{"$f":"[2]利益演示表!$J59","v":261},null,{"$f":"[2]利益演示表!$AB59","v":47096.4368511779}]
[{"$f":"#REF!","v":{"$error":"#REF!"}},{"$f":"#REF!","v":{"$error":"#REF!"}},{"$f":"#REF!","v":{"$error":"#REF!"}},{"$f":"#REF!","v":{"$error":"#REF!"}},{"$f":"#REF!","v":{"$error":"#REF!"}},null,{"$f":"[1]利益演示!$L60/10","v":225},{"$f":"[1]利益演示!$N60/10","v":257.174434587069},{"$f":"[1]利益演示!$S61/10","v":81296.8181221028},{"$error":"#REF!"},null,{"$f":"[2]利益演示表!$J60","v":261},null,{"$f":"[2]利益演示表!$AB60","v":49439.6664410467}]
[{"$f":"#REF!","v":{"$error":"#REF!"}},{"$f":"#REF!","v":{"$error":"#REF!"}},{"$f":"#REF!","v":{"$error":"#REF!"}},{"$f":"#REF!","v":{"$error":"#REF!"}},{"$f":"#REF!","v":{"$error":"#REF!"}},null,{"$f":"[1]利益演示!$L61/10","v":225},{"$f":"[1]利益演示!$N61/10","v":259.009687288732},{"$f":"[1]利益演示!$S62/10","v":85370.6266511466},{"$error":"#REF!"},null,{"$f":"[2]利益演示表!$J61","v":261},null,{"$f":"[2]利益演示表!$AB61","v":51882.3507514628}]
[{"$f":"#REF!","v":{"$error":"#REF!"}},{"$f":"#REF!","v":{"$error":"#REF!"}},{"$f":"#REF!","v":{"$error":"#REF!"}},{"$f":"#REF!","v":{"$error":"#REF!"}},{"$f":"#REF!","v":{"$error":"#REF!"}},null,{"$f":"[1]利益演示!$L62/10","v":225},{"$f":"[1]利益演示!$N62/10","v":260.887393892145},{"$f":"[1]利益演示!$S63/10","v":89618.1850378497},{"$error":"#REF!"},null,{"$f":"[2]利益演示表!$J62","v":261},null,{"$f":"[2]利益演示表!$AB62","v":54427.988304417}]
[{"$f":"#REF!","v":{"$error":"#REF!"}},{"$f":"#REF!","v":{"$error":"#REF!"}},{"$f":"#REF!","v":{"$error":"#REF!"}},{"$f":"#REF!","v":{"$error":"#REF!"}},{"$f":"#REF!","v":{"$error":"#REF!"}},null,{"$f":"[1]利益演示!$L63/10","v":225},{"$f":"[1]利益演示!$N63/10","v":262.809102170511},{"$f":"[1]利益演示!$S64/10","v":94045.0235455027},{"$error":"#REF!"},null,{"$f":"[2]利益演示表!$J63","v":261},null,{"$f":"[2]利益演示表!$AB63","v":57079.8034429854}]
[{"$f":"#REF!","v":{"$error":"#REF!"}},{"$f":"#REF!","v":{"$error":"#REF!"}},{"$f":"#REF!","v":{"$error":"#REF!"}},{"$f":"#REF!","v":{"$error":"#REF!"}},{"$f":"#REF!","v":{"$error":"#REF!"}},null,{"$f":"[1]利益演示!$L64/10","v":225},{"$f":"[1]利益演示!$N64/10","v":264.776495413438},{"$f":"[1]利益演示!$S65/10","v":98655.7744612303},{"$error":"#REF!"},null,{"$f":"[2]利益演示表!$J64","v":261},null,{"$f":"[2]利益演示表!$AB64","v":59840.4713629474}]
[{"$f":"#REF!","v":{"$error":"#REF!"}},{"$f":"#REF!","v":{"$error":"#REF!"}},{"$f":"#REF!","v":{"$error":"#REF!"}},{"$f":"#REF!","v":{"$error":"#REF!"}},{"$f":"#REF!","v":{"$error":"#REF!"}},null,{"$f":"[1]利益演示!$L65/10","v":225},{"$f":"[1]利益演示!$N65/10","v":266.79143331852},{"$f":"[1]利益演示!$S66/10","v":103454.073484883},{"$error":"#REF!"},null,{"$f":"[2]利益演示表!$J65","v":261},null,{"$f":"[2]利益演示表!$AB65","v":62712.0596441369}]
[{"$f":"#REF!","v":{"$error":"#REF!"}},{"$f":"#REF!","v":{"$error":"#REF!"}},{"$f":"#REF!","v":{"$error":"#REF!"}},{"$f":"#REF!","v":{"$error":"#REF!"}},{"$f":"#REF!","v":{"$error":"#REF!"}},null,{"$f":"[1]利益演示!$L66/10","v":225},{"$f":"[1]利益演示!$N66/10","v":268.855862191411},{"$f":"[1]利益演示!$S67/10","v":108442.123459397},{"$error":"#REF!"},null,{"$f":"[2]利益演示表!$J66","v":261},null,{"$f":"[2]利益演示表!$AB66","v":65695.7653698332}]
[{"$f":"#REF!","v":{"$error":"#REF!"}},{"$f":"#REF!","v":{"$error":"#REF!"}},{"$f":"#REF!","v":{"$error":"#REF!"}},{"$f":"#REF!","v":{"$error":"#REF!"}},{"$f":"#REF!","v":{"$error":"#REF!"}},null,{"$f":"[1]利益演示!$L67/10","v":225},{"$f":"[1]利益演示!$N67/10","v":270.971839297647},{"$f":"[1]利益演示!$S68/10","v":113620.21028686},{"$error":"#REF!"},null,{"$f":"[2]利益演示表!$J67","v":261},null,{"$f":"[2]利益演示表!$AB67","v":68791.6239756864}]
[{"$f":"#REF!","v":{"$error":"#REF!"}},{"$f":"#REF!","v":{"$error":"#REF!"}},{"$f":"#REF!","v":{"$error":"#REF!"}},{"$f":"#REF!","v":{"$error":"#REF!"}},{"$f":"#REF!","v":{"$error":"#REF!"}},null,{"$f":"[1]利益演示!$L68/10","v":225},{"$f":"[1]利益演示!$N68/10","v":273.141428393869},{"$f":"[1]利益演示!$S69/10","v":118986.86134636},{"$error":"#REF!"},null,{"$f":"[2]利益演示表!$J68","v":261},null,{"$f":"[2]利益演示表!$AB68","v":71998.607675562}]
[{"$f":"#REF!","v":{"$error":"#REF!"}},{"$f":"#REF!","v":{"$error":"#REF!"}},{"$f":"#REF!","v":{"$error":"#REF!"}},{"$f":"#REF!","v":{"$error":"#REF!"}},{"$f":"#REF!","v":{"$error":"#REF!"}},null,{"$f":"[1]利益演示!$L69/10","v":225},{"$f":"[1]利益演示!$N69/10","v":275.366817177632},{"$f":"[1]利益演示!$S70/10","v":124706.873894129},{"$error":"#REF!"},null,{"$f":"[2]利益演示表!$J69","v":261},null,{"$f":"[2]利益演示表!$AB69","v":75416.2424499871}]
[{"$f":"#REF!","v":{"$error":"#REF!"}},{"$f":"#REF!","v":{"$error":"#REF!"}},{"$f":"#REF!","v":{"$error":"#REF!"}},{"$f":"#REF!","v":{"$error":"#REF!"}},{"$f":"#REF!","v":{"$error":"#REF!"}},null,{"$f":"[1]利益演示!$L70/10","v":225},{"$f":"[1]利益演示!$N70/10","v":277.650441539126},{"$f":"[1]利益演示!$S71/10","v":130661.181454259},{"$error":"#REF!"},null,{"$f":"[2]利益演示表!$J70","v":261},null,{"$f":"[2]利益演示表!$AB70","v":78972.3188854057}]
[{"$f":"#REF!","v":{"$error":"#REF!"}},{"$f":"#REF!","v":{"$error":"#REF!"}},{"$f":"#REF!","v":{"$error":"#REF!"}},{"$f":"#REF!","v":{"$error":"#REF!"}},{"$f":"#REF!","v":{"$error":"#REF!"}},null,{"$f":"[1]利益演示!$L71/10","v":225},{"$f":"[1]利益演示!$N71/10","v":279.994888880447},{"$f":"[1]利益演示!$S72/10","v":136856.311917188},{"$error":"#REF!"},null,{"$f":"[2]利益演示表!$J71","v":261},null,{"$f":"[2]利益演示表!$AB71","v":82670.6191689989}]
[{"$f":"#REF!","v":{"$error":"#REF!"}},{"$f":"#REF!","v":{"$error":"#REF!"}},{"$f":"#REF!","v":{"$error":"#REF!"}},{"$f":"#REF!","v":{"$error":"#REF!"}},{"$f":"#REF!","v":{"$error":"#REF!"}},null,{"$f":"[1]利益演示!$L72/10","v":225},{"$f":"[1]利益演示!$N72/10","v":282.403105336247},{"$f":"[1]利益演示!$S73/10","v":143298.501782578},{"$error":"#REF!"},null,{"$f":"[2]利益演示表!$J72","v":261},null,{"$f":"[2]利益演示表!$AB72","v":86514.7441964773}]
[{"$f":"#REF!","v":{"$error":"#REF!"}},{"$f":"#REF!","v":{"$error":"#REF!"}},{"$f":"#REF!","v":{"$error":"#REF!"}},{"$f":"#REF!","v":{"$error":"#REF!"}},{"$f":"#REF!","v":{"$error":"#REF!"}},null,{"$f":"[1]利益演示!$L73/10","v":236.25},{"$f":"[1]利益演示!$N73/10","v":284.878397960823},{"$f":"[1]利益演示!$S74/10","v":150005.118740421},{"$error":"#REF!"},null,{"$f":"[2]利益演示表!$J73","v":261},null,{"$f":"[2]利益演示表!$AB73","v":90507.9967226059}]
[{"$f":"#REF!","v":{"$error":"#REF!"}},{"$f":"#REF!","v":{"$error":"#REF!"}},{"$f":"#REF!","v":{"$error":"#REF!"}},{"$f":"#REF!","v":{"$error":"#REF!"}},{"$f":"#REF!","v":{"$error":"#REF!"}},null,{"$f":"[1]利益演示!$L74/10","v":248.0625},{"$f":"[1]利益演示!$N74/10","v":287.199563620487},{"$f":"[1]利益演示!$S75/10","v":156981.355474494},{"$f":"E69-I69","v":{"$error":"#REF!"}},null,{"$f":"[2]利益演示表!$J74","v":261},null,{"$f":"[2]利益演示表!$AB74","v":94652.8306478852}]
[{"$f":"#REF!","v":{"$error":"#REF!"}},{"$f":"#REF!","v":{"$error":"#REF!"}},{"$f":"#REF!","v":{"$error":"#REF!"}},{"$f":"#REF!","v":{"$error":"#REF!"}},{"$f":"#REF!","v":{"$error":"#REF!"}},null,{"$f":"[1]利益演示!$L75/10","v":260.465625},{"$f":"[1]利益演示!$N75/10","v":288.483049282107},{"$f":"[1]利益演示!$S76/10","v":164231.369179179},{"$error":"#REF!"},null,{"$f":"[2]利益演示表!$J75","v":261},null,{"$f":"[2]利益演示表!$AB75","v":98951.590669558}]
[{"$f":"#REF!","v":{"$error":"#REF!"}},{"$f":"#REF!","v":{"$error":"#REF!"}},{"$f":"#REF!","v":{"$error":"#REF!"}},{"$f":"#REF!","v":{"$error":"#REF!"}},{"$f":"#REF!","v":{"$error":"#REF!"}},null,{"$f":"[1]利益演示!$L76/10","v":273.48890625},{"$f":"[1]利益演示!$N76/10","v":289.515280099412},{"$f":"[1]利益演示!$S77/10","v":171759.179202407},{"$error":"#REF!"},null,{"$f":"[2]利益演示表!$J76","v":261},null,{"$f":"[2]利益演示表!$AB76","v":103406.037336394}]
[{"$f":"#REF!","v":{"$error":"#REF!"}},{"$f":"#REF!","v":{"$error":"#REF!"}},{"$f":"#REF!","v":{"$error":"#REF!"}},{"$f":"#REF!","v":{"$error":"#REF!"}},{"$f":"#REF!","v":{"$error":"#REF!"}},null,{"$f":"[1]利益演示!$L77/10","v":287.1633515625},{"$f":"[1]利益演示!$N77/10","v":290.278090181641},{"$f":"[1]利益演示!$S78/10","v":179567.648898103},{"$error":"#REF!"},null,{"$f":"[2]利益演示表!$J77","v":261},null,{"$f":"[2]利益演示表!$AB77","v":108017.215067867}]
[{"$f":"#REF!","v":{"$error":"#REF!"}},{"$f":"#REF!","v":{"$error":"#REF!"}},{"$f":"#REF!","v":{"$error":"#REF!"}},{"$f":"#REF!","v":{"$error":"#REF!"}},{"$f":"#REF!","v":{"$error":"#REF!"}},null,{"$f":"[1]利益演示!$L78/10","v":301.521519140625},{"$f":"[1]利益演示!$N78/10","v":290.751923791178},{"$f":"[1]利益演示!$S79/10","v":187658.380417353},{"$error":"#REF!"},null,{"$f":"[2]利益演示表!$J78","v":2061},null,{"$f":"[2]利益演示表!$AB78","v":114641.497406229}]
[{"$f":"#REF!","v":{"$error":"#REF!"}},{"$f":"#REF!","v":{"$error":"#REF!"}},{"$f":"#REF!","v":{"$error":"#REF!"}},{"$f":"#REF!","v":{"$error":"#REF!"}},{"$f":"#REF!","v":{"$error":"#REF!"}},null,{"$f":"[1]利益演示!$L79/10","v":316.597595097656},{"$f":"[1]利益演示!$N79/10","v":290.914615588542},{"$f":"[1]利益演示!$S80/10","v":196031.210057481},{"$error":"#REF!"},null,{"$f":"[2]利益演示表!$J79","v":2061},null,{"$f":"[2]利益演示表!$AB79","v":121497.795933865}]
[{"$f":"#REF!","v":{"$error":"#REF!"}},{"$f":"#REF!","v":{"$error":"#REF!"}},{"$f":"#REF!","v":{"$error":"#REF!"}},{"$f":"#REF!","v":{"$error":"#REF!"}},{"$f":"#REF!","v":{"$error":"#REF!"}},null,{"$f":"[1]利益演示!$L80/10","v":332.427474852539},{"$f":"[1]利益演示!$N80/10","v":290.740001041244},{"$f":"[1]利益演示!$S81/10","v":204683.963103573},{"$error":"#REF!"},null,{"$f":"[2]利益演示表!$J80","v":2061},null,{"$f":"[2]利益演示表!$AB80","v":128585.569609761}]
[{"$f":"#REF!","v":{"$error":"#REF!"}},{"$f":"#REF!","v":{"$error":"#REF!"}},{"$f":"#REF!","v":{"$error":"#REF!"}},{"$f":"#REF!","v":{"$error":"#REF!"}},{"$f":"#REF!","v":{"$error":"#REF!"}},null,{"$f":"[1]利益演示!$L81/10","v":349.048848595166},{"$f":"[1]利益演示!$N81/10","v":290.197002674829},{"$f":"[1]利益演示!$S82/10","v":213612.116597835},{"$error":"#REF!"},null,{"$f":"[2]利益演示表!$J81","v":2061},null,{"$f":"[2]利益演示表!$AB81","v":135902.555774866}]
[{"$f":"#REF!","v":{"$error":"#REF!"}},{"$f":"#REF!","v":{"$error":"#REF!"}},{"$f":"#REF!","v":{"$error":"#REF!"}},{"$f":"#REF!","v":{"$error":"#REF!"}},{"$f":"#REF!","v":{"$error":"#REF!"}},null,{"$f":"[1]利益演示!$L82/10","v":366.501291024924},{"$f":"[1]利益演示!$N82/10","v":289.249354843067},{"$f":"[1]利益演示!$S83/10","v":222811.160174046},{"$error":"#REF!"},null,{"$f":"[2]利益演示表!$J82","v":2061},null,{"$f":"[2]利益演示表!$AB82","v":143446.248147457}]
[{"$f":"#REF!","v":{"$error":"#REF!"}},{"$f":"#REF!","v":{"$error":"#REF!"}},{"$f":"#REF!","v":{"$error":"#REF!"}},{"$f":"#REF!","v":{"$error":"#REF!"}},{"$f":"#REF!","v":{"$error":"#REF!"}},null,{"$f":"[1]利益演示!$L83/10","v":384.826355576171},{"$f":"[1]利益演示!$N83/10","v":287.856035333077},{"$f":"[1]利益演示!$S84/10","v":233539.775206872},{"$error":"#REF!"},null,{"$f":"[2]利益演示表!$J83","v":2061},null,{"$f":"[2]利益演示表!$AB83","v":152055.074314093}]
[{"$f":"#REF!","v":{"$error":"#REF!"}},{"$f":"#REF!","v":{"$error":"#REF!"}},{"$f":"#REF!","v":{"$error":"#REF!"}},{"$f":"#REF!","v":{"$error":"#REF!"}},{"$f":"#REF!","v":{"$error":"#REF!"}},null,{"$f":"[1]利益演示!$L84/10","v":404.067673354979},{"$f":"[1]利益演示!$N84/10","v":285.972380743555},{"$f":"[1]利益演示!$S85/10","v":244769.29453175},{"$error":"#REF!"},null,{"$f":"[2]利益演示表!$J84","v":261},null,{"$f":"[2]利益演示表!$AB84","v":159189.107658227}]
[{"$f":"#REF!","v":{"$error":"#REF!"}},{"$f":"#REF!","v":{"$error":"#REF!"}},{"$f":"#REF!","v":{"$error":"#REF!"}},{"$f":"#REF!","v":{"$error":"#REF!"}},{"$f":"#REF!","v":{"$error":"#REF!"}},null,{"$f":"[1]利益演示!$L85/10","v":424.271057022728},{"$f":"[1]利益演示!$N85/10","v":283.551857473649},{"$f":"[1]利益演示!$S86/10","v":256522.703081995},{"$error":"#REF!"},null,{"$f":"[2]利益演示表!$J85","v":261},null,{"$f":"[2]利益演示表!$AB85","v":166644.172502847}]
[{"$f":"#REF!","v":{"$error":"#REF!"}},{"$f":"#REF!","v":{"$error":"#REF!"}},{"$f":"#REF!","v":{"$error":"#REF!"}},{"$f":"#REF!","v":{"$error":"#REF!"}},{"$f":"#REF!","v":{"$error":"#REF!"}},null,{"$f":"[1]利益演示!$L86/10","v":445.484609873864},{"$f":"[1]利益演示!$N86/10","v":280.548780344858},{"$f":"[1]利益演示!$S87/10","v":268824.022683681},{"$error":"#REF!"},null,{"$f":"[2]利益演示表!$J86","v":261},null,{"$f":"[2]利益演示表!$AB86","v":174434.715265475}]
[{"$f":"#REF!","v":{"$error":"#REF!"}},{"$f":"#REF!","v":{"$error":"#REF!"}},{"$f":"#REF!","v":{"$error":"#REF!"}},{"$f":"#REF!","v":{"$error":"#REF!"}},{"$f":"#REF!","v":{"$error":"#REF!"}},null,{"$f":"[1]利益演示!$L87/10","v":467.758840367558},{"$f":"[1]利益演示!$N87/10","v":276.920816573086},{"$f":"[1]利益演示!$S88/10","v":281698.364637784},{"$error":"#REF!"},null,{"$f":"[2]利益演示表!$J87","v":261},null,{"$f":"[2]利益演示表!$AB87","v":182575.832452422}]
[{"$f":"#REF!","v":{"$error":"#REF!"}},{"$f":"#REF!","v":{"$error":"#REF!"}},{"$f":"#REF!","v":{"$error":"#REF!"}},{"$f":"#REF!","v":{"$error":"#REF!"}},{"$f":"#REF!","v":{"$error":"#REF!"}},null,{"$f":"[1]利益演示!$L88/10","v":491.146782385936},{"$f":"[1]利益演示!$N88/10","v":272.631181867513},{"$f":"[1]利益演示!$S89/10","v":295171.987070387},{"$error":"#REF!"},null,{"$f":"[2]利益演示表!$J88","v":261},null,{"$f":"[2]利益演示表!$AB88","v":191083.299912781}]
[{"$f":"#REF!","v":{"$error":"#REF!"}},{"$f":"#REF!","v":{"$error":"#REF!"}},{"$f":"#REF!","v":{"$error":"#REF!"}},{"$f":"#REF!","v":{"$error":"#REF!"}},{"$f":"#REF!","v":{"$error":"#REF!"}},null,{"$f":"[1]利益演示!$L89/10","v":515.704121505232},{"$f":"[1]利益演示!$N89/10","v":267.649625694333},{"$f":"[1]利益演示!$S90/10","v":309272.356026285},{"$error":"#REF!"},null,{"$f":"[2]利益演示表!$J89","v":261},null,{"$f":"[2]利益演示表!$AB89","v":199954.793408856}]
[{"$f":"#REF!","v":{"$error":"#REF!"}},{"$f":"#REF!","v":{"$error":"#REF!"}},{"$f":"#REF!","v":{"$error":"#REF!"}},{"$f":"#REF!","v":{"$error":"#REF!"}},{"$f":"#REF!","v":{"$error":"#REF!"}},null,{"$f":"[1]利益演示!$L90/10","v":541.489327580494},{"$f":"[1]利益演示!$N90/10","v":261.952188685125},{"$f":"[1]利益演示!$S91/10","v":324028.209217577},{"$error":"#REF!"},null,{"$f":"[2]利益演示表!$J90","v":261},null,{"$f":"[2]利益演示表!$AB90","v":209225.504112254}]
[{"$f":"#REF!","v":{"$error":"#REF!"}},{"$f":"#REF!","v":{"$error":"#REF!"}},{"$f":"#REF!","v":{"$error":"#REF!"}},{"$f":"#REF!","v":{"$error":"#REF!"}},{"$f":"#REF!","v":{"$error":"#REF!"}},null,{"$f":"[1]利益演示!$L91/10","v":568.563793959519},{"$f":"[1]利益演示!$N91/10","v":255.520363196496},{"$f":"[1]利益演示!$S92/10","v":339469.621946082},{"$error":"#REF!"},null,{"$f":"[2]利益演示表!$J91","v":261},null,{"$f":"[2]利益演示表!$AB91","v":218913.396797306}]
[{"$f":"#REF!","v":{"$error":"#REF!"}},{"$f":"#REF!","v":{"$error":"#REF!"}},{"$f":"#REF!","v":{"$error":"#REF!"}},{"$f":"#REF!","v":{"$error":"#REF!"}},{"$f":"#REF!","v":{"$error":"#REF!"}},null,{"$f":"[1]利益演示!$L92/10","v":596.991983657495},{"$f":"[1]利益演示!$N92/10","v":248.339466289727},{"$f":"[1]利益演示!$S93/10","v":355628.074487613},{"$error":"#REF!"},null,{"$f":"[2]利益演示表!$J92","v":261},null,{"$f":"[2]利益演示表!$AB92","v":229037.244653184}]
[{"$f":"#REF!","v":{"$error":"#REF!"}},{"$f":"#REF!","v":{"$error":"#REF!"}},{"$f":"#REF!","v":{"$error":"#REF!"}},{"$f":"#REF!","v":{"$error":"#REF!"}},{"$f":"#REF!","v":{"$error":"#REF!"}},null,{"$f":"[1]利益演示!$L93/10","v":626.841582840369},{"$f":"[1]利益演示!$N93/10","v":240.397321493291},{"$f":"[1]利益演示!$S94/10","v":372536.521327761},{"$error":"#REF!"},null,{"$f":"[2]利益演示表!$J93","v":261},null,{"$f":"[2]利益演示表!$AB93","v":239616.665662578}]
[{"$f":"#REF!","v":{"$error":"#REF!"}},{"$f":"#REF!","v":{"$error":"#REF!"}},{"$f":"#REF!","v":{"$error":"#REF!"}},{"$f":"#REF!","v":{"$error":"#REF!"}},{"$f":"#REF!","v":{"$error":"#REF!"}},null,{"$f":"[1]利益演示!$L94/10","v":658.183661982388},{"$f":"[1]利益演示!$N94/10","v":231.683057407592},{"$f":"[1]利益演示!$S95/10","v":390229.462448713},{"$error":"#REF!"},null,{"$f":"[2]利益演示表!$J94","v":261},null,{"$f":"[2]利益演示表!$AB94","v":250672.160617393}]
[{"$f":"#REF!","v":{"$error":"#REF!"}},{"$f":"#REF!","v":{"$error":"#REF!"}},{"$f":"#REF!","v":{"$error":"#REF!"}},{"$f":"#REF!","v":{"$error":"#REF!"}},{"$f":"#REF!","v":{"$error":"#REF!"}},null,{"$f":"[1]利益演示!$L95/10","v":691.092845081507},{"$f":"[1]利益演示!$N95/10","v":222.186418412812},{"$f":"[1]利益演示!$S96/10","v":408743.017284798},{"$error":"#REF!"},null,{"$f":"[2]利益演示表!$J95","v":261},null,{"$f":"[2]利益演示表!$AB95","v":262225.152845176}]
[{"$f":"#REF!","v":{"$error":"#REF!"}},{"$f":"#REF!","v":{"$error":"#REF!"}},{"$f":"#REF!","v":{"$error":"#REF!"}},{"$f":"#REF!","v":{"$error":"#REF!"}},{"$f":"#REF!","v":{"$error":"#REF!"}},null,{"$f":"[1]利益演示!$L96/10","v":725.647487335583},{"$f":"[1]利益演示!$N96/10","v":211.898517426317},{"$f":"[1]利益演示!$S97/10","v":428115.002961283},{"$error":"#REF!"},null,{"$f":"[2]利益演示表!$J96","v":261},null,{"$f":"[2]利益演示表!$AB96","v":274298.029723209}]
[{"$f":"#REF!","v":{"$error":"#REF!"}},{"$f":"#REF!","v":{"$error":"#REF!"}},{"$f":"#REF!","v":{"$error":"#REF!"}},{"$f":"#REF!","v":{"$error":"#REF!"}},{"$f":"#REF!","v":{"$error":"#REF!"}},null,{"$f":"[1]利益演示!$L97/10","v":761.929861702362},{"$f":"[1]利益演示!$N97/10","v":200.81134655027},{"$f":"[1]利益演示!$S98/10","v":448385.01572519},{"$error":"#REF!"},null,{"$f":"[2]利益演示表!$J97","v":261},null,{"$f":"[2]利益演示表!$AB97","v":286914.186060753}]
[{"$f":"#REF!","v":{"$error":"#REF!"}},{"$f":"#REF!","v":{"$error":"#REF!"}},{"$f":"#REF!","v":{"$error":"#REF!"}},{"$f":"#REF!","v":{"$error":"#REF!"}},{"$f":"#REF!","v":{"$error":"#REF!"}},null,{"$f":"[1]利益演示!$L98/10","v":800.02635478748},{"$f":"[1]利益演示!$N98/10","v":188.920821526974},{"$f":"[1]利益演示!$S99/10","v":469594.51938063},{"$error":"#REF!"},null,{"$f":"[2]利益演示表!$J98","v":261},null,{"$f":"[2]利益演示表!$AB98","v":300098.069433487}]
[{"$f":"#REF!","v":{"$error":"#REF!"}},{"$f":"#REF!","v":{"$error":"#REF!"}},{"$f":"#REF!","v":{"$error":"#REF!"}},{"$f":"#REF!","v":{"$error":"#REF!"}},{"$f":"#REF!","v":{"$error":"#REF!"}},null,{"$f":"[1]利益演示!$L99/10","v":840.027672526854},{"$f":"[1]利益演示!$N99/10","v":176.23064101433},{"$f":"[1]利益演示!$S100/10","v":491786.94189825},{"$error":"#REF!"},null,{"$f":"[2]利益演示表!$J99","v":261},null,{"$f":"[2]利益演示表!$AB99","v":313875.227557994}]
[{"$f":"#REF!","v":{"$error":"#REF!"}},{"$f":"#REF!","v":{"$error":"#REF!"}},{"$f":"#REF!","v":{"$error":"#REF!"}},{"$f":"#REF!","v":{"$error":"#REF!"}},{"$f":"#REF!","v":{"$error":"#REF!"}},null,{"$f":"[1]利益演示!$L100/10","v":882.029056153197},{"$f":"[1]利益演示!$N100/10","v":162.757470984954},{"$f":"[1]利益演示!$S101/10","v":515007.781953626},{"$error":"#REF!"},null,{"$f":"[2]利益演示表!$J100","v":261},null,{"$f":"[2]利益演示表!$AB100","v":328272.357798104}]
[{"$f":"#REF!","v":{"$error":"#REF!"}},{"$f":"#REF!","v":{"$error":"#REF!"}},{"$f":"#REF!","v":{"$error":"#REF!"}},{"$f":"#REF!","v":{"$error":"#REF!"}},{"$f":"#REF!","v":{"$error":"#REF!"}},null,{"$f":"[1]利益演示!$L101/10","v":926.130508960856},{"$f":"[1]利益演示!$N101/10","v":148.538878307694},{"$f":"[1]利益演示!$S102/10","v":539304.728711887},{"$error":"#REF!"},null,{"$f":"[2]利益演示表!$J101","v":261},null,{"$f":"[2]利益演示表!$AB101","v":343317.358899019}]
[{"$f":"#REF!","v":{"$error":"#REF!"}},{"$f":"#REF!","v":{"$error":"#REF!"}},{"$f":"#REF!","v":{"$error":"#REF!"}},{"$f":"#REF!","v":{"$error":"#REF!"}},{"$f":"#REF!","v":{"$error":"#REF!"}},null,{"$f":"[1]利益演示!$L102/10","v":972.437034408899},{"$f":"[1]利益演示!$N102/10","v":133.645691982613},{"$f":"[1]利益演示!$S103/10","v":564727.800034137},{"$error":"#REF!"},null,{"$f":"[2]利益演示表!$J102","v":261},null,{"$f":"[2]利益演示表!$AB102","v":359039.385049475}]
[{"$f":"#REF!","v":{"$error":"#REF!"}},{"$f":"#REF!","v":{"$error":"#REF!"}},{"$f":"#REF!","v":{"$error":"#REF!"}},{"$f":"#REF!","v":{"$error":"#REF!"}},{"$f":"#REF!","v":{"$error":"#REF!"}},null,{"$f":"[1]利益演示!$L103/10","v":1021.05888612934},{"$f":"[1]利益演示!$N103/10","v":118.202155033073},{"$f":"[1]利益演示!$S104/10","v":591329.5080438},{"$error":"#REF!"},null,{"$f":"[2]利益演示表!$J103","v":261},null,{"$f":"[2]利益演示表!$AB103","v":375468.902376701}]
[{"$f":"#REF!","v":{"$error":"#REF!"}},{"$f":"#REF!","v":{"$error":"#REF!"}},{"$f":"#REF!","v":{"$error":"#REF!"}},{"$f":"#REF!","v":{"$error":"#REF!"}},{"$f":"#REF!","v":{"$error":"#REF!"}},null,{"$f":"[1]利益演示!$L104/10","v":1072.11183043581},{"$f":"[1]利益演示!$N104/10","v":102.419690135284},{"$f":"[1]利益演示!$S105/10","v":619165.067389754},{"$error":"#REF!"},null,{"$f":"[2]利益演示表!$J104","v":261},null,{"$f":"[2]利益演示表!$AB104","v":392637.747983652}]
[{"$f":"#REF!","v":{"$error":"#REF!"}},{"$f":"#REF!","v":{"$error":"#REF!"}},{"$f":"#REF!","v":{"$error":"#REF!"}},{"$f":"#REF!","v":{"$error":"#REF!"}},{"$f":"#REF!","v":{"$error":"#REF!"}},null,{"$f":"[1]利益演示!$L105/10","v":1125.7174219576},{"$f":"[1]利益演示!$N105/10","v":86.6546244805177},{"$f":"[1]利益演示!$S106/10","v":648292.672942144},{"$error":"#REF!"},null,{"$f":"[2]利益演示表!$J105","v":261},null,{"$f":"[2]利益演示表!$AB105","v":410579.191642917}]
[{"$f":"#REF!","v":{"$error":"#REF!"}},{"$f":"#REF!","v":{"$error":"#REF!"}},{"$f":"#REF!","v":{"$error":"#REF!"}},{"$f":"#REF!","v":{"$error":"#REF!"}},{"$f":"#REF!","v":{"$error":"#REF!"}},null,{"$f":"[1]利益演示!$L106/10","v":1182.00329305548},{"$f":"[1]利益演示!$N106/10","v":71.5072893481413},{"$f":"[1]利益演示!$S107/10","v":678773.892892663},{"$error":"#REF!"},null,{"$f":"[2]利益演示表!$J106","v":261},null,{"$f":"[2]利益演示表!$AB106","v":429328.000266848}]
[{"$f":"#REF!","v":{"$error":"#REF!"}},{"$f":"#REF!","v":{"$error":"#REF!"}},{"$f":"#REF!","v":{"$error":"#REF!"}},{"$f":"#REF!","v":{"$error":"#REF!"}},{"$f":"#REF!","v":{"$error":"#REF!"}},null,{"$f":"[1]利益演示!$L107/10","v":1241.10345770826},{"$f":"[1]利益演示!$N107/10","v":58.0002664075976},{"$f":"[1]利益演示!$S108/10","v":710674.264395108},{"$error":"#REF!"},null,{"$f":"[2]利益演示表!$J107","v":261},null,{"$f":"[2]利益演示表!$AB107","v":448920.505278856}]
[{"$f":"#REF!","v":{"$error":"#REF!"}},{"$f":"#REF!","v":{"$error":"#REF!"}},{"$f":"#REF!","v":{"$error":"#REF!"}},{"$f":"#REF!","v":{"$error":"#REF!"}},{"$f":"#REF!","v":{"$error":"#REF!"}},null,{"$f":"[1]利益演示!$L108/10","v":1303.15863059367},{"$f":"[1]利益演示!$N108/10","v":47.9103486567304},{"$f":"[1]利益演示!$S109/10","v":744064.259983252},{"$error":"#REF!"},null,{"$f":"[2]利益演示表!$J108","v":261},null,{"$f":"[2]利益演示表!$AB108","v":469394.673016405}]
[{"$f":"#REF!","v":{"$error":"#REF!"}},{"$f":"#REF!","v":{"$error":"#REF!"}},{"$f":"#REF!","v":{"$error":"#REF!"}},{"$f":"#REF!","v":{"$error":"#REF!"}},{"$f":"#REF!","v":{"$error":"#REF!"}},null,{"$f":"[1]利益演示!$L109/10","v":1368.31656212335},{"$f":"[1]利益演示!$N109/10","v":44.4053547861703},{"$f":"[1]利益演示!$S110/10","v":779020.956996027},{"$error":"#REF!"},null,{"$f":"[2]利益演示表!$J109","v":261},null,{"$f":"[2]利益演示表!$AB109","v":490790.178302143}]
[{"$f":"#REF!","v":{"$error":"#REF!"}},{"$f":"#REF!","v":{"$error":"#REF!"}},{"$f":"#REF!","v":{"$error":"#REF!"}},{"$f":"#REF!","v":{"$error":"#REF!"}},{"$f":"#REF!","v":{"$error":"#REF!"}},null,{"$f":"[1]利益演示!$L110/10","v":1436.73239022952},{"$f":"[1]利益演示!$N110/10","v":40.4054919076933},{"$f":"[1]利益演示!$S111/10","v":815617.742344698},{"$error":"#REF!"},null,{"$f":"[2]利益演示表!$J110","v":261},null,{"$f":"[2]利益演示表!$AB110","v":513148.481325739}]
[{"$f":"#REF!","v":{"$error":"#REF!"}},{"$f":"#REF!","v":{"$error":"#REF!"}},{"$f":"#REF!","v":{"$error":"#REF!"}},{"$f":"#REF!","v":{"$error":"#REF!"}},{"$f":"#REF!","v":{"$error":"#REF!"}},null,{"$f":"[1]利益演示!$L111/10","v":1508.569009741},{"$f":"[1]利益演示!$N111/10","v":35.4560245100447},{"$f":"[1]利益演示!$S112/10","v":853931.01103498},{"$error":"#REF!"},null,{"$f":"[2]利益演示表!$J111","v":261},null,{"$f":"[2]利益演示表!$AB111","v":536512.907985397}]
[{"$f":"#REF!","v":{"$error":"#REF!"}},{"$f":"#REF!","v":{"$error":"#REF!"}},{"$f":"#REF!","v":{"$error":"#REF!"}},{"$f":"#REF!","v":{"$error":"#REF!"}},{"$f":"#REF!","v":{"$error":"#REF!"}},null,{"$f":"[1]利益演示!$L112/10","v":1583.99746022805},{"$f":"[1]利益演示!$N112/10","v":28.6599792025887},{"$f":"[1]利益演示!$S113/10","v":0},{"$error":"#REF!"},null,{"$f":"[2]利益演示表!$J112","v":261},null,{"$f":"[2]利益演示表!$AB112","v":560928.73384474}]
[{"$f":"#REF!","v":{"$error":"#REF!"}},{"$f":"#REF!","v":{"$error":"#REF!"}},{"$f":"#REF!","v":{"$error":"#REF!"}},{"$f":"#REF!","v":{"$error":"#REF!"}},{"$f":"#REF!","v":{"$error":"#REF!"}},null,{"$f":"[1]利益演示!$L113/10","v":0},{"$f":"[1]利益演示!$N113/10","v":0},{"$f":"[1]利益演示!$S114/10","v":0},{"$error":"#REF!"},null,{"$f":"[2]利益演示表!$J113","v":261},null,{"$f":"[2]利益演示表!$AB113","v":586443.271867753}]
[{"$f":"#REF!","v":{"$error":"#REF!"}},{"$f":"#REF!","v":{"$error":"#REF!"}},{"$f":"#REF!","v":{"$error":"#REF!"}},{"$f":"#REF!","v":{"$error":"#REF!"}},{"$f":"#REF!","v":{"$error":"#REF!"}},null,0,0,{"$f":"[1]利益演示!$S115/10","v":0},{"$error":"#REF!"},null,{"$f":"[2]利益演示表!$J114","v":0},null,{"$f":"[2]利益演示表!$AB114","v":0}]
[{"$f":"#REF!","v":{"$error":"#REF!"}},{"$f":"#REF!","v":{"$error":"#REF!"}},{"$f":"#REF!","v":{"$error":"#REF!"}},{"$f":"#REF!","v":{"$error":"#REF!"}},{"$f":"#REF!","v":{"$error":"#REF!"}},null,{"$f":"[1]利益演示!$L115/10","v":0},{"$f":"[1]利益演示!$N115/10","v":0},{"$f":"[1]利益演示!$S116/10","v":0},{"$error":"#REF!"},null,{"$f":"[2]利益演示表!$J115","v":0},null,{"$f":"[2]利益演示表!$AB115","v":0}]
[{"$f":"#REF!","v":{"$error":"#REF!"}},{"$f":"#REF!","v":{"$error":"#REF!"}},{"$f":"#REF!","v":{"$error":"#REF!"}},{"$f":"#REF!","v":{"$error":"#REF!"}},{"$f":"#REF!","v":{"$error":"#REF!"}},null,{"$f":"[1]利益演示!$L116/10","v":0},{"$f":"[1]利益演示!$N116/10","v":0},{"$f":"[1]利益演示!$S117/10","v":0},{"$error":"#REF!"},null,{"$f":"[2]利益演示表!$J116","v":0},null,{"$f":"[2]利益演示表!$AB116","v":0}]
[{"$f":"#REF!","v":{"$error":"#REF!"}},{"$f":"#REF!","v":{"$error":"#REF!"}},{"$f":"#REF!","v":{"$error":"#REF!"}},{"$f":"#REF!","v":{"$error":"#REF!"}},{"$f":"#REF!","v":{"$error":"#REF!"}},null,{"$f":"[1]利益演示!$L117/10","v":0},{"$f":"[1]利益演示!$N117/10","v":0},{"$f":"[1]利益演示!$S118/10","v":0},{"$error":"#REF!"},null,{"$f":"[2]利益演示表!$J117","v":0},null,{"$f":"[2]利益演示表!$AB117","v":0}]
[{"$f":"#REF!","v":{"$error":"#REF!"}},{"$f":"#REF!","v":{"$error":"#REF!"}},{"$f":"#REF!","v":{"$error":"#REF!"}},{"$f":"#REF!","v":{"$error":"#REF!"}},{"$f":"#REF!","v":{"$error":"#REF!"}},null,{"$f":"[1]利益演示!$L118/10","v":0},{"$f":"[1]利益演示!$N118/10","v":0},{"$f":"[1]利益演示!$S119/10","v":0},{"$error":"#REF!"},null,{"$f":"[2]利益演示表!$J118","v":0},null,{"$f":"[2]利益演示表!$AB118","v":0}]
[{"$f":"#REF!","v":{"$error":"#REF!"}},{"$f":"#REF!","v":{"$error":"#REF!"}},{"$f":"#REF!","v":{"$error":"#REF!"}},{"$f":"#REF!","v":{"$error":"#REF!"}},{"$f":"#REF!","v":{"$error":"#REF!"}},null,{"$f":"[1]利益演示!$L119/10","v":0},{"$f":"[1]利益演示!$N119/10","v":0},{"$f":"[1]利益演示!$S120/10","v":0},{"$error":"#REF!"},null,{"$f":"[2]利益演示表!$J119","v":0},null,{"$f":"[2]利益演示表!$AB119","v":0}]
[{"$f":"#REF!","v":{"$error":"#REF!"}},{"$f":"#REF!","v":{"$error":"#REF!"}},{"$f":"#REF!","v":{"$error":"#REF!"}},{"$f":"#REF!","v":{"$error":"#REF!"}},{"$f":"#REF!","v":{"$error":"#REF!"}},null,{"$f":"[1]利益演示!$L120/10","v":0},{"$f":"[1]利益演示!$N120/10","v":0},{"$f":"[1]利益演示!$S121/10","v":0},{"$error":"#REF!"},null,{"$f":"[2]利益演示表!$J120","v":0},null,{"$f":"[2]利益演示表!$AB120","v":0}]
[{"$f":"#REF!","v":{"$error":"#REF!"}},{"$f":"#REF!","v":{"$error":"#REF!"}},{"$f":"#REF!","v":{"$error":"#REF!"}},{"$f":"#REF!","v":{"$error":"#REF!"}},{"$f":"#REF!","v":{"$error":"#REF!"}},null,{"$f":"[1]利益演示!$L121/10","v":0},{"$f":"[1]利益演示!$N121/10","v":0},{"$f":"[1]利益演示!$S122/10","v":0},{"$error":"#REF!"},null,{"$f":"[2]利益演示表!$J121","v":0},null,{"$f":"[2]利益演示表!$AB121","v":0}]
[{"$f":"#REF!","v":{"$error":"#REF!"}},{"$f":"#REF!","v":{"$error":"#REF!"}},{"$f":"#REF!","v":{"$error":"#REF!"}},{"$f":"#REF!","v":{"$error":"#REF!"}},{"$f":"#REF!","v":{"$error":"#REF!"}},null,{"$f":"[1]利益演示!$L122/10","v":0},{"$f":"[1]利益演示!$N122/10","v":0},{"$f":"[1]利益演示!$S123/10","v":0},{"$error":"#REF!"},null,{"$f":"[2]利益演示表!$J122","v":0},null,{"$f":"[2]利益演示表!$AB122","v":0}]
[{"$f":"#REF!","v":{"$error":"#REF!"}},{"$f":"#REF!","v":{"$error":"#REF!"}},{"$f":"#REF!","v":{"$error":"#REF!"}},{"$f":"#REF!","v":{"$error":"#REF!"}},{"$f":"#REF!","v":{"$error":"#REF!"}},null,{"$f":"[1]利益演示!$L123/10","v":0},{"$f":"[1]利益演示!$N123/10","v":0},{"$f":"[1]利益演示!$S124/10","v":0},{"$error":"#REF!"},null,{"$f":"[2]利益演示表!$J123","v":0},null,{"$f":"[2]利益演示表!$AB123","v":0}]
[{"$f":"#REF!","v":{"$error":"#REF!"}},{"$f":"#REF!","v":{"$error":"#REF!"}},{"$f":"#REF!","v":{"$error":"#REF!"}},{"$f":"#REF!","v":{"$error":"#REF!"}},{"$f":"#REF!","v":{"$error":"#REF!"}},null,{"$f":"[1]利益演示!$L124/10","v":0},{"$f":"[1]利益演示!$N124/10","v":0},{"$f":"[1]利益演示!$S125/10","v":0},{"$error":"#REF!"},null,{"$f":"[2]利益演示表!$J124","v":0},null,{"$f":"[2]利益演示表!$AB124","v":0}]
[{"$f":"#REF!","v":{"$error":"#REF!"}},{"$f":"#REF!","v":{"$error":"#REF!"}},{"$f":"#REF!","v":{"$error":"#REF!"}},{"$f":"#REF!","v":{"$error":"#REF!"}},{"$f":"#REF!","v":{"$error":"#REF!"}},null,{"$f":"[1]利益演示!$L125/10","v":0},{"$f":"[1]利益演示!$N125/10","v":0},{"$f":"[1]利益演示!$S126/10","v":0},{"$error":"#REF!"},null,{"$f":"[2]利益演示表!$J125","v":0},null,{"$f":"[2]利益演示表!$AB125","v":0}]
[{"$f":"#REF!","v":{"$error":"#REF!"}},{"$f":"#REF!","v":{"$error":"#REF!"}},{"$f":"#REF!","v":{"$error":"#REF!"}},{"$f":"#REF!","v":{"$error":"#REF!"}},{"$f":"#REF!","v":{"$error":"#REF!"}},null,{"$f":"[1]利益演示!$L126/10","v":0},{"$f":"[1]利益演示!$N126/10","v":0},{"$f":"[1]利益演示!$S127/10","v":0},{"$error":"#REF!"},null,{"$f":"[2]利益演示表!$J126","v":0},null,{"$f":"[2]利益演示表!$AB126","v":0}]
[{"$f":"#REF!","v":{"$error":"#REF!"}},{"$f":"#REF!","v":{"$error":"#REF!"}},{"$f":"#REF!","v":{"$error":"#REF!"}},{"$f":"#REF!","v":{"$error":"#REF!"}},{"$f":"#REF!","v":{"$error":"#REF!"}},null,{"$f":"[1]利益演示!$L127/10","v":0},{"$f":"[1]利益演示!$N127/10","v":0},{"$f":"[1]利益演示!$S128/10","v":0},{"$error":"#REF!"},null,{"$f":"[2]利益演示表!$J127","v":0},null,{"$f":"[2]利益演示表!$AB127","v":0}]
[{"$f":"#REF!","v":{"$error":"#REF!"}},{"$f":"#REF!","v":{"$error":"#REF!"}},{"$f":"#REF!","v":{"$error":"#REF!"}},{"$f":"#REF!","v":{"$error":"#REF!"}},{"$f":"#REF!","v":{"$error":"#REF!"}},null,{"$f":"[1]利益演示!$L128/10","v":0},{"$f":"[1]利益演示!$N128/10","v":0},{"$f":"[1]利益演示!$S129/10","v":0},{"$error":"#REF!"},null,{"$f":"[2]利益演示表!$J128","v":0},null,{"$f":"[2]利益演示表!$AB128","v":0}]
[{"$f":"#REF!","v":{"$error":"#REF!"}},{"$f":"#REF!","v":{"$error":"#REF!"}},{"$f":"#REF!","v":{"$error":"#REF!"}},{"$f":"#REF!","v":{"$error":"#REF!"}},{"$f":"#REF!","v":{"$error":"#REF!"}},null,{"$f":"[1]利益演示!$L129/10","v":0},{"$f":"[1]利益演示!$N129/10","v":0},{"$f":"[1]利益演示!$S130/10","v":0},{"$error":"#REF!"},null,{"$f":"[2]利益演示表!$J129","v":0},null,{"$f":"[2]利益演示表!$AB129","v":0}]
[{"$f":"#REF!","v":{"$error":"#REF!"}},{"$f":"#REF!","v":{"$error":"#REF!"}},{"$f":"#REF!","v":{"$error":"#REF!"}},{"$f":"#REF!","v":{"$error":"#REF!"}},{"$f":"#REF!","v":{"$error":"#REF!"}},null,{"$f":"[1]利益演示!$L130/10","v":0},{"$f":"[1]利益演示!$N130/10","v":0},{"$f":"[1]利益演示!$S131/10","v":0},{"$error":"#REF!"},null,{"$f":"[2]利益演示表!$J130","v":0},null,{"$f":"[2]利益演示表!$AB130","v":0}]
[{"$f":"#REF!","v":{"$error":"#REF!"}},{"$f":"#REF!","v":{"$error":"#REF!"}},{"$f":"#REF!","v":{"$error":"#REF!"}},{"$f":"#REF!","v":{"$error":"#REF!"}},{"$f":"#REF!","v":{"$error":"#REF!"}},null,{"$f":"[1]利益演示!$L131/10","v":0},{"$f":"[1]利益演示!$N131/10","v":0},{"$f":"[1]利益演示!$S132/10","v":0},{"$error":"#REF!"},null,{"$f":"[2]利益演示表!$J131","v":0},null,{"$f":"[2]利益演示表!$AB131","v":0}]
[{"$f":"#REF!","v":{"$error":"#REF!"}},{"$f":"#REF!","v":{"$error":"#REF!"}},{"$f":"#REF!","v":{"$error":"#REF!"}},{"$f":"#REF!","v":{"$error":"#REF!"}},{"$f":"#REF!","v":{"$error":"#REF!"}},null,{"$f":"[1]利益演示!$L132/10","v":0},{"$f":"[1]利益演示!$N132/10","v":0},{"$f":"[1]利益演示!$S133/10","v":0},{"$error":"#REF!"},null,{"$f":"[2]利益演示表!$J132","v":0},null,{"$f":"[2]利益演示表!$AB132","v":0}]
[{"$f":"#REF!","v":{"$error":"#REF!"}},{"$f":"#REF!","v":{"$error":"#REF!"}},{"$f":"#REF!","v":{"$error":"#REF!"}},{"$f":"#REF!","v":{"$error":"#REF!"}},{"$f":"#REF!","v":{"$error":"#REF!"}},null,{"$f":"[1]利益演示!$L133/10","v":0},{"$f":"[1]利益演示!$N133/10","v":0},{"$f":"[1]利益演示!$S134/10","v":0},{"$error":"#REF!"},null,{"$f":"[2]利益演示表!$J133","v":0},null,{"$f":"[2]利益演示表!$AB133","v":0}]
[{"$f":"#REF!","v":{"$error":"#REF!"}},{"$f":"#REF!","v":{"$error":"#REF!"}},{"$f":"#REF!","v":{"$error":"#REF!"}},{"$f":"#REF!","v":{"$error":"#REF!"}},{"$f":"#REF!","v":{"$error":"#REF!"}},null,{"$f":"[1]利益演示!$L134/10","v":0},{"$f":"[1]利益演示!$N134/10","v":0},{"$f":"[1]利益演示!$S135/10","v":0},{"$error":"#REF!"},null,{"$f":"[2]利益演示表!$J134","v":0},null,{"$f":"[2]利益演示表!$AB134","v":0}]
[{"$f":"#REF!","v":{"$error":"#REF!"}},{"$f":"#REF!","v":{"$error":"#REF!"}},{"$f":"#REF!","v":{"$error":"#REF!"}},{"$f":"#REF!","v":{"$error":"#REF!"}},{"$f":"#REF!","v":{"$error":"#REF!"}},null,{"$f":"[1]利益演示!$L135/10","v":0},{"$f":"[1]利益演示!$N135/10","v":0},{"$f":"[1]利益演示!$S136/10","v":0},{"$error":"#REF!"},null,{"$f":"[2]利益演示表!$J135","v":0},null,{"$f":"[2]利益演示表!$AB135","v":0}]
[{"$f":"#REF!","v":{"$error":"#REF!"}},{"$f":"#REF!","v":{"$error":"#REF!"}},{"$f":"#REF!","v":{"$error":"#REF!"}},{"$f":"#REF!","v":{"$error":"#REF!"}},{"$f":"#REF!","v":{"$error":"#REF!"}},null,{"$f":"[1]利益演示!$L136/10","v":0},{"$f":"[1]利益演示!$N136/10","v":0},{"$f":"[1]利益演示!$S137/10","v":0},{"$error":"#REF!"},null,{"$f":"[2]利益演示表!$J136","v":0},null,{"$f":"[2]利益演示表!$AB136","v":0}]
[{"$f":"#REF!","v":{"$error":"#REF!"}},{"$f":"#REF!","v":{"$error":"#REF!"}},{"$f":"#REF!","v":{"$error":"#REF!"}},{"$f":"#REF!","v":{"$error":"#REF!"}},{"$f":"#REF!","v":{"$error":"#REF!"}},null,{"$f":"[1]利益演示!$L137/10","v":0},{"$f":"[1]利益演示!$N137/10","v":0},{"$f":"[1]利益演示!$S138/10","v":0},{"$error":"#REF!"},null,{"$f":"[2]利益演示表!$J137","v":0},null,{"$f":"[2]利益演示表!$AB137","v":0}]
[{"$f":"#REF!","v":{"$error":"#REF!"}},{"$f":"#REF!","v":{"$error":"#REF!"}},{"$f":"#REF!","v":{"$error":"#REF!"}},{"$f":"#REF!","v":{"$error":"#REF!"}},{"$f":"#REF!","v":{"$error":"#REF!"}},null,{"$f":"[1]利益演示!$L138/10","v":0},{"$f":"[1]利益演示!$N138/10","v":0},{"$f":"[1]利益演示!$S139/10","v":0},{"$f":"E133-I133","v":{"$error":"#REF!"}},null,{"$f":"[2]利益演示表!$J138","v":0},null,{"$f":"[2]利益演示表!$AB138","v":0}]
[{"$f":"#REF!","v":{"$error":"#REF!"}},{"$f":"#REF!","v":{"$error":"#REF!"}},{"$f":"#REF!","v":{"$error":"#REF!"}},{"$f":"#REF!","v":{"$error":"#REF!"}},{"$f":"#REF!","v":{"$error":"#REF!"}}]
[{"$f":"#REF!","v":{"$error":"#REF!"}},{"$f":"#REF!","v":{"$error":"#REF!"}},{"$f":"#REF!","v":{"$error":"#REF!"}},{"$f":"#REF!","v":{"$error":"#REF!"}},{"$f":"#REF!","v":{"$error":"#REF!"}}]
[{"$f":"#REF!","v":{"$error":"#REF!"}},{"$f":"#REF!","v":{"$error":"#REF!"}},{"$f":"#REF!","v":{"$error":"#REF!"}},{"$f":"#REF!","v":{"$error":"#REF!"}},{"$f":"#REF!","v":{"$error":"#REF!"}}]
[{"$f":"#REF!","v":{"$error":"#REF!"}},{"$f":"#REF!","v":{"$error":"#REF!"}},{"$f":"#REF!","v":{"$error":"#REF!"}},{"$f":"#REF!","v":{"$error":"#REF!"}},{"$f":"#REF!","v":{"$error":"#REF!"}}]
[{"$f":"#REF!","v":{"$error":"#REF!"}},{"$f":"#REF!","v":{"$error":"#REF!"}},{"$f":"#REF!","v":{"$error":"#REF!"}},{"$f":"#REF!","v":{"$error":"#REF!"}},{"$f":"#REF!","v":{"$error":"#REF!"}}]
[{"$f":"#REF!","v":{"$error":"#REF!"}},{"$f":"#REF!","v":{"$error":"#REF!"}},{"$f":"#REF!","v":{"$error":"#REF!"}},{"$f":"#REF!","v":{"$error":"#REF!"}},{"$f":"#REF!","v":{"$error":"#REF!"}}]
[{"$f":"#REF!","v":{"$error":"#REF!"}},{"$f":"#REF!","v":{"$error":"#REF!"}},{"$f":"#REF!","v":{"$error":"#REF!"}},{"$f":"#REF!","v":{"$error":"#REF!"}},{"$f":"#REF!","v":{"$error":"#REF!"}}]
[{"$f":"#REF!","v":{"$error":"#REF!"}},{"$f":"#REF!","v":{"$error":"#REF!"}},{"$f":"#REF!","v":{"$error":"#REF!"}},{"$f":"#REF!","v":{"$error":"#REF!"}},{"$f":"#REF!","v":{"$error":"#REF!"}}]
[{"$f":"#REF!","v":{"$error":"#REF!"}},{"$f":"#REF!","v":{"$error":"#REF!"}},{"$f":"#REF!","v":{"$error":"#REF!"}},{"$f":"#REF!","v":{"$error":"#REF!"}},{"$f":"#REF!","v":{"$error":"#REF!"}}]

{"sheet":"年金利益演示","index":15,"n_rows":112,"n_cols":10,"rows_kept":112,"cut":false,"hidden":true,"merged":[[2,4,2,6],[2,0,3,0],[2,1,3,1],[2,2,3,2],[2,3,3,3],[2,7,3,7],[2,8,3,8],[2,9,3,9]]}
["《泰康乐鑫年年年金保险（分红型）》利益演示表"]
[{"$f":"年金万能利益演示!B4/1000","v":100},"份"]
["保单年度","被保险人年度末年龄","当年度\n保险费","累计\n保险费","当年度末红利",null,null,"当年度末生存类保险金","身故保险金给付金额","年度末\n现金价值\n（不含年度末生存给付）"]
[null,null,null,null,"低","中","高"]
[null,null,"a",null,"f","g","h","b","d","e"]
[{"$f":"Reserve!A16","v":1},{"$f":"IF(OR(A6=\"\",A6=BP),\"\",Age+1)","v":31},{"$f":"IF(B6=\"\",\"\",IF(A6<=PPP,GP!$N$1,0)*$A$2)","v":100000},{"$f":"IF(B6=\"\",\"\",SUM($C$6:C6))","v":100000},{"$f":"IF(B6=\"\",\"\",Reserve!AY17*$A$2*0.7)","v":0},{"$f":"IF(B6=\"\",\"\",Reserve!AZ17*$A$2*0.7)","v":762.891223835037},{"$f":"IF(B6=\"\",\"\",Reserve!BA17*$A$2*0.7)","v":1335.05964171131},{"$f":"IF(B6=\"\",\"\",(GP!AB17+GP!AA17*GP!$D$10)*$A$2)","v":0},{"$f":"IF(B6=\"\",\"\",GP!Z16*$A$2)","v":100000},{"$f":"IF(B6=\"\",\"\",CSV!AK17*$A$2)","v":38200}]
[{"$f":"Reserve!A17","v":2},{"$f":"IF(OR(A7=\"\",A7=BP),\"\",B6+1)","v":32},{"$f":"IF(B7=\"\",\"\",IF(A7<=PPP,GP!$N$1,0)*$A$2)","v":100000},{"$f":"IF(B7=\"\",\"\",SUM($C$6:C7))","v":200000},{"$f":"IF(B7=\"\",\"\",Reserve!AY18*$A$2*0.7)","v":0},{"$f":"IF(B7=\"\",\"\",Reserve!AZ18*$A$2*0.7)","v":2007.75902405915},{"$f":"IF(B7=\"\",\"\",Reserve!BA18*$A$2*0.7)","v":3513.57829210351},{"$f":"IF(B7=\"\",\"\",(GP!AB18+GP!AA18*GP!$D$10)*$A$2)","v":0},{"$f":"IF(B7=\"\",\"\",GP!Z17*$A$2)","v":200000},{"$f":"IF(B7=\"\",\"\",CSV!AK18*$A$2)","v":88400}]
[{"$f":"Reserve!A18","v":3},33,{"$f":"IF(B8=\"\",\"\",IF(A8<=PPP,GP!$N$1,0)*$A$2)","v":100000},{"$f":"IF(B8=\"\",\"\",SUM($C$6:C8))","v":300000},{"$f":"IF(B8=\"\",\"\",Reserve!AY19*$A$2*0.7)","v":0},{"$f":"IF(B8=\"\",\"\",Reserve!AZ19*$A$2*0.7)","v":3283.66684292722},{"$f":"IF(B8=\"\",\"\",Reserve!BA19*$A$2*0.7)","v":5746.41697512263},{"$f":"IF(B8=\"\",\"\",(GP!AB19+GP!AA19*GP!$D$10)*$A$2)","v":0},{"$f":"IF(B8=\"\",\"\",GP!Z18*$A$2)","v":300000},{"$f":"IF(B8=\"\",\"\",CSV!AK19*$A$2)","v":148100}]
[{"$f":"Reserve!A19","v":4},34,{"$f":"IF(B9=\"\",\"\",IF(A9<=PPP,GP!$N$1,0)*$A$2)","v":100000},{"$f":"IF(B9=\"\",\"\",SUM($C$6:C9))","v":400000},{"$f":"IF(B9=\"\",\"\",Reserve!AY20*$A$2*0.7)","v":0},{"$f":"IF(B9=\"\",\"\",Reserve!AZ20*$A$2*0.7)","v":4591.39417173009},{"$f":"IF(B9=\"\",\"\",Reserve!BA20*$A$2*0.7)","v":8034.93980052766},{"$f":"IF(B9=\"\",\"\",(GP!AB20+GP!AA20*GP!$D$10)*$A$2)","v":0},{"$f":"IF(B9=\"\",\"\",GP!Z19*$A$2)","v":400000},{"$f":"IF(B9=\"\",\"\",CSV!AK20*$A$2)","v":213500}]
[{"$f":"Reserve!A20","v":5},35,{"$f":"IF(B10=\"\",\"\",IF(A10<=PPP,GP!$N$1,0)*$A$2)","v":100000},{"$f":"IF(B10=\"\",\"\",SUM($C$6:C10))","v":500000},{"$f":"IF(B10=\"\",\"\",Reserve!AY21*$A$2*0.7)","v":0},{"$f":"IF(B10=\"\",\"\",Reserve!AZ21*$A$2*0.7)","v":5931.74265568655},{"$f":"IF(B10=\"\",\"\",Reserve!BA21*$A$2*0.7)","v":10380.5496474515},{"$f":"IF(B10=\"\",\"\",(GP!AB21+GP!AA21*GP!$D$10)*$A$2)","v":100000},{"$f":"IF(B10=\"\",\"\",GP!Z20*$A$2)","v":500000},{"$f":"IF(B10=\"\",\"\",CSV!AK21*$A$2)","v":187800}]
[{"$f":"Reserve!A21","v":6},36,{"$f":"IF(B11=\"\",\"\",IF(A11<=PPP,GP!$N$1,0)*$A$2)","v":100000},{"$f":"IF(B11=\"\",\"\",SUM($C$6:C11))","v":600000},{"$f":"IF(B11=\"\",\"\",Reserve!AY22*$A$2*0.7)","v":0},{"$f":"IF(B11=\"\",\"\",Reserve!AZ22*$A$2*0.7)","v":5905.53736166437},{"$f":"IF(B11=\"\",\"\",Reserve!BA22*$A$2*0.7)","v":10334.6903829126},{"$f":"IF(B11=\"\",\"\",(GP!AB22+GP!AA22*GP!$D$10)*$A$2)","v":11560},{"$f":"IF(B11=\"\",\"\",GP!Z21*$A$2)","v":600000},{"$f":"IF(B11=\"\",\"\",CSV!AK22*$A$2)","v":245300}]
[{"$f":"Reserve!A22","v":7},37,{"$f":"IF(B12=\"\",\"\",IF(A12<=PPP,GP!$N$1,0)*$A$2)","v":100000},{"$f":"IF(B12=\"\",\"\",SUM($C$6:C12))","v":700000},{"$f":"IF(B12=\"\",\"\",Reserve!AY23*$A$2*0.7)","v":0},{"$f":"IF(B12=\"\",\"\",Reserve!AZ23*$A$2*0.7)","v":7115.9380842527},{"$f":"IF(B12=\"\",\"\",Reserve!BA23*$A$2*0.7)","v":12452.8916474422},{"$f":"IF(B12=\"\",\"\",(GP!AB23+GP!AA23*GP!$D$10)*$A$2)","v":11560},{"$f":"IF(B12=\"\",\"\",GP!Z22*$A$2)","v":700000},{"$f":"IF(B12=\"\",\"\",CSV!AK23*$A$2)","v":306100}]
[{"$f":"Reserve!A23","v":8},38,{"$f":"IF(B13=\"\",\"\",IF(A13<=PPP,GP!$N$1,0)*$A$2)","v":100000},{"$f":"IF(B13=\"\",\"\",SUM($C$6:C13))","v":800000},{"$f":"IF(B13=\"\",\"\",Reserve!AY24*$A$2*0.7)","v":0},{"$f":"IF(B13=\"\",\"\",Reserve!AZ24*$A$2*0.7)","v":8356.37047421794},{"$f":"IF(B13=\"\",\"\",Reserve!BA24*$A$2*0.7)","v":14623.6483298814},{"$f":"IF(B13=\"\",\"\",(GP!AB24+GP!AA24*GP!$D$10)*$A$2)","v":11560},{"$f":"IF(B13=\"\",\"\",GP!Z23*$A$2)","v":800000},{"$f":"IF(B13=\"\",\"\",CSV!AK24*$A$2)","v":370400}]
[{"$f":"Reserve!A24","v":9},39,{"$f":"IF(B14=\"\",\"\",IF(A14<=PPP,GP!$N$1,0)*$A$2)","v":100000},{"$f":"IF(B14=\"\",\"\",SUM($C$6:C14))","v":900000},{"$f":"IF(B14=\"\",\"\",Reserve!AY25*$A$2*0.7)","v":0},{"$f":"IF(B14=\"\",\"\",Reserve!AZ25*$A$2*0.7)","v":9627.57869818073},{"$f":"IF(B14=\"\",\"\",Reserve!BA25*$A$2*0.7)","v":16848.2627218163},{"$f":"IF(B14=\"\",\"\",(GP!AB25+GP!AA25*GP!$D$10)*$A$2)","v":11560},{"$f":"IF(B14=\"\",\"\",GP!Z24*$A$2)","v":900000},{"$f":"IF(B14=\"\",\"\",CSV!AK25*$A$2)","v":438400}]
[{"$f":"Reserve!A25","v":10},40,{"$f":"IF(B15=\"\",\"\",IF(A15<=PPP,GP!$N$1,0)*$A$2)","v":100000},{"$f":"IF(B15=\"\",\"\",SUM($C$6:C15))","v":1000000},{"$f":"IF(B15=\"\",\"\",Reserve!AY26*$A$2*0.7)","v":0},{"$f":"IF(B15=\"\",\"\",Reserve!AZ26*$A$2*0.7)","v":10930.3261597447},{"$f":"IF(B15=\"\",\"\",Reserve!BA26*$A$2*0.7)","v":19128.0707795533},{"$f":"IF(B15=\"\",\"\",(GP!AB26+GP!AA26*GP!$D$10)*$A$2)","v":11560},{"$f":"IF(B15=\"\",\"\",GP!Z25*$A$2)","v":1000000},{"$f":"IF(B15=\"\",\"\",CSV!AK26*$A$2)","v":510300}]
[{"$f":"Reserve!A26","v":11},41,{"$f":"IF(B16=\"\",\"\",IF(A16<=PPP,GP!$N$1,0)*$A$2)","v":0},{"$f":"IF(B16=\"\",\"\",SUM($C$6:C16))","v":1000000},{"$f":"IF(B16=\"\",\"\",Reserve!AY27*$A$2*0.7)","v":0},{"$f":"IF(B16=\"\",\"\",Reserve!AZ27*$A$2*0.7)","v":11039.3423419434},{"$f":"IF(B16=\"\",\"\",Reserve!BA27*$A$2*0.7)","v":19318.849098401},{"$f":"IF(B16=\"\",\"\",(GP!AB27+GP!AA27*GP!$D$10)*$A$2)","v":11560},{"$f":"IF(B16=\"\",\"\",GP!Z26*$A$2)","v":1000000},{"$f":"IF(B16=\"\",\"\",CSV!AK27*$A$2)","v":518900}]
[{"$f":"Reserve!A27","v":12},42,{"$f":"IF(B17=\"\",\"\",IF(A17<=PPP,GP!$N$1,0)*$A$2)","v":0},{"$f":"IF(B17=\"\",\"\",SUM($C$6:C17))","v":1000000},{"$f":"IF(B17=\"\",\"\",Reserve!AY28*$A$2*0.7)","v":0},{"$f":"IF(B17=\"\",\"\",Reserve!AZ28*$A$2*0.7)","v":11150.9738495448},{"$f":"IF(B17=\"\",\"\",Reserve!BA28*$A$2*0.7)","v":19514.2042367034},{"$f":"IF(B17=\"\",\"\",(GP!AB28+GP!AA28*GP!$D$10)*$A$2)","v":11560},{"$f":"IF(B17=\"\",\"\",GP!Z27*$A$2)","v":1000000},{"$f":"IF(B17=\"\",\"\",CSV!AK28*$A$2)","v":527900}]
[{"$f":"Reserve!A28","v":13},43,{"$f":"IF(B18=\"\",\"\",IF(A18<=PPP,GP!$N$1,0)*$A$2)","v":0},{"$f":"IF(B18=\"\",\"\",SUM($C$6:C18))","v":1000000},{"$f":"IF(B18=\"\",\"\",Reserve!AY29*$A$2*0.7)","v":0},{"$f":"IF(B18=\"\",\"\",Reserve!AZ29*$A$2*0.7)","v":11265.2850068401},{"$f":"IF(B18=\"\",\"\",Reserve!BA29*$A$2*0.7)","v":19714.2487619702},{"$f":"IF(B18=\"\",\"\",(GP!AB29+GP!AA29*GP!$D$10)*$A$2)","v":11560},{"$f":"IF(B18=\"\",\"\",GP!Z28*$A$2)","v":1000000},{"$f":"IF(B18=\"\",\"\",CSV!AK29*$A$2)","v":537100}]
[{"$f":"Reserve!A29","v":14},44,{"$f":"IF(B19=\"\",\"\",IF(A19<=PPP,GP!$N$1,0)*$A$2)","v":0},{"$f":"IF(B19=\"\",\"\",SUM($C$6:C19))","v":1000000},{"$f":"IF(B19=\"\",\"\",Reserve!AY30*$A$2*0.7)","v":0},{"$f":"IF(B19=\"\",\"\",Reserve!AZ30*$A$2*0.7)","v":11382.339572526},{"$f":"IF(B19=\"\",\"\",Reserve!BA30*$A$2*0.7)","v":19919.0942519205},{"$f":"IF(B19=\"\",\"\",(GP!AB30+GP!AA30*GP!$D$10)*$A$2)","v":11560},{"$f":"IF(B19=\"\",\"\",GP!Z29*$A$2)","v":1000000},{"$f":"IF(B19=\"\",\"\",CSV!AK30*$A$2)","v":546700}]
[{"$f":"Reserve!A30","v":15},45,{"$f":"IF(B20=\"\",\"\",IF(A20<=PPP,GP!$N$1,0)*$A$2)","v":0},{"$f":"IF(B20=\"\",\"\",SUM($C$6:C20))","v":1000000},{"$f":"IF(B20=\"\",\"\",Reserve!AY31*$A$2*0.7)","v":0},{"$f":"IF(B20=\"\",\"\",Reserve!AZ31*$A$2*0.7)","v":11502.201820799},{"$f":"IF(B20=\"\",\"\",Reserve!BA31*$A$2*0.7)","v":20128.8531863983},{"$f":"IF(B20=\"\",\"\",(GP!AB31+GP!AA31*GP!$D$10)*$A$2)","v":11560},{"$f":"IF(B20=\"\",\"\",GP!Z30*$A$2)","v":1000000},{"$f":"IF(B20=\"\",\"\",CSV!AK31*$A$2)","v":556700}]
[{"$f":"Reserve!A31","v":16},46,{"$f":"IF(B21=\"\",\"\",IF(A21<=PPP,GP!$N$1,0)*$A$2)","v":0},{"$f":"IF(B21=\"\",\"\",SUM($C$6:C21))","v":1000000},{"$f":"IF(B21=\"\",\"\",Reserve!AY32*$A$2*0.7)","v":0},{"$f":"IF(B21=\"\",\"\",Reserve!AZ32*$A$2*0.7)","v":11624.9448834576},{"$f":"IF(B21=\"\",\"\",Reserve!BA32*$A$2*0.7)","v":20343.6535460508},{"$f":"IF(B21=\"\",\"\",(GP!AB32+GP!AA32*GP!$D$10)*$A$2)","v":11560},{"$f":"IF(B21=\"\",\"\",GP!Z31*$A$2)","v":1000000},{"$f":"IF(B21=\"\",\"\",CSV!AK32*$A$2)","v":567100}]
[{"$f":"Reserve!A32","v":17},47,{"$f":"IF(B22=\"\",\"\",IF(A22<=PPP,GP!$N$1,0)*$A$2)","v":0},{"$f":"IF(B22=\"\",\"\",SUM($C$6:C22))","v":1000000},{"$f":"IF(B22=\"\",\"\",Reserve!AY33*$A$2*0.7)","v":0},{"$f":"IF(B22=\"\",\"\",Reserve!AZ33*$A$2*0.7)","v":11750.6439071063},{"$f":"IF(B22=\"\",\"\",Reserve!BA33*$A$2*0.7)","v":20563.6268374359},{"$f":"IF(B22=\"\",\"\",(GP!AB33+GP!AA33*GP!$D$10)*$A$2)","v":11560},{"$f":"IF(B22=\"\",\"\",GP!Z32*$A$2)","v":1000000},{"$f":"IF(B22=\"\",\"\",CSV!AK33*$A$2)","v":577800}]
[{"$f":"Reserve!A33","v":18},48,{"$f":"IF(B23=\"\",\"\",IF(A23<=PPP,GP!$N$1,0)*$A$2)","v":0},{"$f":"IF(B23=\"\",\"\",SUM($C$6:C23))","v":1000000},{"$f":"IF(B23=\"\",\"\",Reserve!AY34*$A$2*0.7)","v":0},{"$f":"IF(B23=\"\",\"\",Reserve!AZ34*$A$2*0.7)","v":11879.3794852448},{"$f":"IF(B23=\"\",\"\",Reserve!BA34*$A$2*0.7)","v":20788.9140991784},{"$f":"IF(B23=\"\",\"\",(GP!AB34+GP!AA34*GP!$D$10)*$A$2)","v":11560},{"$f":"IF(B23=\"\",\"\",GP!Z33*$A$2)","v":1000000},{"$f":"IF(B23=\"\",\"\",CSV!AK34*$A$2)","v":589000}]
[{"$f":"Reserve!A34","v":19},49,{"$f":"IF(B24=\"\",\"\",IF(A24<=PPP,GP!$N$1,0)*$A$2)","v":0},{"$f":"IF(B24=\"\",\"\",SUM($C$6:C24))","v":1000000},{"$f":"IF(B24=\"\",\"\",Reserve!AY35*$A$2*0.7)","v":0},{"$f":"IF(B24=\"\",\"\",Reserve!AZ35*$A$2*0.7)","v":12011.2405953857},{"$f":"IF(B24=\"\",\"\",Reserve!BA35*$A$2*0.7)","v":21019.6710419249},{"$f":"IF(B24=\"\",\"\",(GP!AB35+GP!AA35*GP!$D$10)*$A$2)","v":11560},{"$f":"IF(B24=\"\",\"\",GP!Z34*$A$2)","v":1000000},{"$f":"IF(B24=\"\",\"\",CSV!AK35*$A$2)","v":600600}]
[{"$f":"Reserve!A35","v":20},50,{"$f":"IF(B25=\"\",\"\",IF(A25<=PPP,GP!$N$1,0)*$A$2)","v":0},{"$f":"IF(B25=\"\",\"\",SUM($C$6:C25))","v":1000000},{"$f":"IF(B25=\"\",\"\",Reserve!AY36*$A$2*0.7)","v":0},{"$f":"IF(B25=\"\",\"\",Reserve!AZ36*$A$2*0.7)","v":12146.3269868707},{"$f":"IF(B25=\"\",\"\",Reserve!BA36*$A$2*0.7)","v":21256.0722270237},{"$f":"IF(B25=\"\",\"\",(GP!AB36+GP!AA36*GP!$D$10)*$A$2)","v":11560},{"$f":"IF(B25=\"\",\"\",GP!Z35*$A$2)","v":1000000},{"$f":"IF(B25=\"\",\"\",CSV!AK36*$A$2)","v":612600}]
[{"$f":"Reserve!A36","v":21},51,{"$f":"IF(B26=\"\",\"\",IF(A26<=PPP,GP!$N$1,0)*$A$2)","v":0},{"$f":"IF(B26=\"\",\"\",SUM($C$6:C26))","v":1000000},{"$f":"IF(B26=\"\",\"\",Reserve!AY37*$A$2*0.7)","v":0},{"$f":"IF(B26=\"\",\"\",Reserve!AZ37*$A$2*0.7)","v":12284.7474990798},{"$f":"IF(B26=\"\",\"\",Reserve!BA37*$A$2*0.7)","v":21498.3081233896},{"$f":"IF(B26=\"\",\"\",(GP!AB37+GP!AA37*GP!$D$10)*$A$2)","v":11560},{"$f":"IF(B26=\"\",\"\",GP!Z36*$A$2)","v":1000000},{"$f":"IF(B26=\"\",\"\",CSV!AK37*$A$2)","v":625000}]
[{"$f":"Reserve!A37","v":22},52,{"$f":"IF(B27=\"\",\"\",IF(A27<=PPP,GP!$N$1,0)*$A$2)","v":0},{"$f":"IF(B27=\"\",\"\",SUM($C$6:C27))","v":1000000},{"$f":"IF(B27=\"\",\"\",Reserve!AY38*$A$2*0.7)","v":0},{"$f":"IF(B27=\"\",\"\",Reserve!AZ38*$A$2*0.7)","v":12426.6206204282},{"$f":"IF(B27=\"\",\"\",Reserve!BA38*$A$2*0.7)","v":21746.5860857494},{"$f":"IF(B27=\"\",\"\",(GP!AB38+GP!AA38*GP!$D$10)*$A$2)","v":11560},{"$f":"IF(B27=\"\",\"\",GP!Z37*$A$2)","v":1000000},{"$f":"IF(B27=\"\",\"\",CSV!AK38*$A$2)","v":638000}]
[{"$f":"Reserve!A38","v":23},53,{"$f":"IF(B28=\"\",\"\",IF(A28<=PPP,GP!$N$1,0)*$A$2)","v":0},{"$f":"IF(B28=\"\",\"\",SUM($C$6:C28))","v":1000000},{"$f":"IF(B28=\"\",\"\",Reserve!AY39*$A$2*0.7)","v":0},{"$f":"IF(B28=\"\",\"\",Reserve!AZ39*$A$2*0.7)","v":12572.0765284897},{"$f":"IF(B28=\"\",\"\",Reserve!BA39*$A$2*0.7)","v":22001.133924857},{"$f":"IF(B28=\"\",\"\",(GP!AB39+GP!AA39*GP!$D$10)*$A$2)","v":11560},{"$f":"IF(B28=\"\",\"\",GP!Z38*$A$2)","v":1000000},{"$f":"IF(B28=\"\",\"\",CSV!AK39*$A$2)","v":651400}]
[{"$f":"Reserve!A39","v":24},54,{"$f":"IF(B29=\"\",\"\",IF(A29<=PPP,GP!$N$1,0)*$A$2)","v":0},{"$f":"IF(B29=\"\",\"\",SUM($C$6:C29))","v":1000000},{"$f":"IF(B29=\"\",\"\",Reserve!AY40*$A$2*0.7)","v":0},{"$f":"IF(B29=\"\",\"\",Reserve!AZ40*$A$2*0.7)","v":12721.2545825729},{"$f":"IF(B29=\"\",\"\",Reserve!BA40*$A$2*0.7)","v":22262.1955195026},{"$f":"IF(B29=\"\",\"\",(GP!AB40+GP!AA40*GP!$D$10)*$A$2)","v":11560},{"$f":"IF(B29=\"\",\"\",GP!Z39*$A$2)","v":1000000},{"$f":"IF(B29=\"\",\"\",CSV!AK40*$A$2)","v":665400}]
[{"$f":"Reserve!A40","v":25},55,{"$f":"IF(B30=\"\",\"\",IF(A30<=PPP,GP!$N$1,0)*$A$2)","v":0},{"$f":"IF(B30=\"\",\"\",SUM($C$6:C30))","v":1000000},{"$f":"IF(B30=\"\",\"\",Reserve!AY41*$A$2*0.7)","v":0},{"$f":"IF(B30=\"\",\"\",Reserve!AZ41*$A$2*0.7)","v":12874.3068317609},{"$f":"IF(B30=\"\",\"\",Reserve!BA41*$A$2*0.7)","v":22530.0369555815},{"$f":"IF(B30=\"\",\"\",(GP!AB41+GP!AA41*GP!$D$10)*$A$2)","v":11560},{"$f":"IF(B30=\"\",\"\",GP!Z40*$A$2)","v":1000000},{"$f":"IF(B30=\"\",\"\",CSV!AK41*$A$2)","v":679800}]
[{"$f":"Reserve!A41","v":26},56,{"$f":"IF(B31=\"\",\"\",IF(A31<=PPP,GP!$N$1,0)*$A$2)","v":0},{"$f":"IF(B31=\"\",\"\",SUM($C$6:C31))","v":1000000},{"$f":"IF(B31=\"\",\"\",Reserve!AY42*$A$2*0.7)","v":0},{"$f":"IF(B31=\"\",\"\",Reserve!AZ42*$A$2*0.7)","v":13031.3971651528},{"$f":"IF(B31=\"\",\"\",Reserve!BA42*$A$2*0.7)","v":22804.9450390174},{"$f":"IF(B31=\"\",\"\",(GP!AB42+GP!AA42*GP!$D$10)*$A$2)","v":11560},{"$f":"IF(B31=\"\",\"\",GP!Z41*$A$2)","v":1000000},{"$f":"IF(B31=\"\",\"\",CSV!AK42*$A$2)","v":694900}]
[{"$f":"Reserve!A42","v":27},57,{"$f":"IF(B32=\"\",\"\",IF(A32<=PPP,GP!$N$1,0)*$A$2)","v":0},{"$f":"IF(B32=\"\",\"\",SUM($C$6:C32))","v":1000000},{"$f":"IF(B32=\"\",\"\",Reserve!AY43*$A$2*0.7)","v":0},{"$f":"IF(B32=\"\",\"\",Reserve!AZ43*$A$2*0.7)","v":13192.7028815108},{"$f":"IF(B32=\"\",\"\",Reserve!BA43*$A$2*0.7)","v":23087.230042644},{"$f":"IF(B32=\"\",\"\",(GP!AB43+GP!AA43*GP!$D$10)*$A$2)","v":11560},{"$f":"IF(B32=\"\",\"\",GP!Z42*$A$2)","v":1000000},{"$f":"IF(B32=\"\",\"\",CSV!AK43*$A$2)","v":710500}]
[{"$f":"Reserve!A43","v":28},58,{"$f":"IF(B33=\"\",\"\",IF(A33<=PPP,GP!$N$1,0)*$A$2)","v":0},{"$f":"IF(B33=\"\",\"\",SUM($C$6:C33))","v":1000000},{"$f":"IF(B33=\"\",\"\",Reserve!AY44*$A$2*0.7)","v":0},{"$f":"IF(B33=\"\",\"\",Reserve!AZ44*$A$2*0.7)","v":13358.4128833202},{"$f":"IF(B33=\"\",\"\",Reserve!BA44*$A$2*0.7)","v":23377.2225458104},{"$f":"IF(B33=\"\",\"\",(GP!AB44+GP!AA44*GP!$D$10)*$A$2)","v":11560},{"$f":"IF(B33=\"\",\"\",GP!Z43*$A$2)","v":1000000},{"$f":"IF(B33=\"\",\"\",CSV!AK44*$A$2)","v":726800}]
[{"$f":"Reserve!A44","v":29},59,{"$f":"IF(B34=\"\",\"\",IF(A34<=PPP,GP!$N$1,0)*$A$2)","v":0},{"$f":"IF(B34=\"\",\"\",SUM($C$6:C34))","v":1000000},{"$f":"IF(B34=\"\",\"\",Reserve!AY45*$A$2*0.7)","v":0},{"$f":"IF(B34=\"\",\"\",Reserve!AZ45*$A$2*0.7)","v":13528.7298269825},{"$f":"IF(B34=\"\",\"\",Reserve!BA45*$A$2*0.7)","v":23675.2771972194},{"$f":"IF(B34=\"\",\"\",(GP!AB45+GP!AA45*GP!$D$10)*$A$2)","v":11560},{"$f":"IF(B34=\"\",\"\",GP!Z44*$A$2)","v":1000000},{"$f":"IF(B34=\"\",\"\",CSV!AK45*$A$2)","v":743700}]
[{"$f":"Reserve!A45","v":30},60,{"$f":"IF(B35=\"\",\"\",IF(A35<=PPP,GP!$N$1,0)*$A$2)","v":0},{"$f":"IF(B35=\"\",\"\",SUM($C$6:C35))","v":1000000},{"$f":"IF(B35=\"\",\"\",Reserve!AY46*$A$2*0.7)","v":0},{"$f":"IF(B35=\"\",\"\",Reserve!AZ46*$A$2*0.7)","v":13703.8709225766},{"$f":"IF(B35=\"\",\"\",Reserve!BA46*$A$2*0.7)","v":23981.7741145091},{"$f":"IF(B35=\"\",\"\",(GP!AB46+GP!AA46*GP!$D$10)*$A$2)","v":17340},{"$f":"IF(B35=\"\",\"\",GP!Z45*$A$2)","v":1000000},{"$f":"IF(B35=\"\",\"\",CSV!AK46*$A$2)","v":755400}]
[{"$f":"Reserve!A46","v":31},61,{"$f":"IF(B36=\"\",\"\",IF(A36<=PPP,GP!$N$1,0)*$A$2)","v":0},{"$f":"IF(B36=\"\",\"\",SUM($C$6:C36))","v":1000000},{"$f":"IF(B36=\"\",\"\",Reserve!AY47*$A$2*0.7)","v":0},{"$f":"IF(B36=\"\",\"\",Reserve!AZ47*$A$2*0.7)","v":13803.1543283679},{"$f":"IF(B36=\"\",\"\",Reserve!BA47*$A$2*0.7)","v":24155.5200746439},{"$f":"IF(B36=\"\",\"\",(GP!AB47+GP!AA47*GP!$D$10)*$A$2)","v":17340},{"$f":"IF(B36=\"\",\"\",GP!Z46*$A$2)","v":1000000},{"$f":"IF(B36=\"\",\"\",CSV!AK47*$A$2)","v":767700}]
[{"$f":"Reserve!A47","v":32},62,{"$f":"IF(B37=\"\",\"\",IF(A37<=PPP,GP!$N$1,0)*$A$2)","v":0},{"$f":"IF(B37=\"\",\"\",SUM($C$6:C37))","v":1000000},{"$f":"IF(B37=\"\",\"\",Reserve!AY48*$A$2*0.7)","v":0},{"$f":"IF(B37=\"\",\"\",Reserve!AZ48*$A$2*0.7)","v":13905.3529269592},{"$f":"IF(B37=\"\",\"\",Reserve!BA48*$A$2*0.7)","v":24334.3676221786},{"$f":"IF(B37=\"\",\"\",(GP!AB48+GP!AA48*GP!$D$10)*$A$2)","v":17340},{"$f":"IF(B37=\"\",\"\",GP!Z47*$A$2)","v":1000000},{"$f":"IF(B37=\"\",\"\",CSV!AK48*$A$2)","v":780300}]
[{"$f":"Reserve!A48","v":33},63,{"$f":"IF(B38=\"\",\"\",IF(A38<=PPP,GP!$N$1,0)*$A$2)","v":0},{"$f":"IF(B38=\"\",\"\",SUM($C$6:C38))","v":1000000},{"$f":"IF(B38=\"\",\"\",Reserve!AY49*$A$2*0.7)","v":0},{"$f":"IF(B38=\"\",\"\",Reserve!AZ49*$A$2*0.7)","v":14010.6267873911},{"$f":"IF(B38=\"\",\"\",Reserve!BA49*$A$2*0.7)","v":24518.5968779344},{"$f":"IF(B38=\"\",\"\",(GP!AB49+GP!AA49*GP!$D$10)*$A$2)","v":17340},{"$f":"IF(B38=\"\",\"\",GP!Z48*$A$2)","v":1000000},{"$f":"IF(B38=\"\",\"\",CSV!AK49*$A$2)","v":793500}]
[{"$f":"Reserve!A49","v":34},{"$f":"IF(OR(A39=\"\",A39=BP),\"\",B38+1)","v":64},{"$f":"IF(B39=\"\",\"\",IF(A39<=PPP,GP!$N$1,0)*$A$2)","v":0},{"$f":"IF(B39=\"\",\"\",SUM($C$6:C39))","v":1000000},{"$f":"IF(B39=\"\",\"\",Reserve!AY50*$A$2*0.7)","v":0},{"$f":"IF(B39=\"\",\"\",Reserve!AZ50*$A$2*0.7)","v":14119.1566644734},{"$f":"IF(B39=\"\",\"\",Reserve!BA50*$A$2*0.7)","v":24708.5241628285},{"$f":"IF(B39=\"\",\"\",(GP!AB50+GP!AA50*GP!$D$10)*$A$2)","v":17340},{"$f":"IF(B39=\"\",\"\",GP!Z49*$A$2)","v":1000000},{"$f":"IF(B39=\"\",\"\",CSV!AK50*$A$2)","v":807200}]
[{"$f":"Reserve!A50","v":35},65,{"$f":"IF(B40=\"\",\"\",IF(A40<=PPP,GP!$N$1,0)*$A$2)","v":0},{"$f":"IF(B40=\"\",\"\",SUM($C$6:C40))","v":1000000},{"$f":"IF(B40=\"\",\"\",Reserve!AY51*$A$2*0.7)","v":0},{"$f":"IF(B40=\"\",\"\",Reserve!AZ51*$A$2*0.7)","v":14231.1482131389},{"$f":"IF(B40=\"\",\"\",Reserve!BA51*$A$2*0.7)","v":24904.5093729931},{"$f":"IF(B40=\"\",\"\",(GP!AB51+GP!AA51*GP!$D$10)*$A$2)","v":17340},{"$f":"IF(B40=\"\",\"\",GP!Z50*$A$2)","v":1000000},{"$f":"IF(B40=\"\",\"\",CSV!AK51*$A$2)","v":821500}]
[{"$f":"Reserve!A51","v":36},66,{"$f":"IF(B41=\"\",\"\",IF(A41<=PPP,GP!$N$1,0)*$A$2)","v":0},{"$f":"IF(B41=\"\",\"\",SUM($C$6:C41))","v":1000000},{"$f":"IF(B41=\"\",\"\",Reserve!AY52*$A$2*0.7)","v":0},{"$f":"IF(B41=\"\",\"\",Reserve!AZ52*$A$2*0.7)","v":14346.8363941204},{"$f":"IF(B41=\"\",\"\",Reserve!BA52*$A$2*0.7)","v":25106.9636897108},{"$f":"IF(B41=\"\",\"\",(GP!AB52+GP!AA52*GP!$D$10)*$A$2)","v":17340},{"$f":"IF(B41=\"\",\"\",GP!Z51*$A$2)","v":1000000},{"$f":"IF(B41=\"\",\"\",CSV!AK52*$A$2)","v":836300}]
[{"$f":"Reserve!A52","v":37},67,{"$f":"IF(B42=\"\",\"\",IF(A42<=PPP,GP!$N$1,0)*$A$2)","v":0},{"$f":"IF(B42=\"\",\"\",SUM($C$6:C42))","v":1000000},{"$f":"IF(B42=\"\",\"\",Reserve!AY53*$A$2*0.7)","v":0},{"$f":"IF(B42=\"\",\"\",Reserve!AZ53*$A$2*0.7)","v":14466.4881793036},{"$f":"IF(B42=\"\",\"\",Reserve!BA53*$A$2*0.7)","v":25316.3543137813},{"$f":"IF(B42=\"\",\"\",(GP!AB53+GP!AA53*GP!$D$10)*$A$2)","v":17340},{"$f":"IF(B42=\"\",\"\",GP!Z52*$A$2)","v":1000000},{"$f":"IF(B42=\"\",\"\",CSV!AK53*$A$2)","v":851600}]
[{"$f":"Reserve!A53","v":38},68,{"$f":"IF(B43=\"\",\"\",IF(A43<=PPP,GP!$N$1,0)*$A$2)","v":0},{"$f":"IF(B43=\"\",\"\",SUM($C$6:C43))","v":1000000},{"$f":"IF(B43=\"\",\"\",Reserve!AY54*$A$2*0.7)","v":0},{"$f":"IF(B43=\"\",\"\",Reserve!AZ54*$A$2*0.7)","v":14590.4072576088},{"$f":"IF(B43=\"\",\"\",Reserve!BA54*$A$2*0.7)","v":25533.2127008155},{"$f":"IF(B43=\"\",\"\",(GP!AB54+GP!AA54*GP!$D$10)*$A$2)","v":17340},{"$f":"IF(B43=\"\",\"\",GP!Z53*$A$2)","v":1000000},{"$f":"IF(B43=\"\",\"\",CSV!AK54*$A$2)","v":867700}]
[{"$f":"Reserve!A54","v":39},69,{"$f":"IF(B44=\"\",\"\",IF(A44<=PPP,GP!$N$1,0)*$A$2)","v":0},{"$f":"IF(B44=\"\",\"\",SUM($C$6:C44))","v":1000000},{"$f":"IF(B44=\"\",\"\",Reserve!AY55*$A$2*0.7)","v":0},{"$f":"IF(B44=\"\",\"\",Reserve!AZ55*$A$2*0.7)","v":14718.9397107997},{"$f":"IF(B44=\"\",\"\",Reserve!BA55*$A$2*0.7)","v":25758.1444938994},{"$f":"IF(B44=\"\",\"\",(GP!AB55+GP!AA55*GP!$D$10)*$A$2)","v":17340},{"$f":"IF(B44=\"\",\"\",GP!Z54*$A$2)","v":1000000},{"$f":"IF(B44=\"\",\"\",CSV!AK55*$A$2)","v":884400}]
[{"$f":"Reserve!A55","v":40},70,{"$f":"IF(B45=\"\",\"\",IF(A45<=PPP,GP!$N$1,0)*$A$2)","v":0},{"$f":"IF(B45=\"\",\"\",SUM($C$6:C45))","v":1000000},{"$f":"IF(B45=\"\",\"\",Reserve!AY56*$A$2*0.7)","v":0},{"$f":"IF(B45=\"\",\"\",Reserve!AZ56*$A$2*0.7)","v":14852.4875350578},{"$f":"IF(B45=\"\",\"\",Reserve!BA56*$A$2*0.7)","v":25991.8531863511},{"$f":"IF(B45=\"\",\"\",(GP!AB56+GP!AA56*GP!$D$10)*$A$2)","v":17340},{"$f":"IF(B45=\"\",\"\",GP!Z55*$A$2)","v":1000000},{"$f":"IF(B45=\"\",\"\",CSV!AK56*$A$2)","v":901800}]
[{"$f":"Reserve!A56","v":41},71,{"$f":"IF(B46=\"\",\"\",IF(A46<=PPP,GP!$N$1,0)*$A$2)","v":0},{"$f":"IF(B46=\"\",\"\",SUM($C$6:C46))","v":1000000},{"$f":"IF(B46=\"\",\"\",Reserve!AY57*$A$2*0.7)","v":0},{"$f":"IF(B46=\"\",\"\",Reserve!AZ57*$A$2*0.7)","v":14991.53425024},{"$f":"IF(B46=\"\",\"\",Reserve!BA57*$A$2*0.7)","v":26235.1849379199},{"$f":"IF(B46=\"\",\"\",(GP!AB57+GP!AA57*GP!$D$10)*$A$2)","v":17340},{"$f":"IF(B46=\"\",\"\",GP!Z56*$A$2)","v":1000000},{"$f":"IF(B46=\"\",\"\",CSV!AK57*$A$2)","v":919900}]
[{"$f":"Reserve!A57","v":42},72,{"$f":"IF(B47=\"\",\"\",IF(A47<=PPP,GP!$N$1,0)*$A$2)","v":0},{"$f":"IF(B47=\"\",\"\",SUM($C$6:C47))","v":1000000},{"$f":"IF(B47=\"\",\"\",Reserve!AY58*$A$2*0.7)","v":0},{"$f":"IF(B47=\"\",\"\",Reserve!AZ58*$A$2*0.7)","v":15136.6884028832},{"$f":"IF(B47=\"\",\"\",Reserve!BA58*$A$2*0.7)","v":26489.2047050456},{"$f":"IF(B47=\"\",\"\",(GP!AB58+GP!AA58*GP!$D$10)*$A$2)","v":17340},{"$f":"IF(B47=\"\",\"\",GP!Z57*$A$2)","v":1000000},{"$f":"IF(B47=\"\",\"\",CSV!AK58*$A$2)","v":938900}]
[{"$f":"Reserve!A58","v":43},73,{"$f":"IF(B48=\"\",\"\",IF(A48<=PPP,GP!$N$1,0)*$A$2)","v":0},{"$f":"IF(B48=\"\",\"\",SUM($C$6:C48))","v":1000000},{"$f":"IF(B48=\"\",\"\",Reserve!AY59*$A$2*0.7)","v":0},{"$f":"IF(B48=\"\",\"\",Reserve!AZ59*$A$2*0.7)","v":15288.7452462094},{"$f":"IF(B48=\"\",\"\",Reserve!BA59*$A$2*0.7)","v":26755.3041808664},{"$f":"IF(B48=\"\",\"\",(GP!AB59+GP!AA59*GP!$D$10)*$A$2)","v":17340},{"$f":"IF(B48=\"\",\"\",GP!Z58*$A$2)","v":1000000},{"$f":"IF(B48=\"\",\"\",CSV!AK59*$A$2)","v":958700}]
[{"$f":"Reserve!A59","v":44},74,{"$f":"IF(B49=\"\",\"\",IF(A49<=PPP,GP!$N$1,0)*$A$2)","v":0},{"$f":"IF(B49=\"\",\"\",SUM($C$6:C49))","v":1000000},{"$f":"IF(B49=\"\",\"\",Reserve!AY60*$A$2*0.7)","v":0},{"$f":"IF(B49=\"\",\"\",Reserve!AZ60*$A$2*0.7)","v":15448.7674623835},{"$f":"IF(B49=\"\",\"\",Reserve!BA60*$A$2*0.7)","v":27035.3430591711},{"$f":"IF(B49=\"\",\"\",(GP!AB60+GP!AA60*GP!$D$10)*$A$2)","v":17340},{"$f":"IF(B49=\"\",\"\",GP!Z59*$A$2)","v":1000000},{"$f":"IF(B49=\"\",\"\",CSV!AK60*$A$2)","v":979500}]
[{"$f":"Reserve!A60","v":45},75,{"$f":"IF(B50=\"\",\"\",IF(A50<=PPP,GP!$N$1,0)*$A$2)","v":0},{"$f":"IF(B50=\"\",\"\",SUM($C$6:C50))","v":1000000},{"$f":"IF(B50=\"\",\"\",Reserve!AY61*$A$2*0.7)","v":0},{"$f":"IF(B50=\"\",\"\",Reserve!AZ61*$A$2*0.7)","v":15618.1849055981},{"$f":"IF(B50=\"\",\"\",Reserve!BA61*$A$2*0.7)","v":27331.8235847967},{"$f":"IF(B50=\"\",\"\",(GP!AB61+GP!AA61*GP!$D$10)*$A$2)","v":17340},{"$f":"IF(B50=\"\",\"\",GP!Z60*$A$2)","v":1018440},{"$f":"IF(B50=\"\",\"\",CSV!AK61*$A$2)","v":1001100}]
[{"$f":"Reserve!A61","v":46},76,{"$f":"IF(B51=\"\",\"\",IF(A51<=PPP,GP!$N$1,0)*$A$2)","v":0},{"$f":"IF(B51=\"\",\"\",SUM($C$6:C51))","v":1000000},{"$f":"IF(B51=\"\",\"\",Reserve!AY62*$A$2*0.7)","v":0},{"$f":"IF(B51=\"\",\"\",Reserve!AZ62*$A$2*0.7)","v":15794.2068416059},{"$f":"IF(B51=\"\",\"\",Reserve!BA62*$A$2*0.7)","v":27639.8619728104},{"$f":"IF(B51=\"\",\"\",(GP!AB62+GP!AA62*GP!$D$10)*$A$2)","v":17340},{"$f":"IF(B51=\"\",\"\",GP!Z61*$A$2)","v":1040840},{"$f":"IF(B51=\"\",\"\",CSV!AK62*$A$2)","v":1023500}]
[{"$f":"Reserve!A62","v":47},77,{"$f":"IF(B52=\"\",\"\",IF(A52<=PPP,GP!$N$1,0)*$A$2)","v":0},{"$f":"IF(B52=\"\",\"\",SUM($C$6:C52))","v":1000000},{"$f":"IF(B52=\"\",\"\",Reserve!AY63*$A$2*0.7)","v":0},{"$f":"IF(B52=\"\",\"\",Reserve!AZ63*$A$2*0.7)","v":15976.4203563075},{"$f":"IF(B52=\"\",\"\",Reserve!BA63*$A$2*0.7)","v":27958.7356235381},{"$f":"IF(B52=\"\",\"\",(GP!AB63+GP!AA63*GP!$D$10)*$A$2)","v":17340},{"$f":"IF(B52=\"\",\"\",GP!Z62*$A$2)","v":1064140},{"$f":"IF(B52=\"\",\"\",CSV!AK63*$A$2)","v":1046800}]
[{"$f":"Reserve!A63","v":48},78,{"$f":"IF(B53=\"\",\"\",IF(A53<=PPP,GP!$N$1,0)*$A$2)","v":0},{"$f":"IF(B53=\"\",\"\",SUM($C$6:C53))","v":1000000},{"$f":"IF(B53=\"\",\"\",Reserve!AY64*$A$2*0.7)","v":0},{"$f":"IF(B53=\"\",\"\",Reserve!AZ64*$A$2*0.7)","v":16164.884001471},{"$f":"IF(B53=\"\",\"\",Reserve!BA64*$A$2*0.7)","v":28288.5470025742},{"$f":"IF(B53=\"\",\"\",(GP!AB64+GP!AA64*GP!$D$10)*$A$2)","v":17340},{"$f":"IF(B53=\"\",\"\",GP!Z63*$A$2)","v":1088240},{"$f":"IF(B53=\"\",\"\",CSV!AK64*$A$2)","v":1070900}]
[{"$f":"Reserve!A64","v":49},79,{"$f":"IF(B54=\"\",\"\",IF(A54<=PPP,GP!$N$1,0)*$A$2)","v":0},{"$f":"IF(B54=\"\",\"\",SUM($C$6:C54))","v":1000000},{"$f":"IF(B54=\"\",\"\",Reserve!AY65*$A$2*0.7)","v":0},{"$f":"IF(B54=\"\",\"\",Reserve!AZ65*$A$2*0.7)","v":16359.4080292276},{"$f":"IF(B54=\"\",\"\",Reserve!BA65*$A$2*0.7)","v":28628.9640511483},{"$f":"IF(B54=\"\",\"\",(GP!AB65+GP!AA65*GP!$D$10)*$A$2)","v":17340},{"$f":"IF(B54=\"\",\"\",GP!Z64*$A$2)","v":1113340},{"$f":"IF(B54=\"\",\"\",CSV!AK65*$A$2)","v":1096000}]
[{"$f":"Reserve!A65","v":50},80,{"$f":"IF(B55=\"\",\"\",IF(A55<=PPP,GP!$N$1,0)*$A$2)","v":0},{"$f":"IF(B55=\"\",\"\",SUM($C$6:C55))","v":1000000},{"$f":"IF(B55=\"\",\"\",Reserve!AY66*$A$2*0.7)","v":0},{"$f":"IF(B55=\"\",\"\",Reserve!AZ66*$A$2*0.7)","v":16559.32668479},{"$f":"IF(B55=\"\",\"\",Reserve!BA66*$A$2*0.7)","v":28978.8216983825},{"$f":"IF(B55=\"\",\"\",(GP!AB66+GP!AA66*GP!$D$10)*$A$2)","v":117340},{"$f":"IF(B55=\"\",\"\",GP!Z65*$A$2)","v":1139240},{"$f":"IF(B55=\"\",\"\",CSV!AK66*$A$2)","v":1021900}]
[{"$f":"Reserve!A66","v":51},81,{"$f":"IF(B56=\"\",\"\",IF(A56<=PPP,GP!$N$1,0)*$A$2)","v":0},{"$f":"IF(B56=\"\",\"\",SUM($C$6:C56))","v":1000000},{"$f":"IF(B56=\"\",\"\",Reserve!AY67*$A$2*0.7)","v":0},{"$f":"IF(B56=\"\",\"\",Reserve!AZ67*$A$2*0.7)","v":15363.5604770886},{"$f":"IF(B56=\"\",\"\",Reserve!BA67*$A$2*0.7)","v":26886.230834905},{"$f":"IF(B56=\"\",\"\",(GP!AB67+GP!AA67*GP!$D$10)*$A$2)","v":117340},{"$f":"IF(B56=\"\",\"\",GP!Z66*$A$2)","v":1062240},{"$f":"IF(B56=\"\",\"\",CSV!AK67*$A$2)","v":944900}]
[{"$f":"Reserve!A67","v":52},82,{"$f":"IF(B57=\"\",\"\",IF(A57<=PPP,GP!$N$1,0)*$A$2)","v":0},{"$f":"IF(B57=\"\",\"\",SUM($C$6:C57))","v":1000000},{"$f":"IF(B57=\"\",\"\",Reserve!AY68*$A$2*0.7)","v":0},{"$f":"IF(B57=\"\",\"\",Reserve!AZ68*$A$2*0.7)","v":14137.0903923812},{"$f":"IF(B57=\"\",\"\",Reserve!BA68*$A$2*0.7)","v":24739.9081866671},{"$f":"IF(B57=\"\",\"\",(GP!AB68+GP!AA68*GP!$D$10)*$A$2)","v":117340},{"$f":"IF(B57=\"\",\"\",GP!Z67*$A$2)","v":982040},{"$f":"IF(B57=\"\",\"\",CSV!AK68*$A$2)","v":864700}]
[{"$f":"Reserve!A68","v":53},83,{"$f":"IF(B58=\"\",\"\",IF(A58<=PPP,GP!$N$1,0)*$A$2)","v":0},{"$f":"IF(B58=\"\",\"\",SUM($C$6:C58))","v":1000000},{"$f":"IF(B58=\"\",\"\",Reserve!AY69*$A$2*0.7)","v":0},{"$f":"IF(B58=\"\",\"\",Reserve!AZ69*$A$2*0.7)","v":12878.506864812},{"$f":"IF(B58=\"\",\"\",Reserve!BA69*$A$2*0.7)","v":22537.387013421},{"$f":"IF(B58=\"\",\"\",(GP!AB69+GP!AA69*GP!$D$10)*$A$2)","v":117340},{"$f":"IF(B58=\"\",\"\",GP!Z68*$A$2)","v":898540},{"$f":"IF(B58=\"\",\"\",CSV!AK69*$A$2)","v":781200}]
[{"$f":"Reserve!A69","v":54},84,{"$f":"IF(B59=\"\",\"\",IF(A59<=PPP,GP!$N$1,0)*$A$2)","v":0},{"$f":"IF(B59=\"\",\"\",SUM($C$6:C59))","v":1000000},{"$f":"IF(B59=\"\",\"\",Reserve!AY70*$A$2*0.7)","v":0},{"$f":"IF(B59=\"\",\"\",Reserve!AZ70*$A$2*0.7)","v":11586.4082822224},{"$f":"IF(B59=\"\",\"\",Reserve!BA70*$A$2*0.7)","v":20276.2144938892},{"$f":"IF(B59=\"\",\"\",(GP!AB70+GP!AA70*GP!$D$10)*$A$2)","v":117340},{"$f":"IF(B59=\"\",\"\",GP!Z69*$A$2)","v":811840},{"$f":"IF(B59=\"\",\"\",CSV!AK70*$A$2)","v":694500}]
[{"$f":"Reserve!A70","v":55},85,{"$f":"IF(B60=\"\",\"\",IF(A60<=PPP,GP!$N$1,0)*$A$2)","v":0},{"$f":"IF(B60=\"\",\"\",SUM($C$6:C60))","v":1000000},{"$f":"IF(B60=\"\",\"\",Reserve!AY71*$A$2*0.7)","v":0},{"$f":"IF(B60=\"\",\"\",Reserve!AZ71*$A$2*0.7)","v":10259.2738637461},{"$f":"IF(B60=\"\",\"\",Reserve!BA71*$A$2*0.7)","v":17953.7292615556},{"$f":"IF(B60=\"\",\"\",(GP!AB71+GP!AA71*GP!$D$10)*$A$2)","v":117340},{"$f":"IF(B60=\"\",\"\",GP!Z70*$A$2)","v":721540},{"$f":"IF(B60=\"\",\"\",CSV!AK71*$A$2)","v":604200}]
[{"$f":"Reserve!A71","v":56},86,{"$f":"IF(B61=\"\",\"\",IF(A61<=PPP,GP!$N$1,0)*$A$2)","v":0},{"$f":"IF(B61=\"\",\"\",SUM($C$6:C61))","v":1000000},{"$f":"IF(B61=\"\",\"\",Reserve!AY72*$A$2*0.7)","v":0},{"$f":"IF(B61=\"\",\"\",Reserve!AZ72*$A$2*0.7)","v":8895.97600572188},{"$f":"IF(B61=\"\",\"\",Reserve!BA72*$A$2*0.7)","v":15567.9580100133},{"$f":"IF(B61=\"\",\"\",(GP!AB72+GP!AA72*GP!$D$10)*$A$2)","v":117340},{"$f":"IF(B61=\"\",\"\",GP!Z71*$A$2)","v":627740},{"$f":"IF(B61=\"\",\"\",CSV!AK72*$A$2)","v":510400}]
[{"$f":"Reserve!A72","v":57},87,{"$f":"IF(B62=\"\",\"\",IF(A62<=PPP,GP!$N$1,0)*$A$2)","v":0},{"$f":"IF(B62=\"\",\"\",SUM($C$6:C62))","v":1000000},{"$f":"IF(B62=\"\",\"\",Reserve!AY73*$A$2*0.7)","v":0},{"$f":"IF(B62=\"\",\"\",Reserve!AZ73*$A$2*0.7)","v":7495.40022164403},{"$f":"IF(B62=\"\",\"\",Reserve!BA73*$A$2*0.7)","v":13116.9503878771},{"$f":"IF(B62=\"\",\"\",(GP!AB73+GP!AA73*GP!$D$10)*$A$2)","v":117340},{"$f":"IF(B62=\"\",\"\",GP!Z72*$A$2)","v":530140},{"$f":"IF(B62=\"\",\"\",CSV!AK73*$A$2)","v":412800}]
[{"$f":"Reserve!A73","v":58},88,{"$f":"IF(B63=\"\",\"\",IF(A63<=PPP,GP!$N$1,0)*$A$2)","v":0},{"$f":"IF(B63=\"\",\"\",SUM($C$6:C63))","v":1000000},{"$f":"IF(B63=\"\",\"\",Reserve!AY74*$A$2*0.7)","v":0},{"$f":"IF(B63=\"\",\"\",Reserve!AZ74*$A$2*0.7)","v":6056.95490751998},{"$f":"IF(B63=\"\",\"\",Reserve!BA74*$A$2*0.7)","v":10599.67108816},{"$f":"IF(B63=\"\",\"\",(GP!AB74+GP!AA74*GP!$D$10)*$A$2)","v":117340},{"$f":"IF(B63=\"\",\"\",GP!Z73*$A$2)","v":428840},{"$f":"IF(B63=\"\",\"\",CSV!AK74*$A$2)","v":311500}]
[{"$f":"Reserve!A74","v":59},89,{"$f":"IF(B64=\"\",\"\",IF(A64<=PPP,GP!$N$1,0)*$A$2)","v":0},{"$f":"IF(B64=\"\",\"\",SUM($C$6:C64))","v":1000000},{"$f":"IF(B64=\"\",\"\",Reserve!AY75*$A$2*0.7)","v":0},{"$f":"IF(B64=\"\",\"\",Reserve!AZ75*$A$2*0.7)","v":4580.2117472201},{"$f":"IF(B64=\"\",\"\",Reserve!BA75*$A$2*0.7)","v":8015.37055763518},{"$f":"IF(B64=\"\",\"\",(GP!AB75+GP!AA75*GP!$D$10)*$A$2)","v":117340},{"$f":"IF(B64=\"\",\"\",GP!Z74*$A$2)","v":323440},{"$f":"IF(B64=\"\",\"\",CSV!AK75*$A$2)","v":206100}]
[{"$f":"Reserve!A75","v":60},90,{"$f":"IF(B65=\"\",\"\",IF(A65<=PPP,GP!$N$1,0)*$A$2)","v":0},{"$f":"IF(B65=\"\",\"\",SUM($C$6:C65))","v":1000000},{"$f":"IF(B65=\"\",\"\",Reserve!AY76*$A$2*0.7)","v":0},{"$f":"IF(B65=\"\",\"\",Reserve!AZ76*$A$2*0.7)","v":3065.77440532345},{"$f":"IF(B65=\"\",\"\",Reserve!BA76*$A$2*0.7)","v":5365.10520931603},{"$f":"IF(B65=\"\",\"\",(GP!AB76+GP!AA76*GP!$D$10)*$A$2)","v":17340},{"$f":"IF(B65=\"\",\"\",GP!Z75*$A$2)","v":214040},{"$f":"IF(B65=\"\",\"\",CSV!AK76*$A$2)","v":196700}]
[{"$f":"Reserve!A76","v":61},91,{"$f":"IF(B66=\"\",\"\",IF(A66<=PPP,GP!$N$1,0)*$A$2)","v":0},{"$f":"IF(B66=\"\",\"\",SUM($C$6:C66))","v":1000000},{"$f":"IF(B66=\"\",\"\",Reserve!AY77*$A$2*0.7)","v":0},{"$f":"IF(B66=\"\",\"\",Reserve!AZ77*$A$2*0.7)","v":2914.8392932899},{"$f":"IF(B66=\"\",\"\",Reserve!BA77*$A$2*0.7)","v":5100.96876325732},{"$f":"IF(B66=\"\",\"\",(GP!AB77+GP!AA77*GP!$D$10)*$A$2)","v":17340},{"$f":"IF(B66=\"\",\"\",GP!Z76*$A$2)","v":204140},{"$f":"IF(B66=\"\",\"\",CSV!AK77*$A$2)","v":186800}]
[{"$f":"Reserve!A77","v":62},92,{"$f":"IF(B67=\"\",\"\",IF(A67<=PPP,GP!$N$1,0)*$A$2)","v":0},{"$f":"IF(B67=\"\",\"\",SUM($C$6:C67))","v":1000000},{"$f":"IF(B67=\"\",\"\",Reserve!AY78*$A$2*0.7)","v":0},{"$f":"IF(B67=\"\",\"\",Reserve!AZ78*$A$2*0.7)","v":2759.64286429712},{"$f":"IF(B67=\"\",\"\",Reserve!BA78*$A$2*0.7)","v":4829.37501251995},{"$f":"IF(B67=\"\",\"\",(GP!AB78+GP!AA78*GP!$D$10)*$A$2)","v":17340},{"$f":"IF(B67=\"\",\"\",GP!Z77*$A$2)","v":193940},{"$f":"IF(B67=\"\",\"\",CSV!AK78*$A$2)","v":176600}]
[{"$f":"Reserve!A78","v":63},93,{"$f":"IF(B68=\"\",\"\",IF(A68<=PPP,GP!$N$1,0)*$A$2)","v":0},{"$f":"IF(B68=\"\",\"\",SUM($C$6:C68))","v":1000000},{"$f":"IF(B68=\"\",\"\",Reserve!AY79*$A$2*0.7)","v":0},{"$f":"IF(B68=\"\",\"\",Reserve!AZ79*$A$2*0.7)","v":2599.7494658122},{"$f":"IF(B68=\"\",\"\",Reserve!BA79*$A$2*0.7)","v":4549.56156517135},{"$f":"IF(B68=\"\",\"\",(GP!AB79+GP!AA79*GP!$D$10)*$A$2)","v":17340},{"$f":"IF(B68=\"\",\"\",GP!Z78*$A$2)","v":183240},{"$f":"IF(B68=\"\",\"\",CSV!AK79*$A$2)","v":165900}]
[{"$f":"Reserve!A79","v":64},94,{"$f":"IF(B69=\"\",\"\",IF(A69<=PPP,GP!$N$1,0)*$A$2)","v":0},{"$f":"IF(B69=\"\",\"\",SUM($C$6:C69))","v":1000000},{"$f":"IF(B69=\"\",\"\",Reserve!AY80*$A$2*0.7)","v":0},{"$f":"IF(B69=\"\",\"\",Reserve!AZ80*$A$2*0.7)","v":2435.10626431261},{"$f":"IF(B69=\"\",\"\",Reserve!BA80*$A$2*0.7)","v":4261.43596254707},{"$f":"IF(B69=\"\",\"\",(GP!AB80+GP!AA80*GP!$D$10)*$A$2)","v":17340},{"$f":"IF(B69=\"\",\"\",GP!Z79*$A$2)","v":172140},{"$f":"IF(B69=\"\",\"\",CSV!AK80*$A$2)","v":154800}]
[{"$f":"Reserve!A80","v":65},95,{"$f":"IF(B70=\"\",\"\",IF(A70<=PPP,GP!$N$1,0)*$A$2)","v":0},{"$f":"IF(B70=\"\",\"\",SUM($C$6:C70))","v":1000000},{"$f":"IF(B70=\"\",\"\",Reserve!AY81*$A$2*0.7)","v":0},{"$f":"IF(B70=\"\",\"\",Reserve!AZ81*$A$2*0.7)","v":2265.41594398067},{"$f":"IF(B70=\"\",\"\",Reserve!BA81*$A$2*0.7)","v":3964.47790196618},{"$f":"IF(B70=\"\",\"\",(GP!AB81+GP!AA81*GP!$D$10)*$A$2)","v":17340},{"$f":"IF(B70=\"\",\"\",GP!Z80*$A$2)","v":160640},{"$f":"IF(B70=\"\",\"\",CSV!AK81*$A$2)","v":143300}]
[{"$f":"Reserve!A81","v":66},{"$f":"IF(OR(A71=\"\",A71=BP),\"\",B70+1)","v":96},{"$f":"IF(B71=\"\",\"\",IF(A71<=PPP,GP!$N$1,0)*$A$2)","v":0},{"$f":"IF(B71=\"\",\"\",SUM($C$6:C71))","v":1000000},{"$f":"IF(B71=\"\",\"\",Reserve!AY82*$A$2*0.7)","v":0},{"$f":"IF(B71=\"\",\"\",Reserve!AZ82*$A$2*0.7)","v":2090.28430564197},{"$f":"IF(B71=\"\",\"\",Reserve!BA82*$A$2*0.7)","v":3657.99753487344},{"$f":"IF(B71=\"\",\"\",(GP!AB82+GP!AA82*GP!$D$10)*$A$2)","v":17340},{"$f":"IF(B71=\"\",\"\",GP!Z81*$A$2)","v":148640},{"$f":"IF(B71=\"\",\"\",CSV!AK82*$A$2)","v":131300}]
[{"$f":"Reserve!A82","v":67},97,{"$f":"IF(B72=\"\",\"\",IF(A72<=PPP,GP!$N$1,0)*$A$2)","v":0},{"$f":"IF(B72=\"\",\"\",SUM($C$6:C72))","v":1000000},{"$f":"IF(B72=\"\",\"\",Reserve!AY83*$A$2*0.7)","v":0},{"$f":"IF(B72=\"\",\"\",Reserve!AZ83*$A$2*0.7)","v":1909.53830289424},{"$f":"IF(B72=\"\",\"\",Reserve!BA83*$A$2*0.7)","v":3341.69203006491},{"$f":"IF(B72=\"\",\"\",(GP!AB83+GP!AA83*GP!$D$10)*$A$2)","v":17340},{"$f":"IF(B72=\"\",\"\",GP!Z82*$A$2)","v":136140},{"$f":"IF(B72=\"\",\"\",CSV!AK83*$A$2)","v":118800}]
[{"$f":"Reserve!A83","v":68},98,{"$f":"IF(B73=\"\",\"\",IF(A73<=PPP,GP!$N$1,0)*$A$2)","v":0},{"$f":"IF(B73=\"\",\"\",SUM($C$6:C73))","v":1000000},{"$f":"IF(B73=\"\",\"\",Reserve!AY84*$A$2*0.7)","v":0},{"$f":"IF(B73=\"\",\"\",Reserve!AZ84*$A$2*0.7)","v":1722.99075144105},{"$f":"IF(B73=\"\",\"\",Reserve!BA84*$A$2*0.7)","v":3015.23381502184},{"$f":"IF(B73=\"\",\"\",(GP!AB84+GP!AA84*GP!$D$10)*$A$2)","v":17340},{"$f":"IF(B73=\"\",\"\",GP!Z83*$A$2)","v":123140},{"$f":"IF(B73=\"\",\"\",CSV!AK84*$A$2)","v":105800}]
[{"$f":"Reserve!A84","v":69},99,{"$f":"IF(B74=\"\",\"\",IF(A74<=PPP,GP!$N$1,0)*$A$2)","v":0},{"$f":"IF(B74=\"\",\"\",SUM($C$6:C74))","v":1000000},{"$f":"IF(B74=\"\",\"\",Reserve!AY85*$A$2*0.7)","v":0},{"$f":"IF(B74=\"\",\"\",Reserve!AZ85*$A$2*0.7)","v":1530.43106139983},{"$f":"IF(B74=\"\",\"\",Reserve!BA85*$A$2*0.7)","v":2678.2543574497},{"$f":"IF(B74=\"\",\"\",(GP!AB85+GP!AA85*GP!$D$10)*$A$2)","v":17340},{"$f":"IF(B74=\"\",\"\",GP!Z84*$A$2)","v":109640},{"$f":"IF(B74=\"\",\"\",CSV!AK85*$A$2)","v":92300}]
[{"$f":"Reserve!A85","v":70},100,{"$f":"IF(B75=\"\",\"\",IF(A75<=PPP,GP!$N$1,0)*$A$2)","v":0},{"$f":"IF(B75=\"\",\"\",SUM($C$6:C75))","v":1000000},{"$f":"IF(B75=\"\",\"\",Reserve!AY86*$A$2*0.7)","v":0},{"$f":"IF(B75=\"\",\"\",Reserve!AZ86*$A$2*0.7)","v":1331.60668366848},{"$f":"IF(B75=\"\",\"\",Reserve!BA86*$A$2*0.7)","v":2330.31169641983},{"$f":"IF(B75=\"\",\"\",(GP!AB86+GP!AA86*GP!$D$10)*$A$2)","v":17340},{"$f":"IF(B75=\"\",\"\",GP!Z85*$A$2)","v":95640},{"$f":"IF(B75=\"\",\"\",CSV!AK86*$A$2)","v":78300}]
[{"$f":"Reserve!A86","v":71},101,{"$f":"IF(B76=\"\",\"\",IF(A76<=PPP,GP!$N$1,0)*$A$2)","v":0},{"$f":"IF(B76=\"\",\"\",SUM($C$6:C76))","v":1000000},{"$f":"IF(B76=\"\",\"\",Reserve!AY87*$A$2*0.7)","v":0},{"$f":"IF(B76=\"\",\"\",Reserve!AZ87*$A$2*0.7)","v":1126.18342512375},{"$f":"IF(B76=\"\",\"\",Reserve!BA87*$A$2*0.7)","v":1970.82099396656},{"$f":"IF(B76=\"\",\"\",(GP!AB87+GP!AA87*GP!$D$10)*$A$2)","v":17340},{"$f":"IF(B76=\"\",\"\",GP!Z86*$A$2)","v":81040},{"$f":"IF(B76=\"\",\"\",CSV!AK87*$A$2)","v":63700}]
[{"$f":"Reserve!A87","v":72},102,{"$f":"IF(B77=\"\",\"\",IF(A77<=PPP,GP!$N$1,0)*$A$2)","v":0},{"$f":"IF(B77=\"\",\"\",SUM($C$6:C77))","v":1000000},{"$f":"IF(B77=\"\",\"\",Reserve!AY88*$A$2*0.7)","v":0},{"$f":"IF(B77=\"\",\"\",Reserve!AZ88*$A$2*0.7)","v":914.357177933641},{"$f":"IF(B77=\"\",\"\",Reserve!BA88*$A$2*0.7)","v":1600.12506138387},{"$f":"IF(B77=\"\",\"\",(GP!AB88+GP!AA88*GP!$D$10)*$A$2)","v":17340},{"$f":"IF(B77=\"\",\"\",GP!Z87*$A$2)","v":65940},{"$f":"IF(B77=\"\",\"\",CSV!AK88*$A$2)","v":48600}]
[{"$f":"Reserve!A88","v":73},103,{"$f":"IF(B78=\"\",\"\",IF(A78<=PPP,GP!$N$1,0)*$A$2)","v":0},{"$f":"IF(B78=\"\",\"\",SUM($C$6:C78))","v":1000000},{"$f":"IF(B78=\"\",\"\",Reserve!AY89*$A$2*0.7)","v":0},{"$f":"IF(B78=\"\",\"\",Reserve!AZ89*$A$2*0.7)","v":695.879198244702},{"$f":"IF(B78=\"\",\"\",Reserve!BA89*$A$2*0.7)","v":1217.78859692823},{"$f":"IF(B78=\"\",\"\",(GP!AB89+GP!AA89*GP!$D$10)*$A$2)","v":17340},{"$f":"IF(B78=\"\",\"\",GP!Z88*$A$2)","v":50340},{"$f":"IF(B78=\"\",\"\",CSV!AK89*$A$2)","v":33000}]
[{"$f":"Reserve!A89","v":74},104,{"$f":"IF(B79=\"\",\"\",IF(A79<=PPP,GP!$N$1,0)*$A$2)","v":0},{"$f":"IF(B79=\"\",\"\",SUM($C$6:C79))","v":1000000},{"$f":"IF(B79=\"\",\"\",Reserve!AY90*$A$2*0.7)","v":0},{"$f":"IF(B79=\"\",\"\",Reserve!AZ90*$A$2*0.7)","v":470.368320480098},{"$f":"IF(B79=\"\",\"\",Reserve!BA90*$A$2*0.7)","v":823.144560840172},{"$f":"IF(B79=\"\",\"\",(GP!AB90+GP!AA90*GP!$D$10)*$A$2)","v":17340},{"$f":"IF(B79=\"\",\"\",GP!Z89*$A$2)","v":34140},{"$f":"IF(B79=\"\",\"\",CSV!AK90*$A$2)","v":16800}]
[{"$f":"Reserve!A90","v":75},105,{"$f":"IF(B80=\"\",\"\",IF(A80<=PPP,GP!$N$1,0)*$A$2)","v":0},{"$f":"IF(B80=\"\",\"\",SUM($C$6:C80))","v":1000000},{"$f":"IF(B80=\"\",\"\",Reserve!AY91*$A$2*0.7)","v":0},{"$f":"IF(B80=\"\",\"\",Reserve!AZ91*$A$2*0.7)","v":238.133850917179},{"$f":"IF(B80=\"\",\"\",Reserve!BA91*$A$2*0.7)","v":416.734239105063},{"$f":"IF(B80=\"\",\"\",(GP!AB91+GP!AA91*GP!$D$10)*$A$2)","v":17340},{"$f":"IF(B80=\"\",\"\",GP!Z90*$A$2)","v":17340},{"$f":"IF(B80=\"\",\"\",CSV!AK91*$A$2)","v":0}]
[{"$f":"Reserve!A91","v":76},"",{"$f":"IF(B81=\"\",\"\",IF(A81<=PPP,GP!$N$1,0)*$A$2)","v":""},{"$f":"IF(B81=\"\",\"\",SUM($C$6:C81))","v":""},{"$f":"IF(B81=\"\",\"\",Reserve!AY92*$A$2*0.7)","v":""},{"$f":"IF(B81=\"\",\"\",Reserve!AZ92*$A$2*0.7)","v":""},{"$f":"IF(B81=\"\",\"\",Reserve!BA92*$A$2*0.7)","v":""},{"$f":"IF(B81=\"\",\"\",(GP!AB92+GP!AA92*GP!$D$10)*$A$2)","v":""},{"$f":"IF(B81=\"\",\"\",GP!Z91*$A$2)","v":""},{"$f":"IF(B81=\"\",\"\",CSV!AK92*$A$2)","v":""}]
[{"$f":"Reserve!A92","v":""},"",{"$f":"IF(B82=\"\",\"\",IF(A82<=PPP,GP!$N$1,0)*$A$2)","v":""},{"$f":"IF(B82=\"\",\"\",SUM($C$6:C82))","v":""},{"$f":"IF(B82=\"\",\"\",Reserve!AY93*$A$2*0.7)","v":""},{"$f":"IF(B82=\"\",\"\",Reserve!AZ93*$A$2*0.7)","v":""},{"$f":"IF(B82=\"\",\"\",Reserve!BA93*$A$2*0.7)","v":""},{"$f":"IF(B82=\"\",\"\",(GP!AB93+GP!AA93*GP!$D$10)*$A$2)","v":""},{"$f":"IF(B82=\"\",\"\",GP!Z92*$A$2)","v":""},{"$f":"IF(B82=\"\",\"\",CSV!AK93*$A$2)","v":""}]
[{"$f":"Reserve!A93","v":""},"",{"$f":"IF(B83=\"\",\"\",IF(A83<=PPP,GP!$N$1,0)*$A$2)","v":""},{"$f":"IF(B83=\"\",\"\",SUM($C$6:C83))","v":""},{"$f":"IF(B83=\"\",\"\",Reserve!AY94*$A$2*0.7)","v":""},{"$f":"IF(B83=\"\",\"\",Reserve!AZ94*$A$2*0.7)","v":""},{"$f":"IF(B83=\"\",\"\",Reserve!BA94*$A$2*0.7)","v":""},{"$f":"IF(B83=\"\",\"\",(GP!AB94+GP!AA94*GP!$D$10)*$A$2)","v":""},{"$f":"IF(B83=\"\",\"\",GP!Z93*$A$2)","v":""},{"$f":"IF(B83=\"\",\"\",CSV!AK94*$A$2)","v":""}]
[{"$f":"Reserve!A94","v":""},"",{"$f":"IF(B84=\"\",\"\",IF(A84<=PPP,GP!$N$1,0)*$A$2)","v":""},{"$f":"IF(B84=\"\",\"\",SUM($C$6:C84))","v":""},{"$f":"IF(B84=\"\",\"\",Reserve!AY95*$A$2*0.7)","v":""},{"$f":"IF(B84=\"\",\"\",Reserve!AZ95*$A$2*0.7)","v":""},{"$f":"IF(B84=\"\",\"\",Reserve!BA95*$A$2*0.7)","v":""},{"$f":"IF(B84=\"\",\"\",(GP!AB95+GP!AA95*GP!$D$10)*$A$2)","v":""},{"$f":"IF(B84=\"\",\"\",GP!Z94*$A$2)","v":""},{"$f":"IF(B84=\"\",\"\",CSV!AK95*$A$2)","v":""}]
[{"$f":"Reserve!A95","v":""},"",{"$f":"IF(B85=\"\",\"\",IF(A85<=PPP,GP!$N$1,0)*$A$2)","v":""},{"$f":"IF(B85=\"\",\"\",SUM($C$6:C85))","v":""},{"$f":"IF(B85=\"\",\"\",Reserve!AY96*$A$2*0.7)","v":""},{"$f":"IF(B85=\"\",\"\",Reserve!AZ96*$A$2*0.7)","v":""},{"$f":"IF(B85=\"\",\"\",Reserve!BA96*$A$2*0.7)","v":""},{"$f":"IF(B85=\"\",\"\",(GP!AB96+GP!AA96*GP!$D$10)*$A$2)","v":""},{"$f":"IF(B85=\"\",\"\",GP!Z95*$A$2)","v":""},{"$f":"IF(B85=\"\",\"\",CSV!AK96*$A$2)","v":""}]
[{"$f":"Reserve!A96","v":""},"",{"$f":"IF(B86=\"\",\"\",IF(A86<=PPP,GP!$N$1,0)*$A$2)","v":""},{"$f":"IF(B86=\"\",\"\",SUM($C$6:C86))","v":""},{"$f":"IF(B86=\"\",\"\",Reserve!AY97*$A$2*0.7)","v":""},{"$f":"IF(B86=\"\",\"\",Reserve!AZ97*$A$2*0.7)","v":""},{"$f":"IF(B86=\"\",\"\",Reserve!BA97*$A$2*0.7)","v":""},{"$f":"IF(B86=\"\",\"\",(GP!AB97+GP!AA97*GP!$D$10)*$A$2)","v":""},{"$f":"IF(B86=\"\",\"\",GP!Z96*$A$2)","v":""},{"$f":"IF(B86=\"\",\"\",CSV!AK97*$A$2)","v":""}]
[{"$f":"Reserve!A97","v":""},"",{"$f":"IF(B87=\"\",\"\",IF(A87<=PPP,GP!$N$1,0)*$A$2)","v":""},{"$f":"IF(B87=\"\",\"\",SUM($C$6:C87))","v":""},{"$f":"IF(B87=\"\",\"\",Reserve!AY98*$A$2*0.7)","v":""},{"$f":"IF(B87=\"\",\"\",Reserve!AZ98*$A$2*0.7)","v":""},{"$f":"IF(B87=\"\",\"\",Reserve!BA98*$A$2*0.7)","v":""},{"$f":"IF(B87=\"\",\"\",(GP!AB98+GP!AA98*GP!$D$10)*$A$2)","v":""},{"$f":"IF(B87=\"\",\"\",GP!Z97*$A$2)","v":""},{"$f":"IF(B87=\"\",\"\",CSV!AK98*$A$2)","v":""}]
[{"$f":"Reserve!A98","v":""},"",{"$f":"IF(B88=\"\",\"\",IF(A88<=PPP,GP!$N$1,0)*$A$2)","v":""},{"$f":"IF(B88=\"\",\"\",SUM($C$6:C88))","v":""},{"$f":"IF(B88=\"\",\"\",Reserve!AY99*$A$2*0.7)","v":""},{"$f":"IF(B88=\"\",\"\",Reserve!AZ99*$A$2*0.7)","v":""},{"$f":"IF(B88=\"\",\"\",Reserve!BA99*$A$2*0.7)","v":""},{"$f":"IF(B88=\"\",\"\",(GP!AB99+GP!AA99*GP!$D$10)*$A$2)","v":""},{"$f":"IF(B88=\"\",\"\",GP!Z98*$A$2)","v":""},{"$f":"IF(B88=\"\",\"\",CSV!AK99*$A$2)","v":""}]
[{"$f":"Reserve!A99","v":""},"",{"$f":"IF(B89=\"\",\"\",IF(A89<=PPP,GP!$N$1,0)*$A$2)","v":""},{"$f":"IF(B89=\"\",\"\",SUM($C$6:C89))","v":""},{"$f":"IF(B89=\"\",\"\",Reserve!AY100*$A$2*0.7)","v":""},{"$f":"IF(B89=\"\",\"\",Reserve!AZ100*$A$2*0.7)","v":""},{"$f":"IF(B89=\"\",\"\",Reserve!BA100*$A$2*0.7)","v":""},{"$f":"IF(B89=\"\",\"\",(GP!AB100+GP!AA100*GP!$D$10)*$A$2)","v":""},{"$f":"IF(B89=\"\",\"\",GP!Z99*$A$2)","v":""},{"$f":"IF(B89=\"\",\"\",CSV!AK100*$A$2)","v":""}]
[{"$f":"Reserve!A100","v":""},"",{"$f":"IF(B90=\"\",\"\",IF(A90<=PPP,GP!$N$1,0)*$A$2)","v":""},{"$f":"IF(B90=\"\",\"\",SUM($C$6:C90))","v":""},{"$f":"IF(B90=\"\",\"\",Reserve!AY101*$A$2*0.7)","v":""},{"$f":"IF(B90=\"\",\"\",Reserve!AZ101*$A$2*0.7)","v":""},{"$f":"IF(B90=\"\",\"\",Reserve!BA101*$A$2*0.7)","v":""},{"$f":"IF(B90=\"\",\"\",(GP!AB101+GP!AA101*GP!$D$10)*$A$2)","v":""},{"$f":"IF(B90=\"\",\"\",GP!Z100*$A$2)","v":""},{"$f":"IF(B90=\"\",\"\",CSV!AK101*$A$2)","v":""}]
[{"$f":"Reserve!A101","v":""},"",{"$f":"IF(B91=\"\",\"\",IF(A91<=PPP,GP!$N$1,0)*$A$2)","v":""},{"$f":"IF(B91=\"\",\"\",SUM($C$6:C91))","v":""},{"$f":"IF(B91=\"\",\"\",Reserve!AY102*$A$2*0.7)","v":""},{"$f":"IF(B91=\"\",\"\",Reserve!AZ102*$A$2*0.7)","v":""},{"$f":"IF(B91=\"\",\"\",Reserve!BA102*$A$2*0.7)","v":""},{"$f":"IF(B91=\"\",\"\",(GP!AB102+GP!AA102*GP!$D$10)*$A$2)","v":""},{"$f":"IF(B91=\"\",\"\",GP!Z101*$A$2)","v":""},{"$f":"IF(B91=\"\",\"\",CSV!AK102*$A$2)","v":""}]
[{"$f":"Reserve!A102","v":""},"",{"$f":"IF(B92=\"\",\"\",IF(A92<=PPP,GP!$N$1,0)*$A$2)","v":""},{"$f":"IF(B92=\"\",\"\",SUM($C$6:C92))","v":""},{"$f":"IF(B92=\"\",\"\",Reserve!AY103*$A$2*0.7)","v":""},{"$f":"IF(B92=\"\",\"\",Reserve!AZ103*$A$2*0.7)","v":""},{"$f":"IF(B92=\"\",\"\",Reserve!BA103*$A$2*0.7)","v":""},{"$f":"IF(B92=\"\",\"\",(GP!AB103+GP!AA103*GP!$D$10)*$A$2)","v":""},{"$f":"IF(B92=\"\",\"\",GP!Z102*$A$2)","v":""},{"$f":"IF(B92=\"\",\"\",CSV!AK103*$A$2)","v":""}]
[{"$f":"Reserve!A103","v":""},"",{"$f":"IF(B93=\"\",\"\",IF(A93<=PPP,GP!$N$1,0)*$A$2)","v":""},{"$f":"IF(B93=\"\",\"\",SUM($C$6:C93))","v":""},{"$f":"IF(B93=\"\",\"\",Reserve!AY104*$A$2*0.7)","v":""},{"$f":"IF(B93=\"\",\"\",Reserve!AZ104*$A$2*0.7)","v":""},{"$f":"IF(B93=\"\",\"\",Reserve!BA104*$A$2*0.7)","v":""},{"$f":"IF(B93=\"\",\"\",(GP!AB104+GP!AA104*GP!$D$10)*$A$2)","v":""},{"$f":"IF(B93=\"\",\"\",GP!Z103*$A$2)","v":""},{"$f":"IF(B93=\"\",\"\",CSV!AK104*$A$2)","v":""}]
[{"$f":"Reserve!A104","v":""},"",{"$f":"IF(B94=\"\",\"\",IF(A94<=PPP,GP!$N$1,0)*$A$2)","v":""},{"$f":"IF(B94=\"\",\"\",SUM($C$6:C94))","v":""},{"$f":"IF(B94=\"\",\"\",Reserve!AY105*$A$2*0.7)","v":""},{"$f":"IF(B94=\"\",\"\",Reserve!AZ105*$A$2*0.7)","v":""},{"$f":"IF(B94=\"\",\"\",Reserve!BA105*$A$2*0.7)","v":""},{"$f":"IF(B94=\"\",\"\",(GP!AB105+GP!AA105*GP!$D$10)*$A$2)","v":""},{"$f":"IF(B94=\"\",\"\",GP!Z104*$A$2)","v":""},{"$f":"IF(B94=\"\",\"\",CSV!AK105*$A$2)","v":""}]
[{"$f":"Reserve!A105","v":""},"",{"$f":"IF(B95=\"\",\"\",IF(A95<=PPP,GP!$N$1,0)*$A$2)","v":""},{"$f":"IF(B95=\"\",\"\",SUM($C$6:C95))","v":""},{"$f":"IF(B95=\"\",\"\",Reserve!AY106*$A$2*0.7)","v":""},{"$f":"IF(B95=\"\",\"\",Reserve!AZ106*$A$2*0.7)","v":""},{"$f":"IF(B95=\"\",\"\",Reserve!BA106*$A$2*0.7)","v":""},{"$f":"IF(B95=\"\",\"\",(GP!AB106+GP!AA106*GP!$D$10)*$A$2)","v":""},{"$f":"IF(B95=\"\",\"\",GP!Z105*$A$2)","v":""},{"$f":"IF(B95=\"\",\"\",CSV!AK106*$A$2)","v":""}]
[{"$f":"Reserve!A106","v":""},"",{"$f":"IF(B96=\"\",\"\",IF(A96<=PPP,GP!$N$1,0)*$A$2)","v":""},{"$f":"IF(B96=\"\",\"\",SUM($C$6:C96))","v":""},{"$f":"IF(B96=\"\",\"\",Reserve!AY107*$A$2*0.7)","v":""},{"$f":"IF(B96=\"\",\"\",Reserve!AZ107*$A$2*0.7)","v":""},{"$f":"IF(B96=\"\",\"\",Reserve!BA107*$A$2*0.7)","v":""},{"$f":"IF(B96=\"\",\"\",(GP!AB107+GP!AA107*GP!$D$10)*$A$2)","v":""},{"$f":"IF(B96=\"\",\"\",GP!Z106*$A$2)","v":""},{"$f":"IF(B96=\"\",\"\",CSV!AK107*$A$2)","v":""}]
[{"$f":"Reserve!A107","v":""},"",{"$f":"IF(B97=\"\",\"\",IF(A97<=PPP,GP!$N$1,0)*$A$2)","v":""},{"$f":"IF(B97=\"\",\"\",SUM($C$6:C97))","v":""},{"$f":"IF(B97=\"\",\"\",Reserve!AY108*$A$2*0.7)","v":""},{"$f":"IF(B97=\"\",\"\",Reserve!AZ108*$A$2*0.7)","v":""},{"$f":"IF(B97=\"\",\"\",Reserve!BA108*$A$2*0.7)","v":""},{"$f":"IF(B97=\"\",\"\",(GP!AB108+GP!AA108*GP!$D$10)*$A$2)","v":""},{"$f":"IF(B97=\"\",\"\",GP!Z107*$A$2)","v":""},{"$f":"IF(B97=\"\",\"\",CSV!AK108*$A$2)","v":""}]
[{"$f":"Reserve!A108","v":""},"",{"$f":"IF(B98=\"\",\"\",IF(A98<=PPP,GP!$N$1,0)*$A$2)","v":""},{"$f":"IF(B98=\"\",\"\",SUM($C$6:C98))","v":""},{"$f":"IF(B98=\"\",\"\",Reserve!AY109*$A$2*0.7)","v":""},{"$f":"IF(B98=\"\",\"\",Reserve!AZ109*$A$2*0.7)","v":""},{"$f":"IF(B98=\"\",\"\",Reserve!BA109*$A$2*0.7)","v":""},{"$f":"IF(B98=\"\",\"\",(GP!AB109+GP!AA109*GP!$D$10)*$A$2)","v":""},{"$f":"IF(B98=\"\",\"\",GP!Z108*$A$2)","v":""},{"$f":"IF(B98=\"\",\"\",CSV!AK109*$A$2)","v":""}]
[{"$f":"Reserve!A109","v":""},"",{"$f":"IF(B99=\"\",\"\",IF(A99<=PPP,GP!$N$1,0)*$A$2)","v":""},{"$f":"IF(B99=\"\",\"\",SUM($C$6:C99))","v":""},{"$f":"IF(B99=\"\",\"\",Reserve!AY110*$A$2*0.7)","v":""},{"$f":"IF(B99=\"\",\"\",Reserve!AZ110*$A$2*0.7)","v":""},{"$f":"IF(B99=\"\",\"\",Reserve!BA110*$A$2*0.7)","v":""},{"$f":"IF(B99=\"\",\"\",(GP!AB110+GP!AA110*GP!$D$10)*$A$2)","v":""},{"$f":"IF(B99=\"\",\"\",GP!Z109*$A$2)","v":""},{"$f":"IF(B99=\"\",\"\",CSV!AK110*$A$2)","v":""}]
[{"$f":"Reserve!A110","v":""},"",{"$f":"IF(B100=\"\",\"\",IF(A100<=PPP,GP!$N$1,0)*$A$2)","v":""},{"$f":"IF(B100=\"\",\"\",SUM($C$6:C100))","v":""},{"$f":"IF(B100=\"\",\"\",Reserve!AY111*$A$2*0.7)","v":""},{"$f":"IF(B100=\"\",\"\",Reserve!AZ111*$A$2*0.7)","v":""},{"$f":"IF(B100=\"\",\"\",Reserve!BA111*$A$2*0.7)","v":""},{"$f":"IF(B100=\"\",\"\",(GP!AB111+GP!AA111*GP!$D$10)*$A$2)","v":""},{"$f":"IF(B100=\"\",\"\",GP!Z110*$A$2)","v":""},{"$f":"IF(B100=\"\",\"\",CSV!AK111*$A$2)","v":""}]
[{"$f":"Reserve!A111","v":""},"",{"$f":"IF(B101=\"\",\"\",IF(A101<=PPP,GP!$N$1,0)*$A$2)","v":""},{"$f":"IF(B101=\"\",\"\",SUM($C$6:C101))","v":""},{"$f":"IF(B101=\"\",\"\",Reserve!AY112*$A$2*0.7)","v":""},{"$f":"IF(B101=\"\",\"\",Reserve!AZ112*$A$2*0.7)","v":""},{"$f":"IF(B101=\"\",\"\",Reserve!BA112*$A$2*0.7)","v":""},{"$f":"IF(B101=\"\",\"\",(GP!AB112+GP!AA112*GP!$D$10)*$A$2)","v":""},{"$f":"IF(B101=\"\",\"\",GP!Z111*$A$2)","v":""},{"$f":"IF(B101=\"\",\"\",CSV!AK112*$A$2)","v":""}]
[{"$f":"Reserve!A112","v":""},"",{"$f":"IF(B102=\"\",\"\",IF(A102<=PPP,GP!$N$1,0)*$A$2)","v":""},{"$f":"IF(B102=\"\",\"\",SUM($C$6:C102))","v":""},{"$f":"IF(B102=\"\",\"\",Reserve!AY113*$A$2*0.7)","v":""},{"$f":"IF(B102=\"\",\"\",Reserve!AZ113*$A$2*0.7)","v":""},{"$f":"IF(B102=\"\",\"\",Reserve!BA113*$A$2*0.7)","v":""},{"$f":"IF(B102=\"\",\"\",(GP!AB113+GP!AA113*GP!$D$10)*$A$2)","v":""},{"$f":"IF(B102=\"\",\"\",GP!Z112*$A$2)","v":""},{"$f":"IF(B102=\"\",\"\",CSV!AK113*$A$2)","v":""}]
[{"$f":"Reserve!A113","v":""},{"$f":"IF(OR(A103=\"\",A103=BP),\"\",B102+1)","v":""},{"$f":"IF(B103=\"\",\"\",IF(A103<=PPP,GP!$N$1,0)*$A$2)","v":""},{"$f":"IF(B103=\"\",\"\",SUM($C$6:C103))","v":""},{"$f":"IF(B103=\"\",\"\",Reserve!AY114*$A$2*0.7)","v":""},{"$f":"IF(B103=\"\",\"\",Reserve!AZ114*$A$2*0.7)","v":""},{"$f":"IF(B103=\"\",\"\",Reserve!BA114*$A$2*0.7)","v":""},{"$f":"IF(B103=\"\",\"\",(GP!AB114+GP!AA114*GP!$D$10)*$A$2)","v":""},{"$f":"IF(B103=\"\",\"\",GP!Z113*$A$2)","v":""},{"$f":"IF(B103=\"\",\"\",CSV!AK114*$A$2)","v":""}]
[{"$f":"Reserve!A114","v":""},"",{"$f":"IF(B104=\"\",\"\",IF(A104<=PPP,GP!$N$1,0)*$A$2)","v":""},{"$f":"IF(B104=\"\",\"\",SUM($C$6:C104))","v":""},{"$f":"IF(B104=\"\",\"\",Reserve!AY115*$A$2*0.7)","v":""},{"$f":"IF(B104=\"\",\"\",Reserve!AZ115*$A$2*0.7)","v":""},{"$f":"IF(B104=\"\",\"\",Reserve!BA115*$A$2*0.7)","v":""},{"$f":"IF(B104=\"\",\"\",(GP!AB115+GP!AA115*GP!$D$10)*$A$2)","v":""},{"$f":"IF(B104=\"\",\"\",GP!Z114*$A$2)","v":""},{"$f":"IF(B104=\"\",\"\",CSV!AK115*$A$2)","v":""}]
[{"$f":"Reserve!A115","v":""},"",{"$f":"IF(B105=\"\",\"\",IF(A105<=PPP,GP!$N$1,0)*$A$2)","v":""},{"$f":"IF(B105=\"\",\"\",SUM($C$6:C105))","v":""},{"$f":"IF(B105=\"\",\"\",Reserve!AY116*$A$2*0.7)","v":""},{"$f":"IF(B105=\"\",\"\",Reserve!AZ116*$A$2*0.7)","v":""},{"$f":"IF(B105=\"\",\"\",Reserve!BA116*$A$2*0.7)","v":""},{"$f":"IF(B105=\"\",\"\",(GP!AB116+GP!AA116*GP!$D$10)*$A$2)","v":""},{"$f":"IF(B105=\"\",\"\",GP!Z115*$A$2)","v":""},{"$f":"IF(B105=\"\",\"\",CSV!AK116*$A$2)","v":""}]
[{"$f":"Reserve!A116","v":""},"",{"$f":"IF(B106=\"\",\"\",IF(A106<=PPP,GP!$N$1,0)*$A$2)","v":""},{"$f":"IF(B106=\"\",\"\",SUM($C$6:C106))","v":""},{"$f":"IF(B106=\"\",\"\",Reserve!AY117*$A$2*0.7)","v":""},{"$f":"IF(B106=\"\",\"\",Reserve!AZ117*$A$2*0.7)","v":""},{"$f":"IF(B106=\"\",\"\",Reserve!BA117*$A$2*0.7)","v":""},{"$f":"IF(B106=\"\",\"\",(GP!AB117+GP!AA117*GP!$D$10)*$A$2)","v":""},{"$f":"IF(B106=\"\",\"\",GP!Z116*$A$2)","v":""},{"$f":"IF(B106=\"\",\"\",CSV!AK117*$A$2)","v":""}]
[{"$f":"Reserve!A117","v":""},"",{"$f":"IF(B107=\"\",\"\",IF(A107<=PPP,GP!$N$1,0)*$A$2)","v":""},{"$f":"IF(B107=\"\",\"\",SUM($C$6:C107))","v":""},{"$f":"IF(B107=\"\",\"\",Reserve!AY118*$A$2*0.7)","v":""},{"$f":"IF(B107=\"\",\"\",Reserve!AZ118*$A$2*0.7)","v":""},{"$f":"IF(B107=\"\",\"\",Reserve!BA118*$A$2*0.7)","v":""},{"$f":"IF(B107=\"\",\"\",(GP!AB118+GP!AA118*GP!$D$10)*$A$2)","v":""},{"$f":"IF(B107=\"\",\"\",GP!Z117*$A$2)","v":""},{"$f":"IF(B107=\"\",\"\",CSV!AK118*$A$2)","v":""}]
[{"$f":"Reserve!A118","v":""},"",{"$f":"IF(B108=\"\",\"\",IF(A108<=PPP,GP!$N$1,0)*$A$2)","v":""},{"$f":"IF(B108=\"\",\"\",SUM($C$6:C108))","v":""},{"$f":"IF(B108=\"\",\"\",Reserve!AY119*$A$2*0.7)","v":""},{"$f":"IF(B108=\"\",\"\",Reserve!AZ119*$A$2*0.7)","v":""},{"$f":"IF(B108=\"\",\"\",Reserve!BA119*$A$2*0.7)","v":""},{"$f":"IF(B108=\"\",\"\",(GP!AB119+GP!AA119*GP!$D$10)*$A$2)","v":""},{"$f":"IF(B108=\"\",\"\",GP!Z118*$A$2)","v":""},{"$f":"IF(B108=\"\",\"\",CSV!AK119*$A$2)","v":""}]
[{"$f":"Reserve!A119","v":""},"",{"$f":"IF(B109=\"\",\"\",IF(A109<=PPP,GP!$N$1,0)*$A$2)","v":""},{"$f":"IF(B109=\"\",\"\",SUM($C$6:C109))","v":""},{"$f":"IF(B109=\"\",\"\",Reserve!AY120*$A$2*0.7)","v":""},{"$f":"IF(B109=\"\",\"\",Reserve!AZ120*$A$2*0.7)","v":""},{"$f":"IF(B109=\"\",\"\",Reserve!BA120*$A$2*0.7)","v":""},{"$f":"IF(B109=\"\",\"\",(GP!AB120+GP!AA120*GP!$D$10)*$A$2)","v":""},{"$f":"IF(B109=\"\",\"\",GP!Z119*$A$2)","v":""},{"$f":"IF(B109=\"\",\"\",CSV!AK120*$A$2)","v":""}]
[{"$f":"Reserve!A120","v":""},"",{"$f":"IF(B110=\"\",\"\",IF(A110<=PPP,GP!$N$1,0)*$A$2)","v":""},{"$f":"IF(B110=\"\",\"\",SUM($C$6:C110))","v":""},{"$f":"IF(B110=\"\",\"\",Reserve!AY121*$A$2*0.7)","v":""},{"$f":"IF(B110=\"\",\"\",Reserve!AZ121*$A$2*0.7)","v":""},{"$f":"IF(B110=\"\",\"\",Reserve!BA121*$A$2*0.7)","v":""},{"$f":"IF(B110=\"\",\"\",(GP!AB121+GP!AA121*GP!$D$10)*$A$2)","v":""},{"$f":"IF(B110=\"\",\"\",GP!Z120*$A$2)","v":""},{"$f":"IF(B110=\"\",\"\",CSV!AK121*$A$2)","v":""}]
[{"$f":"Reserve!A121","v":""},"",{"$f":"IF(B111=\"\",\"\",IF(A111<=PPP,GP!$N$1,0)*$A$2)","v":""},{"$f":"IF(B111=\"\",\"\",SUM($C$6:C111))","v":""},{"$f":"IF(B111=\"\",\"\",Reserve!AY122*$A$2*0.7)","v":""},{"$f":"IF(B111=\"\",\"\",Reserve!AZ122*$A$2*0.7)","v":""},{"$f":"IF(B111=\"\",\"\",Reserve!BA122*$A$2*0.7)","v":""},{"$f":"IF(B111=\"\",\"\",(GP!AB122+GP!AA122*GP!$D$10)*$A$2)","v":""},{"$f":"IF(B111=\"\",\"\",GP!Z121*$A$2)","v":""},{"$f":"IF(B111=\"\",\"\",CSV!AK122*$A$2)","v":""}]
[{"$f":"Reserve!A122","v":""},"",{"$f":"IF(B112=\"\",\"\",IF(A112<=PPP,GP!$N$1,0)*$A$2)","v":""},{"$f":"IF(B112=\"\",\"\",SUM($C$6:C112))","v":""},{"$f":"IF(B112=\"\",\"\",Reserve!AY123*$A$2*0.7)","v":""},{"$f":"IF(B112=\"\",\"\",Reserve!AZ123*$A$2*0.7)","v":""},{"$f":"IF(B112=\"\",\"\",Reserve!BA123*$A$2*0.7)","v":""},{"$f":"IF(B112=\"\",\"\",(GP!AB123+GP!AA123*GP!$D$10)*$A$2)","v":""},{"$f":"IF(B112=\"\",\"\",GP!Z122*$A$2)","v":""},{"$f":"IF(B112=\"\",\"\",CSV!AK123*$A$2)","v":""}]

{"sheet":"万能利益演示","index":16,"n_rows":114,"n_cols":34,"rows_kept":114,"cut":false,"hidden":true,"merged":[[1,2,1,4],[1,9,1,11],[1,13,1,15],[1,17,1,19],[1,20,1,22],[1,23,1,25],[113,9,113,11],[113,20,113,22],[113,23,113,25],[1,0,3,0],[112,0,113,0],[1,1,3,1],[112,1,113,1],[2,2,3,2],[2,3,3,3],[112,3,113,3],[2,4,3,4],[112,4,113,4],[1,5,3,5],[112,5,113,5],[1,6,3,6],[112,6,113,6],[1,7,3,7],[112,7,113,7],[1,8,3,8],[112,8,113,8],[2,9,3,9],[2,10,3,10],[2,11,3,11],[1,12,3,12],[112,12,113,12],[2,13,3,13],[112,13,113,13],[2,14,3,14],[112,14,113,14],[2,15,3,15],[112,15,113,15],[1,16,3,16],[112,16,113,16],[2,17,3,17],[112,17,113,17],[2,18,3,18],[112,18,113,18],[2,19,3,19],[112,19,113,19],[2,20,3,20],[2,21,3,21],[2,22,3,22],[2,23,3,23],[2,24,3,24],[2,25,3,25],[1,27,3,27],[1,28,3,28],[1,29,3,29],[112,29,113,29]]}
["《泰康嘉福1号终身寿险（万能型）》利益演示表",null,null,null,null,null,null,null,null,null,null,null,null,null,null,null,null,null,null,null,null,null,null,null,null,null,null,"万能险基础数据"]
["保单年度","被保险人年度末年龄","当年度保险费",null,null,"累计\n保险费","初始费用","持续奖金","进入万能\n保单账户\n的价值","风险保险金额",null,null,"可选基本保险金额","保障成本",null,null,"年度末部分领取","年度末保单账户价值",null,null,"年度末身故保险金",null,null,"年度末现金价值",null,null,null,"保单年度","被保险人年度末年龄","单位基本保额的保障成本"]
[null,null,"转入\n保险费","趸交              保险费","追加\n保险费",null,null,null,null,"万能收益演示（低）","万能收益演示（中）","万能收益演示（高）",null,"万能收益演示（低）","万能收益演示（中）","万能收益演示（高）",null,"万能收益演示（低）","万能收益演示（中）","万能收益演示（高）","万能收益演示（低）","万能收益演示（中）","万能收益演示（高）","万能收益演示（低）","万能收益演示（中）","万能收益演示（高）"]
[]
["X2","X","A","B","C","D","E","Z","F","G","H","I","J","K","L","M","N","O","P","Q","R","S","T","U","V","W",null,null,null,"Y",null,null,"男","女"]
[{"$f":"Reserve!A16","v":1},{"$f":"IF(OR(A6=\"\",A6=BP),\"\",Age+1)","v":31},0,{"$f":"年金万能利益演示!D11","v":10},{"$f":"年金万能利益演示!E11","v":0},{"$f":"IF(B6=\"\",\"\",IF(A6=1,SUM(C6:E6),SUM(C6:E6)+F5))","v":10},{"$f":"IF(B6=\"\",\"\",C6*1%+(D6+E6)*3%)","v":0.3},{"$f":"IF(B6=\"\",\"\",IF(A6<7,0,C1*1%))","v":0},{"$f":"IF(B6=\"\",\"\",C6+D6+E6-G6+H6)","v":9.7},{"$f":"IF(B6=\"\",\"\",IF(A6=1,I6,R5+I6)*IF(B6<19,0,IF(B6<42,0.6,IF(B6<62,0.4,0.2))))","v":5.82},{"$f":"IF(B6=\"\",\"\",IF(A6=1,I6,S5+I6)*IF(B6<19,0,IF(B6<42,0.6,IF(B6<62,0.4,0.2))))","v":5.82},{"$f":"IF(B6=\"\",\"\",IF(A6=1,I6,T5+I6)*IF(B6<19,0,IF(B6<42,0.6,IF(B6<62,0.4,0.2))))","v":5.82},null,{"$f":"IF(B6=\"\",\"\",J6*AD6*IF(B6>75,0,1)+M6*AD6)","v":0.003533904},{"$f":"IF(B6=\"\",\"\",K6*AD6*IF(B6>75,0,1)+M6*AD6)","v":0.003533904},{"$f":"IF(B6=\"\",\"\",L6*AD6*IF(B6>75,0,1)+M6*AD6)","v":0.003533904},{"$f":"年金万能利益演示!P11","v":0},{"$f":"IF(B6=\"\",\"\",IF(A6=1,I6-N6,R5+I6-N6)*(1+2.5%)-Q6)","v":9.9388777484},{"$f":"IF(B6=\"\",\"\",IF(A6=1,I6-O6,S5+I6-O6)*(1+4.5%)-Q6)","v":10.13280707032},{"$f":"IF(B6=\"\",\"\",IF(A6=1,I6-P6,T5+I6-P6)*(1+6%)-Q6)","v":10.27825406176},{"$f":"IF(B6=\"\",\"\",R6*IF(B6<19,1,IF(B6<42,1.6,IF(B6<62,1.4,1.2)))+M6)","v":15.90220439744},{"$f":"IF(B6=\"\",\"\",S6*IF(B6<19,1,IF(B6<42,1.6,IF(B6<62,1.4,1.2)))+M6)","v":16.212491312512},{"$f":"IF(B6=\"\",\"\",T6*IF(B6<19,1,IF(B6<42,1.6,IF(B6<62,1.4,1.2)))+M6)","v":16.445206498816},{"$f":"R6*(1-5%)","v":9.44193386098},{"$f":"S6*(1-5%)","v":9.626166716804},9.764341358672,null,{"$f":"A6","v":1},{"$f":"B6","v":31},{"$f":"IF(AC6=\"\",0,VLOOKUP(AC6-1,AF:AH,IF(Sex=\"M\",2,3),FALSE))","v":0.0006072},null,0,0.0005016,0.00046]
[{"$f":"Reserve!A17","v":2},{"$f":"IF(OR(A7=\"\",A7=BP),\"\",B6+1)","v":32},{"$f":"IF(B7=\"\",\"\",年金利益演示!H6+IF(年金万能利益演示!$E$1=\"中\",年金利益演示!F6,IF(年金万能利益演示!$E$1=\"低\",年金利益演示!E6,年金利益演示!G6)))","v":762.891223835037},null,{"$f":"年金万能利益演示!E12","v":0},{"$f":"IF(B7=\"\",\"\",IF(A7=1,SUM(C7:E7),SUM(C7:E7)+F6))","v":772.891223835037},{"$f":"IF(B7=\"\",\"\",C7*1%+(D7+E7)*3%)","v":7.62891223835037},{"$f":"IF(B7=\"\",\"\",IF(A7<7,0,C2*1%))","v":0},{"$f":"IF(B7=\"\",\"\",C7+D7+E7-G7+H7)","v":755.262311596686},{"$f":"IF(B7=\"\",\"\",IF(A7=1,I7,R6+I7)*IF(B7<19,0,IF(B7<42,0.6,IF(B7<62,0.4,0.2))))","v":459.120713607052},459.237071200204,459.324339395068,null,{"$f":"IF(B7=\"\",\"\",J7*AD7*IF(B7>75,0,1)+M7*AD7)","v":0.289429697857885},{"$f":"IF(B7=\"\",\"\",K7*AD7*IF(B7>75,0,1)+M7*AD7)","v":0.289503049684608},{"$f":"IF(B7=\"\",\"\",L7*AD7*IF(B7>75,0,1)+M7*AD7)","v":0.289558063554651},{"$f":"年金万能利益演示!P12","v":0},784.034553638409,799.535368320101,811.166068050585,{"$f":"IF(B7=\"\",\"\",R7*IF(B7<19,1,IF(B7<42,1.6,IF(B7<62,1.4,1.2)))+M7)","v":1254.45528582145},{"$f":"IF(B7=\"\",\"\",S7*IF(B7<19,1,IF(B7<42,1.6,IF(B7<62,1.4,1.2)))+M7)","v":1279.25658931216},{"$f":"IF(B7=\"\",\"\",T7*IF(B7<19,1,IF(B7<42,1.6,IF(B7<62,1.4,1.2)))+M7)","v":1297.86570888094},{"$f":"R7*(1-4%)","v":752.673171492873},{"$f":"S7*(1-4%)","v":767.553953587297},778.719425328562,null,{"$f":"A7","v":2},{"$f":"B7","v":32},0.0006304,null,1,0.00042,0.0003728]
[{"$f":"Reserve!A18","v":3},33,{"$f":"IF(B8=\"\",\"\",年金利益演示!H7+IF(年金万能利益演示!$E$1=\"中\",年金利益演示!F7,IF(年金万能利益演示!$E$1=\"低\",年金利益演示!E7,年金利益演示!G7)))","v":2007.75902405915},null,{"$f":"年金万能利益演示!E13","v":0},2780.65024789419,{"$f":"IF(B8=\"\",\"\",C8*1%+(D8+E8)*3%)","v":20.0775902405915},0,1987.68143381856,{"$f":"IF(B8=\"\",\"\",IF(A8=1,I8,R7+I8)*IF(B8<19,0,IF(B8<42,0.6,IF(B8<62,0.4,0.2))))","v":1663.02959247418},{"$f":"IF(B8=\"\",\"\",IF(A8=1,I8,S7+I8)*IF(B8<19,0,IF(B8<42,0.6,IF(B8<62,0.4,0.2))))","v":1672.3300812832},{"$f":"IF(B8=\"\",\"\",IF(A8=1,I8,T7+I8)*IF(B8<19,0,IF(B8<42,0.6,IF(B8<62,0.4,0.2))))","v":1679.30850112149},null,1.09094741266306,1.09704853332178,1.1016263767357,{"$f":"年金万能利益演示!P13","v":0},{"$f":"IF(B8=\"\",\"\",IF(A8=1,I8-N8,R7+I8-N8)*(1+2.5%)-Q8)","v":2839.89066604541},{"$f":"IF(B8=\"\",\"\",IF(A8=1,I8-O8,S7+I8-O8)*(1+4.5%)-Q8)","v":2911.49514251758},{"$f":"IF(B8=\"\",\"\",IF(A8=1,I8-P8,T7+I8-P8)*(1+6%)-Q8)","v":2965.61062802195},4543.82506567266,4658.39222802813,4744.97700483513,{"$f":"R8*(1-3%)","v":2754.69394606405},{"$f":"S8*(1-3%)","v":2824.15028824205},2876.6423091813,null,3,33,0.000656,null,2,0.0003472,0.0002952]
[{"$f":"Reserve!A19","v":4},34,{"$f":"IF(B9=\"\",\"\",年金利益演示!H8+IF(年金万能利益演示!$E$1=\"中\",年金利益演示!F8,IF(年金万能利益演示!$E$1=\"低\",年金利益演示!E8,年金利益演示!G8)))","v":3283.66684292722},null,{"$f":"年金万能利益演示!E14","v":0},6064.31709082141,32.8366684292722,0,3250.83017449795,{"$f":"IF(B9=\"\",\"\",IF(A9=1,I9,R8+I9)*IF(B9<19,0,IF(B9<42,0.6,IF(B9<62,0.4,0.2))))","v":3654.43250432602},{"$f":"IF(B9=\"\",\"\",IF(A9=1,I9,S8+I9)*IF(B9<19,0,IF(B9<42,0.6,IF(B9<62,0.4,0.2))))","v":3697.39519020932},{"$f":"IF(B9=\"\",\"\",IF(A9=1,I9,T8+I9)*IF(B9<19,0,IF(B9<42,0.6,IF(B9<62,0.4,0.2))))","v":3729.86448151194},null,2.49963183295899,2.52901831010317,2.55122730535417,{"$f":"年金万能利益演示!P14","v":0},{"$f":"IF(B9=\"\",\"\",IF(A9=1,I9-N9,R8+I9-N9)*(1+2.5%)-Q9)","v":6240.42673892816},{"$f":"IF(B9=\"\",\"\",IF(A9=1,I9-O9,S8+I9-O9)*(1+4.5%)-Q9)","v":6436.98713214717},{"$f":"IF(B9=\"\",\"\",IF(A9=1,I9-P9,T8+I9-P9)*(1+6%)-Q9)","v":6586.72294972742},9984.68278228506,10299.1794114355,10538.7567195639,{"$f":"R9*(1-2%)","v":6115.6182041496},{"$f":"S9*(1-2%)","v":6308.24738950422},6454.98849073287,null,4,34,0.000684,null,3,0.0002896,0.000232]
[{"$f":"Reserve!A20","v":5},35,{"$f":"IF(B10=\"\",\"\",年金利益演示!H9+IF(年金万能利益演示!$E$1=\"中\",年金利益演示!F9,IF(年金万能利益演示!$E$1=\"低\",年金利益演示!E9,年金利益演示!G9)))","v":4591.39417173009},null,{"$f":"年金万能利益演示!E15","v":0},10655.7112625515,45.9139417173009,0,4545.48023001279,{"$f":"IF(B10=\"\",\"\",IF(A10=1,I10,R9+I10)*IF(B10<19,0,IF(B10<42,0.6,IF(B10<62,0.4,0.2))))","v":6471.54418136457},{"$f":"IF(B10=\"\",\"\",IF(A10=1,I10,S9+I10)*IF(B10<19,0,IF(B10<42,0.6,IF(B10<62,0.4,0.2))))","v":6589.48041729597},{"$f":"IF(B10=\"\",\"\",IF(A10=1,I10,T9+I10)*IF(B10<19,0,IF(B10<42,0.6,IF(B10<62,0.4,0.2))))","v":6679.32190784413},null,4.62327116316685,4.70752481011624,4.77170757096384,{"$f":"年金万能利益演示!P15","v":0},11050.8157902222,11471.7590300306,11795.0773604994,17681.3052643556,18354.8144480489,18872.123776799,{"$f":"R10*(1-1%)","v":10940.30763232},{"$f":"S10*(1-1%)","v":11357.0414397303},11677.1265868944,null,5,35,0.0007144,null,4,0.0002488,0.0001856]
[{"$f":"Reserve!A21","v":6},36,{"$f":"IF(B11=\"\",\"\",年金利益演示!H10+IF(年金万能利益演示!$E$1=\"中\",年金利益演示!F10,IF(年金万能利益演示!$E$1=\"低\",年金利益演示!E10,年金利益演示!G10)))","v":105931.742655687},null,{"$f":"年金万能利益演示!E16","v":0},116587.453918238,1059.31742655687,0,104872.42522913,69553.9446116111,69806.5105554961,70000.5015537774,null,52.0819937251744,52.2711151039555,52.4163755634685,{"$f":"年金万能利益演示!P16","v":0},118767.938001267,121525.049235539,123611.99138691,190028.700802028,194440.078776862,197779.186219055,{"$f":"IF($B11=\"\",\"\",R11*(1-0%))","v":118767.938001267},{"$f":"IF($B11=\"\",\"\",S11*(1-0%))","v":121525.049235539},123611.99138691,null,6,36,0.0007488,null,5,0.0002248,0.000156]
[{"$f":"Reserve!A22","v":7},37,{"$f":"IF(B12=\"\",\"\",年金利益演示!H11+IF(年金万能利益演示!$E$1=\"中\",年金利益演示!F11,IF(年金万能利益演示!$E$1=\"低\",年金利益演示!E11,年金利益演示!G11)))","v":17465.5373616644},null,{"$f":"年金万能利益演示!E17","v":0},134052.991279902,174.655373616644,7.62891223835037,17298.5109002861,81639.8693409321,83294.1360814949,84546.3013723174,null,64.3322170406545,65.635779232218,66.6224854813861,{"$f":"年金万能利益演示!P17","v":0},139402.169601626,145002.030952639,149294.512589817,223043.471362601,232003.249524223,238871.220143707,{"$f":"IF($B12=\"\",\"\",R12*(1-0%))","v":139402.169601626},{"$f":"IF($B12=\"\",\"\",S12*(1-0%))","v":145002.030952639},{"$f":"IF($B12=\"\",\"\",T12*(1-0%))","v":149294.512589817},null,7,37,0.000788,null,6,0.0002152,0.00014]
[{"$f":"Reserve!A23","v":8},38,{"$f":"IF(B13=\"\",\"\",年金利益演示!H12+IF(年金万能利益演示!$E$1=\"中\",年金利益演示!F12,IF(年金万能利益演示!$E$1=\"低\",年金利益演示!E12,年金利益演示!G12)))","v":18675.9380842527},null,{"$f":"年金万能利益演示!E18","v":0},152728.929364155,186.759380842527,20.0775902405915,18509.2562936508,94746.8555371658,98106.772347774,100682.261330081,null,79.0567762602112,81.8602908469827,84.0092788538194,{"$f":"年金万能利益演示!P18","v":0},161778.178346992,170783.751168438,177782.945180891,258845.085355186,273254.001869501,284452.712289425,161778.178346992,170783.751168438,177782.945180891,null,8,38,0.0008344,null,7,0.0002144,0.0001312]
[{"$f":"Reserve!A24","v":9},39,{"$f":"IF(B14=\"\",\"\",年金利益演示!H13+IF(年金万能利益演示!$E$1=\"中\",年金利益演示!F13,IF(年金万能利益演示!$E$1=\"低\",年金利益演示!E13,年金利益演示!G13)))","v":19916.3704742179},null,{"$f":"年金万能利益演示!E19","v":0},172645.299838373,199.163704742179,32.8366684292722,19750.043437905,108916.933070938,114320.276763806,118519.793171278,null,96.8053701134496,101.607861987671,105.340392170632,{"$f":"年金万能利益演示!P19","v":0},185967.201825153,199001.635147851,209273.307120223,297547.522920244,318402.616236562,334837.291392357,185967.201825153,199001.635147851,209273.307120223,null,9,39,0.0008888,null,8,0.000216,0.0001264]
[{"$f":"Reserve!A25","v":10},40,{"$f":"IF(B15=\"\",\"\",年金利益演示!H14+IF(年金万能利益演示!$E$1=\"中\",年金利益演示!F14,IF(年金万能利益演示!$E$1=\"低\",年金利益演示!E14,年金利益演示!G14)))","v":21187.5786981807},null,{"$f":"年金万能利益演示!E20","v":0},193832.878536554,211.875786981807,45.9139417173009,21021.6168529162,124193.291206841,132013.951200461,138176.954383883,null,118.132658595947,125.571670381878,131.43391900995,{"$f":"年金万能利益演示!P20","v":0},212042.45316996,229793.075945253,243973.299457377,339267.925071936,367668.921512405,390357.279131803,212042.45316996,229793.075945253,243973.299457377,null,10,40,0.0009512,null,9,0.0002168,0.0001216]
[{"$f":"Reserve!A26","v":11},41,{"$f":"IF(B16=\"\",\"\",年金利益演示!H15+IF(年金万能利益演示!$E$1=\"中\",年金利益演示!F15,IF(年金万能利益演示!$E$1=\"低\",年金利益演示!E15,年金利益演示!G15)))","v":22490.3261597447},null,{"$f":"年金万能利益演示!E21","v":0},216323.204696299,224.903261597447,1059.31742655687,23324.7403247042,141220.316096798,151870.689761974,160378.823869249,null,144.044722418734,154.908103557214,163.586400346634,{"$f":"年金万能利益演示!P21","v":0},241103.727491551,264346.239033888,283162.520584638,385765.963986482,422953.982454221,453060.032935422,241103.727491551,264346.239033888,283162.520584638,null,11,41,0.00102,null,10,0.0002176,0.0001176]
[{"$f":"Reserve!A27","v":12},42,{"$f":"IF(B17=\"\",\"\",年金利益演示!H16+IF(年金万能利益演示!$E$1=\"中\",年金利益演示!F16,IF(年金万能利益演示!$E$1=\"低\",年金利益演示!E16,年金利益演示!G16)))","v":22599.3423419434},null,{"$f":"年金万能利益演示!E22","v":0},238922.547038242,225.993423419434,174.655373616644,22548.0042921406,105460.692713477,114757.697330411,122284.209950712,null,115.247444997287,125.407211642674,133.632184634138,{"$f":"年金万能利益演示!P22","v":0},270124.896447162,299673.433739533,323911.506253674,378174.855026027,419542.807235346,453476.108755143,270124.896447162,299673.433739533,323911.506253674,null,12,42,0.0010928,null,11,0.0002168,0.0001144]
[{"$f":"Reserve!A28","v":13},43,{"$f":"IF(B18=\"\",\"\",年金利益演示!H17+IF(年金万能利益演示!$E$1=\"中\",年金利益演示!F17,IF(年金万能利益演示!$E$1=\"低\",年金利益演示!E17,年金利益演示!G17)))","v":22710.9738495448},null,{"$f":"年金万能利益演示!E23","v":0},261633.520887787,227.109738495448,186.759380842527,22670.6234918919,117118.207975622,128937.62289257,138632.851898226,null,136.887761481906,150.702293636836,162.034077298647,{"$f":"年金万能利益演示!P23","v":0},299975.097982011,336692.055909989,367205.301408363,419965.137174816,471368.878273984,514087.421971708,299975.097982011,336692.055909989,367205.301408363,null,13,43,0.0011688,null,12,0.0002176,0.0001144]
[{"$f":"Reserve!A29","v":14},44,{"$f":"IF(B19=\"\",\"\",年金利益演示!H18+IF(年金万能利益演示!$E$1=\"中\",年金利益演示!F18,IF(年金万能利益演示!$E$1=\"低\",年金利益演示!E18,年金利益演示!G18)))","v":22825.2850068401},null,{"$f":"年金万能利益演示!E24","v":0},284458.805894627,228.252850068401,199.163704742179,22796.1958615139,129108.51753741,143795.300708601,156000.598907951,null,161.127429886688,179.456535284334,194.688747437123,{"$f":"年金万能利益演示!P24","v":0},330675.420573979,375477.691021848,413195.217033786,462945.588803571,525668.767430587,578473.3038473,330675.420573979,375477.691021848,413195.217033786,null,14,44,0.001248,null,13,0.0002224,0.0001176]
[{"$f":"Reserve!A30","v":15},45,{"$f":"IF(B20=\"\",\"\",年金利益演示!H19+IF(年金万能利益演示!$E$1=\"中\",年金利益演示!F19,IF(年金万能利益演示!$E$1=\"低\",年金利益演示!E19,年金利益演示!G19)))","v":22942.339572526},null,{"$f":"年金万能利益演示!E25","v":0},307401.145467153,229.42339572526,211.875786981807,22924.7919637825,141440.085015105,159360.993194252,174448.003599027,null,188.39819324012,212.268842934744,232.364740793905,{"$f":"年金万能利益演示!P25","v":0},362247.109703135,416108.773779117,462040.902912181,507145.953584389,582552.283290764,646857.264077054,362247.109703135,416108.773779117,462040.902912181,null,15,45,0.001332,null,14,0.0002336,0.0001248]
[{"$f":"Reserve!A31","v":16},46,{"$f":"IF(B21=\"\",\"\",年金利益演示!H20+IF(年金万能利益演示!$E$1=\"中\",年金利益演示!F20,IF(年金万能利益演示!$E$1=\"低\",年金利益演示!E20,年金利益演示!G20)))","v":23062.201820799},null,{"$f":"年金万能利益演示!E26","v":0},330463.347287952,230.62201820799,224.903261597447,23056.4830641885,154121.437106929,175666.102737322,194038.954390548,null,219.838817889324,250.570128944516,276.777164542678,{"$f":"年金万能利益演示!P26","v":0},394710.84779817,458665.847616507,513909.845340537,552595.186917438,642132.18666311,719473.783476751,394710.84779817,458665.847616507,513909.845340537,null,16,46,0.0014264,null,15,0.0002528,0.0001336]
[{"$f":"Reserve!A32","v":17},47,{"$f":"IF(B22=\"\",\"\",年金利益演示!H21+IF(年金万能利益演示!$E$1=\"中\",年金利益演示!F21,IF(年金万能利益演示!$E$1=\"低\",年金利益演示!E21,年金利益演示!G21)))","v":23184.9448834576},null,{"$f":"年金万能利益演示!E27","v":0},353648.292171409,231.849448834576,225.993423419434,23179.0888580424,167155.974662485,192737.97458982,214835.573679432,null,256.484127522117,295.73714821062,329.64370425372,{"$f":"年金万能利益演示!P27","v":0},428074.288841907,503218.913296024,568964.847923985,599304.00437867,704506.478614434,796550.787093579,428074.288841907,503218.913296024,568964.847923985,null,17,47,0.0015344,null,16,0.0002808,0.0001448]
[{"$f":"Reserve!A33","v":18},48,{"$f":"IF(B23=\"\",\"\",年金利益演示!H22+IF(年金万能利益演示!$E$1=\"中\",年金利益演示!F22,IF(年金万能利益演示!$E$1=\"低\",年金利益演示!E22,年金利益演示!G22)))","v":23310.6439071063},null,{"$f":"年金万能利益演示!E28","v":0},376958.936078516,233.106439071063,227.109738495448,23304.6472065306,180551.574419375,210609.424201022,236907.798052206,null,296.826788345453,346.24189338648,389.476419997827,{"$f":"年金万能利益演示!P28","v":0},462359.161991595,549855.297946581,627392.819833149,647302.826788233,769797.417125213,878349.947766408,462359.161991595,549855.297946581,627392.819833149,null,18,48,0.001644,null,17,0.0003168,0.0001568]
[{"$f":"Reserve!A34","v":19},49,{"$f":"IF(B24=\"\",\"\",年金利益演示!H23+IF(年金万能利益演示!$E$1=\"中\",年金利益演示!F23,IF(年金万能利益演示!$E$1=\"低\",年金利益演示!E23,年金利益演示!G23)))","v":23439.3794852448},null,{"$f":"年金万能利益演示!E29","v":0},400398.315563761,234.393794852448,228.252850068401,23433.2385404607,194316.960212822,229315.414594817,260330.423349444,null,347.905085565037,410.56631829056,466.095589964844,{"$f":"年金万能利益演示!P29","v":0},497580.607832653,598657.478826345,689381.560550663,696612.850965714,838120.470356883,965134.184770929,497580.607832653,598657.478826345,689381.560550663,null,19,49,0.0017904,null,18,0.0003568,0.0001704]
[{"$f":"Reserve!A35","v":20},50,{"$f":"IF(B25=\"\",\"\",年金利益演示!H24+IF(年金万能利益演示!$E$1=\"中\",年金利益演示!F24,IF(年金万能利益演示!$E$1=\"低\",年金利益演示!E24,年金利益演示!G24)))","v":23571.2405953857},null,{"$f":"年金万能利益演示!E30","v":0},423969.556159146,235.712405953857,229.42339572526,23564.9515851571,208458.223767124,248888.972164601,285178.604854328,null,407.911052267508,487.025940731691,558.037493978949,{"$f":"年金万能利益演示!P30","v":0},533756.089574681,649713.497671955,755131.783120352,747258.525404553,909598.896740737,1057184.49636849,533756.089574681,649713.497671955,755131.783120352,null,20,50,0.0019568,null,19,0.0003976,0.000184]
[{"$f":"Reserve!A36","v":21},51,{"$f":"IF(B26=\"\",\"\",年金利益演示!H25+IF(年金万能利益演示!$E$1=\"中\",年金利益演示!F25,IF(年金万能利益演示!$E$1=\"低\",年金利益演示!E25,年金利益演示!G25)))","v":23706.3269868707},null,{"$f":"年金万能利益演示!E31","v":0},447675.883146017,237.063269868707,230.62201820799,23699.88573521,222982.390123956,269365.353362866,311532.667542225,null,475.576841656374,574.50242565232,664.436873334057,{"$f":"年金万能利益演示!P31","v":0},570904.90842994,703116.630625681,824857.265901161,799266.871801916,984363.282875953,1154800.17226163,570904.90842994,703116.630625681,824857.265901161,null,21,51,0.0021328,null,20,0.000432,0.0001968]
[{"$f":"Reserve!A37","v":22},52,{"$f":"IF(B27=\"\",\"\",年金利益演示!H26+IF(年金万能利益演示!$E$1=\"中\",年金利益演示!F26,IF(年金万能利益演示!$E$1=\"低\",年金利益演示!E26,年金利益演示!G26)))","v":23844.7474990798},null,{"$f":"年金万能利益演示!E32","v":0},471520.630645097,238.447474990798,231.849448834576,23838.1494729236,237897.223161145,290781.912039442,339478.166149634,null,548.115202163279,669.961525338874,782.157694808757,{"$f":"年金万能利益演示!P32","v":0},609049.816268218,758967.635409062,898788.053140033,852669.742775505,1062554.68957269,1258303.27439605,609049.816268218,758967.635409062,898788.053140033,null,22,52,0.002304,null,21,0.00046,0.0002088]
[{"$f":"Reserve!A38","v":23},53,{"$f":"IF(B28=\"\",\"\",年金利益演示!H27+IF(年金万能利益演示!$E$1=\"中\",年金利益演示!F27,IF(年金万能利益演示!$E$1=\"低\",年金利益演示!E27,年金利益演示!G27)))","v":23986.6206204282},null,{"$f":"年金万能利益演示!E33","v":0},495507.251265525,239.866206204282,233.106439071063,23979.860853295,253211.870848605,313178.998504943,369107.165597331,null,624.926897254358,772.925768310199,910.956484694214,{"$f":"年金万能利益演示!P33","v":0},648214.868979865,817372.426166279,977168.374959152,907500.816571811,1144321.39663279,1368035.72494281,648214.868979865,817372.426166279,977168.374959152,null,23,53,0.002468,null,22,0.0004808,0.0002192]
[{"$f":"Reserve!A39","v":24},54,{"$f":"IF(B29=\"\",\"\",年金利益演示!H28+IF(年金万能利益演示!$E$1=\"中\",年金利益演示!F28,IF(年金万能利益演示!$E$1=\"低\",年金利益演示!E28,年金利益演示!G28)))","v":24132.0765284897},null,{"$f":"年金万能利益演示!E34","v":0},519639.327794015,241.320765284897,234.393794852448,24125.1495580573,268936.007415169,336599.030289735,400517.409806884,null,709.991059576046,888.6214399649,1057.36596189017,{"$f":"年金万能利益演示!P34","v":0},688420.778165305,878436.357227168,1060250.32806864,963789.089431427,1229810.90011804,1484350.45929609,688420.778165305,878436.357227168,1060250.32806864,null,24,54,0.00264,null,23,0.0004984,0.000228]
[{"$f":"Reserve!A40","v":25},55,{"$f":"IF(B30=\"\",\"\",年金利益演示!H29+IF(年金万能利益演示!$E$1=\"中\",年金利益演示!F29,IF(年金万能利益演示!$E$1=\"低\",年金利益演示!E29,年金利益演示!G29)))","v":24281.2545825729},null,{"$f":"年金万能利益演示!E35","v":0},543920.582376588,242.812545825729,235.712405953857,24274.154442701,285077.973043202,361084.204667948,433809.793004536,null,808.481131550522,1024.0348044383,1230.28457296086,{"$f":"年金万能利益演示!P35","v":0},729683.612763367,942262.368324375,1148291.84981468,1021557.05786871,1319167.31565413,1607608.58974055,729683.612763367,942262.368324375,1148291.84981468,null,25,55,0.002836,null,24,0.0005144,0.0002344]
[{"$f":"Reserve!A41","v":26},56,{"$f":"IF(B31=\"\",\"\",年金利益演示!H30+IF(年金万能利益演示!$E$1=\"中\",年金利益演示!F30,IF(年金万能利益演示!$E$1=\"低\",年金利益演示!E30,年金利益演示!G30)))","v":24434.3068317609},null,{"$f":"年金万能利益演示!E36","v":0},568354.889208348,244.343068317609,237.063269868707,24427.027033312,301644.255918672,386675.758143075,469087.550739197,null,926.168523372689,1187.2492478025,1440.28641578963,{"$f":"年金万能利益演示!P36","v":0},772014.083055139,1008949.74268483,1241555.30585814,1080819.71627719,1412529.63975876,1738177.42820139,772014.083055139,1008949.74268483,1241555.30585814,null,26,56,0.0030704,null,25,0.000528,0.0002408]
[{"$f":"Reserve!A42","v":27},57,{"$f":"IF(B32=\"\",\"\",年金利益演示!H31+IF(年金万能利益演示!$E$1=\"中\",年金利益演示!F31,IF(年金万能利益演示!$E$1=\"低\",年金利益演示!E31,年金利益演示!G31)))","v":24591.3971651528},null,{"$f":"年金万能利益演示!E37","v":0},592946.286373501,245.913971651528,238.447474990798,24583.9306684921,318639.205489452,413413.469341329,506455.694610651,null,1072.4121099953,1391.38437241518,1704.52728578161,{"$f":"年金万能利益演示!P37","v":0},815413.741653976,1078588.69198505,1340300.7917953,1141579.23831557,1510024.16877907,1876421.10851342,815413.741653976,1078588.69198505,1340300.7917953,null,27,57,0.0033656,null,26,0.0005408,0.0002464]
[{"$f":"Reserve!A43","v":28},58,{"$f":"IF(B33=\"\",\"\",年金利益演示!H32+IF(年金万能利益演示!$E$1=\"中\",年金利益演示!F32,IF(年金万能利益演示!$E$1=\"低\",年金利益演示!E32,年金利益演示!G32)))","v":24752.7028815108},null,{"$f":"年金万能利益演示!E38","v":0},617698.989255012,247.527028815109,239.866206204282,24745.0420589,336063.513485151,441333.493617579,546018.333541679,null,1257.14639124525,1650.94033292464,2042.54538211271,{"$f":"年金万能利益演示!P38","v":0},859874.178254672,1151258.51942802,1444783.48578041,1203823.84955654,1611761.92719923,2022696.88009257,859874.178254672,1151258.51942802,1444783.48578041,null,28,58,0.0037408,null,27,0.0005544,0.0002528]
[{"$f":"Reserve!A44","v":29},59,{"$f":"IF(B34=\"\",\"\",年金利益演示!H33+IF(年金万能利益演示!$E$1=\"中\",年金利益演示!F33,IF(年金万能利益演示!$E$1=\"低\",年金利益演示!E33,年金利益演示!G33)))","v":24918.4128833202},null,{"$f":"年金万能利益演示!E39","v":0},642617.402138332,249.184128833202,241.320765284897,24910.5495197719,353913.891109778,470467.627579116,587877.614120073,null,1493.51662048326,1985.37338838387,2480.84353158671,{"$f":"年金万能利益演示!P39","v":0},905373.49143281,1227021.96185958,1555245.98327471,1267522.88800593,1717830.74660341,2177344.37658459,905373.49143281,1227021.96185958,1555245.98327471,null,29,59,0.00422,null,28,0.0005696,0.00026]
[{"$f":"Reserve!A45","v":30},60,{"$f":"IF(B35=\"\",\"\",年金利益演示!H34+IF(年金万能利益演示!$E$1=\"中\",年金利益演示!F34,IF(年金万能利益演示!$E$1=\"低\",年金利益演示!E34,年金利益演示!G34)))","v":25088.7298269825},null,{"$f":"年金万能利益演示!E40","v":0},667706.131965315,250.887298269825,242.812545825729,25080.6550745384,372181.658602939,500841.046773647,632130.6553397,null,1798.08402904252,2419.66326517285,3053.94962207716,{"$f":"年金万能利益演示!P40","v":0},951872.464040263,1305918.68658405,1671909.0500508,1332621.44965637,1828286.16121767,2340672.67007112,951872.464040263,1305918.68658405,1671909.0500508,null,30,60,0.0048312,null,29,0.0005872,0.0002696]
[{"$f":"Reserve!A46","v":31},61,{"$f":"IF(B36=\"\",\"\",年金利益演示!H35+IF(年金万能利益演示!$E$1=\"中\",年金利益演示!F35,IF(年金万能利益演示!$E$1=\"低\",年金利益演示!E35,年金利益演示!G35)))","v":31043.8709225766},null,{"$f":"年金万能利益演示!E41","v":0},698750.002887891,310.438709225766,244.343068317609,30977.7752816685,393140.095728773,534758.584746287,681154.730132988,null,2198.12490323871,2989.94219903344,3808.47232711956,{"$f":"年金万能利益演示!P41","v":0},1005168.41727916,1393932.31305168,1801023.05418567,1407235.78419082,1951505.23827236,2521432.27585994,1005168.41727916,1393932.31305168,1801023.05418567,null,31,61,0.0055912,null,30,0.0006072,0.0002808]
[{"$f":"Reserve!A47","v":32},62,{"$f":"IF(B37=\"\",\"\",年金利益演示!H36+IF(年金万能利益演示!$E$1=\"中\",年金利益演示!F36,IF(年金万能利益演示!$E$1=\"低\",年金利益演示!E36,年金利益演示!G36)))","v":31143.1543283679},null,{"$f":"年金万能利益演示!E42","v":0},729893.157216259,311.431543283679,245.913971651528,31077.6367567358,207249.210807179,285001.989961684,366420.138188482,null,1304.34363313606,1793.68852402285,2306.10178170303,{"$f":"年金万能利益演示!P42","v":0},1060815.25316283,1487260.99304219,1939582.26451035,1272978.30379539,1784713.19165063,2327498.71741242,1060815.25316283,1487260.99304219,1939582.26451035,null,32,62,0.0062936,null,31,0.0006304,0.0002928]
[{"$f":"Reserve!A48","v":33},63,{"$f":"IF(B38=\"\",\"\",年金利益演示!H37+IF(年金万能利益演示!$E$1=\"中\",年金利益演示!F37,IF(年金万能利益演示!$E$1=\"低\",年金利益演示!E37,年金利益演示!G37)))","v":31245.3529269592},null,{"$f":"年金万能利益演示!E43","v":0},761138.510143219,312.453529269592,247.527028815109,31180.4264265047,218399.135917867,303688.28389374,394152.53818737,null,1524.42596870671,2119.7442215783,2751.18471654785,{"$f":"年金万能利益演示!P43","v":0},1117733.03496114,1584556.15063324,2086092.19659352,1341279.64195337,1901467.38075989,2503310.63591223,1117733.03496114,1584556.15063324,2086092.19659352,null,33,63,{"$f":"IF(AC38=\"\",0,VLOOKUP(AC38-1,AF:AH,IF(Sex=\"M\",2,3),FALSE))","v":0.00698},null,32,0.000656,0.0003072]
[{"$f":"Reserve!A49","v":34},{"$f":"IF(OR(A39=\"\",A39=BP),\"\",B38+1)","v":64},{"$f":"IF(B39=\"\",\"\",年金利益演示!H38+IF(年金万能利益演示!$E$1=\"中\",年金利益演示!F38,IF(年金万能利益演示!$E$1=\"低\",年金利益演示!E38,年金利益演示!G38)))","v":31350.6267873911},null,{"$f":"年金万能利益演示!E44","v":0},792489.13693061,313.506267873911,249.184128833202,31286.3046483504,229803.867921899,323168.491056318,423475.700248375,null,1779.04962390417,2501.84119036159,3278.37948104282,{"$f":"年金万能利益演示!P44","v":0},1175921.29723523,1685940.94172534,2240946.12906648,1411105.55668227,2023129.1300704,2689135.35487978,1175921.29723523,1685940.94172534,2240946.12906648,null,34,64,0.0077416,null,33,0.000684,0.0003216]
[{"$f":"Reserve!A50","v":35},65,{"$f":"IF(B40=\"\",\"\",年金利益演示!H39+IF(年金万能利益演示!$E$1=\"中\",年金利益演示!F39,IF(年金万能利益演示!$E$1=\"低\",年金利益演示!E39,年金利益演示!G39)))","v":31459.1566644734},null,{"$f":"年金万能利益演示!E45","v":0},823948.293595083,314.591566644734,250.887298269825,31395.4523960985,241463.349926265,343467.278824287,454468.316292516,null,2072.914566447,2948.59789525074,3901.51960170799,{"$f":"年金万能利益演示!P45","v":0},1235374.9309415,1791535.24705636,2404546.46557252,1482449.9171298,2149842.29646763,2885455.75868703,1235374.9309415,1791535.24705636,2404546.46557252,null,35,65,0.0085848,null,34,0.0007144,0.0003368]
[{"$f":"Reserve!A51","v":36},66,{"$f":"IF(B41=\"\",\"\",年金利益演示!H40+IF(年金万能利益演示!$E$1=\"中\",年金利益演示!F40,IF(年金万能利益演示!$E$1=\"低\",年金利益演示!E40,年金利益演示!G40)))","v":31571.1482131389},null,{"$f":"年金万能利益演示!E46","v":0},855519.441808222,315.711482131389,310.438709225766,31565.8754402333,253388.161276347,364620.224499319,487222.468202551,null,2412.25529535082,3471.18453723352,4638.35789728829,{"$f":"年金万能利益演示!P46","v":0},1296141.76486354,1901513.28516753,2577362.4221024,1555370.11783625,2281815.94220104,3092834.90652288,1296141.76486354,1901513.28516753,2577362.4221024,null,36,66,0.00952,null,35,0.0007488,0.0003528]
[{"$f":"Reserve!A52","v":37},67,{"$f":"IF(B42=\"\",\"\",年金利益演示!H41+IF(年金万能利益演示!$E$1=\"中\",年金利益演示!F41,IF(年金万能利益演示!$E$1=\"低\",年金利益演示!E41,年金利益演示!G41)))","v":31686.8363941204},null,{"$f":"年金万能利益演示!E47","v":0},887206.278202342,316.868363941204,311.431543283679,31681.3995734629,265564.632887401,386638.936948199,521808.764335172,null,2810.52362277394,4091.87719751018,5522.40651471199,{"$f":"年金万能利益演示!P47","v":0},1358137.95683459,2015912.43388294,2759732.70007082,1629765.54820151,2419094.92065953,3311679.24008498,1358137.95683459,2015912.43388294,2759732.70007082,null,37,67,0.0105832,null,36,0.000788,0.0003712]
[{"$f":"Reserve!A53","v":38},68,{"$f":"IF(B43=\"\",\"\",年金利益演示!H42+IF(年金万能利益演示!$E$1=\"中\",年金利益演示!F42,IF(年金万能利益演示!$E$1=\"低\",年金利益演示!E42,年金利益演示!G42)))","v":31806.4881793036},null,{"$f":"年金万能利益演示!E48","v":0},919012.766381646,318.064881793036,312.453529269592,31800.8768267801,277987.766732274,409542.662141944,558306.715379519,null,3270.24808783847,4817.85987743783,6567.92019972466,{"$f":"年金万能利益演示!P48","v":0},1421335.30021287,2134825.74611974,2952063.59609974,1705602.36025544,2561790.89534368,3542476.31531969,1421335.30021287,2134825.74611974,2952063.59609974,null,38,68,0.011764,null,37,0.0008344,0.0003944]
[{"$f":"Reserve!A54","v":39},69,{"$f":"IF(B44=\"\",\"\",年金利益演示!H43+IF(年金万能利益演示!$E$1=\"中\",年金利益演示!F43,IF(年金万能利益演示!$E$1=\"低\",年金利益演示!E43,年金利益演示!G43)))","v":31930.4072576088},null,{"$f":"年金万能利益演示!E49","v":0},950943.173639255,319.304072576088,313.506267873911,31924.6094529067,290651.981933155,433350.071114529,596797.64111053,null,3800.33279417239,5666.13884983669,7803.2485170484,{"$f":"年金万能利益演示!P49","v":0},1485696.06629339,2258333.00647533,3154756.05445774,1782835.27955207,2709999.6077704,3785707.26534929,1485696.06629339,2258333.00647533,3154756.05445774,null,39,69,0.0130752,null,38,0.0008888,0.0004224]
[{"$f":"Reserve!A55","v":40},70,{"$f":"IF(B45=\"\",\"\",年金利益演示!H44+IF(年金万能利益演示!$E$1=\"中\",年金利益演示!F44,IF(年金万能利益演示!$E$1=\"低\",年金利益演示!E44,年金利益演示!G44)))","v":32058.9397107997},null,{"$f":"年金万能利益演示!E50","v":0},983002.113350054,320.589397107997,314.591566644734,32052.9418803364,303549.801634746,458077.189671134,637361.799267615,null,4410.94287751482,6656.41125854918,9261.63177751757,{"$f":"年金万能利益演示!P50","v":0},1551171.51692862,2386497.36626649,3368200.20643419,1861405.82031434,2863796.83951979,4041840.24772103,1551171.51692862,2386497.36626649,3368200.20643419,null,40,70,0.0145312,null,39,0.0009512,0.0004552]
[{"$f":"Reserve!A56","v":41},71,{"$f":"IF(B46=\"\",\"\",年金利益演示!H45+IF(年金万能利益演示!$E$1=\"中\",年金利益演示!F45,IF(年金万能利益演示!$E$1=\"低\",年金利益演示!E45,年金利益演示!G45)))","v":32192.4875350578},null,{"$f":"年金万能利益演示!E51","v":0},1015194.60088511,321.924875350578,315.711482131389,32186.2741418386,316671.558214092,483736.728081666,680077.296115206,null,5113.35898479458,7810.99369568028,10981.3441158315,{"$f":"年金万能利益演示!P51","v":0},1617700.5428878,2519361.91581472,3592769.44464781,1941240.65146537,3023234.29897766,4311323.33357737,1617700.5428878,2519361.91581472,3592769.44464781,null,41,71,0.0161472,null,40,0.00102,0.000492]
[{"$f":"Reserve!A57","v":42},72,{"$f":"IF(B47=\"\",\"\",年金利益演示!H46+IF(年金万能利益演示!$E$1=\"中\",年金利益演示!F46,IF(年金万能利益演示!$E$1=\"低\",年金利益演示!E46,年金利益演示!G46)))","v":32331.53425024},null,{"$f":"年金万能利益演示!E52","v":0},1047526.13513535,323.3153425024,316.868363941204,32325.0872716788,330005.126031897,510337.40061728,725018.906383898,null,5920.29196101223,9155.452967074,13006.8391805271,{"$f":"年金万能利益演示!P52","v":0},1685207.97165343,2656945.46987469,3828812.9543033,2022249.56598412,3188334.56384963,4594575.54516396,1685207.97165343,2656945.46987469,3828812.9543033,null,42,72,0.01794,null,41,0.0010928,0.0005312]
[{"$f":"Reserve!A58","v":43},73,{"$f":"IF(B48=\"\",\"\",年金利益演示!H47+IF(年金万能利益演示!$E$1=\"中\",年金利益演示!F47,IF(年金万能利益演示!$E$1=\"低\",年金利益演示!E47,年金利益演示!G47)))","v":32476.6884028832},null,{"$f":"年金万能利益演示!E53","v":0},1080002.82353824,324.766884028832,318.064881793036,32469.9864006474,343535.591610816,537883.091255068,772256.588140789,null,6846.25209809363,10719.364549004,15390.1470937402,{"$f":"年金万能利益演示!P53","v":0},1753602.49860489,2799237.41585402,4076646.36122682,2104322.99832586,3359084.89902483,4891975.63347218,1753602.49860489,2799237.41585402,4076646.36122682,null,43,73,0.0199288,null,42,0.0011688,0.0005712]
[{"$f":"Reserve!A59","v":44},74,{"$f":"IF(B49=\"\",\"\",年金利益演示!H48+IF(年金万能利益演示!$E$1=\"中\",年金利益演示!F48,IF(年金万能利益演示!$E$1=\"低\",年金利益演示!E48,年金利益演示!G48)))","v":32628.7452462094},null,{"$f":"年金万能利益演示!E54","v":0},1112631.56878444,326.287452462094,319.304072576088,32621.7618663234,357244.852094242,566371.835544069,821853.624618629,null,7907.40045419479,12536.3007566666,18191.2368687586,{"$f":"年金万能利益演示!P54","v":0},1822774.78151744,2946192.40642704,4336541.49939785,2187329.73782093,3535430.88771245,5203849.79927742,1822774.78151744,2946192.40642704,4336541.49939785,null,44,74,0.0221344,null,43,0.001248,0.0006104]
[{"$f":"Reserve!A60","v":45},75,{"$f":"IF(B50=\"\",\"\",年金利益演示!H49+IF(年金万能利益演示!$E$1=\"中\",年金利益演示!F49,IF(年金万能利益演示!$E$1=\"低\",年金利益演示!E49,年金利益演示!G49)))","v":32788.7674623835},null,{"$f":"年金万能利益演示!E55","v":0},1145420.33624683,327.887674623835,320.589397107997,32781.4691848677,371111.250140462,595794.775122382,873864.593716543,null,9098.75718644378,14607.4579785405,21425.0625629047,{"$f":"年金万能利益演示!P55","v":0},1892618.93085376,3097762.90642687,4608771.780381,2271142.71702451,3717315.48771225,5530526.1364572,1892618.93085376,3097762.90642687,4608771.780381,null,45,75,0.0245176,null,44,0.001332,0.000652]
[{"$f":"Reserve!A61","v":46},76,{"$f":"IF(B51=\"\",\"\",年金利益演示!H50+IF(年金万能利益演示!$E$1=\"中\",年金利益演示!F50,IF(年金万能利益演示!$E$1=\"低\",年金利益演示!E50,年金利益演示!G50)))","v":32958.1849055981},null,{"$f":"年金万能利益演示!E56","v":0},1178378.52115243,329.581849055981,321.924875350578,32950.5279318927,385113.891757131,626142.686871753,928344.461662578,null,0,0,0,{"$f":"年金万能利益演示!P56","v":0},1973708.69525529,3271595.53890491,4920225.64681167,2368450.43430635,3925914.64668589,5904270.776174,1973708.69525529,3271595.53890491,4920225.64681167,null,46,76,0.0271512,null,45,0.0014264,0.0006984]
[{"$f":"Reserve!A62","v":47},77,{"$f":"IF(B52=\"\",\"\",年金利益演示!H51+IF(年金万能利益演示!$E$1=\"中\",年金利益演示!F51,IF(年金万能利益演示!$E$1=\"低\",年金利益演示!E51,年金利益演示!G51)))","v":33134.2068416059},null,{"$f":"年金万能利益演示!E57","v":0},1211512.72799403,331.342068416059,323.3153425024,33126.1801156923,401366.975074197,660944.34380412,990670.365385472,null,0,0,0,{"$f":"年金万能利益演示!P57","v":0},2057005.74725526,3453434.19637653,5250552.936543,2468406.89670631,4144121.03565183,6300663.5238516,2057005.74725526,3453434.19637653,5250552.936543,null,47,77,0.0300616,null,46,0.0015344,0.0007536]
[{"$f":"Reserve!A63","v":48},78,{"$f":"IF(B53=\"\",\"\",年金利益演示!H52+IF(年金万能利益演示!$E$1=\"中\",年金利益演示!F52,IF(年金万能利益演示!$E$1=\"低\",年金利益演示!E52,年金利益演示!G52)))","v":33316.4203563075},null,{"$f":"年金万能利益演示!E58","v":0},1244829.14835034,333.164203563075,324.766884028832,33308.0230367732,418062.754058407,697348.44388266,1056772.19191595,null,0,0,0,{"$f":"年金万能利益演示!P58","v":0},2142571.61454933,3643645.6192869,5600892.61715456,2571085.9374592,4372374.74314428,6721071.14058547,2142571.61454933,3643645.6192869,5600892.61715456,null,48,78,0.0332752,null,47,0.001644,0.0008112]
[{"$f":"Reserve!A64","v":49},79,{"$f":"IF(B54=\"\",\"\",年金利益演示!H53+IF(年金万能利益演示!$E$1=\"中\",年金利益演示!F53,IF(年金万能利益演示!$E$1=\"低\",年金利益演示!E53,年金利益演示!G53)))","v":33504.884001471},null,{"$f":"年金万能利益演示!E59","v":0},1278334.03235181,335.04884001471,326.287452462094,33496.1226139183,435213.547432651,735428.348380164,1126877.7479537,null,0,0,0,{"$f":"年金万能利益演示!P59","v":0},2230469.43059233,3842613.12028635,5972452.06415459,2676563.3167108,4611135.74434363,7166942.4769855,2230469.43059233,3842613.12028635,5972452.06415459,null,49,79,0.0368224,null,48,0.0017904,0.0008984]
[{"$f":"Reserve!A65","v":50},80,{"$f":"IF(B55=\"\",\"\",年金利益演示!H54+IF(年金万能利益演示!$E$1=\"中\",年金利益演示!F54,IF(年金万能利益演示!$E$1=\"低\",年金利益演示!E54,年金利益演示!G54)))","v":33699.4080292276},null,{"$f":"年金万能利益演示!E60","v":0},1312033.44038104,336.994080292276,327.887674623835,33690.3016235592,452831.946443179,775260.684381983,1201228.47315563,null,0,0,0,{"$f":"年金万能利益演示!P60","v":0},2320763.72552129,4050737.07589586,6366510.90772483,2784916.47062555,4860884.49107503,7639813.0892698,2320763.72552129,4050737.07589586,6366510.90772483,null,50,80,0.040736,null,49,0.0019568,0.0010008]
[{"$f":"Reserve!A66","v":51},81,{"$f":"IF(B56=\"\",\"\",年金利益演示!H55+IF(年金万能利益演示!$E$1=\"中\",年金利益演示!F55,IF(年金万能利益演示!$E$1=\"低\",年金利益演示!E55,年金利益演示!G55)))","v":133899.32668479},null,{"$f":"年金万能利益演示!E61","v":0},1445932.76706583,1338.9932668479,329.581849055981,132889.915266998,490730.728157658,836725.398232572,1299880.16459837,null,0,0,0,{"$f":"年金万能利益演示!P61","v":0},2514994.981808,4371890.20576519,6889364.87237134,3017993.97816959,5246268.24691822,8267237.84684561,2514994.981808,4371890.20576519,6889364.87237134,null,51,81,0.0450496,null,50,0.0021328,0.0011144]
[{"$f":"Reserve!A67","v":52},82,{"$f":"IF(B57=\"\",\"\",年金利益演示!H56+IF(年金万能利益演示!$E$1=\"中\",年金利益演示!F56,IF(年金万能利益演示!$E$1=\"低\",年金利益演示!E56,年金利益演示!G56)))","v":132703.560477089},null,{"$f":"年金万能利益演示!E62","v":0},1578636.32754292,1327.03560477089,331.342068416059,131707.866940734,529340.569749746,900719.614541184,1404214.54786242,null,0,0,0,{"$f":"年金万能利益演示!P62","v":0},2712870.41996745,4706259.98597769,7442337.1036708,3255444.50396094,5647511.98317322,8930804.52440496,2712870.41996745,4706259.98597769,7442337.1036708,null,52,82,0.0498024,null,51,0.002304,0.0012384]
[{"$f":"Reserve!A68","v":53},83,{"$f":"IF(B58=\"\",\"\",年金利益演示!H57+IF(年金万能利益演示!$E$1=\"中\",年金利益演示!F57,IF(年金万能利益演示!$E$1=\"低\",年金利益演示!E57,年金利益演示!G57)))","v":131477.090392381},null,{"$f":"年金万能利益演示!E63","v":0},1710113.4179353,1314.77090392381,333.164203563075,130495.48369202,568673.180731894,967351.093933941,1514566.51747256,null,0,0,0,{"$f":"年金万能利益演示!P63","v":0},2914450.05125095,5054409.46580484,8027202.54260459,3497340.06150115,6065291.35896581,9632643.05112551,2914450.05125095,5054409.46580484,8027202.54260459,null,53,83,0.0550328,null,52,0.002468,0.0013712]
[{"$f":"Reserve!A69","v":54},84,{"$f":"IF(B59=\"\",\"\",年金利益演示!H58+IF(年金万能利益演示!$E$1=\"中\",年金利益演示!F58,IF(年金万能利益演示!$E$1=\"低\",年金利益演示!E58,年金利益演示!G58)))","v":130218.506864812},null,{"$f":"年金万能利益演示!E64","v":0},1840331.92480011,1302.18506864812,335.04884001471,129251.370636179,608740.284377427,1036732.1672882,1631290.78264815,null,0,0,0,{"$f":"年金万能利益演示!P64","v":0},3119793.95743431,5416925.57408087,8645841.14803522,3743752.74892117,6500310.68889704,10375009.3776423,3119793.95743431,5416925.57408087,8645841.14803522,null,54,84,0.0607864,null,53,0.00264,0.0015144]
[{"$f":"Reserve!A70","v":55},85,{"$f":"IF(B60=\"\",\"\",年金利益演示!H59+IF(年金万能利益演示!$E$1=\"中\",年金利益演示!F59,IF(年金万能利益演示!$E$1=\"低\",年金利益演示!E59,年金利益演示!G59)))","v":128926.408282222},null,{"$f":"年金万能利益演示!E65","v":0},1969258.33308233,1289.26408282222,336.994080292276,127974.138279692,649553.619142801,1108979.94247211,1754763.05726298,null,0,0,0,{"$f":"年金万能利益演示!P65","v":0},3328962.29810685,5794420.19941678,9300244.20349381,3994754.75772822,6953304.23930014,11160293.0441926,3328962.29810685,5794420.19941678,9300244.20349381,null,55,85,0.0671064,null,54,0.002836,0.0016744]
[{"$f":"Reserve!A71","v":56},86,{"$f":"IF(B61=\"\",\"\",年金利益演示!H60+IF(年金万能利益演示!$E$1=\"中\",年金利益演示!F60,IF(年金万能利益演示!$E$1=\"低\",年金利益演示!E60,年金利益演示!G60)))","v":127599.273863746},null,{"$f":"年金万能利益演示!E66","v":0},2096857.60694608,1275.99273863746,1338.9932668479,127662.274391957,691324.914499762,1184416.49476175,1885581.29557715,null,0,0,0,{"$f":"年金万能利益演示!P66","v":0},3543040.18681128,6188576.18513013,9993580.86655891,4251648.22417354,7426291.42215616,11992297.0398707,3543040.18681128,6188576.18513013,9993580.86655891,null,56,86,0.0740432,null,55,0.0030704,0.0018544]
[{"$f":"Reserve!A72","v":57},87,{"$f":"IF(B62=\"\",\"\",年金利益演示!H61+IF(年金万能利益演示!$E$1=\"中\",年金利益演示!F61,IF(年金万能利益演示!$E$1=\"低\",年金利益演示!E61,年金利益演示!G61)))","v":126235.976005722},null,{"$f":"年金万能利益演示!E67","v":0},2223093.5829518,1262.35976005722,1327.03560477089,126300.651850436,733868.167732343,1262975.36739611,2023976.30368187,null,0,0,0,{"$f":"年金万能利益演示!P67","v":0},3761074.35962826,6599046.29464469,10727074.4095139,4513289.23155391,7918855.55357363,12872489.2914167,3761074.35962826,6599046.29464469,10727074.4095139,null,57,87,0.0816472,null,56,0.0033656,0.0020856]
[{"$f":"Reserve!A73","v":58},88,{"$f":"IF(B63=\"\",\"\",年金利益演示!H62+IF(年金万能利益演示!$E$1=\"中\",年金利益演示!F62,IF(年金万能利益演示!$E$1=\"低\",年金利益演示!E62,年金利益演示!G62)))","v":124835.400221644},null,{"$f":"年金万能利益演示!E68","v":0},2347928.98317344,1248.35400221644,1314.77090392381,124901.817123351,777195.235350322,1344789.62235361,2170395.24532745,null,0,0,0,{"$f":"年金万能利益演示!P68","v":0},3983125.5811704,7026525.77679761,11503094.8002355,4779750.69740448,8431830.93215713,13803713.7602826,3983125.5811704,7026525.77679761,11503094.8002355,null,58,88,0.0899712,null,57,0.0037408,0.0023832]
[{"$f":"Reserve!A74","v":59},89,{"$f":"IF(B64=\"\",\"\",年金利益演示!H63+IF(年金万能利益演示!$E$1=\"中\",年金利益演示!F63,IF(年金万能利益演示!$E$1=\"低\",年金利益演示!E63,年金利益演示!G63)))","v":123396.95490752},null,{"$f":"年金万能利益演示!E69","v":0},2471325.93808096,1233.9695490752,1302.18506864812,123465.170427093,821318.150319498,1429998.18944494,2325311.99413252,null,0,0,0,{"$f":"年金万能利益演示!P69","v":0},4209255.52038743,7471740.53984981,12324153.5689023,5051106.62446491,8966088.64781977,14788984.2826828,4209255.52038743,7471740.53984981,12324153.5689023,null,59,89,0.0990688,null,58,0.00422,0.002728]
[{"$f":"Reserve!A75","v":60},90,{"$f":"IF(B65=\"\",\"\",年金利益演示!H64+IF(年金万能利益演示!$E$1=\"中\",年金利益演示!F64,IF(年金万能利益演示!$E$1=\"低\",年金利益演示!E64,年金利益演示!G64)))","v":121920.21174722},null,{"$f":"年金万能利益演示!E70","v":0},2593246.14982818,1219.2021174722,1289.26408282222,121990.27371257,866249.15882,1518746.16271248,2489228.76852298,null,0,0,0,{"$f":"年金万能利益演示!P70","v":0},4439526.9389525,7935448.70017269,13192912.4731718,5327432.326743,9522538.44020722,15831494.9678062,4439526.9389525,7935448.70017269,13192912.4731718,null,60,90,0.1089968,null,59,0.0048312,0.0030528]
[{"$f":"Reserve!A76","v":61},91,{"$f":"IF(B66=\"\",\"\",年金利益演示!H65+IF(年金万能利益演示!$E$1=\"中\",年金利益演示!F65,IF(年金万能利益演示!$E$1=\"低\",年金利益演示!E65,年金利益演示!G65)))","v":20405.7744053234},null,{"$f":"年金万能利益演示!E71","v":0},2613651.92423351,204.057744053235,1275.99273863746,21477.7093999077,892200.929670481,1591385.28191452,2642878.03651434,null,0,0,0,{"$f":"年金万能利益演示!P71","v":0},4572529.76456122,8314988.09800336,14007253.593526,5487035.71747346,9977985.71760403,16808704.3122312,4572529.76456122,8314988.09800336,14007253.593526,null,61,91,0.1198104,null,60,0.0055912,0.0034176]
[{"$f":"Reserve!A77","v":62},92,{"$f":"IF(B67=\"\",\"\",年金利益演示!H66+IF(年金万能利益演示!$E$1=\"中\",年金利益演示!F66,IF(年金万能利益演示!$E$1=\"低\",年金利益演示!E66,年金利益演示!G66)))","v":20254.8392932899},null,{"$f":"年金万能利益演示!E72","v":0},2633906.7635268,202.548392932899,1262.35976005722,21314.6506604142,918768.883044326,1667260.54973276,2805713.64883729,null,0,0,0,{"$f":"年金万能利益演示!P72","v":0},4708690.52560217,8711436.37235365,14870282.3388376,5650428.6307226,10453723.6468244,17844338.8066051,4708690.52560217,8711436.37235365,14870282.3388376,null,62,92,0.1315648,null,61,0.0062936,0.0038248]
[{"$f":"Reserve!A78","v":63},93,{"$f":"IF(B68=\"\",\"\",年金利益演示!H67+IF(年金万能利益演示!$E$1=\"中\",年金利益演示!F67,IF(年金万能利益演示!$E$1=\"低\",年金利益演示!E67,年金利益演示!G67)))","v":20099.6428642971},null,{"$f":"年金万能利益演示!E73","v":0},2654006.4063911,200.996428642971,1248.35400221644,21147.0004378706,945967.505208008,1746516.6745583,2978285.8678551,null,0,0,0,{"$f":"年金万能利益演示!P73","v":0},4848083.46419104,9125549.62456713,15784915.099632,5817700.15702925,10950659.5494806,18941898.1195584,4848083.46419104,9125549.62456713,15784915.099632,null,63,93,0.1443136,null,62,0.00698,0.0042808]
[{"$f":"Reserve!A79","v":64},94,{"$f":"IF(B69=\"\",\"\",年金利益演示!H68+IF(年金万能利益演示!$E$1=\"中\",年金利益演示!F68,IF(年金万能利益演示!$E$1=\"低\",年金利益演示!E68,年金利益演示!G68)))","v":19939.7494658122},null,{"$f":"年金万能利益演示!E74","v":0},2673946.15585691,199.397494658122,1233.9695490752,20974.3215202293,973811.557142254,1829304.78921747,3161177.88423045,null,0,0,0,{"$f":"年金万能利益演示!P74","v":0},4990784.23035405,9558117.52366129,16754242.7864214,5988941.07642486,11469741.0283936,20105091.3437057,4990784.23035405,9558117.52366129,16754242.7864214,null,64,94,0.1581048,null,63,0.0077416,0.0047904]
[{"$f":"Reserve!A80","v":65},95,{"$f":"IF(B70=\"\",\"\",年金利益演示!H69+IF(年金万能利益演示!$E$1=\"中\",年金利益演示!F69,IF(年金万能利益演示!$E$1=\"低\",年金利益演示!E69,年金利益演示!G69)))","v":19775.1062643126},null,{"$f":"年金万能利益演示!E75","v":0},2693721.26212122,197.751062643126,1219.2021174722,20796.5573191417,1002316.15753464,1915782.81619609,3355007.86874811,null,0,0,0,{"$f":"年金万能利益演示!P75","v":0},5136870.30736502,10009965.2146246,17781541.704365,6164244.36883803,12011958.2575495,21337850.0452379,5136870.30736502,10009965.2146246,17781541.704365,null,65,95,{"$f":"IF(AC70=\"\",0,VLOOKUP(AC70-1,AF:AH,IF(Sex=\"M\",2,3),FALSE))","v":0.1729824},null,64,0.0085848,0.0053608]
[{"$f":"Reserve!A81","v":66},{"$f":"IF(OR(A71=\"\",A71=BP),\"\",B70+1)","v":96},{"$f":"IF(B71=\"\",\"\",年金利益演示!H70+IF(年金万能利益演示!$E$1=\"中\",年金利益演示!F70,IF(年金万能利益演示!$E$1=\"低\",年金利益演示!E70,年金利益演示!G70)))","v":19605.4159439807},null,{"$f":"年金万能利益演示!E76","v":0},{"$f":"IF(B71=\"\",\"\",IF(A71=1,SUM(C71:E71),SUM(C71:E71)+F70))","v":2713326.6780652},196.054159439807,{"$f":"IF(B71=\"\",\"\",IF(A71<7,0,C66*1%))","v":204.057744053235},{"$f":"IF(B71=\"\",\"\",C71+D71+E71-G71+H71)","v":19613.4195285941},1031296.74537872,2005915.72683063,3560231.02477871,null,{"$f":"IF(B71=\"\",\"\",J71*AD71*IF(B71>75,0,1)+M71*AD71)","v":0},{"$f":"IF(B71=\"\",\"\",K71*AD71*IF(B71>75,0,1)+M71*AD71)","v":0},{"$f":"IF(B71=\"\",\"\",L71*AD71*IF(B71>75,0,1)+M71*AD71)","v":0},{"$f":"年金万能利益演示!P76","v":0},5285395.82006596,10480909.67269,18869224.4313272,{"$f":"IF(B71=\"\",\"\",R71*IF(B71<19,1,IF(B71<42,1.6,IF(B71<62,1.4,1.2)))+M71)","v":6342474.98407915},{"$f":"IF(B71=\"\",\"\",S71*IF(B71<19,1,IF(B71<42,1.6,IF(B71<62,1.4,1.2)))+M71)","v":12577091.607228},{"$f":"IF(B71=\"\",\"\",T71*IF(B71<19,1,IF(B71<42,1.6,IF(B71<62,1.4,1.2)))+M71)","v":22643069.3175926},5285395.82006596,10480909.67269,18869224.4313272,null,{"$f":"A71","v":66},{"$f":"B71","v":96},0.1889832,null,65,0.00952,0.0059992]
[{"$f":"Reserve!A82","v":67},97,{"$f":"IF(B72=\"\",\"\",年金利益演示!H71+IF(年金万能利益演示!$E$1=\"中\",年金利益演示!F71,IF(年金万能利益演示!$E$1=\"低\",年金利益演示!E71,年金利益演示!G71)))","v":19430.284305642},null,{"$f":"年金万能利益演示!E77","v":0},2732756.96237084,{"$f":"IF(B72=\"\",\"\",C72*1%+(D72+E72)*3%)","v":194.30284305642},202.548392932899,19438.5298555184,1060966.8699843,2100069.64050911,3777732.59223654,null,0,0,0,{"$f":"年金万能利益演示!P77","v":0},5437455.20866951,10972863.8716601,20021982.7388536,6524946.25040341,13167436.6459921,24026379.2866244,5437455.20866951,10972863.8716601,20021982.7388536,null,67,97,0.2061328,null,66,0.0105832,0.0067264]
[{"$f":"Reserve!A83","v":68},98,{"$f":"IF(B73=\"\",\"\",年金利益演示!H72+IF(年金万能利益演示!$E$1=\"中\",年金利益演示!F72,IF(年金万能利益演示!$E$1=\"低\",年金利益演示!E72,年金利益演示!G72)))","v":19249.5383028942},null,{"$f":"年金万能利益演示!E78","v":0},2752006.50067374,192.495383028942,200.996428642971,19258.0393485083,1091342.6496036,2198424.38220172,4008248.15564043,null,0,0,0,{"$f":"年金万能利益演示!P78","v":0},{"$f":"IF(B73=\"\",\"\",IF(A73=1,I73-N73,R72+I73-N73)*(1+2.5%)-Q73)","v":5593131.07921847},{"$f":"IF(B73=\"\",\"\",IF(A73=1,I73-O73,S72+I73-O73)*(1+4.5%)-Q73)","v":11486767.397004},{"$f":"IF(B73=\"\",\"\",IF(A73=1,I73-P73,T72+I73-P73)*(1+6%)-Q73)","v":21243715.2248943},6711757.29506216,13784120.8764048,25492458.2698731,5593131.07921847,11486767.397004,21243715.2248943,null,68,98,0.2244424,null,67,0.011764,0.0075504]
[{"$f":"Reserve!A84","v":69},99,{"$f":"IF(B74=\"\",\"\",年金利益演示!H73+IF(年金万能利益演示!$E$1=\"中\",年金利益演示!F73,IF(年金万能利益演示!$E$1=\"低\",年金利益演示!E73,年金利益演示!G73)))","v":19062.990751441},null,{"$f":"年金万能利益演示!E79","v":0},2771069.49142518,190.62990751441,199.397494658122,19071.7583385848,{"$f":"IF(B74=\"\",\"\",IF(A74=1,I74,R73+I74)*IF(B74<19,0,IF(B74<42,0.6,IF(B74<62,0.4,0.2))))","v":1122440.56751141},{"$f":"IF(B74=\"\",\"\",IF(A74=1,I74,S73+I74)*IF(B74<19,0,IF(B74<42,0.6,IF(B74<62,0.4,0.2))))","v":2301167.83106852},{"$f":"IF(B74=\"\",\"\",IF(A74=1,I74,T73+I74)*IF(B74<19,0,IF(B74<42,0.6,IF(B74<62,0.4,0.2))))","v":4252557.39664657},null,0,0,0,{"$f":"年金万能利益演示!P79","v":0},5752507.90849598,12023601.917333,22538554.2022268,6903009.49019518,14428322.3007996,27046265.0426722,5752507.90849598,12023601.917333,22538554.2022268,null,69,99,0.2439096,null,68,0.0130752,0.0084736]
[{"$f":"Reserve!A85","v":70},100,{"$f":"IF(B75=\"\",\"\",年金利益演示!H74+IF(年金万能利益演示!$E$1=\"中\",年金利益演示!F74,IF(年金万能利益演示!$E$1=\"低\",年金利益演示!E74,年金利益演示!G74)))","v":18870.4310613998},null,{"$f":"年金万能利益演示!E80","v":0},2789939.92248658,188.704310613998,197.751062643126,18879.477813429,1154277.47726188,2408496.27902929,4511486.73600805,null,0,0,0,{"$f":"年金万能利益演示!P80","v":0},5915672.07096715,12584393.057928,23910879.7008427,7098806.48516057,15101271.6695136,28693055.6410112,5915672.07096715,12584393.057928,23910879.7008427,null,70,100,0.2645104,null,69,0.0145312,0.0095088]
[{"$f":"Reserve!A86","v":71},101,{"$f":"IF(B76=\"\",\"\",年金利益演示!H75+IF(年金万能利益演示!$E$1=\"中\",年金利益演示!F75,IF(年金万能利益演示!$E$1=\"低\",年金利益演示!E75,年金利益演示!G75)))","v":18671.6066836685},null,{"$f":"年金万能利益演示!E81","v":0},2808611.52917025,186.716066836685,196.054159439807,18680.9447762716,1186870.60314868,2520614.80054086,4785912.12912379,null,0,0,0,{"$f":"年金万能利益演示!P81","v":0},6082711.841137,13170212.332826,25365334.2843561,7299254.2093644,15804254.7993912,30438401.1412273,{"$f":"IF($B76=\"\",\"\",R76*(1-0%))","v":6082711.841137},{"$f":"IF($B76=\"\",\"\",S76*(1-0%))","v":13170212.332826},{"$f":"IF($B76=\"\",\"\",T76*(1-0%))","v":25365334.2843561},null,71,101,0.2861968,null,70,0.0161472,0.0106696]
[{"$f":"Reserve!A87","v":72},102,{"$f":"IF(B77=\"\",\"\",年金利益演示!H76+IF(年金万能利益演示!$E$1=\"中\",年金利益演示!F76,IF(年金万能利益演示!$E$1=\"低\",年金利益演示!E76,年金利益演示!G76)))","v":18466.1834251238},null,{"$f":"年金万能利益演示!E82","v":0},2827077.71259537,184.661834251238,194.30284305642,18475.8244339289,1220237.53311419,2637737.63145198,5076762.02175801,null,0,0,0,{"$f":"年金万能利益演示!P82","v":0},6253717.3572102,13782179.1243366,26906838.7153174,7504460.82865224,16538614.9492039,32288206.4583809,6253717.3572102,13782179.1243366,26906838.7153174,null,72,102,0.3088952,null,71,0.01794,0.0119712]
[{"$f":"Reserve!A88","v":73},103,{"$f":"IF(B78=\"\",\"\",年金利益演示!H77+IF(年金万能利益演示!$E$1=\"中\",年金利益演示!F77,IF(年金万能利益演示!$E$1=\"低\",年金利益演示!E77,年金利益演示!G77)))","v":18254.3571779336},null,{"$f":"年金万能利益演示!E83","v":0},2845332.0697733,182.543571779336,192.495383028942,18264.3089891832,1254396.33323988,2760088.68666516,5385020.60486132,null,0,0,0,{"$f":"年金万能利益演示!P83","v":0},6428781.20785437,14421463.3878255,28540609.205765,7714537.44942524,17305756.0653905,34248731.046918,6428781.20785437,14421463.3878255,28540609.205765,null,73,103,0.3325008,null,72,0.0199288,0.0134296]
[{"$f":"Reserve!A89","v":74},104,{"$f":"IF(B79=\"\",\"\",年金利益演示!H78+IF(年金万能利益演示!$E$1=\"中\",年金利益演示!F78,IF(年金万能利益演示!$E$1=\"低\",年金利益演示!E78,年金利益演示!G78)))","v":18035.8791982447},null,{"$f":"年金万能利益演示!E84","v":0},2863367.94897155,180.358791982447,190.62990751441,18046.1503137767,1289365.47163363,2887901.90762785,5711731.07121576,null,0,0,0,{"$f":"年金万能利益演示!P84","v":0},6607998.04212235,15089287.4673555,30272174.6774435,7929597.65054682,18107144.9608266,36326609.6129322,6607998.04212235,15089287.4673555,30272174.6774435,null,74,104,0.3568752,null,73,0.0221344,0.0150632]
[{"$f":"Reserve!A90","v":75},105,{"$f":"IF(B80=\"\",\"\",年金利益演示!H79+IF(年金万能利益演示!$E$1=\"中\",年金利益演示!F79,IF(年金万能利益演示!$E$1=\"低\",年金利益演示!E79,年金利益演示!G79)))","v":17810.3683204801},null,{"$f":"年金万能利益演示!E85","v":0},2881178.31729203,178.103683204801,188.704310613998,17820.9689478893,1325163.80221405,3021421.68726068,6057999.12927828,null,0,0,0,{"$f":"年金万能利益演示!P85","v":0},6791464.486347,15786928.315937,32107395.3851749,8149757.38361639,18944313.9791244,38528874.4622099,6791464.486347,15786928.315937,32107395.3851749,null,75,105,0.3818464,null,74,0.0245176,0.0168936]
[{"$f":"Reserve!A91","v":76},"",{"$f":"IF(B81=\"\",\"\",年金利益演示!H80+IF(年金万能利益演示!$E$1=\"中\",年金利益演示!F80,IF(年金万能利益演示!$E$1=\"低\",年金利益演示!E80,年金利益演示!G80)))","v":""},null,{"$f":"年金万能利益演示!E86","v":0},"","","","","","","",null,"","","",{"$f":"年金万能利益演示!P86","v":0},"","","","","","","","","",null,76,"",0,null,75,0.0271512,0.0189616]
[{"$f":"Reserve!A92","v":""},"",{"$f":"IF(B82=\"\",\"\",年金利益演示!H81+IF(年金万能利益演示!$E$1=\"中\",年金利益演示!F81,IF(年金万能利益演示!$E$1=\"低\",年金利益演示!E81,年金利益演示!G81)))","v":""},null,{"$f":"年金万能利益演示!E87","v":0},"","","","","","","",null,"","","",{"$f":"年金万能利益演示!P87","v":0},"","","","","","","","","",null,"","",0,null,76,0.0300616,0.0211928]
[{"$f":"Reserve!A93","v":""},"",{"$f":"IF(B83=\"\",\"\",年金利益演示!H82+IF(年金万能利益演示!$E$1=\"中\",年金利益演示!F82,IF(年金万能利益演示!$E$1=\"低\",年金利益演示!E82,年金利益演示!G82)))","v":""},null,{"$f":"年金万能利益演示!E88","v":0},"","","","","","","",null,"","","",{"$f":"年金万能利益演示!P88","v":0},"","","","","","","","","",null,"","",0,null,77,0.0332752,0.0236816]
[{"$f":"Reserve!A94","v":""},"",{"$f":"IF(B84=\"\",\"\",年金利益演示!H83+IF(年金万能利益演示!$E$1=\"中\",年金利益演示!F83,IF(年金万能利益演示!$E$1=\"低\",年金利益演示!E83,年金利益演示!G83)))","v":""},null,{"$f":"年金万能利益演示!E89","v":0},"","","","","","","",null,"","","",{"$f":"年金万能利益演示!P89","v":0},"","","","","","","","","",null,"","",0,null,78,0.0368224,0.026456]
[{"$f":"Reserve!A95","v":""},"",{"$f":"IF(B85=\"\",\"\",年金利益演示!H84+IF(年金万能利益演示!$E$1=\"中\",年金利益演示!F84,IF(年金万能利益演示!$E$1=\"低\",年金利益演示!E84,年金利益演示!G84)))","v":""},null,{"$f":"年金万能利益演示!E90","v":0},"","","","","","","",null,"","","",{"$f":"年金万能利益演示!P90","v":0},"","","","","","","","","",null,"","",0,null,79,0.040736,0.029548]
[{"$f":"Reserve!A96","v":""},"",{"$f":"IF(B86=\"\",\"\",年金利益演示!H85+IF(年金万能利益演示!$E$1=\"中\",年金利益演示!F85,IF(年金万能利益演示!$E$1=\"低\",年金利益演示!E85,年金利益演示!G85)))","v":""},null,{"$f":"年金万能利益演示!E91","v":0},"","","","","","","",null,"","","",{"$f":"年金万能利益演示!P91","v":0},"","","","","","","","","",null,"","",0,null,80,0.0450496,0.0329928]
[{"$f":"Reserve!A97","v":""},"",{"$f":"IF(B87=\"\",\"\",年金利益演示!H86+IF(年金万能利益演示!$E$1=\"中\",年金利益演示!F86,IF(年金万能利益演示!$E$1=\"低\",年金利益演示!E86,年金利益演示!G86)))","v":""},null,{"$f":"年金万能利益演示!E92","v":0},"","","","","","","",null,"","","",{"$f":"年金万能利益演示!P92","v":0},"","","","","","","","","",null,"","",0,null,81,0.0498024,0.0368264]
[{"$f":"Reserve!A98","v":""},"",{"$f":"IF(B88=\"\",\"\",年金利益演示!H87+IF(年金万能利益演示!$E$1=\"中\",年金利益演示!F87,IF(年金万能利益演示!$E$1=\"低\",年金利益演示!E87,年金利益演示!G87)))","v":""},null,{"$f":"年金万能利益演示!E93","v":0},"","","","","","","",null,"","","",{"$f":"年金万能利益演示!P93","v":0},"","","","","","","","","",null,"","",0,null,82,0.0550328,0.041092]
[{"$f":"Reserve!A99","v":""},"",{"$f":"IF(B89=\"\",\"\",年金利益演示!H88+IF(年金万能利益演示!$E$1=\"中\",年金利益演示!F88,IF(年金万能利益演示!$E$1=\"低\",年金利益演示!E88,年金利益演示!G88)))","v":""},null,{"$f":"年金万能利益演示!E94","v":0},"","","","","","","",null,"","","",{"$f":"年金万能利益演示!P94","v":0},"","","","","","","","","",null,"","",0,null,83,0.0607864,0.0458328]
[{"$f":"Reserve!A100","v":""},"",{"$f":"IF(B90=\"\",\"\",年金利益演示!H89+IF(年金万能利益演示!$E$1=\"中\",年金利益演示!F89,IF(年金万能利益演示!$E$1=\"低\",年金利益演示!E89,年金利益演示!G89)))","v":""},null,{"$f":"年金万能利益演示!E95","v":0},"","","","","","","",null,"","","",{"$f":"年金万能利益演示!P95","v":0},"","","","","","","","","",null,"","",0,null,84,0.0671064,0.0510976]
[{"$f":"Reserve!A101","v":""},"",{"$f":"IF(B91=\"\",\"\",年金利益演示!H90+IF(年金万能利益演示!$E$1=\"中\",年金利益演示!F90,IF(年金万能利益演示!$E$1=\"低\",年金利益演示!E90,年金利益演示!G90)))","v":""},null,{"$f":"年金万能利益演示!E96","v":0},"","","","","","","",null,"","","",{"$f":"年金万能利益演示!P96","v":0},"","","","","","","","","",null,"","",0,null,85,0.0740432,0.0569392]
[{"$f":"Reserve!A102","v":""},"",{"$f":"IF(B92=\"\",\"\",年金利益演示!H91+IF(年金万能利益演示!$E$1=\"中\",年金利益演示!F91,IF(年金万能利益演示!$E$1=\"低\",年金利益演示!E91,年金利益演示!G91)))","v":""},null,{"$f":"年金万能利益演示!E97","v":0},"","","","","","","",null,"","","",{"$f":"年金万能利益演示!P97","v":0},"","","","","","","","","",null,"","",0,null,86,0.0816472,0.0634136]
[{"$f":"Reserve!A103","v":""},"",{"$f":"IF(B93=\"\",\"\",年金利益演示!H92+IF(年金万能利益演示!$E$1=\"中\",年金利益演示!F92,IF(年金万能利益演示!$E$1=\"低\",年金利益演示!E92,年金利益演示!G92)))","v":""},null,{"$f":"年金万能利益演示!E98","v":0},"","","","","","","",null,"","","",{"$f":"年金万能利益演示!P98","v":0},"","","","","","","","","",null,"","",0,null,87,0.0899712,0.07058]
[{"$f":"Reserve!A104","v":""},"",{"$f":"IF(B94=\"\",\"\",年金利益演示!H93+IF(年金万能利益演示!$E$1=\"中\",年金利益演示!F93,IF(年金万能利益演示!$E$1=\"低\",年金利益演示!E93,年金利益演示!G93)))","v":""},null,{"$f":"年金万能利益演示!E99","v":0},"","","","","","","",null,"","","",{"$f":"年金万能利益演示!P99","v":0},"","","","","","","","","",null,"","",0,null,88,0.0990688,0.0785032]
[{"$f":"Reserve!A105","v":""},"",{"$f":"IF(B95=\"\",\"\",年金利益演示!H94+IF(年金万能利益演示!$E$1=\"中\",年金利益演示!F94,IF(年金万能利益演示!$E$1=\"低\",年金利益演示!E94,年金利益演示!G94)))","v":""},null,{"$f":"年金万能利益演示!E100","v":0},"","","","","","","",null,"","","",{"$f":"年金万能利益演示!P100","v":0},"","","","","","","","","",null,"","",0,null,89,0.1089968,0.0872488]
[{"$f":"Reserve!A106","v":""},"",{"$f":"IF(B96=\"\",\"\",年金利益演示!H95+IF(年金万能利益演示!$E$1=\"中\",年金利益演示!F95,IF(年金万能利益演示!$E$1=\"低\",年金利益演示!E95,年金利益演示!G95)))","v":""},null,{"$f":"年金万能利益演示!E101","v":0},"","","","","","","",null,"","","",{"$f":"年金万能利益演示!P101","v":0},"","","","","","","","","",null,"","",0,null,90,0.1198104,0.0968856]
[{"$f":"Reserve!A107","v":""},"",{"$f":"IF(B97=\"\",\"\",年金利益演示!H96+IF(年金万能利益演示!$E$1=\"中\",年金利益演示!F96,IF(年金万能利益演示!$E$1=\"低\",年金利益演示!E96,年金利益演示!G96)))","v":""},null,{"$f":"年金万能利益演示!E102","v":0},"","","","","","","",null,"","","",{"$f":"年金万能利益演示!P102","v":0},"","","","","","","","","",null,"","",0,null,91,0.1315648,0.107484]
[{"$f":"Reserve!A108","v":""},"",{"$f":"IF(B98=\"\",\"\",年金利益演示!H97+IF(年金万能利益演示!$E$1=\"中\",年金利益演示!F97,IF(年金万能利益演示!$E$1=\"低\",年金利益演示!E97,年金利益演示!G97)))","v":""},null,{"$f":"年金万能利益演示!E103","v":0},"","","","","","","",null,"","","",{"$f":"年金万能利益演示!P103","v":0},"","","","","","","","","",null,"","",0,null,92,0.1443136,0.1191168]
[{"$f":"Reserve!A109","v":""},"",{"$f":"IF(B99=\"\",\"\",年金利益演示!H98+IF(年金万能利益演示!$E$1=\"中\",年金利益演示!F98,IF(年金万能利益演示!$E$1=\"低\",年金利益演示!E98,年金利益演示!G98)))","v":""},null,{"$f":"年金万能利益演示!E104","v":0},"","","","","","","",null,"","","",{"$f":"年金万能利益演示!P104","v":0},"","","","","","","","","",null,"","",0,null,93,0.1581048,0.1318528]
[{"$f":"Reserve!A110","v":""},"",{"$f":"IF(B100=\"\",\"\",年金利益演示!H99+IF(年金万能利益演示!$E$1=\"中\",年金利益演示!F99,IF(年金万能利益演示!$E$1=\"低\",年金利益演示!E99,年金利益演示!G99)))","v":""},null,{"$f":"年金万能利益演示!E105","v":0},"","","","","","","",null,"","","",{"$f":"年金万能利益演示!P105","v":0},"","","","","","","","","",null,"","",0,null,94,0.1729824,0.1457608]
[{"$f":"Reserve!A111","v":""},"",{"$f":"IF(B101=\"\",\"\",年金利益演示!H100+IF(年金万能利益演示!$E$1=\"中\",年金利益演示!F100,IF(年金万能利益演示!$E$1=\"低\",年金利益演示!E100,年金利益演示!G100)))","v":""},null,{"$f":"年金万能利益演示!E106","v":0},"","","","","","","",null,"","","",{"$f":"年金万能利益演示!P106","v":0},"","","","","","","","","",null,"","",0,null,95,0.1889832,0.1609032]
[{"$f":"Reserve!A112","v":""},"",{"$f":"IF(B102=\"\",\"\",年金利益演示!H101+IF(年金万能利益演示!$E$1=\"中\",年金利益演示!F101,IF(年金万能利益演示!$E$1=\"低\",年金利益演示!E101,年金利益演示!G101)))","v":""},null,{"$f":"年金万能利益演示!E107","v":0},"","","","","","","",null,"","","",{"$f":"年金万能利益演示!P107","v":0},"","","","","","","","","",null,"","",{"$f":"IF(AC102=\"\",0,VLOOKUP(AC102-1,AF:AH,IF(Sex=\"M\",2,3),FALSE))","v":0},null,96,0.2061328,0.1773336]
[{"$f":"Reserve!A113","v":""},{"$f":"IF(OR(A103=\"\",A103=BP),\"\",B102+1)","v":""},{"$f":"IF(B103=\"\",\"\",年金利益演示!H102+IF(年金万能利益演示!$E$1=\"中\",年金利益演示!F102,IF(年金万能利益演示!$E$1=\"低\",年金利益演示!E102,年金利益演示!G102)))","v":""},null,{"$f":"年金万能利益演示!E108","v":0},"","","","","","","",null,"","","",{"$f":"年金万能利益演示!P108","v":0},"","","","","","","","","",null,"","",0,null,97,0.2244424,0.195096]
[{"$f":"Reserve!A114","v":""},"",{"$f":"IF(B104=\"\",\"\",年金利益演示!H103+IF(年金万能利益演示!$E$1=\"中\",年金利益演示!F103,IF(年金万能利益演示!$E$1=\"低\",年金利益演示!E103,年金利益演示!G103)))","v":""},null,{"$f":"年金万能利益演示!E109","v":0},"","","","","","","",null,"","","",{"$f":"年金万能利益演示!P109","v":0},"","","","","","","","","",null,"","",0,null,98,0.2439096,0.2142184]
[{"$f":"Reserve!A115","v":""},"",{"$f":"IF(B105=\"\",\"\",年金利益演示!H104+IF(年金万能利益演示!$E$1=\"中\",年金利益演示!F104,IF(年金万能利益演示!$E$1=\"低\",年金利益演示!E104,年金利益演示!G104)))","v":""},null,{"$f":"年金万能利益演示!E110","v":0},"","","","","","","",null,"","","",{"$f":"年金万能利益演示!P110","v":0},"","","","","","","","","",null,"","",0,null,99,0.2645104,0.234708]
[{"$f":"Reserve!A116","v":""},"",{"$f":"IF(B106=\"\",\"\",年金利益演示!H105+IF(年金万能利益演示!$E$1=\"中\",年金利益演示!F105,IF(年金万能利益演示!$E$1=\"低\",年金利益演示!E105,年金利益演示!G105)))","v":""},null,{"$f":"年金万能利益演示!E111","v":0},"","","","","","","",null,"","","",{"$f":"年金万能利益演示!P111","v":0},"","","","","","","","","",null,"","",0,null,100,0.2861968,0.256548]
[{"$f":"Reserve!A117","v":""},"",{"$f":"IF(B107=\"\",\"\",年金利益演示!H106+IF(年金万能利益演示!$E$1=\"中\",年金利益演示!F106,IF(年金万能利益演示!$E$1=\"低\",年金利益演示!E106,年金利益演示!G106)))","v":""},null,{"$f":"年金万能利益演示!E112","v":0},"","","","","","","",null,"","","",{"$f":"年金万能利益演示!P112","v":0},"","","","","","","","","",null,"","",0,null,101,0.3088952,0.279692]
[{"$f":"Reserve!A118","v":""},"",{"$f":"IF(B108=\"\",\"\",年金利益演示!H107+IF(年金万能利益演示!$E$1=\"中\",年金利益演示!F107,IF(年金万能利益演示!$E$1=\"低\",年金利益演示!E107,年金利益演示!G107)))","v":""},null,{"$f":"年金万能利益演示!E113","v":0},"","","","","","","",null,"","","",{"$f":"年金万能利益演示!P113","v":0},"","","","","","","","","",null,"","",0,null,102,0.3325008,0.3040552]
[{"$f":"Reserve!A119","v":""},"",{"$f":"IF(B109=\"\",\"\",年金利益演示!H108+IF(年金万能利益演示!$E$1=\"中\",年金利益演示!F108,IF(年金万能利益演示!$E$1=\"低\",年金利益演示!E108,年金利益演示!G108)))","v":""},null,{"$f":"年金万能利益演示!E114","v":0},"","","","","","","",null,"","","",{"$f":"年金万能利益演示!P114","v":0},"","","","","","","","","",null,"","",0,null,103,0.3568752,0.3295152]
[{"$f":"Reserve!A120","v":""},"",{"$f":"IF(B110=\"\",\"\",年金利益演示!H109+IF(年金万能利益演示!$E$1=\"中\",年金利益演示!F109,IF(年金万能利益演示!$E$1=\"低\",年金利益演示!E109,年金利益演示!G109)))","v":""},null,{"$f":"年金万能利益演示!E115","v":0},"","","","","","","",null,"","","",{"$f":"年金万能利益演示!P115","v":0},"","","","","","","","","",null,"","",0,null,104,0.3818464,0.3559032]
[{"$f":"Reserve!A121","v":""},"",{"$f":"IF(B111=\"\",\"\",年金利益演示!H110+IF(年金万能利益演示!$E$1=\"中\",年金利益演示!F110,IF(年金万能利益演示!$E$1=\"低\",年金利益演示!E110,年金利益演示!G110)))","v":""},null,{"$f":"年金万能利益演示!E116","v":0},"","","","","","","",null,"","","",{"$f":"年金万能利益演示!P116","v":0},"","","","","","","","","",null,"","",0,null,105,0.8,0.8]
[{"$f":"Reserve!A122","v":""},null,null,null,{"$f":"年金万能利益演示!E117","v":0}]
["计算公式：",null,"A(1)=0；\nA(2)=b(1)+g(1)；\nA(t)=b(t-1)+g(t-1)\n","输入值，最低10元，高于10元必须为1000元的整数倍，仅限首年交纳","输入值，必须为1000元的整数倍","D(t)=D(t-1)\n+A(t)+B(t)+C(t)","E(t)=A(t)×1%+B(t)×3%+C(t)×3%","Z(t)=if(X2(t)<7，0，A(t-5))×1%","F(t)=A(t)+B(t)+C(t)-E(t)+Z(t)","G(t)=(O(t-1)+F(t))×α","H(t)=(P(t-1)+F(t))×α","I(t)=(Q(t-1)+F(t))×α","输入值","K(t)=G(t)×Y(t)×if(X(t)>75,0,1)+J(t)×Y(t)","L(t)=H(t)×Y(t)×if(X(t)>75,0,1)+J(t)×Y(t)","M(t)=I(t)×Y(t)×if(X(t)>75,0,1)+J(t)×Y(t)","输入值","O(t)=(O(t-1)\n+F(t)-K(t))×(1+2.5%)-N(t)","P(t)=(P(t-1)\n+F(t)-L(t))×(1+4.5%)-N(t)","Q(t)=(Q(t-1)\n+F(t)-M(t))×(1+6%)-N(t)","R(t)=O(t)×β+J(t)","S(t)=P(t)×β+J(t)","T(t)=Q(t)×β+J(t)","U(t)=O(t)×(1-γ(t))","V(t)=P(t)×\n(1-γ(t))","W(t)=Q(t)×(1-γ(t))",null,null,null,"Y 与鑫账户万能险基础数据相同"]
[null,null,"注:若选择低档或高档红利进行演示，则：g(1)分别变为：f(1)或h(1)，    g(t-1)分别变为f(t-1)或h(t-1)",null,null,null,null,null,null,"α=if(X(t)<19,0,if(X(t)<42,0.6,if((X(t)<62,0.4,0.2)))",null,null,null,null,null,null,null,null,null,null,"β=if(X(t)<19,1,if(X(t)<42,1.6,if((X(t)<62,1.4,1.2)))",null,null,"其中，\nγ(1)=5%；γ(2)=4%；γ(3)=3%；γ(4)=2%；γ(5)=1%；γ(6+)=0"]

{"sheet":"年金万能利益演示","index":17,"n_rows":128,"n_cols":29,"rows_kept":128,"cut":false,"hidden":false,"merged":[[7,2,7,4],[7,7,7,9],[7,16,7,18],[7,20,7,23],[7,25,7,28],[8,21,8,23],[8,26,8,28],[119,2,119,4],[119,7,119,9],[119,16,119,18],[119,20,119,23],[119,25,119,28],[120,21,120,23],[120,26,120,28],[127,0,127,28],[7,0,9,0],[119,0,121,0],[7,1,9,1],[119,1,121,1],[8,2,9,2],[120,2,121,2],[8,3,9,3],[120,3,121,3],[8,4,9,4],[120,4,121,4],[7,5,9,5],[119,5,121,5],[7,6,9,6],[119,6,121,6],[8,7,9,7],[120,7,121,7],[8,8,9,8],[120,8,121,8],[8,9,9,9],[120,9,121,9],[7,10,9,10],[119,10,121,10],[7,11,9,11],[119,11,121,11],[7,12,9,12],[119,12,121,12],[7,13,9,13],[119,13,121,13],[7,14,9,14],[119,14,121,14],[7,15,9,15],[119,15,121,15],[8,16,9,16],[120,16,121,16],[8,17,9,17],[120,17,121,17],[8,18,9,18],[120,18,121,18],[7,19,9,19],[119,19,121,19],[8,20,9,20],[120,20,121,20],[7,24,9,24],[119,24,121,24],[8,25,9,25],[120,25,121,25]]}
["被保险人年龄",30,null,"红利演示","中"]
["被保险人性别","男",null,"万能演示","中"]
["交费期间",10,null,"说明1：本表中绿色背景的被保险人信息为可输入/下拉选择项目，请按提示投保规则输入；"]
["年交保费",100000,null,"说明2：下表中的“万能趸交保险费”首行、“万能追加保费”和“部分领取”两列可手动输入数据，其他数据均为自动生成，请勿随意修改"]
[]
["泰康乐鑫年年年金保险产品计划（嘉福1号版）"]
[null,null,null,null,null,null,null,null,null,null,null,null,null,null,null,null,null,null,null,null,null,null,null,null,null,null,"单位：人民币元"]
["保单\n年度","被保险人年度末年龄","当年度保险费",null,null,"年金合同和万能合同累计保险费","当年度末年金合同生存类保险金给付金额","年金合同当年度末红利金额",null,null,"初始费用",{"$f":"\"转入万能账户金额（含年金合同生存类保险金、\"&E1&\"档红利）\"","v":"转入万能账户金额（含年金合同生存类保险金、中档红利）"},{"$f":"\"持续奖金（含\"&E1&\"档红利）\"","v":"持续奖金（含中档红利）"},{"$f":"\"风险保险金额（含\"&E2&\"档万能账户收益）\"","v":"风险保险金额（含中档万能账户收益）"},{"$f":"\"保障成本（含\"&E2&\"档万能账户收益）\"","v":"保障成本（含中档万能账户收益）"},"万能账户年度末部分领取","万能险年度末保单账户价值",null,null,{"$f":"\"年金合同和万能合同年度末身故总利益（含\"&E2&\"档万能账户收益）\"","v":"年金合同和万能合同年度末身故总利益（含中档万能账户收益）"},"年度末身故给付金额\n",null,null,null,{"$f":"\"年金合同和万能合同年度末退保总利益（含\"&E2&\"档万能账户收益）\"","v":"年金合同和万能合同年度末退保总利益（含中档万能账户收益）"},"年度末现金价值\n"]
[null,null,"年金合同保险费","万能合同趸交保险费","万能合同追加保险费",null,null,"红利收益演示（低）","红利收益演示（中）","红利收益演示（高）",null,null,null,null,null,null,"万能收益演示（低）","万能收益演示（中）","万能收益演示（高）",null,"年金合同身故保险金给付金额","万能合同身故保险金给付金额",null,null,null,"年金合同年度末现金价值（不含年度末生存给付）","万能合同年度末现金价值"]
[null,null,null,null,null,null,null,null,null,null,null,null,null,null,null,null,null,null,null,null,null,"万能收益演示（低）","万能收益演示（中）","万能收益演示（高）",null,null,"万能收益演示（低）","万能收益演示（中）","万能收益演示（高）"]
[{"$f":"Reserve!A16","v":1},{"$f":"IF(OR(A11=\"\",A11=BP),\"\",Age+1)","v":31},{"$f":"IF(B11=\"\",\"\",年金利益演示!C6)","v":100000},10,null,{"$f":"IF(B11=\"\",\"\",IF(A11=1,SUM(C11:E11),F10+SUM(C11:E11)))","v":100010},{"$f":"IF(B11=\"\",\"\",年金利益演示!H6)","v":0},{"$f":"IF(B11=\"\",\"\",年金利益演示!E6)","v":0},{"$f":"IF(B11=\"\",\"\",年金利益演示!F6)","v":762.891223835037},{"$f":"IF(B11=\"\",\"\",年金利益演示!G6)","v":1335.05964171131},{"$f":"IF(B11=\"\",\"\",万能利益演示!G6)","v":0.3},{"$f":"IF(B11=\"\",\"\",G11+IF($E$1=\"中\",I11,IF($E$1=\"低\",H11,J11)))","v":762.891223835037},{"$f":"IF(B11=\"\",\"\",万能利益演示!H6)","v":0},{"$f":"IF(B11=\"\",\"\",IF($E$2=\"中\",万能利益演示!K6,IF($E$2=\"低\",万能利益演示!J6,万能利益演示!L6)))","v":5.82},{"$f":"IF(B11=\"\",\"\",IF($E$2=\"中\",万能利益演示!O6,IF($E$2=\"低\",万能利益演示!N6,万能利益演示!P6)))","v":0.003533904},null,{"$f":"IF($B11=\"\",\"\",万能利益演示!R6)","v":9.9388777484},{"$f":"IF($B11=\"\",\"\",万能利益演示!S6)","v":10.13280707032},{"$f":"IF($B11=\"\",\"\",万能利益演示!T6)","v":10.27825406176},{"$f":"IF(B11=\"\",\"\",U11+IF($E$2=\"中\",W11,IF($E$2=\"低\",V11,X11)))","v":100016.212491313},{"$f":"IF(B11=\"\",\"\",年金利益演示!I6)","v":100000},{"$f":"IF($B11=\"\",\"\",万能利益演示!U6)","v":15.90220439744},{"$f":"IF($B11=\"\",\"\",万能利益演示!V6)","v":16.212491312512},{"$f":"IF($B11=\"\",\"\",万能利益演示!W6)","v":16.445206498816},{"$f":"IF(B11=\"\",\"\",Z11+IF($E$2=\"中\",AB11,IF($E$2=\"低\",AA11,AC11))+G11)","v":38209.6261667168},{"$f":"IF(B11=\"\",\"\",年金利益演示!J6)","v":38200},{"$f":"IF($B11=\"\",\"\",万能利益演示!X6)","v":9.44193386098},{"$f":"IF($B11=\"\",\"\",万能利益演示!Y6)","v":9.626166716804},{"$f":"IF($B11=\"\",\"\",万能利益演示!Z6)","v":9.764341358672}]
[{"$f":"Reserve!A17","v":2},{"$f":"IF(OR(A12=\"\",A12=BP),\"\",B11+1)","v":32},{"$f":"IF(B12=\"\",\"\",年金利益演示!C7)","v":100000},null,null,{"$f":"IF(B12=\"\",\"\",IF(A12=1,SUM(C12:E12),F11+SUM(C12:E12)))","v":200010},{"$f":"IF(B12=\"\",\"\",年金利益演示!H7)","v":0},{"$f":"IF(B12=\"\",\"\",年金利益演示!E7)","v":0},{"$f":"IF(B12=\"\",\"\",年金利益演示!F7)","v":2007.75902405915},{"$f":"IF(B12=\"\",\"\",年金利益演示!G7)","v":3513.57829210351},{"$f":"IF(B12=\"\",\"\",万能利益演示!G7)","v":7.62891223835037},{"$f":"IF(B12=\"\",\"\",G12+IF($E$1=\"中\",I12,IF($E$1=\"低\",H12,J12)))","v":2007.75902405915},{"$f":"IF(B12=\"\",\"\",万能利益演示!H7)","v":0},{"$f":"IF(B12=\"\",\"\",IF($E$2=\"中\",万能利益演示!K7,IF($E$2=\"低\",万能利益演示!J7,万能利益演示!L7)))","v":459.237071200204},{"$f":"IF(B12=\"\",\"\",IF($E$2=\"中\",万能利益演示!O7,IF($E$2=\"低\",万能利益演示!N7,万能利益演示!P7)))","v":0.289503049684608},null,{"$f":"IF($B12=\"\",\"\",万能利益演示!R7)","v":784.034553638409},{"$f":"IF($B12=\"\",\"\",万能利益演示!S7)","v":799.535368320101},{"$f":"IF($B12=\"\",\"\",万能利益演示!T7)","v":811.166068050585},{"$f":"IF(B12=\"\",\"\",U12+IF($E$2=\"中\",W12,IF($E$2=\"低\",V12,X12)))","v":201279.256589312},{"$f":"IF(B12=\"\",\"\",年金利益演示!I7)","v":200000},{"$f":"IF($B12=\"\",\"\",万能利益演示!U7)","v":1254.45528582145},{"$f":"IF($B12=\"\",\"\",万能利益演示!V7)","v":1279.25658931216},{"$f":"IF($B12=\"\",\"\",万能利益演示!W7)","v":1297.86570888094},{"$f":"IF(B12=\"\",\"\",Z12+IF($E$2=\"中\",AB12,IF($E$2=\"低\",AA12,AC12))+G12)","v":89167.5539535873},{"$f":"IF(B12=\"\",\"\",年金利益演示!J7)","v":88400},{"$f":"IF($B12=\"\",\"\",万能利益演示!X7)","v":752.673171492873},{"$f":"IF($B12=\"\",\"\",万能利益演示!Y7)","v":767.553953587297},{"$f":"IF($B12=\"\",\"\",万能利益演示!Z7)","v":778.719425328562}]
[{"$f":"Reserve!A18","v":3},33,{"$f":"IF(B13=\"\",\"\",年金利益演示!C8)","v":100000},null,null,300010,{"$f":"IF(B13=\"\",\"\",年金利益演示!H8)","v":0},{"$f":"IF(B13=\"\",\"\",年金利益演示!E8)","v":0},{"$f":"IF(B13=\"\",\"\",年金利益演示!F8)","v":3283.66684292722},{"$f":"IF(B13=\"\",\"\",年金利益演示!G8)","v":5746.41697512263},{"$f":"IF(B13=\"\",\"\",万能利益演示!G8)","v":20.0775902405915},3283.66684292722,{"$f":"IF(B13=\"\",\"\",万能利益演示!H8)","v":0},{"$f":"IF(B13=\"\",\"\",IF($E$2=\"中\",万能利益演示!K8,IF($E$2=\"低\",万能利益演示!J8,万能利益演示!L8)))","v":1672.3300812832},{"$f":"IF(B13=\"\",\"\",IF($E$2=\"中\",万能利益演示!O8,IF($E$2=\"低\",万能利益演示!N8,万能利益演示!P8)))","v":1.09704853332178},null,{"$f":"IF($B13=\"\",\"\",万能利益演示!R8)","v":2839.89066604541},{"$f":"IF($B13=\"\",\"\",万能利益演示!S8)","v":2911.49514251758},{"$f":"IF($B13=\"\",\"\",万能利益演示!T8)","v":2965.61062802195},304658.392228028,{"$f":"IF(B13=\"\",\"\",年金利益演示!I8)","v":300000},{"$f":"IF($B13=\"\",\"\",万能利益演示!U8)","v":4543.82506567266},{"$f":"IF($B13=\"\",\"\",万能利益演示!V8)","v":4658.39222802813},{"$f":"IF($B13=\"\",\"\",万能利益演示!W8)","v":4744.97700483513},150924.150288242,{"$f":"IF(B13=\"\",\"\",年金利益演示!J8)","v":148100},{"$f":"IF($B13=\"\",\"\",万能利益演示!X8)","v":2754.69394606405},{"$f":"IF($B13=\"\",\"\",万能利益演示!Y8)","v":2824.15028824205},{"$f":"IF($B13=\"\",\"\",万能利益演示!Z8)","v":2876.6423091813}]
[{"$f":"Reserve!A19","v":4},34,{"$f":"IF(B14=\"\",\"\",年金利益演示!C9)","v":100000},null,null,400010,{"$f":"IF(B14=\"\",\"\",年金利益演示!H9)","v":0},{"$f":"IF(B14=\"\",\"\",年金利益演示!E9)","v":0},{"$f":"IF(B14=\"\",\"\",年金利益演示!F9)","v":4591.39417173009},{"$f":"IF(B14=\"\",\"\",年金利益演示!G9)","v":8034.93980052766},{"$f":"IF(B14=\"\",\"\",万能利益演示!G9)","v":32.8366684292722},4591.39417173009,{"$f":"IF(B14=\"\",\"\",万能利益演示!H9)","v":0},{"$f":"IF(B14=\"\",\"\",IF($E$2=\"中\",万能利益演示!K9,IF($E$2=\"低\",万能利益演示!J9,万能利益演示!L9)))","v":3697.39519020932},{"$f":"IF(B14=\"\",\"\",IF($E$2=\"中\",万能利益演示!O9,IF($E$2=\"低\",万能利益演示!N9,万能利益演示!P9)))","v":2.52901831010317},null,{"$f":"IF($B14=\"\",\"\",万能利益演示!R9)","v":6240.42673892816},{"$f":"IF($B14=\"\",\"\",万能利益演示!S9)","v":6436.98713214717},{"$f":"IF($B14=\"\",\"\",万能利益演示!T9)","v":6586.72294972742},410299.179411435,{"$f":"IF(B14=\"\",\"\",年金利益演示!I9)","v":400000},{"$f":"IF($B14=\"\",\"\",万能利益演示!U9)","v":9984.68278228506},{"$f":"IF($B14=\"\",\"\",万能利益演示!V9)","v":10299.1794114355},{"$f":"IF($B14=\"\",\"\",万能利益演示!W9)","v":10538.7567195639},219808.247389504,{"$f":"IF(B14=\"\",\"\",年金利益演示!J9)","v":213500},{"$f":"IF($B14=\"\",\"\",万能利益演示!X9)","v":6115.6182041496},{"$f":"IF($B14=\"\",\"\",万能利益演示!Y9)","v":6308.24738950422},{"$f":"IF($B14=\"\",\"\",万能利益演示!Z9)","v":6454.98849073287}]
[{"$f":"Reserve!A20","v":5},35,{"$f":"IF(B15=\"\",\"\",年金利益演示!C10)","v":100000},null,null,500010,{"$f":"IF(B15=\"\",\"\",年金利益演示!H10)","v":100000},{"$f":"IF(B15=\"\",\"\",年金利益演示!E10)","v":0},{"$f":"IF(B15=\"\",\"\",年金利益演示!F10)","v":5931.74265568655},{"$f":"IF(B15=\"\",\"\",年金利益演示!G10)","v":10380.5496474515},{"$f":"IF(B15=\"\",\"\",万能利益演示!G10)","v":45.9139417173009},105931.742655687,{"$f":"IF(B15=\"\",\"\",万能利益演示!H10)","v":0},{"$f":"IF(B15=\"\",\"\",IF($E$2=\"中\",万能利益演示!K10,IF($E$2=\"低\",万能利益演示!J10,万能利益演示!L10)))","v":6589.48041729597},{"$f":"IF(B15=\"\",\"\",IF($E$2=\"中\",万能利益演示!O10,IF($E$2=\"低\",万能利益演示!N10,万能利益演示!P10)))","v":4.70752481011624},null,{"$f":"IF($B15=\"\",\"\",万能利益演示!R10)","v":11050.8157902222},{"$f":"IF($B15=\"\",\"\",万能利益演示!S10)","v":11471.7590300306},{"$f":"IF($B15=\"\",\"\",万能利益演示!T10)","v":11795.0773604994},518354.814448049,{"$f":"IF(B15=\"\",\"\",年金利益演示!I10)","v":500000},{"$f":"IF($B15=\"\",\"\",万能利益演示!U10)","v":17681.3052643556},{"$f":"IF($B15=\"\",\"\",万能利益演示!V10)","v":18354.8144480489},{"$f":"IF($B15=\"\",\"\",万能利益演示!W10)","v":18872.123776799},299157.04143973,{"$f":"IF(B15=\"\",\"\",年金利益演示!J10)","v":187800},{"$f":"IF($B15=\"\",\"\",万能利益演示!X10)","v":10940.30763232},{"$f":"IF($B15=\"\",\"\",万能利益演示!Y10)","v":11357.0414397303},{"$f":"IF($B15=\"\",\"\",万能利益演示!Z10)","v":11677.1265868944}]
[{"$f":"Reserve!A21","v":6},36,{"$f":"IF(B16=\"\",\"\",年金利益演示!C11)","v":100000},null,null,600010,{"$f":"IF(B16=\"\",\"\",年金利益演示!H11)","v":11560},{"$f":"IF(B16=\"\",\"\",年金利益演示!E11)","v":0},{"$f":"IF(B16=\"\",\"\",年金利益演示!F11)","v":5905.53736166437},{"$f":"IF(B16=\"\",\"\",年金利益演示!G11)","v":10334.6903829126},{"$f":"IF(B16=\"\",\"\",万能利益演示!G11)","v":1059.31742655687},17465.5373616644,{"$f":"IF(B16=\"\",\"\",万能利益演示!H11)","v":0},{"$f":"IF(B16=\"\",\"\",IF($E$2=\"中\",万能利益演示!K11,IF($E$2=\"低\",万能利益演示!J11,万能利益演示!L11)))","v":69806.5105554961},{"$f":"IF(B16=\"\",\"\",IF($E$2=\"中\",万能利益演示!O11,IF($E$2=\"低\",万能利益演示!N11,万能利益演示!P11)))","v":52.2711151039555},null,{"$f":"IF($B16=\"\",\"\",万能利益演示!R11)","v":118767.938001267},{"$f":"IF($B16=\"\",\"\",万能利益演示!S11)","v":121525.049235539},{"$f":"IF($B16=\"\",\"\",万能利益演示!T11)","v":123611.99138691},794440.078776862,{"$f":"IF(B16=\"\",\"\",年金利益演示!I11)","v":600000},{"$f":"IF($B16=\"\",\"\",万能利益演示!U11)","v":190028.700802028},{"$f":"IF($B16=\"\",\"\",万能利益演示!V11)","v":194440.078776862},{"$f":"IF($B16=\"\",\"\",万能利益演示!W11)","v":197779.186219055},378385.049235539,{"$f":"IF(B16=\"\",\"\",年金利益演示!J11)","v":245300},{"$f":"IF($B16=\"\",\"\",万能利益演示!X11)","v":118767.938001267},{"$f":"IF($B16=\"\",\"\",万能利益演示!Y11)","v":121525.049235539},{"$f":"IF($B16=\"\",\"\",万能利益演示!Z11)","v":123611.99138691}]
[{"$f":"Reserve!A22","v":7},37,{"$f":"IF(B17=\"\",\"\",年金利益演示!C12)","v":100000},null,null,700010,{"$f":"IF(B17=\"\",\"\",年金利益演示!H12)","v":11560},{"$f":"IF(B17=\"\",\"\",年金利益演示!E12)","v":0},{"$f":"IF(B17=\"\",\"\",年金利益演示!F12)","v":7115.9380842527},{"$f":"IF(B17=\"\",\"\",年金利益演示!G12)","v":12452.8916474422},{"$f":"IF(B17=\"\",\"\",万能利益演示!G12)","v":174.655373616644},18675.9380842527,{"$f":"IF(B17=\"\",\"\",万能利益演示!H12)","v":7.62891223835037},{"$f":"IF(B17=\"\",\"\",IF($E$2=\"中\",万能利益演示!K12,IF($E$2=\"低\",万能利益演示!J12,万能利益演示!L12)))","v":83294.1360814949},{"$f":"IF(B17=\"\",\"\",IF($E$2=\"中\",万能利益演示!O12,IF($E$2=\"低\",万能利益演示!N12,万能利益演示!P12)))","v":65.635779232218},null,{"$f":"IF($B17=\"\",\"\",万能利益演示!R12)","v":139402.169601626},{"$f":"IF($B17=\"\",\"\",万能利益演示!S12)","v":145002.030952639},{"$f":"IF($B17=\"\",\"\",万能利益演示!T12)","v":149294.512589817},932003.249524223,{"$f":"IF(B17=\"\",\"\",年金利益演示!I12)","v":700000},{"$f":"IF($B17=\"\",\"\",万能利益演示!U12)","v":223043.471362601},{"$f":"IF($B17=\"\",\"\",万能利益演示!V12)","v":232003.249524223},{"$f":"IF($B17=\"\",\"\",万能利益演示!W12)","v":238871.220143707},462662.030952639,{"$f":"IF(B17=\"\",\"\",年金利益演示!J12)","v":306100},{"$f":"IF($B17=\"\",\"\",万能利益演示!X12)","v":139402.169601626},{"$f":"IF($B17=\"\",\"\",万能利益演示!Y12)","v":145002.030952639},{"$f":"IF($B17=\"\",\"\",万能利益演示!Z12)","v":149294.512589817}]
[{"$f":"Reserve!A23","v":8},38,{"$f":"IF(B18=\"\",\"\",年金利益演示!C13)","v":100000},null,null,800010,{"$f":"IF(B18=\"\",\"\",年金利益演示!H13)","v":11560},{"$f":"IF(B18=\"\",\"\",年金利益演示!E13)","v":0},{"$f":"IF(B18=\"\",\"\",年金利益演示!F13)","v":8356.37047421794},{"$f":"IF(B18=\"\",\"\",年金利益演示!G13)","v":14623.6483298814},{"$f":"IF(B18=\"\",\"\",万能利益演示!G13)","v":186.759380842527},19916.3704742179,{"$f":"IF(B18=\"\",\"\",万能利益演示!H13)","v":20.0775902405915},{"$f":"IF(B18=\"\",\"\",IF($E$2=\"中\",万能利益演示!K13,IF($E$2=\"低\",万能利益演示!J13,万能利益演示!L13)))","v":98106.772347774},{"$f":"IF(B18=\"\",\"\",IF($E$2=\"中\",万能利益演示!O13,IF($E$2=\"低\",万能利益演示!N13,万能利益演示!P13)))","v":81.8602908469827},null,{"$f":"IF($B18=\"\",\"\",万能利益演示!R13)","v":161778.178346992},{"$f":"IF($B18=\"\",\"\",万能利益演示!S13)","v":170783.751168438},{"$f":"IF($B18=\"\",\"\",万能利益演示!T13)","v":177782.945180891},1073254.0018695,{"$f":"IF(B18=\"\",\"\",年金利益演示!I13)","v":800000},{"$f":"IF($B18=\"\",\"\",万能利益演示!U13)","v":258845.085355186},{"$f":"IF($B18=\"\",\"\",万能利益演示!V13)","v":273254.001869501},{"$f":"IF($B18=\"\",\"\",万能利益演示!W13)","v":284452.712289425},552743.751168438,{"$f":"IF(B18=\"\",\"\",年金利益演示!J13)","v":370400},{"$f":"IF($B18=\"\",\"\",万能利益演示!X13)","v":161778.178346992},{"$f":"IF($B18=\"\",\"\",万能利益演示!Y13)","v":170783.751168438},{"$f":"IF($B18=\"\",\"\",万能利益演示!Z13)","v":177782.945180891}]
[{"$f":"Reserve!A24","v":9},39,{"$f":"IF(B19=\"\",\"\",年金利益演示!C14)","v":100000},null,null,900010,{"$f":"IF(B19=\"\",\"\",年金利益演示!H14)","v":11560},{"$f":"IF(B19=\"\",\"\",年金利益演示!E14)","v":0},{"$f":"IF(B19=\"\",\"\",年金利益演示!F14)","v":9627.57869818073},{"$f":"IF(B19=\"\",\"\",年金利益演示!G14)","v":16848.2627218163},{"$f":"IF(B19=\"\",\"\",万能利益演示!G14)","v":199.163704742179},21187.5786981807,{"$f":"IF(B19=\"\",\"\",万能利益演示!H14)","v":32.8366684292722},{"$f":"IF(B19=\"\",\"\",IF($E$2=\"中\",万能利益演示!K14,IF($E$2=\"低\",万能利益演示!J14,万能利益演示!L14)))","v":114320.276763806},{"$f":"IF(B19=\"\",\"\",IF($E$2=\"中\",万能利益演示!O14,IF($E$2=\"低\",万能利益演示!N14,万能利益演示!P14)))","v":101.607861987671},null,{"$f":"IF($B19=\"\",\"\",万能利益演示!R14)","v":185967.201825153},{"$f":"IF($B19=\"\",\"\",万能利益演示!S14)","v":199001.635147851},{"$f":"IF($B19=\"\",\"\",万能利益演示!T14)","v":209273.307120223},1218402.61623656,{"$f":"IF(B19=\"\",\"\",年金利益演示!I14)","v":900000},{"$f":"IF($B19=\"\",\"\",万能利益演示!U14)","v":297547.522920244},{"$f":"IF($B19=\"\",\"\",万能利益演示!V14)","v":318402.616236562},{"$f":"IF($B19=\"\",\"\",万能利益演示!W14)","v":334837.291392357},648961.635147851,{"$f":"IF(B19=\"\",\"\",年金利益演示!J14)","v":438400},{"$f":"IF($B19=\"\",\"\",万能利益演示!X14)","v":185967.201825153},{"$f":"IF($B19=\"\",\"\",万能利益演示!Y14)","v":199001.635147851},{"$f":"IF($B19=\"\",\"\",万能利益演示!Z14)","v":209273.307120223}]
[{"$f":"Reserve!A25","v":10},40,{"$f":"IF(B20=\"\",\"\",年金利益演示!C15)","v":100000},null,null,1000010,{"$f":"IF(B20=\"\",\"\",年金利益演示!H15)","v":11560},{"$f":"IF(B20=\"\",\"\",年金利益演示!E15)","v":0},{"$f":"IF(B20=\"\",\"\",年金利益演示!F15)","v":10930.3261597447},{"$f":"IF(B20=\"\",\"\",年金利益演示!G15)","v":19128.0707795533},{"$f":"IF(B20=\"\",\"\",万能利益演示!G15)","v":211.875786981807},22490.3261597447,{"$f":"IF(B20=\"\",\"\",万能利益演示!H15)","v":45.9139417173009},{"$f":"IF(B20=\"\",\"\",IF($E$2=\"中\",万能利益演示!K15,IF($E$2=\"低\",万能利益演示!J15,万能利益演示!L15)))","v":132013.951200461},{"$f":"IF(B20=\"\",\"\",IF($E$2=\"中\",万能利益演示!O15,IF($E$2=\"低\",万能利益演示!N15,万能利益演示!P15)))","v":125.571670381878},null,{"$f":"IF($B20=\"\",\"\",万能利益演示!R15)","v":212042.45316996},{"$f":"IF($B20=\"\",\"\",万能利益演示!S15)","v":229793.075945253},{"$f":"IF($B20=\"\",\"\",万能利益演示!T15)","v":243973.299457377},1367668.9215124,{"$f":"IF(B20=\"\",\"\",年金利益演示!I15)","v":1000000},{"$f":"IF($B20=\"\",\"\",万能利益演示!U15)","v":339267.925071936},{"$f":"IF($B20=\"\",\"\",万能利益演示!V15)","v":367668.921512405},{"$f":"IF($B20=\"\",\"\",万能利益演示!W15)","v":390357.279131803},751653.075945253,{"$f":"IF(B20=\"\",\"\",年金利益演示!J15)","v":510300},{"$f":"IF($B20=\"\",\"\",万能利益演示!X15)","v":212042.45316996},{"$f":"IF($B20=\"\",\"\",万能利益演示!Y15)","v":229793.075945253},{"$f":"IF($B20=\"\",\"\",万能利益演示!Z15)","v":243973.299457377}]
[{"$f":"Reserve!A26","v":11},41,{"$f":"IF(B21=\"\",\"\",年金利益演示!C16)","v":0},null,null,1000010,{"$f":"IF(B21=\"\",\"\",年金利益演示!H16)","v":11560},{"$f":"IF(B21=\"\",\"\",年金利益演示!E16)","v":0},{"$f":"IF(B21=\"\",\"\",年金利益演示!F16)","v":11039.3423419434},{"$f":"IF(B21=\"\",\"\",年金利益演示!G16)","v":19318.849098401},{"$f":"IF(B21=\"\",\"\",万能利益演示!G16)","v":224.903261597447},22599.3423419434,{"$f":"IF(B21=\"\",\"\",万能利益演示!H16)","v":1059.31742655687},{"$f":"IF(B21=\"\",\"\",IF($E$2=\"中\",万能利益演示!K16,IF($E$2=\"低\",万能利益演示!J16,万能利益演示!L16)))","v":151870.689761974},{"$f":"IF(B21=\"\",\"\",IF($E$2=\"中\",万能利益演示!O16,IF($E$2=\"低\",万能利益演示!N16,万能利益演示!P16)))","v":154.908103557214},null,{"$f":"IF($B21=\"\",\"\",万能利益演示!R16)","v":241103.727491551},{"$f":"IF($B21=\"\",\"\",万能利益演示!S16)","v":264346.239033888},{"$f":"IF($B21=\"\",\"\",万能利益演示!T16)","v":283162.520584638},1422953.98245422,{"$f":"IF(B21=\"\",\"\",年金利益演示!I16)","v":1000000},{"$f":"IF($B21=\"\",\"\",万能利益演示!U16)","v":385765.963986482},{"$f":"IF($B21=\"\",\"\",万能利益演示!V16)","v":422953.982454221},{"$f":"IF($B21=\"\",\"\",万能利益演示!W16)","v":453060.032935422},794806.239033888,{"$f":"IF(B21=\"\",\"\",年金利益演示!J16)","v":518900},{"$f":"IF($B21=\"\",\"\",万能利益演示!X16)","v":241103.727491551},{"$f":"IF($B21=\"\",\"\",万能利益演示!Y16)","v":264346.239033888},{"$f":"IF($B21=\"\",\"\",万能利益演示!Z16)","v":283162.520584638}]
[{"$f":"Reserve!A27","v":12},42,{"$f":"IF(B22=\"\",\"\",年金利益演示!C17)","v":0},null,null,1000010,{"$f":"IF(B22=\"\",\"\",年金利益演示!H17)","v":11560},{"$f":"IF(B22=\"\",\"\",年金利益演示!E17)","v":0},{"$f":"IF(B22=\"\",\"\",年金利益演示!F17)","v":11150.9738495448},{"$f":"IF(B22=\"\",\"\",年金利益演示!G17)","v":19514.2042367034},{"$f":"IF(B22=\"\",\"\",万能利益演示!G17)","v":225.993423419434},22710.9738495448,{"$f":"IF(B22=\"\",\"\",万能利益演示!H17)","v":174.655373616644},{"$f":"IF(B22=\"\",\"\",IF($E$2=\"中\",万能利益演示!K17,IF($E$2=\"低\",万能利益演示!J17,万能利益演示!L17)))","v":114757.697330411},{"$f":"IF(B22=\"\",\"\",IF($E$2=\"中\",万能利益演示!O17,IF($E$2=\"低\",万能利益演示!N17,万能利益演示!P17)))","v":125.407211642674},null,{"$f":"IF($B22=\"\",\"\",万能利益演示!R17)","v":270124.896447162},{"$f":"IF($B22=\"\",\"\",万能利益演示!S17)","v":299673.433739533},{"$f":"IF($B22=\"\",\"\",万能利益演示!T17)","v":323911.506253674},1419542.80723535,{"$f":"IF(B22=\"\",\"\",年金利益演示!I17)","v":1000000},{"$f":"IF($B22=\"\",\"\",万能利益演示!U17)","v":378174.855026027},{"$f":"IF($B22=\"\",\"\",万能利益演示!V17)","v":419542.807235346},{"$f":"IF($B22=\"\",\"\",万能利益演示!W17)","v":453476.108755143},839133.433739533,{"$f":"IF(B22=\"\",\"\",年金利益演示!J17)","v":527900},{"$f":"IF($B22=\"\",\"\",万能利益演示!X17)","v":270124.896447162},{"$f":"IF($B22=\"\",\"\",万能利益演示!Y17)","v":299673.433739533},{"$f":"IF($B22=\"\",\"\",万能利益演示!Z17)","v":323911.506253674}]
[{"$f":"Reserve!A28","v":13},43,{"$f":"IF(B23=\"\",\"\",年金利益演示!C18)","v":0},null,null,1000010,{"$f":"IF(B23=\"\",\"\",年金利益演示!H18)","v":11560},{"$f":"IF(B23=\"\",\"\",年金利益演示!E18)","v":0},{"$f":"IF(B23=\"\",\"\",年金利益演示!F18)","v":11265.2850068401},{"$f":"IF(B23=\"\",\"\",年金利益演示!G18)","v":19714.2487619702},{"$f":"IF(B23=\"\",\"\",万能利益演示!G18)","v":227.109738495448},22825.2850068401,{"$f":"IF(B23=\"\",\"\",万能利益演示!H18)","v":186.759380842527},{"$f":"IF(B23=\"\",\"\",IF($E$2=\"中\",万能利益演示!K18,IF($E$2=\"低\",万能利益演示!J18,万能利益演示!L18)))","v":128937.62289257},{"$f":"IF(B23=\"\",\"\",IF($E$2=\"中\",万能利益演示!O18,IF($E$2=\"低\",万能利益演示!N18,万能利益演示!P18)))","v":150.702293636836},null,{"$f":"IF($B23=\"\",\"\",万能利益演示!R18)","v":299975.097982011},{"$f":"IF($B23=\"\",\"\",万能利益演示!S18)","v":336692.055909989},{"$f":"IF($B23=\"\",\"\",万能利益演示!T18)","v":367205.301408363},1471368.87827398,{"$f":"IF(B23=\"\",\"\",年金利益演示!I18)","v":1000000},{"$f":"IF($B23=\"\",\"\",万能利益演示!U18)","v":419965.137174816},{"$f":"IF($B23=\"\",\"\",万能利益演示!V18)","v":471368.878273984},{"$f":"IF($B23=\"\",\"\",万能利益演示!W18)","v":514087.421971708},885352.055909989,{"$f":"IF(B23=\"\",\"\",年金利益演示!J18)","v":537100},{"$f":"IF($B23=\"\",\"\",万能利益演示!X18)","v":299975.097982011},{"$f":"IF($B23=\"\",\"\",万能利益演示!Y18)","v":336692.055909989},{"$f":"IF($B23=\"\",\"\",万能利益演示!Z18)","v":367205.301408363}]
[{"$f":"Reserve!A29","v":14},44,{"$f":"IF(B24=\"\",\"\",年金利益演示!C19)","v":0},null,null,1000010,{"$f":"IF(B24=\"\",\"\",年金利益演示!H19)","v":11560},{"$f":"IF(B24=\"\",\"\",年金利益演示!E19)","v":0},{"$f":"IF(B24=\"\",\"\",年金利益演示!F19)","v":11382.339572526},{"$f":"IF(B24=\"\",\"\",年金利益演示!G19)","v":19919.0942519205},{"$f":"IF(B24=\"\",\"\",万能利益演示!G19)","v":228.252850068401},22942.339572526,{"$f":"IF(B24=\"\",\"\",万能利益演示!H19)","v":199.163704742179},{"$f":"IF(B24=\"\",\"\",IF($E$2=\"中\",万能利益演示!K19,IF($E$2=\"低\",万能利益演示!J19,万能利益演示!L19)))","v":143795.300708601},{"$f":"IF(B24=\"\",\"\",IF($E$2=\"中\",万能利益演示!O19,IF($E$2=\"低\",万能利益演示!N19,万能利益演示!P19)))","v":179.456535284334},null,{"$f":"IF($B24=\"\",\"\",万能利益演示!R19)","v":330675.420573979},{"$f":"IF($B24=\"\",\"\",万能利益演示!S19)","v":375477.691021848},{"$f":"IF($B24=\"\",\"\",万能利益演示!T19)","v":413195.217033786},1525668.76743059,{"$f":"IF(B24=\"\",\"\",年金利益演示!I19)","v":1000000},{"$f":"IF($B24=\"\",\"\",万能利益演示!U19)","v":462945.588803571},{"$f":"IF($B24=\"\",\"\",万能利益演示!V19)","v":525668.767430587},{"$f":"IF($B24=\"\",\"\",万能利益演示!W19)","v":578473.3038473},933737.691021848,{"$f":"IF(B24=\"\",\"\",年金利益演示!J19)","v":546700},{"$f":"IF($B24=\"\",\"\",万能利益演示!X19)","v":330675.420573979},{"$f":"IF($B24=\"\",\"\",万能利益演示!Y19)","v":375477.691021848},{"$f":"IF($B24=\"\",\"\",万能利益演示!Z19)","v":413195.217033786}]
[{"$f":"Reserve!A30","v":15},45,{"$f":"IF(B25=\"\",\"\",年金利益演示!C20)","v":0},null,null,1000010,{"$f":"IF(B25=\"\",\"\",年金利益演示!H20)","v":11560},{"$f":"IF(B25=\"\",\"\",年金利益演示!E20)","v":0},{"$f":"IF(B25=\"\",\"\",年金利益演示!F20)","v":11502.201820799},{"$f":"IF(B25=\"\",\"\",年金利益演示!G20)","v":20128.8531863983},{"$f":"IF(B25=\"\",\"\",万能利益演示!G20)","v":229.42339572526},23062.201820799,{"$f":"IF(B25=\"\",\"\",万能利益演示!H20)","v":211.875786981807},{"$f":"IF(B25=\"\",\"\",IF($E$2=\"中\",万能利益演示!K20,IF($E$2=\"低\",万能利益演示!J20,万能利益演示!L20)))","v":159360.993194252},{"$f":"IF(B25=\"\",\"\",IF($E$2=\"中\",万能利益演示!O20,IF($E$2=\"低\",万能利益演示!N20,万能利益演示!P20)))","v":212.268842934744},null,{"$f":"IF($B25=\"\",\"\",万能利益演示!R20)","v":362247.109703135},{"$f":"IF($B25=\"\",\"\",万能利益演示!S20)","v":416108.773779117},{"$f":"IF($B25=\"\",\"\",万能利益演示!T20)","v":462040.902912181},1582552.28329076,{"$f":"IF(B25=\"\",\"\",年金利益演示!I20)","v":1000000},{"$f":"IF($B25=\"\",\"\",万能利益演示!U20)","v":507145.953584389},{"$f":"IF($B25=\"\",\"\",万能利益演示!V20)","v":582552.283290764},{"$f":"IF($B25=\"\",\"\",万能利益演示!W20)","v":646857.264077054},984368.773779117,{"$f":"IF(B25=\"\",\"\",年金利益演示!J20)","v":556700},{"$f":"IF($B25=\"\",\"\",万能利益演示!X20)","v":362247.109703135},{"$f":"IF($B25=\"\",\"\",万能利益演示!Y20)","v":416108.773779117},{"$f":"IF($B25=\"\",\"\",万能利益演示!Z20)","v":462040.902912181}]
[{"$f":"Reserve!A31","v":16},46,{"$f":"IF(B26=\"\",\"\",年金利益演示!C21)","v":0},null,null,1000010,{"$f":"IF(B26=\"\",\"\",年金利益演示!H21)","v":11560},{"$f":"IF(B26=\"\",\"\",年金利益演示!E21)","v":0},{"$f":"IF(B26=\"\",\"\",年金利益演示!F21)","v":11624.9448834576},{"$f":"IF(B26=\"\",\"\",年金利益演示!G21)","v":20343.6535460508},{"$f":"IF(B26=\"\",\"\",万能利益演示!G21)","v":230.62201820799},23184.9448834576,{"$f":"IF(B26=\"\",\"\",万能利益演示!H21)","v":224.903261597447},{"$f":"IF(B26=\"\",\"\",IF($E$2=\"中\",万能利益演示!K21,IF($E$2=\"低\",万能利益演示!J21,万能利益演示!L21)))","v":175666.102737322},{"$f":"IF(B26=\"\",\"\",IF($E$2=\"中\",万能利益演示!O21,IF($E$2=\"低\",万能利益演示!N21,万能利益演示!P21)))","v":250.570128944516},null,{"$f":"IF($B26=\"\",\"\",万能利益演示!R21)","v":394710.84779817},{"$f":"IF($B26=\"\",\"\",万能利益演示!S21)","v":458665.847616507},{"$f":"IF($B26=\"\",\"\",万能利益演示!T21)","v":513909.845340537},1642132.18666311,{"$f":"IF(B26=\"\",\"\",年金利益演示!I21)","v":1000000},{"$f":"IF($B26=\"\",\"\",万能利益演示!U21)","v":552595.186917438},{"$f":"IF($B26=\"\",\"\",万能利益演示!V21)","v":642132.18666311},{"$f":"IF($B26=\"\",\"\",万能利益演示!W21)","v":719473.783476751},1037325.84761651,{"$f":"IF(B26=\"\",\"\",年金利益演示!J21)","v":567100},{"$f":"IF($B26=\"\",\"\",万能利益演示!X21)","v":394710.84779817},{"$f":"IF($B26=\"\",\"\",万能利益演示!Y21)","v":458665.847616507},{"$f":"IF($B26=\"\",\"\",万能利益演示!Z21)","v":513909.845340537}]
[{"$f":"Reserve!A32","v":17},47,{"$f":"IF(B27=\"\",\"\",年金利益演示!C22)","v":0},null,null,1000010,{"$f":"IF(B27=\"\",\"\",年金利益演示!H22)","v":11560},{"$f":"IF(B27=\"\",\"\",年金利益演示!E22)","v":0},{"$f":"IF(B27=\"\",\"\",年金利益演示!F22)","v":11750.6439071063},{"$f":"IF(B27=\"\",\"\",年金利益演示!G22)","v":20563.6268374359},{"$f":"IF(B27=\"\",\"\",万能利益演示!G22)","v":231.849448834576},23310.6439071063,{"$f":"IF(B27=\"\",\"\",万能利益演示!H22)","v":225.993423419434},{"$f":"IF(B27=\"\",\"\",IF($E$2=\"中\",万能利益演示!K22,IF($E$2=\"低\",万能利益演示!J22,万能利益演示!L22)))","v":192737.97458982},{"$f":"IF(B27=\"\",\"\",IF($E$2=\"中\",万能利益演示!O22,IF($E$2=\"低\",万能利益演示!N22,万能利益演示!P22)))","v":295.73714821062},null,{"$f":"IF($B27=\"\",\"\",万能利益演示!R22)","v":428074.288841907},{"$f":"IF($B27=\"\",\"\",万能利益演示!S22)","v":503218.913296024},{"$f":"IF($B27=\"\",\"\",万能利益演示!T22)","v":568964.847923985},1704506.47861443,{"$f":"IF(B27=\"\",\"\",年金利益演示!I22)","v":1000000},{"$f":"IF($B27=\"\",\"\",万能利益演示!U22)","v":599304.00437867},{"$f":"IF($B27=\"\",\"\",万能利益演示!V22)","v":704506.478614434},{"$f":"IF($B27=\"\",\"\",万能利益演示!W22)","v":796550.787093579},1092578.91329602,{"$f":"IF(B27=\"\",\"\",年金利益演示!J22)","v":577800},{"$f":"IF($B27=\"\",\"\",万能利益演示!X22)","v":428074.288841907},{"$f":"IF($B27=\"\",\"\",万能利益演示!Y22)","v":503218.913296024},{"$f":"IF($B27=\"\",\"\",万能利益演示!Z22)","v":568964.847923985}]
[{"$f":"Reserve!A33","v":18},48,{"$f":"IF(B28=\"\",\"\",年金利益演示!C23)","v":0},null,null,1000010,{"$f":"IF(B28=\"\",\"\",年金利益演示!H23)","v":11560},{"$f":"IF(B28=\"\",\"\",年金利益演示!E23)","v":0},{"$f":"IF(B28=\"\",\"\",年金利益演示!F23)","v":11879.3794852448},{"$f":"IF(B28=\"\",\"\",年金利益演示!G23)","v":20788.9140991784},{"$f":"IF(B28=\"\",\"\",万能利益演示!G23)","v":233.106439071063},23439.3794852448,{"$f":"IF(B28=\"\",\"\",万能利益演示!H23)","v":227.109738495448},{"$f":"IF(B28=\"\",\"\",IF($E$2=\"中\",万能利益演示!K23,IF($E$2=\"低\",万能利益演示!J23,万能利益演示!L23)))","v":210609.424201022},{"$f":"IF(B28=\"\",\"\",IF($E$2=\"中\",万能利益演示!O23,IF($E$2=\"低\",万能利益演示!N23,万能利益演示!P23)))","v":346.24189338648},null,{"$f":"IF($B28=\"\",\"\",万能利益演示!R23)","v":462359.161991595},{"$f":"IF($B28=\"\",\"\",万能利益演示!S23)","v":549855.297946581},{"$f":"IF($B28=\"\",\"\",万能利益演示!T23)","v":627392.819833149},1769797.41712521,{"$f":"IF(B28=\"\",\"\",年金利益演示!I23)","v":1000000},{"$f":"IF($B28=\"\",\"\",万能利益演示!U23)","v":647302.826788233},{"$f":"IF($B28=\"\",\"\",万能利益演示!V23)","v":769797.417125213},{"$f":"IF($B28=\"\",\"\",万能利益演示!W23)","v":878349.947766408},1150415.29794658,{"$f":"IF(B28=\"\",\"\",年金利益演示!J23)","v":589000},{"$f":"IF($B28=\"\",\"\",万能利益演示!X23)","v":462359.161991595},{"$f":"IF($B28=\"\",\"\",万能利益演示!Y23)","v":549855.297946581},{"$f":"IF($B28=\"\",\"\",万能利益演示!Z23)","v":627392.819833149}]
[{"$f":"Reserve!A34","v":19},49,{"$f":"IF(B29=\"\",\"\",年金利益演示!C24)","v":0},null,null,1000010,{"$f":"IF(B29=\"\",\"\",年金利益演示!H24)","v":11560},{"$f":"IF(B29=\"\",\"\",年金利益演示!E24)","v":0},{"$f":"IF(B29=\"\",\"\",年金利益演示!F24)","v":12011.2405953857},{"$f":"IF(B29=\"\",\"\",年金利益演示!G24)","v":21019.6710419249},{"$f":"IF(B29=\"\",\"\",万能利益演示!G24)","v":234.393794852448},23571.2405953857,{"$f":"IF(B29=\"\",\"\",万能利益演示!H24)","v":228.252850068401},{"$f":"IF(B29=\"\",\"\",IF($E$2=\"中\",万能利益演示!K24,IF($E$2=\"低\",万能利益演示!J24,万能利益演示!L24)))","v":229315.414594817},{"$f":"IF(B29=\"\",\"\",IF($E$2=\"中\",万能利益演示!O24,IF($E$2=\"低\",万能利益演示!N24,万能利益演示!P24)))","v":410.56631829056},null,{"$f":"IF($B29=\"\",\"\",万能利益演示!R24)","v":497580.607832653},{"$f":"IF($B29=\"\",\"\",万能利益演示!S24)","v":598657.478826345},{"$f":"IF($B29=\"\",\"\",万能利益演示!T24)","v":689381.560550663},1838120.47035688,{"$f":"IF(B29=\"\",\"\",年金利益演示!I24)","v":1000000},{"$f":"IF($B29=\"\",\"\",万能利益演示!U24)","v":696612.850965714},{"$f":"IF($B29=\"\",\"\",万能利益演示!V24)","v":838120.470356883},{"$f":"IF($B29=\"\",\"\",万能利益演示!W24)","v":965134.184770929},1210817.47882634,{"$f":"IF(B29=\"\",\"\",年金利益演示!J24)","v":600600},{"$f":"IF($B29=\"\",\"\",万能利益演示!X24)","v":497580.607832653},{"$f":"IF($B29=\"\",\"\",万能利益演示!Y24)","v":598657.478826345},{"$f":"IF($B29=\"\",\"\",万能利益演示!Z24)","v":689381.560550663}]
[{"$f":"Reserve!A35","v":20},50,{"$f":"IF(B30=\"\",\"\",年金利益演示!C25)","v":0},null,null,1000010,{"$f":"IF(B30=\"\",\"\",年金利益演示!H25)","v":11560},{"$f":"IF(B30=\"\",\"\",年金利益演示!E25)","v":0},{"$f":"IF(B30=\"\",\"\",年金利益演示!F25)","v":12146.3269868707},{"$f":"IF(B30=\"\",\"\",年金利益演示!G25)","v":21256.0722270237},{"$f":"IF(B30=\"\",\"\",万能利益演示!G25)","v":235.712405953857},23706.3269868707,{"$f":"IF(B30=\"\",\"\",万能利益演示!H25)","v":229.42339572526},{"$f":"IF(B30=\"\",\"\",IF($E$2=\"中\",万能利益演示!K25,IF($E$2=\"低\",万能利益演示!J25,万能利益演示!L25)))","v":248888.972164601},{"$f":"IF(B30=\"\",\"\",IF($E$2=\"中\",万能利益演示!O25,IF($E$2=\"低\",万能利益演示!N25,万能利益演示!P25)))","v":487.025940731691},null,{"$f":"IF($B30=\"\",\"\",万能利益演示!R25)","v":533756.089574681},{"$f":"IF($B30=\"\",\"\",万能利益演示!S25)","v":649713.497671955},{"$f":"IF($B30=\"\",\"\",万能利益演示!T25)","v":755131.783120352},1909598.89674074,{"$f":"IF(B30=\"\",\"\",年金利益演示!I25)","v":1000000},{"$f":"IF($B30=\"\",\"\",万能利益演示!U25)","v":747258.525404553},{"$f":"IF($B30=\"\",\"\",万能利益演示!V25)","v":909598.896740737},{"$f":"IF($B30=\"\",\"\",万能利益演示!W25)","v":1057184.49636849},1273873.49767195,{"$f":"IF(B30=\"\",\"\",年金利益演示!J25)","v":612600},{"$f":"IF($B30=\"\",\"\",万能利益演示!X25)","v":533756.089574681},{"$f":"IF($B30=\"\",\"\",万能利益演示!Y25)","v":649713.497671955},{"$f":"IF($B30=\"\",\"\",万能利益演示!Z25)","v":755131.783120352}]
[{"$f":"Reserve!A36","v":21},51,{"$f":"IF(B31=\"\",\"\",年金利益演示!C26)","v":0},null,null,1000010,{"$f":"IF(B31=\"\",\"\",年金利益演示!H26)","v":11560},{"$f":"IF(B31=\"\",\"\",年金利益演示!E26)","v":0},{"$f":"IF(B31=\"\",\"\",年金利益演示!F26)","v":12284.7474990798},{"$f":"IF(B31=\"\",\"\",年金利益演示!G26)","v":21498.3081233896},{"$f":"IF(B31=\"\",\"\",万能利益演示!G26)","v":237.063269868707},23844.7474990798,{"$f":"IF(B31=\"\",\"\",万能利益演示!H26)","v":230.62201820799},{"$f":"IF(B31=\"\",\"\",IF($E$2=\"中\",万能利益演示!K26,IF($E$2=\"低\",万能利益演示!J26,万能利益演示!L26)))","v":269365.353362866},{"$f":"IF(B31=\"\",\"\",IF($E$2=\"中\",万能利益演示!O26,IF($E$2=\"低\",万能利益演示!N26,万能利益演示!P26)))","v":574.50242565232},null,{"$f":"IF($B31=\"\",\"\",万能利益演示!R26)","v":570904.90842994},{"$f":"IF($B31=\"\",\"\",万能利益演示!S26)","v":703116.630625681},{"$f":"IF($B31=\"\",\"\",万能利益演示!T26)","v":824857.265901161},1984363.28287595,{"$f":"IF(B31=\"\",\"\",年金利益演示!I26)","v":1000000},{"$f":"IF($B31=\"\",\"\",万能利益演示!U26)","v":799266.871801916},{"$f":"IF($B31=\"\",\"\",万能利益演示!V26)","v":984363.282875953},{"$f":"IF($B31=\"\",\"\",万能利益演示!W26)","v":1154800.17226163},1339676.63062568,{"$f":"IF(B31=\"\",\"\",年金利益演示!J26)","v":625000},{"$f":"IF($B31=\"\",\"\",万能利益演示!X26)","v":570904.90842994},{"$f":"IF($B31=\"\",\"\",万能利益演示!Y26)","v":703116.630625681},{"$f":"IF($B31=\"\",\"\",万能利益演示!Z26)","v":824857.265901161}]
[{"$f":"Reserve!A37","v":22},52,{"$f":"IF(B32=\"\",\"\",年金利益演示!C27)","v":0},null,null,1000010,{"$f":"IF(B32=\"\",\"\",年金利益演示!H27)","v":11560},{"$f":"IF(B32=\"\",\"\",年金利益演示!E27)","v":0},{"$f":"IF(B32=\"\",\"\",年金利益演示!F27)","v":12426.6206204282},{"$f":"IF(B32=\"\",\"\",年金利益演示!G27)","v":21746.5860857494},{"$f":"IF(B32=\"\",\"\",万能利益演示!G27)","v":238.447474990798},23986.6206204282,{"$f":"IF(B32=\"\",\"\",万能利益演示!H27)","v":231.849448834576},{"$f":"IF(B32=\"\",\"\",IF($E$2=\"中\",万能利益演示!K27,IF($E$2=\"低\",万能利益演示!J27,万能利益演示!L27)))","v":290781.912039442},{"$f":"IF(B32=\"\",\"\",IF($E$2=\"中\",万能利益演示!O27,IF($E$2=\"低\",万能利益演示!N27,万能利益演示!P27)))","v":669.961525338874},null,{"$f":"IF($B32=\"\",\"\",万能利益演示!R27)","v":609049.816268218},{"$f":"IF($B32=\"\",\"\",万能利益演示!S27)","v":758967.635409062},{"$f":"IF($B32=\"\",\"\",万能利益演示!T27)","v":898788.053140033},2062554.68957269,{"$f":"IF(B32=\"\",\"\",年金利益演示!I27)","v":1000000},{"$f":"IF($B32=\"\",\"\",万能利益演示!U27)","v":852669.742775505},{"$f":"IF($B32=\"\",\"\",万能利益演示!V27)","v":1062554.68957269},{"$f":"IF($B32=\"\",\"\",万能利益演示!W27)","v":1258303.27439605},1408527.63540906,{"$f":"IF(B32=\"\",\"\",年金利益演示!J27)","v":638000},{"$f":"IF($B32=\"\",\"\",万能利益演示!X27)","v":609049.816268218},{"$f":"IF($B32=\"\",\"\",万能利益演示!Y27)","v":758967.635409062},{"$f":"IF($B32=\"\",\"\",万能利益演示!Z27)","v":898788.053140033}]
[{"$f":"Reserve!A38","v":23},53,{"$f":"IF(B33=\"\",\"\",年金利益演示!C28)","v":0},null,null,1000010,{"$f":"IF(B33=\"\",\"\",年金利益演示!H28)","v":11560},{"$f":"IF(B33=\"\",\"\",年金利益演示!E28)","v":0},{"$f":"IF(B33=\"\",\"\",年金利益演示!F28)","v":12572.0765284897},{"$f":"IF(B33=\"\",\"\",年金利益演示!G28)","v":22001.133924857},{"$f":"IF(B33=\"\",\"\",万能利益演示!G28)","v":239.866206204282},24132.0765284897,{"$f":"IF(B33=\"\",\"\",万能利益演示!H28)","v":233.106439071063},{"$f":"IF(B33=\"\",\"\",IF($E$2=\"中\",万能利益演示!K28,IF($E$2=\"低\",万能利益演示!J28,万能利益演示!L28)))","v":313178.998504943},{"$f":"IF(B33=\"\",\"\",IF($E$2=\"中\",万能利益演示!O28,IF($E$2=\"低\",万能利益演示!N28,万能利益演示!P28)))","v":772.925768310199},null,{"$f":"IF($B33=\"\",\"\",万能利益演示!R28)","v":648214.868979865},{"$f":"IF($B33=\"\",\"\",万能利益演示!S28)","v":817372.426166279},{"$f":"IF($B33=\"\",\"\",万能利益演示!T28)","v":977168.374959152},2144321.39663279,{"$f":"IF(B33=\"\",\"\",年金利益演示!I28)","v":1000000},{"$f":"IF($B33=\"\",\"\",万能利益演示!U28)","v":907500.816571811},{"$f":"IF($B33=\"\",\"\",万能利益演示!V28)","v":1144321.39663279},{"$f":"IF($B33=\"\",\"\",万能利益演示!W28)","v":1368035.72494281},1480332.42616628,{"$f":"IF(B33=\"\",\"\",年金利益演示!J28)","v":651400},{"$f":"IF($B33=\"\",\"\",万能利益演示!X28)","v":648214.868979865},{"$f":"IF($B33=\"\",\"\",万能利益演示!Y28)","v":817372.426166279},{"$f":"IF($B33=\"\",\"\",万能利益演示!Z28)","v":977168.374959152}]
[{"$f":"Reserve!A39","v":24},54,{"$f":"IF(B34=\"\",\"\",年金利益演示!C29)","v":0},null,null,1000010,{"$f":"IF(B34=\"\",\"\",年金利益演示!H29)","v":11560},{"$f":"IF(B34=\"\",\"\",年金利益演示!E29)","v":0},{"$f":"IF(B34=\"\",\"\",年金利益演示!F29)","v":12721.2545825729},{"$f":"IF(B34=\"\",\"\",年金利益演示!G29)","v":22262.1955195026},{"$f":"IF(B34=\"\",\"\",万能利益演示!G29)","v":241.320765284897},24281.2545825729,{"$f":"IF(B34=\"\",\"\",万能利益演示!H29)","v":234.393794852448},{"$f":"IF(B34=\"\",\"\",IF($E$2=\"中\",万能利益演示!K29,IF($E$2=\"低\",万能利益演示!J29,万能利益演示!L29)))","v":336599.030289735},{"$f":"IF(B34=\"\",\"\",IF($E$2=\"中\",万能利益演示!O29,IF($E$2=\"低\",万能利益演示!N29,万能利益演示!P29)))","v":888.6214399649},null,{"$f":"IF($B34=\"\",\"\",万能利益演示!R29)","v":688420.778165305},{"$f":"IF($B34=\"\",\"\",万能利益演示!S29)","v":878436.357227168},{"$f":"IF($B34=\"\",\"\",万能利益演示!T29)","v":1060250.32806864},2229810.90011804,{"$f":"IF(B34=\"\",\"\",年金利益演示!I29)","v":1000000},{"$f":"IF($B34=\"\",\"\",万能利益演示!U29)","v":963789.089431427},{"$f":"IF($B34=\"\",\"\",万能利益演示!V29)","v":1229810.90011804},{"$f":"IF($B34=\"\",\"\",万能利益演示!W29)","v":1484350.45929609},1555396.35722717,{"$f":"IF(B34=\"\",\"\",年金利益演示!J29)","v":665400},{"$f":"IF($B34=\"\",\"\",万能利益演示!X29)","v":688420.778165305},{"$f":"IF($B34=\"\",\"\",万能利益演示!Y29)","v":878436.357227168},{"$f":"IF($B34=\"\",\"\",万能利益演示!Z29)","v":1060250.32806864}]
[{"$f":"Reserve!A40","v":25},55,{"$f":"IF(B35=\"\",\"\",年金利益演示!C30)","v":0},null,null,1000010,{"$f":"IF(B35=\"\",\"\",年金利益演示!H30)","v":11560},{"$f":"IF(B35=\"\",\"\",年金利益演示!E30)","v":0},{"$f":"IF(B35=\"\",\"\",年金利益演示!F30)","v":12874.3068317609},{"$f":"IF(B35=\"\",\"\",年金利益演示!G30)","v":22530.0369555815},{"$f":"IF(B35=\"\",\"\",万能利益演示!G30)","v":242.812545825729},24434.3068317609,{"$f":"IF(B35=\"\",\"\",万能利益演示!H30)","v":235.712405953857},{"$f":"IF(B35=\"\",\"\",IF($E$2=\"中\",万能利益演示!K30,IF($E$2=\"低\",万能利益演示!J30,万能利益演示!L30)))","v":361084.204667948},{"$f":"IF(B35=\"\",\"\",IF($E$2=\"中\",万能利益演示!O30,IF($E$2=\"低\",万能利益演示!N30,万能利益演示!P30)))","v":1024.0348044383},null,{"$f":"IF($B35=\"\",\"\",万能利益演示!R30)","v":729683.612763367},{"$f":"IF($B35=\"\",\"\",万能利益演示!S30)","v":942262.368324375},{"$f":"IF($B35=\"\",\"\",万能利益演示!T30)","v":1148291.84981468},2319167.31565413,{"$f":"IF(B35=\"\",\"\",年金利益演示!I30)","v":1000000},{"$f":"IF($B35=\"\",\"\",万能利益演示!U30)","v":1021557.05786871},{"$f":"IF($B35=\"\",\"\",万能利益演示!V30)","v":1319167.31565413},{"$f":"IF($B35=\"\",\"\",万能利益演示!W30)","v":1607608.58974055},1633622.36832438,{"$f":"IF(B35=\"\",\"\",年金利益演示!J30)","v":679800},{"$f":"IF($B35=\"\",\"\",万能利益演示!X30)","v":729683.612763367},{"$f":"IF($B35=\"\",\"\",万能利益演示!Y30)","v":942262.368324375},{"$f":"IF($B35=\"\",\"\",万能利益演示!Z30)","v":1148291.84981468}]
[{"$f":"Reserve!A41","v":26},56,{"$f":"IF(B36=\"\",\"\",年金利益演示!C31)","v":0},null,null,1000010,{"$f":"IF(B36=\"\",\"\",年金利益演示!H31)","v":11560},{"$f":"IF(B36=\"\",\"\",年金利益演示!E31)","v":0},{"$f":"IF(B36=\"\",\"\",年金利益演示!F31)","v":13031.3971651528},{"$f":"IF(B36=\"\",\"\",年金利益演示!G31)","v":22804.9450390174},{"$f":"IF(B36=\"\",\"\",万能利益演示!G31)","v":244.343068317609},24591.3971651528,{"$f":"IF(B36=\"\",\"\",万能利益演示!H31)","v":237.063269868707},{"$f":"IF(B36=\"\",\"\",IF($E$2=\"中\",万能利益演示!K31,IF($E$2=\"低\",万能利益演示!J31,万能利益演示!L31)))","v":386675.758143075},{"$f":"IF(B36=\"\",\"\",IF($E$2=\"中\",万能利益演示!O31,IF($E$2=\"低\",万能利益演示!N31,万能利益演示!P31)))","v":1187.2492478025},null,{"$f":"IF($B36=\"\",\"\",万能利益演示!R31)","v":772014.083055139},{"$f":"IF($B36=\"\",\"\",万能利益演示!S31)","v":1008949.74268483},{"$f":"IF($B36=\"\",\"\",万能利益演示!T31)","v":1241555.30585814},2412529.63975876,{"$f":"IF(B36=\"\",\"\",年金利益演示!I31)","v":1000000},{"$f":"IF($B36=\"\",\"\",万能利益演示!U31)","v":1080819.71627719},{"$f":"IF($B36=\"\",\"\",万能利益演示!V31)","v":1412529.63975876},{"$f":"IF($B36=\"\",\"\",万能利益演示!W31)","v":1738177.42820139},1715409.74268483,{"$f":"IF(B36=\"\",\"\",年金利益演示!J31)","v":694900},{"$f":"IF($B36=\"\",\"\",万能利益演示!X31)","v":772014.083055139},{"$f":"IF($B36=\"\",\"\",万能利益演示!Y31)","v":1008949.74268483},{"$f":"IF($B36=\"\",\"\",万能利益演示!Z31)","v":1241555.30585814}]
[{"$f":"Reserve!A42","v":27},57,{"$f":"IF(B37=\"\",\"\",年金利益演示!C32)","v":0},null,null,1000010,{"$f":"IF(B37=\"\",\"\",年金利益演示!H32)","v":11560},{"$f":"IF(B37=\"\",\"\",年金利益演示!E32)","v":0},{"$f":"IF(B37=\"\",\"\",年金利益演示!F32)","v":13192.7028815108},{"$f":"IF(B37=\"\",\"\",年金利益演示!G32)","v":23087.230042644},{"$f":"IF(B37=\"\",\"\",万能利益演示!G32)","v":245.913971651528},24752.7028815108,{"$f":"IF(B37=\"\",\"\",万能利益演示!H32)","v":238.447474990798},{"$f":"IF(B37=\"\",\"\",IF($E$2=\"中\",万能利益演示!K32,IF($E$2=\"低\",万能利益演示!J32,万能利益演示!L32)))","v":413413.469341329},{"$f":"IF(B37=\"\",\"\",IF($E$2=\"中\",万能利益演示!O32,IF($E$2=\"低\",万能利益演示!N32,万能利益演示!P32)))","v":1391.38437241518},null,{"$f":"IF($B37=\"\",\"\",万能利益演示!R32)","v":815413.741653976},{"$f":"IF($B37=\"\",\"\",万能利益演示!S32)","v":1078588.69198505},{"$f":"IF($B37=\"\",\"\",万能利益演示!T32)","v":1340300.7917953},2510024.16877907,{"$f":"IF(B37=\"\",\"\",年金利益演示!I32)","v":1000000},{"$f":"IF($B37=\"\",\"\",万能利益演示!U32)","v":1141579.23831557},{"$f":"IF($B37=\"\",\"\",万能利益演示!V32)","v":1510024.16877907},{"$f":"IF($B37=\"\",\"\",万能利益演示!W32)","v":1876421.10851342},1800648.69198505,{"$f":"IF(B37=\"\",\"\",年金利益演示!J32)","v":710500},{"$f":"IF($B37=\"\",\"\",万能利益演示!X32)","v":815413.741653976},{"$f":"IF($B37=\"\",\"\",万能利益演示!Y32)","v":1078588.69198505},{"$f":"IF($B37=\"\",\"\",万能利益演示!Z32)","v":1340300.7917953}]
[{"$f":"Reserve!A43","v":28},58,{"$f":"IF(B38=\"\",\"\",年金利益演示!C33)","v":0},null,null,1000010,{"$f":"IF(B38=\"\",\"\",年金利益演示!H33)","v":11560},{"$f":"IF(B38=\"\",\"\",年金利益演示!E33)","v":0},{"$f":"IF(B38=\"\",\"\",年金利益演示!F33)","v":13358.4128833202},{"$f":"IF(B38=\"\",\"\",年金利益演示!G33)","v":23377.2225458104},{"$f":"IF(B38=\"\",\"\",万能利益演示!G33)","v":247.527028815109},24918.4128833202,{"$f":"IF(B38=\"\",\"\",万能利益演示!H33)","v":239.866206204282},{"$f":"IF(B38=\"\",\"\",IF($E$2=\"中\",万能利益演示!K33,IF($E$2=\"低\",万能利益演示!J33,万能利益演示!L33)))","v":441333.493617579},{"$f":"IF(B38=\"\",\"\",IF($E$2=\"中\",万能利益演示!O33,IF($E$2=\"低\",万能利益演示!N33,万能利益演示!P33)))","v":1650.94033292464},null,{"$f":"IF($B38=\"\",\"\",万能利益演示!R33)","v":859874.178254672},{"$f":"IF($B38=\"\",\"\",万能利益演示!S33)","v":1151258.51942802},{"$f":"IF($B38=\"\",\"\",万能利益演示!T33)","v":1444783.48578041},2611761.92719923,{"$f":"IF(B38=\"\",\"\",年金利益演示!I33)","v":1000000},{"$f":"IF($B38=\"\",\"\",万能利益演示!U33)","v":1203823.84955654},{"$f":"IF($B38=\"\",\"\",万能利益演示!V33)","v":1611761.92719923},{"$f":"IF($B38=\"\",\"\",万能利益演示!W33)","v":2022696.88009257},1889618.51942802,{"$f":"IF(B38=\"\",\"\",年金利益演示!J33)","v":726800},{"$f":"IF($B38=\"\",\"\",万能利益演示!X33)","v":859874.178254672},{"$f":"IF($B38=\"\",\"\",万能利益演示!Y33)","v":1151258.51942802},{"$f":"IF($B38=\"\",\"\",万能利益演示!Z33)","v":1444783.48578041}]
[{"$f":"Reserve!A44","v":29},59,{"$f":"IF(B39=\"\",\"\",年金利益演示!C34)","v":0},null,null,1000010,{"$f":"IF(B39=\"\",\"\",年金利益演示!H34)","v":11560},{"$f":"IF(B39=\"\",\"\",年金利益演示!E34)","v":0},{"$f":"IF(B39=\"\",\"\",年金利益演示!F34)","v":13528.7298269825},{"$f":"IF(B39=\"\",\"\",年金利益演示!G34)","v":23675.2771972194},{"$f":"IF(B39=\"\",\"\",万能利益演示!G34)","v":249.184128833202},25088.7298269825,{"$f":"IF(B39=\"\",\"\",万能利益演示!H34)","v":241.320765284897},{"$f":"IF(B39=\"\",\"\",IF($E$2=\"中\",万能利益演示!K34,IF($E$2=\"低\",万能利益演示!J34,万能利益演示!L34)))","v":470467.627579116},{"$f":"IF(B39=\"\",\"\",IF($E$2=\"中\",万能利益演示!O34,IF($E$2=\"低\",万能利益演示!N34,万能利益演示!P34)))","v":1985.37338838387},null,{"$f":"IF($B39=\"\",\"\",万能利益演示!R34)","v":905373.49143281},{"$f":"IF($B39=\"\",\"\",万能利益演示!S34)","v":1227021.96185958},{"$f":"IF($B39=\"\",\"\",万能利益演示!T34)","v":1555245.98327471},2717830.74660341,{"$f":"IF(B39=\"\",\"\",年金利益演示!I34)","v":1000000},{"$f":"IF($B39=\"\",\"\",万能利益演示!U34)","v":1267522.88800593},{"$f":"IF($B39=\"\",\"\",万能利益演示!V34)","v":1717830.74660341},{"$f":"IF($B39=\"\",\"\",万能利益演示!W34)","v":2177344.37658459},1982281.96185958,{"$f":"IF(B39=\"\",\"\",年金利益演示!J34)","v":743700},{"$f":"IF($B39=\"\",\"\",万能利益演示!X34)","v":905373.49143281},{"$f":"IF($B39=\"\",\"\",万能利益演示!Y34)","v":1227021.96185958},{"$f":"IF($B39=\"\",\"\",万能利益演示!Z34)","v":1555245.98327471}]
[{"$f":"Reserve!A45","v":30},60,{"$f":"IF(B40=\"\",\"\",年金利益演示!C35)","v":0},null,null,1000010,{"$f":"IF(B40=\"\",\"\",年金利益演示!H35)","v":17340},{"$f":"IF(B40=\"\",\"\",年金利益演示!E35)","v":0},{"$f":"IF(B40=\"\",\"\",年金利益演示!F35)","v":13703.8709225766},{"$f":"IF(B40=\"\",\"\",年金利益演示!G35)","v":23981.7741145091},{"$f":"IF(B40=\"\",\"\",万能利益演示!G35)","v":250.887298269825},31043.8709225766,{"$f":"IF(B40=\"\",\"\",万能利益演示!H35)","v":242.812545825729},{"$f":"IF(B40=\"\",\"\",IF($E$2=\"中\",万能利益演示!K35,IF($E$2=\"低\",万能利益演示!J35,万能利益演示!L35)))","v":500841.046773647},{"$f":"IF(B40=\"\",\"\",IF($E$2=\"中\",万能利益演示!O35,IF($E$2=\"低\",万能利益演示!N35,万能利益演示!P35)))","v":2419.66326517285},null,{"$f":"IF($B40=\"\",\"\",万能利益演示!R35)","v":951872.464040263},{"$f":"IF($B40=\"\",\"\",万能利益演示!S35)","v":1305918.68658405},{"$f":"IF($B40=\"\",\"\",万能利益演示!T35)","v":1671909.0500508},2828286.16121767,{"$f":"IF(B40=\"\",\"\",年金利益演示!I35)","v":1000000},{"$f":"IF($B40=\"\",\"\",万能利益演示!U35)","v":1332621.44965637},{"$f":"IF($B40=\"\",\"\",万能利益演示!V35)","v":1828286.16121767},{"$f":"IF($B40=\"\",\"\",万能利益演示!W35)","v":2340672.67007112},2078658.68658405,{"$f":"IF(B40=\"\",\"\",年金利益演示!J35)","v":755400},{"$f":"IF($B40=\"\",\"\",万能利益演示!X35)","v":951872.464040263},{"$f":"IF($B40=\"\",\"\",万能利益演示!Y35)","v":1305918.68658405},{"$f":"IF($B40=\"\",\"\",万能利益演示!Z35)","v":1671909.0500508}]
[{"$f":"Reserve!A46","v":31},61,{"$f":"IF(B41=\"\",\"\",年金利益演示!C36)","v":0},null,null,1000010,{"$f":"IF(B41=\"\",\"\",年金利益演示!H36)","v":17340},{"$f":"IF(B41=\"\",\"\",年金利益演示!E36)","v":0},{"$f":"IF(B41=\"\",\"\",年金利益演示!F36)","v":13803.1543283679},{"$f":"IF(B41=\"\",\"\",年金利益演示!G36)","v":24155.5200746439},{"$f":"IF(B41=\"\",\"\",万能利益演示!G36)","v":310.438709225766},31143.1543283679,{"$f":"IF(B41=\"\",\"\",万能利益演示!H36)","v":244.343068317609},{"$f":"IF(B41=\"\",\"\",IF($E$2=\"中\",万能利益演示!K36,IF($E$2=\"低\",万能利益演示!J36,万能利益演示!L36)))","v":534758.584746287},{"$f":"IF(B41=\"\",\"\",IF($E$2=\"中\",万能利益演示!O36,IF($E$2=\"低\",万能利益演示!N36,万能利益演示!P36)))","v":2989.94219903344},null,{"$f":"IF($B41=\"\",\"\",万能利益演示!R36)","v":1005168.41727916},{"$f":"IF($B41=\"\",\"\",万能利益演示!S36)","v":1393932.31305168},{"$f":"IF($B41=\"\",\"\",万能利益演示!T36)","v":1801023.05418567},2951505.23827236,{"$f":"IF(B41=\"\",\"\",年金利益演示!I36)","v":1000000},{"$f":"IF($B41=\"\",\"\",万能利益演示!U36)","v":1407235.78419082},{"$f":"IF($B41=\"\",\"\",万能利益演示!V36)","v":1951505.23827236},{"$f":"IF($B41=\"\",\"\",万能利益演示!W36)","v":2521432.27585994},2178972.31305168,{"$f":"IF(B41=\"\",\"\",年金利益演示!J36)","v":767700},{"$f":"IF($B41=\"\",\"\",万能利益演示!X36)","v":1005168.41727916},{"$f":"IF($B41=\"\",\"\",万能利益演示!Y36)","v":1393932.31305168},{"$f":"IF($B41=\"\",\"\",万能利益演示!Z36)","v":1801023.05418567}]
[{"$f":"Reserve!A47","v":32},62,{"$f":"IF(B42=\"\",\"\",年金利益演示!C37)","v":0},null,null,1000010,{"$f":"IF(B42=\"\",\"\",年金利益演示!H37)","v":17340},{"$f":"IF(B42=\"\",\"\",年金利益演示!E37)","v":0},{"$f":"IF(B42=\"\",\"\",年金利益演示!F37)","v":13905.3529269592},{"$f":"IF(B42=\"\",\"\",年金利益演示!G37)","v":24334.3676221786},{"$f":"IF(B42=\"\",\"\",万能利益演示!G37)","v":311.431543283679},31245.3529269592,{"$f":"IF(B42=\"\",\"\",万能利益演示!H37)","v":245.913971651528},{"$f":"IF(B42=\"\",\"\",IF($E$2=\"中\",万能利益演示!K37,IF($E$2=\"低\",万能利益演示!J37,万能利益演示!L37)))","v":285001.989961684},{"$f":"IF(B42=\"\",\"\",IF($E$2=\"中\",万能利益演示!O37,IF($E$2=\"低\",万能利益演示!N37,万能利益演示!P37)))","v":1793.68852402285},null,{"$f":"IF($B42=\"\",\"\",万能利益演示!R37)","v":1060815.25316283},{"$f":"IF($B42=\"\",\"\",万能利益演示!S37)","v":1487260.99304219},{"$f":"IF($B42=\"\",\"\",万能利益演示!T37)","v":1939582.26451035},2784713.19165063,{"$f":"IF(B42=\"\",\"\",年金利益演示!I37)","v":1000000},{"$f":"IF($B42=\"\",\"\",万能利益演示!U37)","v":1272978.30379539},{"$f":"IF($B42=\"\",\"\",万能利益演示!V37)","v":1784713.19165063},{"$f":"IF($B42=\"\",\"\",万能利益演示!W37)","v":2327498.71741242},2284900.99304219,{"$f":"IF(B42=\"\",\"\",年金利益演示!J37)","v":780300},{"$f":"IF($B42=\"\",\"\",万能利益演示!X37)","v":1060815.25316283},{"$f":"IF($B42=\"\",\"\",万能利益演示!Y37)","v":1487260.99304219},{"$f":"IF($B42=\"\",\"\",万能利益演示!Z37)","v":1939582.26451035}]
[{"$f":"Reserve!A48","v":33},63,{"$f":"IF(B43=\"\",\"\",年金利益演示!C38)","v":0},null,null,1000010,{"$f":"IF(B43=\"\",\"\",年金利益演示!H38)","v":17340},{"$f":"IF(B43=\"\",\"\",年金利益演示!E38)","v":0},{"$f":"IF(B43=\"\",\"\",年金利益演示!F38)","v":14010.6267873911},{"$f":"IF(B43=\"\",\"\",年金利益演示!G38)","v":24518.5968779344},{"$f":"IF(B43=\"\",\"\",万能利益演示!G38)","v":312.453529269592},31350.6267873911,{"$f":"IF(B43=\"\",\"\",万能利益演示!H38)","v":247.527028815109},{"$f":"IF(B43=\"\",\"\",IF($E$2=\"中\",万能利益演示!K38,IF($E$2=\"低\",万能利益演示!J38,万能利益演示!L38)))","v":303688.28389374},{"$f":"IF(B43=\"\",\"\",IF($E$2=\"中\",万能利益演示!O38,IF($E$2=\"低\",万能利益演示!N38,万能利益演示!P38)))","v":2119.7442215783},null,{"$f":"IF($B43=\"\",\"\",万能利益演示!R38)","v":1117733.03496114},{"$f":"IF($B43=\"\",\"\",万能利益演示!S38)","v":1584556.15063324},{"$f":"IF($B43=\"\",\"\",万能利益演示!T38)","v":2086092.19659352},2901467.38075989,{"$f":"IF(B43=\"\",\"\",年金利益演示!I38)","v":1000000},{"$f":"IF($B43=\"\",\"\",万能利益演示!U38)","v":1341279.64195337},{"$f":"IF($B43=\"\",\"\",万能利益演示!V38)","v":1901467.38075989},{"$f":"IF($B43=\"\",\"\",万能利益演示!W38)","v":2503310.63591223},2395396.15063324,{"$f":"IF(B43=\"\",\"\",年金利益演示!J38)","v":793500},{"$f":"IF($B43=\"\",\"\",万能利益演示!X38)","v":1117733.03496114},{"$f":"IF($B43=\"\",\"\",万能利益演示!Y38)","v":1584556.15063324},{"$f":"IF($B43=\"\",\"\",万能利益演示!Z38)","v":2086092.19659352}]
[{"$f":"Reserve!A49","v":34},{"$f":"IF(OR(A44=\"\",A44=BP),\"\",B43+1)","v":64},{"$f":"IF(B44=\"\",\"\",年金利益演示!C39)","v":0},null,null,1000010,{"$f":"IF(B44=\"\",\"\",年金利益演示!H39)","v":17340},{"$f":"IF(B44=\"\",\"\",年金利益演示!E39)","v":0},{"$f":"IF(B44=\"\",\"\",年金利益演示!F39)","v":14119.1566644734},{"$f":"IF(B44=\"\",\"\",年金利益演示!G39)","v":24708.5241628285},{"$f":"IF(B44=\"\",\"\",万能利益演示!G39)","v":313.506267873911},31459.1566644734,{"$f":"IF(B44=\"\",\"\",万能利益演示!H39)","v":249.184128833202},{"$f":"IF(B44=\"\",\"\",IF($E$2=\"中\",万能利益演示!K39,IF($E$2=\"低\",万能利益演示!J39,万能利益演示!L39)))","v":323168.491056318},{"$f":"IF(B44=\"\",\"\",IF($E$2=\"中\",万能利益演示!O39,IF($E$2=\"低\",万能利益演示!N39,万能利益演示!P39)))","v":2501.84119036159},null,{"$f":"IF($B44=\"\",\"\",万能利益演示!R39)","v":1175921.29723523},{"$f":"IF($B44=\"\",\"\",万能利益演示!S39)","v":1685940.94172534},{"$f":"IF($B44=\"\",\"\",万能利益演示!T39)","v":2240946.12906648},3023129.1300704,{"$f":"IF(B44=\"\",\"\",年金利益演示!I39)","v":1000000},{"$f":"IF($B44=\"\",\"\",万能利益演示!U39)","v":1411105.55668227},{"$f":"IF($B44=\"\",\"\",万能利益演示!V39)","v":2023129.1300704},{"$f":"IF($B44=\"\",\"\",万能利益演示!W39)","v":2689135.35487978},2510480.94172534,{"$f":"IF(B44=\"\",\"\",年金利益演示!J39)","v":807200},{"$f":"IF($B44=\"\",\"\",万能利益演示!X39)","v":1175921.29723523},{"$f":"IF($B44=\"\",\"\",万能利益演示!Y39)","v":1685940.94172534},{"$f":"IF($B44=\"\",\"\",万能利益演示!Z39)","v":2240946.12906648}]
[{"$f":"Reserve!A50","v":35},65,{"$f":"IF(B45=\"\",\"\",年金利益演示!C40)","v":0},null,null,1000010,{"$f":"IF(B45=\"\",\"\",年金利益演示!H40)","v":17340},{"$f":"IF(B45=\"\",\"\",年金利益演示!E40)","v":0},{"$f":"IF(B45=\"\",\"\",年金利益演示!F40)","v":14231.1482131389},{"$f":"IF(B45=\"\",\"\",年金利益演示!G40)","v":24904.5093729931},{"$f":"IF(B45=\"\",\"\",万能利益演示!G40)","v":314.591566644734},31571.1482131389,{"$f":"IF(B45=\"\",\"\",万能利益演示!H40)","v":250.887298269825},{"$f":"IF(B45=\"\",\"\",IF($E$2=\"中\",万能利益演示!K40,IF($E$2=\"低\",万能利益演示!J40,万能利益演示!L40)))","v":343467.278824287},{"$f":"IF(B45=\"\",\"\",IF($E$2=\"中\",万能利益演示!O40,IF($E$2=\"低\",万能利益演示!N40,万能利益演示!P40)))","v":2948.59789525074},null,{"$f":"IF($B45=\"\",\"\",万能利益演示!R40)","v":1235374.9309415},{"$f":"IF($B45=\"\",\"\",万能利益演示!S40)","v":1791535.24705636},{"$f":"IF($B45=\"\",\"\",万能利益演示!T40)","v":2404546.46557252},3149842.29646763,{"$f":"IF(B45=\"\",\"\",年金利益演示!I40)","v":1000000},{"$f":"IF($B45=\"\",\"\",万能利益演示!U40)","v":1482449.9171298},{"$f":"IF($B45=\"\",\"\",万能利益演示!V40)","v":2149842.29646763},{"$f":"IF($B45=\"\",\"\",万能利益演示!W40)","v":2885455.75868703},2630375.24705636,{"$f":"IF(B45=\"\",\"\",年金利益演示!J40)","v":821500},{"$f":"IF($B45=\"\",\"\",万能利益演示!X40)","v":1235374.9309415},{"$f":"IF($B45=\"\",\"\",万能利益演示!Y40)","v":1791535.24705636},{"$f":"IF($B45=\"\",\"\",万能利益演示!Z40)","v":2404546.46557252}]
[{"$f":"Reserve!A51","v":36},66,{"$f":"IF(B46=\"\",\"\",年金利益演示!C41)","v":0},null,null,1000010,{"$f":"IF(B46=\"\",\"\",年金利益演示!H41)","v":17340},{"$f":"IF(B46=\"\",\"\",年金利益演示!E41)","v":0},{"$f":"IF(B46=\"\",\"\",年金利益演示!F41)","v":14346.8363941204},{"$f":"IF(B46=\"\",\"\",年金利益演示!G41)","v":25106.9636897108},{"$f":"IF(B46=\"\",\"\",万能利益演示!G41)","v":315.711482131389},31686.8363941204,{"$f":"IF(B46=\"\",\"\",万能利益演示!H41)","v":310.438709225766},{"$f":"IF(B46=\"\",\"\",IF($E$2=\"中\",万能利益演示!K41,IF($E$2=\"低\",万能利益演示!J41,万能利益演示!L41)))","v":364620.224499319},{"$f":"IF(B46=\"\",\"\",IF($E$2=\"中\",万能利益演示!O41,IF($E$2=\"低\",万能利益演示!N41,万能利益演示!P41)))","v":3471.18453723352},null,{"$f":"IF($B46=\"\",\"\",万能利益演示!R41)","v":1296141.76486354},{"$f":"IF($B46=\"\",\"\",万能利益演示!S41)","v":1901513.28516753},{"$f":"IF($B46=\"\",\"\",万能利益演示!T41)","v":2577362.4221024},3281815.94220104,{"$f":"IF(B46=\"\",\"\",年金利益演示!I41)","v":1000000},{"$f":"IF($B46=\"\",\"\",万能利益演示!U41)","v":1555370.11783625},{"$f":"IF($B46=\"\",\"\",万能利益演示!V41)","v":2281815.94220104},{"$f":"IF($B46=\"\",\"\",万能利益演示!W41)","v":3092834.90652288},2755153.28516753,{"$f":"IF(B46=\"\",\"\",年金利益演示!J41)","v":836300},{"$f":"IF($B46=\"\",\"\",万能利益演示!X41)","v":1296141.76486354},{"$f":"IF($B46=\"\",\"\",万能利益演示!Y41)","v":1901513.28516753},{"$f":"IF($B46=\"\",\"\",万能利益演示!Z41)","v":2577362.4221024}]
[{"$f":"Reserve!A52","v":37},67,{"$f":"IF(B47=\"\",\"\",年金利益演示!C42)","v":0},null,null,1000010,{"$f":"IF(B47=\"\",\"\",年金利益演示!H42)","v":17340},{"$f":"IF(B47=\"\",\"\",年金利益演示!E42)","v":0},{"$f":"IF(B47=\"\",\"\",年金利益演示!F42)","v":14466.4881793036},{"$f":"IF(B47=\"\",\"\",年金利益演示!G42)","v":25316.3543137813},{"$f":"IF(B47=\"\",\"\",万能利益演示!G42)","v":316.868363941204},31806.4881793036,{"$f":"IF(B47=\"\",\"\",万能利益演示!H42)","v":311.431543283679},{"$f":"IF(B47=\"\",\"\",IF($E$2=\"中\",万能利益演示!K42,IF($E$2=\"低\",万能利益演示!J42,万能利益演示!L42)))","v":386638.936948199},{"$f":"IF(B47=\"\",\"\",IF($E$2=\"中\",万能利益演示!O42,IF($E$2=\"低\",万能利益演示!N42,万能利益演示!P42)))","v":4091.87719751018},null,{"$f":"IF($B47=\"\",\"\",万能利益演示!R42)","v":1358137.95683459},{"$f":"IF($B47=\"\",\"\",万能利益演示!S42)","v":2015912.43388294},{"$f":"IF($B47=\"\",\"\",万能利益演示!T42)","v":2759732.70007082},3419094.92065953,{"$f":"IF(B47=\"\",\"\",年金利益演示!I42)","v":1000000},{"$f":"IF($B47=\"\",\"\",万能利益演示!U42)","v":1629765.54820151},{"$f":"IF($B47=\"\",\"\",万能利益演示!V42)","v":2419094.92065953},{"$f":"IF($B47=\"\",\"\",万能利益演示!W42)","v":3311679.24008498},2884852.43388294,{"$f":"IF(B47=\"\",\"\",年金利益演示!J42)","v":851600},{"$f":"IF($B47=\"\",\"\",万能利益演示!X42)","v":1358137.95683459},{"$f":"IF($B47=\"\",\"\",万能利益演示!Y42)","v":2015912.43388294},{"$f":"IF($B47=\"\",\"\",万能利益演示!Z42)","v":2759732.70007082}]
[{"$f":"Reserve!A53","v":38},68,{"$f":"IF(B48=\"\",\"\",年金利益演示!C43)","v":0},null,null,1000010,{"$f":"IF(B48=\"\",\"\",年金利益演示!H43)","v":17340},{"$f":"IF(B48=\"\",\"\",年金利益演示!E43)","v":0},{"$f":"IF(B48=\"\",\"\",年金利益演示!F43)","v":14590.4072576088},{"$f":"IF(B48=\"\",\"\",年金利益演示!G43)","v":25533.2127008155},{"$f":"IF(B48=\"\",\"\",万能利益演示!G43)","v":318.064881793036},31930.4072576088,{"$f":"IF(B48=\"\",\"\",万能利益演示!H43)","v":312.453529269592},{"$f":"IF(B48=\"\",\"\",IF($E$2=\"中\",万能利益演示!K43,IF($E$2=\"低\",万能利益演示!J43,万能利益演示!L43)))","v":409542.662141944},{"$f":"IF(B48=\"\",\"\",IF($E$2=\"中\",万能利益演示!O43,IF($E$2=\"低\",万能利益演示!N43,万能利益演示!P43)))","v":4817.85987743783},null,{"$f":"IF($B48=\"\",\"\",万能利益演示!R43)","v":1421335.30021287},{"$f":"IF($B48=\"\",\"\",万能利益演示!S43)","v":2134825.74611974},{"$f":"IF($B48=\"\",\"\",万能利益演示!T43)","v":2952063.59609974},3561790.89534368,{"$f":"IF(B48=\"\",\"\",年金利益演示!I43)","v":1000000},{"$f":"IF($B48=\"\",\"\",万能利益演示!U43)","v":1705602.36025544},{"$f":"IF($B48=\"\",\"\",万能利益演示!V43)","v":2561790.89534368},{"$f":"IF($B48=\"\",\"\",万能利益演示!W43)","v":3542476.31531969},3019865.74611974,{"$f":"IF(B48=\"\",\"\",年金利益演示!J43)","v":867700},{"$f":"IF($B48=\"\",\"\",万能利益演示!X43)","v":1421335.30021287},{"$f":"IF($B48=\"\",\"\",万能利益演示!Y43)","v":2134825.74611974},{"$f":"IF($B48=\"\",\"\",万能利益演示!Z43)","v":2952063.59609974}]
[{"$f":"Reserve!A54","v":39},69,{"$f":"IF(B49=\"\",\"\",年金利益演示!C44)","v":0},null,null,1000010,{"$f":"IF(B49=\"\",\"\",年金利益演示!H44)","v":17340},{"$f":"IF(B49=\"\",\"\",年金利益演示!E44)","v":0},{"$f":"IF(B49=\"\",\"\",年金利益演示!F44)","v":14718.9397107997},{"$f":"IF(B49=\"\",\"\",年金利益演示!G44)","v":25758.1444938994},{"$f":"IF(B49=\"\",\"\",万能利益演示!G44)","v":319.304072576088},32058.9397107997,{"$f":"IF(B49=\"\",\"\",万能利益演示!H44)","v":313.506267873911},{"$f":"IF(B49=\"\",\"\",IF($E$2=\"中\",万能利益演示!K44,IF($E$2=\"低\",万能利益演示!J44,万能利益演示!L44)))","v":433350.071114529},{"$f":"IF(B49=\"\",\"\",IF($E$2=\"中\",万能利益演示!O44,IF($E$2=\"低\",万能利益演示!N44,万能利益演示!P44)))","v":5666.13884983669},null,{"$f":"IF($B49=\"\",\"\",万能利益演示!R44)","v":1485696.06629339},{"$f":"IF($B49=\"\",\"\",万能利益演示!S44)","v":2258333.00647533},{"$f":"IF($B49=\"\",\"\",万能利益演示!T44)","v":3154756.05445774},3709999.6077704,{"$f":"IF(B49=\"\",\"\",年金利益演示!I44)","v":1000000},{"$f":"IF($B49=\"\",\"\",万能利益演示!U44)","v":1782835.27955207},{"$f":"IF($B49=\"\",\"\",万能利益演示!V44)","v":2709999.6077704},{"$f":"IF($B49=\"\",\"\",万能利益演示!W44)","v":3785707.26534929},3160073.00647533,{"$f":"IF(B49=\"\",\"\",年金利益演示!J44)","v":884400},{"$f":"IF($B49=\"\",\"\",万能利益演示!X44)","v":1485696.06629339},{"$f":"IF($B49=\"\",\"\",万能利益演示!Y44)","v":2258333.00647533},{"$f":"IF($B49=\"\",\"\",万能利益演示!Z44)","v":3154756.05445774}]
[{"$f":"Reserve!A55","v":40},70,{"$f":"IF(B50=\"\",\"\",年金利益演示!C45)","v":0},null,null,1000010,{"$f":"IF(B50=\"\",\"\",年金利益演示!H45)","v":17340},{"$f":"IF(B50=\"\",\"\",年金利益演示!E45)","v":0},{"$f":"IF(B50=\"\",\"\",年金利益演示!F45)","v":14852.4875350578},{"$f":"IF(B50=\"\",\"\",年金利益演示!G45)","v":25991.8531863511},{"$f":"IF(B50=\"\",\"\",万能利益演示!G45)","v":320.589397107997},32192.4875350578,{"$f":"IF(B50=\"\",\"\",万能利益演示!H45)","v":314.591566644734},{"$f":"IF(B50=\"\",\"\",IF($E$2=\"中\",万能利益演示!K45,IF($E$2=\"低\",万能利益演示!J45,万能利益演示!L45)))","v":458077.189671134},{"$f":"IF(B50=\"\",\"\",IF($E$2=\"中\",万能利益演示!O45,IF($E$2=\"低\",万能利益演示!N45,万能利益演示!P45)))","v":6656.41125854918},null,{"$f":"IF($B50=\"\",\"\",万能利益演示!R45)","v":1551171.51692862},{"$f":"IF($B50=\"\",\"\",万能利益演示!S45)","v":2386497.36626649},{"$f":"IF($B50=\"\",\"\",万能利益演示!T45)","v":3368200.20643419},3863796.83951979,{"$f":"IF(B50=\"\",\"\",年金利益演示!I45)","v":1000000},{"$f":"IF($B50=\"\",\"\",万能利益演示!U45)","v":1861405.82031434},{"$f":"IF($B50=\"\",\"\",万能利益演示!V45)","v":2863796.83951979},{"$f":"IF($B50=\"\",\"\",万能利益演示!W45)","v":4041840.24772103},3305637.36626649,{"$f":"IF(B50=\"\",\"\",年金利益演示!J45)","v":901800},{"$f":"IF($B50=\"\",\"\",万能利益演示!X45)","v":1551171.51692862},{"$f":"IF($B50=\"\",\"\",万能利益演示!Y45)","v":2386497.36626649},{"$f":"IF($B50=\"\",\"\",万能利益演示!Z45)","v":3368200.20643419}]
[{"$f":"Reserve!A56","v":41},71,{"$f":"IF(B51=\"\",\"\",年金利益演示!C46)","v":0},null,null,1000010,{"$f":"IF(B51=\"\",\"\",年金利益演示!H46)","v":17340},{"$f":"IF(B51=\"\",\"\",年金利益演示!E46)","v":0},{"$f":"IF(B51=\"\",\"\",年金利益演示!F46)","v":14991.53425024},{"$f":"IF(B51=\"\",\"\",年金利益演示!G46)","v":26235.1849379199},{"$f":"IF(B51=\"\",\"\",万能利益演示!G46)","v":321.924875350578},32331.53425024,{"$f":"IF(B51=\"\",\"\",万能利益演示!H46)","v":315.711482131389},{"$f":"IF(B51=\"\",\"\",IF($E$2=\"中\",万能利益演示!K46,IF($E$2=\"低\",万能利益演示!J46,万能利益演示!L46)))","v":483736.728081666},{"$f":"IF(B51=\"\",\"\",IF($E$2=\"中\",万能利益演示!O46,IF($E$2=\"低\",万能利益演示!N46,万能利益演示!P46)))","v":7810.99369568028},null,{"$f":"IF($B51=\"\",\"\",万能利益演示!R46)","v":1617700.5428878},{"$f":"IF($B51=\"\",\"\",万能利益演示!S46)","v":2519361.91581472},{"$f":"IF($B51=\"\",\"\",万能利益演示!T46)","v":3592769.44464781},4023234.29897766,{"$f":"IF(B51=\"\",\"\",年金利益演示!I46)","v":1000000},{"$f":"IF($B51=\"\",\"\",万能利益演示!U46)","v":1941240.65146537},{"$f":"IF($B51=\"\",\"\",万能利益演示!V46)","v":3023234.29897766},{"$f":"IF($B51=\"\",\"\",万能利益演示!W46)","v":4311323.33357737},3456601.91581472,{"$f":"IF(B51=\"\",\"\",年金利益演示!J46)","v":919900},{"$f":"IF($B51=\"\",\"\",万能利益演示!X46)","v":1617700.5428878},{"$f":"IF($B51=\"\",\"\",万能利益演示!Y46)","v":2519361.91581472},{"$f":"IF($B51=\"\",\"\",万能利益演示!Z46)","v":3592769.44464781}]
[{"$f":"Reserve!A57","v":42},72,{"$f":"IF(B52=\"\",\"\",年金利益演示!C47)","v":0},null,null,1000010,{"$f":"IF(B52=\"\",\"\",年金利益演示!H47)","v":17340},{"$f":"IF(B52=\"\",\"\",年金利益演示!E47)","v":0},{"$f":"IF(B52=\"\",\"\",年金利益演示!F47)","v":15136.6884028832},{"$f":"IF(B52=\"\",\"\",年金利益演示!G47)","v":26489.2047050456},{"$f":"IF(B52=\"\",\"\",万能利益演示!G47)","v":323.3153425024},32476.6884028832,{"$f":"IF(B52=\"\",\"\",万能利益演示!H47)","v":316.868363941204},{"$f":"IF(B52=\"\",\"\",IF($E$2=\"中\",万能利益演示!K47,IF($E$2=\"低\",万能利益演示!J47,万能利益演示!L47)))","v":510337.40061728},{"$f":"IF(B52=\"\",\"\",IF($E$2=\"中\",万能利益演示!O47,IF($E$2=\"低\",万能利益演示!N47,万能利益演示!P47)))","v":9155.452967074},null,{"$f":"IF($B52=\"\",\"\",万能利益演示!R47)","v":1685207.97165343},{"$f":"IF($B52=\"\",\"\",万能利益演示!S47)","v":2656945.46987469},{"$f":"IF($B52=\"\",\"\",万能利益演示!T47)","v":3828812.9543033},4188334.56384963,{"$f":"IF(B52=\"\",\"\",年金利益演示!I47)","v":1000000},{"$f":"IF($B52=\"\",\"\",万能利益演示!U47)","v":2022249.56598412},{"$f":"IF($B52=\"\",\"\",万能利益演示!V47)","v":3188334.56384963},{"$f":"IF($B52=\"\",\"\",万能利益演示!W47)","v":4594575.54516396},3613185.46987469,{"$f":"IF(B52=\"\",\"\",年金利益演示!J47)","v":938900},{"$f":"IF($B52=\"\",\"\",万能利益演示!X47)","v":1685207.97165343},{"$f":"IF($B52=\"\",\"\",万能利益演示!Y47)","v":2656945.46987469},{"$f":"IF($B52=\"\",\"\",万能利益演示!Z47)","v":3828812.9543033}]
[{"$f":"Reserve!A58","v":43},73,{"$f":"IF(B53=\"\",\"\",年金利益演示!C48)","v":0},null,null,1000010,{"$f":"IF(B53=\"\",\"\",年金利益演示!H48)","v":17340},{"$f":"IF(B53=\"\",\"\",年金利益演示!E48)","v":0},{"$f":"IF(B53=\"\",\"\",年金利益演示!F48)","v":15288.7452462094},{"$f":"IF(B53=\"\",\"\",年金利益演示!G48)","v":26755.3041808664},{"$f":"IF(B53=\"\",\"\",万能利益演示!G48)","v":324.766884028832},32628.7452462094,{"$f":"IF(B53=\"\",\"\",万能利益演示!H48)","v":318.064881793036},{"$f":"IF(B53=\"\",\"\",IF($E$2=\"中\",万能利益演示!K48,IF($E$2=\"低\",万能利益演示!J48,万能利益演示!L48)))","v":537883.091255068},{"$f":"IF(B53=\"\",\"\",IF($E$2=\"中\",万能利益演示!O48,IF($E$2=\"低\",万能利益演示!N48,万能利益演示!P48)))","v":10719.364549004},null,{"$f":"IF($B53=\"\",\"\",万能利益演示!R48)","v":1753602.49860489},{"$f":"IF($B53=\"\",\"\",万能利益演示!S48)","v":2799237.41585402},{"$f":"IF($B53=\"\",\"\",万能利益演示!T48)","v":4076646.36122682},4359084.89902483,{"$f":"IF(B53=\"\",\"\",年金利益演示!I48)","v":1000000},{"$f":"IF($B53=\"\",\"\",万能利益演示!U48)","v":2104322.99832586},{"$f":"IF($B53=\"\",\"\",万能利益演示!V48)","v":3359084.89902483},{"$f":"IF($B53=\"\",\"\",万能利益演示!W48)","v":4891975.63347218},3775277.41585402,{"$f":"IF(B53=\"\",\"\",年金利益演示!J48)","v":958700},{"$f":"IF($B53=\"\",\"\",万能利益演示!X48)","v":1753602.49860489},{"$f":"IF($B53=\"\",\"\",万能利益演示!Y48)","v":2799237.41585402},{"$f":"IF($B53=\"\",\"\",万能利益演示!Z48)","v":4076646.36122682}]
[{"$f":"Reserve!A59","v":44},74,{"$f":"IF(B54=\"\",\"\",年金利益演示!C49)","v":0},null,null,1000010,{"$f":"IF(B54=\"\",\"\",年金利益演示!H49)","v":17340},{"$f":"IF(B54=\"\",\"\",年金利益演示!E49)","v":0},{"$f":"IF(B54=\"\",\"\",年金利益演示!F49)","v":15448.7674623835},{"$f":"IF(B54=\"\",\"\",年金利益演示!G49)","v":27035.3430591711},{"$f":"IF(B54=\"\",\"\",万能利益演示!G49)","v":326.287452462094},32788.7674623835,{"$f":"IF(B54=\"\",\"\",万能利益演示!H49)","v":319.304072576088},{"$f":"IF(B54=\"\",\"\",IF($E$2=\"中\",万能利益演示!K49,IF($E$2=\"低\",万能利益演示!J49,万能利益演示!L49)))","v":566371.835544069},{"$f":"IF(B54=\"\",\"\",IF($E$2=\"中\",万能利益演示!O49,IF($E$2=\"低\",万能利益演示!N49,万能利益演示!P49)))","v":12536.3007566666},null,{"$f":"IF($B54=\"\",\"\",万能利益演示!R49)","v":1822774.78151744},{"$f":"IF($B54=\"\",\"\",万能利益演示!S49)","v":2946192.40642704},{"$f":"IF($B54=\"\",\"\",万能利益演示!T49)","v":4336541.49939785},4535430.88771245,{"$f":"IF(B54=\"\",\"\",年金利益演示!I49)","v":1000000},{"$f":"IF($B54=\"\",\"\",万能利益演示!U49)","v":2187329.73782093},{"$f":"IF($B54=\"\",\"\",万能利益演示!V49)","v":3535430.88771245},{"$f":"IF($B54=\"\",\"\",万能利益演示!W49)","v":5203849.79927742},3943032.40642704,{"$f":"IF(B54=\"\",\"\",年金利益演示!J49)","v":979500},{"$f":"IF($B54=\"\",\"\",万能利益演示!X49)","v":1822774.78151744},{"$f":"IF($B54=\"\",\"\",万能利益演示!Y49)","v":2946192.40642704},{"$f":"IF($B54=\"\",\"\",万能利益演示!Z49)","v":4336541.49939785}]
[{"$f":"Reserve!A60","v":45},75,{"$f":"IF(B55=\"\",\"\",年金利益演示!C50)","v":0},null,null,1000010,{"$f":"IF(B55=\"\",\"\",年金利益演示!H50)","v":17340},{"$f":"IF(B55=\"\",\"\",年金利益演示!E50)","v":0},{"$f":"IF(B55=\"\",\"\",年金利益演示!F50)","v":15618.1849055981},{"$f":"IF(B55=\"\",\"\",年金利益演示!G50)","v":27331.8235847967},{"$f":"IF(B55=\"\",\"\",万能利益演示!G50)","v":327.887674623835},32958.1849055981,{"$f":"IF(B55=\"\",\"\",万能利益演示!H50)","v":320.589397107997},{"$f":"IF(B55=\"\",\"\",IF($E$2=\"中\",万能利益演示!K50,IF($E$2=\"低\",万能利益演示!J50,万能利益演示!L50)))","v":595794.775122382},{"$f":"IF(B55=\"\",\"\",IF($E$2=\"中\",万能利益演示!O50,IF($E$2=\"低\",万能利益演示!N50,万能利益演示!P50)))","v":14607.4579785405},null,{"$f":"IF($B55=\"\",\"\",万能利益演示!R50)","v":1892618.93085376},{"$f":"IF($B55=\"\",\"\",万能利益演示!S50)","v":3097762.90642687},{"$f":"IF($B55=\"\",\"\",万能利益演示!T50)","v":4608771.780381},4735755.48771225,{"$f":"IF(B55=\"\",\"\",年金利益演示!I50)","v":1018440},{"$f":"IF($B55=\"\",\"\",万能利益演示!U50)","v":2271142.71702451},{"$f":"IF($B55=\"\",\"\",万能利益演示!V50)","v":3717315.48771225},{"$f":"IF($B55=\"\",\"\",万能利益演示!W50)","v":5530526.1364572},4116202.90642687,{"$f":"IF(B55=\"\",\"\",年金利益演示!J50)","v":1001100},{"$f":"IF($B55=\"\",\"\",万能利益演示!X50)","v":1892618.93085376},{"$f":"IF($B55=\"\",\"\",万能利益演示!Y50)","v":3097762.90642687},{"$f":"IF($B55=\"\",\"\",万能利益演示!Z50)","v":4608771.780381}]
[{"$f":"Reserve!A61","v":46},76,{"$f":"IF(B56=\"\",\"\",年金利益演示!C51)","v":0},null,null,1000010,{"$f":"IF(B56=\"\",\"\",年金利益演示!H51)","v":17340},{"$f":"IF(B56=\"\",\"\",年金利益演示!E51)","v":0},{"$f":"IF(B56=\"\",\"\",年金利益演示!F51)","v":15794.2068416059},{"$f":"IF(B56=\"\",\"\",年金利益演示!G51)","v":27639.8619728104},{"$f":"IF(B56=\"\",\"\",万能利益演示!G51)","v":329.581849055981},33134.2068416059,{"$f":"IF(B56=\"\",\"\",万能利益演示!H51)","v":321.924875350578},{"$f":"IF(B56=\"\",\"\",IF($E$2=\"中\",万能利益演示!K51,IF($E$2=\"低\",万能利益演示!J51,万能利益演示!L51)))","v":626142.686871753},{"$f":"IF(B56=\"\",\"\",IF($E$2=\"中\",万能利益演示!O51,IF($E$2=\"低\",万能利益演示!N51,万能利益演示!P51)))","v":0},null,{"$f":"IF($B56=\"\",\"\",万能利益演示!R51)","v":1973708.69525529},{"$f":"IF($B56=\"\",\"\",万能利益演示!S51)","v":3271595.53890491},{"$f":"IF($B56=\"\",\"\",万能利益演示!T51)","v":4920225.64681167},4966754.64668589,{"$f":"IF(B56=\"\",\"\",年金利益演示!I51)","v":1040840},{"$f":"IF($B56=\"\",\"\",万能利益演示!U51)","v":2368450.43430635},{"$f":"IF($B56=\"\",\"\",万能利益演示!V51)","v":3925914.64668589},{"$f":"IF($B56=\"\",\"\",万能利益演示!W51)","v":5904270.776174},4312435.53890491,{"$f":"IF(B56=\"\",\"\",年金利益演示!J51)","v":1023500},{"$f":"IF($B56=\"\",\"\",万能利益演示!X51)","v":1973708.69525529},{"$f":"IF($B56=\"\",\"\",万能利益演示!Y51)","v":3271595.53890491},{"$f":"IF($B56=\"\",\"\",万能利益演示!Z51)","v":4920225.64681167}]
[{"$f":"Reserve!A62","v":47},77,{"$f":"IF(B57=\"\",\"\",年金利益演示!C52)","v":0},null,null,1000010,{"$f":"IF(B57=\"\",\"\",年金利益演示!H52)","v":17340},{"$f":"IF(B57=\"\",\"\",年金利益演示!E52)","v":0},{"$f":"IF(B57=\"\",\"\",年金利益演示!F52)","v":15976.4203563075},{"$f":"IF(B57=\"\",\"\",年金利益演示!G52)","v":27958.7356235381},{"$f":"IF(B57=\"\",\"\",万能利益演示!G52)","v":331.342068416059},33316.4203563075,{"$f":"IF(B57=\"\",\"\",万能利益演示!H52)","v":323.3153425024},{"$f":"IF(B57=\"\",\"\",IF($E$2=\"中\",万能利益演示!K52,IF($E$2=\"低\",万能利益演示!J52,万能利益演示!L52)))","v":660944.34380412},{"$f":"IF(B57=\"\",\"\",IF($E$2=\"中\",万能利益演示!O52,IF($E$2=\"低\",万能利益演示!N52,万能利益演示!P52)))","v":0},null,{"$f":"IF($B57=\"\",\"\",万能利益演示!R52)","v":2057005.74725526},{"$f":"IF($B57=\"\",\"\",万能利益演示!S52)","v":3453434.19637653},{"$f":"IF($B57=\"\",\"\",万能利益演示!T52)","v":5250552.936543},5208261.03565183,{"$f":"IF(B57=\"\",\"\",年金利益演示!I52)","v":1064140},{"$f":"IF($B57=\"\",\"\",万能利益演示!U52)","v":2468406.89670631},{"$f":"IF($B57=\"\",\"\",万能利益演示!V52)","v":4144121.03565183},{"$f":"IF($B57=\"\",\"\",万能利益演示!W52)","v":6300663.5238516},4517574.19637653,{"$f":"IF(B57=\"\",\"\",年金利益演示!J52)","v":1046800},{"$f":"IF($B57=\"\",\"\",万能利益演示!X52)","v":2057005.74725526},{"$f":"IF($B57=\"\",\"\",万能利益演示!Y52)","v":3453434.19637653},{"$f":"IF($B57=\"\",\"\",万能利益演示!Z52)","v":5250552.936543}]
[{"$f":"Reserve!A63","v":48},78,{"$f":"IF(B58=\"\",\"\",年金利益演示!C53)","v":0},null,null,1000010,{"$f":"IF(B58=\"\",\"\",年金利益演示!H53)","v":17340},{"$f":"IF(B58=\"\",\"\",年金利益演示!E53)","v":0},{"$f":"IF(B58=\"\",\"\",年金利益演示!F53)","v":16164.884001471},{"$f":"IF(B58=\"\",\"\",年金利益演示!G53)","v":28288.5470025742},{"$f":"IF(B58=\"\",\"\",万能利益演示!G53)","v":333.164203563075},33504.884001471,{"$f":"IF(B58=\"\",\"\",万能利益演示!H53)","v":324.766884028832},{"$f":"IF(B58=\"\",\"\",IF($E$2=\"中\",万能利益演示!K53,IF($E$2=\"低\",万能利益演示!J53,万能利益演示!L53)))","v":697348.44388266},{"$f":"IF(B58=\"\",\"\",IF($E$2=\"中\",万能利益演示!O53,IF($E$2=\"低\",万能利益演示!N53,万能利益演示!P53)))","v":0},null,{"$f":"IF($B58=\"\",\"\",万能利益演示!R53)","v":2142571.61454933},{"$f":"IF($B58=\"\",\"\",万能利益演示!S53)","v":3643645.6192869},{"$f":"IF($B58=\"\",\"\",万能利益演示!T53)","v":5600892.61715456},5460614.74314428,{"$f":"IF(B58=\"\",\"\",年金利益演示!I53)","v":1088240},{"$f":"IF($B58=\"\",\"\",万能利益演示!U53)","v":2571085.9374592},{"$f":"IF($B58=\"\",\"\",万能利益演示!V53)","v":4372374.74314428},{"$f":"IF($B58=\"\",\"\",万能利益演示!W53)","v":6721071.14058547},4731885.6192869,{"$f":"IF(B58=\"\",\"\",年金利益演示!J53)","v":1070900},{"$f":"IF($B58=\"\",\"\",万能利益演示!X53)","v":2142571.61454933},{"$f":"IF($B58=\"\",\"\",万能利益演示!Y53)","v":3643645.6192869},{"$f":"IF($B58=\"\",\"\",万能利益演示!Z53)","v":5600892.61715456}]
[{"$f":"Reserve!A64","v":49},79,{"$f":"IF(B59=\"\",\"\",年金利益演示!C54)","v":0},null,null,1000010,{"$f":"IF(B59=\"\",\"\",年金利益演示!H54)","v":17340},{"$f":"IF(B59=\"\",\"\",年金利益演示!E54)","v":0},{"$f":"IF(B59=\"\",\"\",年金利益演示!F54)","v":16359.4080292276},{"$f":"IF(B59=\"\",\"\",年金利益演示!G54)","v":28628.9640511483},{"$f":"IF(B59=\"\",\"\",万能利益演示!G54)","v":335.04884001471},33699.4080292276,{"$f":"IF(B59=\"\",\"\",万能利益演示!H54)","v":326.287452462094},{"$f":"IF(B59=\"\",\"\",IF($E$2=\"中\",万能利益演示!K54,IF($E$2=\"低\",万能利益演示!J54,万能利益演示!L54)))","v":735428.348380164},{"$f":"IF(B59=\"\",\"\",IF($E$2=\"中\",万能利益演示!O54,IF($E$2=\"低\",万能利益演示!N54,万能利益演示!P54)))","v":0},null,{"$f":"IF($B59=\"\",\"\",万能利益演示!R54)","v":2230469.43059233},{"$f":"IF($B59=\"\",\"\",万能利益演示!S54)","v":3842613.12028635},{"$f":"IF($B59=\"\",\"\",万能利益演示!T54)","v":5972452.06415459},5724475.74434363,{"$f":"IF(B59=\"\",\"\",年金利益演示!I54)","v":1113340},{"$f":"IF($B59=\"\",\"\",万能利益演示!U54)","v":2676563.3167108},{"$f":"IF($B59=\"\",\"\",万能利益演示!V54)","v":4611135.74434363},{"$f":"IF($B59=\"\",\"\",万能利益演示!W54)","v":7166942.4769855},4955953.12028635,{"$f":"IF(B59=\"\",\"\",年金利益演示!J54)","v":1096000},{"$f":"IF($B59=\"\",\"\",万能利益演示!X54)","v":2230469.43059233},{"$f":"IF($B59=\"\",\"\",万能利益演示!Y54)","v":3842613.12028635},{"$f":"IF($B59=\"\",\"\",万能利益演示!Z54)","v":5972452.06415459}]
[{"$f":"Reserve!A65","v":50},80,{"$f":"IF(B60=\"\",\"\",年金利益演示!C55)","v":0},null,null,1000010,{"$f":"IF(B60=\"\",\"\",年金利益演示!H55)","v":117340},{"$f":"IF(B60=\"\",\"\",年金利益演示!E55)","v":0},{"$f":"IF(B60=\"\",\"\",年金利益演示!F55)","v":16559.32668479},{"$f":"IF(B60=\"\",\"\",年金利益演示!G55)","v":28978.8216983825},{"$f":"IF(B60=\"\",\"\",万能利益演示!G55)","v":336.994080292276},133899.32668479,{"$f":"IF(B60=\"\",\"\",万能利益演示!H55)","v":327.887674623835},{"$f":"IF(B60=\"\",\"\",IF($E$2=\"中\",万能利益演示!K55,IF($E$2=\"低\",万能利益演示!J55,万能利益演示!L55)))","v":775260.684381983},{"$f":"IF(B60=\"\",\"\",IF($E$2=\"中\",万能利益演示!O55,IF($E$2=\"低\",万能利益演示!N55,万能利益演示!P55)))","v":0},null,{"$f":"IF($B60=\"\",\"\",万能利益演示!R55)","v":2320763.72552129},{"$f":"IF($B60=\"\",\"\",万能利益演示!S55)","v":4050737.07589586},{"$f":"IF($B60=\"\",\"\",万能利益演示!T55)","v":6366510.90772483},6000124.49107503,{"$f":"IF(B60=\"\",\"\",年金利益演示!I55)","v":1139240},{"$f":"IF($B60=\"\",\"\",万能利益演示!U55)","v":2784916.47062555},{"$f":"IF($B60=\"\",\"\",万能利益演示!V55)","v":4860884.49107503},{"$f":"IF($B60=\"\",\"\",万能利益演示!W55)","v":7639813.0892698},5189977.07589586,{"$f":"IF(B60=\"\",\"\",年金利益演示!J55)","v":1021900},{"$f":"IF($B60=\"\",\"\",万能利益演示!X55)","v":2320763.72552129},{"$f":"IF($B60=\"\",\"\",万能利益演示!Y55)","v":4050737.07589586},{"$f":"IF($B60=\"\",\"\",万能利益演示!Z55)","v":6366510.90772483}]
[{"$f":"Reserve!A66","v":51},81,{"$f":"IF(B61=\"\",\"\",年金利益演示!C56)","v":0},null,null,1000010,{"$f":"IF(B61=\"\",\"\",年金利益演示!H56)","v":117340},{"$f":"IF(B61=\"\",\"\",年金利益演示!E56)","v":0},{"$f":"IF(B61=\"\",\"\",年金利益演示!F56)","v":15363.5604770886},{"$f":"IF(B61=\"\",\"\",年金利益演示!G56)","v":26886.230834905},{"$f":"IF(B61=\"\",\"\",万能利益演示!G56)","v":1338.9932668479},132703.560477089,{"$f":"IF(B61=\"\",\"\",万能利益演示!H56)","v":329.581849055981},{"$f":"IF(B61=\"\",\"\",IF($E$2=\"中\",万能利益演示!K56,IF($E$2=\"低\",万能利益演示!J56,万能利益演示!L56)))","v":836725.398232572},{"$f":"IF(B61=\"\",\"\",IF($E$2=\"中\",万能利益演示!O56,IF($E$2=\"低\",万能利益演示!N56,万能利益演示!P56)))","v":0},null,{"$f":"IF($B61=\"\",\"\",万能利益演示!R56)","v":2514994.981808},{"$f":"IF($B61=\"\",\"\",万能利益演示!S56)","v":4371890.20576519},{"$f":"IF($B61=\"\",\"\",万能利益演示!T56)","v":6889364.87237134},6308508.24691822,{"$f":"IF(B61=\"\",\"\",年金利益演示!I56)","v":1062240},{"$f":"IF($B61=\"\",\"\",万能利益演示!U56)","v":3017993.97816959},{"$f":"IF($B61=\"\",\"\",万能利益演示!V56)","v":5246268.24691822},{"$f":"IF($B61=\"\",\"\",万能利益演示!W56)","v":8267237.84684561},5434130.20576519,{"$f":"IF(B61=\"\",\"\",年金利益演示!J56)","v":944900},{"$f":"IF($B61=\"\",\"\",万能利益演示!X56)","v":2514994.981808},{"$f":"IF($B61=\"\",\"\",万能利益演示!Y56)","v":4371890.20576519},{"$f":"IF($B61=\"\",\"\",万能利益演示!Z56)","v":6889364.87237134}]
[{"$f":"Reserve!A67","v":52},82,{"$f":"IF(B62=\"\",\"\",年金利益演示!C57)","v":0},null,null,1000010,{"$f":"IF(B62=\"\",\"\",年金利益演示!H57)","v":117340},{"$f":"IF(B62=\"\",\"\",年金利益演示!E57)","v":0},{"$f":"IF(B62=\"\",\"\",年金利益演示!F57)","v":14137.0903923812},{"$f":"IF(B62=\"\",\"\",年金利益演示!G57)","v":24739.9081866671},{"$f":"IF(B62=\"\",\"\",万能利益演示!G57)","v":1327.03560477089},131477.090392381,{"$f":"IF(B62=\"\",\"\",万能利益演示!H57)","v":331.342068416059},{"$f":"IF(B62=\"\",\"\",IF($E$2=\"中\",万能利益演示!K57,IF($E$2=\"低\",万能利益演示!J57,万能利益演示!L57)))","v":900719.614541184},{"$f":"IF(B62=\"\",\"\",IF($E$2=\"中\",万能利益演示!O57,IF($E$2=\"低\",万能利益演示!N57,万能利益演示!P57)))","v":0},null,{"$f":"IF($B62=\"\",\"\",万能利益演示!R57)","v":2712870.41996745},{"$f":"IF($B62=\"\",\"\",万能利益演示!S57)","v":4706259.98597769},{"$f":"IF($B62=\"\",\"\",万能利益演示!T57)","v":7442337.1036708},6629551.98317322,{"$f":"IF(B62=\"\",\"\",年金利益演示!I57)","v":982040},{"$f":"IF($B62=\"\",\"\",万能利益演示!U57)","v":3255444.50396094},{"$f":"IF($B62=\"\",\"\",万能利益演示!V57)","v":5647511.98317322},{"$f":"IF($B62=\"\",\"\",万能利益演示!W57)","v":8930804.52440496},5688299.98597769,{"$f":"IF(B62=\"\",\"\",年金利益演示!J57)","v":864700},{"$f":"IF($B62=\"\",\"\",万能利益演示!X57)","v":2712870.41996745},{"$f":"IF($B62=\"\",\"\",万能利益演示!Y57)","v":4706259.98597769},{"$f":"IF($B62=\"\",\"\",万能利益演示!Z57)","v":7442337.1036708}]
[{"$f":"Reserve!A68","v":53},83,{"$f":"IF(B63=\"\",\"\",年金利益演示!C58)","v":0},null,null,1000010,{"$f":"IF(B63=\"\",\"\",年金利益演示!H58)","v":117340},{"$f":"IF(B63=\"\",\"\",年金利益演示!E58)","v":0},{"$f":"IF(B63=\"\",\"\",年金利益演示!F58)","v":12878.506864812},{"$f":"IF(B63=\"\",\"\",年金利益演示!G58)","v":22537.387013421},{"$f":"IF(B63=\"\",\"\",万能利益演示!G58)","v":1314.77090392381},130218.506864812,{"$f":"IF(B63=\"\",\"\",万能利益演示!H58)","v":333.164203563075},{"$f":"IF(B63=\"\",\"\",IF($E$2=\"中\",万能利益演示!K58,IF($E$2=\"低\",万能利益演示!J58,万能利益演示!L58)))","v":967351.093933941},{"$f":"IF(B63=\"\",\"\",IF($E$2=\"中\",万能利益演示!O58,IF($E$2=\"低\",万能利益演示!N58,万能利益演示!P58)))","v":0},null,{"$f":"IF($B63=\"\",\"\",万能利益演示!R58)","v":2914450.05125095},{"$f":"IF($B63=\"\",\"\",万能利益演示!S58)","v":5054409.46580484},{"$f":"IF($B63=\"\",\"\",万能利益演示!T58)","v":8027202.54260459},6963831.35896581,{"$f":"IF(B63=\"\",\"\",年金利益演示!I58)","v":898540},{"$f":"IF($B63=\"\",\"\",万能利益演示!U58)","v":3497340.06150115},{"$f":"IF($B63=\"\",\"\",万能利益演示!V58)","v":6065291.35896581},{"$f":"IF($B63=\"\",\"\",万能利益演示!W58)","v":9632643.05112551},5952949.46580484,{"$f":"IF(B63=\"\",\"\",年金利益演示!J58)","v":781200},{"$f":"IF($B63=\"\",\"\",万能利益演示!X58)","v":2914450.05125095},{"$f":"IF($B63=\"\",\"\",万能利益演示!Y58)","v":5054409.46580484},{"$f":"IF($B63=\"\",\"\",万能利益演示!Z58)","v":8027202.54260459}]
[{"$f":"Reserve!A69","v":54},84,{"$f":"IF(B64=\"\",\"\",年金利益演示!C59)","v":0},null,null,1000010,{"$f":"IF(B64=\"\",\"\",年金利益演示!H59)","v":117340},{"$f":"IF(B64=\"\",\"\",年金利益演示!E59)","v":0},{"$f":"IF(B64=\"\",\"\",年金利益演示!F59)","v":11586.4082822224},{"$f":"IF(B64=\"\",\"\",年金利益演示!G59)","v":20276.2144938892},{"$f":"IF(B64=\"\",\"\",万能利益演示!G59)","v":1302.18506864812},128926.408282222,{"$f":"IF(B64=\"\",\"\",万能利益演示!H59)","v":335.04884001471},{"$f":"IF(B64=\"\",\"\",IF($E$2=\"中\",万能利益演示!K59,IF($E$2=\"低\",万能利益演示!J59,万能利益演示!L59)))","v":1036732.1672882},{"$f":"IF(B64=\"\",\"\",IF($E$2=\"中\",万能利益演示!O59,IF($E$2=\"低\",万能利益演示!N59,万能利益演示!P59)))","v":0},null,{"$f":"IF($B64=\"\",\"\",万能利益演示!R59)","v":3119793.95743431},{"$f":"IF($B64=\"\",\"\",万能利益演示!S59)","v":5416925.57408087},{"$f":"IF($B64=\"\",\"\",万能利益演示!T59)","v":8645841.14803522},7312150.68889704,{"$f":"IF(B64=\"\",\"\",年金利益演示!I59)","v":811840},{"$f":"IF($B64=\"\",\"\",万能利益演示!U59)","v":3743752.74892117},{"$f":"IF($B64=\"\",\"\",万能利益演示!V59)","v":6500310.68889704},{"$f":"IF($B64=\"\",\"\",万能利益演示!W59)","v":10375009.3776423},6228765.57408087,{"$f":"IF(B64=\"\",\"\",年金利益演示!J59)","v":694500},{"$f":"IF($B64=\"\",\"\",万能利益演示!X59)","v":3119793.95743431},{"$f":"IF($B64=\"\",\"\",万能利益演示!Y59)","v":5416925.57408087},{"$f":"IF($B64=\"\",\"\",万能利益演示!Z59)","v":8645841.14803522}]
[{"$f":"Reserve!A70","v":55},85,{"$f":"IF(B65=\"\",\"\",年金利益演示!C60)","v":0},null,null,1000010,{"$f":"IF(B65=\"\",\"\",年金利益演示!H60)","v":117340},{"$f":"IF(B65=\"\",\"\",年金利益演示!E60)","v":0},{"$f":"IF(B65=\"\",\"\",年金利益演示!F60)","v":10259.2738637461},{"$f":"IF(B65=\"\",\"\",年金利益演示!G60)","v":17953.7292615556},{"$f":"IF(B65=\"\",\"\",万能利益演示!G60)","v":1289.26408282222},127599.273863746,{"$f":"IF(B65=\"\",\"\",万能利益演示!H60)","v":336.994080292276},{"$f":"IF(B65=\"\",\"\",IF($E$2=\"中\",万能利益演示!K60,IF($E$2=\"低\",万能利益演示!J60,万能利益演示!L60)))","v":1108979.94247211},{"$f":"IF(B65=\"\",\"\",IF($E$2=\"中\",万能利益演示!O60,IF($E$2=\"低\",万能利益演示!N60,万能利益演示!P60)))","v":0},null,{"$f":"IF($B65=\"\",\"\",万能利益演示!R60)","v":3328962.29810685},{"$f":"IF($B65=\"\",\"\",万能利益演示!S60)","v":5794420.19941678},{"$f":"IF($B65=\"\",\"\",万能利益演示!T60)","v":9300244.20349381},7674844.23930014,{"$f":"IF(B65=\"\",\"\",年金利益演示!I60)","v":721540},{"$f":"IF($B65=\"\",\"\",万能利益演示!U60)","v":3994754.75772822},{"$f":"IF($B65=\"\",\"\",万能利益演示!V60)","v":6953304.23930014},{"$f":"IF($B65=\"\",\"\",万能利益演示!W60)","v":11160293.0441926},6515960.19941678,{"$f":"IF(B65=\"\",\"\",年金利益演示!J60)","v":604200},{"$f":"IF($B65=\"\",\"\",万能利益演示!X60)","v":3328962.29810685},{"$f":"IF($B65=\"\",\"\",万能利益演示!Y60)","v":5794420.19941678},{"$f":"IF($B65=\"\",\"\",万能利益演示!Z60)","v":9300244.20349381}]
[{"$f":"Reserve!A71","v":56},86,{"$f":"IF(B66=\"\",\"\",年金利益演示!C61)","v":0},null,null,1000010,{"$f":"IF(B66=\"\",\"\",年金利益演示!H61)","v":117340},{"$f":"IF(B66=\"\",\"\",年金利益演示!E61)","v":0},{"$f":"IF(B66=\"\",\"\",年金利益演示!F61)","v":8895.97600572188},{"$f":"IF(B66=\"\",\"\",年金利益演示!G61)","v":15567.9580100133},{"$f":"IF(B66=\"\",\"\",万能利益演示!G61)","v":1275.99273863746},126235.976005722,{"$f":"IF(B66=\"\",\"\",万能利益演示!H61)","v":1338.9932668479},{"$f":"IF(B66=\"\",\"\",IF($E$2=\"中\",万能利益演示!K61,IF($E$2=\"低\",万能利益演示!J61,万能利益演示!L61)))","v":1184416.49476175},{"$f":"IF(B66=\"\",\"\",IF($E$2=\"中\",万能利益演示!O61,IF($E$2=\"低\",万能利益演示!N61,万能利益演示!P61)))","v":0},null,{"$f":"IF($B66=\"\",\"\",万能利益演示!R61)","v":3543040.18681128},{"$f":"IF($B66=\"\",\"\",万能利益演示!S61)","v":6188576.18513013},{"$f":"IF($B66=\"\",\"\",万能利益演示!T61)","v":9993580.86655891},8054031.42215616,{"$f":"IF(B66=\"\",\"\",年金利益演示!I61)","v":627740},{"$f":"IF($B66=\"\",\"\",万能利益演示!U61)","v":4251648.22417354},{"$f":"IF($B66=\"\",\"\",万能利益演示!V61)","v":7426291.42215616},{"$f":"IF($B66=\"\",\"\",万能利益演示!W61)","v":11992297.0398707},6816316.18513013,{"$f":"IF(B66=\"\",\"\",年金利益演示!J61)","v":510400},{"$f":"IF($B66=\"\",\"\",万能利益演示!X61)","v":3543040.18681128},{"$f":"IF($B66=\"\",\"\",万能利益演示!Y61)","v":6188576.18513013},{"$f":"IF($B66=\"\",\"\",万能利益演示!Z61)","v":9993580.86655891}]
[{"$f":"Reserve!A72","v":57},87,{"$f":"IF(B67=\"\",\"\",年金利益演示!C62)","v":0},null,null,1000010,{"$f":"IF(B67=\"\",\"\",年金利益演示!H62)","v":117340},{"$f":"IF(B67=\"\",\"\",年金利益演示!E62)","v":0},{"$f":"IF(B67=\"\",\"\",年金利益演示!F62)","v":7495.40022164403},{"$f":"IF(B67=\"\",\"\",年金利益演示!G62)","v":13116.9503878771},{"$f":"IF(B67=\"\",\"\",万能利益演示!G62)","v":1262.35976005722},124835.400221644,{"$f":"IF(B67=\"\",\"\",万能利益演示!H62)","v":1327.03560477089},{"$f":"IF(B67=\"\",\"\",IF($E$2=\"中\",万能利益演示!K62,IF($E$2=\"低\",万能利益演示!J62,万能利益演示!L62)))","v":1262975.36739611},{"$f":"IF(B67=\"\",\"\",IF($E$2=\"中\",万能利益演示!O62,IF($E$2=\"低\",万能利益演示!N62,万能利益演示!P62)))","v":0},null,{"$f":"IF($B67=\"\",\"\",万能利益演示!R62)","v":3761074.35962826},{"$f":"IF($B67=\"\",\"\",万能利益演示!S62)","v":6599046.29464469},{"$f":"IF($B67=\"\",\"\",万能利益演示!T62)","v":10727074.4095139},8448995.55357363,{"$f":"IF(B67=\"\",\"\",年金利益演示!I62)","v":530140},{"$f":"IF($B67=\"\",\"\",万能利益演示!U62)","v":4513289.23155391},{"$f":"IF($B67=\"\",\"\",万能利益演示!V62)","v":7918855.55357363},{"$f":"IF($B67=\"\",\"\",万能利益演示!W62)","v":12872489.2914167},7129186.29464469,{"$f":"IF(B67=\"\",\"\",年金利益演示!J62)","v":412800},{"$f":"IF($B67=\"\",\"\",万能利益演示!X62)","v":3761074.35962826},{"$f":"IF($B67=\"\",\"\",万能利益演示!Y62)","v":6599046.29464469},{"$f":"IF($B67=\"\",\"\",万能利益演示!Z62)","v":10727074.4095139}]
[{"$f":"Reserve!A73","v":58},88,{"$f":"IF(B68=\"\",\"\",年金利益演示!C63)","v":0},null,null,1000010,{"$f":"IF(B68=\"\",\"\",年金利益演示!H63)","v":117340},{"$f":"IF(B68=\"\",\"\",年金利益演示!E63)","v":0},{"$f":"IF(B68=\"\",\"\",年金利益演示!F63)","v":6056.95490751998},{"$f":"IF(B68=\"\",\"\",年金利益演示!G63)","v":10599.67108816},{"$f":"IF(B68=\"\",\"\",万能利益演示!G63)","v":1248.35400221644},123396.95490752,{"$f":"IF(B68=\"\",\"\",万能利益演示!H63)","v":1314.77090392381},{"$f":"IF(B68=\"\",\"\",IF($E$2=\"中\",万能利益演示!K63,IF($E$2=\"低\",万能利益演示!J63,万能利益演示!L63)))","v":1344789.62235361},{"$f":"IF(B68=\"\",\"\",IF($E$2=\"中\",万能利益演示!O63,IF($E$2=\"低\",万能利益演示!N63,万能利益演示!P63)))","v":0},null,{"$f":"IF($B68=\"\",\"\",万能利益演示!R63)","v":3983125.5811704},{"$f":"IF($B68=\"\",\"\",万能利益演示!S63)","v":7026525.77679761},{"$f":"IF($B68=\"\",\"\",万能利益演示!T63)","v":11503094.8002355},8860670.93215713,{"$f":"IF(B68=\"\",\"\",年金利益演示!I63)","v":428840},{"$f":"IF($B68=\"\",\"\",万能利益演示!U63)","v":4779750.69740448},{"$f":"IF($B68=\"\",\"\",万能利益演示!V63)","v":8431830.93215713},{"$f":"IF($B68=\"\",\"\",万能利益演示!W63)","v":13803713.7602826},7455365.77679761,{"$f":"IF(B68=\"\",\"\",年金利益演示!J63)","v":311500},{"$f":"IF($B68=\"\",\"\",万能利益演示!X63)","v":3983125.5811704},{"$f":"IF($B68=\"\",\"\",万能利益演示!Y63)","v":7026525.77679761},{"$f":"IF($B68=\"\",\"\",万能利益演示!Z63)","v":11503094.8002355}]
[{"$f":"Reserve!A74","v":59},89,{"$f":"IF(B69=\"\",\"\",年金利益演示!C64)","v":0},null,null,1000010,{"$f":"IF(B69=\"\",\"\",年金利益演示!H64)","v":117340},{"$f":"IF(B69=\"\",\"\",年金利益演示!E64)","v":0},{"$f":"IF(B69=\"\",\"\",年金利益演示!F64)","v":4580.2117472201},{"$f":"IF(B69=\"\",\"\",年金利益演示!G64)","v":8015.37055763518},{"$f":"IF(B69=\"\",\"\",万能利益演示!G64)","v":1233.9695490752},121920.21174722,{"$f":"IF(B69=\"\",\"\",万能利益演示!H64)","v":1302.18506864812},{"$f":"IF(B69=\"\",\"\",IF($E$2=\"中\",万能利益演示!K64,IF($E$2=\"低\",万能利益演示!J64,万能利益演示!L64)))","v":1429998.18944494},{"$f":"IF(B69=\"\",\"\",IF($E$2=\"中\",万能利益演示!O64,IF($E$2=\"低\",万能利益演示!N64,万能利益演示!P64)))","v":0},null,{"$f":"IF($B69=\"\",\"\",万能利益演示!R64)","v":4209255.52038743},{"$f":"IF($B69=\"\",\"\",万能利益演示!S64)","v":7471740.53984981},{"$f":"IF($B69=\"\",\"\",万能利益演示!T64)","v":12324153.5689023},9289528.64781977,{"$f":"IF(B69=\"\",\"\",年金利益演示!I64)","v":323440},{"$f":"IF($B69=\"\",\"\",万能利益演示!U64)","v":5051106.62446491},{"$f":"IF($B69=\"\",\"\",万能利益演示!V64)","v":8966088.64781977},{"$f":"IF($B69=\"\",\"\",万能利益演示!W64)","v":14788984.2826828},7795180.53984981,{"$f":"IF(B69=\"\",\"\",年金利益演示!J64)","v":206100},{"$f":"IF($B69=\"\",\"\",万能利益演示!X64)","v":4209255.52038743},{"$f":"IF($B69=\"\",\"\",万能利益演示!Y64)","v":7471740.53984981},{"$f":"IF($B69=\"\",\"\",万能利益演示!Z64)","v":12324153.5689023}]
[{"$f":"Reserve!A75","v":60},90,{"$f":"IF(B70=\"\",\"\",年金利益演示!C65)","v":0},null,null,1000010,{"$f":"IF(B70=\"\",\"\",年金利益演示!H65)","v":17340},{"$f":"IF(B70=\"\",\"\",年金利益演示!E65)","v":0},{"$f":"IF(B70=\"\",\"\",年金利益演示!F65)","v":3065.77440532345},{"$f":"IF(B70=\"\",\"\",年金利益演示!G65)","v":5365.10520931603},{"$f":"IF(B70=\"\",\"\",万能利益演示!G65)","v":1219.2021174722},20405.7744053234,{"$f":"IF(B70=\"\",\"\",万能利益演示!H65)","v":1289.26408282222},{"$f":"IF(B70=\"\",\"\",IF($E$2=\"中\",万能利益演示!K65,IF($E$2=\"低\",万能利益演示!J65,万能利益演示!L65)))","v":1518746.16271248},{"$f":"IF(B70=\"\",\"\",IF($E$2=\"中\",万能利益演示!O65,IF($E$2=\"低\",万能利益演示!N65,万能利益演示!P65)))","v":0},null,{"$f":"IF($B70=\"\",\"\",万能利益演示!R65)","v":4439526.9389525},{"$f":"IF($B70=\"\",\"\",万能利益演示!S65)","v":7935448.70017269},{"$f":"IF($B70=\"\",\"\",万能利益演示!T65)","v":13192912.4731718},9736578.44020722,{"$f":"IF(B70=\"\",\"\",年金利益演示!I65)","v":214040},{"$f":"IF($B70=\"\",\"\",万能利益演示!U65)","v":5327432.326743},{"$f":"IF($B70=\"\",\"\",万能利益演示!V65)","v":9522538.44020722},{"$f":"IF($B70=\"\",\"\",万能利益演示!W65)","v":15831494.9678062},8149488.70017269,{"$f":"IF(B70=\"\",\"\",年金利益演示!J65)","v":196700},{"$f":"IF($B70=\"\",\"\",万能利益演示!X65)","v":4439526.9389525},{"$f":"IF($B70=\"\",\"\",万能利益演示!Y65)","v":7935448.70017269},{"$f":"IF($B70=\"\",\"\",万能利益演示!Z65)","v":13192912.4731718}]
[{"$f":"Reserve!A76","v":61},91,{"$f":"IF(B71=\"\",\"\",年金利益演示!C66)","v":0},null,null,1000010,{"$f":"IF(B71=\"\",\"\",年金利益演示!H66)","v":17340},{"$f":"IF(B71=\"\",\"\",年金利益演示!E66)","v":0},{"$f":"IF(B71=\"\",\"\",年金利益演示!F66)","v":2914.8392932899},{"$f":"IF(B71=\"\",\"\",年金利益演示!G66)","v":5100.96876325732},{"$f":"IF(B71=\"\",\"\",万能利益演示!G66)","v":204.057744053235},20254.8392932899,{"$f":"IF(B71=\"\",\"\",万能利益演示!H66)","v":1275.99273863746},{"$f":"IF(B71=\"\",\"\",IF($E$2=\"中\",万能利益演示!K66,IF($E$2=\"低\",万能利益演示!J66,万能利益演示!L66)))","v":1591385.28191452},{"$f":"IF(B71=\"\",\"\",IF($E$2=\"中\",万能利益演示!O66,IF($E$2=\"低\",万能利益演示!N66,万能利益演示!P66)))","v":0},null,{"$f":"IF($B71=\"\",\"\",万能利益演示!R66)","v":4572529.76456122},{"$f":"IF($B71=\"\",\"\",万能利益演示!S66)","v":8314988.09800336},{"$f":"IF($B71=\"\",\"\",万能利益演示!T66)","v":14007253.593526},10182125.717604,{"$f":"IF(B71=\"\",\"\",年金利益演示!I66)","v":204140},{"$f":"IF($B71=\"\",\"\",万能利益演示!U66)","v":5487035.71747346},{"$f":"IF($B71=\"\",\"\",万能利益演示!V66)","v":9977985.71760403},{"$f":"IF($B71=\"\",\"\",万能利益演示!W66)","v":16808704.3122312},8519128.09800336,{"$f":"IF(B71=\"\",\"\",年金利益演示!J66)","v":186800},{"$f":"IF($B71=\"\",\"\",万能利益演示!X66)","v":4572529.76456122},{"$f":"IF($B71=\"\",\"\",万能利益演示!Y66)","v":8314988.09800336},{"$f":"IF($B71=\"\",\"\",万能利益演示!Z66)","v":14007253.593526}]
[{"$f":"Reserve!A77","v":62},92,{"$f":"IF(B72=\"\",\"\",年金利益演示!C67)","v":0},null,null,1000010,{"$f":"IF(B72=\"\",\"\",年金利益演示!H67)","v":17340},{"$f":"IF(B72=\"\",\"\",年金利益演示!E67)","v":0},{"$f":"IF(B72=\"\",\"\",年金利益演示!F67)","v":2759.64286429712},{"$f":"IF(B72=\"\",\"\",年金利益演示!G67)","v":4829.37501251995},{"$f":"IF(B72=\"\",\"\",万能利益演示!G67)","v":202.548392932899},20099.6428642971,{"$f":"IF(B72=\"\",\"\",万能利益演示!H67)","v":1262.35976005722},{"$f":"IF(B72=\"\",\"\",IF($E$2=\"中\",万能利益演示!K67,IF($E$2=\"低\",万能利益演示!J67,万能利益演示!L67)))","v":1667260.54973276},{"$f":"IF(B72=\"\",\"\",IF($E$2=\"中\",万能利益演示!O67,IF($E$2=\"低\",万能利益演示!N67,万能利益演示!P67)))","v":0},null,{"$f":"IF($B72=\"\",\"\",万能利益演示!R67)","v":4708690.52560217},{"$f":"IF($B72=\"\",\"\",万能利益演示!S67)","v":8711436.37235365},{"$f":"IF($B72=\"\",\"\",万能利益演示!T67)","v":14870282.3388376},10647663.6468244,{"$f":"IF(B72=\"\",\"\",年金利益演示!I67)","v":193940},{"$f":"IF($B72=\"\",\"\",万能利益演示!U67)","v":5650428.6307226},{"$f":"IF($B72=\"\",\"\",万能利益演示!V67)","v":10453723.6468244},{"$f":"IF($B72=\"\",\"\",万能利益演示!W67)","v":17844338.8066051},8905376.37235365,{"$f":"IF(B72=\"\",\"\",年金利益演示!J67)","v":176600},{"$f":"IF($B72=\"\",\"\",万能利益演示!X67)","v":4708690.52560217},{"$f":"IF($B72=\"\",\"\",万能利益演示!Y67)","v":8711436.37235365},{"$f":"IF($B72=\"\",\"\",万能利益演示!Z67)","v":14870282.3388376}]
[{"$f":"Reserve!A78","v":63},93,{"$f":"IF(B73=\"\",\"\",年金利益演示!C68)","v":0},null,null,1000010,{"$f":"IF(B73=\"\",\"\",年金利益演示!H68)","v":17340},{"$f":"IF(B73=\"\",\"\",年金利益演示!E68)","v":0},{"$f":"IF(B73=\"\",\"\",年金利益演示!F68)","v":2599.7494658122},{"$f":"IF(B73=\"\",\"\",年金利益演示!G68)","v":4549.56156517135},{"$f":"IF(B73=\"\",\"\",万能利益演示!G68)","v":200.996428642971},19939.7494658122,{"$f":"IF(B73=\"\",\"\",万能利益演示!H68)","v":1248.35400221644},{"$f":"IF(B73=\"\",\"\",IF($E$2=\"中\",万能利益演示!K68,IF($E$2=\"低\",万能利益演示!J68,万能利益演示!L68)))","v":1746516.6745583},{"$f":"IF(B73=\"\",\"\",IF($E$2=\"中\",万能利益演示!O68,IF($E$2=\"低\",万能利益演示!N68,万能利益演示!P68)))","v":0},null,{"$f":"IF($B73=\"\",\"\",万能利益演示!R68)","v":4848083.46419104},{"$f":"IF($B73=\"\",\"\",万能利益演示!S68)","v":9125549.62456713},{"$f":"IF($B73=\"\",\"\",万能利益演示!T68)","v":15784915.099632},11133899.5494806,{"$f":"IF(B73=\"\",\"\",年金利益演示!I68)","v":183240},{"$f":"IF($B73=\"\",\"\",万能利益演示!U68)","v":5817700.15702925},{"$f":"IF($B73=\"\",\"\",万能利益演示!V68)","v":10950659.5494806},{"$f":"IF($B73=\"\",\"\",万能利益演示!W68)","v":18941898.1195584},9308789.62456713,{"$f":"IF(B73=\"\",\"\",年金利益演示!J68)","v":165900},{"$f":"IF($B73=\"\",\"\",万能利益演示!X68)","v":4848083.46419104},{"$f":"IF($B73=\"\",\"\",万能利益演示!Y68)","v":9125549.62456713},{"$f":"IF($B73=\"\",\"\",万能利益演示!Z68)","v":15784915.099632}]
[{"$f":"Reserve!A79","v":64},94,{"$f":"IF(B74=\"\",\"\",年金利益演示!C69)","v":0},null,null,1000010,{"$f":"IF(B74=\"\",\"\",年金利益演示!H69)","v":17340},{"$f":"IF(B74=\"\",\"\",年金利益演示!E69)","v":0},{"$f":"IF(B74=\"\",\"\",年金利益演示!F69)","v":2435.10626431261},{"$f":"IF(B74=\"\",\"\",年金利益演示!G69)","v":4261.43596254707},{"$f":"IF(B74=\"\",\"\",万能利益演示!G69)","v":199.397494658122},19775.1062643126,{"$f":"IF(B74=\"\",\"\",万能利益演示!H69)","v":1233.9695490752},{"$f":"IF(B74=\"\",\"\",IF($E$2=\"中\",万能利益演示!K69,IF($E$2=\"低\",万能利益演示!J69,万能利益演示!L69)))","v":1829304.78921747},{"$f":"IF(B74=\"\",\"\",IF($E$2=\"中\",万能利益演示!O69,IF($E$2=\"低\",万能利益演示!N69,万能利益演示!P69)))","v":0},null,{"$f":"IF($B74=\"\",\"\",万能利益演示!R69)","v":4990784.23035405},{"$f":"IF($B74=\"\",\"\",万能利益演示!S69)","v":9558117.52366129},{"$f":"IF($B74=\"\",\"\",万能利益演示!T69)","v":16754242.7864214},11641881.0283936,{"$f":"IF(B74=\"\",\"\",年金利益演示!I69)","v":172140},{"$f":"IF($B74=\"\",\"\",万能利益演示!U69)","v":5988941.07642486},{"$f":"IF($B74=\"\",\"\",万能利益演示!V69)","v":11469741.0283936},{"$f":"IF($B74=\"\",\"\",万能利益演示!W69)","v":20105091.3437057},9730257.52366129,{"$f":"IF(B74=\"\",\"\",年金利益演示!J69)","v":154800},{"$f":"IF($B74=\"\",\"\",万能利益演示!X69)","v":4990784.23035405},{"$f":"IF($B74=\"\",\"\",万能利益演示!Y69)","v":9558117.52366129},{"$f":"IF($B74=\"\",\"\",万能利益演示!Z69)","v":16754242.7864214}]
[{"$f":"Reserve!A80","v":65},95,{"$f":"IF(B75=\"\",\"\",年金利益演示!C70)","v":0},null,null,1000010,{"$f":"IF(B75=\"\",\"\",年金利益演示!H70)","v":17340},{"$f":"IF(B75=\"\",\"\",年金利益演示!E70)","v":0},{"$f":"IF(B75=\"\",\"\",年金利益演示!F70)","v":2265.41594398067},{"$f":"IF(B75=\"\",\"\",年金利益演示!G70)","v":3964.47790196618},{"$f":"IF(B75=\"\",\"\",万能利益演示!G70)","v":197.751062643126},19605.4159439807,{"$f":"IF(B75=\"\",\"\",万能利益演示!H70)","v":1219.2021174722},{"$f":"IF(B75=\"\",\"\",IF($E$2=\"中\",万能利益演示!K70,IF($E$2=\"低\",万能利益演示!J70,万能利益演示!L70)))","v":1915782.81619609},{"$f":"IF(B75=\"\",\"\",IF($E$2=\"中\",万能利益演示!O70,IF($E$2=\"低\",万能利益演示!N70,万能利益演示!P70)))","v":0},null,{"$f":"IF($B75=\"\",\"\",万能利益演示!R70)","v":5136870.30736502},{"$f":"IF($B75=\"\",\"\",万能利益演示!S70)","v":10009965.2146246},{"$f":"IF($B75=\"\",\"\",万能利益演示!T70)","v":17781541.704365},12172598.2575495,{"$f":"IF(B75=\"\",\"\",年金利益演示!I70)","v":160640},{"$f":"IF($B75=\"\",\"\",万能利益演示!U70)","v":6164244.36883803},{"$f":"IF($B75=\"\",\"\",万能利益演示!V70)","v":12011958.2575495},{"$f":"IF($B75=\"\",\"\",万能利益演示!W70)","v":21337850.0452379},10170605.2146246,{"$f":"IF(B75=\"\",\"\",年金利益演示!J70)","v":143300},{"$f":"IF($B75=\"\",\"\",万能利益演示!X70)","v":5136870.30736502},{"$f":"IF($B75=\"\",\"\",万能利益演示!Y70)","v":10009965.2146246},{"$f":"IF($B75=\"\",\"\",万能利益演示!Z70)","v":17781541.704365}]
[{"$f":"Reserve!A81","v":66},{"$f":"IF(OR(A76=\"\",A76=BP),\"\",B75+1)","v":96},{"$f":"IF(B76=\"\",\"\",年金利益演示!C71)","v":0},null,null,{"$f":"IF(B76=\"\",\"\",IF(A76=1,SUM(C76:E76),F75+SUM(C76:E76)))","v":1000010},{"$f":"IF(B76=\"\",\"\",年金利益演示!H71)","v":17340},{"$f":"IF(B76=\"\",\"\",年金利益演示!E71)","v":0},{"$f":"IF(B76=\"\",\"\",年金利益演示!F71)","v":2090.28430564197},{"$f":"IF(B76=\"\",\"\",年金利益演示!G71)","v":3657.99753487344},{"$f":"IF(B76=\"\",\"\",万能利益演示!G71)","v":196.054159439807},{"$f":"IF(B76=\"\",\"\",G76+IF($E$1=\"中\",I76,IF($E$1=\"低\",H76,J76)))","v":19430.284305642},{"$f":"IF(B76=\"\",\"\",万能利益演示!H71)","v":204.057744053235},{"$f":"IF(B76=\"\",\"\",IF($E$2=\"中\",万能利益演示!K71,IF($E$2=\"低\",万能利益演示!J71,万能利益演示!L71)))","v":2005915.72683063},{"$f":"IF(B76=\"\",\"\",IF($E$2=\"中\",万能利益演示!O71,IF($E$2=\"低\",万能利益演示!N71,万能利益演示!P71)))","v":0},null,{"$f":"IF($B76=\"\",\"\",万能利益演示!R71)","v":5285395.82006596},{"$f":"IF($B76=\"\",\"\",万能利益演示!S71)","v":10480909.67269},{"$f":"IF($B76=\"\",\"\",万能利益演示!T71)","v":18869224.4313272},{"$f":"IF(B76=\"\",\"\",U76+IF($E$2=\"中\",W76,IF($E$2=\"低\",V76,X76)))","v":12725731.607228},{"$f":"IF(B76=\"\",\"\",年金利益演示!I71)","v":148640},{"$f":"IF($B76=\"\",\"\",万能利益演示!U71)","v":6342474.98407915},{"$f":"IF($B76=\"\",\"\",万能利益演示!V71)","v":12577091.607228},{"$f":"IF($B76=\"\",\"\",万能利益演示!W71)","v":22643069.3175926},{"$f":"IF(B76=\"\",\"\",Z76+IF($E$2=\"中\",AB76,IF($E$2=\"低\",AA76,AC76))+G76)","v":10629549.67269},{"$f":"IF(B76=\"\",\"\",年金利益演示!J71)","v":131300},{"$f":"IF($B76=\"\",\"\",万能利益演示!X71)","v":5285395.82006596},{"$f":"IF($B76=\"\",\"\",万能利益演示!Y71)","v":10480909.67269},{"$f":"IF($B76=\"\",\"\",万能利益演示!Z71)","v":18869224.4313272}]
[{"$f":"Reserve!A82","v":67},97,{"$f":"IF(B77=\"\",\"\",年金利益演示!C72)","v":0},null,null,1000010,{"$f":"IF(B77=\"\",\"\",年金利益演示!H72)","v":17340},{"$f":"IF(B77=\"\",\"\",年金利益演示!E72)","v":0},{"$f":"IF(B77=\"\",\"\",年金利益演示!F72)","v":1909.53830289424},{"$f":"IF(B77=\"\",\"\",年金利益演示!G72)","v":3341.69203006491},{"$f":"IF(B77=\"\",\"\",万能利益演示!G72)","v":194.30284305642},19249.5383028942,{"$f":"IF(B77=\"\",\"\",万能利益演示!H72)","v":202.548392932899},{"$f":"IF(B77=\"\",\"\",IF($E$2=\"中\",万能利益演示!K72,IF($E$2=\"低\",万能利益演示!J72,万能利益演示!L72)))","v":2100069.64050911},{"$f":"IF(B77=\"\",\"\",IF($E$2=\"中\",万能利益演示!O72,IF($E$2=\"低\",万能利益演示!N72,万能利益演示!P72)))","v":0},null,{"$f":"IF($B77=\"\",\"\",万能利益演示!R72)","v":5437455.20866951},{"$f":"IF($B77=\"\",\"\",万能利益演示!S72)","v":10972863.8716601},{"$f":"IF($B77=\"\",\"\",万能利益演示!T72)","v":20021982.7388536},13303576.6459921,{"$f":"IF(B77=\"\",\"\",年金利益演示!I72)","v":136140},{"$f":"IF($B77=\"\",\"\",万能利益演示!U72)","v":6524946.25040341},{"$f":"IF($B77=\"\",\"\",万能利益演示!V72)","v":13167436.6459921},{"$f":"IF($B77=\"\",\"\",万能利益演示!W72)","v":24026379.2866244},11109003.8716601,{"$f":"IF(B77=\"\",\"\",年金利益演示!J72)","v":118800},{"$f":"IF($B77=\"\",\"\",万能利益演示!X72)","v":5437455.20866951},{"$f":"IF($B77=\"\",\"\",万能利益演示!Y72)","v":10972863.8716601},{"$f":"IF($B77=\"\",\"\",万能利益演示!Z72)","v":20021982.7388536}]
[{"$f":"Reserve!A83","v":68},98,{"$f":"IF(B78=\"\",\"\",年金利益演示!C73)","v":0},null,null,1000010,{"$f":"IF(B78=\"\",\"\",年金利益演示!H73)","v":17340},{"$f":"IF(B78=\"\",\"\",年金利益演示!E73)","v":0},{"$f":"IF(B78=\"\",\"\",年金利益演示!F73)","v":1722.99075144105},{"$f":"IF(B78=\"\",\"\",年金利益演示!G73)","v":3015.23381502184},{"$f":"IF(B78=\"\",\"\",万能利益演示!G73)","v":192.495383028942},19062.990751441,{"$f":"IF(B78=\"\",\"\",万能利益演示!H73)","v":200.996428642971},{"$f":"IF(B78=\"\",\"\",IF($E$2=\"中\",万能利益演示!K73,IF($E$2=\"低\",万能利益演示!J73,万能利益演示!L73)))","v":2198424.38220172},{"$f":"IF(B78=\"\",\"\",IF($E$2=\"中\",万能利益演示!O73,IF($E$2=\"低\",万能利益演示!N73,万能利益演示!P73)))","v":0},null,{"$f":"IF($B78=\"\",\"\",万能利益演示!R73)","v":5593131.07921847},{"$f":"IF($B78=\"\",\"\",万能利益演示!S73)","v":11486767.397004},{"$f":"IF($B78=\"\",\"\",万能利益演示!T73)","v":21243715.2248943},13907260.8764048,{"$f":"IF(B78=\"\",\"\",年金利益演示!I73)","v":123140},{"$f":"IF($B78=\"\",\"\",万能利益演示!U73)","v":6711757.29506216},{"$f":"IF($B78=\"\",\"\",万能利益演示!V73)","v":13784120.8764048},{"$f":"IF($B78=\"\",\"\",万能利益演示!W73)","v":25492458.2698731},11609907.397004,{"$f":"IF(B78=\"\",\"\",年金利益演示!J73)","v":105800},{"$f":"IF($B78=\"\",\"\",万能利益演示!X73)","v":5593131.07921847},{"$f":"IF($B78=\"\",\"\",万能利益演示!Y73)","v":11486767.397004},{"$f":"IF($B78=\"\",\"\",万能利益演示!Z73)","v":21243715.2248943}]
[{"$f":"Reserve!A84","v":69},99,{"$f":"IF(B79=\"\",\"\",年金利益演示!C74)","v":0},null,null,1000010,{"$f":"IF(B79=\"\",\"\",年金利益演示!H74)","v":17340},{"$f":"IF(B79=\"\",\"\",年金利益演示!E74)","v":0},{"$f":"IF(B79=\"\",\"\",年金利益演示!F74)","v":1530.43106139983},{"$f":"IF(B79=\"\",\"\",年金利益演示!G74)","v":2678.2543574497},{"$f":"IF(B79=\"\",\"\",万能利益演示!G74)","v":190.62990751441},18870.4310613998,{"$f":"IF(B79=\"\",\"\",万能利益演示!H74)","v":199.397494658122},{"$f":"IF(B79=\"\",\"\",IF($E$2=\"中\",万能利益演示!K74,IF($E$2=\"低\",万能利益演示!J74,万能利益演示!L74)))","v":2301167.83106852},{"$f":"IF(B79=\"\",\"\",IF($E$2=\"中\",万能利益演示!O74,IF($E$2=\"低\",万能利益演示!N74,万能利益演示!P74)))","v":0},null,{"$f":"IF($B79=\"\",\"\",万能利益演示!R74)","v":5752507.90849598},{"$f":"IF($B79=\"\",\"\",万能利益演示!S74)","v":12023601.917333},{"$f":"IF($B79=\"\",\"\",万能利益演示!T74)","v":22538554.2022268},14537962.3007996,{"$f":"IF(B79=\"\",\"\",年金利益演示!I74)","v":109640},{"$f":"IF($B79=\"\",\"\",万能利益演示!U74)","v":6903009.49019518},{"$f":"IF($B79=\"\",\"\",万能利益演示!V74)","v":14428322.3007996},{"$f":"IF($B79=\"\",\"\",万能利益演示!W74)","v":27046265.0426722},12133241.917333,{"$f":"IF(B79=\"\",\"\",年金利益演示!J74)","v":92300},{"$f":"IF($B79=\"\",\"\",万能利益演示!X74)","v":5752507.90849598},{"$f":"IF($B79=\"\",\"\",万能利益演示!Y74)","v":12023601.917333},{"$f":"IF($B79=\"\",\"\",万能利益演示!Z74)","v":22538554.2022268}]
[{"$f":"Reserve!A85","v":70},100,{"$f":"IF(B80=\"\",\"\",年金利益演示!C75)","v":0},null,null,1000010,{"$f":"IF(B80=\"\",\"\",年金利益演示!H75)","v":17340},{"$f":"IF(B80=\"\",\"\",年金利益演示!E75)","v":0},{"$f":"IF(B80=\"\",\"\",年金利益演示!F75)","v":1331.60668366848},{"$f":"IF(B80=\"\",\"\",年金利益演示!G75)","v":2330.31169641983},{"$f":"IF(B80=\"\",\"\",万能利益演示!G75)","v":188.704310613998},18671.6066836685,{"$f":"IF(B80=\"\",\"\",万能利益演示!H75)","v":197.751062643126},{"$f":"IF(B80=\"\",\"\",IF($E$2=\"中\",万能利益演示!K75,IF($E$2=\"低\",万能利益演示!J75,万能利益演示!L75)))","v":2408496.27902929},{"$f":"IF(B80=\"\",\"\",IF($E$2=\"中\",万能利益演示!O75,IF($E$2=\"低\",万能利益演示!N75,万能利益演示!P75)))","v":0},null,{"$f":"IF($B80=\"\",\"\",万能利益演示!R75)","v":5915672.07096715},{"$f":"IF($B80=\"\",\"\",万能利益演示!S75)","v":12584393.057928},{"$f":"IF($B80=\"\",\"\",万能利益演示!T75)","v":23910879.7008427},15196911.6695136,{"$f":"IF(B80=\"\",\"\",年金利益演示!I75)","v":95640},{"$f":"IF($B80=\"\",\"\",万能利益演示!U75)","v":7098806.48516057},{"$f":"IF($B80=\"\",\"\",万能利益演示!V75)","v":15101271.6695136},{"$f":"IF($B80=\"\",\"\",万能利益演示!W75)","v":28693055.6410112},12680033.057928,{"$f":"IF(B80=\"\",\"\",年金利益演示!J75)","v":78300},{"$f":"IF($B80=\"\",\"\",万能利益演示!X75)","v":5915672.07096715},{"$f":"IF($B80=\"\",\"\",万能利益演示!Y75)","v":12584393.057928},{"$f":"IF($B80=\"\",\"\",万能利益演示!Z75)","v":23910879.7008427}]
[{"$f":"Reserve!A86","v":71},101,{"$f":"IF(B81=\"\",\"\",年金利益演示!C76)","v":0},null,null,1000010,{"$f":"IF(B81=\"\",\"\",年金利益演示!H76)","v":17340},{"$f":"IF(B81=\"\",\"\",年金利益演示!E76)","v":0},{"$f":"IF(B81=\"\",\"\",年金利益演示!F76)","v":1126.18342512375},{"$f":"IF(B81=\"\",\"\",年金利益演示!G76)","v":1970.82099396656},{"$f":"IF(B81=\"\",\"\",万能利益演示!G76)","v":186.716066836685},18466.1834251238,{"$f":"IF(B81=\"\",\"\",万能利益演示!H76)","v":196.054159439807},{"$f":"IF(B81=\"\",\"\",IF($E$2=\"中\",万能利益演示!K76,IF($E$2=\"低\",万能利益演示!J76,万能利益演示!L76)))","v":2520614.80054086},{"$f":"IF(B81=\"\",\"\",IF($E$2=\"中\",万能利益演示!O76,IF($E$2=\"低\",万能利益演示!N76,万能利益演示!P76)))","v":0},null,{"$f":"IF($B81=\"\",\"\",万能利益演示!R76)","v":6082711.841137},{"$f":"IF($B81=\"\",\"\",万能利益演示!S76)","v":13170212.332826},{"$f":"IF($B81=\"\",\"\",万能利益演示!T76)","v":25365334.2843561},15885294.7993912,{"$f":"IF(B81=\"\",\"\",年金利益演示!I76)","v":81040},{"$f":"IF($B81=\"\",\"\",万能利益演示!U76)","v":7299254.2093644},{"$f":"IF($B81=\"\",\"\",万能利益演示!V76)","v":15804254.7993912},{"$f":"IF($B81=\"\",\"\",万能利益演示!W76)","v":30438401.1412273},13251252.332826,{"$f":"IF(B81=\"\",\"\",年金利益演示!J76)","v":63700},{"$f":"IF($B81=\"\",\"\",万能利益演示!X76)","v":6082711.841137},{"$f":"IF($B81=\"\",\"\",万能利益演示!Y76)","v":13170212.332826},{"$f":"IF($B81=\"\",\"\",万能利益演示!Z76)","v":25365334.2843561}]
[{"$f":"Reserve!A87","v":72},102,{"$f":"IF(B82=\"\",\"\",年金利益演示!C77)","v":0},null,null,1000010,{"$f":"IF(B82=\"\",\"\",年金利益演示!H77)","v":17340},{"$f":"IF(B82=\"\",\"\",年金利益演示!E77)","v":0},{"$f":"IF(B82=\"\",\"\",年金利益演示!F77)","v":914.357177933641},{"$f":"IF(B82=\"\",\"\",年金利益演示!G77)","v":1600.12506138387},{"$f":"IF(B82=\"\",\"\",万能利益演示!G77)","v":184.661834251238},18254.3571779336,{"$f":"IF(B82=\"\",\"\",万能利益演示!H77)","v":194.30284305642},{"$f":"IF(B82=\"\",\"\",IF($E$2=\"中\",万能利益演示!K77,IF($E$2=\"低\",万能利益演示!J77,万能利益演示!L77)))","v":2637737.63145198},{"$f":"IF(B82=\"\",\"\",IF($E$2=\"中\",万能利益演示!O77,IF($E$2=\"低\",万能利益演示!N77,万能利益演示!P77)))","v":0},null,{"$f":"IF($B82=\"\",\"\",万能利益演示!R77)","v":6253717.3572102},{"$f":"IF($B82=\"\",\"\",万能利益演示!S77)","v":13782179.1243366},{"$f":"IF($B82=\"\",\"\",万能利益演示!T77)","v":26906838.7153174},16604554.9492039,{"$f":"IF(B82=\"\",\"\",年金利益演示!I77)","v":65940},{"$f":"IF($B82=\"\",\"\",万能利益演示!U77)","v":7504460.82865224},{"$f":"IF($B82=\"\",\"\",万能利益演示!V77)","v":16538614.9492039},{"$f":"IF($B82=\"\",\"\",万能利益演示!W77)","v":32288206.4583809},13848119.1243366,{"$f":"IF(B82=\"\",\"\",年金利益演示!J77)","v":48600},{"$f":"IF($B82=\"\",\"\",万能利益演示!X77)","v":6253717.3572102},{"$f":"IF($B82=\"\",\"\",万能利益演示!Y77)","v":13782179.1243366},{"$f":"IF($B82=\"\",\"\",万能利益演示!Z77)","v":26906838.7153174}]
[{"$f":"Reserve!A88","v":73},103,{"$f":"IF(B83=\"\",\"\",年金利益演示!C78)","v":0},null,null,1000010,{"$f":"IF(B83=\"\",\"\",年金利益演示!H78)","v":17340},{"$f":"IF(B83=\"\",\"\",年金利益演示!E78)","v":0},{"$f":"IF(B83=\"\",\"\",年金利益演示!F78)","v":695.879198244702},{"$f":"IF(B83=\"\",\"\",年金利益演示!G78)","v":1217.78859692823},{"$f":"IF(B83=\"\",\"\",万能利益演示!G78)","v":182.543571779336},18035.8791982447,{"$f":"IF(B83=\"\",\"\",万能利益演示!H78)","v":192.495383028942},{"$f":"IF(B83=\"\",\"\",IF($E$2=\"中\",万能利益演示!K78,IF($E$2=\"低\",万能利益演示!J78,万能利益演示!L78)))","v":2760088.68666516},{"$f":"IF(B83=\"\",\"\",IF($E$2=\"中\",万能利益演示!O78,IF($E$2=\"低\",万能利益演示!N78,万能利益演示!P78)))","v":0},null,{"$f":"IF($B83=\"\",\"\",万能利益演示!R78)","v":6428781.20785437},{"$f":"IF($B83=\"\",\"\",万能利益演示!S78)","v":14421463.3878255},{"$f":"IF($B83=\"\",\"\",万能利益演示!T78)","v":28540609.205765},17356096.0653905,{"$f":"IF(B83=\"\",\"\",年金利益演示!I78)","v":50340},{"$f":"IF($B83=\"\",\"\",万能利益演示!U78)","v":7714537.44942524},{"$f":"IF($B83=\"\",\"\",万能利益演示!V78)","v":17305756.0653905},{"$f":"IF($B83=\"\",\"\",万能利益演示!W78)","v":34248731.046918},14471803.3878255,{"$f":"IF(B83=\"\",\"\",年金利益演示!J78)","v":33000},{"$f":"IF($B83=\"\",\"\",万能利益演示!X78)","v":6428781.20785437},{"$f":"IF($B83=\"\",\"\",万能利益演示!Y78)","v":14421463.3878255},{"$f":"IF($B83=\"\",\"\",万能利益演示!Z78)","v":28540609.205765}]
[{"$f":"Reserve!A89","v":74},104,{"$f":"IF(B84=\"\",\"\",年金利益演示!C79)","v":0},null,null,1000010,{"$f":"IF(B84=\"\",\"\",年金利益演示!H79)","v":17340},{"$f":"IF(B84=\"\",\"\",年金利益演示!E79)","v":0},{"$f":"IF(B84=\"\",\"\",年金利益演示!F79)","v":470.368320480098},{"$f":"IF(B84=\"\",\"\",年金利益演示!G79)","v":823.144560840172},{"$f":"IF(B84=\"\",\"\",万能利益演示!G79)","v":180.358791982447},17810.3683204801,{"$f":"IF(B84=\"\",\"\",万能利益演示!H79)","v":190.62990751441},{"$f":"IF(B84=\"\",\"\",IF($E$2=\"中\",万能利益演示!K79,IF($E$2=\"低\",万能利益演示!J79,万能利益演示!L79)))","v":2887901.90762785},{"$f":"IF(B84=\"\",\"\",IF($E$2=\"中\",万能利益演示!O79,IF($E$2=\"低\",万能利益演示!N79,万能利益演示!P79)))","v":0},null,{"$f":"IF($B84=\"\",\"\",万能利益演示!R79)","v":6607998.04212235},{"$f":"IF($B84=\"\",\"\",万能利益演示!S79)","v":15089287.4673555},{"$f":"IF($B84=\"\",\"\",万能利益演示!T79)","v":30272174.6774435},18141284.9608266,{"$f":"IF(B84=\"\",\"\",年金利益演示!I79)","v":34140},{"$f":"IF($B84=\"\",\"\",万能利益演示!U79)","v":7929597.65054682},{"$f":"IF($B84=\"\",\"\",万能利益演示!V79)","v":18107144.9608266},{"$f":"IF($B84=\"\",\"\",万能利益演示!W79)","v":36326609.6129322},15123427.4673555,{"$f":"IF(B84=\"\",\"\",年金利益演示!J79)","v":16800},{"$f":"IF($B84=\"\",\"\",万能利益演示!X79)","v":6607998.04212235},{"$f":"IF($B84=\"\",\"\",万能利益演示!Y79)","v":15089287.4673555},{"$f":"IF($B84=\"\",\"\",万能利益演示!Z79)","v":30272174.6774435}]
[{"$f":"Reserve!A90","v":75},105,{"$f":"IF(B85=\"\",\"\",年金利益演示!C80)","v":0},null,null,1000010,{"$f":"IF(B85=\"\",\"\",年金利益演示!H80)","v":17340},{"$f":"IF(B85=\"\",\"\",年金利益演示!E80)","v":0},{"$f":"IF(B85=\"\",\"\",年金利益演示!F80)","v":238.133850917179},{"$f":"IF(B85=\"\",\"\",年金利益演示!G80)","v":416.734239105063},{"$f":"IF(B85=\"\",\"\",万能利益演示!G80)","v":178.103683204801},17578.1338509172,{"$f":"IF(B85=\"\",\"\",万能利益演示!H80)","v":188.704310613998},{"$f":"IF(B85=\"\",\"\",IF($E$2=\"中\",万能利益演示!K80,IF($E$2=\"低\",万能利益演示!J80,万能利益演示!L80)))","v":3021421.68726068},{"$f":"IF(B85=\"\",\"\",IF($E$2=\"中\",万能利益演示!O80,IF($E$2=\"低\",万能利益演示!N80,万能利益演示!P80)))","v":0},null,{"$f":"IF($B85=\"\",\"\",万能利益演示!R80)","v":6791464.486347},{"$f":"IF($B85=\"\",\"\",万能利益演示!S80)","v":15786928.315937},{"$f":"IF($B85=\"\",\"\",万能利益演示!T80)","v":32107395.3851749},18961653.9791244,{"$f":"IF(B85=\"\",\"\",年金利益演示!I80)","v":17340},{"$f":"IF($B85=\"\",\"\",万能利益演示!U80)","v":8149757.38361639},{"$f":"IF($B85=\"\",\"\",万能利益演示!V80)","v":18944313.9791244},{"$f":"IF($B85=\"\",\"\",万能利益演示!W80)","v":38528874.4622099},15804268.315937,{"$f":"IF(B85=\"\",\"\",年金利益演示!J80)","v":0},{"$f":"IF($B85=\"\",\"\",万能利益演示!X80)","v":6791464.486347},{"$f":"IF($B85=\"\",\"\",万能利益演示!Y80)","v":15786928.315937},{"$f":"IF($B85=\"\",\"\",万能利益演示!Z80)","v":32107395.3851749}]
[{"$f":"Reserve!A91","v":76},"",{"$f":"IF(B86=\"\",\"\",年金利益演示!C81)","v":""},null,null,"",{"$f":"IF(B86=\"\",\"\",年金利益演示!H81)","v":""},{"$f":"IF(B86=\"\",\"\",年金利益演示!E81)","v":""},{"$f":"IF(B86=\"\",\"\",年金利益演示!F81)","v":""},{"$f":"IF(B86=\"\",\"\",年金利益演示!G81)","v":""},{"$f":"IF(B86=\"\",\"\",万能利益演示!G81)","v":""},"",{"$f":"IF(B86=\"\",\"\",万能利益演示!H81)","v":""},{"$f":"IF(B86=\"\",\"\",IF($E$2=\"中\",万能利益演示!K81,IF($E$2=\"低\",万能利益演示!J81,万能利益演示!L81)))","v":""},{"$f":"IF(B86=\"\",\"\",IF($E$2=\"中\",万能利益演示!O81,IF($E$2=\"低\",万能利益演示!N81,万能利益演示!P81)))","v":""},null,{"$f":"IF($B86=\"\",\"\",万能利益演示!R81)","v":""},{"$f":"IF($B86=\"\",\"\",万能利益演示!S81)","v":""},{"$f":"IF($B86=\"\",\"\",万能利益演示!T81)","v":""},"",{"$f":"IF(B86=\"\",\"\",年金利益演示!I81)","v":""},{"$f":"IF($B86=\"\",\"\",万能利益演示!U81)","v":""},{"$f":"IF($B86=\"\",\"\",万能利益演示!V81)","v":""},{"$f":"IF($B86=\"\",\"\",万能利益演示!W81)","v":""},"",{"$f":"IF(B86=\"\",\"\",年金利益演示!J81)","v":""},{"$f":"IF($B86=\"\",\"\",万能利益演示!X81)","v":""},{"$f":"IF($B86=\"\",\"\",万能利益演示!Y81)","v":""},{"$f":"IF($B86=\"\",\"\",万能利益演示!Z81)","v":""}]
[{"$f":"Reserve!A92","v":""},"",{"$f":"IF(B87=\"\",\"\",年金利益演示!C82)","v":""},null,null,"",{"$f":"IF(B87=\"\",\"\",年金利益演示!H82)","v":""},{"$f":"IF(B87=\"\",\"\",年金利益演示!E82)","v":""},{"$f":"IF(B87=\"\",\"\",年金利益演示!F82)","v":""},{"$f":"IF(B87=\"\",\"\",年金利益演示!G82)","v":""},{"$f":"IF(B87=\"\",\"\",万能利益演示!G82)","v":""},"",{"$f":"IF(B87=\"\",\"\",万能利益演示!H82)","v":""},{"$f":"IF(B87=\"\",\"\",IF($E$2=\"中\",万能利益演示!K82,IF($E$2=\"低\",万能利益演示!J82,万能利益演示!L82)))","v":""},{"$f":"IF(B87=\"\",\"\",IF($E$2=\"中\",万能利益演示!O82,IF($E$2=\"低\",万能利益演示!N82,万能利益演示!P82)))","v":""},null,{"$f":"IF($B87=\"\",\"\",万能利益演示!R82)","v":""},{"$f":"IF($B87=\"\",\"\",万能利益演示!S82)","v":""},{"$f":"IF($B87=\"\",\"\",万能利益演示!T82)","v":""},"",{"$f":"IF(B87=\"\",\"\",年金利益演示!I82)","v":""},{"$f":"IF($B87=\"\",\"\",万能利益演示!U82)","v":""},{"$f":"IF($B87=\"\",\"\",万能利益演示!V82)","v":""},{"$f":"IF($B87=\"\",\"\",万能利益演示!W82)","v":""},"",{"$f":"IF(B87=\"\",\"\",年金利益演示!J82)","v":""},{"$f":"IF($B87=\"\",\"\",万能利益演示!X82)","v":""},{"$f":"IF($B87=\"\",\"\",万能利益演示!Y82)","v":""},{"$f":"IF($B87=\"\",\"\",万能利益演示!Z82)","v":""}]
[{"$f":"Reserve!A93","v":""},"",{"$f":"IF(B88=\"\",\"\",年金利益演示!C83)","v":""},null,null,"",{"$f":"IF(B88=\"\",\"\",年金利益演示!H83)","v":""},{"$f":"IF(B88=\"\",\"\",年金利益演示!E83)","v":""},{"$f":"IF(B88=\"\",\"\",年金利益演示!F83)","v":""},{"$f":"IF(B88=\"\",\"\",年金利益演示!G83)","v":""},{"$f":"IF(B88=\"\",\"\",万能利益演示!G83)","v":""},"",{"$f":"IF(B88=\"\",\"\",万能利益演示!H83)","v":""},{"$f":"IF(B88=\"\",\"\",IF($E$2=\"中\",万能利益演示!K83,IF($E$2=\"低\",万能利益演示!J83,万能利益演示!L83)))","v":""},{"$f":"IF(B88=\"\",\"\",IF($E$2=\"中\",万能利益演示!O83,IF($E$2=\"低\",万能利益演示!N83,万能利益演示!P83)))","v":""},null,{"$f":"IF($B88=\"\",\"\",万能利益演示!R83)","v":""},{"$f":"IF($B88=\"\",\"\",万能利益演示!S83)","v":""},{"$f":"IF($B88=\"\",\"\",万能利益演示!T83)","v":""},"",{"$f":"IF(B88=\"\",\"\",年金利益演示!I83)","v":""},{"$f":"IF($B88=\"\",\"\",万能利益演示!U83)","v":""},{"$f":"IF($B88=\"\",\"\",万能利益演示!V83)","v":""},{"$f":"IF($B88=\"\",\"\",万能利益演示!W83)","v":""},"",{"$f":"IF(B88=\"\",\"\",年金利益演示!J83)","v":""},{"$f":"IF($B88=\"\",\"\",万能利益演示!X83)","v":""},{"$f":"IF($B88=\"\",\"\",万能利益演示!Y83)","v":""},{"$f":"IF($B88=\"\",\"\",万能利益演示!Z83)","v":""}]
[{"$f":"Reserve!A94","v":""},"",{"$f":"IF(B89=\"\",\"\",年金利益演示!C84)","v":""},null,null,"",{"$f":"IF(B89=\"\",\"\",年金利益演示!H84)","v":""},{"$f":"IF(B89=\"\",\"\",年金利益演示!E84)","v":""},{"$f":"IF(B89=\"\",\"\",年金利益演示!F84)","v":""},{"$f":"IF(B89=\"\",\"\",年金利益演示!G84)","v":""},{"$f":"IF(B89=\"\",\"\",万能利益演示!G84)","v":""},"",{"$f":"IF(B89=\"\",\"\",万能利益演示!H84)","v":""},{"$f":"IF(B89=\"\",\"\",IF($E$2=\"中\",万能利益演示!K84,IF($E$2=\"低\",万能利益演示!J84,万能利益演示!L84)))","v":""},{"$f":"IF(B89=\"\",\"\",IF($E$2=\"中\",万能利益演示!O84,IF($E$2=\"低\",万能利益演示!N84,万能利益演示!P84)))","v":""},null,{"$f":"IF($B89=\"\",\"\",万能利益演示!R84)","v":""},{"$f":"IF($B89=\"\",\"\",万能利益演示!S84)","v":""},{"$f":"IF($B89=\"\",\"\",万能利益演示!T84)","v":""},"",{"$f":"IF(B89=\"\",\"\",年金利益演示!I84)","v":""},{"$f":"IF($B89=\"\",\"\",万能利益演示!U84)","v":""},{"$f":"IF($B89=\"\",\"\",万能利益演示!V84)","v":""},{"$f":"IF($B89=\"\",\"\",万能利益演示!W84)","v":""},"",{"$f":"IF(B89=\"\",\"\",年金利益演示!J84)","v":""},{"$f":"IF($B89=\"\",\"\",万能利益演示!X84)","v":""},{"$f":"IF($B89=\"\",\"\",万能利益演示!Y84)","v":""},{"$f":"IF($B89=\"\",\"\",万能利益演示!Z84)","v":""}]
[{"$f":"Reserve!A95","v":""},"",{"$f":"IF(B90=\"\",\"\",年金利益演示!C85)","v":""},null,null,"",{"$f":"IF(B90=\"\",\"\",年金利益演示!H85)","v":""},{"$f":"IF(B90=\"\",\"\",年金利益演示!E85)","v":""},{"$f":"IF(B90=\"\",\"\",年金利益演示!F85)","v":""},{"$f":"IF(B90=\"\",\"\",年金利益演示!G85)","v":""},{"$f":"IF(B90=\"\",\"\",万能利益演示!G85)","v":""},"",{"$f":"IF(B90=\"\",\"\",万能利益演示!H85)","v":""},{"$f":"IF(B90=\"\",\"\",IF($E$2=\"中\",万能利益演示!K85,IF($E$2=\"低\",万能利益演示!J85,万能利益演示!L85)))","v":""},{"$f":"IF(B90=\"\",\"\",IF($E$2=\"中\",万能利益演示!O85,IF($E$2=\"低\",万能利益演示!N85,万能利益演示!P85)))","v":""},null,{"$f":"IF($B90=\"\",\"\",万能利益演示!R85)","v":""},{"$f":"IF($B90=\"\",\"\",万能利益演示!S85)","v":""},{"$f":"IF($B90=\"\",\"\",万能利益演示!T85)","v":""},"",{"$f":"IF(B90=\"\",\"\",年金利益演示!I85)","v":""},{"$f":"IF($B90=\"\",\"\",万能利益演示!U85)","v":""},{"$f":"IF($B90=\"\",\"\",万能利益演示!V85)","v":""},{"$f":"IF($B90=\"\",\"\",万能利益演示!W85)","v":""},"",{"$f":"IF(B90=\"\",\"\",年金利益演示!J85)","v":""},{"$f":"IF($B90=\"\",\"\",万能利益演示!X85)","v":""},{"$f":"IF($B90=\"\",\"\",万能利益演示!Y85)","v":""},{"$f":"IF($B90=\"\",\"\",万能利益演示!Z85)","v":""}]
[{"$f":"Reserve!A96","v":""},"",{"$f":"IF(B91=\"\",\"\",年金利益演示!C86)","v":""},null,null,"",{"$f":"IF(B91=\"\",\"\",年金利益演示!H86)","v":""},{"$f":"IF(B91=\"\",\"\",年金利益演示!E86)","v":""},{"$f":"IF(B91=\"\",\"\",年金利益演示!F86)","v":""},{"$f":"IF(B91=\"\",\"\",年金利益演示!G86)","v":""},{"$f":"IF(B91=\"\",\"\",万能利益演示!G86)","v":""},"",{"$f":"IF(B91=\"\",\"\",万能利益演示!H86)","v":""},{"$f":"IF(B91=\"\",\"\",IF($E$2=\"中\",万能利益演示!K86,IF($E$2=\"低\",万能利益演示!J86,万能利益演示!L86)))","v":""},{"$f":"IF(B91=\"\",\"\",IF($E$2=\"中\",万能利益演示!O86,IF($E$2=\"低\",万能利益演示!N86,万能利益演示!P86)))","v":""},null,{"$f":"IF($B91=\"\",\"\",万能利益演示!R86)","v":""},{"$f":"IF($B91=\"\",\"\",万能利益演示!S86)","v":""},{"$f":"IF($B91=\"\",\"\",万能利益演示!T86)","v":""},"",{"$f":"IF(B91=\"\",\"\",年金利益演示!I86)","v":""},{"$f":"IF($B91=\"\",\"\",万能利益演示!U86)","v":""},{"$f":"IF($B91=\"\",\"\",万能利益演示!V86)","v":""},{"$f":"IF($B91=\"\",\"\",万能利益演示!W86)","v":""},"",{"$f":"IF(B91=\"\",\"\",年金利益演示!J86)","v":""},{"$f":"IF($B91=\"\",\"\",万能利益演示!X86)","v":""},{"$f":"IF($B91=\"\",\"\",万能利益演示!Y86)","v":""},{"$f":"IF($B91=\"\",\"\",万能利益演示!Z86)","v":""}]
[{"$f":"Reserve!A97","v":""},"",{"$f":"IF(B92=\"\",\"\",年金利益演示!C87)","v":""},null,null,"",{"$f":"IF(B92=\"\",\"\",年金利益演示!H87)","v":""},{"$f":"IF(B92=\"\",\"\",年金利益演示!E87)","v":""},{"$f":"IF(B92=\"\",\"\",年金利益演示!F87)","v":""},{"$f":"IF(B92=\"\",\"\",年金利益演示!G87)","v":""},{"$f":"IF(B92=\"\",\"\",万能利益演示!G87)","v":""},"",{"$f":"IF(B92=\"\",\"\",万能利益演示!H87)","v":""},{"$f":"IF(B92=\"\",\"\",IF($E$2=\"中\",万能利益演示!K87,IF($E$2=\"低\",万能利益演示!J87,万能利益演示!L87)))","v":""},{"$f":"IF(B92=\"\",\"\",IF($E$2=\"中\",万能利益演示!O87,IF($E$2=\"低\",万能利益演示!N87,万能利益演示!P87)))","v":""},null,{"$f":"IF($B92=\"\",\"\",万能利益演示!R87)","v":""},{"$f":"IF($B92=\"\",\"\",万能利益演示!S87)","v":""},{"$f":"IF($B92=\"\",\"\",万能利益演示!T87)","v":""},"",{"$f":"IF(B92=\"\",\"\",年金利益演示!I87)","v":""},{"$f":"IF($B92=\"\",\"\",万能利益演示!U87)","v":""},{"$f":"IF($B92=\"\",\"\",万能利益演示!V87)","v":""},{"$f":"IF($B92=\"\",\"\",万能利益演示!W87)","v":""},"",{"$f":"IF(B92=\"\",\"\",年金利益演示!J87)","v":""},{"$f":"IF($B92=\"\",\"\",万能利益演示!X87)","v":""},{"$f":"IF($B92=\"\",\"\",万能利益演示!Y87)","v":""},{"$f":"IF($B92=\"\",\"\",万能利益演示!Z87)","v":""}]
[{"$f":"Reserve!A98","v":""},"",{"$f":"IF(B93=\"\",\"\",年金利益演示!C88)","v":""},null,null,"",{"$f":"IF(B93=\"\",\"\",年金利益演示!H88)","v":""},{"$f":"IF(B93=\"\",\"\",年金利益演示!E88)","v":""},{"$f":"IF(B93=\"\",\"\",年金利益演示!F88)","v":""},{"$f":"IF(B93=\"\",\"\",年金利益演示!G88)","v":""},{"$f":"IF(B93=\"\",\"\",万能利益演示!G88)","v":""},"",{"$f":"IF(B93=\"\",\"\",万能利益演示!H88)","v":""},{"$f":"IF(B93=\"\",\"\",IF($E$2=\"中\",万能利益演示!K88,IF($E$2=\"低\",万能利益演示!J88,万能利益演示!L88)))","v":""},{"$f":"IF(B93=\"\",\"\",IF($E$2=\"中\",万能利益演示!O88,IF($E$2=\"低\",万能利益演示!N88,万能利益演示!P88)))","v":""},null,{"$f":"IF($B93=\"\",\"\",万能利益演示!R88)","v":""},{"$f":"IF($B93=\"\",\"\",万能利益演示!S88)","v":""},{"$f":"IF($B93=\"\",\"\",万能利益演示!T88)","v":""},"",{"$f":"IF(B93=\"\",\"\",年金利益演示!I88)","v":""},{"$f":"IF($B93=\"\",\"\",万能利益演示!U88)","v":""},{"$f":"IF($B93=\"\",\"\",万能利益演示!V88)","v":""},{"$f":"IF($B93=\"\",\"\",万能利益演示!W88)","v":""},"",{"$f":"IF(B93=\"\",\"\",年金利益演示!J88)","v":""},{"$f":"IF($B93=\"\",\"\",万能利益演示!X88)","v":""},{"$f":"IF($B93=\"\",\"\",万能利益演示!Y88)","v":""},{"$f":"IF($B93=\"\",\"\",万能利益演示!Z88)","v":""}]
[{"$f":"Reserve!A99","v":""},"",{"$f":"IF(B94=\"\",\"\",年金利益演示!C89)","v":""},null,null,"",{"$f":"IF(B94=\"\",\"\",年金利益演示!H89)","v":""},{"$f":"IF(B94=\"\",\"\",年金利益演示!E89)","v":""},{"$f":"IF(B94=\"\",\"\",年金利益演示!F89)","v":""},{"$f":"IF(B94=\"\",\"\",年金利益演示!G89)","v":""},{"$f":"IF(B94=\"\",\"\",万能利益演示!G89)","v":""},"",{"$f":"IF(B94=\"\",\"\",万能利益演示!H89)","v":""},{"$f":"IF(B94=\"\",\"\",IF($E$2=\"中\",万能利益演示!K89,IF($E$2=\"低\",万能利益演示!J89,万能利益演示!L89)))","v":""},{"$f":"IF(B94=\"\",\"\",IF($E$2=\"中\",万能利益演示!O89,IF($E$2=\"低\",万能利益演示!N89,万能利益演示!P89)))","v":""},null,{"$f":"IF($B94=\"\",\"\",万能利益演示!R89)","v":""},{"$f":"IF($B94=\"\",\"\",万能利益演示!S89)","v":""},{"$f":"IF($B94=\"\",\"\",万能利益演示!T89)","v":""},"",{"$f":"IF(B94=\"\",\"\",年金利益演示!I89)","v":""},{"$f":"IF($B94=\"\",\"\",万能利益演示!U89)","v":""},{"$f":"IF($B94=\"\",\"\",万能利益演示!V89)","v":""},{"$f":"IF($B94=\"\",\"\",万能利益演示!W89)","v":""},"",{"$f":"IF(B94=\"\",\"\",年金利益演示!J89)","v":""},{"$f":"IF($B94=\"\",\"\",万能利益演示!X89)","v":""},{"$f":"IF($B94=\"\",\"\",万能利益演示!Y89)","v":""},{"$f":"IF($B94=\"\",\"\",万能利益演示!Z89)","v":""}]
[{"$f":"Reserve!A100","v":""},"",{"$f":"IF(B95=\"\",\"\",年金利益演示!C90)","v":""},null,null,"",{"$f":"IF(B95=\"\",\"\",年金利益演示!H90)","v":""},{"$f":"IF(B95=\"\",\"\",年金利益演示!E90)","v":""},{"$f":"IF(B95=\"\",\"\",年金利益演示!F90)","v":""},{"$f":"IF(B95=\"\",\"\",年金利益演示!G90)","v":""},{"$f":"IF(B95=\"\",\"\",万能利益演示!G90)","v":""},"",{"$f":"IF(B95=\"\",\"\",万能利益演示!H90)","v":""},{"$f":"IF(B95=\"\",\"\",IF($E$2=\"中\",万能利益演示!K90,IF($E$2=\"低\",万能利益演示!J90,万能利益演示!L90)))","v":""},{"$f":"IF(B95=\"\",\"\",IF($E$2=\"中\",万能利益演示!O90,IF($E$2=\"低\",万能利益演示!N90,万能利益演示!P90)))","v":""},null,{"$f":"IF($B95=\"\",\"\",万能利益演示!R90)","v":""},{"$f":"IF($B95=\"\",\"\",万能利益演示!S90)","v":""},{"$f":"IF($B95=\"\",\"\",万能利益演示!T90)","v":""},"",{"$f":"IF(B95=\"\",\"\",年金利益演示!I90)","v":""},{"$f":"IF($B95=\"\",\"\",万能利益演示!U90)","v":""},{"$f":"IF($B95=\"\",\"\",万能利益演示!V90)","v":""},{"$f":"IF($B95=\"\",\"\",万能利益演示!W90)","v":""},"",{"$f":"IF(B95=\"\",\"\",年金利益演示!J90)","v":""},{"$f":"IF($B95=\"\",\"\",万能利益演示!X90)","v":""},{"$f":"IF($B95=\"\",\"\",万能利益演示!Y90)","v":""},{"$f":"IF($B95=\"\",\"\",万能利益演示!Z90)","v":""}]
[{"$f":"Reserve!A101","v":""},"",{"$f":"IF(B96=\"\",\"\",年金利益演示!C91)","v":""},null,null,"",{"$f":"IF(B96=\"\",\"\",年金利益演示!H91)","v":""},{"$f":"IF(B96=\"\",\"\",年金利益演示!E91)","v":""},{"$f":"IF(B96=\"\",\"\",年金利益演示!F91)","v":""},{"$f":"IF(B96=\"\",\"\",年金利益演示!G91)","v":""},{"$f":"IF(B96=\"\",\"\",万能利益演示!G91)","v":""},"",{"$f":"IF(B96=\"\",\"\",万能利益演示!H91)","v":""},{"$f":"IF(B96=\"\",\"\",IF($E$2=\"中\",万能利益演示!K91,IF($E$2=\"低\",万能利益演示!J91,万能利益演示!L91)))","v":""},{"$f":"IF(B96=\"\",\"\",IF($E$2=\"中\",万能利益演示!O91,IF($E$2=\"低\",万能利益演示!N91,万能利益演示!P91)))","v":""},null,{"$f":"IF($B96=\"\",\"\",万能利益演示!R91)","v":""},{"$f":"IF($B96=\"\",\"\",万能利益演示!S91)","v":""},{"$f":"IF($B96=\"\",\"\",万能利益演示!T91)","v":""},"",{"$f":"IF(B96=\"\",\"\",年金利益演示!I91)","v":""},{"$f":"IF($B96=\"\",\"\",万能利益演示!U91)","v":""},{"$f":"IF($B96=\"\",\"\",万能利益演示!V91)","v":""},{"$f":"IF($B96=\"\",\"\",万能利益演示!W91)","v":""},"",{"$f":"IF(B96=\"\",\"\",年金利益演示!J91)","v":""},{"$f":"IF($B96=\"\",\"\",万能利益演示!X91)","v":""},{"$f":"IF($B96=\"\",\"\",万能利益演示!Y91)","v":""},{"$f":"IF($B96=\"\",\"\",万能利益演示!Z91)","v":""}]
[{"$f":"Reserve!A102","v":""},"",{"$f":"IF(B97=\"\",\"\",年金利益演示!C92)","v":""},null,null,"",{"$f":"IF(B97=\"\",\"\",年金利益演示!H92)","v":""},{"$f":"IF(B97=\"\",\"\",年金利益演示!E92)","v":""},{"$f":"IF(B97=\"\",\"\",年金利益演示!F92)","v":""},{"$f":"IF(B97=\"\",\"\",年金利益演示!G92)","v":""},{"$f":"IF(B97=\"\",\"\",万能利益演示!G92)","v":""},"",{"$f":"IF(B97=\"\",\"\",万能利益演示!H92)","v":""},{"$f":"IF(B97=\"\",\"\",IF($E$2=\"中\",万能利益演示!K92,IF($E$2=\"低\",万能利益演示!J92,万能利益演示!L92)))","v":""},{"$f":"IF(B97=\"\",\"\",IF($E$2=\"中\",万能利益演示!O92,IF($E$2=\"低\",万能利益演示!N92,万能利益演示!P92)))","v":""},null,{"$f":"IF($B97=\"\",\"\",万能利益演示!R92)","v":""},{"$f":"IF($B97=\"\",\"\",万能利益演示!S92)","v":""},{"$f":"IF($B97=\"\",\"\",万能利益演示!T92)","v":""},"",{"$f":"IF(B97=\"\",\"\",年金利益演示!I92)","v":""},{"$f":"IF($B97=\"\",\"\",万能利益演示!U92)","v":""},{"$f":"IF($B97=\"\",\"\",万能利益演示!V92)","v":""},{"$f":"IF($B97=\"\",\"\",万能利益演示!W92)","v":""},"",{"$f":"IF(B97=\"\",\"\",年金利益演示!J92)","v":""},{"$f":"IF($B97=\"\",\"\",万能利益演示!X92)","v":""},{"$f":"IF($B97=\"\",\"\",万能利益演示!Y92)","v":""},{"$f":"IF($B97=\"\",\"\",万能利益演示!Z92)","v":""}]
[{"$f":"Reserve!A103","v":""},"",{"$f":"IF(B98=\"\",\"\",年金利益演示!C93)","v":""},null,null,"",{"$f":"IF(B98=\"\",\"\",年金利益演示!H93)","v":""},{"$f":"IF(B98=\"\",\"\",年金利益演示!E93)","v":""},{"$f":"IF(B98=\"\",\"\",年金利益演示!F93)","v":""},{"$f":"IF(B98=\"\",\"\",年金利益演示!G93)","v":""},{"$f":"IF(B98=\"\",\"\",万能利益演示!G93)","v":""},"",{"$f":"IF(B98=\"\",\"\",万能利益演示!H93)","v":""},{"$f":"IF(B98=\"\",\"\",IF($E$2=\"中\",万能利益演示!K93,IF($E$2=\"低\",万能利益演示!J93,万能利益演示!L93)))","v":""},{"$f":"IF(B98=\"\",\"\",IF($E$2=\"中\",万能利益演示!O93,IF($E$2=\"低\",万能利益演示!N93,万能利益演示!P93)))","v":""},null,{"$f":"IF($B98=\"\",\"\",万能利益演示!R93)","v":""},{"$f":"IF($B98=\"\",\"\",万能利益演示!S93)","v":""},{"$f":"IF($B98=\"\",\"\",万能利益演示!T93)","v":""},"",{"$f":"IF(B98=\"\",\"\",年金利益演示!I93)","v":""},{"$f":"IF($B98=\"\",\"\",万能利益演示!U93)","v":""},{"$f":"IF($B98=\"\",\"\",万能利益演示!V93)","v":""},{"$f":"IF($B98=\"\",\"\",万能利益演示!W93)","v":""},"",{"$f":"IF(B98=\"\",\"\",年金利益演示!J93)","v":""},{"$f":"IF($B98=\"\",\"\",万能利益演示!X93)","v":""},{"$f":"IF($B98=\"\",\"\",万能利益演示!Y93)","v":""},{"$f":"IF($B98=\"\",\"\",万能利益演示!Z93)","v":""}]
[{"$f":"Reserve!A104","v":""},"",{"$f":"IF(B99=\"\",\"\",年金利益演示!C94)","v":""},null,null,"",{"$f":"IF(B99=\"\",\"\",年金利益演示!H94)","v":""},{"$f":"IF(B99=\"\",\"\",年金利益演示!E94)","v":""},{"$f":"IF(B99=\"\",\"\",年金利益演示!F94)","v":""},{"$f":"IF(B99=\"\",\"\",年金利益演示!G94)","v":""},{"$f":"IF(B99=\"\",\"\",万能利益演示!G94)","v":""},"",{"$f":"IF(B99=\"\",\"\",万能利益演示!H94)","v":""},{"$f":"IF(B99=\"\",\"\",IF($E$2=\"中\",万能利益演示!K94,IF($E$2=\"低\",万能利益演示!J94,万能利益演示!L94)))","v":""},{"$f":"IF(B99=\"\",\"\",IF($E$2=\"中\",万能利益演示!O94,IF($E$2=\"低\",万能利益演示!N94,万能利益演示!P94)))","v":""},null,{"$f":"IF($B99=\"\",\"\",万能利益演示!R94)","v":""},{"$f":"IF($B99=\"\",\"\",万能利益演示!S94)","v":""},{"$f":"IF($B99=\"\",\"\",万能利益演示!T94)","v":""},"",{"$f":"IF(B99=\"\",\"\",年金利益演示!I94)","v":""},{"$f":"IF($B99=\"\",\"\",万能利益演示!U94)","v":""},{"$f":"IF($B99=\"\",\"\",万能利益演示!V94)","v":""},{"$f":"IF($B99=\"\",\"\",万能利益演示!W94)","v":""},"",{"$f":"IF(B99=\"\",\"\",年金利益演示!J94)","v":""},{"$f":"IF($B99=\"\",\"\",万能利益演示!X94)","v":""},{"$f":"IF($B99=\"\",\"\",万能利益演示!Y94)","v":""},{"$f":"IF($B99=\"\",\"\",万能利益演示!Z94)","v":""}]
[{"$f":"Reserve!A105","v":""},"",{"$f":"IF(B100=\"\",\"\",年金利益演示!C95)","v":""},null,null,"",{"$f":"IF(B100=\"\",\"\",年金利益演示!H95)","v":""},{"$f":"IF(B100=\"\",\"\",年金利益演示!E95)","v":""},{"$f":"IF(B100=\"\",\"\",年金利益演示!F95)","v":""},{"$f":"IF(B100=\"\",\"\",年金利益演示!G95)","v":""},{"$f":"IF(B100=\"\",\"\",万能利益演示!G95)","v":""},"",{"$f":"IF(B100=\"\",\"\",万能利益演示!H95)","v":""},{"$f":"IF(B100=\"\",\"\",IF($E$2=\"中\",万能利益演示!K95,IF($E$2=\"低\",万能利益演示!J95,万能利益演示!L95)))","v":""},{"$f":"IF(B100=\"\",\"\",IF($E$2=\"中\",万能利益演示!O95,IF($E$2=\"低\",万能利益演示!N95,万能利益演示!P95)))","v":""},null,{"$f":"IF($B100=\"\",\"\",万能利益演示!R95)","v":""},{"$f":"IF($B100=\"\",\"\",万能利益演示!S95)","v":""},{"$f":"IF($B100=\"\",\"\",万能利益演示!T95)","v":""},"",{"$f":"IF(B100=\"\",\"\",年金利益演示!I95)","v":""},{"$f":"IF($B100=\"\",\"\",万能利益演示!U95)","v":""},{"$f":"IF($B100=\"\",\"\",万能利益演示!V95)","v":""},{"$f":"IF($B100=\"\",\"\",万能利益演示!W95)","v":""},"",{"$f":"IF(B100=\"\",\"\",年金利益演示!J95)","v":""},{"$f":"IF($B100=\"\",\"\",万能利益演示!X95)","v":""},{"$f":"IF($B100=\"\",\"\",万能利益演示!Y95)","v":""},{"$f":"IF($B100=\"\",\"\",万能利益演示!Z95)","v":""}]
[{"$f":"Reserve!A106","v":""},"",{"$f":"IF(B101=\"\",\"\",年金利益演示!C96)","v":""},null,null,"",{"$f":"IF(B101=\"\",\"\",年金利益演示!H96)","v":""},{"$f":"IF(B101=\"\",\"\",年金利益演示!E96)","v":""},{"$f":"IF(B101=\"\",\"\",年金利益演示!F96)","v":""},{"$f":"IF(B101=\"\",\"\",年金利益演示!G96)","v":""},{"$f":"IF(B101=\"\",\"\",万能利益演示!G96)","v":""},"",{"$f":"IF(B101=\"\",\"\",万能利益演示!H96)","v":""},{"$f":"IF(B101=\"\",\"\",IF($E$2=\"中\",万能利益演示!K96,IF($E$2=\"低\",万能利益演示!J96,万能利益演示!L96)))","v":""},{"$f":"IF(B101=\"\",\"\",IF($E$2=\"中\",万能利益演示!O96,IF($E$2=\"低\",万能利益演示!N96,万能利益演示!P96)))","v":""},null,{"$f":"IF($B101=\"\",\"\",万能利益演示!R96)","v":""},{"$f":"IF($B101=\"\",\"\",万能利益演示!S96)","v":""},{"$f":"IF($B101=\"\",\"\",万能利益演示!T96)","v":""},"",{"$f":"IF(B101=\"\",\"\",年金利益演示!I96)","v":""},{"$f":"IF($B101=\"\",\"\",万能利益演示!U96)","v":""},{"$f":"IF($B101=\"\",\"\",万能利益演示!V96)","v":""},{"$f":"IF($B101=\"\",\"\",万能利益演示!W96)","v":""},"",{"$f":"IF(B101=\"\",\"\",年金利益演示!J96)","v":""},{"$f":"IF($B101=\"\",\"\",万能利益演示!X96)","v":""},{"$f":"IF($B101=\"\",\"\",万能利益演示!Y96)","v":""},{"$f":"IF($B101=\"\",\"\",万能利益演示!Z96)","v":""}]
[{"$f":"Reserve!A107","v":""},"",{"$f":"IF(B102=\"\",\"\",年金利益演示!C97)","v":""},null,null,"",{"$f":"IF(B102=\"\",\"\",年金利益演示!H97)","v":""},{"$f":"IF(B102=\"\",\"\",年金利益演示!E97)","v":""},{"$f":"IF(B102=\"\",\"\",年金利益演示!F97)","v":""},{"$f":"IF(B102=\"\",\"\",年金利益演示!G97)","v":""},{"$f":"IF(B102=\"\",\"\",万能利益演示!G97)","v":""},"",{"$f":"IF(B102=\"\",\"\",万能利益演示!H97)","v":""},{"$f":"IF(B102=\"\",\"\",IF($E$2=\"中\",万能利益演示!K97,IF($E$2=\"低\",万能利益演示!J97,万能利益演示!L97)))","v":""},{"$f":"IF(B102=\"\",\"\",IF($E$2=\"中\",万能利益演示!O97,IF($E$2=\"低\",万能利益演示!N97,万能利益演示!P97)))","v":""},null,{"$f":"IF($B102=\"\",\"\",万能利益演示!R97)","v":""},{"$f":"IF($B102=\"\",\"\",万能利益演示!S97)","v":""},{"$f":"IF($B102=\"\",\"\",万能利益演示!T97)","v":""},"",{"$f":"IF(B102=\"\",\"\",年金利益演示!I97)","v":""},{"$f":"IF($B102=\"\",\"\",万能利益演示!U97)","v":""},{"$f":"IF($B102=\"\",\"\",万能利益演示!V97)","v":""},{"$f":"IF($B102=\"\",\"\",万能利益演示!W97)","v":""},"",{"$f":"IF(B102=\"\",\"\",年金利益演示!J97)","v":""},{"$f":"IF($B102=\"\",\"\",万能利益演示!X97)","v":""},{"$f":"IF($B102=\"\",\"\",万能利益演示!Y97)","v":""},{"$f":"IF($B102=\"\",\"\",万能利益演示!Z97)","v":""}]
[{"$f":"Reserve!A108","v":""},"",{"$f":"IF(B103=\"\",\"\",年金利益演示!C98)","v":""},null,null,"",{"$f":"IF(B103=\"\",\"\",年金利益演示!H98)","v":""},{"$f":"IF(B103=\"\",\"\",年金利益演示!E98)","v":""},{"$f":"IF(B103=\"\",\"\",年金利益演示!F98)","v":""},{"$f":"IF(B103=\"\",\"\",年金利益演示!G98)","v":""},{"$f":"IF(B103=\"\",\"\",万能利益演示!G98)","v":""},"",{"$f":"IF(B103=\"\",\"\",万能利益演示!H98)","v":""},{"$f":"IF(B103=\"\",\"\",IF($E$2=\"中\",万能利益演示!K98,IF($E$2=\"低\",万能利益演示!J98,万能利益演示!L98)))","v":""},{"$f":"IF(B103=\"\",\"\",IF($E$2=\"中\",万能利益演示!O98,IF($E$2=\"低\",万能利益演示!N98,万能利益演示!P98)))","v":""},null,{"$f":"IF($B103=\"\",\"\",万能利益演示!R98)","v":""},{"$f":"IF($B103=\"\",\"\",万能利益演示!S98)","v":""},{"$f":"IF($B103=\"\",\"\",万能利益演示!T98)","v":""},"",{"$f":"IF(B103=\"\",\"\",年金利益演示!I98)","v":""},{"$f":"IF($B103=\"\",\"\",万能利益演示!U98)","v":""},{"$f":"IF($B103=\"\",\"\",万能利益演示!V98)","v":""},{"$f":"IF($B103=\"\",\"\",万能利益演示!W98)","v":""},"",{"$f":"IF(B103=\"\",\"\",年金利益演示!J98)","v":""},{"$f":"IF($B103=\"\",\"\",万能利益演示!X98)","v":""},{"$f":"IF($B103=\"\",\"\",万能利益演示!Y98)","v":""},{"$f":"IF($B103=\"\",\"\",万能利益演示!Z98)","v":""}]
[{"$f":"Reserve!A109","v":""},"",{"$f":"IF(B104=\"\",\"\",年金利益演示!C99)","v":""},null,null,"",{"$f":"IF(B104=\"\",\"\",年金利益演示!H99)","v":""},{"$f":"IF(B104=\"\",\"\",年金利益演示!E99)","v":""},{"$f":"IF(B104=\"\",\"\",年金利益演示!F99)","v":""},{"$f":"IF(B104=\"\",\"\",年金利益演示!G99)","v":""},{"$f":"IF(B104=\"\",\"\",万能利益演示!G99)","v":""},"",{"$f":"IF(B104=\"\",\"\",万能利益演示!H99)","v":""},{"$f":"IF(B104=\"\",\"\",IF($E$2=\"中\",万能利益演示!K99,IF($E$2=\"低\",万能利益演示!J99,万能利益演示!L99)))","v":""},{"$f":"IF(B104=\"\",\"\",IF($E$2=\"中\",万能利益演示!O99,IF($E$2=\"低\",万能利益演示!N99,万能利益演示!P99)))","v":""},null,{"$f":"IF($B104=\"\",\"\",万能利益演示!R99)","v":""},{"$f":"IF($B104=\"\",\"\",万能利益演示!S99)","v":""},{"$f":"IF($B104=\"\",\"\",万能利益演示!T99)","v":""},"",{"$f":"IF(B104=\"\",\"\",年金利益演示!I99)","v":""},{"$f":"IF($B104=\"\",\"\",万能利益演示!U99)","v":""},{"$f":"IF($B104=\"\",\"\",万能利益演示!V99)","v":""},{"$f":"IF($B104=\"\",\"\",万能利益演示!W99)","v":""},"",{"$f":"IF(B104=\"\",\"\",年金利益演示!J99)","v":""},{"$f":"IF($B104=\"\",\"\",万能利益演示!X99)","v":""},{"$f":"IF($B104=\"\",\"\",万能利益演示!Y99)","v":""},{"$f":"IF($B104=\"\",\"\",万能利益演示!Z99)","v":""}]
[{"$f":"Reserve!A110","v":""},"",{"$f":"IF(B105=\"\",\"\",年金利益演示!C100)","v":""},null,null,"",{"$f":"IF(B105=\"\",\"\",年金利益演示!H100)","v":""},{"$f":"IF(B105=\"\",\"\",年金利益演示!E100)","v":""},{"$f":"IF(B105=\"\",\"\",年金利益演示!F100)","v":""},{"$f":"IF(B105=\"\",\"\",年金利益演示!G100)","v":""},{"$f":"IF(B105=\"\",\"\",万能利益演示!G100)","v":""},"",{"$f":"IF(B105=\"\",\"\",万能利益演示!H100)","v":""},{"$f":"IF(B105=\"\",\"\",IF($E$2=\"中\",万能利益演示!K100,IF($E$2=\"低\",万能利益演示!J100,万能利益演示!L100)))","v":""},{"$f":"IF(B105=\"\",\"\",IF($E$2=\"中\",万能利益演示!O100,IF($E$2=\"低\",万能利益演示!N100,万能利益演示!P100)))","v":""},null,{"$f":"IF($B105=\"\",\"\",万能利益演示!R100)","v":""},{"$f":"IF($B105=\"\",\"\",万能利益演示!S100)","v":""},{"$f":"IF($B105=\"\",\"\",万能利益演示!T100)","v":""},"",{"$f":"IF(B105=\"\",\"\",年金利益演示!I100)","v":""},{"$f":"IF($B105=\"\",\"\",万能利益演示!U100)","v":""},{"$f":"IF($B105=\"\",\"\",万能利益演示!V100)","v":""},{"$f":"IF($B105=\"\",\"\",万能利益演示!W100)","v":""},"",{"$f":"IF(B105=\"\",\"\",年金利益演示!J100)","v":""},{"$f":"IF($B105=\"\",\"\",万能利益演示!X100)","v":""},{"$f":"IF($B105=\"\",\"\",万能利益演示!Y100)","v":""},{"$f":"IF($B105=\"\",\"\",万能利益演示!Z100)","v":""}]
[{"$f":"Reserve!A111","v":""},"",{"$f":"IF(B106=\"\",\"\",年金利益演示!C101)","v":""},null,null,"",{"$f":"IF(B106=\"\",\"\",年金利益演示!H101)","v":""},{"$f":"IF(B106=\"\",\"\",年金利益演示!E101)","v":""},{"$f":"IF(B106=\"\",\"\",年金利益演示!F101)","v":""},{"$f":"IF(B106=\"\",\"\",年金利益演示!G101)","v":""},{"$f":"IF(B106=\"\",\"\",万能利益演示!G101)","v":""},"",{"$f":"IF(B106=\"\",\"\",万能利益演示!H101)","v":""},{"$f":"IF(B106=\"\",\"\",IF($E$2=\"中\",万能利益演示!K101,IF($E$2=\"低\",万能利益演示!J101,万能利益演示!L101)))","v":""},{"$f":"IF(B106=\"\",\"\",IF($E$2=\"中\",万能利益演示!O101,IF($E$2=\"低\",万能利益演示!N101,万能利益演示!P101)))","v":""},null,{"$f":"IF($B106=\"\",\"\",万能利益演示!R101)","v":""},{"$f":"IF($B106=\"\",\"\",万能利益演示!S101)","v":""},{"$f":"IF($B106=\"\",\"\",万能利益演示!T101)","v":""},"",{"$f":"IF(B106=\"\",\"\",年金利益演示!I101)","v":""},{"$f":"IF($B106=\"\",\"\",万能利益演示!U101)","v":""},{"$f":"IF($B106=\"\",\"\",万能利益演示!V101)","v":""},{"$f":"IF($B106=\"\",\"\",万能利益演示!W101)","v":""},"",{"$f":"IF(B106=\"\",\"\",年金利益演示!J101)","v":""},{"$f":"IF($B106=\"\",\"\",万能利益演示!X101)","v":""},{"$f":"IF($B106=\"\",\"\",万能利益演示!Y101)","v":""},{"$f":"IF($B106=\"\",\"\",万能利益演示!Z101)","v":""}]
[{"$f":"Reserve!A112","v":""},"",{"$f":"IF(B107=\"\",\"\",年金利益演示!C102)","v":""},null,null,"",{"$f":"IF(B107=\"\",\"\",年金利益演示!H102)","v":""},{"$f":"IF(B107=\"\",\"\",年金利益演示!E102)","v":""},{"$f":"IF(B107=\"\",\"\",年金利益演示!F102)","v":""},{"$f":"IF(B107=\"\",\"\",年金利益演示!G102)","v":""},{"$f":"IF(B107=\"\",\"\",万能利益演示!G102)","v":""},"",{"$f":"IF(B107=\"\",\"\",万能利益演示!H102)","v":""},{"$f":"IF(B107=\"\",\"\",IF($E$2=\"中\",万能利益演示!K102,IF($E$2=\"低\",万能利益演示!J102,万能利益演示!L102)))","v":""},{"$f":"IF(B107=\"\",\"\",IF($E$2=\"中\",万能利益演示!O102,IF($E$2=\"低\",万能利益演示!N102,万能利益演示!P102)))","v":""},null,{"$f":"IF($B107=\"\",\"\",万能利益演示!R102)","v":""},{"$f":"IF($B107=\"\",\"\",万能利益演示!S102)","v":""},{"$f":"IF($B107=\"\",\"\",万能利益演示!T102)","v":""},"",{"$f":"IF(B107=\"\",\"\",年金利益演示!I102)","v":""},{"$f":"IF($B107=\"\",\"\",万能利益演示!U102)","v":""},{"$f":"IF($B107=\"\",\"\",万能利益演示!V102)","v":""},{"$f":"IF($B107=\"\",\"\",万能利益演示!W102)","v":""},"",{"$f":"IF(B107=\"\",\"\",年金利益演示!J102)","v":""},{"$f":"IF($B107=\"\",\"\",万能利益演示!X102)","v":""},{"$f":"IF($B107=\"\",\"\",万能利益演示!Y102)","v":""},{"$f":"IF($B107=\"\",\"\",万能利益演示!Z102)","v":""}]
[{"$f":"Reserve!A113","v":""},{"$f":"IF(OR(A108=\"\",A108=BP),\"\",B107+1)","v":""},{"$f":"IF(B108=\"\",\"\",年金利益演示!C103)","v":""},null,null,"",{"$f":"IF(B108=\"\",\"\",年金利益演示!H103)","v":""},{"$f":"IF(B108=\"\",\"\",年金利益演示!E103)","v":""},{"$f":"IF(B108=\"\",\"\",年金利益演示!F103)","v":""},{"$f":"IF(B108=\"\",\"\",年金利益演示!G103)","v":""},{"$f":"IF(B108=\"\",\"\",万能利益演示!G103)","v":""},"",{"$f":"IF(B108=\"\",\"\",万能利益演示!H103)","v":""},{"$f":"IF(B108=\"\",\"\",IF($E$2=\"中\",万能利益演示!K103,IF($E$2=\"低\",万能利益演示!J103,万能利益演示!L103)))","v":""},{"$f":"IF(B108=\"\",\"\",IF($E$2=\"中\",万能利益演示!O103,IF($E$2=\"低\",万能利益演示!N103,万能利益演示!P103)))","v":""},null,{"$f":"IF($B108=\"\",\"\",万能利益演示!R103)","v":""},{"$f":"IF($B108=\"\",\"\",万能利益演示!S103)","v":""},{"$f":"IF($B108=\"\",\"\",万能利益演示!T103)","v":""},"",{"$f":"IF(B108=\"\",\"\",年金利益演示!I103)","v":""},{"$f":"IF($B108=\"\",\"\",万能利益演示!U103)","v":""},{"$f":"IF($B108=\"\",\"\",万能利益演示!V103)","v":""},{"$f":"IF($B108=\"\",\"\",万能利益演示!W103)","v":""},"",{"$f":"IF(B108=\"\",\"\",年金利益演示!J103)","v":""},{"$f":"IF($B108=\"\",\"\",万能利益演示!X103)","v":""},{"$f":"IF($B108=\"\",\"\",万能利益演示!Y103)","v":""},{"$f":"IF($B108=\"\",\"\",万能利益演示!Z103)","v":""}]
[{"$f":"Reserve!A114","v":""},"",{"$f":"IF(B109=\"\",\"\",年金利益演示!C104)","v":""},null,null,"",{"$f":"IF(B109=\"\",\"\",年金利益演示!H104)","v":""},{"$f":"IF(B109=\"\",\"\",年金利益演示!E104)","v":""},{"$f":"IF(B109=\"\",\"\",年金利益演示!F104)","v":""},{"$f":"IF(B109=\"\",\"\",年金利益演示!G104)","v":""},{"$f":"IF(B109=\"\",\"\",万能利益演示!G104)","v":""},"",{"$f":"IF(B109=\"\",\"\",万能利益演示!H104)","v":""},{"$f":"IF(B109=\"\",\"\",IF($E$2=\"中\",万能利益演示!K104,IF($E$2=\"低\",万能利益演示!J104,万能利益演示!L104)))","v":""},{"$f":"IF(B109=\"\",\"\",IF($E$2=\"中\",万能利益演示!O104,IF($E$2=\"低\",万能利益演示!N104,万能利益演示!P104)))","v":""},null,{"$f":"IF($B109=\"\",\"\",万能利益演示!R104)","v":""},{"$f":"IF($B109=\"\",\"\",万能利益演示!S104)","v":""},{"$f":"IF($B109=\"\",\"\",万能利益演示!T104)","v":""},"",{"$f":"IF(B109=\"\",\"\",年金利益演示!I104)","v":""},{"$f":"IF($B109=\"\",\"\",万能利益演示!U104)","v":""},{"$f":"IF($B109=\"\",\"\",万能利益演示!V104)","v":""},{"$f":"IF($B109=\"\",\"\",万能利益演示!W104)","v":""},"",{"$f":"IF(B109=\"\",\"\",年金利益演示!J104)","v":""},{"$f":"IF($B109=\"\",\"\",万能利益演示!X104)","v":""},{"$f":"IF($B109=\"\",\"\",万能利益演示!Y104)","v":""},{"$f":"IF($B109=\"\",\"\",万能利益演示!Z104)","v":""}]
[{"$f":"Reserve!A115","v":""},"",{"$f":"IF(B110=\"\",\"\",年金利益演示!C105)","v":""},null,null,"",{"$f":"IF(B110=\"\",\"\",年金利益演示!H105)","v":""},{"$f":"IF(B110=\"\",\"\",年金利益演示!E105)","v":""},{"$f":"IF(B110=\"\",\"\",年金利益演示!F105)","v":""},{"$f":"IF(B110=\"\",\"\",年金利益演示!G105)","v":""},{"$f":"IF(B110=\"\",\"\",万能利益演示!G105)","v":""},"",{"$f":"IF(B110=\"\",\"\",万能利益演示!H105)","v":""},{"$f":"IF(B110=\"\",\"\",IF($E$2=\"中\",万能利益演示!K105,IF($E$2=\"低\",万能利益演示!J105,万能利益演示!L105)))","v":""},{"$f":"IF(B110=\"\",\"\",IF($E$2=\"中\",万能利益演示!O105,IF($E$2=\"低\",万能利益演示!N105,万能利益演示!P105)))","v":""},null,{"$f":"IF($B110=\"\",\"\",万能利益演示!R105)","v":""},{"$f":"IF($B110=\"\",\"\",万能利益演示!S105)","v":""},{"$f":"IF($B110=\"\",\"\",万能利益演示!T105)","v":""},"",{"$f":"IF(B110=\"\",\"\",年金利益演示!I105)","v":""},{"$f":"IF($B110=\"\",\"\",万能利益演示!U105)","v":""},{"$f":"IF($B110=\"\",\"\",万能利益演示!V105)","v":""},{"$f":"IF($B110=\"\",\"\",万能利益演示!W105)","v":""},"",{"$f":"IF(B110=\"\",\"\",年金利益演示!J105)","v":""},{"$f":"IF($B110=\"\",\"\",万能利益演示!X105)","v":""},{"$f":"IF($B110=\"\",\"\",万能利益演示!Y105)","v":""},{"$f":"IF($B110=\"\",\"\",万能利益演示!Z105)","v":""}]
[{"$f":"Reserve!A116","v":""},"",{"$f":"IF(B111=\"\",\"\",年金利益演示!C106)","v":""},null,null,"",{"$f":"IF(B111=\"\",\"\",年金利益演示!H106)","v":""},{"$f":"IF(B111=\"\",\"\",年金利益演示!E106)","v":""},{"$f":"IF(B111=\"\",\"\",年金利益演示!F106)","v":""},{"$f":"IF(B111=\"\",\"\",年金利益演示!G106)","v":""},{"$f":"IF(B111=\"\",\"\",万能利益演示!G106)","v":""},"",{"$f":"IF(B111=\"\",\"\",万能利益演示!H106)","v":""},{"$f":"IF(B111=\"\",\"\",IF($E$2=\"中\",万能利益演示!K106,IF($E$2=\"低\",万能利益演示!J106,万能利益演示!L106)))","v":""},{"$f":"IF(B111=\"\",\"\",IF($E$2=\"中\",万能利益演示!O106,IF($E$2=\"低\",万能利益演示!N106,万能利益演示!P106)))","v":""},null,{"$f":"IF($B111=\"\",\"\",万能利益演示!R106)","v":""},{"$f":"IF($B111=\"\",\"\",万能利益演示!S106)","v":""},{"$f":"IF($B111=\"\",\"\",万能利益演示!T106)","v":""},"",{"$f":"IF(B111=\"\",\"\",年金利益演示!I106)","v":""},{"$f":"IF($B111=\"\",\"\",万能利益演示!U106)","v":""},{"$f":"IF($B111=\"\",\"\",万能利益演示!V106)","v":""},{"$f":"IF($B111=\"\",\"\",万能利益演示!W106)","v":""},"",{"$f":"IF(B111=\"\",\"\",年金利益演示!J106)","v":""},{"$f":"IF($B111=\"\",\"\",万能利益演示!X106)","v":""},{"$f":"IF($B111=\"\",\"\",万能利益演示!Y106)","v":""},{"$f":"IF($B111=\"\",\"\",万能利益演示!Z106)","v":""}]
[{"$f":"Reserve!A117","v":""},"",{"$f":"IF(B112=\"\",\"\",年金利益演示!C107)","v":""},null,null,"",{"$f":"IF(B112=\"\",\"\",年金利益演示!H107)","v":""},{"$f":"IF(B112=\"\",\"\",年金利益演示!E107)","v":""},{"$f":"IF(B112=\"\",\"\",年金利益演示!F107)","v":""},{"$f":"IF(B112=\"\",\"\",年金利益演示!G107)","v":""},{"$f":"IF(B112=\"\",\"\",万能利益演示!G107)","v":""},"",{"$f":"IF(B112=\"\",\"\",万能利益演示!H107)","v":""},{"$f":"IF(B112=\"\",\"\",IF($E$2=\"中\",万能利益演示!K107,IF($E$2=\"低\",万能利益演示!J107,万能利益演示!L107)))","v":""},{"$f":"IF(B112=\"\",\"\",IF($E$2=\"中\",万能利益演示!O107,IF($E$2=\"低\",万能利益演示!N107,万能利益演示!P107)))","v":""},null,{"$f":"IF($B112=\"\",\"\",万能利益演示!R107)","v":""},{"$f":"IF($B112=\"\",\"\",万能利益演示!S107)","v":""},{"$f":"IF($B112=\"\",\"\",万能利益演示!T107)","v":""},"",{"$f":"IF(B112=\"\",\"\",年金利益演示!I107)","v":""},{"$f":"IF($B112=\"\",\"\",万能利益演示!U107)","v":""},{"$f":"IF($B112=\"\",\"\",万能利益演示!V107)","v":""},{"$f":"IF($B112=\"\",\"\",万能利益演示!W107)","v":""},"",{"$f":"IF(B112=\"\",\"\",年金利益演示!J107)","v":""},{"$f":"IF($B112=\"\",\"\",万能利益演示!X107)","v":""},{"$f":"IF($B112=\"\",\"\",万能利益演示!Y107)","v":""},{"$f":"IF($B112=\"\",\"\",万能利益演示!Z107)","v":""}]
[{"$f":"Reserve!A118","v":""},"",{"$f":"IF(B113=\"\",\"\",年金利益演示!C108)","v":""},null,null,"",{"$f":"IF(B113=\"\",\"\",年金利益演示!H108)","v":""},{"$f":"IF(B113=\"\",\"\",年金利益演示!E108)","v":""},{"$f":"IF(B113=\"\",\"\",年金利益演示!F108)","v":""},{"$f":"IF(B113=\"\",\"\",年金利益演示!G108)","v":""},{"$f":"IF(B113=\"\",\"\",万能利益演示!G108)","v":""},"",{"$f":"IF(B113=\"\",\"\",万能利益演示!H108)","v":""},{"$f":"IF(B113=\"\",\"\",IF($E$2=\"中\",万能利益演示!K108,IF($E$2=\"低\",万能利益演示!J108,万能利益演示!L108)))","v":""},{"$f":"IF(B113=\"\",\"\",IF($E$2=\"中\",万能利益演示!O108,IF($E$2=\"低\",万能利益演示!N108,万能利益演示!P108)))","v":""},null,{"$f":"IF($B113=\"\",\"\",万能利益演示!R108)","v":""},{"$f":"IF($B113=\"\",\"\",万能利益演示!S108)","v":""},{"$f":"IF($B113=\"\",\"\",万能利益演示!T108)","v":""},"",{"$f":"IF(B113=\"\",\"\",年金利益演示!I108)","v":""},{"$f":"IF($B113=\"\",\"\",万能利益演示!U108)","v":""},{"$f":"IF($B113=\"\",\"\",万能利益演示!V108)","v":""},{"$f":"IF($B113=\"\",\"\",万能利益演示!W108)","v":""},"",{"$f":"IF(B113=\"\",\"\",年金利益演示!J108)","v":""},{"$f":"IF($B113=\"\",\"\",万能利益演示!X108)","v":""},{"$f":"IF($B113=\"\",\"\",万能利益演示!Y108)","v":""},{"$f":"IF($B113=\"\",\"\",万能利益演示!Z108)","v":""}]
[{"$f":"Reserve!A119","v":""},"",{"$f":"IF(B114=\"\",\"\",年金利益演示!C109)","v":""},null,null,"",{"$f":"IF(B114=\"\",\"\",年金利益演示!H109)","v":""},{"$f":"IF(B114=\"\",\"\",年金利益演示!E109)","v":""},{"$f":"IF(B114=\"\",\"\",年金利益演示!F109)","v":""},{"$f":"IF(B114=\"\",\"\",年金利益演示!G109)","v":""},{"$f":"IF(B114=\"\",\"\",万能利益演示!G109)","v":""},"",{"$f":"IF(B114=\"\",\"\",万能利益演示!H109)","v":""},{"$f":"IF(B114=\"\",\"\",IF($E$2=\"中\",万能利益演示!K109,IF($E$2=\"低\",万能利益演示!J109,万能利益演示!L109)))","v":""},{"$f":"IF(B114=\"\",\"\",IF($E$2=\"中\",万能利益演示!O109,IF($E$2=\"低\",万能利益演示!N109,万能利益演示!P109)))","v":""},null,{"$f":"IF($B114=\"\",\"\",万能利益演示!R109)","v":""},{"$f":"IF($B114=\"\",\"\",万能利益演示!S109)","v":""},{"$f":"IF($B114=\"\",\"\",万能利益演示!T109)","v":""},"",{"$f":"IF(B114=\"\",\"\",年金利益演示!I109)","v":""},{"$f":"IF($B114=\"\",\"\",万能利益演示!U109)","v":""},{"$f":"IF($B114=\"\",\"\",万能利益演示!V109)","v":""},{"$f":"IF($B114=\"\",\"\",万能利益演示!W109)","v":""},"",{"$f":"IF(B114=\"\",\"\",年金利益演示!J109)","v":""},{"$f":"IF($B114=\"\",\"\",万能利益演示!X109)","v":""},{"$f":"IF($B114=\"\",\"\",万能利益演示!Y109)","v":""},{"$f":"IF($B114=\"\",\"\",万能利益演示!Z109)","v":""}]
[{"$f":"Reserve!A120","v":""},"",{"$f":"IF(B115=\"\",\"\",年金利益演示!C110)","v":""},null,null,"",{"$f":"IF(B115=\"\",\"\",年金利益演示!H110)","v":""},{"$f":"IF(B115=\"\",\"\",年金利益演示!E110)","v":""},{"$f":"IF(B115=\"\",\"\",年金利益演示!F110)","v":""},{"$f":"IF(B115=\"\",\"\",年金利益演示!G110)","v":""},{"$f":"IF(B115=\"\",\"\",万能利益演示!G110)","v":""},"",{"$f":"IF(B115=\"\",\"\",万能利益演示!H110)","v":""},{"$f":"IF(B115=\"\",\"\",IF($E$2=\"中\",万能利益演示!K110,IF($E$2=\"低\",万能利益演示!J110,万能利益演示!L110)))","v":""},{"$f":"IF(B115=\"\",\"\",IF($E$2=\"中\",万能利益演示!O110,IF($E$2=\"低\",万能利益演示!N110,万能利益演示!P110)))","v":""},null,{"$f":"IF($B115=\"\",\"\",万能利益演示!R110)","v":""},{"$f":"IF($B115=\"\",\"\",万能利益演示!S110)","v":""},{"$f":"IF($B115=\"\",\"\",万能利益演示!T110)","v":""},"",{"$f":"IF(B115=\"\",\"\",年金利益演示!I110)","v":""},{"$f":"IF($B115=\"\",\"\",万能利益演示!U110)","v":""},{"$f":"IF($B115=\"\",\"\",万能利益演示!V110)","v":""},{"$f":"IF($B115=\"\",\"\",万能利益演示!W110)","v":""},"",{"$f":"IF(B115=\"\",\"\",年金利益演示!J110)","v":""},{"$f":"IF($B115=\"\",\"\",万能利益演示!X110)","v":""},{"$f":"IF($B115=\"\",\"\",万能利益演示!Y110)","v":""},{"$f":"IF($B115=\"\",\"\",万能利益演示!Z110)","v":""}]
[{"$f":"Reserve!A121","v":""},"",{"$f":"IF(B116=\"\",\"\",年金利益演示!C111)","v":""},null,null,"",{"$f":"IF(B116=\"\",\"\",年金利益演示!H111)","v":""},{"$f":"IF(B116=\"\",\"\",年金利益演示!E111)","v":""},{"$f":"IF(B116=\"\",\"\",年金利益演示!F111)","v":""},{"$f":"IF(B116=\"\",\"\",年金利益演示!G111)","v":""},{"$f":"IF(B116=\"\",\"\",万能利益演示!G111)","v":""},"",{"$f":"IF(B116=\"\",\"\",万能利益演示!H111)","v":""},{"$f":"IF(B116=\"\",\"\",IF($E$2=\"中\",万能利益演示!K111,IF($E$2=\"低\",万能利益演示!J111,万能利益演示!L111)))","v":""},{"$f":"IF(B116=\"\",\"\",IF($E$2=\"中\",万能利益演示!O111,IF($E$2=\"低\",万能利益演示!N111,万能利益演示!P111)))","v":""},null,{"$f":"IF($B116=\"\",\"\",万能利益演示!R111)","v":""},{"$f":"IF($B116=\"\",\"\",万能利益演示!S111)","v":""},{"$f":"IF($B116=\"\",\"\",万能利益演示!T111)","v":""},"",{"$f":"IF(B116=\"\",\"\",年金利益演示!I111)","v":""},{"$f":"IF($B116=\"\",\"\",万能利益演示!U111)","v":""},{"$f":"IF($B116=\"\",\"\",万能利益演示!V111)","v":""},{"$f":"IF($B116=\"\",\"\",万能利益演示!W111)","v":""},"",{"$f":"IF(B116=\"\",\"\",年金利益演示!J111)","v":""},{"$f":"IF($B116=\"\",\"\",万能利益演示!X111)","v":""},{"$f":"IF($B116=\"\",\"\",万能利益演示!Y111)","v":""},{"$f":"IF($B116=\"\",\"\",万能利益演示!Z111)","v":""}]
[]
[]
[]
["保单\n年度","被保险人年度末年龄","当年度保险费",null,null,"年金合同和万能合同累计保险费","当年度末年金合同生存类保险金给付金额","年金合同当年度末红利金额",null,null,"初始\n费用","将转入万能账户的金额（含年金合同生存类保险金、中档红利）","持续奖金（含中档红利）","必选基本保险金额（含中档万能账户收益）","保障成本（含中档万能账户收益）","万能账户年度末部分领取","万能险年度末保单账户价值",null,null,"年金合同和万能合同年度末身故总利益（含中档万能账户收益）","年度末身故给付金额\n",null,null,null,"年金合同和万能合同年度末退保总利益（含中档万能账户收益）","年度末现金价值\n"]
[null,null,"年金合同保险费","万能合同趸交保险费","万能合同追加保险费",null,null,"红利收益演示（低）","红利收益演示（中）","红利收益演示（高）",null,null,null,null,null,null,"万能收益演示（低）","万能收益演示（中）","万能收益演示（高）",null,"年金合同身故保险金给付金额","万能合同身故保险金给付金额",null,null,null,"年金合同年度末现金价值（不含年度末生存给付）","万能合同年度末现金价值"]
[null,null,null,null,null,null,null,null,null,null,null,null,null,null,null,null,null,null,null,null,null,"万能收益演示（低）","万能收益演示（中）","万能收益演示（高）",null,null,"万能收益演示（低）","万能收益演示（中）","万能收益演示（高）"]
[null,25,1,2,3,4,5,6,7,8,15,9,29,26,28,10,11,12,13,14,16,17,18,19,20,21,22,23,24]
["计算公式：",null,"1=a","2=B","3=C","4(t)=4(t-1)\n+1(t)+2(t)\n+3(t)","5=b","6=f","7=g","8=h","15=E","9=5+7;\n\n注：若选择低档或高档红利进行演示，则：7分别变为：6或8","29=Z","26=H","28=L","10=N","11=O","12=P","13=Q","14=16+18","16=d","17=R","18=S","19=T","20(t)=21(t)+23(t)+5(t)","21=e","22=U","23=V","24=W"]
[]
[]
[]
["注：\n1、保险利益演示表所示“年度”均指保单年度；\n2、年金合同的红利水平采用低、中、高档进行描述，该利益演示是基于公司的精算及其他假设，不代表公司的历史经营业绩，也不代表对公司未来经营业绩的预期，\n保单的红利分配是不确定的；\n3、年金合同的现金价值给付条件以《泰康乐鑫年年年金保险（分红型）》条款约定为准；\n4、万能合同的万能收益演示是基于公司的精算及其他假设，不代表公司的历史经营业绩，也不代表对公司未来经营业绩的预期，最低保证利率之上的投资收益是不\n确定的，实际保单账户利益可能低于中、高档利益演示水平；\n5、万能合同万能收益演示采用的“低演示利率”为年利率2.5%；“中演示利率”为年利率4.5%；“高演示利率”为年利率6%；\n6、对于万能合同的保单账户价值、现金价值与身故保险金，我们只给付其中一项，我们给付其中任意一项后，万能合同终止；"]

{"sheet":"Sheet2","index":18,"n_rows":20,"n_cols":29,"rows_kept":20,"cut":false,"hidden":true,"merged":[[0,20,0,23],[0,25,0,28],[1,21,1,23],[1,26,1,28],[0,0,2,0],[0,1,2,1],[0,5,2,5],[0,6,2,6],[0,10,2,10],[0,11,2,11],[0,12,2,12],[0,13,2,13],[0,14,2,14],[0,15,2,15],[0,19,2,19],[1,20,2,20],[0,24,2,24],[1,25,2,25],[0,2,1,4],[0,7,1,9],[0,16,1,18]]}
["保单年度","被保险人年度末年龄","当年度保险费",null,null,"年金合同和万能合同累计保险费","当年度末年金合同生存类保险金给付金额","年金合同当年度末红利金额",null,null,"初始费用","转入万能账户金额（含年金合同生存保险金、低档红利）","持续奖金（含低档红利）","基本保险金额（含中档万能账户收益）","保障成本（含中档万能账户收益）","万能账户年度末部分领取","万能合同年度末保单账户价值",null,null,"年金合同和万能合同年度末身故总利益（含中档万能账户收益）","年度末身故给付金额",null,null,null,"年金合同和万能合同年度末退保总利益（含中档万能账户收益）","年度末现金价值"]
[null,null,null,null,null,null,null,null,null,null,null,null,null,null,null,null,null,null,null,null,"年金合同身故保险金给付金额","万能合同身故保险金给付金额",null,null,null,"年金合同年度末现金价值（不含年度末生存给付）","万能合同年度末现金价值"]
[null,null,"年金合同保险费","万能合同趸交保险费","万能合同追加保险费",null,null,"红利收益演示（低）","红利收益演示（中）","红利收益演示（高）",null,null,null,null,null,null,"万能收益演示（低）","万能收益演示（中）","万能收益演示（高）",null,null,"万能收益演示（低）","万能收益演示（中）","万能收益演示（高）",null,null,"万能收益演示（低）","万能收益演示（中）","万能收益演示（高）"]
[1,46,10000,10,null,10010,0,"-",137.093914360991,239.914350131734,0.3,239.914350131734,0,3.88,0.005534432,null,9.9368272072,10.13071651856,10.27613350208,10014.183003126,10000,13.91155809008,14.183003125984,14.386586902912,4779.62418069263,4770,9.43998584684,9.624180692632,9.762326826976]
[2,47,10000,null,null,20010,0,"-",316.610136909602,554.067739591804,2.39914350131734,554.067739591804,0,99.0583692595908,0.151995161791916,null,253.482661619262,258.631154746608,262.497611062752,20362.0836166452,20000,354.875726266967,362.083616645252,367.496655487852,10878.2859085567,10630,243.343355154491,248.285908556744,251.997706620242]
[3,48,10000,null,null,30010,0,"-",500.578374264431,876.012154962753,5.54067739591804,876.012154962753,0,322.863286776998,0.530787243461384,null,821.519380276286,842.925664035489,859.120824039513,31180.0959296497,30000,1150.1271323868,1180.09592964968,1202.76915365532,18137.6378941144,17320,796.873798867997,817.637894114424,833.347199318328]
[4,49,10000,null,null,40010,0,"-",689.111240993549,1205.94467173871,8.76012154962753,1205.94467173871,0,684.071078979446,1.2247608598048,null,1729.75103273263,1785.85581873531,1828.64468816307,42500.1981462294,40000,2421.65144582568,2500.19814622943,2560.1025634283,26510.1387023606,24760,1695.15601207798,1750.1387023606,1792.07179439981]
[5,50,10000,null,null,50010,5000,"-",882.32592313021,1544.07036547787,12.0594467173871,6544.07036547787,0,1191.89641750265,2.33230290976919,null,2994.38156591184,3111.39213418497,3201.37396568499,54355.948987859,50000,4192.13419227657,4355.94898785896,4481.92355195898,35860.2782128431,27780,2964.43775025272,3080.27821284312,3169.36022602814]
[6,51,0,null,null,50010,476,"-",804.17114012156,1407.29949521273,65.4407036547787,1883.29949521273,0,3836.00871840322,8.1814393946104,null,9701.55285270623,10013.0231726611,10252.0501481822,64018.2324417255,50000,13582.1739937887,14018.2324417255,14352.8702074551,38869.0231726611,28380,9701.55285270623,10013.0231726611,10252.0501481822]
[7,52,0,null,null,50010,476,"-",814.350408008058,1425.1132140141,18.8329949521273,1901.1132140141,2.39914350131734,4751.95552656919,10.9485055332154,null,11846.7009680313,12403.0426248798,12834.2118190993,67364.2596748317,50000,16585.3813552439,17364.2596748317,17967.896546739,41889.0426248798,29010,11846.7009680313,12403.0426248798,12834.2118190993]
[8,53,0,null,null,50010,476,"-",824.77234285297,1443.3515999927,19.011132140141,1919.3515999927,5.54067739591804,5716.27415365987,14.1077646112326,null,14063.804812753,14919.0236124177,15589.7604333411,70886.6330573847,50000,19689.3267378542,20886.6330573847,21825.6646066776,45065.0236124177,29670,14063.804812753,14919.0236124177,15589.7604333411]
[9,54,0,null,null,50010,476,"-",835.445640317038,1462.02987055482,19.193515999927,1938.02987055482,8.76012154962753,6731.17672718403,17.7703065597658,null,16354.7522183577,17566.6292294133,18529.0120362953,74593.2809211786,50000,22896.6531057008,24593.2809211786,25940.6168508135,48392.6292294133,30350,16354.7522183577,17566.6292294133,18529.0120362953]
[10,55,0,null,null,50010,476,"-",846.379934638546,1481.16488561746,19.3802987055482,1957.16488561746,12.0594467173871,7798.93529919199,22.1177805085085,null,18721.3361649397,20351.6053885077,21662.7022401352,78492.2475439108,50000,26209.8706309155,28492.2475439107,30327.7831361893,51877.6053885077,31050,18721.3361649397,20351.6053885077,21662.7022401352]
[15,60,0,null,null,50010,714,"-",905.36111813246,1584.38195673181,20.3866062295897,2298.38195673181,19.3802987055482,14025.4876080341,67.7599357319343,null,31768.7403409806,36570.7772431492,40683.963048114,101199.088140409,50000,44476.2364773729,51199.0881404088,56957.5482673597,72044.7772431492,34760,31768.7403409806,36570.7772431492,40683.963048114]
[20,65,0,null,null,50010,714,"-",947.49125009476,1658.10968766583,23.5655947615476,2372.10968766583,20.3866062295897,11199.4064114351,96.1446641608879,null,48107.3084189342,58416.4273257002,67808.9965293601,120099.71279084,50000,57728.7701027211,70099.7127908402,81370.7958352321,97310.4273257002,38180,48107.3084189342,58416.4273257002,67808.9965293601]
[25,70,0,null,null,50010,714,"-",996.100346505714,1743.175606385,24.3907116099892,2457.175606385,23.5655947615476,16423.9176466009,238.659232106287,null,66634.3405292728,85565.5708059387,103911.75734811,152678.684967126,50000,79961.2086351274,102678.684967126,124694.108817732,128589.570805939,42310,66634.3405292728,85565.5708059387,103911.75734811]
[35,80,0,null,null,50010,5714,"-",1127.54430120209,1973.20252710366,26.5961787957143,7687.20252710366,25.366325736709,31128.8415392622,0,null,112639.126254148,162648.197042645,217603.006917536,249551.836451174,54374,135166.951504978,195177.836451174,261123.608301044,217022.197042645,48660,112639.126254148,162648.197042645,217603.006917536]
[45,90,0,null,null,50010,714,"-",180.302755147534,315.529821508184,62.1562074881379,1029.52982150818,70.7643327790378,65578.877021804,0,null,224446.686594214,342649.632438926,487933.88287341,419993.558926711,8814,269336.023913057,411179.558926711,585520.659448092,351463.632438926,8100,224446.686594214,342649.632438926,487933.88287341]
[55,100,0,null,null,50010,714,"-",78.2885740049662,137.005004508691,8.71487947331251,851.005004508691,9.64571676118018,104278.532001865,0,null,298648.298275908,544855.329709744,887709.064455334,657760.395651692,3934,358377.95793109,653826.395651692,1065250.8773464,548789.329709744,3220,298648.298275908,544855.329709744,887709.064455334]
[60,105,0,null,null,50010,714,"-",14.0078735833635,24.5137787708861,7.62395212170376,738.513778770886,8.71487947331251,130836.689263958,0,null,342254.634952198,683621.701404182,1192800.97877647,821060.041685019,714,410705.561942638,820346.041685019,1431361.17453176,684335.701404182,0,342254.634952198,683621.701404182,1192800.97877647]

{"sheet":"Sys GP","index":19,"n_rows":654,"n_cols":26,"rows_kept":654,"cut":false,"hidden":true,"merged":[]}
[null,"运行宏“盈利能力”",null,650,"万能\n偿二K值","Loading","GP","NP","盈利能力\n年金偿一","盈利能力\n年金偿二","盈利能力\n万能偿一","盈利能力\n万能偿二","SA","年金\n偿一K值","年金\n偿二K值",null,{"$f":"SUM(Q5:Q653)","v":{"$error":"#REF!"}},null,null,null,null,"盈利能力\n年金偿一","盈利能力\n年金偿二","盈利能力\n万能偿一","盈利能力\n万能偿二"]
[null,null,null,null,{"$f":"#REF!","v":{"$error":"#REF!"}},{"$f":"BaseLoad","v":0.158868826942765},{"$f":"Assumption!F5","v":1000},{"$f":"Assumption!F6","v":841.315955985012},{"$f":"Assumption!L9","v":{"$error":"#REF!"}},{"$f":"Assumption!O9","v":{"$error":"#REF!"}},{"$f":"Assumption!M9","v":{"$error":"#REF!"}},{"$f":"Assumption!P9","v":{"$error":"#REF!"}},{"$f":"GP!D10","v":578},{"$f":"#REF!","v":{"$error":"#REF!"}},{"$f":"#REF!","v":{"$error":"#REF!"}},null,null,null,null,null,null,{"$f":"SUMPRODUCT(I5:I653,$R$5:$R$653)","v":{"$error":"#REF!"}},{"$f":"SUMPRODUCT(J5:J653,$R$5:$R$653)","v":{"$error":"#REF!"}},{"$f":"SUMPRODUCT(K5:K653,$R$5:$R$653)","v":{"$error":"#REF!"}},{"$f":"SUMPRODUCT(L5:L653,$R$5:$R$653)","v":{"$error":"#REF!"}}]
[null,null,null,null,5,6,7,8,9,10,11,12,13,14,15]
["敏感性","PPP","InsuredAge","InsuredSex","万能\n偿二K值","Loading","GP","NP","盈利能力\n年金偿一","盈利能力\n年金偿二","盈利能力\n万能偿一","盈利能力\n万能偿二","SA","年金\n偿一K值","年金\n偿二K值",null,null,"销售分布",null,null,"占比","盈利能力\nBase偿一","盈利能力\nBase偿二","盈利能力\nPackage偿一","盈利能力\nPackage偿二"]
[{"$f":"P5","v":"0_20_M"},20,0,"M",0.821016608917246,0.158612826007287,1000,841.475883220461,0.0249514098945244,0.429877360255225,0.0219992268982953,0.0488827796537572,1285,0.000643526169892748,7.6373035183672,{"$f":"C5&\"_\"&B5&\"_\"&D5","v":"0_20_M"},{"$f":"VLOOKUP(P5,#REF!,11,FALSE)","v":{"$error":"#REF!"}},{"$f":"Q5/$Q$1","v":{"$error":"#REF!"}},null,1,{"$f":"SUMIF(B:B,T5,R:R)","v":{"$error":"#REF!"}},{"$f":"(SUMPRODUCT(I270:I329,$R$270:$R$329)+SUMPRODUCT(I595:I654,$R$595:$R$654))/$U$5","v":{"$error":"#REF!"}},{"$f":"(SUMPRODUCT(J270:J329,$R$270:$R$329)+SUMPRODUCT(J595:J654,$R$595:$R$654))/$U$5","v":{"$error":"#REF!"}},{"$f":"(SUMPRODUCT(K270:K329,$R$270:$R$329)+SUMPRODUCT(K595:K654,$R$595:$R$654))/$U$5","v":{"$error":"#REF!"}},{"$f":"(SUMPRODUCT(L270:L329,$R$270:$R$329)+SUMPRODUCT(L595:L654,$R$595:$R$654))/$U$5","v":{"$error":"#REF!"}},0.04]
[{"$f":"P6","v":"1_20_M"},20,1,"M",0.813449003971181,0.158606082521523,1000,841.203686967936,0.0256770501992751,0.428875615325648,0.0206820479276443,0.0485909548515913,1272,0.000643630065611959,7.62951561725389,{"$f":"C6&\"_\"&B6&\"_\"&D6","v":"1_20_M"},{"$f":"VLOOKUP(P6,#REF!,11,FALSE)","v":{"$error":"#REF!"}},{"$f":"Q6/$Q$1","v":{"$error":"#REF!"}},null,3,{"$error":"#REF!"},{"$f":"(SUMPRODUCT(I214:I269,$R$214:$R$269)+SUMPRODUCT(I539:I594,$R$539:$R$594))/$U$6","v":{"$error":"#REF!"}},{"$f":"(SUMPRODUCT(J214:J269,$R$214:$R$269)+SUMPRODUCT(J539:J594,$R$539:$R$594))/$U$6","v":{"$error":"#REF!"}},{"$f":"(SUMPRODUCT(K214:K269,$R$214:$R$269)+SUMPRODUCT(K539:K594,$R$539:$R$594))/$U$6","v":{"$error":"#REF!"}},{"$f":"(SUMPRODUCT(L214:L269,$R$214:$R$269)+SUMPRODUCT(L539:L594,$R$539:$R$594))/$U$6","v":{"$error":"#REF!"}},0.1]
["2_20_M",20,2,"M",0.806186880807873,0.158602629494134,1000,841.508756992114,0.0234471037677011,0.425895610307626,0.01933104012757,0.0483019458757691,1260,0.000640871677718573,7.59027902877179,"2_20_M",{"$f":"VLOOKUP(P7,#REF!,11,FALSE)","v":{"$error":"#REF!"}},{"$error":"#REF!"},null,5,{"$error":"#REF!"},{"$f":"(SUMPRODUCT(I158:I213,$R$158:$R$213)+SUMPRODUCT(I483:I538,$R$483:$R$538))/$U$7","v":{"$error":"#REF!"}},{"$f":"(SUMPRODUCT(J158:J213,$R$158:$R$213)+SUMPRODUCT(J483:J538,$R$483:$R$538))/$U$7","v":{"$error":"#REF!"}},{"$f":"(SUMPRODUCT(K158:K213,$R$158:$R$213)+SUMPRODUCT(K483:K538,$R$483:$R$538))/$U$7","v":{"$error":"#REF!"}},{"$f":"(SUMPRODUCT(L158:L213,$R$158:$R$213)+SUMPRODUCT(L483:L538,$R$483:$R$538))/$U$7","v":{"$error":"#REF!"}},0.15]
["3_20_M",20,3,"M",0.798243431278316,0.158601308439823,1000,841.519121832013,0.0226053693316515,0.423691770343039,0.017911298293246,0.0479714861845703,1247,0.000639349980005068,7.56320165643815,"3_20_M",{"$f":"VLOOKUP(P8,#REF!,11,FALSE)","v":{"$error":"#REF!"}},{"$error":"#REF!"},null,10,{"$error":"#REF!"},{"$f":"(SUMPRODUCT(I102:I157,$R$102:$R$157)+SUMPRODUCT(I427:I482,$R$427:$R$482))/$U$8","v":{"$error":"#REF!"}},{"$f":"(SUMPRODUCT(J102:J157,$R$102:$R$157)+SUMPRODUCT(J427:J482,$R$427:$R$482))/$U$8","v":{"$error":"#REF!"}},{"$f":"(SUMPRODUCT(K102:K157,$R$102:$R$157)+SUMPRODUCT(K427:K482,$R$427:$R$482))/$U$8","v":{"$error":"#REF!"}},{"$f":"(SUMPRODUCT(L102:L157,$R$102:$R$157)+SUMPRODUCT(L427:L482,$R$427:$R$482))/$U$8","v":{"$error":"#REF!"}},0.2]
["4_20_M",20,4,"M",0.789614324355297,0.158601269936687,1000,841.237618166667,0.0230242126407122,0.421929393140406,0.0164227351367728,0.0475975293214327,1233,0.00063900450753375,7.54742781657559,"4_20_M",{"$f":"VLOOKUP(P9,#REF!,11,FALSE)","v":{"$error":"#REF!"}},{"$error":"#REF!"},null,15,{"$error":"#REF!"},{"$f":"(SUMPRODUCT(I51:I101,$R$51:$R$101)+SUMPRODUCT(I376:I426,$R$376:$R$426))/$U$9","v":{"$error":"#REF!"}},{"$f":"(SUMPRODUCT(J51:J101,$R$51:$R$101)+SUMPRODUCT(J376:J426,$R$376:$R$426))/$U$9","v":{"$error":"#REF!"}},{"$f":"(SUMPRODUCT(K51:K101,$R$51:$R$101)+SUMPRODUCT(K376:K426,$R$376:$R$426))/$U$9","v":{"$error":"#REF!"}},{"$f":"(SUMPRODUCT(L51:L101,$R$51:$R$101)+SUMPRODUCT(L376:L426,$R$376:$R$426))/$U$9","v":{"$error":"#REF!"}},0.2]
["5_20_M",20,5,"M",0.78125655832965,0.158601951269381,1000,841.54569147276,0.0202459563882056,0.418090933192009,0.0148951170484742,0.047230896265342,1220,0.000635628579450203,7.49820277441563,"5_20_M",{"$f":"VLOOKUP(P10,#REF!,11,FALSE)","v":{"$error":"#REF!"}},{"$error":"#REF!"},null,20,{"$error":"#REF!"},{"$f":"(SUMPRODUCT(I5:I50,$R$5:$R$50)+SUMPRODUCT(I330:I375,$R$330:$R$375))/$U$10","v":{"$error":"#REF!"}},{"$f":"(SUMPRODUCT(J5:J50,$R$5:$R$50)+SUMPRODUCT(J330:J375,$R$330:$R$375))/$U$10","v":{"$error":"#REF!"}},{"$f":"(SUMPRODUCT(K5:K50,$R$5:$R$50)+SUMPRODUCT(K330:K375,$R$330:$R$375))/$U$10","v":{"$error":"#REF!"}},{"$f":"(SUMPRODUCT(L5:L50,$R$5:$R$50)+SUMPRODUCT(L330:L375,$R$330:$R$375))/$U$10","v":{"$error":"#REF!"}},0.2]
["6_20_M",20,6,"M",0.772189566490021,0.158603036957571,1000,841.56634036478,0.0187754151748961,0.414846176432667,0.0132965292817587,0.046838988981006,1206,0.000633456382709003,7.4606040606312,"6_20_M",{"$f":"VLOOKUP(P11,#REF!,11,FALSE)","v":{"$error":"#REF!"}},{"$error":"#REF!"}]
["7_20_M",20,7,"M",0.762409832754646,0.158604409903963,1000,841.309806759425,0.018679853929681,0.412436858566797,0.0116267658846695,0.046407115528342,1191,0.0006325024181113,7.43485493428399,"7_20_M",{"$f":"VLOOKUP(P12,#REF!,11,FALSE)","v":{"$error":"#REF!"}},{"$error":"#REF!"}]
["8_20_M",20,8,"M",0.752376652126118,0.158605992775902,1000,841.208801029121,0.0175145301062336,0.409022565333455,0.00989907138740076,0.0459616898405468,1176,0.000630537435096424,7.39695359544235,"8_20_M",{"$f":"VLOOKUP(P13,#REF!,11,FALSE)","v":{"$error":"#REF!"}},{"$error":"#REF!"}]
["9_20_M",20,9,"M",0.742077849538038,0.158607718455632,1000,841.277790763546,0.0154467060448583,0.404976157682771,0.00811149863579534,0.0455039201494059,1161,0.000627627449159769,7.34788130585064,"9_20_M",{"$f":"VLOOKUP(P14,#REF!,11,FALSE)","v":{"$error":"#REF!"}},{"$error":"#REF!"}]
["10_20_M",20,10,"M",0.731491998507553,0.158609532286572,1000,841.513224999004,0.0122281945327038,0.399988290022234,0.00626166510302569,0.0450358154105675,1146,0.000623655979672657,7.28600785624305,"10_20_M",{"$f":"VLOOKUP(P15,#REF!,11,FALSE)","v":{"$error":"#REF!"}},{"$error":"#REF!"}]
["11_20_M",20,11,"M",0.720143475569799,0.158611396239966,1000,841.485343003478,0.0101884111301191,0.395453866219905,0.00433642441727353,0.0445277239817334,1130,0.000620765756596568,7.2340786951575,"11_20_M",{"$f":"VLOOKUP(P16,#REF!,11,FALSE)","v":{"$error":"#REF!"}},{"$error":"#REF!"}]
["12_20_M",20,12,"M",0.708026374839782,0.158613290304417,1000,841.200009713506,0.00943736683971756,0.391627348273596,0.00233605472282301,0.0439974472162305,1113,0.000619031020763893,7.19296446035435,"12_20_M",{"$f":"VLOOKUP(P17,#REF!,11,FALSE)","v":{"$error":"#REF!"}},{"$error":"#REF!"}]
["13_20_M",20,13,"M",0.69603709541288,0.158615211663285,1000,841.526962818305,0.00517111646627731,0.385320565657258,0.000276682795008927,0.0434660132689504,1097,0.000613979869651718,7.11496156317857,"13_20_M",{"$f":"VLOOKUP(P18,#REF!,11,FALSE)","v":{"$error":"#REF!"}},{"$error":"#REF!"}]
["14_20_M",20,14,"M",0.683223350605007,0.158617165359837,1000,841.612164879938,0.00199317700339209,0.379556472388255,-0.00184099453395791,0.042846956109451,1080,0.000609909943375773,7.0458217476693,"14_20_M",{"$f":"VLOOKUP(P19,#REF!,11,FALSE)","v":{"$error":"#REF!"}},{"$error":"#REF!"}]
["15_20_M",20,15,"M",0.669601778925096,0.158619187912114,1000,841.455746690129,-0.0001036683576854,0.37436829165845,-0.00403909005225418,0.042214338188866,1062,0.000606863531197473,6.98571075893113,"15_20_M",{"$f":"VLOOKUP(P20,#REF!,11,FALSE)","v":{"$error":"#REF!"}},{"$error":"#REF!"}]
["16_20_M",20,16,"M",0.655594139586265,0.158621331225516,1000,841.492967999509,-0.00344890247608687,0.367932713396065,-0.00631041766101323,0.0415678695263147,1044,0.000602615249047498,6.91094319590117,"16_20_M",{"$f":"VLOOKUP(P21,#REF!,11,FALSE)","v":{"$error":"#REF!"}},{"$error":"#REF!"}]
["17_20_M",20,17,"M",0.640750931549061,0.158623637082234,1000,841.295730120376,-0.0057268553588681,0.362107338991493,-0.00866377902952959,0.0408556711768495,1025,0.000599375024171234,6.84478420338599,"17_20_M",{"$f":"VLOOKUP(P22,#REF!,11,FALSE)","v":{"$error":"#REF!"}},{"$error":"#REF!"}]
["18_20_M",20,18,"M",0.612436403066042,0.158626171351796,1000,841.227808544203,0.00494690467234765,0.37745758921394,-0.0135153567931292,0.0400227196277387,1236,0.000606090160521444,6.99844242276704,"18_20_M",{"$f":"VLOOKUP(P23,#REF!,11,FALSE)","v":{"$error":"#REF!"}},{"$error":"#REF!"}]
["19_20_M",20,19,"M",0.593761841878665,0.158628982463107,1000,841.602922634019,0.00103911394151317,0.372053601701689,-0.0163771748239433,0.0390762267736167,1223,0.000601654821613012,6.93274074573751,"19_20_M",{"$f":"VLOOKUP(P24,#REF!,11,FALSE)","v":{"$error":"#REF!"}},{"$error":"#REF!"}]
["20_20_M",20,20,"M",0.57344233791557,0.158632132527018,1000,841.273921980707,0.000794216273813173,0.368917096848441,-0.0193605099260926,0.0380096088758744,1208,0.000600632040669947,6.90241235555274,"20_20_M",{"$f":"VLOOKUP(P25,#REF!,11,FALSE)","v":{"$error":"#REF!"}},{"$error":"#REF!"}]
["21_20_M",20,21,"M",0.552654117107609,0.158635671198906,1000,841.53246192365,-0.00272292536641847,0.363392711231492,-0.0224578059759187,0.0368973709688065,1194,0.000596464394747646,6.83710856963317,"21_20_M",{"$f":"VLOOKUP(P26,#REF!,11,FALSE)","v":{"$error":"#REF!"}},{"$error":"#REF!"}]
["22_20_M",20,22,"M",0.53054966605634,0.158639652601526,1000,841.531559190493,-0.00504947357964218,0.358455620312072,-0.0256787940159568,0.0357245856240436,1179,0.000593422451104142,6.78249455831564,"22_20_M",{"$f":"VLOOKUP(P27,#REF!,11,FALSE)","v":{"$error":"#REF!"}},{"$error":"#REF!"}]
["23_20_M",20,23,"M",0.507094330135176,0.158644143408782,1000,841.269920921033,-0.00621855123163947,0.354125203055989,-0.0290241508530273,0.0344364546318205,1163,0.000591498914692675,6.73837285701538,"23_20_M",{"$f":"VLOOKUP(P28,#REF!,11,FALSE)","v":{"$error":"#REF!"}},{"$error":"#REF!"}]
["24_20_M",20,24,"M",0.482629108923785,0.158649196152923,1000,841.19238335976,-0.00833613859556972,0.349031375418076,-0.0324971691930252,0.0331018057205842,1147,0.000588498428266527,6.68145933002979,"24_20_M",{"$f":"VLOOKUP(P29,#REF!,11,FALSE)","v":{"$error":"#REF!"}},{"$error":"#REF!"}]
["25_20_M",20,25,"M",0.457087667596805,0.158654866368846,1000,841.283344614108,-0.0117908568539044,0.342909470750232,-0.0361013244556823,0.0317086678435664,1131,0.000584347922039273,6.61059949908994,"25_20_M",{"$f":"VLOOKUP(P30,#REF!,11,FALSE)","v":{"$error":"#REF!"}},{"$error":"#REF!"}]
["26_20_M",20,26,"M",0.430406024469484,0.158661215609511,1000,841.562849510486,-0.0163292239579332,0.335828343997272,-0.039842470708145,0.0302395532648939,1115,0.000579048167727604,6.52600656712466,"26_20_M",{"$f":"VLOOKUP(P31,#REF!,11,FALSE)","v":{"$error":"#REF!"}},{"$error":"#REF!"}]
["27_20_M",20,27,"M",0.401833212768601,0.158668300197009,1000,841.16934538009,-0.0176439775890827,0.330691939365424,-0.0437126985710665,0.0286634700537276,1097,0.000576941615939491,6.47346418942799,"27_20_M",{"$f":"VLOOKUP(P32,#REF!,11,FALSE)","v":{"$error":"#REF!"}},{"$error":"#REF!"}]
["28_20_M",20,28,"M",0.372353927799252,0.158676191573222,1000,841.401708740981,-0.0223577146619171,0.322987149937964,-0.0477305222345475,0.0270335094049337,1080,0.000571401506280715,6.38293829444576,"28_20_M",{"$f":"VLOOKUP(P33,#REF!,11,FALSE)","v":{"$error":"#REF!"}},{"$error":"#REF!"}]
["29_20_M",20,29,"M",0.341226071098365,0.158684961144038,1000,841.4157023765,-0.0262328839031994,0.315681853052274,-0.0518872504477053,0.0253055449249863,1062,0.000566692093823658,6.29939660593132,"29_20_M",{"$f":"VLOOKUP(P34,#REF!,11,FALSE)","v":{"$error":"#REF!"}},{"$error":"#REF!"}]
["30_20_M",20,30,"M",0.308400073058372,0.158694670965794,1000,841.203196393695,-0.0291720195271196,0.30883105338418,-0.0561822325396711,0.0234658504516294,1043,0.000562901814596294,6.22356186877683,"30_20_M",{"$f":"VLOOKUP(P35,#REF!,11,FALSE)","v":{"$error":"#REF!"}},{"$error":"#REF!"}]
["31_20_M",20,31,"M",0.274121560942422,0.158705398697322,1000,841.189112933632,-0.0334810076365048,0.300794245855687,-0.0606269421852964,0.0216125335743914,1024,0.000557768231935434,6.13142918220913,"31_20_M",{"$f":"VLOOKUP(P36,#REF!,11,FALSE)","v":{"$error":"#REF!"}},{"$error":"#REF!"}]
["32_20_M",20,32,"M",0.238305931501268,0.158717216172677,1000,841.382224082946,-0.0389936485233191,0.291549336889418,-0.0652257729465441,0.0195865557501641,1005,0.000551316611810515,6.02349133177146,"32_20_M",{"$f":"VLOOKUP(P37,#REF!,11,FALSE)","v":{"$error":"#REF!"}},{"$error":"#REF!"}]
["33_20_M",20,33,"M",0.200610903733165,0.158730215517101,1000,841.398202973603,-0.0440777110155524,0.282216688123996,-0.0699678773105361,0.0174778676728095,985,0.000545344861476791,5.91849043500655,"33_20_M",{"$f":"VLOOKUP(P38,#REF!,11,FALSE)","v":{"$error":"#REF!"}},{"$error":"#REF!"}]
["34_20_M",20,34,"M",0.160972573432762,0.158744481194096,1000,841.20059110552,-0.0481982769283034,0.273436571356799,-0.0748496690204586,0.0152383368811052,964,0.000540291185449735,5.8209460370215,"34_20_M",{"$f":"VLOOKUP(P39,#REF!,11,FALSE)","v":{"$error":"#REF!"}},{"$error":"#REF!"}]
["35_20_M",20,35,"M",0.119571155911378,0.158760106916307,1000,841.230621159788,-0.0539011751185325,0.263357701309424,-0.0798894656493315,0.0128553190393966,943,0.000533618406573275,5.70400944959573,"35_20_M",{"$f":"VLOOKUP(P40,#REF!,11,FALSE)","v":{"$error":"#REF!"}},{"$error":"#REF!"}]
["36_20_M",20,36,"M",0.0760802346967678,0.158777186914179,1000,841.063228226644,-0.058884013280058,0.253385190056729,-0.0850666749092834,0.0103636770270435,921,0.000527705006326214,5.59255318431836,"36_20_M",{"$f":"VLOOKUP(P41,#REF!,11,FALSE)","v":{"$error":"#REF!"}},{"$error":"#REF!"}]
["37_20_M",20,37,"M",0.0306900049279104,0.158795824656193,1000,841.159055284379,-0.0655440724260502,0.241847530806036,-0.090412304611882,0.00777544319247877,899,0.000519945640776105,5.45973598687824,"37_20_M",{"$f":"VLOOKUP(P42,#REF!,11,FALSE)","v":{"$error":"#REF!"}},{"$error":"#REF!"}]
["38_20_M",20,38,"M",0,0.158816119387508,1000,841.083512500038,-0.0716367438080646,0.230583774092264,-0.095892938004324,0.00450293489814855,876,0.00051274060874943,5.33018957898808,"38_20_M",{"$f":"VLOOKUP(P43,#REF!,11,FALSE)","v":{"$error":"#REF!"}},{"$error":"#REF!"}]
["39_20_M",20,39,"M",0,0.158838171142549,1000,841.2376406048,-0.0793261455422737,0.217871975104582,-0.101530705707482,7.67547913478648e-5,853,0.000503802250624299,5.18005513132495,"39_20_M",{"$f":"VLOOKUP(P44,#REF!,11,FALSE)","v":{"$error":"#REF!"}},{"$error":"#REF!"}]
["40_20_M",20,40,"M",0,0.158862098040028,1000,841.231966114078,-0.0866902394967895,0.204860148481777,-0.107297519023573,-0.00448331464365904,829,0.000495259729478694,5.03123777458256,"40_20_M",{"$f":"VLOOKUP(P45,#REF!,11,FALSE)","v":{"$error":"#REF!"}},{"$error":"#REF!"}]
["41_20_M",20,41,"M",0,0.158888023539459,1000,841.092205000464,-0.0937275913238815,0.192075137457407,-0.11318687070339,-0.00924430438129474,804,0.00048698288692981,4.88270384192629,"41_20_M",{"$f":"VLOOKUP(P46,#REF!,11,FALSE)","v":{"$error":"#REF!"}},{"$error":"#REF!"}]
["42_20_M",20,42,"M",0,0.158916104599672,1000,841.218698081761,-0.102531615886794,0.177608976635331,-0.119225087613813,-0.0140769770116023,779,0.000476656613801953,4.71073514320349,"42_20_M",{"$f":"VLOOKUP(P47,#REF!,11,FALSE)","v":{"$error":"#REF!"}},{"$error":"#REF!"}]
["43_20_M",20,43,"M",0,0.158946502174699,1000,841.20374761999,-0.1110415837554,0.164796518412742,-0.125372536540556,-0.0191654637083848,753,0.000466616753770623,4.76670947955069,"43_20_M",{"$f":"VLOOKUP(P48,#REF!,11,FALSE)","v":{"$error":"#REF!"}},{"$error":"#REF!"}]
["44_20_M",20,44,"M",0,0.158979410374648,1000,841.039185167894,-0.119466123790816,0.150045145498456,-0.13161701776621,-0.0243854898755829,726,0.000456747510553954,4.59564046290045,"44_20_M",{"$f":"VLOOKUP(P49,#REF!,11,FALSE)","v":{"$error":"#REF!"}},{"$error":"#REF!"}]
["45_20_M",20,45,"M",0,0.159015058308672,1000,840.77805587791,-0.127876273785737,0.13534616234262,-0.137949390764087,-0.0297690243742208,698,0.000446822020005344,4.42170013476975,"45_20_M",{"$f":"VLOOKUP(P50,#REF!,11,FALSE)","v":{"$error":"#REF!"}},{"$error":"#REF!"}]
["0_15_M",15,0,"M",0.692776906969732,0.158582561523887,1000,841.38997518174,0.126891012034207,0.449363920205386,0.0219461583041901,0.0432144725155806,1017,0.000667473429856671,6.78229122384775,"0_15_M",{"$f":"VLOOKUP(P51,#REF!,11,FALSE)","v":{"$error":"#REF!"}},{"$error":"#REF!"}]
["1_15_M",15,1,"M",0.687357402765112,0.15857572965169,1000,841.537475578099,0.125829057405225,0.447384598721023,0.0209456524598217,0.0430299858634464,1008,0.000665678512442486,6.75941466536333,"1_15_M",{"$f":"VLOOKUP(P52,#REF!,11,FALSE)","v":{"$error":"#REF!"}},{"$error":"#REF!"}]
["2_15_M",15,2,"M",0.681283023292994,0.158572012318717,1000,841.266404001741,0.126695962076549,0.446381579309614,0.0198870249964387,0.0427950350365905,998,0.000665735595158773,6.75265677789261,"2_15_M",{"$f":"VLOOKUP(P53,#REF!,11,FALSE)","v":{"$error":"#REF!"}},{"$error":"#REF!"}]
["3_15_M",15,3,"M",0.675573470226648,0.158570334768343,1000,841.684646471364,0.124045775769141,0.443074832713471,0.0188056899506008,0.0425687509525131,989,0.000662270207537301,6.71278150562413,"3_15_M",{"$f":"VLOOKUP(P54,#REF!,11,FALSE)","v":{"$error":"#REF!"}},{"$error":"#REF!"}]
["4_15_M",15,4,"M",0.669196149792373,0.158569898802136,1000,841.684974713338,0.123334737657666,0.440805111602843,0.0176649739969827,0.042300840779891,979,0.000660666677117102,6.68907545503791,"4_15_M",{"$f":"VLOOKUP(P55,#REF!,11,FALSE)","v":{"$error":"#REF!"}},{"$error":"#REF!"}]
["5_15_M",15,5,"M",0.662155210014864,0.158570161391049,1000,841.280302997435,0.12444210209493,0.439584604561454,0.0164650187296808,0.0419938524954296,968,0.000660846810117415,6.68074036556358,"5_15_M",{"$f":"VLOOKUP(P56,#REF!,11,FALSE)","v":{"$error":"#REF!"}},{"$error":"#REF!"}]
["6_15_M",15,6,"M",0.655443675812098,0.158570808500751,1000,841.570052691408,0.122033089864317,0.435964501960003,0.0152384071948351,0.0417009453945899,958,0.000657480921138884,6.63909512647273,"6_15_M",{"$f":"VLOOKUP(P57,#REF!,11,FALSE)","v":{"$error":"#REF!"}},{"$error":"#REF!"}]
["7_15_M",15,7,"M",0.648046468358454,0.158571726736284,1000,841.456438520515,0.121500964709258,0.433414367657165,0.0139513017805833,0.041366696182289,947,0.000655916022676373,6.61299336894673,"7_15_M",{"$f":"VLOOKUP(P58,#REF!,11,FALSE)","v":{"$error":"#REF!"}},{"$error":"#REF!"}]
["8_15_M",15,8,"M",0.640453729093217,0.158572840157541,1000,841.49366304398,0.119978387542674,0.430075310835185,0.0126188155925959,0.0410170926269493,936,0.000653354987079011,6.57673187924025,"8_15_M",{"$f":"VLOOKUP(P59,#REF!,11,FALSE)","v":{"$error":"#REF!"}},{"$error":"#REF!"}]
["9_15_M",15,9,"M",0.632651452629273,0.158574079130619,1000,841.687221191604,0.117643434740639,0.426068028465309,0.011239506794362,0.0406637747964824,925,0.000649898402275229,6.53135535486391,"9_15_M",{"$f":"VLOOKUP(P60,#REF!,11,FALSE)","v":{"$error":"#REF!"}},{"$error":"#REF!"}]
["10_15_M",15,10,"M",0.624140671907476,0.158575383708981,1000,841.48854335159,0.117103798380259,0.423057894398639,0.00979790228139042,0.0402432861701834,913,0.000648189504859175,6.50080483048722,"10_15_M",{"$f":"VLOOKUP(P61,#REF!,11,FALSE)","v":{"$error":"#REF!"}},{"$error":"#REF!"}]
["11_15_M",15,11,"M",0.615399730332226,0.158576707306382,1000,841.452981619167,0.11555974970985,0.419202285731877,0.0083071308802214,0.039803193983665,901,0.000645464215257813,6.45977223631644,"11_15_M",{"$f":"VLOOKUP(P62,#REF!,11,FALSE)","v":{"$error":"#REF!"}},{"$error":"#REF!"}]
["12_15_M",15,12,"M",0.606415212655071,0.158578021199996,1000,841.588104119747,0.113034965152756,0.414551222434645,0.00676561012386054,0.0393732004783613,889,0.000641706600181128,6.40814259600868,"12_15_M",{"$f":"VLOOKUP(P63,#REF!,11,FALSE)","v":{"$error":"#REF!"}},{"$error":"#REF!"}]
["13_15_M",15,13,"M",0.596710220822611,0.15857931168518,1000,841.349080373971,0.112256007567453,0.41082055256453,0.00515693263783184,0.0388628940964126,876,0.000639646805631801,6.37091258529776,"13_15_M",{"$f":"VLOOKUP(P64,#REF!,11,FALSE)","v":{"$error":"#REF!"}},{"$error":"#REF!"}]
["14_15_M",15,14,"M",0.586704754039222,0.15858056868923,1000,841.279790260248,0.110364218819714,0.406098866584762,0.00351695198804725,0.0383512938373454,863,0.000636467032097272,6.32199030364154,"14_15_M",{"$f":"VLOOKUP(P65,#REF!,11,FALSE)","v":{"$error":"#REF!"}},{"$error":"#REF!"}]
["15_15_M",15,15,"M",0.576414499856204,0.158581814198289,1000,841.397698544451,0.107478241300316,0.400598575687758,0.00182112467093326,0.0378374415874691,850,0.000632215821334618,6.26206721297695,"15_15_M",{"$f":"VLOOKUP(P66,#REF!,11,FALSE)","v":{"$error":"#REF!"}},{"$error":"#REF!"}]
["16_15_M",15,16,"M",0.565816185107758,0.158583086081562,1000,841.697490736969,0.10343931051886,0.394126929778382,6.72846016728984e-5,0.0372991338393271,837,0.000626786730195487,6.18990485059163,"16_15_M",{"$f":"VLOOKUP(P67,#REF!,11,FALSE)","v":{"$error":"#REF!"}},{"$error":"#REF!"}]
["17_15_M",15,17,"M",0.554440479123434,0.15858441012667,1000,841.638168287945,0.100991472296063,0.388474818167234,-0.00175448753578349,0.0367047881758968,823,0.000622942441113329,6.13050255037004,"17_15_M",{"$f":"VLOOKUP(P68,#REF!,11,FALSE)","v":{"$error":"#REF!"}},{"$error":"#REF!"}]
["18_15_M",15,18,"M",0.532770140631201,0.158585839008495,1000,841.520709747379,0.109427747555779,0.402235370137529,-0.00545840734960707,0.0357140017588358,982,0.000630527164651639,6.25859027629685,"18_15_M",{"$f":"VLOOKUP(P69,#REF!,11,FALSE)","v":{"$error":"#REF!"}},{"$error":"#REF!"}]
[{"$f":"P70","v":"19_15_M"},15,19,"M",0.517831280162419,0.158587406097086,1000,841.179145694007,0.109442057635968,0.399635238523616,-0.00767584062874345,0.0349441792179112,971,0.000629782621285411,6.2379974835484,{"$f":"C70&\"_\"&B70&\"_\"&D70","v":"19_15_M"},{"$f":"VLOOKUP(P70,#REF!,11,FALSE)","v":{"$error":"#REF!"}},{"$f":"Q70/$Q$1","v":{"$error":"#REF!"}}]
["20_15_M",15,20,"M",0.502679723448029,0.15858916017125,1000,841.519968258314,0.106115899192093,0.394736606032682,-0.00997564556455299,0.0341623517811454,961,0.000625533813268345,6.18443349396517,"20_15_M",{"$f":"VLOOKUP(P71,#REF!,11,FALSE)","v":{"$error":"#REF!"}},{"$error":"#REF!"}]
["21_15_M",15,21,"M",0.486421166669062,0.15859113425567,1000,841.474143253662,0.104483240880794,0.390775118185034,-0.0123719068137618,0.0333273515788252,950,0.000623007060200395,6.14557203326948,"21_15_M",{"$f":"VLOOKUP(P72,#REF!,11,FALSE)","v":{"$error":"#REF!"}},{"$error":"#REF!"}]
["22_15_M",15,22,"M",0.469442394229655,0.15859336501001,1000,841.578746939077,0.102056560512912,0.386184864371114,-0.014862560975813,0.0324208946705191,939,0.000619610476911135,6.09778319926118,"22_15_M",{"$f":"VLOOKUP(P73,#REF!,11,FALSE)","v":{"$error":"#REF!"}},{"$error":"#REF!"}]
["23_15_M",15,23,"M",0.451302206196524,0.158595902874529,1000,841.309635499342,0.101369322259257,0.382695624528259,-0.0174526072770232,0.0314437814485899,927,0.000617952354011582,6.06488364246839,"23_15_M",{"$f":"VLOOKUP(P74,#REF!,11,FALSE)","v":{"$error":"#REF!"}},{"$error":"#REF!"}]
["24_15_M",15,24,"M",0.432374330526913,0.158598781292138,1000,841.216128679689,0.0995941115808651,0.37830364385299,-0.0201423617212291,0.0304030916794348,915,0.000615148595477696,6.02030372348954,"24_15_M",{"$f":"VLOOKUP(P75,#REF!,11,FALSE)","v":{"$error":"#REF!"}},{"$error":"#REF!"}]
["25_15_M",15,25,"M",0.41259893265196,0.158602036713553,1000,841.277589378979,0.0968915711238552,0.373046207226323,-0.0229351967643752,0.029278858473979,903,0.00061136560370736,5.96551917796076,"25_15_M",{"$f":"VLOOKUP(P76,#REF!,11,FALSE)","v":{"$error":"#REF!"}},{"$error":"#REF!"}]
["26_15_M",15,26,"M",0.391929870406742,0.158605709964925,1000,841.517111368975,0.0930794044952228,0.366757340097448,-0.0258355329760891,0.0281160133199516,891,0.000606426557232632,5.89883883645671,"26_15_M",{"$f":"VLOOKUP(P77,#REF!,11,FALSE)","v":{"$error":"#REF!"}},{"$error":"#REF!"}]
["27_15_M",15,27,"M",0.369949514122437,0.158609834804775,1000,841.397599375858,0.090975269004084,0.361528742503774,-0.0288426986862867,0.0268596995981213,878,0.000603198729079374,5.8465745869206,"27_15_M",{"$f":"VLOOKUP(P78,#REF!,11,FALSE)","v":{"$error":"#REF!"}},{"$error":"#REF!"}]
["28_15_M",15,28,"M",0.346985529917482,0.158614459569127,1000,841.462193253728,0.0877565718410697,0.35467114368264,-0.0319616284509991,0.0255474104033143,865,0.000598772929156469,5.95967487063282,"28_15_M",{"$f":"VLOOKUP(P79,#REF!,11,FALSE)","v":{"$error":"#REF!"}},{"$error":"#REF!"}]
["29_15_M",15,29,"M",0.322638831783857,0.158619632255282,1000,841.189352011282,0.08590125956868,0.349305144057888,-0.0351893568707218,0.0241447201060412,851,0.000595798189236946,5.9076217933904,"29_15_M",{"$f":"VLOOKUP(P80,#REF!,11,FALSE)","v":{"$error":"#REF!"}},{"$error":"#REF!"}]
["30_15_M",15,30,"M",0.29752504550327,0.158625390974801,1000,841.628345591915,0.0804472174797294,0.341313241869397,-0.0385424488556859,0.0226970525364698,838,0.000588937827586388,5.81895991301178,"30_15_M",{"$f":"VLOOKUP(P81,#REF!,11,FALSE)","v":{"$error":"#REF!"}},{"$error":"#REF!"}]
["31_15_M",15,31,"M",0.270607054022697,0.15863178866389,1000,841.197942621248,0.0789269009906625,0.33588510468213,-0.0419975731991674,0.0211419696318163,823,0.00058631734806364,5.7669882923535,"31_15_M",{"$f":"VLOOKUP(P82,#REF!,11,FALSE)","v":{"$error":"#REF!"}},{"$error":"#REF!"}]
["32_15_M",15,32,"M",0.24279202033098,0.15863887000348,1000,841.513988688177,0.0735847757802925,0.327707409409906,-0.0455862477275368,0.019588688577464,809,0.000579533367983725,5.67595946266202,"32_15_M",{"$f":"VLOOKUP(P83,#REF!,11,FALSE)","v":{"$error":"#REF!"}},{"$error":"#REF!"}]
["33_15_M",15,33,"M",0.213393008675761,0.158646701214667,1000,841.499279978396,0.0696305176942019,0.320266898000191,-0.0492875870768629,0.0179136440711992,794,0.000574197934841499,5.59639771660246,"33_15_M",{"$f":"VLOOKUP(P84,#REF!,11,FALSE)","v":{"$error":"#REF!"}},{"$error":"#REF!"}]
["34_15_M",15,34,"M",0.182374567577089,0.158655340829145,1000,841.168765532377,0.0668452309760328,0.313362611804753,-0.0531000547073938,0.0160856238807529,778,0.000570201135111349,5.52695844294478,"34_15_M",{"$f":"VLOOKUP(P85,#REF!,11,FALSE)","v":{"$error":"#REF!"}},{"$error":"#REF!"}]
["35_15_M",15,35,"M",0.150199963572201,0.158664854932558,1000,841.571589461954,0.0603299753834334,0.30354820899273,-0.0570573391783387,0.0142154494387051,763,0.000562037025406318,5.41831561073284,"35_15_M",{"$f":"VLOOKUP(P86,#REF!,11,FALSE)","v":{"$error":"#REF!"}},{"$error":"#REF!"}]
["36_15_M",15,36,"M",0.116031872029838,0.158675308894217,1000,841.151880175293,0.0575158404122848,0.296257849826397,-0.0611063057946633,0.0121954378780235,746,0.000557968887578505,5.34462382776612,"36_15_M",{"$f":"VLOOKUP(P87,#REF!,11,FALSE)","v":{"$error":"#REF!"}},{"$error":"#REF!"}]
["37_15_M",15,37,"M",0.0805668584497045,0.158686780013869,1000,841.500079374744,0.0505852804510949,0.285700868824615,-0.0653153904735838,0.0100876272642048,730,0.000549298581768152,5.22774509377191,"37_15_M",{"$f":"VLOOKUP(P88,#REF!,11,FALSE)","v":{"$error":"#REF!"}},{"$error":"#REF!"}]
["38_15_M",15,38,"M",0.043225401602305,0.158699339072208,1000,841.53990863188,0.0449919582211847,0.276070672324565,-0.0696336277933792,0.00791398419924513,713,0.000542047335589522,5.12166280714877,"38_15_M",{"$f":"VLOOKUP(P89,#REF!,11,FALSE)","v":{"$error":"#REF!"}},{"$error":"#REF!"}]
["39_15_M",15,39,"M",0.00396357540297535,0.158713053915422,1000,841.292170584353,0.0403494857342382,0.266607180190225,-0.0740573577558983,0.00558456486420182,695,0.000535936380913648,5.02341965210997,"39_15_M",{"$f":"VLOOKUP(P90,#REF!,11,FALSE)","v":{"$error":"#REF!"}},{"$error":"#REF!"}]
["40_15_M",15,40,"M",0,0.158728001101207,1000,841.293008970984,0.0342844831605718,0.255967304117168,-0.0786107722039914,0.00205392049073603,677,0.000528112045262695,4.90802672352644,"40_15_M",{"$f":"VLOOKUP(P91,#REF!,11,FALSE)","v":{"$error":"#REF!"}},{"$error":"#REF!"}]
["41_15_M",15,41,"M",0,0.158744248296924,1000,841.042264611869,0.0289531584477044,0.245646786482339,-0.0832641737145534,-0.00153800155544286,658,0.000521159034073448,4.79801067185499,"41_15_M",{"$f":"VLOOKUP(P92,#REF!,11,FALSE)","v":{"$error":"#REF!"}},{"$error":"#REF!"}]
["42_15_M",15,42,"M",0,0.158761880718514,1000,841.029252464197,0.0222315482319788,0.234276764592321,-0.0880437308429402,-0.00510374012186259,639,0.000512539703867852,4.67099596310976,"42_15_M",{"$f":"VLOOKUP(P93,#REF!,11,FALSE)","v":{"$error":"#REF!"}},{"$error":"#REF!"}]
["43_15_M",15,43,"M",0,0.158780963968538,1000,841.275198789165,0.0138659408984799,0.221241519239517,-0.0929505039853533,-0.00909496693227007,620,0.000501939218638615,4.52414605124408,"43_15_M",{"$f":"VLOOKUP(P94,#REF!,11,FALSE)","v":{"$error":"#REF!"}},{"$error":"#REF!"}]
["44_15_M",15,44,"M",0,0.158801575124107,1000,841.289323613063,0.00606526968278102,0.208456884644143,-0.0979437617036795,-0.0132939294692094,600,0.000491981846688365,4.38066461543721,"44_15_M",{"$f":"VLOOKUP(P95,#REF!,11,FALSE)","v":{"$error":"#REF!"}},{"$error":"#REF!"}]
["45_15_M",15,45,"M",0,0.158823810130765,1000,841.066458568216,-0.00093639526309044,0.196258416100615,-0.103013951064683,-0.017640911273537,579,0.000482948352792681,4.24289403908479,"45_15_M",{"$f":"VLOOKUP(P96,#REF!,11,FALSE)","v":{"$error":"#REF!"}},{"$error":"#REF!"}]
["46_15_M",15,46,"M",0,0.158847782655382,1000,841.110911988482,-0.00970289768312179,0.182490740544147,-0.108195722857183,-0.0221512346672739,558,0.000471736824861301,4.08358366887364,"46_15_M",{"$f":"VLOOKUP(P97,#REF!,11,FALSE)","v":{"$error":"#REF!"}},{"$error":"#REF!"}]
["47_15_M",15,47,"M",0,0.158873630151003,1000,840.917220420047,-0.0179133998355969,0.168684581773564,-0.113437631744491,-0.0267485776042506,536,0.000461242208699486,3.92776779896177,"47_15_M",{"$f":"VLOOKUP(P98,#REF!,11,FALSE)","v":{"$error":"#REF!"}},{"$error":"#REF!"}]
["48_15_M",15,48,"M",0,0.158901517562747,1000,841.05563214269,-0.0282163744015817,0.152418030124861,-0.118781156393305,-0.0315519707644536,514,0.000447957014091841,3.74605445778346,"48_15_M",{"$f":"VLOOKUP(P99,#REF!,11,FALSE)","v":{"$error":"#REF!"}},{"$error":"#REF!"}]
["49_15_M",15,49,"M",0,0.158931659774615,1000,840.974543033179,-0.0380430130432484,0.136714517964459,-0.124168701834346,-0.0364899169138094,491,0.000435265898709249,3.56695740327367,"49_15_M",{"$f":"VLOOKUP(P100,#REF!,11,FALSE)","v":{"$error":"#REF!"}},{"$error":"#REF!"}]
["50_15_M",15,50,"M",0,0.158964311347835,1000,841.181199911377,-0.0498238013240288,0.119242399674363,-0.129643362297116,-0.0415753231022259,468,0.00041992463979941,3.3630657225044,"50_15_M",{"$f":"VLOOKUP(P101,#REF!,11,FALSE)","v":{"$error":"#REF!"}},{"$error":"#REF!"}]
["0_10_M",10,0,"M",0.52133699085721,0.158845637888762,1000,841.218997682912,0.100399739759681,0.363415032079444,0.0201118099636384,0.0350501500601216,697,0.000618407612040355,5.00415787908061,"0_10_M",{"$f":"VLOOKUP(P102,#REF!,11,FALSE)","v":{"$error":"#REF!"}},{"$error":"#REF!"}]
["1_10_M",10,1,"M",0.517692884654368,0.158836404966948,1000,841.348436753263,0.099631892556001,0.361590093157013,0.0194353710406112,0.0348920848574312,691,0.000616620463173571,4.98756485796669,"1_10_M",{"$f":"VLOOKUP(P103,#REF!,11,FALSE)","v":{"$error":"#REF!"}},{"$error":"#REF!"}]
["2_10_M",10,2,"M",0.513417753820211,0.158831111693902,1000,840.828904159469,0.101521999682152,0.361464434356007,0.0187109289301014,0.0346895826746606,684,0.000617846142545852,4.99149325418077,"2_10_M",{"$f":"VLOOKUP(P104,#REF!,11,FALSE)","v":{"$error":"#REF!"}},{"$error":"#REF!"}]
["3_10_M",10,3,"M",0.509583384776006,0.158828417176835,1000,841.216374545959,0.0996442331870279,0.35879566080016,0.0179787552761116,0.0344989789594778,678,0.000614599270770694,4.96372370690674,"3_10_M",{"$f":"VLOOKUP(P105,#REF!,11,FALSE)","v":{"$error":"#REF!"}},{"$error":"#REF!"}]
["4_10_M",10,4,"M",0.505115087895949,0.158827314477821,1000,840.960329526959,0.100120901207602,0.357417302528718,0.0171980425374134,0.0342750909065485,671,0.000614113143491948,4.95440731718025,"4_10_M",{"$f":"VLOOKUP(P106,#REF!,11,FALSE)","v":{"$error":"#REF!"}},{"$error":"#REF!"}]
["5_10_M",10,5,"M",0.500540010876233,0.158827110476611,1000,840.835718576165,0.100113096556226,0.355685055242555,0.0163883840809208,0.0340424466442946,664,0.000612942913858916,4.93993244886659,"5_10_M",{"$f":"VLOOKUP(P107,#REF!,11,FALSE)","v":{"$error":"#REF!"}},{"$error":"#REF!"}]
["6_10_M",10,6,"M",0.495850808933714,0.158827403548979,1000,840.846599363534,0.0994445095705233,0.353412241086869,0.0155490092988043,0.0337988001840726,657,0.000610925470399111,4.91890949831617,"6_10_M",{"$f":"VLOOKUP(P108,#REF!,11,FALSE)","v":{"$error":"#REF!"}},{"$error":"#REF!"}]
["7_10_M",10,7,"M",0.491038598893441,0.158828060394794,1000,840.996653123423,0.0980217181624763,0.35048527865995,0.0146790734919768,0.0335453686881229,650,0.000608005336621055,4.89088807277111,"7_10_M",{"$f":"VLOOKUP(P109,#REF!,11,FALSE)","v":{"$error":"#REF!"}},{"$error":"#REF!"}]
["8_10_M",10,8,"M",0.486094480390931,0.158828994199413,1000,841.289941277744,0.0958622562441755,0.346919677266145,0.0137776161395458,0.0332807160659768,643,0.000604146207739311,4.85558165899934,"8_10_M",{"$f":"VLOOKUP(P110,#REF!,11,FALSE)","v":{"$error":"#REF!"}},{"$error":"#REF!"}]
["9_10_M",10,9,"M",0.480491964478136,0.158830117481066,1000,840.94866317193,0.0963656315526862,0.34504530028724,0.0128276413344146,0.0329741898348516,635,0.000603320655841943,4.84086861582276,"9_10_M",{"$f":"VLOOKUP(P111,#REF!,11,FALSE)","v":{"$error":"#REF!"}},{"$error":"#REF!"}]
["10_10_M",10,10,"M",0.475259359643814,0.158831348934587,1000,841.536191722151,0.0928207309798106,0.340361503760201,0.0118606383552025,0.0326858443482023,628,0.000597659065160468,4.79172164405565,"10_10_M",{"$f":"VLOOKUP(P112,#REF!,11,FALSE)","v":{"$error":"#REF!"}},{"$error":"#REF!"}]
["11_10_M",10,11,"M",0.469359698008462,0.158832616332553,1000,841.503992296582,0.0917385117496868,0.337164679359932,0.0108435213024082,0.0323547623890816,620,0.000594844987536195,4.76164668207172,"11_10_M",{"$f":"VLOOKUP(P113,#REF!,11,FALSE)","v":{"$error":"#REF!"}},{"$error":"#REF!"}]
["12_10_M",10,12,"M",0.462792736874268,0.158833871569106,1000,840.84550962511,0.0931696149982864,0.335513452881306,0.00977731885899543,0.0319784693557347,611,0.000594951200936452,4.75111176043055,"12_10_M",{"$f":"VLOOKUP(P114,#REF!,11,FALSE)","v":{"$error":"#REF!"}},{"$error":"#REF!"}]
["13_10_M",10,13,"M",0.456571112277051,0.158835082583285,1000,841.133892499825,0.0904642890317906,0.330932139770652,0.00868586378544995,0.0316312812112149,603,0.000590110449589124,4.7052571923582,"13_10_M",{"$f":"VLOOKUP(P115,#REF!,11,FALSE)","v":{"$error":"#REF!"}},{"$error":"#REF!"}]
["14_10_M",10,14,"M",0.449639383538431,0.158836215263989,1000,840.807174907264,0.0901970701431793,0.327864433763752,0.00756659157230572,0.0312423890975811,594,0.000588123308928627,4.67832370159823,"14_10_M",{"$f":"VLOOKUP(P116,#REF!,11,FALSE)","v":{"$error":"#REF!"}},{"$error":"#REF!"}]
["15_10_M",10,15,"M",0.443006385278627,0.15883728174713,1000,841.427798827689,0.0859569385821643,0.322043798291157,0.00642299881912173,0.0308861899694447,586,0.00058127790608319,4.61700292710877,"15_10_M",{"$f":"VLOOKUP(P117,#REF!,11,FALSE)","v":{"$error":"#REF!"}},{"$error":"#REF!"}]
["16_10_M",10,16,"M",0.435679745951786,0.158838315602658,1000,841.453158107231,0.0840177912296057,0.317592736168163,0.0052280302031517,0.0304728645652238,577,0.0005771277358611,4.57339183366387,"16_10_M",{"$f":"VLOOKUP(P118,#REF!,11,FALSE)","v":{"$error":"#REF!"}},{"$error":"#REF!"}]
["17_10_M",10,17,"M",0.427659846405522,0.158839331765974,1000,840.883857690972,0.0843558997117657,0.314448009053418,0.00398287825537405,0.0300336313872916,567,0.000575713720019067,4.54762833910106,"17_10_M",{"$f":"VLOOKUP(P119,#REF!,11,FALSE)","v":{"$error":"#REF!"}},{"$error":"#REF!"}]
["18_10_M",10,18,"M",0.413392713762177,0.158840385178676,1000,841.331423842749,0.0872371430227563,0.324087734564838,0.00149411926972354,0.029122814512314,674,0.000580477002504363,4.61593777055635,"18_10_M",{"$f":"VLOOKUP(P120,#REF!,11,FALSE)","v":{"$error":"#REF!"}},{"$error":"#REF!"}]
["19_10_M",10,19,"M",0.403427688987415,0.158841503187576,1000,841.250234408447,0.0863393309209414,0.321147723061339,-9.1971574641885e-6,0.0285848888843919,667,0.0005782804823421,4.59178494304069,"19_10_M",{"$f":"VLOOKUP(P121,#REF!,11,FALSE)","v":{"$error":"#REF!"}},{"$error":"#REF!"}]
["20_10_M",10,20,"M",0.393022686233109,0.158842734831818,1000,841.293733726977,0.0849835029132397,0.317951521397419,-0.00157213201462491,0.0280190242042702,660,0.00057540785688415,4.56242431697291,"20_10_M",{"$f":"VLOOKUP(P122,#REF!,11,FALSE)","v":{"$error":"#REF!"}},{"$error":"#REF!"}]
["21_10_M",10,21,"M",0.382158321886264,0.158844107468251,1000,841.49759537606,0.0828020303990472,0.314024765981615,-0.00319783718225583,0.0274398765358569,653,0.000571526190307512,4.52532333209775,"21_10_M",{"$f":"VLOOKUP(P123,#REF!,11,FALSE)","v":{"$error":"#REF!"}},{"$error":"#REF!"}]
["22_10_M",10,22,"M",0.37036812558823,0.158845652127551,1000,841.088585887373,0.083003008130458,0.311567102400609,-0.00489289267789323,0.026802775354852,645,0.000570465196619223,4.50731762641152,"22_10_M",{"$f":"VLOOKUP(P124,#REF!,11,FALSE)","v":{"$error":"#REF!"}},{"$error":"#REF!"}]
["23_10_M",10,23,"M",0.35806658004511,0.158847424211835,1000,840.825171360208,0.0825064319792821,0.308471923097039,-0.00665337702989926,0.0261447520476889,637,0.000568519732889088,4.48241152461211,"23_10_M",{"$f":"VLOOKUP(P125,#REF!,11,FALSE)","v":{"$error":"#REF!"}},{"$error":"#REF!"}]
["24_10_M",10,24,"M",0.345640427615335,0.15884945162107,1000,841.481682943091,0.0782041288429725,0.302690183517412,-0.00848035213945055,0.025468643508986,630,0.000561838904685741,4.42372421901767,"24_10_M",{"$f":"VLOOKUP(P126,#REF!,11,FALSE)","v":{"$error":"#REF!"}},{"$error":"#REF!"}]
["25_10_M",10,25,"M",0.332208591336399,0.158851766346218,1000,841.522117699387,0.0762891015149223,0.298443310060443,-0.0103811103224535,0.0247360808740964,622,0.000558019280335043,4.38424421041417,"25_10_M",{"$f":"VLOOKUP(P127,#REF!,11,FALSE)","v":{"$error":"#REF!"}},{"$error":"#REF!"}]
["26_10_M",10,26,"M",0.317775433941387,0.158854404738985,1000,840.994871569749,0.0765002427376978,0.295457880956507,-0.0123549507147072,0.0239453525376448,613,0.000556788712736842,4.36208333622573,"26_10_M",{"$f":"VLOOKUP(P128,#REF!,11,FALSE)","v":{"$error":"#REF!"}},{"$error":"#REF!"}]
["27_10_M",10,27,"M",0.303093150993952,0.158857389999108,1000,841.378865461976,0.0729336472940391,0.289774116644332,-0.0144044253036422,0.0231207045214193,605,0.000550810421352431,4.30597389664622,"27_10_M",{"$f":"VLOOKUP(P129,#REF!,11,FALSE)","v":{"$error":"#REF!"}},{"$error":"#REF!"}]
["28_10_M",10,28,"M",0.287343478442196,0.15886076482654,1000,841.179861566238,0.071512556442999,0.285408208164646,-0.0165293262297099,0.0222280300429818,596,0.000547463145234187,4.26724469814485,"28_10_M",{"$f":"VLOOKUP(P130,#REF!,11,FALSE)","v":{"$error":"#REF!"}},{"$error":"#REF!"}]
["29_10_M",10,29,"M",0.270877840415393,0.158864569155115,1000,841.148854413807,0.0693801679137973,0.280514547516422,-0.0187330859925105,0.0212855952562254,587,0.000543143918267655,4.22093052910992,"29_10_M",{"$f":"VLOOKUP(P131,#REF!,11,FALSE)","v":{"$error":"#REF!"}},{"$error":"#REF!"}]
["30_10_M",10,30,"M",0.253657708514456,0.158868826942765,1000,841.315955985012,0.0660729087734322,0.274518099477658,-0.0210189578431183,0.020270807866169,578,0.000537362521922781,4.16327639700672,"30_10_M",{"$f":"VLOOKUP(P132,#REF!,11,FALSE)","v":{"$error":"#REF!"}},{"$error":"#REF!"}]
["31_10_M",10,31,"M",0.235295077716815,0.158873581065991,1000,840.915098035123,0.0650414339460426,0.270162523344825,-0.0233805046392871,0.0191972322272299,568,0.000534343529041097,4.12407639080741,"31_10_M",{"$f":"VLOOKUP(P133,#REF!,11,FALSE)","v":{"$error":"#REF!"}},{"$error":"#REF!"}]
[{"$f":"P134","v":"32_10_M"},10,32,"M",0.216420848196108,0.158878862296916,1000,841.451053832354,0.0599475778630567,0.262691822049776,-0.025836926008718,0.0180821368504929,559,0.000526145910622513,4.0476214044762,{"$f":"C134&\"_\"&B134&\"_\"&D134","v":"32_10_M"},{"$f":"VLOOKUP(P134,#REF!,11,FALSE)","v":{"$error":"#REF!"}},{"$f":"Q134/$Q$1","v":{"$error":"#REF!"}}]
["33_10_M",10,33,"M",0.196323621177257,0.158884728149821,1000,841.428220754005,0.0570353260669555,0.256575346381373,-0.0283711713109513,0.0168945256756467,549,0.000520623596117837,3.98880146216667,"33_10_M",{"$f":"VLOOKUP(P135,#REF!,11,FALSE)","v":{"$error":"#REF!"}},{"$error":"#REF!"}]
["34_10_M",10,34,"M",0.174998110379856,0.158891225293526,1000,840.872148357969,0.0559199170044256,0.25152091909396,-0.0309804021854726,0.015618258675769,538,0.000517429522448194,3.94490161997577,"34_10_M",{"$f":"VLOOKUP(P136,#REF!,11,FALSE)","v":{"$error":"#REF!"}},{"$error":"#REF!"}]
["35_10_M",10,35,"M",0.152976045342421,0.158898411447085,1000,841.263128434724,0.0510293593901139,0.24366204860828,-0.0336939828642324,0.0142815369777627,528,0.000509198565280306,3.86518280449657,"35_10_M",{"$f":"VLOOKUP(P137,#REF!,11,FALSE)","v":{"$error":"#REF!"}},{"$error":"#REF!"}]
["36_10_M",10,36,"M",0.12961939121654,0.158906342437576,1000,841.116296304012,0.0478826539160297,0.236835056740989,-0.0364823410699308,0.0128504314751561,517,0.00050325662173269,3.7998214702765,"36_10_M",{"$f":"VLOOKUP(P138,#REF!,11,FALSE)","v":{"$error":"#REF!"}},{"$error":"#REF!"}]
["37_10_M",10,37,"M",0.1051952247105,0.158915090204123,1000,841.184088261689,0.0436863985391633,0.22910101165539,-0.0393726358392978,0.011352686912766,506,0.000495866562008278,3.7231516758952,"37_10_M",{"$f":"VLOOKUP(P139,#REF!,11,FALSE)","v":{"$error":"#REF!"}},{"$error":"#REF!"}]
["38_10_M",10,38,"M",0.079387561121745,0.158924717837693,1000,840.737979367788,0.04129616607402,0.222720291891225,-0.0423346327967063,0.00970655034452219,494,0.00049081702018959,3.66142581424663,"38_10_M",{"$f":"VLOOKUP(P140,#REF!,11,FALSE)","v":{"$error":"#REF!"}},{"$error":"#REF!"}]
["39_10_M",10,39,"M",0.0525681416633403,0.158935285950614,1000,841.263194146718,0.034866401625944,0.213212377153703,-0.0454151905387538,0.00796593379949065,483,0.000480231126630345,3.56020337170177,"39_10_M",{"$f":"VLOOKUP(P141,#REF!,11,FALSE)","v":{"$error":"#REF!"}},{"$error":"#REF!"}]
["40_10_M",10,40,"M",0.0242414552525748,0.158946864980139,1000,841.285176673849,0.0301788901359244,0.20485874776505,-0.0485676269216542,0.00609561972237253,471,0.000471916683892523,3.47321428958193,"40_10_M",{"$f":"VLOOKUP(P142,#REF!,11,FALSE)","v":{"$error":"#REF!"}},{"$error":"#REF!"}]
["41_10_M",10,41,"M",0,0.158959511062339,1000,840.784355547557,0.0272614175949552,0.197488422847576,-0.0517851558102637,0.00396126481136227,458,0.000465965842107349,3.40082369368675,"41_10_M",{"$f":"VLOOKUP(P143,#REF!,11,FALSE)","v":{"$error":"#REF!"}},{"$error":"#REF!"}]
["42_10_M",10,42,"M",0,0.158973310063339,1000,841.288805700835,0.0200399760311127,0.186434553654938,-0.055129153756138,0.00116266371672472,446,0.000454000323047696,3.28581394156955,"42_10_M",{"$f":"VLOOKUP(P144,#REF!,11,FALSE)","v":{"$error":"#REF!"}},{"$error":"#REF!"}]
["43_10_M",10,43,"M",0,0.158988315232386,1000,841.318176346579,0.0145603687698309,0.176748327317127,-0.0585371073702122,-0.00173833328221563,433,0.000444270635167531,3.1847915369271,"43_10_M",{"$f":"VLOOKUP(P145,#REF!,11,FALSE)","v":{"$error":"#REF!"}},{"$error":"#REF!"}]
["44_10_M",10,44,"M",0,0.159004587776906,1000,840.851417268602,0.0105215574696041,0.167932129061662,-0.0620002785162315,-0.00476702856788133,419,0.000436576382276613,3.09561168641689,"44_10_M",{"$f":"VLOOKUP(P146,#REF!,11,FALSE)","v":{"$error":"#REF!"}},{"$error":"#REF!"}]
["45_10_M",10,45,"M",0,0.159022199103134,1000,840.656167131827,0.00530874077414924,0.158139498134648,-0.0655528189222872,-0.00794585825163544,405,0.000427055502014198,2.99266239829377,"45_10_M",{"$f":"VLOOKUP(P147,#REF!,11,FALSE)","v":{"$error":"#REF!"}},{"$error":"#REF!"}]
["46_10_M",10,46,"M",0,0.159041218315266,1000,840.734634676793,-0.00151103935006732,0.146836553621421,-0.0691944818667405,-0.0111971250179936,391,0.000415159099262077,2.87177296062766,"46_10_M",{"$f":"VLOOKUP(P148,#REF!,11,FALSE)","v":{"$error":"#REF!"}},{"$error":"#REF!"}]
["47_10_M",10,47,"M",0,0.159061709753403,1000,841.090816129429,-0.00971495540529987,0.13306076368634,-0.0729258628535906,-0.0145820870711559,377,0.000401043795642805,2.7342437775317,"47_10_M",{"$f":"VLOOKUP(P149,#REF!,11,FALSE)","v":{"$error":"#REF!"}},{"$error":"#REF!"}]
["48_10_M",10,48,"M",0,0.159083733007164,1000,840.978809959235,-0.0164314151253378,0.119973188815916,-0.0766939532670063,-0.0181149630908221,362,0.000388979476841478,2.60883641122799,"48_10_M",{"$f":"VLOOKUP(P150,#REF!,11,FALSE)","v":{"$error":"#REF!"}},{"$error":"#REF!"}]
["49_10_M",10,49,"M",0,0.159107378216479,1000,841.197873665674,-0.0249479648276715,0.105135110340236,-0.0805463724085072,-0.0217069561302509,347,0.000374033559663062,2.4625272113854,"49_10_M",{"$f":"VLOOKUP(P151,#REF!,11,FALSE)","v":{"$error":"#REF!"}},{"$error":"#REF!"}]
["50_10_M",10,50,"M",0,0.159132763198932,1000,840.983275057827,-0.0322106819406301,0.0913483788599787,-0.08442376080493,-0.0254485135924076,331,0.000360818992857376,2.32612456246746,"50_10_M",{"$f":"VLOOKUP(P152,#REF!,11,FALSE)","v":{"$error":"#REF!"}},{"$error":"#REF!"}]
["51_10_M",10,51,"M",0,0.159160043184536,1000,841.040427405106,-0.0408960644710705,0.0763092662260575,-0.0883739682709477,-0.0292619484452144,315,0.000345161831214403,2.17179585851872,"51_10_M",{"$f":"VLOOKUP(P153,#REF!,11,FALSE)","v":{"$error":"#REF!"}},{"$error":"#REF!"}]
["52_10_M",10,52,"M",0,0.159189444479039,1000,840.701319889277,-0.0486291458415105,0.0614646718586551,-0.0923321939453262,-0.0332313174358266,298,0.000330886541012791,2.02500078840698,"52_10_M",{"$f":"VLOOKUP(P154,#REF!,11,FALSE)","v":{"$error":"#REF!"}},{"$error":"#REF!"}]
["53_10_M",10,53,"M",0,0.15922126983377,1000,840.722632033255,-0.0584295229920912,0.0447250109638325,-0.0963512390446245,-0.0372436567475724,281,0.000313116912951896,1.85386813678447,"53_10_M",{"$f":"VLOOKUP(P155,#REF!,11,FALSE)","v":{"$error":"#REF!"}},{"$error":"#REF!"}]
["54_10_M",10,54,"M",0,0.1592559054973,1000,841.048002327512,-0.0698009008961424,0.0286718874904901,-0.100424127823865,-0.0413897487638161,264,0.000292385879411917,1.83686546139667,"54_10_M",{"$f":"VLOOKUP(P156,#REF!,11,FALSE)","v":{"$error":"#REF!"}},{"$error":"#REF!"}]
["55_10_M",10,55,"M",0,0.159293810186712,1000,840.627258298097,-0.077593477610976,0.0144167662747094,-0.104812172232721,-0.0457050305970731,249,0.000277791142928012,1.68972448893324,"55_10_M",{"$f":"VLOOKUP(P157,#REF!,11,FALSE)","v":{"$error":"#REF!"}},{"$error":"#REF!"}]
["0_5_M",5,0,"M",0.295196974615986,0.158410669962467,1000,841.574666616135,0.221753773413371,0.3147322700756,0.0125686797940528,0.0204699761371398,382,0.000802509680660652,3.77036583586755,"0_5_M",{"$f":"VLOOKUP(P158,#REF!,11,FALSE)","v":{"$error":"#REF!"}},{"$error":"#REF!"}]
["1_5_M",5,1,"M",0.293299624369662,0.158402334730056,1000,841.679577650148,0.221415332433508,0.314212638371442,0.0122155383287474,0.0203892730164539,379,0.000800897805739934,3.7618206301188,"1_5_M",{"$f":"VLOOKUP(P159,#REF!,11,FALSE)","v":{"$error":"#REF!"}},{"$error":"#REF!"}]
["2_5_M",5,2,"M",0.291349628339181,0.158397349065664,1000,841.897293087937,0.220610874943023,0.313453866307,0.011847734591545,0.020312818558918,376,0.000798481889480946,3.7495491170387,"2_5_M",{"$f":"VLOOKUP(P160,#REF!,11,FALSE)","v":{"$error":"#REF!"}},{"$error":"#REF!"}]
["3_5_M",5,3,"M",0.289351343366848,0.158394654091191,1000,842.253054007734,0.219486006707579,0.312535686868434,0.0114648914090456,0.0202211281706328,373,0.000795377647650367,3.73432904529688,"3_5_M",{"$f":"VLOOKUP(P161,#REF!,11,FALSE)","v":{"$error":"#REF!"}},{"$error":"#REF!"}]
["4_5_M",5,4,"M",0.286734514661977,0.158393348498577,1000,841.254638951841,0.221942784005813,0.313073263274135,0.0110441193430009,0.0200895825474947,369,0.000798611166199272,3.74445458176929,"4_5_M",{"$f":"VLOOKUP(P162,#REF!,11,FALSE)","v":{"$error":"#REF!"}},{"$error":"#REF!"}]
["5_5_M",5,5,"M",0.284623319729074,0.158392773432464,1000,841.854937232808,0.219895766845161,0.311626260194702,0.0106303798921497,0.0199861764411764,366,0.000793830136874421,3.72159424227491,"5_5_M",{"$f":"VLOOKUP(P163,#REF!,11,FALSE)","v":{"$error":"#REF!"}},{"$error":"#REF!"}]
["6_5_M",5,6,"M",0.281894500094309,0.158392547720668,1000,841.118140732446,0.221521909061919,0.311729660043877,0.0101790350013427,0.0198521934714419,362,0.000795490793239838,3.72465798252167,"6_5_M",{"$f":"VLOOKUP(P164,#REF!,11,FALSE)","v":{"$error":"#REF!"}},{"$error":"#REF!"}]
["7_5_M",5,7,"M",0.279654870194038,0.158392584914906,1000,841.980619927408,0.218660970203739,0.309784008500728,0.00973273183664955,0.0197373320633603,359,0.000789124668126417,3.69469058731359,"7_5_M",{"$f":"VLOOKUP(P165,#REF!,11,FALSE)","v":{"$error":"#REF!"}},{"$error":"#REF!"}]
["8_5_M",5,8,"M",0.276793988027611,0.158392840959285,1000,841.510399896316,0.219332245796211,0.30935284234863,0.00924903636302712,0.0195855235152784,355,0.00078902105764076,3.68974813995675,"8_5_M",{"$f":"VLOOKUP(P166,#REF!,11,FALSE)","v":{"$error":"#REF!"}},{"$error":"#REF!"}]
["9_5_M",5,9,"M",0.273859352143188,0.158393266465699,1000,841.167788363399,0.219712984948194,0.308780667590083,0.00874886761350718,0.0194251641874466,351,0.000788286317385236,3.6820229285023,"9_5_M",{"$f":"VLOOKUP(P167,#REF!,11,FALSE)","v":{"$error":"#REF!"}},{"$error":"#REF!"}]
["10_5_M",5,10,"M",0.27085193314984,0.158393821784329,1000,840.983560956723,0.219454884635973,0.307843971725954,0.00823141298424844,0.0192655031140261,347,0.000786390094074292,3.668981689891,"10_5_M",{"$f":"VLOOKUP(P168,#REF!,11,FALSE)","v":{"$error":"#REF!"}},{"$error":"#REF!"}]
["11_5_M",5,11,"M",0.267760599233807,0.158394461634261,1000,840.935214157652,0.218759004882473,0.306595819624919,0.00769614104384316,0.0190915803529881,343,0.000783646344012147,3.65203670866944,"11_5_M",{"$f":"VLOOKUP(P169,#REF!,11,FALSE)","v":{"$error":"#REF!"}},{"$error":"#REF!"}]
["12_5_M",5,12,"M",0.264581407385497,0.158395137969594,1000,841.03030324543,0.217601256461519,0.305094956912965,0.00714261894696174,0.0189106688988568,339,0.000780030465653302,3.6311153163532,"12_5_M",{"$f":"VLOOKUP(P170,#REF!,11,FALSE)","v":{"$error":"#REF!"}},{"$error":"#REF!"}]
["13_5_M",5,13,"M",0.261314665611323,0.158395817718442,1000,841.280558137057,0.215967659558221,0.303328181309678,0.00656823345993392,0.0187315459386704,335,0.000775467388087201,3.60592773567577,"13_5_M",{"$f":"VLOOKUP(P171,#REF!,11,FALSE)","v":{"$error":"#REF!"}},{"$error":"#REF!"}]
["14_5_M",5,14,"M",0.257934332254606,0.158396447542179,1000,841.689954399204,0.213823802855264,0.301248388079214,0.00598546324251679,0.0185398715124947,331,0.000769934458784449,3.57636673984295,"14_5_M",{"$f":"VLOOKUP(P172,#REF!,11,FALSE)","v":{"$error":"#REF!"}},{"$error":"#REF!"}]
["15_5_M",5,15,"M",0.254446872671135,0.158397021956755,1000,842.264600867213,0.211158127056054,0.298832660668517,0.00538319763091941,0.0183400738545007,327,0.000763385463131491,3.54219445804281,"15_5_M",{"$f":"VLOOKUP(P173,#REF!,11,FALSE)","v":{"$error":"#REF!"}},{"$error":"#REF!"}]
["16_5_M",5,16,"M",0.250331408438599,0.158397552335945,1000,841.531941416034,0.211890330708785,0.29791735609552,0.00474680935028011,0.0181112676340681,322,0.00076299461604879,3.53224473790681,"16_5_M",{"$f":"VLOOKUP(P174,#REF!,11,FALSE)","v":{"$error":"#REF!"}},{"$error":"#REF!"}]
["17_5_M",5,17,"M",0.246103718565937,0.158398031147789,1000,840.969087033031,0.21213644347707,0.296709387496254,0.00409013126443813,0.0178635909528019,317,0.000761688695886758,3.5180692584525,"17_5_M",{"$f":"VLOOKUP(P175,#REF!,11,FALSE)","v":{"$error":"#REF!"}},{"$error":"#REF!"}]
["18_5_M",5,18,"M",0.238794415720584,0.158398503285035,1000,841.453001321772,0.213409220336656,0.300188148561909,0.00281037226903416,0.0172267472876121,371,0.000766216694557546,3.55433524676521,"18_5_M",{"$f":"VLOOKUP(P176,#REF!,11,FALSE)","v":{"$error":"#REF!"}},{"$error":"#REF!"}]
["19_5_M",5,19,"M",0.233812201771835,0.158398968172896,1000,842.054386905617,0.210942435183394,0.298201195630971,0.0020271399341319,0.0169696884454,368,0.000760666292393632,3.52696436738602,"19_5_M",{"$f":"VLOOKUP(P177,#REF!,11,FALSE)","v":{"$error":"#REF!"}},{"$error":"#REF!"}]
["20_5_M",5,20,"M",0.228114636158271,0.158399456043512,1000,841.341585342502,0.211967357545405,0.297827544813897,0.00120187465789498,0.0166642333244113,364,0.000761427353253682,3.52508411922816,"20_5_M",{"$f":"VLOOKUP(P178,#REF!,11,FALSE)","v":{"$error":"#REF!"}},{"$error":"#REF!"}]
["21_5_M",5,21,"M",0.222647315253488,0.158399976093717,1000,842.194938217093,0.208774801006297,0.295402450201311,0.000353335327865007,0.0163724090043468,361,0.000754410681495655,3.49113990751992,"21_5_M",{"$f":"VLOOKUP(P179,#REF!,11,FALSE)","v":{"$error":"#REF!"}},{"$error":"#REF!"}]
["22_5_M",5,22,"M",0.216451129114883,0.158400538158115,1000,841.76113123004,0.208992833842403,0.294544047256075,-0.000538025267354968,0.0160376629784993,357,0.00075361251011767,3.48230621137721,"22_5_M",{"$f":"VLOOKUP(P180,#REF!,11,FALSE)","v":{"$error":"#REF!"}},{"$error":"#REF!"}]
["23_5_M",5,23,"M",0.209983686208355,0.158401188345853,1000,841.454925984327,0.208764154096847,0.293421525673929,-0.00146370509783953,0.0156826705820942,353,0.000751939567855228,3.46949705443799,"23_5_M",{"$f":"VLOOKUP(P181,#REF!,11,FALSE)","v":{"$error":"#REF!"}},{"$error":"#REF!"}]
["24_5_M",5,24,"M",0.203227456258091,0.158401937329864,1000,841.290807667677,0.208077949036316,0.291971180935724,-0.00242539332018939,0.0153047937056245,349,0.000749408921294464,3.45277574755657,"24_5_M",{"$f":"VLOOKUP(P182,#REF!,11,FALSE)","v":{"$error":"#REF!"}},{"$error":"#REF!"}]
["25_5_M",5,25,"M",0.196167634850141,0.158402791660999,1000,841.291410485336,0.206880357470158,0.290187507962681,-0.00342465608261966,0.0149191355429728,345,0.000745888421740456,3.43161764040742,"25_5_M",{"$f":"VLOOKUP(P183,#REF!,11,FALSE)","v":{"$error":"#REF!"}},{"$error":"#REF!"}]
["26_5_M",5,26,"M",0.188782536697813,0.158403773669263,1000,841.448474213213,0.205219670932454,0.288077021861853,-0.00446285510935072,0.0145003632200091,341,0.000741458448168043,3.40636468534284,"26_5_M",{"$f":"VLOOKUP(P184,#REF!,11,FALSE)","v":{"$error":"#REF!"}},{"$error":"#REF!"}]
["27_5_M",5,27,"M",0.181049320562907,0.158404886645545,1000,841.742395748307,0.202938803838298,0.285469213530766,-0.00554120022599698,0.0140667796465641,337,0.000735861172315297,3.37567857355882,"27_5_M",{"$f":"VLOOKUP(P185,#REF!,11,FALSE)","v":{"$error":"#REF!"}},{"$error":"#REF!"}]
["28_5_M",5,28,"M",0.172948613888225,0.158406164789455,1000,842.212542525465,0.20008171256416,0.282295951527394,-0.00666174877147387,0.0136049767163885,333,0.000729154720249287,3.3399695505416,"28_5_M",{"$f":"VLOOKUP(P186,#REF!,11,FALSE)","v":{"$error":"#REF!"}},{"$error":"#REF!"}]
["29_5_M",5,29,"M",0.164064856778347,0.158407631371409,1000,841.421427218687,0.200661128313194,0.280901949903767,-0.00782326889111009,0.0130764026649265,328,0.000728864595081694,3.33017308412243,"29_5_M",{"$f":"VLOOKUP(P187,#REF!,11,FALSE)","v":{"$error":"#REF!"}},{"$error":"#REF!"}]
["30_5_M",5,30,"M",0.155164552690293,0.158409286254416,1000,842.216280584327,0.196761082132062,0.276755969926788,-0.00903084898369693,0.0125586854549195,324,0.000720107597663959,3.28510302082824,"30_5_M",{"$f":"VLOOKUP(P188,#REF!,11,FALSE)","v":{"$error":"#REF!"}},{"$error":"#REF!"}]
["31_5_M",5,31,"M",0.145460203472958,0.158411151911216,1000,841.790093551765,0.196135514178136,0.274397329878545,-0.0102794378721871,0.0119913291774123,319,0.00071749597638174,3.26479976875372,"31_5_M",{"$f":"VLOOKUP(P189,#REF!,11,FALSE)","v":{"$error":"#REF!"}},{"$error":"#REF!"}]
["32_5_M",5,32,"M",0.13530534843788,0.158413232183484,1000,841.503959741735,0.195083346883295,0.271695652309161,-0.011572512448549,0.0113917701098592,314,0.000714034019235503,3.24042846111542,"32_5_M",{"$f":"VLOOKUP(P190,#REF!,11,FALSE)","v":{"$error":"#REF!"}},{"$error":"#REF!"}]
["33_5_M",5,33,"M",0.124677904131441,0.158415556232109,1000,841.423794183467,0.1931585073807,0.26818533143329,-0.012912346885549,0.0107394725698393,309,0.000708972757692157,3.20866447224463,"33_5_M",{"$f":"VLOOKUP(P191,#REF!,11,FALSE)","v":{"$error":"#REF!"}},{"$error":"#REF!"}]
["34_5_M",5,34,"M",0.113546868975556,0.158418135162869,1000,841.533917357259,0.190596363833981,0.263897878479861,-0.0142999290056155,0.010072362523469,304,0.000702639730140114,3.17111476906506,"34_5_M",{"$f":"VLOOKUP(P192,#REF!,11,FALSE)","v":{"$error":"#REF!"}},{"$error":"#REF!"}]
["35_5_M",5,35,"M",0.101878353251099,0.158420995980873,1000,841.849537058077,0.187392972422952,0.258863305743783,-0.0157372522230269,0.0093750113338575,299,0.000695017318793724,3.12766227282102,"35_5_M",{"$f":"VLOOKUP(P193,#REF!,11,FALSE)","v":{"$error":"#REF!"}},{"$error":"#REF!"}]
["36_5_M",5,36,"M",0.0893455442207849,0.158424159785222,1000,840.919484214699,0.187433961512578,0.255870191291784,-0.0172084502423768,0.00859336065509963,293,0.000693764539205991,3.1095222864028,"36_5_M",{"$f":"VLOOKUP(P194,#REF!,11,FALSE)","v":{"$error":"#REF!"}},{"$error":"#REF!"}]
["37_5_M",5,37,"M",0.0765223272302472,0.158427672052622,1000,841.630416798925,0.182787110785628,0.249186135386051,-0.0187509213694934,0.00777594634015022,288,0.000683315597195774,3.05298754517297,"37_5_M",{"$f":"VLOOKUP(P195,#REF!,11,FALSE)","v":{"$error":"#REF!"}},{"$error":"#REF!"}]
["38_5_M",5,38,"M",0.0628046450790399,0.158431555415424,1000,841.124207564914,0.181382151987451,0.244905710032519,-0.0203266252467383,0.00686172946585695,282,0.000679201566070972,3.02167151126489,"38_5_M",{"$f":"VLOOKUP(P196,#REF!,11,FALSE)","v":{"$error":"#REF!"}},{"$error":"#REF!"}]
["39_5_M",5,39,"M",0.0484347928356578,0.158435832102051,1000,840.854606419038,0.179196515527984,0.239911208960101,-0.0219532677440613,0.00589341396019884,276,0.000673554286264912,2.98328383398697,"39_5_M",{"$f":"VLOOKUP(P197,#REF!,11,FALSE)","v":{"$error":"#REF!"}},{"$error":"#REF!"}]
[{"$f":"P198","v":"40_5_M"},5,40,"M",0.0333672389940611,0.158440545738779,1000,840.801158268484,0.176248950821956,0.234317919663895,-0.0236314113704904,0.00486565819272822,270,0.000666382448204629,2.93780525878316,{"$f":"C198&\"_\"&B198&\"_\"&D198","v":"40_5_M"},{"$f":"VLOOKUP(P198,#REF!,11,FALSE)","v":{"$error":"#REF!"}},{"$f":"Q198/$Q$1","v":{"$error":"#REF!"}}]
["41_5_M",5,41,"M",0.0175550332334167,0.15844571746245,1000,840.985356365986,0.172440108335851,0.227978390196895,-0.0253623373473304,0.0037860170758256,264,0.000657469364655524,2.88432110932939,"41_5_M",{"$f":"VLOOKUP(P199,#REF!,11,FALSE)","v":{"$error":"#REF!"}},{"$error":"#REF!"}]
["42_5_M",5,42,"M",0.000943568246750972,0.158451400224098,1000,841.367676633273,0.167994643202742,0.221007386382107,-0.0271463518589331,0.00260717653951839,258,0.00064719430008764,2.82439545652687,"42_5_M",{"$f":"VLOOKUP(P200,#REF!,11,FALSE)","v":{"$error":"#REF!"}},{"$error":"#REF!"}]
["43_5_M",5,43,"M",0,0.158457609896284,1000,841.992189002018,0.162705105917458,0.212932583796172,-0.0289852503710283,0.00106624180649096,252,0.000635102356731184,2.75601114072478,"43_5_M",{"$f":"VLOOKUP(P201,#REF!,11,FALSE)","v":{"$error":"#REF!"}},{"$error":"#REF!"}]
["44_5_M",5,44,"M",0,0.158464378793977,1000,841.482270336874,0.160179713222173,0.206712885058868,-0.0308424669358696,-0.000570342729248526,245,0.000628756953620007,2.71001482317414,"44_5_M",{"$f":"VLOOKUP(P202,#REF!,11,FALSE)","v":{"$error":"#REF!"}},{"$error":"#REF!"}]
["45_5_M",5,45,"M",0,0.158471746100083,1000,841.23581030645,0.156764715591966,0.199596820346968,-0.0327500394007911,-0.00229180243121306,238,0.000620572033976046,2.65544320103222,"45_5_M",{"$f":"VLOOKUP(P203,#REF!,11,FALSE)","v":{"$error":"#REF!"}},{"$error":"#REF!"}]
["46_5_M",5,46,"M",0,0.158479741024774,1000,841.232785368195,0.152546542093347,0.191733823736981,-0.0347076460899348,-0.00405525620446951,231,0.000610665850398682,2.59272691423994,"46_5_M",{"$f":"VLOOKUP(P204,#REF!,11,FALSE)","v":{"$error":"#REF!"}},{"$error":"#REF!"}]
["47_5_M",5,47,"M",0,0.158488397356907,1000,841.492405799074,0.147421848624917,0.183165712071503,-0.0367150686073696,-0.00588486341552414,224,0.000598742723190111,2.61685462690198,"47_5_M",{"$f":"VLOOKUP(P205,#REF!,11,FALSE)","v":{"$error":"#REF!"}},{"$error":"#REF!"}]
["48_5_M",5,48,"M",0,0.158497735737832,1000,842.027698274255,0.141254259233822,0.173607935664987,-0.0387727189154675,-0.00777764583732377,217,0.000584514113845231,2.53557475741109,"48_5_M",{"$f":"VLOOKUP(P206,#REF!,11,FALSE)","v":{"$error":"#REF!"}},{"$error":"#REF!"}]
["49_5_M",5,49,"M",0,0.158507796023568,1000,841.454012951093,0.13788780092077,0.166334418279707,-0.040829005259922,-0.00973928016207583,209,0.000576415868977754,2.47774575893711,"49_5_M",{"$f":"VLOOKUP(P207,#REF!,11,FALSE)","v":{"$error":"#REF!"}},{"$error":"#REF!"}]
["50_5_M",5,50,"M",0,0.158518618134478,1000,841.165285596074,0.133348139878289,0.158026619029763,-0.0429290318812198,-0.0117356954446318,201,0.000565769887476285,2.40824330289455,"50_5_M",{"$f":"VLOOKUP(P208,#REF!,11,FALSE)","v":{"$error":"#REF!"}},{"$error":"#REF!"}]
["51_5_M",5,51,"M",0,0.158530229409315,1000,841.176725907034,0.12779934419905,0.148891789278954,-0.0450723006634243,-0.0138179728482904,193,0.000552767478042323,2.32811383553761,"51_5_M",{"$f":"VLOOKUP(P209,#REF!,11,FALSE)","v":{"$error":"#REF!"}},{"$error":"#REF!"}]
["52_5_M",5,52,"M",0,0.158542658748245,1000,841.485135313199,0.121196604325575,0.138906493347145,-0.0472571545123777,-0.0159404368691615,185,0.000537303219699854,2.2367572030205,"52_5_M",{"$f":"VLOOKUP(P210,#REF!,11,FALSE)","v":{"$error":"#REF!"}},{"$error":"#REF!"}]
["53_5_M",5,53,"M",0,0.158555945241126,1000,842.064144480742,0.113680612984997,0.127734943017227,-0.0494804134990191,-0.0181441752903219,177,0.000519532983780365,2.13501902165722,"53_5_M",{"$f":"VLOOKUP(P211,#REF!,11,FALSE)","v":{"$error":"#REF!"}},{"$error":"#REF!"}]
["54_5_M",5,54,"M",0,0.158570163677371,1000,841.632012924936,0.108334679794915,0.118254310785607,-0.0516736158062566,-0.0203930581381008,168,0.000506969771305787,2.05240199654494,"54_5_M",{"$f":"VLOOKUP(P212,#REF!,11,FALSE)","v":{"$error":"#REF!"}},{"$error":"#REF!"}]
["55_5_M",5,55,"M",0,0.158585447964145,1000,841.254622838363,0.103475176886808,0.10944250219146,-0.0541213693425761,-0.0228605240542544,161,0.000496212271461282,1.97774670136983,"55_5_M",{"$f":"VLOOKUP(P213,#REF!,11,FALSE)","v":{"$error":"#REF!"}},{"$error":"#REF!"}]
["0_3_M",3,0,"M",0.18688945555994,0.157922807848802,1000,842.423029582106,0.150016000319359,0.206407834566761,0.00837667655328278,0.0132205224954522,238,0.000770708317460926,2.33629638414137,"0_3_M",{"$f":"VLOOKUP(P214,#REF!,11,FALSE)","v":{"$error":"#REF!"}},{"$error":"#REF!"}]
["1_3_M",3,1,"M",0.185614109562968,0.157916797248876,1000,842.036982603541,0.150727963577067,0.206440196858098,0.00815580119765754,0.0131642591535894,236,0.000771489807861451,2.33727599266247,"1_3_M",{"$f":"VLOOKUP(P215,#REF!,11,FALSE)","v":{"$error":"#REF!"}},{"$error":"#REF!"}]
["2_3_M",3,2,"M",0.184308311670215,0.157912995969704,1000,841.768932368296,0.151174741694792,0.206341355425744,0.00792615913922155,0.0131034876855352,234,0.000771598008367792,2.33633071410593,"2_3_M",{"$f":"VLOOKUP(P216,#REF!,11,FALSE)","v":{"$error":"#REF!"}},{"$error":"#REF!"}]
["3_3_M",3,3,"M",0.182971431543304,0.157910829933089,1000,841.620299052389,0.151181952985353,0.206046106600752,0.00768747017355692,0.0130377695007706,232,0.000770494532184269,2.33173047342861,"3_3_M",{"$f":"VLOOKUP(P217,#REF!,11,FALSE)","v":{"$error":"#REF!"}},{"$error":"#REF!"}]
["4_3_M",3,4,"M",0.181601166850762,0.157909775802556,1000,841.592716804097,0.151066251732164,0.20565928758313,0.00743947316051775,0.0129723702240516,230,0.000769025019615525,2.32619243059501,"4_3_M",{"$f":"VLOOKUP(P218,#REF!,11,FALSE)","v":{"$error":"#REF!"}},{"$error":"#REF!"}]
["5_3_M",3,5,"M",0.180198269105633,0.157909310438078,1000,841.704458962213,0.1505241199666,0.205011102351356,0.00718197983864567,0.0129020989186439,228,0.000766433286893929,2.31736651620499,"5_3_M",{"$f":"VLOOKUP(P219,#REF!,11,FALSE)","v":{"$error":"#REF!"}},{"$error":"#REF!"}]
["6_3_M",3,6,"M",0.178754686162114,0.157909068938521,1000,841.923002557965,0.149837767428475,0.204326792736483,0.00691468504687329,0.0128270824498824,226,0.000763352688072978,2.3071569552605,"6_3_M",{"$f":"VLOOKUP(P220,#REF!,11,FALSE)","v":{"$error":"#REF!"}},{"$error":"#REF!"}]
["7_3_M",3,7,"M",0.177272972950961,0.157908980841665,1000,842.284231646876,0.148725588501547,0.203430970627923,0.00663738978720606,0.0127488815985383,224,0.000759135256991372,2.29366770289426,"7_3_M",{"$f":"VLOOKUP(P221,#REF!,11,FALSE)","v":{"$error":"#REF!"}},{"$error":"#REF!"}]
["8_3_M",3,8,"M",0.175746064647126,0.15790902602971,1000,842.770491897469,0.147385285368999,0.202387974212793,0.00634968161386099,0.0126690845476764,222,0.000754222981346526,2.2781813652495,"8_3_M",{"$f":"VLOOKUP(P222,#REF!,11,FALSE)","v":{"$error":"#REF!"}},{"$error":"#REF!"}]
["9_3_M",3,9,"M",0.173615572581729,0.157909184386273,1000,841.008082395398,0.150310286005315,0.203158806403513,0.00603025614829026,0.0125489803837963,219,0.000760401701841079,2.29157293114169,"9_3_M",{"$f":"VLOOKUP(P223,#REF!,11,FALSE)","v":{"$error":"#REF!"}},{"$error":"#REF!"}]
["10_3_M",3,10,"M",0.171995132099789,0.157909428264374,1000,841.767222460667,0.148320092192524,0.201721623279728,0.00572140996414926,0.0124598913508066,217,0.000753651900034152,2.27073569439076,"10_3_M",{"$f":"VLOOKUP(P224,#REF!,11,FALSE)","v":{"$error":"#REF!"}},{"$error":"#REF!"}]
["11_3_M",3,11,"M",0.170321047035422,0.157909724963131,1000,842.664938125753,0.146046890952271,0.200135754981731,0.00540106584894666,0.0123721726786675,215,0.000746073298245978,2.2475245998247,"11_3_M",{"$f":"VLOOKUP(P225,#REF!,11,FALSE)","v":{"$error":"#REF!"}},{"$error":"#REF!"}]
["12_3_M",3,12,"M",0.168046168090695,0.1579100694296,1000,841.332682723424,0.147966477929564,0.200366440173291,0.00504998581047309,0.0122402780616933,212,0.000749463470054386,2.25278023701704,"12_3_M",{"$f":"VLOOKUP(P226,#REF!,11,FALSE)","v":{"$error":"#REF!"}},{"$error":"#REF!"}]
["13_3_M",3,13,"M",0.16626277970697,0.157910444124468,1000,842.533079364665,0.144942049186483,0.198365494280141,0.00470497040961705,0.0121394776136288,210,0.000739751495111412,2.22334849222591,"13_3_M",{"$f":"VLOOKUP(P227,#REF!,11,FALSE)","v":{"$error":"#REF!"}},{"$error":"#REF!"}]
["14_3_M",3,14,"M",0.163866226380987,0.157910791173748,1000,841.467407854684,0.14618746223824,0.198210156918597,0.00433652890033674,0.0120068647767595,207,0.000741294975483335,2.22307373759369,"14_3_M",{"$f":"VLOOKUP(P228,#REF!,11,FALSE)","v":{"$error":"#REF!"}},{"$error":"#REF!"}]
["15_3_M",3,15,"M",0.161941909807622,0.157911113054062,1000,842.965856356201,0.142411263292351,0.195735692408638,0.00397365096820443,0.0118980353388209,205,0.000729435110346076,2.18732728732199,"15_3_M",{"$f":"VLOOKUP(P229,#REF!,11,FALSE)","v":{"$error":"#REF!"}},{"$error":"#REF!"}]
["16_3_M",3,16,"M",0.159418262038796,0.157911412341905,1000,842.255503352224,0.142964743898428,0.19518532509989,0.00358246642112275,0.0117585364701319,202,0.000729002758665013,2.18138679987486,"16_3_M",{"$f":"VLOOKUP(P230,#REF!,11,FALSE)","v":{"$error":"#REF!"}},{"$error":"#REF!"}]
["17_3_M",3,17,"M",0.156827041525862,0.157911673873447,1000,841.721271269355,0.143034823612283,0.194353751223423,0.00317944021402171,0.0116164252626866,199,0.000727235735526928,2.1715485681237,"17_3_M",{"$f":"VLOOKUP(P231,#REF!,11,FALSE)","v":{"$error":"#REF!"}},{"$error":"#REF!"}]
["18_3_M",3,18,"M",0.152633265141578,0.157911920343201,1000,843.33309784472,0.141501688152949,0.195884596153882,0.0024088266057651,0.0113182052317634,232,0.00072645810655978,2.17794010619825,"18_3_M",{"$f":"VLOOKUP(P232,#REF!,11,FALSE)","v":{"$error":"#REF!"}},{"$error":"#REF!"}]
["19_3_M",3,19,"M",0.148982544277239,0.157912149173511,1000,841.098352646604,0.145167847063406,0.197025046960396,0.0019144151008371,0.0111203939210143,229,0.000735116561958256,2.19815591593857,"19_3_M",{"$f":"VLOOKUP(P233,#REF!,11,FALSE)","v":{"$error":"#REF!"}},{"$error":"#REF!"}]
["20_3_M",3,20,"M",0.145689552640181,0.15791239812329,1000,841.294516010514,0.14417636266453,0.196031343838028,0.00141409603181116,0.0109400953405381,227,0.000731260043634519,2.18504730738813,"20_3_M",{"$f":"VLOOKUP(P234,#REF!,11,FALSE)","v":{"$error":"#REF!"}},{"$error":"#REF!"}]
["21_3_M",3,21,"M",0.142248900991374,0.157912652129262,1000,841.6601702601,0.142746298796694,0.194779835730266,0.000893354350209323,0.0107582166125466,225,0.000726160670092573,2.16837451810926,"21_3_M",{"$f":"VLOOKUP(P235,#REF!,11,FALSE)","v":{"$error":"#REF!"}},{"$error":"#REF!"}]
["22_3_M",3,22,"M",0.138644212293312,0.157912908613893,1000,842.1421095702,0.141166524032382,0.193459103405301,0.000351459304865657,0.0105592531788445,223,0.000720623140137327,2.15048978855906,"22_3_M",{"$f":"VLOOKUP(P236,#REF!,11,FALSE)","v":{"$error":"#REF!"}},{"$error":"#REF!"}]
["23_3_M",3,23,"M",0.134867675201027,0.157913205337284,1000,842.762038973439,0.139125428730461,0.191806939475371,-0.000212477636684615,0.0103471621996463,221,0.0007137891820449,2.12877965593347,"23_3_M",{"$f":"VLOOKUP(P237,#REF!,11,FALSE)","v":{"$error":"#REF!"}},{"$error":"#REF!"}]
["24_3_M",3,24,"M",0.13045013458889,0.157913542300288,1000,841.190925175962,0.141279980836431,0.192130785305513,-0.000805910816995076,0.0101020838957831,218,0.000718204076669305,2.13672860656535,"24_3_M",{"$f":"VLOOKUP(P238,#REF!,11,FALSE)","v":{"$error":"#REF!"}},{"$error":"#REF!"}]
["25_3_M",3,25,"M",0.126303113590542,0.15791393456785,1000,842.098605792195,0.138644790153477,0.190094030021431,-0.00141566426875497,0.00986495701583353,216,0.000709688006843901,2.11017587339828,"25_3_M",{"$f":"VLOOKUP(P239,#REF!,11,FALSE)","v":{"$error":"#REF!"}},{"$error":"#REF!"}]
["26_3_M",3,26,"M",0.121948057575389,0.157914392251579,1000,843.156054764532,0.135633169027487,0.187749192884278,-0.00205042005312947,0.00962296430763891,214,0.000700002354639813,2.08019287811986,"26_3_M",{"$f":"VLOOKUP(P240,#REF!,11,FALSE)","v":{"$error":"#REF!"}},{"$error":"#REF!"}]
["27_3_M",3,27,"M",0.116944814968567,0.157914897711238,1000,842.027867748614,0.136686786198993,0.187406248996504,-0.00271315349509575,0.00933871388112881,211,0.000701386699114718,2.07927958390569,"27_3_M",{"$f":"VLOOKUP(P241,#REF!,11,FALSE)","v":{"$error":"#REF!"}},{"$error":"#REF!"}]
["28_3_M",3,28,"M",0.111727198480414,0.157915478600384,1000,841.061241579237,0.137534520711157,0.186901257584511,-0.00339989715874637,0.00902703430370219,208,0.000702164683998971,2.07667374975353,"28_3_M",{"$f":"VLOOKUP(P242,#REF!,11,FALSE)","v":{"$error":"#REF!"}},{"$error":"#REF!"}]
["29_3_M",3,29,"M",0.106686131889688,0.157916152565183,1000,842.587295238662,0.133390044268208,0.18338183912068,-0.00411258480903788,0.00873900823048838,206,0.000689228845524544,2.037174001492,"29_3_M",{"$f":"VLOOKUP(P243,#REF!,11,FALSE)","v":{"$error":"#REF!"}},{"$error":"#REF!"}]
["30_3_M",3,30,"M",0.10098845209278,0.157916922086988,1000,841.956020579413,0.133361684597193,0.182060864726804,-0.00485144824117562,0.00840703310438132,203,0.000687560080449557,2.02738777807101,"30_3_M",{"$f":"VLOOKUP(P244,#REF!,11,FALSE)","v":{"$error":"#REF!"}},{"$error":"#REF!"}]
["31_3_M",3,31,"M",0.0950314106062638,0.157917797282454,1000,841.477814710637,0.132846810792845,0.180227730862671,-0.00561687507927981,0.00804449878534598,200,0.000684585303724188,2.01364239143886,"31_3_M",{"$f":"VLOOKUP(P245,#REF!,11,FALSE)","v":{"$error":"#REF!"}},{"$error":"#REF!"}]
["32_3_M",3,32,"M",0.0888029935074563,0.157918768046433,1000,841.218679635295,0.13197644925867,0.178061515178585,-0.00641022904107764,0.00767362418347012,197,0.000680543300765576,1.99692137041594,"32_3_M",{"$f":"VLOOKUP(P246,#REF!,11,FALSE)","v":{"$error":"#REF!"}},{"$error":"#REF!"}]
["33_3_M",3,33,"M",0.0822802452324522,0.157919859563357,1000,841.103093383464,0.13063766171905,0.175409202226235,-0.00723174182331412,0.00728340973637163,194,0.000675174152726017,1.976162619379,"33_3_M",{"$f":"VLOOKUP(P247,#REF!,11,FALSE)","v":{"$error":"#REF!"}},{"$error":"#REF!"}]
["34_3_M",3,34,"M",0.0754482584790161,0.157921079375624,1000,841.201308743748,0.128827565664531,0.172209339852168,-0.00808293605330282,0.00686337785389015,191,0.000668477683642996,1.95158386078142,"34_3_M",{"$f":"VLOOKUP(P248,#REF!,11,FALSE)","v":{"$error":"#REF!"}},{"$error":"#REF!"}]
["35_3_M",3,35,"M",0.068280428845666,0.157922432551091,1000,841.432399493634,0.12666847139743,0.168460910741294,-0.00896421361983407,0.00641260809765744,188,0.000660733433023121,1.92374407381322,"35_3_M",{"$f":"VLOOKUP(P249,#REF!,11,FALSE)","v":{"$error":"#REF!"}},{"$error":"#REF!"}]
["36_3_M",3,36,"M",0.0607591662172721,0.157923921579113,1000,841.913294565985,0.123844594389495,0.164026683062944,-0.00987685554002078,0.00592317690884627,185,0.000651026641242348,1.89017951357824,"36_3_M",{"$f":"VLOOKUP(P250,#REF!,11,FALSE)","v":{"$error":"#REF!"}},{"$error":"#REF!"}]
["37_3_M",3,37,"M",0.0528691546653137,0.157925579189366,1000,842.559717641725,0.120777152315042,0.159177753338991,-0.0108237614724072,0.00540213787607712,182,0.000640501824790302,1.91259015825325,"37_3_M",{"$f":"VLOOKUP(P251,#REF!,11,FALSE)","v":{"$error":"#REF!"}},{"$error":"#REF!"}]
["38_3_M",3,38,"M",0.0443224011320794,0.157927417993331,1000,841.130546414127,0.121415362280988,0.15737450136537,-0.011785466091691,0.00482774650772203,178,0.000640731485708626,1.90490734571022,"38_3_M",{"$f":"VLOOKUP(P252,#REF!,11,FALSE)","v":{"$error":"#REF!"}},{"$error":"#REF!"}]
["39_3_M",3,39,"M",0.0356220362019557,0.15792945308304,1000,842.182941455013,0.117309709852269,0.151698540218266,-0.012798376838599,0.0042546871452297,175,0.00062713810275384,1.86033581008434,"39_3_M",{"$f":"VLOOKUP(P253,#REF!,11,FALSE)","v":{"$error":"#REF!"}},{"$error":"#REF!"}]
["40_3_M",3,40,"M",0.0262551977954841,0.157931694604197,1000,841.21129153815,0.116852586793014,0.148931654678857,-0.0138223325887606,0.00361203632059926,171,0.000624133259899611,1.84319312159809,"40_3_M",{"$f":"VLOOKUP(P254,#REF!,11,FALSE)","v":{"$error":"#REF!"}},{"$error":"#REF!"}]
["41_3_M",3,41,"M",0.0166305356004045,0.157934147541387,1000,842.666607335555,0.111714731897103,0.142389773591568,-0.0149029576857103,0.00295099345918819,168,0.000607327964116228,1.78914663321612,"41_3_M",{"$f":"VLOOKUP(P255,#REF!,11,FALSE)","v":{"$error":"#REF!"}},{"$error":"#REF!"}]
["42_3_M",3,42,"M",0.00631992046135067,0.157936862310256,1000,842.131820621734,0.110257888013715,0.138644696178324,-0.0159913151733867,0.00220496497091326,164,0.000601265031788642,1.76290748918925,"42_3_M",{"$f":"VLOOKUP(P256,#REF!,11,FALSE)","v":{"$error":"#REF!"}},{"$error":"#REF!"}]
["43_3_M",3,43,"M",0,0.157939838961853,1000,841.783368441044,0.108259384828038,0.134381843229519,-0.0171104654646841,0.00134301023541784,160,0.000593596823271638,1.73185972422642,"43_3_M",{"$f":"VLOOKUP(P257,#REF!,11,FALSE)","v":{"$error":"#REF!"}},{"$error":"#REF!"}]
["44_3_M",3,44,"M",0,0.157943085088065,1000,841.742632888067,0.105577722567342,0.129445317103072,-0.0182625005692281,0.000315117460082477,156,0.000583862953809341,1.69485362782169,"44_3_M",{"$f":"VLOOKUP(P258,#REF!,11,FALSE)","v":{"$error":"#REF!"}},{"$error":"#REF!"}]
["45_3_M",3,45,"M",0,0.157946620886,1000,841.89886625286,0.102320911489004,0.123917395066712,-0.0194461794746858,-0.000731937370934782,152,0.000572297520254257,1.65222813975434,"45_3_M",{"$f":"VLOOKUP(P259,#REF!,11,FALSE)","v":{"$error":"#REF!"}},{"$error":"#REF!"}]
["46_3_M",3,46,"M",0,0.157950474102158,1000,842.30281985388,0.0986047771715549,0.117977981656548,-0.0206621107023309,-0.0018233899660444,148,0.000559135781338496,1.60503574567264,"46_3_M",{"$f":"VLOOKUP(P260,#REF!,11,FALSE)","v":{"$error":"#REF!"}},{"$error":"#REF!"}]
["47_3_M",3,47,"M",0,0.157954662488329,1000,843.006885607634,0.0940333924221771,0.111273894218757,-0.021911165772044,-0.00295337013601552,144,0.000543187966400547,1.54971674530439,"47_3_M",{"$f":"VLOOKUP(P261,#REF!,11,FALSE)","v":{"$error":"#REF!"}},{"$error":"#REF!"}]
[{"$f":"P262","v":"48_3_M"},3,48,"M",0,0.15795918108127,1000,841.644155574361,0.093171188379599,0.107571010665162,-0.0231440930469517,-0.00413151110195908,139,0.000538957433420153,1.52437133943364,{"$f":"C262&\"_\"&B262&\"_\"&D262","v":"48_3_M"},{"$f":"VLOOKUP(P262,#REF!,11,FALSE)","v":{"$error":"#REF!"}},{"$f":"Q262/$Q$1","v":{"$error":"#REF!"}}]
["49_3_M",3,49,"M",0,0.157964057669363,1000,842.900781658258,0.0873709846893156,0.0995885796872987,-0.0244557035357655,-0.00533966018681396,135,0.000518754940806926,1.45669592436338,"49_3_M",{"$f":"VLOOKUP(P263,#REF!,11,FALSE)","v":{"$error":"#REF!"}},{"$error":"#REF!"}]
["50_3_M",3,50,"M",0,0.157969317589406,1000,842.094832531149,0.0851268736283593,0.0943377953856837,-0.0257443171820741,-0.00657535751601896,130,0.000509917245916763,1.41782625005564,"50_3_M",{"$f":"VLOOKUP(P264,#REF!,11,FALSE)","v":{"$error":"#REF!"}},{"$error":"#REF!"}]
["51_3_M",3,51,"M",0,0.157974968526455,1000,841.627319758179,0.0821821328493115,0.0884288670678832,-0.0270597710158435,-0.00787157536512464,125,0.000498730137912377,1.37213498470697,"51_3_M",{"$f":"VLOOKUP(P265,#REF!,11,FALSE)","v":{"$error":"#REF!"}},{"$error":"#REF!"}]
["52_3_M",3,52,"M",0,0.157981030789908,1000,841.486786930635,0.0782633977345502,0.0816587607606531,-0.0284001700792613,-0.00920075674758813,120,0.000484320312425486,1.31704580366605,"52_3_M",{"$f":"VLOOKUP(P266,#REF!,11,FALSE)","v":{"$error":"#REF!"}},{"$error":"#REF!"}]
["53_3_M",3,53,"M",0,0.15798752471265,1000,841.579131182888,0.0738629991959219,0.0744652023216996,-0.0297626271096038,-0.0105829990374184,115,0.000468046987203016,1.25644568555738,"53_3_M",{"$f":"VLOOKUP(P267,#REF!,11,FALSE)","v":{"$error":"#REF!"}},{"$error":"#REF!"}]
["54_3_M",3,54,"M",0,0.157994455567921,1000,841.987036571118,0.0686037199367204,0.0665220490066357,-0.0311477914646655,-0.0120224436416877,110,0.000448656570104161,1.18677067899489,"54_3_M",{"$f":"VLOOKUP(P268,#REF!,11,FALSE)","v":{"$error":"#REF!"}},{"$error":"#REF!"}]
["55_3_M",3,55,"M",0,0.158001848674544,1000,841.745068899948,0.0651559453777561,0.0603852129391333,-0.0326804027369931,-0.0135528483133656,106,0.000435971658974763,1.13549411352437,"55_3_M",{"$f":"VLOOKUP(P269,#REF!,11,FALSE)","v":{"$error":"#REF!"}},{"$error":"#REF!"}]
["0_1_M",1,0,"M",0.0721672539202976,0.08,1000,917.602150672597,0.034109392715098,0.0796236416534856,0.00460474274827278,0.00712719466410587,93,0.000572514719907609,0.687802092833152,"0_1_M",{"$f":"VLOOKUP(P270,#REF!,11,FALSE)","v":{"$error":"#REF!"}},{"$error":"#REF!"}]
["1_1_M",1,1,"M",0.0720938707826368,0.0800000000000012,1000,921.869776226516,0.0304421831518415,0.0777679043456435,0.00451986217737652,0.00713210809109787,93,0.000552008704662332,0.668413884489738,"1_1_M",{"$f":"VLOOKUP(P271,#REF!,11,FALSE)","v":{"$error":"#REF!"}},{"$error":"#REF!"}]
["2_1_M",1,2,"M",0.0714134158115429,0.08,1000,919.307180339192,0.0326713158611715,0.0785961037238258,0.0043930801229686,0.00708408441729779,92,0.000562080873197036,0.677386029898348,"2_1_M",{"$f":"VLOOKUP(P272,#REF!,11,FALSE)","v":{"$error":"#REF!"}},{"$error":"#REF!"}]
["3_1_M",1,3,"M",0.0707164226700987,0.08,1000,916.758198083924,0.0348680129392524,0.0793324401156391,0.0042619729729158,0.00703350405777906,91,0.000571735858031324,0.68583598849166,"3_1_M",{"$f":"VLOOKUP(P273,#REF!,11,FALSE)","v":{"$error":"#REF!"}},{"$error":"#REF!"}]
["4_1_M",1,4,"M",0.070598739023873,0.0800000000000012,1000,921.372707781509,0.0308675901377461,0.0771751341430248,0.0041618733828006,0.00703673111036078,91,0.000549169645564063,0.664348003299286,"4_1_M",{"$f":"VLOOKUP(P274,#REF!,11,FALSE)","v":{"$error":"#REF!"}},{"$error":"#REF!"}]
["5_1_M",1,5,"M",0.0698788903082818,0.08,1000,919.15084808104,0.0327806868417326,0.0778409435942103,0.00402144450471375,0.00698428540006333,90,0.000557463189895359,0.671521319391153,"5_1_M",{"$f":"VLOOKUP(P275,#REF!,11,FALSE)","v":{"$error":"#REF!"}},{"$error":"#REF!"}]
["6_1_M",1,6,"M",0.0691441642210559,0.0800000000000006,1000,917.031088127038,0.0345947484865506,0.0784035827917063,0.00387648381510401,0.00693042948825091,89,0.00056508341123138,0.6779822964503,"6_1_M",{"$f":"VLOOKUP(P276,#REF!,11,FALSE)","v":{"$error":"#REF!"}},{"$error":"#REF!"}]
["7_1_M",1,7,"M",0.068972842535725,0.0799999999999994,1000,922.007729564189,0.0302567726376438,0.0757999561914723,0.00375981972022749,0.0069274818316635,89,0.00054036629551318,0.654315856063738,"7_1_M",{"$f":"VLOOKUP(P277,#REF!,11,FALSE)","v":{"$error":"#REF!"}},{"$error":"#REF!"}]
["8_1_M",1,8,"M",0.0682042018359799,0.0800000000000012,1000,920.131481796927,0.0318154467285244,0.0762458100790046,0.00360473824176284,0.00687153481915993,88,0.00054638133759552,0.659139530385843,"8_1_M",{"$f":"VLOOKUP(P278,#REF!,11,FALSE)","v":{"$error":"#REF!"}},{"$error":"#REF!"}]
["9_1_M",1,9,"M",0.0674170223157273,0.0800000000000006,1000,918.367254536948,0.033266987774172,0.0765885197589126,0.00344475919621146,0.0068138513053756,87,0.000551730029248611,0.663251948796696,"9_1_M",{"$f":"VLOOKUP(P279,#REF!,11,FALSE)","v":{"$error":"#REF!"}},{"$error":"#REF!"}]
["10_1_M",1,10,"M",0.0671794121782199,0.0800000000000006,1000,923.730258076775,0.0285678341415438,0.0732501753983802,0.00330986974216049,0.00680670940120993,87,0.000524667692891216,0.637203384375609,"10_1_M",{"$f":"VLOOKUP(P280,#REF!,11,FALSE)","v":{"$error":"#REF!"}},{"$error":"#REF!"}]
["11_1_M",1,11,"M",0.0663498166455078,0.0799999999999994,1000,922.224962069533,0.0297725582802762,0.0734566020599172,0.00313863915894314,0.00674502333968817,86,0.000528588064731879,0.639870265985381,"11_1_M",{"$f":"VLOOKUP(P281,#REF!,11,FALSE)","v":{"$error":"#REF!"}},{"$error":"#REF!"}]
["12_1_M",1,12,"M",0.0655017603866455,0.0799999999999994,1000,920.914683651588,0.0308075906393599,0.0735036739235952,0.00296208260332716,0.0066833016546719,85,0.000531408295937656,0.641434227849132,"12_1_M",{"$f":"VLOOKUP(P282,#REF!,11,FALSE)","v":{"$error":"#REF!"}},{"$error":"#REF!"}]
["13_1_M",1,13,"M",0.0646307930585417,0.0800000000000006,1000,919.708085811663,0.0317391152112946,0.073471375876298,0.00277930639859398,0.00662009531887575,84,0.000533732131074943,0.64247750484873,"13_1_M",{"$f":"VLOOKUP(P283,#REF!,11,FALSE)","v":{"$error":"#REF!"}},{"$error":"#REF!"}]
["14_1_M",1,14,"M",0.0637316620672831,0.0799999999999994,1000,918.607955088264,0.0325608890155081,0.0733207742738677,0.00259363706691436,0.00655304250859198,83,0.000535329648782123,0.642729195830633,"14_1_M",{"$f":"VLOOKUP(P284,#REF!,11,FALSE)","v":{"$error":"#REF!"}},{"$error":"#REF!"}]
["15_1_M",1,15,"M",0.06281020187806,0.0800000000000006,1000,917.731051863367,0.0331654428641563,0.0729885825241573,0.00240223061848528,0.00648676544720038,82,0.00053568566163232,0.641749564908521,"15_1_M",{"$f":"VLOOKUP(P285,#REF!,11,FALSE)","v":{"$error":"#REF!"}},{"$error":"#REF!"}]
["16_1_M",1,16,"M",0.0618609819419145,0.0800000000000015,1000,917.007676479295,0.0336199926667395,0.0725108644095997,0.0022049669461239,0.0064191259563494,81,0.000535155975797618,0.639859248146351,"16_1_M",{"$f":"VLOOKUP(P286,#REF!,11,FALSE)","v":{"$error":"#REF!"}},{"$error":"#REF!"}]
["17_1_M",1,17,"M",0.060880799146537,0.0800000000000009,1000,916.416899377444,0.0339153780726694,0.0718551598948985,0.00200183372907434,0.00634964508738955,80,0.000533644634252708,0.63690458431403,"17_1_M",{"$f":"VLOOKUP(P287,#REF!,11,FALSE)","v":{"$error":"#REF!"}},{"$error":"#REF!"}]
["18_1_M",1,18,"M",0.0592899943399639,0.08,1000,917.161510189219,0.0342160402791391,0.0734924854634098,0.0016256619332221,0.00620067569858892,91,0.00054138839148757,0.644460828632787,"18_1_M",{"$f":"VLOOKUP(P288,#REF!,11,FALSE)","v":{"$error":"#REF!"}},{"$error":"#REF!"}]
["19_1_M",1,19,"M",0.0584485016755762,0.0799999999999997,1000,921.783978056851,0.030150881837179,0.0697769636445542,0.00139771325314352,0.0061470337949164,91,0.000517513524146912,0.621243580278043,"19_1_M",{"$f":"VLOOKUP(P289,#REF!,11,FALSE)","v":{"$error":"#REF!"}},{"$error":"#REF!"}]
["20_1_M",1,20,"M",0.057036067836973,0.0800000000000003,1000,919.63231680115,0.0318969751246471,0.0704411846060598,0.00114027642695074,0.00604163978880569,90,0.000524641173289823,0.62694881288084,"20_1_M",{"$f":"VLOOKUP(P290,#REF!,11,FALSE)","v":{"$error":"#REF!"}},{"$error":"#REF!"}]
["21_1_M",1,21,"M",0.0555708414711599,0.0800000000000003,1000,917.631333953423,0.0335007236206646,0.0709919045447285,0.000873569738111644,0.00593573018685084,89,0.000531107258889403,0.632036979959887,"21_1_M",{"$f":"VLOOKUP(P291,#REF!,11,FALSE)","v":{"$error":"#REF!"}},{"$error":"#REF!"}]
["22_1_M",1,22,"M",0.0545359817392481,0.0799999999999997,1000,922.617416573682,0.0291145837850721,0.0667222215390925,0.000611713904983004,0.00586762726987362,89,0.000505070162804979,0.606621785672688,"22_1_M",{"$f":"VLOOKUP(P292,#REF!,11,FALSE)","v":{"$error":"#REF!"}},{"$error":"#REF!"}]
["23_1_M",1,23,"M",0.0529419895274549,0.08,1000,920.833474494627,0.0305124932352821,0.0670583787521898,0.000323677844224705,0.00575226154588587,88,0.000510128177091003,0.610240369683014,"23_1_M",{"$f":"VLOOKUP(P293,#REF!,11,FALSE)","v":{"$error":"#REF!"}},{"$error":"#REF!"}]
["24_1_M",1,24,"M",0.0512815395699807,0.08,1000,919.170954522715,0.0317963687818175,0.067277439431317,2.51269265652235e-5,0.00562428866595683,87,0.000514581618168735,0.613244249556975,"24_1_M",{"$f":"VLOOKUP(P294,#REF!,11,FALSE)","v":{"$error":"#REF!"}},{"$error":"#REF!"}]
["25_1_M",1,25,"M",0.0495512381622057,0.08,1000,917.637203701228,0.0329392189486813,0.0673456310929266,-0.00028437983263589,0.00549676865755738,86,0.000518279427435436,0.615464643515994,"25_1_M",{"$f":"VLOOKUP(P295,#REF!,11,FALSE)","v":{"$error":"#REF!"}},{"$error":"#REF!"}]
["26_1_M",1,26,"M",0.0477490050355996,0.08,1000,916.307817950303,0.033899265694944,0.0672190779888546,-0.000605300167468029,0.00536154612692567,85,0.000520853865850229,0.61656794816846,"26_1_M",{"$f":"VLOOKUP(P296,#REF!,11,FALSE)","v":{"$error":"#REF!"}},{"$error":"#REF!"}]
["27_1_M",1,27,"M",0.0463062449991372,0.0799999999999997,1000,921.963172020314,0.028875277696169,0.0620623943183826,-0.000932952043456176,0.00525848836001076,85,0.000490487295689984,0.586684890005623,"27_1_M",{"$f":"VLOOKUP(P297,#REF!,11,FALSE)","v":{"$error":"#REF!"}},{"$error":"#REF!"}]
["28_1_M",1,28,"M",0.0443297674975022,0.08,1000,920.908681130855,0.0295510028928474,0.0616291563865798,-0.00128003112796582,0.00510965764567597,84,0.000491360324369739,0.586030282267718,"28_1_M",{"$f":"VLOOKUP(P298,#REF!,11,FALSE)","v":{"$error":"#REF!"}},{"$error":"#REF!"}]
["29_1_M",1,29,"M",0.0422610155873915,0.08,1000,919.921070348761,0.030160531566998,0.0611250507347834,-0.00163963852344188,0.00494981968992819,83,0.000491781732735518,0.584863401850663,"29_1_M",{"$f":"VLOOKUP(P299,#REF!,11,FALSE)","v":{"$error":"#REF!"}},{"$error":"#REF!"}]
["30_1_M",1,30,"M",0.0400992474200334,0.08,1000,919.178015711932,0.0305287102640536,0.0603590094248921,-0.00201268468113379,0.0047783299007211,82,0.00049076543332151,0.582239404165244,"30_1_M",{"$f":"VLOOKUP(P300,#REF!,11,FALSE)","v":{"$error":"#REF!"}},{"$error":"#REF!"}]
["31_1_M",1,31,"M",0.0378385545275058,0.08,1000,918.658593600105,0.030686929246021,0.0593982632043193,-0.00239952907285732,0.00460385495077858,81,0.000488586815173098,0.57848395033037,"31_1_M",{"$f":"VLOOKUP(P301,#REF!,11,FALSE)","v":{"$error":"#REF!"}},{"$error":"#REF!"}]
["32_1_M",1,32,"M",0.0354655932185007,0.0800000000000003,1000,918.184516263125,0.0307555419715883,0.0582936438502579,-0.002800285245147,0.00441836983228839,80,0.000485738866565688,0.573896186192196,"32_1_M",{"$f":"VLOOKUP(P302,#REF!,11,FALSE)","v":{"$error":"#REF!"}},{"$error":"#REF!"}]
["33_1_M",1,33,"M",0.0329802954077035,0.08,1000,917.946564999357,0.0306568328448122,0.0570668616271166,-0.00321577861348162,0.00422168443601617,79,0.000482048703123478,0.568554084216731,"33_1_M",{"$f":"VLOOKUP(P303,#REF!,11,FALSE)","v":{"$error":"#REF!"}},{"$error":"#REF!"}]
["34_1_M",1,34,"M",0.0303738794332909,0.08,1000,917.964369515985,0.0302861953964688,0.0555506459700624,-0.00364671941358598,0.00401142795993137,78,0.000476675450928963,0.561473483466955,"34_1_M",{"$f":"VLOOKUP(P304,#REF!,11,FALSE)","v":{"$error":"#REF!"}},{"$error":"#REF!"}]
["35_1_M",1,35,"M",0.0276352158515547,0.08,1000,918.042927067566,0.0298401096808555,0.0539209884398829,-0.00409283783653158,0.00378566907210358,77,0.000470697702070965,0.553682114927337,"35_1_M",{"$f":"VLOOKUP(P305,#REF!,11,FALSE)","v":{"$error":"#REF!"}},{"$error":"#REF!"}]
["36_1_M",1,36,"M",0.024757029635581,0.08,1000,918.346643426162,0.0291687774177716,0.0520909732068009,-0.00455496944958284,0.00354196007382075,76,0.000463368222776803,0.544515904601387,"36_1_M",{"$f":"VLOOKUP(P306,#REF!,11,FALSE)","v":{"$error":"#REF!"}},{"$error":"#REF!"}]
["37_1_M",1,37,"M",0.0217323413786839,0.08,1000,918.800455183575,0.0283363295898277,0.0500650358780566,-0.00503458080954951,0.00328901533911747,75,0.000454981844875191,0.53418258998013,"37_1_M",{"$f":"VLOOKUP(P307,#REF!,11,FALSE)","v":{"$error":"#REF!"}},{"$error":"#REF!"}]
["38_1_M",1,38,"M",0.0185508052945027,0.0799999999999997,1000,919.475610292126,0.0273002436823836,0.0478520124156815,-0.00553135452584469,0.00301473332873911,74,0.000445257923698994,0.522491449694258,"38_1_M",{"$f":"VLOOKUP(P308,#REF!,11,FALSE)","v":{"$error":"#REF!"}},{"$error":"#REF!"}]
["39_1_M",1,39,"M",0.0152007028473909,0.0800000000000006,1000,920.366165852878,0.0260399134990895,0.0453729410881648,-0.00604597475838481,0.0027193861294597,73,0.000434039020303425,0.509230131061425,"39_1_M",{"$f":"VLOOKUP(P309,#REF!,11,FALSE)","v":{"$error":"#REF!"}},{"$error":"#REF!"}]
["40_1_M",1,40,"M",0.0116706969689718,0.08,1000,921.526865844483,0.024549284160976,0.042714360679881,-0.00657906015278738,0.0024172165360838,72,0.000421425421641055,0.494574898415677,"40_1_M",{"$f":"VLOOKUP(P310,#REF!,11,FALSE)","v":{"$error":"#REF!"}},{"$error":"#REF!"}]
["41_1_M",1,41,"M",0.00794714311064473,0.08,1000,922.80717444505,0.0228939120451098,0.0398501764144865,-0.00713002551526463,0.00208475995269225,71,0.000407530989125291,0.478489429975988,"41_1_M",{"$f":"VLOOKUP(P311,#REF!,11,FALSE)","v":{"$error":"#REF!"}},{"$error":"#REF!"}]
["42_1_M",1,42,"M",0.00385377036691014,0.08,1000,917.57800883654,0.0266804376423979,0.0416294606280841,-0.00766097333599575,0.00170501255851877,69,0.000426122385286354,0.492923500196953,"42_1_M",{"$f":"VLOOKUP(P312,#REF!,11,FALSE)","v":{"$error":"#REF!"}},{"$error":"#REF!"}]
["43_1_M",1,43,"M",0,0.0799999999999997,1000,919.40688143731,0.0245178014321529,0.0382111201003884,-0.00824630061886247,0.00131307980502162,68,0.000408987585690081,0.473514624839583,"43_1_M",{"$f":"VLOOKUP(P313,#REF!,11,FALSE)","v":{"$error":"#REF!"}},{"$error":"#REF!"}]
["44_1_M",1,44,"M",0,0.08,1000,921.362488498199,0.0221916207053277,0.0345589256323618,-0.00885014658297405,0.000807889889020843,67,0.000390457916085774,0.452557090930698,"44_1_M",{"$f":"VLOOKUP(P314,#REF!,11,FALSE)","v":{"$error":"#REF!"}},{"$error":"#REF!"}]
["45_1_M",1,45,"M",0,0.08,1000,916.817039845697,0.025308289975624,0.0356556740072777,-0.0094224631751316,0.000257391222764099,65,0.000405332407153289,0.462981272962843,"45_1_M",{"$f":"VLOOKUP(P315,#REF!,11,FALSE)","v":{"$error":"#REF!"}},{"$error":"#REF!"}]
["46_1_M",1,46,"M",0,0.0800000000000003,1000,919.325149295954,0.0224630165515739,0.0315287302368026,-0.0100613868891755,-0.00029113516614961,64,0.000383317486960165,0.438415264388799,"46_1_M",{"$f":"VLOOKUP(P316,#REF!,11,FALSE)","v":{"$error":"#REF!"}},{"$error":"#REF!"}]
["47_1_M",1,47,"M",0,0.08,1000,921.919374796718,0.0195046495064761,0.0272319449424951,-0.0107189362849362,-0.000864636019942667,63,0.000360172608461697,0.412541606263093,"47_1_M",{"$f":"VLOOKUP(P317,#REF!,11,FALSE)","v":{"$error":"#REF!"}},{"$error":"#REF!"}]
["48_1_M",1,48,"M",0,0.08,1000,918.155822024921,0.0217812054304226,0.0274822051352242,-0.0113323741403336,-0.00147859670135427,61,0.000369803798160614,0.417354367655897,"48_1_M",{"$f":"VLOOKUP(P318,#REF!,11,FALSE)","v":{"$error":"#REF!"}},{"$error":"#REF!"}]
["49_1_M",1,49,"M",0,0.08,1000,921.398124233588,0.0181666299974851,0.0228117450559463,-0.0120253533310748,-0.00208554366317699,60,0.000341739525372393,0.409537683635825,"49_1_M",{"$f":"VLOOKUP(P319,#REF!,11,FALSE)","v":{"$error":"#REF!"}},{"$error":"#REF!"}]
["50_1_M",1,50,"M",0,0.0800000000000003,1000,918.248055642352,0.0198349292084732,0.0224692363320286,-0.0126648509533023,-0.00273676011494345,58,0.000347663246886365,0.410668304403817,"50_1_M",{"$f":"VLOOKUP(P320,#REF!,11,FALSE)","v":{"$error":"#REF!"}},{"$error":"#REF!"}]
["51_1_M",1,51,"M",0,0.08,1000,921.938255234231,0.0157997314557565,0.0170785969746198,-0.0133911625715351,-0.00339606232059971,57,0.000315954636354257,0.376268115615519,"51_1_M",{"$f":"VLOOKUP(P321,#REF!,11,FALSE)","v":{"$error":"#REF!"}},{"$error":"#REF!"}]
["52_1_M",1,52,"M",0,0.08,1000,919.329776702743,0.016889922670968,0.016218245509654,-0.0140541604882121,-0.00410167491957387,55,0.00031803516365783,0.373330417038902,"52_1_M",{"$f":"VLOOKUP(P322,#REF!,11,FALSE)","v":{"$error":"#REF!"}},{"$error":"#REF!"}]
["53_1_M",1,53,"M",0,0.08,1000,916.966773314158,0.0177072502397106,0.0150974181431295,-0.0147248783245365,-0.00483090396796139,53,0.000318305692434924,0.368396323484594,"53_1_M",{"$f":"VLOOKUP(P323,#REF!,11,FALSE)","v":{"$error":"#REF!"}},{"$error":"#REF!"}]
["54_1_M",1,54,"M",0,0.08,1000,921.570517355915,0.0127698506746615,0.00889021063105552,-0.0154953352364726,-0.00559418065400063,52,0.000278903609279609,0.326130044950885,"54_1_M",{"$f":"VLOOKUP(P324,#REF!,11,FALSE)","v":{"$error":"#REF!"}},{"$error":"#REF!"}]
["55_1_M",1,55,"M",0,0.08,1000,921.981013442278,0.0115188140404604,0.00607625824638581,-0.0163184253493269,-0.00638770963996307,51,0.000265228036045379,0.308483920451136,"55_1_M",{"$f":"VLOOKUP(P325,#REF!,11,FALSE)","v":{"$error":"#REF!"}},{"$error":"#REF!"}]
[{"$f":"P326","v":"56_1_M"},1,56,"M",0,0.08,1000,916.371036826806,0.0150854363825071,0.00756748280860109,-0.0170537642980359,-0.00713922336430894,49,0.000285899187234127,0.322571635463938,{"$f":"C326&\"_\"&B326&\"_\"&D326","v":"56_1_M"},{"$f":"VLOOKUP(P326,#REF!,11,FALSE)","v":{"$error":"#REF!"}},{"$f":"Q326/$Q$1","v":{"$error":"#REF!"}}]
["57_1_M",1,57,"M",0,0.08,1000,917.5880463186,0.0130978526291463,0.00412084701084101,-0.0179019466054936,-0.0079920493932502,48,0.000266806408951586,0.299320009195438,"57_1_M",{"$f":"VLOOKUP(P327,#REF!,11,FALSE)","v":{"$error":"#REF!"}},{"$error":"#REF!"}]
["58_1_M",1,58,"M",0,0.0799999999999997,1000,919.199634331676,0.0107003493550282,0.000293738592342165,-0.0187638141751784,-0.00888796511294452,47,0.000243977585925907,0.272265929847387,"58_1_M",{"$f":"VLOOKUP(P328,#REF!,11,FALSE)","v":{"$error":"#REF!"}},{"$error":"#REF!"}]
["59_1_M",1,59,"M",0,0.0799999999999997,1000,921.031957287143,0.00810034633375772,-0.00363655767178027,-0.0196375157328547,-0.00981516536735017,46,0.000218815471240038,0.242800594884671,"59_1_M",{"$f":"VLOOKUP(P329,#REF!,11,FALSE)","v":{"$error":"#REF!"}},{"$error":"#REF!"}]
["0_20_F",20,0,"F",0.837532387243709,0.158612826007287,1000,841.475883220461,0.0131208126482371,0.428996004505365,0.0228850576334418,0.0496043867410954,1285,0.000636676743679626,7.60068515997811,{"$f":"C330&\"_\"&B330&\"_\"&D330","v":"0_20_F"},{"$f":"VLOOKUP(P330,#REF!,11,FALSE)","v":{"$error":"#REF!"}},{"$error":"#REF!"}]
["1_20_F",20,1,"F",0.830720479930906,0.158606082521523,1000,841.203686967936,0.0138098433889947,0.427919624026236,0.0216147565398952,0.0493238453072664,1272,0.000636735682312579,7.59319577922542,"1_20_F",{"$f":"VLOOKUP(P331,#REF!,11,FALSE)","v":{"$error":"#REF!"}},{"$error":"#REF!"}]
["2_20_F",20,2,"F",0.824260850894887,0.158602629494134,1000,841.508756992114,0.0115268406652595,0.425033978597682,0.0203134994463878,0.0490424458652388,1260,0.000633928698832143,7.55422443346005,"2_20_F",{"$f":"VLOOKUP(P332,#REF!,11,FALSE)","v":{"$error":"#REF!"}},{"$error":"#REF!"}]
["3_20_F",20,3,"F",0.817153337068557,0.158601308439823,1000,841.519121832013,0.0106721359394229,0.422765767480947,0.0189464560909658,0.0487197313098325,1247,0.00063237602394858,7.52759075382978,"3_20_F",{"$f":"VLOOKUP(P333,#REF!,11,FALSE)","v":{"$error":"#REF!"}},{"$error":"#REF!"}]
["4_20_F",20,4,"F",0.809396543776389,0.158601269936687,1000,841.237618166667,0.0111133469280445,0.421125885611938,0.0175136840534454,0.048376055954987,1233,0.000632014192737751,7.51241271318455,"4_20_F",{"$f":"VLOOKUP(P334,#REF!,11,FALSE)","v":{"$error":"#REF!"}},{"$error":"#REF!"}]
["5_20_F",20,5,"F",0.801966607699191,0.158601951269381,1000,841.54569147276,0.00833797329096405,0.417298301559834,0.0160452221275756,0.0480689895960038,1220,0.000628617231677592,7.46373196777915,"5_20_F",{"$f":"VLOOKUP(P335,#REF!,11,FALSE)","v":{"$error":"#REF!"}},{"$error":"#REF!"}]
["6_20_F",20,6,"F",0.793868799944664,0.158603036957571,1000,841.56634036478,0.0069060193972279,0.414135981002848,0.0145091523930351,0.0477300384001813,1206,0.000626438111281167,7.4268124342353,"6_20_F",{"$f":"VLOOKUP(P336,#REF!,11,FALSE)","v":{"$error":"#REF!"}},{"$error":"#REF!"}]
["7_20_F",20,7,"F",0.785102077638598,0.158604409903963,1000,841.309806759425,0.00688613559370517,0.411771679475621,0.0129054102343735,0.0473407144764736,1191,0.000625490975796039,7.40186640688965,"7_20_F",{"$f":"VLOOKUP(P337,#REF!,11,FALSE)","v":{"$error":"#REF!"}},{"$error":"#REF!"}]
["8_20_F",20,8,"F",0.776136876189972,0.158605992775902,1000,841.208801029121,0.00581060146877972,0.408462747585193,0.0112474431001979,0.0469437421080675,1176,0.00062354123733849,7.36482667813649,"8_20_F",{"$f":"VLOOKUP(P338,#REF!,11,FALSE)","v":{"$error":"#REF!"}},{"$error":"#REF!"}]
["9_20_F",20,9,"F",0.766965298820795,0.158607718455632,1000,841.277790763546,0.00384462499115504,0.404533298379795,0.00953358247088635,0.0465383497485685,1161,0.000620652329316909,7.3166489038942,"9_20_F",{"$f":"VLOOKUP(P339,#REF!,11,FALSE)","v":{"$error":"#REF!"}},{"$error":"#REF!"}]
["10_20_F",20,10,"F",0.757569688843858,0.158609532286572,1000,841.513224999004,0.000735252576053042,0.399539763494794,0.00776174868736468,0.0461232077488725,1146,0.000616705589253584,7.25568300243491,"10_20_F",{"$f":"VLOOKUP(P340,#REF!,11,FALSE)","v":{"$error":"#REF!"}},{"$error":"#REF!"}]
["11_20_F",20,11,"F",0.747467177202935,0.158611396239966,1000,841.485343003478,-0.00115268130794312,0.39518413548929,0.00591902858728102,0.0456938938430872,1130,0.000613854879230911,7.2047824711233,"11_20_F",{"$f":"VLOOKUP(P341,#REF!,11,FALSE)","v":{"$error":"#REF!"}},{"$error":"#REF!"}]
["12_20_F",20,12,"F",0.736654141989553,0.158613290304417,1000,841.200009713506,-0.00170383279624033,0.391538643579662,0.00400598545928589,0.0452303171658344,1113,0.000612175675875924,7.16482493484678,"12_20_F",{"$f":"VLOOKUP(P342,#REF!,11,FALSE)","v":{"$error":"#REF!"}},{"$error":"#REF!"}]
["13_20_F",20,13,"F",0.726047499435108,0.158615211663285,1000,841.526962818305,-0.00579448049397537,0.385352202406557,0.00203906105814387,0.0447993511532554,1097,0.000607173766386788,7.08787680843697,"13_20_F",{"$f":"VLOOKUP(P343,#REF!,11,FALSE)","v":{"$error":"#REF!"}},{"$error":"#REF!"}]
["14_20_F",20,14,"F",0.714694126576707,0.158617165359837,1000,841.612164879938,-0.00873627998183284,0.379720700319092,1.85753545075626e-5,0.0443318084113694,1080,0.000603178066605691,7.01998366391406,"14_20_F",{"$f":"VLOOKUP(P344,#REF!,11,FALSE)","v":{"$error":"#REF!"}},{"$error":"#REF!"}]
["15_20_F",20,15,"F",0.702601502944247,0.158619187912114,1000,841.455746690129,-0.0105532493543888,0.37470574391363,-0.00207679671156878,0.0438230288071856,1062,0.000600220257136232,6.96120495091266,"15_20_F",{"$f":"VLOOKUP(P345,#REF!,11,FALSE)","v":{"$error":"#REF!"}},{"$error":"#REF!"}]
["16_20_F",20,16,"F",0.690210123033972,0.158621331225516,1000,841.492967999509,-0.0136277599741723,0.368471620936469,-0.00423936365440561,0.043291258787545,1044,0.00059605631921099,6.88766870733312,"16_20_F",{"$f":"VLOOKUP(P346,#REF!,11,FALSE)","v":{"$error":"#REF!"}},{"$error":"#REF!"}]
["17_20_F",20,17,"F",0.677061581873012,0.158623637082234,1000,841.295730120376,-0.0156022583966753,0.362767384502203,-0.00647757341015675,0.0427094199203956,1025,0.000592910587467066,6.82276721707839,"17_20_F",{"$f":"VLOOKUP(P347,#REF!,11,FALSE)","v":{"$error":"#REF!"}},{"$error":"#REF!"}]
["18_20_F",20,18,"F",0.63162809221651,0.158626171351796,1000,841.227808544203,-0.00361436912338961,0.380373323799582,-0.0157869861567729,0.041306087315967,1236,0.000599979762938386,7.0030066916539,"18_20_F",{"$f":"VLOOKUP(P348,#REF!,11,FALSE)","v":{"$error":"#REF!"}},{"$error":"#REF!"}]
["19_20_F",20,19,"F",0.613678871352157,0.158628982463107,1000,841.602922634019,-0.00718679223884572,0.375188397321902,-0.018754415314359,0.0403460586873672,1223,0.000595664047624633,6.93998784831853,"19_20_F",{"$f":"VLOOKUP(P349,#REF!,11,FALSE)","v":{"$error":"#REF!"}},{"$error":"#REF!"}]
["20_20_F",20,20,"F",0.59408936014115,0.158632132527018,1000,841.273921980707,-0.00698700726610021,0.372303904819111,-0.0218473502215486,0.039280984644511,1208,0.000594804956704695,6.9128533019973,"20_20_F",{"$f":"VLOOKUP(P350,#REF!,11,FALSE)","v":{"$error":"#REF!"}},{"$error":"#REF!"}]
["21_20_F",20,21,"F",0.574091297223914,0.158635671198906,1000,841.53246192365,-0.0102101734332493,0.367055626554096,-0.0250576654918021,0.0381931222729381,1194,0.000590770737946016,6.85044776427773,"21_20_F",{"$f":"VLOOKUP(P351,#REF!,11,FALSE)","v":{"$error":"#REF!"}},{"$error":"#REF!"}]
["22_20_F",20,22,"F",0.552801488422154,0.158639652601526,1000,841.531559190493,-0.012167485977958,0.36240934041803,-0.028395704813344,0.0370306801289944,1179,0.000587897431493753,6.79914513333286,"22_20_F",{"$f":"VLOOKUP(P352,#REF!,11,FALSE)","v":{"$error":"#REF!"}},{"$error":"#REF!"}]
["23_20_F",20,23,"F",0.530185383341058,0.158644143408782,1000,841.269920921033,-0.0128744226339677,0.358416495793855,-0.0318622800101343,0.0358197356969241,1163,0.000586189930128189,6.75887978840132,"23_20_F",{"$f":"VLOOKUP(P353,#REF!,11,FALSE)","v":{"$error":"#REF!"}},{"$error":"#REF!"}]
["24_20_F",20,24,"F",0.506605229093804,0.158649196152923,1000,841.19238335976,-0.0145650954695896,0.353623492293095,-0.0354603625367503,0.0345291054453678,1147,0.000583431690732945,6.70613434373062,"24_20_F",{"$f":"VLOOKUP(P354,#REF!,11,FALSE)","v":{"$error":"#REF!"}},{"$error":"#REF!"}]
["25_20_F",20,25,"F",0.481994608113742,0.158654866368846,1000,841.283344614108,-0.017476264924143,0.347688037949062,-0.039194216325264,0.0332042132647409,1131,0.000579560236113219,6.63982363597747,"25_20_F",{"$f":"VLOOKUP(P355,#REF!,11,FALSE)","v":{"$error":"#REF!"}},{"$error":"#REF!"}]
["26_20_F",20,26,"F",0.456296544754701,0.158661215609511,1000,841.562849510486,-0.0214651928778268,0.340850002227532,-0.0430693552597694,0.0317891356932732,1115,0.000574562842751718,6.5600529075833,"26_20_F",{"$f":"VLOOKUP(P356,#REF!,11,FALSE)","v":{"$error":"#REF!"}},{"$error":"#REF!"}]
["27_20_F",20,27,"F",0.428718349009353,0.158668300197009,1000,841.16934538009,-0.0220708918207925,0.336130022590811,-0.0470782591864907,0.0302903077374652,1097,0.000572837747159397,6.51326457632123,"27_20_F",{"$f":"VLOOKUP(P357,#REF!,11,FALSE)","v":{"$error":"#REF!"}},{"$error":"#REF!"}]
["28_20_F",20,28,"F",0.400311119782863,0.158676191573222,1000,841.401708740981,-0.0261165767123526,0.328898838919097,-0.0512390886058013,0.0287455230704581,1080,0.000567702162963939,6.42869311437494,"28_20_F",{"$f":"VLOOKUP(P358,#REF!,11,FALSE)","v":{"$error":"#REF!"}},{"$error":"#REF!"}]
["29_20_F",20,29,"F",0.370292106638127,0.158684961144038,1000,841.4157023765,-0.0292159046147814,0.321960174248185,-0.0555434458102214,0.0271031666105286,1062,0.000563473698249949,6.35193862202702,"29_20_F",{"$f":"VLOOKUP(P359,#REF!,11,FALSE)","v":{"$error":"#REF!"}},{"$error":"#REF!"}]
["30_20_F",20,30,"F",0.338614951169062,0.158694670965794,1000,841.203196393695,-0.031290650082017,0.31543586532631,-0.0599908793918859,0.0253852031746371,1043,0.000560228127824118,6.28361297685771,"30_20_F",{"$f":"VLOOKUP(P360,#REF!,11,FALSE)","v":{"$error":"#REF!"}},{"$error":"#REF!"}]
["31_20_F",20,31,"F",0.305552904873107,0.158705398697322,1000,841.189112933632,-0.0347299105191869,0.307922672392193,-0.0645927924029499,0.0235931638969397,1024,0.000555679031095124,6.19940316325483,"31_20_F",{"$f":"VLOOKUP(P361,#REF!,11,FALSE)","v":{"$error":"#REF!"}},{"$error":"#REF!"}]
["32_20_F",20,32,"F",0.271026419256783,0.158717216172677,1000,841.382224082946,-0.0393710965324051,0.299308459969227,-0.0693535512831996,0.0216783563016358,1005,0.00054985312625975,6.09980130713188,"32_20_F",{"$f":"VLOOKUP(P362,#REF!,11,FALSE)","v":{"$error":"#REF!"}},{"$error":"#REF!"}]
["33_20_F",20,33,"F",0.234669303581734,0.158730215517101,1000,841.398202973603,-0.043443499149797,0.290732022885203,-0.0742620902012553,0.0196759551465384,985,0.000544625816397838,6.00433532345498,"33_20_F",{"$f":"VLOOKUP(P363,#REF!,11,FALSE)","v":{"$error":"#REF!"}},{"$error":"#REF!"}]
["34_20_F",20,34,"F",0.196423247063324,0.158744481194096,1000,841.20059110552,-0.0464693575378984,0.282659081503076,-0.079315096272343,0.0175700910306718,964,0.000540393242208445,5.91714899541583,"34_20_F",{"$f":"VLOOKUP(P364,#REF!,11,FALSE)","v":{"$error":"#REF!"}},{"$error":"#REF!"}]
["35_20_F",20,35,"F",0.156502619077596,0.158760106916307,1000,841.230621159788,-0.0510883584878118,0.273066676320708,-0.084530674813968,0.0153167342399713,943,0.000534595848211228,5.81107571641992,"35_20_F",{"$f":"VLOOKUP(P365,#REF!,11,FALSE)","v":{"$error":"#REF!"}},{"$error":"#REF!"}]
["36_20_F",20,36,"F",0.114562112136794,0.158777186914179,1000,841.063228226644,-0.0549131387711675,0.264025860112595,-0.0898882302061266,0.0129582577737309,921,0.000529643296549954,5.71137458881332,"36_20_F",{"$f":"VLOOKUP(P366,#REF!,11,FALSE)","v":{"$error":"#REF!"}},{"$error":"#REF!"}]
["37_20_F",20,37,"F",0.0708047338008877,0.158795824656193,1000,841.159055284379,-0.0603728015548898,0.25353056102496,-0.0954175480763483,0.0105606856111244,899,0.000522957941153397,5.59133306615838,"37_20_F",{"$f":"VLOOKUP(P367,#REF!,11,FALSE)","v":{"$error":"#REF!"}},{"$error":"#REF!"}]
["38_20_F",20,38,"F",0.024895601543418,0.158816119387508,1000,841.083512500038,-0.0651751846917244,0.243032749395498,-0.101085803242896,0.00794059773672092,876,0.000516943505150053,5.47571422097868,"38_20_F",{"$f":"VLOOKUP(P368,#REF!,11,FALSE)","v":{"$error":"#REF!"}},{"$error":"#REF!"}]
["39_20_F",20,39,"F",0,0.158838171142549,1000,841.2376406048,-0.0716118047471306,0.231167562843384,-0.106915174019922,0.0044647166310224,853,0.000509271704589391,5.34017077524389,"39_20_F",{"$f":"VLOOKUP(P369,#REF!,11,FALSE)","v":{"$error":"#REF!"}},{"$error":"#REF!"}]
["40_20_F",20,40,"F",0,0.158862098040028,1000,841.231966114078,-0.0776551626357627,0.21927529682199,-0.112876815620472,-5.3525064701624e-5,829,0.000502118913506986,5.20712389117604,"40_20_F",{"$f":"VLOOKUP(P370,#REF!,11,FALSE)","v":{"$error":"#REF!"}},{"$error":"#REF!"}]
["41_20_F",20,41,"F",0,0.158888023539459,1000,841.092205000464,-0.083231870446677,0.207375105089886,-0.118963137831789,-0.0046911506928287,804,0.00049542155479808,5.0761090786194,"41_20_F",{"$f":"VLOOKUP(P371,#REF!,11,FALSE)","v":{"$error":"#REF!"}},{"$error":"#REF!"}]
["42_20_F",20,42,"F",0,0.158916104599672,1000,841.218698081761,-0.0905840307329841,0.193948219896629,-0.125200568188767,-0.00952380267017179,779,0.000486811969918647,4.92276275377619,"42_20_F",{"$f":"VLOOKUP(P372,#REF!,11,FALSE)","v":{"$error":"#REF!"}},{"$error":"#REF!"}]
["43_20_F",20,43,"F",0,0.158946502174699,1000,841.20374761999,-0.0975718265166142,0.180646783112033,-0.131549118363433,-0.014518332753394,753,0.000478649829051353,4.77104659098907,"43_20_F",{"$f":"VLOOKUP(P373,#REF!,11,FALSE)","v":{"$error":"#REF!"}},{"$error":"#REF!"}]
["44_20_F",20,44,"F",0,0.158979410374648,1000,841.039185167894,-0.104413594376705,0.167263244412202,-0.137996473421043,-0.0197032765199105,726,0.00047082880702369,4.61938463382825,"44_20_F",{"$f":"VLOOKUP(P374,#REF!,11,FALSE)","v":{"$error":"#REF!"}},{"$error":"#REF!"}]
["45_20_F",20,45,"F",0,0.159015058308672,1000,840.77805587791,-0.111063327893499,0.153533042537197,-0.14453174366245,-0.0249747035486463,698,0.000463225520690731,4.46703144955241,"45_20_F",{"$f":"VLOOKUP(P375,#REF!,11,FALSE)","v":{"$error":"#REF!"}},{"$error":"#REF!"}]
["0_15_F",15,0,"F",0.705680550600005,0.158582561523887,1000,841.38997518174,0.115324220624603,0.447872311614178,0.0226289014129279,0.0439666702605482,1017,0.000659782799728629,6.74017159020675,"0_15_F",{"$f":"VLOOKUP(P376,#REF!,11,FALSE)","v":{"$error":"#REF!"}},{"$error":"#REF!"}]
["1_15_F",15,1,"F",0.700848392542119,0.15857572965169,1000,841.537475578099,0.114177570675949,0.445904514984711,0.0216640392169706,0.0437924115074822,1008,0.000657902890556867,6.71706859556806,"1_15_F",{"$f":"VLOOKUP(P377,#REF!,11,FALSE)","v":{"$error":"#REF!"}},{"$error":"#REF!"}]
["2_15_F",15,2,"F",0.695383499959103,0.158572012318717,1000,841.266404001741,0.114998092832382,0.444982105444788,0.0206431489584961,0.0435759227633317,998,0.000657892392868775,6.71023457430642,"2_15_F",{"$f":"VLOOKUP(P378,#REF!,11,FALSE)","v":{"$error":"#REF!"}},{"$error":"#REF!"}]
["3_15_F",15,3,"F",0.690323499398699,0.158570334768343,1000,841.684646471364,0.112277695129903,0.441645608608948,0.0196019864798732,0.04337799989691,989,0.000654351174642862,6.67023427066633,"3_15_F",{"$f":"VLOOKUP(P379,#REF!,11,FALSE)","v":{"$error":"#REF!"}},{"$error":"#REF!"}]
["4_15_F",15,4,"F",0.684621833171684,0.158569898802136,1000,841.684974713338,0.111533867470885,0.439417361099748,0.0185038089359554,0.0431463834800632,979,0.000652688667884553,6.64655126897461,"4_15_F",{"$f":"VLOOKUP(P380,#REF!,11,FALSE)","v":{"$error":"#REF!"}},{"$error":"#REF!"}]
["5_15_F",15,5,"F",0.678283066498842,0.158570161391049,1000,841.280302997435,0.112652288625166,0.438260953398905,0.0173488524989973,0.0428672416967305,968,0.000652830082040261,6.63840834864044,"5_15_F",{"$f":"VLOOKUP(P381,#REF!,11,FALSE)","v":{"$error":"#REF!"}},{"$error":"#REF!"}]
["6_15_F",15,6,"F",0.672320854528361,0.158570808500751,1000,841.570052691408,0.110227052558833,0.43469501939269,0.016169965391651,0.0426123893187112,958,0.000649416408742044,6.59688995649924,"6_15_F",{"$f":"VLOOKUP(P382,#REF!,11,FALSE)","v":{"$error":"#REF!"}},{"$error":"#REF!"}]
["7_15_F",15,7,"F",0.665704233279065,0.158571726736284,1000,841.456438520515,0.109720737000024,0.43226542418268,0.0149331984550054,0.042320066219661,947,0.000647822514443346,6.5710603544752,"7_15_F",{"$f":"VLOOKUP(P383,#REF!,11,FALSE)","v":{"$error":"#REF!"}},{"$error":"#REF!"}]
["8_15_F",15,8,"F",0.658934423877135,0.158572840157541,1000,841.49366304398,0.10823735083914,0.428944377237962,0.0136538603360248,0.0419860272315388,936,0.00064524190539898,6.53513749822304,"8_15_F",{"$f":"VLOOKUP(P384,#REF!,11,FALSE)","v":{"$error":"#REF!"}},{"$error":"#REF!"}]
["9_15_F",15,9,"F",0.652001504363515,0.158574079130619,1000,841.687221191604,0.105946649129363,0.425009909870071,0.0123307560603758,0.0416347988390696,925,0.000641768222623764,6.4901110806597,"9_15_F",{"$f":"VLOOKUP(P385,#REF!,11,FALSE)","v":{"$error":"#REF!"}},{"$error":"#REF!"}]
["10_15_F",15,10,"F",0.644397647986076,0.158575383708981,1000,841.48854335159,0.105500395886048,0.422201407565597,0.0109485430755425,0.0412577436065533,913,0.000640062458153418,6.46005600478382,"10_15_F",{"$f":"VLOOKUP(P386,#REF!,11,FALSE)","v":{"$error":"#REF!"}},{"$error":"#REF!"}]
["11_15_F",15,11,"F",0.636614164187612,0.158576707306382,1000,841.452981619167,0.104059013913972,0.418466237111212,0.00952069259438061,0.0408688518595677,901,0.000637343953650541,6.41953312771858,"11_15_F",{"$f":"VLOOKUP(P387,#REF!,11,FALSE)","v":{"$error":"#REF!"}},{"$error":"#REF!"}]
["12_15_F",15,12,"F",0.628640177001485,0.158578021199996,1000,841.588104119747,0.101648035364008,0.413884308814604,0.0080458592201518,0.0404878799534058,889,0.000633596853758711,6.36842365495132,"12_15_F",{"$f":"VLOOKUP(P388,#REF!,11,FALSE)","v":{"$error":"#REF!"}},{"$error":"#REF!"}]
["13_15_F",15,13,"F",0.619982461071994,0.15857931168518,1000,841.349080373971,0.101052737546893,0.410348300444797,0.00650765576118905,0.040070475550008,876,0.000631577048124794,6.33191119134651,"13_15_F",{"$f":"VLOOKUP(P389,#REF!,11,FALSE)","v":{"$error":"#REF!"}},{"$error":"#REF!"}]
[{"$f":"P390","v":"14_15_F"},15,14,"F",0.611097319168385,0.15858056868923,1000,841.279790260248,0.0993519048107122,0.405803332584142,0.00494163124878458,0.0396612216605985,863,0.000628438405089747,6.28368294273072,"14_15_F",{"$f":"VLOOKUP(P390,#REF!,11,FALSE)","v":{"$error":"#REF!"}},{"$f":"Q390/$Q$1","v":{"$error":"#REF!"}}]
["15_15_F",15,15,"F",0.601989789779402,0.158581814198289,1000,841.397698544451,0.096661655550024,0.40042818532508,0.00332412144667655,0.0392193530013686,850,0.000624227571203648,6.22440206691791,"15_15_F",{"$f":"VLOOKUP(P391,#REF!,11,FALSE)","v":{"$error":"#REF!"}},{"$error":"#REF!"}]
["16_15_F",15,16,"F",0.592641614968996,0.158583086081562,1000,841.697490736969,0.0928167841594274,0.394068298020045,0.00165324086854027,0.0387848629759041,837,0.000618837293099642,6.15281783947123,"16_15_F",{"$f":"VLOOKUP(P392,#REF!,11,FALSE)","v":{"$error":"#REF!"}},{"$error":"#REF!"}]
["17_15_F",15,17,"F",0.582573814332255,0.15858441012667,1000,841.638168287945,0.0906000899381516,0.38853892793023,-8.08722280279e-5,0.0383090261083336,823,0.000615043110122428,6.09401749725777,"17_15_F",{"$f":"VLOOKUP(P393,#REF!,11,FALSE)","v":{"$error":"#REF!"}},{"$error":"#REF!"}]
["18_15_F",15,18,"F",0.54825712860389,0.158585839008495,1000,841.520709747379,0.0982870399202028,0.403316287818359,-0.00712077932359544,0.0369085655307806,982,0.000621806983064099,6.23314884923897,{"$f":"C394&\"_\"&B394&\"_\"&D394","v":"18_15_F"},{"$f":"VLOOKUP(P394,#REF!,11,FALSE)","v":{"$error":"#REF!"}},{"$error":"#REF!"}]
["19_15_F",15,19,"F",0.533879615130201,0.158587406097086,1000,841.179145694007,0.0986257250432787,0.400907123397546,-0.00941652163174829,0.0361454999018157,971,0.00062113622086962,6.21422826872897,"19_15_F",{"$f":"VLOOKUP(P395,#REF!,11,FALSE)","v":{"$error":"#REF!"}},{"$error":"#REF!"}]
["20_15_F",15,20,"F",0.51933803847968,0.15858916017125,1000,841.519968258314,0.0955356824982639,0.396165834900844,-0.0117973036412939,0.0353654233726576,961,0.000616927001142141,6.16203586985074,"20_15_F",{"$f":"VLOOKUP(P396,#REF!,11,FALSE)","v":{"$error":"#REF!"}},{"$error":"#REF!"}]
["21_15_F",15,21,"F",0.503705691158704,0.15859113425567,1000,841.474143253662,0.0941997937368649,0.392360769140123,-0.0142775482283558,0.0345166746024772,950,0.000614468236551879,6.12481667934842,"21_15_F",{"$f":"VLOOKUP(P397,#REF!,11,FALSE)","v":{"$error":"#REF!"}},{"$error":"#REF!"}]
["22_15_F",15,22,"F",0.487388138020968,0.15859336501001,1000,841.578746939077,0.0920683134652008,0.387923408784581,-0.0168550251426499,0.0336201894080119,939,0.000611145976635192,6.07875105352668,"22_15_F",{"$f":"VLOOKUP(P398,#REF!,11,FALSE)","v":{"$error":"#REF!"}},{"$error":"#REF!"}]
["23_15_F",15,23,"F",0.469926249950127,0.158595902874529,1000,841.309635499342,0.0917627385190234,0.384614798343008,-0.0195349895853343,0.032641114213733,927,0.000609607522858828,6.0480104701846,"23_15_F",{"$f":"VLOOKUP(P399,#REF!,11,FALSE)","v":{"$error":"#REF!"}},{"$error":"#REF!"}]
["24_15_F",15,24,"F",0.451713240493606,0.158598781292138,1000,841.216128679689,0.0903965615811885,0.38043321824515,-0.0223175829425425,0.0316335389920798,915,0.00060695523521608,6.00589348347822,"24_15_F",{"$f":"VLOOKUP(P400,#REF!,11,FALSE)","v":{"$error":"#REF!"}},{"$error":"#REF!"}]
["25_15_F",15,25,"F",0.432693744436877,0.158602036713553,1000,841.277589378979,0.0881058403891292,0.375429871916801,-0.0252062624610301,0.0305498076382368,903,0.000603337979526581,5.95374546671066,"25_15_F",{"$f":"VLOOKUP(P401,#REF!,11,FALSE)","v":{"$error":"#REF!"}},{"$error":"#REF!"}]
["26_15_F",15,26,"F",0.41282426881875,0.158605709964925,1000,841.517111368975,0.084714870164584,0.369419064188747,-0.0282054863514912,0.0294442704828748,891,0.000598585653639092,5.88992939807832,"26_15_F",{"$f":"VLOOKUP(P402,#REF!,11,FALSE)","v":{"$error":"#REF!"}},{"$error":"#REF!"}]
["27_15_F",15,27,"F",0.391666980003208,0.158609834804775,1000,841.397599375858,0.0831287965676763,0.364529277226266,-0.0313148298081508,0.0282336990947044,878,0.000595598671358465,5.84106006337653,"27_15_F",{"$f":"VLOOKUP(P403,#REF!,11,FALSE)","v":{"$error":"#REF!"}},{"$error":"#REF!"}]
["28_15_F",15,28,"F",0.369571869719577,0.158614459569127,1000,841.462193253728,0.0804735266977748,0.358649449926424,-0.0345390305922495,0.0269866972974911,865,0.000591465538442833,5.78045275490654,"28_15_F",{"$f":"VLOOKUP(P404,#REF!,11,FALSE)","v":{"$error":"#REF!"}},{"$error":"#REF!"}]
["29_15_F",15,29,"F",0.346120802370358,0.158619632255282,1000,841.189352011282,0.0792910594308585,0.353596440361982,-0.037875378559107,0.0256869601654867,851,0.000588852426211113,5.73217024208682,"29_15_F",{"$f":"VLOOKUP(P405,#REF!,11,FALSE)","v":{"$error":"#REF!"}},{"$error":"#REF!"}]
["30_15_F",15,30,"F",0.321981694668941,0.158625390974801,1000,841.628345591915,0.0744279670003154,0.34584116749036,-0.0413401876556507,0.0243241653858757,838,0.000582347314638495,5.64705440328782,"30_15_F",{"$f":"VLOOKUP(P406,#REF!,11,FALSE)","v":{"$error":"#REF!"}},{"$error":"#REF!"}]
["31_15_F",15,31,"F",0.296044982295653,0.15863178866389,1000,841.197942621248,0.073703152569077,0.340785994220461,-0.0449105444416781,0.0228483294677305,823,0.000580189648486106,5.59977556894816,"31_15_F",{"$f":"VLOOKUP(P407,#REF!,11,FALSE)","v":{"$error":"#REF!"}},{"$error":"#REF!"}]
["32_15_F",15,32,"F",0.26929778880858,0.15863887000348,1000,841.513988688177,0.0690946683489152,0.332869232644022,-0.0486173786297391,0.0213473235582197,809,0.000573888224217456,5.51339620684755,"32_15_F",{"$f":"VLOOKUP(P408,#REF!,11,FALSE)","v":{"$error":"#REF!"}},{"$error":"#REF!"}]
["33_15_F",15,33,"F",0.24100440254847,0.158646701214667,1000,841.499279978396,0.066004976883413,0.325804586479015,-0.0524400957441039,0.0197242986948303,794,0.000569131144484806,5.43937103490556,"33_15_F",{"$f":"VLOOKUP(P409,#REF!,11,FALSE)","v":{"$error":"#REF!"}},{"$error":"#REF!"}]
["34_15_F",15,34,"F",0.211133941187004,0.158655340829145,1000,841.168765532377,0.0641909539761901,0.319313761784801,-0.0563771366730162,0.0180093239418295,778,0.00056579344371324,5.37622869209209,"34_15_F",{"$f":"VLOOKUP(P410,#REF!,11,FALSE)","v":{"$error":"#REF!"}},{"$error":"#REF!"}]
["35_15_F",15,35,"F",0.180213943345278,0.158664854932558,1000,841.571589461954,0.0585403963589958,0.309477241796967,-0.0604617817282767,0.016250606046089,763,0.000558290834408584,5.4552767277332,"35_15_F",{"$f":"VLOOKUP(P411,#REF!,11,FALSE)","v":{"$error":"#REF!"}},{"$error":"#REF!"}]
["36_15_F",15,36,"F",0.147324986669262,0.158675308894217,1000,841.151880175293,0.0568353762265946,0.302782862861343,-0.064641040883645,0.0143396779951589,746,0.000555040087223777,5.39014879459319,"36_15_F",{"$f":"VLOOKUP(P412,#REF!,11,FALSE)","v":{"$error":"#REF!"}},{"$error":"#REF!"}]
["37_15_F",15,37,"F",0.113242598781275,0.158686780013869,1000,841.500079374744,0.0509218236461597,0.292888019150081,-0.0689820689875894,0.0124077057025448,730,0.000547223047526879,5.28209331361367,"37_15_F",{"$f":"VLOOKUP(P413,#REF!,11,FALSE)","v":{"$error":"#REF!"}},{"$error":"#REF!"}]
["38_15_F",15,38,"F",0.0773477375250312,0.158699339072208,1000,841.53990863188,0.0464438509235723,0.283898288775391,-0.0734347521407401,0.0103396751996859,713,0.000540922035876255,5.18569103683599,"38_15_F",{"$f":"VLOOKUP(P414,#REF!,11,FALSE)","v":{"$error":"#REF!"}},{"$error":"#REF!"}]
["39_15_F",15,39,"F",0.0396022159778772,0.158713053915422,1000,841.292170584353,0.0430111177858859,0.275496210882276,-0.0779950765366521,0.00812629133030099,695,0.000535865715606428,5.09803837787381,"39_15_F",{"$f":"VLOOKUP(P415,#REF!,11,FALSE)","v":{"$error":"#REF!"}},{"$error":"#REF!"}]
["40_15_F",15,40,"F",0.000160649536395173,0.158728001101207,1000,841.293008970984,0.0381801668009209,0.265720784540969,-0.0826863081001867,0.00579705733755901,677,0.000529202675377677,4.994092904327,"40_15_F",{"$f":"VLOOKUP(P416,#REF!,11,FALSE)","v":{"$error":"#REF!"}},{"$error":"#REF!"}]
["41_15_F",15,41,"F",0,0.158744248296924,1000,841.042264611869,0.0342121489887722,0.256227627507191,-0.0874782779707182,0.00211534643816189,658,0.000523565297360525,4.89681480836063,"41_15_F",{"$f":"VLOOKUP(P417,#REF!,11,FALSE)","v":{"$error":"#REF!"}},{"$error":"#REF!"}]
["42_15_F",15,42,"F",0,0.158761880718514,1000,841.029252464197,0.0288133975621067,0.245567279378185,-0.0923971058210276,-0.00168528854289686,639,0.000516337500831414,4.78315158534098,"42_15_F",{"$f":"VLOOKUP(P418,#REF!,11,FALSE)","v":{"$error":"#REF!"}},{"$error":"#REF!"}]
["43_15_F",15,43,"F",0,0.158780963968538,1000,841.275198789165,0.0217331942998179,0.233574704755065,-0.0974431848019857,-0.00567728963748631,620,0.000507222886707295,4.65039683560779,"43_15_F",{"$f":"VLOOKUP(P419,#REF!,11,FALSE)","v":{"$error":"#REF!"}},{"$error":"#REF!"}]
["44_15_F",15,44,"F",0,0.158801575124107,1000,841.289323613063,0.0154032328789035,0.22190571771818,-0.102574480836915,-0.00980380680464294,600,0.000498990866757748,4.52294125060367,"44_15_F",{"$f":"VLOOKUP(P420,#REF!,11,FALSE)","v":{"$error":"#REF!"}},{"$error":"#REF!"}]
["45_15_F",15,45,"F",0,0.158823810130765,1000,841.066458568216,0.0099950239962849,0.210535012118156,-0.107781467739291,-0.0140660279225682,579,0.00049187748234577,4.4027686067306,"45_15_F",{"$f":"VLOOKUP(P421,#REF!,11,FALSE)","v":{"$error":"#REF!"}},{"$error":"#REF!"}]
["46_15_F",15,46,"F",0,0.158847782655382,1000,841.110911988482,0.0027885956127462,0.197817453620714,-0.113098247895942,-0.0184078762170835,558,0.000482730681717034,4.26213229669795,"46_15_F",{"$f":"VLOOKUP(P422,#REF!,11,FALSE)","v":{"$error":"#REF!"}},{"$error":"#REF!"}]
["47_15_F",15,47,"F",0,0.158873630151003,1000,840.917220420047,-0.00373971367328248,0.185434608910849,-0.118473160395715,-0.0229315994095479,536,0.000474533704111675,4.12679322945131,"47_15_F",{"$f":"VLOOKUP(P423,#REF!,11,FALSE)","v":{"$error":"#REF!"}},{"$error":"#REF!"}]
["48_15_F",15,48,"F",0,0.158901517562747,1000,841.05563214269,-0.0122292042296721,0.171380957257555,-0.123945767622186,-0.0271091818804776,514,0.000463875525541415,3.96792628325995,"48_15_F",{"$f":"VLOOKUP(P424,#REF!,11,FALSE)","v":{"$error":"#REF!"}},{"$error":"#REF!"}]
["49_15_F",15,49,"F",0,0.158931659774615,1000,840.974543033179,-0.0201163188912735,0.156845947284768,-0.129458566269629,-0.0318448359851388,491,0.000454087208276936,3.81365972148579,"49_15_F",{"$f":"VLOOKUP(P425,#REF!,11,FALSE)","v":{"$error":"#REF!"}},{"$error":"#REF!"}]
["50_15_F",15,50,"F",0,0.158964311347835,1000,841.181199911377,-0.0299622843156026,0.140499926687145,-0.135053557386175,-0.0368921774863632,468,0.000441901830659401,3.6362132110303,"50_15_F",{"$f":"VLOOKUP(P426,#REF!,11,FALSE)","v":{"$error":"#REF!"}},{"$error":"#REF!"}]
["0_10_F",10,0,"F",0.530162781513167,0.158845637888762,1000,841.218997682912,0.0906918535602013,0.362071099644786,0.0205823142313603,0.0356293484301008,697,0.000611061337971494,4.97129174920529,"0_10_F",{"$f":"VLOOKUP(P427,#REF!,11,FALSE)","v":{"$error":"#REF!"}},{"$error":"#REF!"}]
["1_10_F",10,1,"F",0.526915618315153,0.158836404966948,1000,841.348436753263,0.0898406592672831,0.36030561038998,0.0199300210687259,0.0354844058060816,691,0.000609195277806614,4.9544409815344,"1_10_F",{"$f":"VLOOKUP(P428,#REF!,11,FALSE)","v":{"$error":"#REF!"}},{"$error":"#REF!"}]
["2_10_F",10,2,"F",0.523049667868741,0.158831111693902,1000,840.828904159469,0.0916870533062606,0.360213639239312,0.0192311444486128,0.0353010617464903,684,0.000610362610781839,4.95823093213622,"2_10_F",{"$f":"VLOOKUP(P429,#REF!,11,FALSE)","v":{"$error":"#REF!"}},{"$error":"#REF!"}]
["3_10_F",10,3,"F",0.519654097329547,0.158828417176835,1000,841.216374545959,0.089733517414657,0.35756782647752,0.0185262901510718,0.0351408696248709,678,0.000607041440294416,4.93024803973099,"3_10_F",{"$f":"VLOOKUP(P430,#REF!,11,FALSE)","v":{"$error":"#REF!"}},{"$error":"#REF!"}]
["4_10_F",10,4,"F",0.515637848658519,0.158827314477821,1000,840.960329526959,0.0901855168393519,0.356234001423076,0.0177744821539903,0.0349476875221012,671,0.000606511646513701,4.92089882510936,"4_10_F",{"$f":"VLOOKUP(P431,#REF!,11,FALSE)","v":{"$error":"#REF!"}},{"$error":"#REF!"}]
["5_10_F",10,5,"F",0.511538580856359,0.158827110476611,1000,840.835718576165,0.0901606782249394,0.354550441853432,0.0169954884975913,0.034743605608636,664,0.000605303873426651,4.90643698609709,"5_10_F",{"$f":"VLOOKUP(P432,#REF!,11,FALSE)","v":{"$error":"#REF!"}},{"$error":"#REF!"}]
["6_10_F",10,6,"F",0.507350663016619,0.158827403548979,1000,840.846599363534,0.089479806200441,0.352331602133681,0.0161886009930681,0.0345363630863318,657,0.000603253791142964,4.88546514647462,"6_10_F",{"$f":"VLOOKUP(P433,#REF!,11,FALSE)","v":{"$error":"#REF!"}},{"$error":"#REF!"}]
["7_10_F",10,7,"F",0.503067197386535,0.158828060394794,1000,840.996653123423,0.0880481544325516,0.349462729961887,0.0153530176511852,0.0343126578122961,650,0.000600305965467761,4.85753283870144,"7_10_F",{"$f":"VLOOKUP(P434,#REF!,11,FALSE)","v":{"$error":"#REF!"}},{"$error":"#REF!"}]
["8_10_F",10,8,"F",0.498681252280367,0.158828994199413,1000,841.289941277744,0.0858843912974094,0.345952256598855,0.0144878620449182,0.0340892070948918,643,0.00059642511515729,4.82235693466921,"8_10_F",{"$f":"VLOOKUP(P435,#REF!,11,FALSE)","v":{"$error":"#REF!"}},{"$error":"#REF!"}]
["9_10_F",10,9,"F",0.493657853689621,0.158830117481066,1000,840.94866317193,0.0864334930683734,0.344154562165143,0.0135761448636697,0.0338133870315199,635,0.000595605097512858,4.80792638256321,"9_10_F",{"$f":"VLOOKUP(P436,#REF!,11,FALSE)","v":{"$error":"#REF!"}},{"$error":"#REF!"}]
["10_10_F",10,10,"F",0.489046504982602,0.158831348934587,1000,841.536191722151,0.0829059054586365,0.339531567329856,0.0126497544660133,0.0335700996031026,628,0.000589941769727192,4.75903996493172,"10_10_F",{"$f":"VLOOKUP(P437,#REF!,11,FALSE)","v":{"$error":"#REF!"}},{"$error":"#REF!"}]
["11_10_F",10,11,"F",0.483791575219408,0.158832616332553,1000,841.503992296582,0.0818934083638795,0.336411597145693,0.0116755500242801,0.0332691755602364,620,0.000587152853927545,4.7293709098424,"11_10_F",{"$f":"VLOOKUP(P438,#REF!,11,FALSE)","v":{"$error":"#REF!"}},{"$error":"#REF!"}]
["12_10_F",10,12,"F",0.477892283782035,0.158833871569106,1000,840.84550962511,0.0834593982640335,0.334865314826585,0.010654780993912,0.0329217660575106,611,0.000587317632425421,4.7194142304217,"12_10_F",{"$f":"VLOOKUP(P439,#REF!,11,FALSE)","v":{"$error":"#REF!"}},{"$error":"#REF!"}]
["13_10_F",10,13,"F",0.472382052741905,0.158835082583285,1000,841.133892499825,0.0808479719892746,0.330374657086275,0.00961169110356148,0.0326137263815591,603,0.000582515142289487,4.67402763284372,"13_10_F",{"$f":"VLOOKUP(P440,#REF!,11,FALSE)","v":{"$error":"#REF!"}},{"$error":"#REF!"}]
["14_10_F",10,14,"F",0.466203742591308,0.158836215263989,1000,840.807174907264,0.0807322176991434,0.327424598001,0.0085428811927047,0.0322688004815069,594,0.000580590949366677,4.6476674302829,"14_10_F",{"$f":"VLOOKUP(P441,#REF!,11,FALSE)","v":{"$error":"#REF!"}},{"$error":"#REF!"}]
["15_10_F",10,15,"F",0.46037801199727,0.15883728174713,1000,841.427798827689,0.0766093170731087,0.321695533500604,0.0074527698563151,0.0319473997178162,586,0.000573794339348844,4.58682688159726,"15_10_F",{"$f":"VLOOKUP(P442,#REF!,11,FALSE)","v":{"$error":"#REF!"}},{"$error":"#REF!"}]
["16_10_F",10,16,"F",0.453891164197974,0.158838315602658,1000,841.453158107231,0.0748461449098428,0.317358086352573,0.00631432216445483,0.031586542296704,577,0.000569719873418109,4.54379421217617,"16_10_F",{"$f":"VLOOKUP(P443,#REF!,11,FALSE)","v":{"$error":"#REF!"}},{"$error":"#REF!"}]
["17_10_F",10,17,"F",0.446745517756808,0.158839331765974,1000,840.883857690972,0.0754076621620626,0.314348979486796,0.00512871185432343,0.0312078277651164,567,0.000568399302175074,4.51864475207106,"17_10_F",{"$f":"VLOOKUP(P444,#REF!,11,FALSE)","v":{"$error":"#REF!"}},{"$error":"#REF!"}]
["18_10_F",10,18,"F",0.424139399824585,0.158840385178676,1000,841.331423842749,0.0768185988634323,0.324356173974441,0.000421277415947958,0.0302118263293453,674,0.000571918687496693,4.59069515208644,"18_10_F",{"$f":"VLOOKUP(P445,#REF!,11,FALSE)","v":{"$error":"#REF!"}},{"$error":"#REF!"}]
["19_10_F",10,19,"F",0.414569039067655,0.158841503187576,1000,841.250234408447,0.0761227964413444,0.32166416024206,-0.00113306250309758,0.0296779019402711,667,0.00056978568073145,4.56749493728838,"19_10_F",{"$f":"VLOOKUP(P446,#REF!,11,FALSE)","v":{"$error":"#REF!"}},{"$error":"#REF!"}]
["20_10_F",10,20,"F",0.40458103046747,0.158842734831818,1000,841.293733726977,0.0749540197933055,0.318620141149713,-0.00274898278130822,0.0291162626358796,660,0.000566966653072774,4.53901302415121,"20_10_F",{"$f":"VLOOKUP(P447,#REF!,11,FALSE)","v":{"$error":"#REF!"}},{"$error":"#REF!"}]
["21_10_F",10,21,"F",0.394158045586621,0.158844107468251,1000,841.49759537606,0.072951903401706,0.314847200466607,-0.0044295292155155,0.0285231814611777,653,0.00056313822758707,4.50278970818793,"21_10_F",{"$f":"VLOOKUP(P448,#REF!,11,FALSE)","v":{"$error":"#REF!"}},{"$error":"#REF!"}]
["22_10_F",10,22,"F",0.382813578015931,0.158845652127551,1000,841.088585887373,0.0734351329024373,0.312579098451106,-0.00618158869560161,0.0278697828621627,645,0.000562194738722989,4.48606939309743,"22_10_F",{"$f":"VLOOKUP(P449,#REF!,11,FALSE)","v":{"$error":"#REF!"}},{"$error":"#REF!"}]
["23_10_F",10,23,"F",0.370984008010362,0.158847424211835,1000,840.825171360208,0.0732218012391865,0.309681536862415,-0.00800097693692417,0.0271831995350522,637,0.000560374529109009,4.46252379353097,"23_10_F",{"$f":"VLOOKUP(P450,#REF!,11,FALSE)","v":{"$error":"#REF!"}},{"$error":"#REF!"}]
["24_10_F",10,24,"F",0.359079053009359,0.15884945162107,1000,841.481682943091,0.0691137270469336,0.303994655479365,-0.00988844638849281,0.0265093839984029,630,0.000553785307393501,4.40502099593767,"24_10_F",{"$f":"VLOOKUP(P451,#REF!,11,FALSE)","v":{"$error":"#REF!"}},{"$error":"#REF!"}]
["25_10_F",10,25,"F",0.346177477567506,0.158851766346218,1000,841.522117699387,0.0674915427371924,0.299858556936631,-0.0118518353670161,0.0257418947276328,622,0.00055011850643849,4.36713835991462,"25_10_F",{"$f":"VLOOKUP(P452,#REF!,11,FALSE)","v":{"$error":"#REF!"}},{"$error":"#REF!"}]
["26_10_F",10,26,"F",0.332282303842191,0.158854404738985,1000,840.994871569749,0.0681245134829073,0.297112772503513,-0.0138903950596203,0.0249345859301998,613,0.00054912875322429,4.34715556191005,"26_10_F",{"$f":"VLOOKUP(P453,#REF!,11,FALSE)","v":{"$error":"#REF!"}},{"$error":"#REF!"}]
[{"$f":"P454","v":"27_10_F"},10,27,"F",0.318193949800462,0.158857389999108,1000,841.378865461976,0.0648893906355349,0.291600051143849,-0.0160062509620081,0.0240845877946554,605,0.000543364076899526,4.29310754657594,"27_10_F",{"$f":"VLOOKUP(P454,#REF!,11,FALSE)","v":{"$error":"#REF!"}},{"$f":"Q454/$Q$1","v":{"$error":"#REF!"}}]
["28_10_F",10,28,"F",0.303050084471706,0.15886076482654,1000,841.179861566238,0.0639171090433674,0.28748006313329,-0.0181996964576456,0.0231949940529058,596,0.00054030929201456,4.25697468455342,"28_10_F",{"$f":"VLOOKUP(P455,#REF!,11,FALSE)","v":{"$error":"#REF!"}},{"$error":"#REF!"}]
["29_10_F",10,29,"F",0.287227504292977,0.158864569155115,1000,841.148854413807,0.0622476167174158,0.282806905342952,-0.0204739271436325,0.0222587683885285,587,0.000536309352808313,4.21347301193524,"29_10_F",{"$f":"VLOOKUP(P456,#REF!,11,FALSE)","v":{"$error":"#REF!"}},{"$error":"#REF!"}]
["30_10_F",10,30,"F",0.270689721995854,0.158868826942765,1000,841.315955985012,0.0594345471519719,0.277108633805,-0.0228321333647339,0.0212869724765072,578,0.000530897879504109,4.15899924053971,"30_10_F",{"$f":"VLOOKUP(P457,#REF!,11,FALSE)","v":{"$error":"#REF!"}},{"$error":"#REF!"}]
["31_10_F",10,31,"F",0.253024298760942,0.158873581065991,1000,840.915098035123,0.0590380485072357,0.273028500049696,-0.0252681547454042,0.0202548359314091,568,0.000528348953615431,4.12364906726857,{"$f":"C458&\"_\"&B458&\"_\"&D458","v":"31_10_F"},{"$f":"VLOOKUP(P458,#REF!,11,FALSE)","v":{"$error":"#REF!"}},{"$error":"#REF!"}]
["32_10_F",10,32,"F",0.234920929315645,0.158878862296916,1000,841.451053832354,0.0544743691863188,0.265859263711554,-0.0278005766854862,0.0192413707306409,559,0.00052060005996586,4.05097033444646,"32_10_F",{"$f":"VLOOKUP(P459,#REF!,11,FALSE)","v":{"$error":"#REF!"}},{"$error":"#REF!"}]
["33_10_F",10,33,"F",0.215616665363557,0.158884728149821,1000,841.428220754005,0.0522193436324805,0.260201172576686,-0.0304128692622514,0.0181379614736314,549,0.000515618441824808,3.99654720766127,"33_10_F",{"$f":"VLOOKUP(P460,#REF!,11,FALSE)","v":{"$error":"#REF!"}},{"$error":"#REF!"}]
["34_10_F",10,34,"F",0.195105462853076,0.158891225293526,1000,840.872148357969,0.0519189264281649,0.255709994116794,-0.03310205432772,0.0169562267044557,538,0.000513091752669632,3.95788227728507,"34_10_F",{"$f":"VLOOKUP(P461,#REF!,11,FALSE)","v":{"$error":"#REF!"}},{"$error":"#REF!"}]
["35_10_F",10,35,"F",0.173985036326653,0.158898411447085,1000,841.263128434724,0.0477469492973535,0.248170003703303,-0.0358968133984006,0.0157641759529603,528,0.000505525353394073,3.88343118058402,"35_10_F",{"$f":"VLOOKUP(P462,#REF!,11,FALSE)","v":{"$error":"#REF!"}},{"$error":"#REF!"}]
["36_10_F",10,36,"F",0.151566377602681,0.158906342437576,1000,841.116296304012,0.0454470253841871,0.241791296796074,-0.0387680736162242,0.0144653115753464,517,0.000500357201822268,3.82407292207242,"36_10_F",{"$f":"VLOOKUP(P463,#REF!,11,FALSE)","v":{"$error":"#REF!"}},{"$error":"#REF!"}]
["37_10_F",10,37,"F",0.128130411333615,0.158915090204123,1000,841.184088261689,0.0420994008002947,0.234463497862308,-0.0417418333854029,0.0131393361136996,506,0.000493789615110404,3.75376096978955,"37_10_F",{"$f":"VLOOKUP(P464,#REF!,11,FALSE)","v":{"$error":"#REF!"}},{"$error":"#REF!"}]
["38_10_F",10,38,"F",0.103346777896404,0.158924717837693,1000,840.737979367788,0.0407308754973718,0.228497108925068,-0.0447884294477826,0.0117263666452661,494,0.000489722136310874,3.699431703157,"38_10_F",{"$f":"VLOOKUP(P465,#REF!,11,FALSE)","v":{"$error":"#REF!"}},{"$error":"#REF!"}]
["39_10_F",10,39,"F",0.0776665673476942,0.158935285950614,1000,841.263194146718,0.0351921791231735,0.219363819899258,-0.0479539665616804,0.0101830092567743,483,0.000480120610841534,3.60567057689618,"39_10_F",{"$f":"VLOOKUP(P466,#REF!,11,FALSE)","v":{"$error":"#REF!"}},{"$error":"#REF!"}]
["40_10_F",10,40,"F",0.0505311852065196,0.158946864980139,1000,841.285176673849,0.0315226901020011,0.211546839899908,-0.0511918907007178,0.00846114304358308,471,0.000472920529654542,3.52699421550922,"40_10_F",{"$f":"VLOOKUP(P467,#REF!,11,FALSE)","v":{"$error":"#REF!"}},{"$error":"#REF!"}]
["41_10_F",10,41,"F",0.0219244469423306,0.158959511062339,1000,840.784355547557,0.0297531810617675,0.205080956864179,-0.0544949967457761,0.00661107313150104,458,0.000468222721160037,3.46381783637391,"41_10_F",{"$f":"VLOOKUP(P468,#REF!,11,FALSE)","v":{"$error":"#REF!"}},{"$error":"#REF!"}]
["42_10_F",10,42,"F",0,0.158973310063339,1000,841.288805700835,0.0235676203806785,0.19510009792797,-0.0579234929573226,0.00447214030527081,446,0.000457569754062118,3.35843931533103,"42_10_F",{"$f":"VLOOKUP(P469,#REF!,11,FALSE)","v":{"$error":"#REF!"}},{"$error":"#REF!"}]
["43_10_F",10,43,"F",0,0.158988315232386,1000,841.318176346579,0.0192621756133245,0.186095023506415,-0.0614149439110752,0.00167725595808234,433,0.000449315542623117,3.26808217924001,"43_10_F",{"$f":"VLOOKUP(P470,#REF!,11,FALSE)","v":{"$error":"#REF!"}},{"$error":"#REF!"}]
["44_10_F",10,44,"F",0,0.159004587776906,1000,840.851417268602,0.0165112817492851,0.178085591029258,-0.0649604613327021,-0.00126596944393154,419,0.000443255916885273,3.19060058349891,"44_10_F",{"$f":"VLOOKUP(P471,#REF!,11,FALSE)","v":{"$error":"#REF!"}},{"$error":"#REF!"}]
["45_10_F",10,45,"F",0,0.159022199103134,1000,840.656167131827,0.0125967967826241,0.16931437807002,-0.0685930376511666,-0.00434216372458679,405,0.000435502685527215,3.1002012573986,"45_10_F",{"$f":"VLOOKUP(P472,#REF!,11,FALSE)","v":{"$error":"#REF!"}},{"$error":"#REF!"}]
["46_10_F",10,46,"F",0,0.159041218315266,1000,840.734634676793,0.00710346184699025,0.159012084995969,-0.0723116081211817,-0.00749228465252095,391,0.00042555407764466,2.9930187897847,"46_10_F",{"$f":"VLOOKUP(P473,#REF!,11,FALSE)","v":{"$error":"#REF!"}},{"$error":"#REF!"}]
["47_10_F",10,47,"F",0,0.159061709753403,1000,841.090816129429,0.00019851702067669,0.147436720477546,-0.0761166013382629,-0.0107715794663785,377,0.000413524773166037,2.87011189882759,"47_10_F",{"$f":"VLOOKUP(P474,#REF!,11,FALSE)","v":{"$error":"#REF!"}},{"$error":"#REF!"}]
["48_10_F",10,48,"F",0,0.159083733007164,1000,840.978809959235,-0.00506204065505136,0.136422785919606,-0.0799549872570576,-0.0141650368250566,362,0.000403804983143007,2.76097336901114,"48_10_F",{"$f":"VLOOKUP(P475,#REF!,11,FALSE)","v":{"$error":"#REF!"}},{"$error":"#REF!"}]
["49_10_F",10,49,"F",0,0.159107378216479,1000,841.197873665674,-0.0120415942587192,0.122909597673457,-0.0838719868169594,-0.0176622207849094,347,0.000391500168031081,2.63280177874416,"49_10_F",{"$f":"VLOOKUP(P476,#REF!,11,FALSE)","v":{"$error":"#REF!"}},{"$error":"#REF!"}]
["50_10_F",10,50,"F",0,0.159132763198932,1000,840.983275057827,-0.0175577868582284,0.110414163645229,-0.087808237004647,-0.0213082821015422,331,0.000381282270666166,2.51672261073043,"50_10_F",{"$f":"VLOOKUP(P477,#REF!,11,FALSE)","v":{"$error":"#REF!"}},{"$error":"#REF!"}]
["51_10_F",10,51,"F",0,0.159160043184536,1000,841.040427405106,-0.024495436964603,0.0967348720142428,-0.0918117275097738,-0.025095714452562,315,0.000368873018342755,2.38425679519369,"51_10_F",{"$f":"VLOOKUP(P478,#REF!,11,FALSE)","v":{"$error":"#REF!"}},{"$error":"#REF!"}]
["52_10_F",10,52,"F",0,0.159189444479039,1000,840.701319889277,-0.0302163467356094,0.0840928666729795,-0.0958173275808913,-0.0289802327431359,298,0.000358309075751596,2.26204407733904,"52_10_F",{"$f":"VLOOKUP(P479,#REF!,11,FALSE)","v":{"$error":"#REF!"}},{"$error":"#REF!"}]
["53_10_F",10,53,"F",0,0.15922126983377,1000,840.722632033255,-0.0378460938452523,0.0693581203468469,-0.0998773251759408,-0.0329776421458632,281,0.000344740548157966,2.11830857198367,"53_10_F",{"$f":"VLOOKUP(P480,#REF!,11,FALSE)","v":{"$error":"#REF!"}},{"$error":"#REF!"}]
["54_10_F",10,54,"F",0,0.1592559054973,1000,841.048002327512,-0.0470054873657642,0.052926441408602,-0.1039857081142,-0.0371130021346857,264,0.000328588271856862,1.95622788904538,"54_10_F",{"$f":"VLOOKUP(P481,#REF!,11,FALSE)","v":{"$error":"#REF!"}},{"$error":"#REF!"}]
["55_10_F",10,55,"F",0,0.159293810186712,1000,840.627258298097,-0.0528489763540457,0.0398228258520393,-0.10841737188813,-0.0414397341350163,249,0.000318150579874934,1.83290005365709,"55_10_F",{"$f":"VLOOKUP(P482,#REF!,11,FALSE)","v":{"$error":"#REF!"}},{"$error":"#REF!"}]
["0_5_F",5,0,"F",0.299922219790717,0.158410669962467,1000,841.574666616135,0.214587264738937,0.313298526607317,0.0128155564120023,0.0208798775172016,382,0.000793439609596397,3.74300885929594,"0_5_F",{"$f":"VLOOKUP(P483,#REF!,11,FALSE)","v":{"$error":"#REF!"}},{"$error":"#REF!"}]
["1_5_F",5,1,"F",0.29823292804832,0.158402334730056,1000,841.679577650148,0.214159883564897,0.312758419558587,0.0124746977417027,0.0208093664232037,379,0.000791678896215841,3.73395529921798,"1_5_F",{"$f":"VLOOKUP(P484,#REF!,11,FALSE)","v":{"$error":"#REF!"}},{"$error":"#REF!"}]
["2_5_F",5,2,"F",0.296501584927725,0.158397349065664,1000,841.897293087937,0.213268038251834,0.312007935938344,0.0121199645619732,0.0207318053336744,376,0.000789113686476047,3.72117736779105,"2_5_F",{"$f":"VLOOKUP(P485,#REF!,11,FALSE)","v":{"$error":"#REF!"}},{"$error":"#REF!"}]
["3_5_F",5,3,"F",0.294732322667051,0.158394654091191,1000,842.253054007734,0.212066384690276,0.311022232710801,0.0117510174204337,0.0206503705837937,373,0.000785868990831717,3.70548257710683,"3_5_F",{"$f":"VLOOKUP(P486,#REF!,11,FALSE)","v":{"$error":"#REF!"}},{"$error":"#REF!"}]
["4_5_F",5,4,"F",0.292347500181401,0.158393348498577,1000,841.254638951841,0.214492688348874,0.311586614095102,0.011344879977204,0.0205255299779028,369,0.000788997775208265,3.71523513077625,"4_5_F",{"$f":"VLOOKUP(P487,#REF!,11,FALSE)","v":{"$error":"#REF!"}},{"$error":"#REF!"}]
["5_5_F",5,5,"F",0.290489364652401,0.158392773432464,1000,841.854937232808,0.212376844498388,0.310134478449666,0.0109468387608377,0.0204340350721818,366,0.000784082372642139,3.69192671003694,"5_5_F",{"$f":"VLOOKUP(P488,#REF!,11,FALSE)","v":{"$error":"#REF!"}},{"$error":"#REF!"}]
["6_5_F",5,6,"F",0.288017337944063,0.158392547720668,1000,841.118140732446,0.213983448161972,0.310189944616754,0.0105119719444446,0.0202968936774377,362,0.000785646941525271,3.69464526656795,"6_5_F",{"$f":"VLOOKUP(P489,#REF!,11,FALSE)","v":{"$error":"#REF!"}},{"$error":"#REF!"}]
["7_5_F",5,7,"F",0.286058390431284,0.158392584914906,1000,841.980619927408,0.21105482134131,0.308271159235776,0.0100832523910362,0.020195706965497,359,0.000779147019118617,3.66423009079502,"7_5_F",{"$f":"VLOOKUP(P490,#REF!,11,FALSE)","v":{"$error":"#REF!"}},{"$error":"#REF!"}]
["8_5_F",5,8,"F",0.283483088631476,0.158392840959285,1000,841.510399896316,0.211710131749406,0.307847388517755,0.00961795521645903,0.0200547290717389,355,0.000778951872760401,3.65895212081757,"8_5_F",{"$f":"VLOOKUP(P491,#REF!,11,FALSE)","v":{"$error":"#REF!"}},{"$error":"#REF!"}]
["9_5_F",5,9,"F",0.280849524300997,0.158393266465699,1000,841.167788363399,0.212080158217858,0.307257611838734,0.00913722295281282,0.0199090767924053,351,0.00077813099107664,3.6509059571116,"9_5_F",{"$f":"VLOOKUP(P492,#REF!,11,FALSE)","v":{"$error":"#REF!"}},{"$error":"#REF!"}]
["10_5_F",5,10,"F",0.278159872389065,0.158393821784329,1000,840.983560956723,0.211815723466552,0.306309419112591,0.00864036806403988,0.019748524313572,347,0.000776153909606116,3.63756385508285,"10_5_F",{"$f":"VLOOKUP(P493,#REF!,11,FALSE)","v":{"$error":"#REF!"}},{"$error":"#REF!"}]
["11_5_F",5,11,"F",0.275404104972843,0.158394461634261,1000,840.935214157652,0.211114332385137,0.305126848717264,0.00812694866213383,0.0195914644592107,343,0.000773328591417622,3.62031843630026,"11_5_F",{"$f":"VLOOKUP(P494,#REF!,11,FALSE)","v":{"$error":"#REF!"}},{"$error":"#REF!"}]
["12_5_F",5,12,"F",0.27257846031061,0.158395137969594,1000,841.03030324543,0.209962590418045,0.30365218079003,0.00759665383578217,0.0194277702784463,339,0.000769641205204983,3.59913254350744,"12_5_F",{"$f":"VLOOKUP(P495,#REF!,11,FALSE)","v":{"$error":"#REF!"}},{"$error":"#REF!"}]
["13_5_F",5,13,"F",0.269681748585835,0.158395817718442,1000,841.280558137057,0.208339791193885,0.301910517438442,0.00704687258501153,0.0192605401815328,335,0.000765008253906775,3.57369085779715,"13_5_F",{"$f":"VLOOKUP(P496,#REF!,11,FALSE)","v":{"$error":"#REF!"}},{"$error":"#REF!"}]
["14_5_F",5,14,"F",0.266699001583406,0.158396447542179,1000,841.689954399204,0.20621921023777,0.299860836662187,0.00648986194883983,0.0190900831971558,331,0.000759415232860269,3.54390588800444,"14_5_F",{"$f":"VLOOKUP(P497,#REF!,11,FALSE)","v":{"$error":"#REF!"}},{"$error":"#REF!"}]
["15_5_F",5,15,"F",0.263631406712993,0.158397021956755,1000,842.264600867213,0.203584118310498,0.297455020756881,0.00591482228592382,0.0189164102613685,327,0.000752810228151007,3.50951451030971,"15_5_F",{"$f":"VLOOKUP(P498,#REF!,11,FALSE)","v":{"$error":"#REF!"}},{"$error":"#REF!"}]
["16_5_F",5,16,"F",0.259946835549201,0.158397552335945,1000,841.531941416034,0.204413214768814,0.296594544748761,0.00530710424162489,0.0187050487003542,322,0.000752410570486657,3.49944255566501,"16_5_F",{"$f":"VLOOKUP(P499,#REF!,11,FALSE)","v":{"$error":"#REF!"}},{"$error":"#REF!"}]
["17_5_F",5,17,"F",0.256175144713516,0.158398031147789,1000,840.969087033031,0.204753533071349,0.295437997842263,0.00468071973297906,0.0184898081832762,317,0.000751089176225168,3.48509296704601,"17_5_F",{"$f":"VLOOKUP(P500,#REF!,11,FALSE)","v":{"$error":"#REF!"}},{"$error":"#REF!"}]
["18_5_F",5,18,"F",0.244821017603501,0.158398503285035,1000,841.453001321772,0.203863220817866,0.298591828059051,0.0022980658325361,0.0177898717765479,371,0.000752683454664392,3.51724804584147,"18_5_F",{"$f":"VLOOKUP(P501,#REF!,11,FALSE)","v":{"$error":"#REF!"}},{"$error":"#REF!"}]
["19_5_F",5,19,"F",0.240066439150909,0.158398968172896,1000,842.054386905617,0.201400768359479,0.296640549246411,0.00148990449145106,0.0175424196267845,368,0.000746990273070492,3.48952715591701,"19_5_F",{"$f":"VLOOKUP(P502,#REF!,11,FALSE)","v":{"$error":"#REF!"}},{"$error":"#REF!"}]
["20_5_F",5,20,"F",0.234590004261739,0.158399456043512,1000,841.341585342502,0.202527509994197,0.296279557462287,0.000638388101337867,0.0172522340111061,364,0.000747683611769881,3.48750966747685,"20_5_F",{"$f":"VLOOKUP(P503,#REF!,11,FALSE)","v":{"$error":"#REF!"}},{"$error":"#REF!"}]
["21_5_F",5,21,"F",0.229376479087741,0.158399976093717,1000,842.194938217093,0.199320048827148,0.293869973190471,-0.000237030935334603,0.0169797317522006,361,0.000740500470943858,3.45310357577617,"21_5_F",{"$f":"VLOOKUP(P504,#REF!,11,FALSE)","v":{"$error":"#REF!"}},{"$error":"#REF!"}]
["22_5_F",5,22,"F",0.223428262509392,0.158400538158115,1000,841.76113123004,0.199631669033288,0.293043962339888,-0.00115652105431526,0.0166606839603037,357,0.000739622601031797,3.44407671306829,"22_5_F",{"$f":"VLOOKUP(P505,#REF!,11,FALSE)","v":{"$error":"#REF!"}},{"$error":"#REF!"}]
["23_5_F",5,23,"F",0.217221968532819,0.158401188345853,1000,841.454925984327,0.199510033871292,0.291938232530433,-0.00211128181719426,0.0163283276296431,353,0.000737888179061427,3.43114308021649,"23_5_F",{"$f":"VLOOKUP(P506,#REF!,11,FALSE)","v":{"$error":"#REF!"}},{"$error":"#REF!"}]
["24_5_F",5,24,"F",0.210742727183925,0.158401937329864,1000,841.290807667677,0.198926026035583,0.29054064945667,-0.00310297427302912,0.0159758547413876,349,0.000735290852546832,3.41428919971537,"24_5_F",{"$f":"VLOOKUP(P507,#REF!,11,FALSE)","v":{"$error":"#REF!"}},{"$error":"#REF!"}]
["25_5_F",5,25,"F",0.203976283830904,0.158402791660999,1000,841.291410485336,0.197836657103483,0.288810255646648,-0.0041331195274703,0.0156126869718787,345,0.000731712376773465,3.39303853164717,"25_5_F",{"$f":"VLOOKUP(P508,#REF!,11,FALSE)","v":{"$error":"#REF!"}},{"$error":"#REF!"}]
["26_5_F",5,26,"F",0.196902059493604,0.158403773669263,1000,841.448474213213,0.196288842691291,0.286790649703572,-0.00520312360561559,0.0152236629624724,341,0.000727233439681306,3.36774189790083,"26_5_F",{"$f":"VLOOKUP(P509,#REF!,11,FALSE)","v":{"$error":"#REF!"}},{"$error":"#REF!"}]
["27_5_F",5,27,"F",0.189497312095877,0.158404886645545,1000,841.742395748307,0.194139065470181,0.284290678202267,-0.00631418308348997,0.0148091178705016,337,0.000721617545548788,3.33714004523945,"27_5_F",{"$f":"VLOOKUP(P510,#REF!,11,FALSE)","v":{"$error":"#REF!"}},{"$error":"#REF!"}]
["28_5_F",5,28,"F",0.181745756073101,0.158406164789455,1000,842.212542525465,0.191414152124773,0.281233182489497,-0.00746834109595766,0.0143776018436798,333,0.000714899731153939,3.30156521509235,"28_5_F",{"$f":"VLOOKUP(P511,#REF!,11,FALSE)","v":{"$error":"#REF!"}},{"$error":"#REF!"}]
["29_5_F",5,29,"F",0.173206748367505,0.158407631371409,1000,841.421427218687,0.192259373549713,0.279999669448885,-0.0086647583053056,0.013882568433882,328,0.000714706060426653,3.29225889488741,"29_5_F",{"$f":"VLOOKUP(P512,#REF!,11,FALSE)","v":{"$error":"#REF!"}},{"$error":"#REF!"}]
["30_5_F",5,30,"F",0.164699159225615,0.158409286254416,1000,842.216280584327,0.188509502318044,0.276008788730095,-0.00990778265901964,0.0133959778077087,324,0.000705975732304261,3.24751127522397,"30_5_F",{"$f":"VLOOKUP(P513,#REF!,11,FALSE)","v":{"$error":"#REF!"}},{"$error":"#REF!"}]
["31_5_F",5,31,"F",0.155383838090744,0.158411151911216,1000,841.790093551765,0.188191041181577,0.273807240941212,-0.0111929908497086,0.0128443872086722,319,0.000703529251688911,3.2279946547086,"31_5_F",{"$f":"VLOOKUP(P514,#REF!,11,FALSE)","v":{"$error":"#REF!"}},{"$error":"#REF!"}]
["32_5_F",5,32,"F",0.145642887052488,0.158413232183484,1000,841.503959741735,0.187447578414464,0.271222036383453,-0.0125235901194216,0.0122742523127777,314,0.000700242256687817,3.20447420666177,"32_5_F",{"$f":"VLOOKUP(P515,#REF!,11,FALSE)","v":{"$error":"#REF!"}},{"$error":"#REF!"}]
["33_5_F",5,33,"F",0.135456954288762,0.158415556232109,1000,841.423794183467,0.185842911287077,0.267894386787577,-0.0139016912801959,0.0116736620372116,309,0.000695386245015956,3.17370518376952,"33_5_F",{"$f":"VLOOKUP(P516,#REF!,11,FALSE)","v":{"$error":"#REF!"}},{"$error":"#REF!"}]
["34_5_F",5,34,"F",0.124795988478352,0.158418135162869,1000,841.533917357259,0.183624403553755,0.263937921439365,-0.0153283064606121,0.0110305870450802,304,0.000689307227996228,3.13736091098757,"34_5_F",{"$f":"VLOOKUP(P517,#REF!,11,FALSE)","v":{"$error":"#REF!"}},{"$error":"#REF!"}]
[{"$f":"P518","v":"35_5_F"},5,35,"F",0.113630059891036,0.158420995980873,1000,841.849537058077,0.180773837911646,0.259253615435384,-0.0168052881475302,0.0103608642415608,299,0.000681966614452113,3.09524640865697,"35_5_F",{"$f":"VLOOKUP(P518,#REF!,11,FALSE)","v":{"$error":"#REF!"}},{"$f":"Q518/$Q$1","v":{"$error":"#REF!"}}]
["36_5_F",5,36,"F",0.10160349724408,0.158424159785222,1000,840.919484214699,0.181325479434406,0.256599938958567,-0.0183171764535958,0.00962860058430027,293,0.000681136164180982,3.07891546354224,"36_5_F",{"$f":"VLOOKUP(P519,#REF!,11,FALSE)","v":{"$error":"#REF!"}},{"$error":"#REF!"}]
["37_5_F",5,37,"F",0.0893488565511877,0.158427672052622,1000,841.630416798925,0.17705886185864,0.250195586144188,-0.0199001225933015,0.00887907789066863,288,0.000671057376757853,3.0241181120527,"37_5_F",{"$f":"VLOOKUP(P520,#REF!,11,FALSE)","v":{"$error":"#REF!"}},{"$error":"#REF!"}]
["38_5_F",5,38,"F",0.076204077920899,0.158431555415424,1000,841.124207564914,0.176196567325309,0.246194909339335,-0.0215170456450084,0.00805914961957157,282,0.000667468185100351,2.9950645191291,"38_5_F",{"$f":"VLOOKUP(P521,#REF!,11,FALSE)","v":{"$error":"#REF!"}},{"$error":"#REF!"}]
["39_5_F",5,39,"F",0.0624501007770493,0.158435832102051,1000,840.854606419038,0.174563978115386,0.241493511475458,-0.0231850542203177,0.00716743279937462,276,0.000662390575835074,2.95913564635543,{"$f":"C522&\"_\"&B522&\"_\"&D522","v":"39_5_F"},{"$f":"VLOOKUP(P522,#REF!,11,FALSE)","v":{"$error":"#REF!"}},{"$error":"#REF!"}]
["40_5_F",5,40,"F",0.0480464544455977,0.158440545738779,1000,840.801158268484,0.172174726356566,0.236159434361723,-0.0249045320916846,0.00622323832347939,270,0.000655840613306873,2.9163534652024,"40_5_F",{"$f":"VLOOKUP(P523,#REF!,11,FALSE)","v":{"$error":"#REF!"}},{"$error":"#REF!"}]
["41_5_F",5,41,"F",0.0329526776380117,0.15844571746245,1000,840.985356365986,0.168935744317317,0.230019704116821,-0.026676369869033,0.00523376873874093,264,0.000647619858816155,2.86587520404421,"41_5_F",{"$f":"VLOOKUP(P524,#REF!,11,FALSE)","v":{"$error":"#REF!"}},{"$error":"#REF!"}]
["42_5_F",5,42,"F",0.0171195692155874,0.158451400224098,1000,841.367676633273,0.165058288281614,0.223376045990096,-0.0285007424328099,0.00416998923197259,258,0.000638087800913923,2.80918692337063,"42_5_F",{"$f":"VLOOKUP(P525,#REF!,11,FALSE)","v":{"$error":"#REF!"}},{"$error":"#REF!"}]
["43_5_F",5,43,"F",0.000498169764023374,0.158457609896284,1000,841.992189002018,0.16031652600196,0.216000938402059,-0.0303791761179501,0.0030438118777298,252,0.000626777369083038,2.74424397678152,"43_5_F",{"$f":"VLOOKUP(P526,#REF!,11,FALSE)","v":{"$error":"#REF!"}},{"$error":"#REF!"}]
["44_5_F",5,44,"F",0,0.158464378793977,1000,841.482270336874,0.158553910984199,0.210556263056757,-0.0322752419952083,0.00144045723335682,245,0.000621481481024196,2.70262336977536,"44_5_F",{"$f":"VLOOKUP(P527,#REF!,11,FALSE)","v":{"$error":"#REF!"}},{"$error":"#REF!"}]
["45_5_F",5,45,"F",0,0.158471746100083,1000,841.23581030645,0.155895541257537,0.204262444136458,-0.0342201103974836,-0.000203376185929576,238,0.000614416490503713,2.65273991281462,"45_5_F",{"$f":"VLOOKUP(P528,#REF!,11,FALSE)","v":{"$error":"#REF!"}},{"$error":"#REF!"}]
["46_5_F",5,46,"F",0,0.158479741024774,1000,841.232785368195,0.152402361323,0.196965427642485,-0.0362133825703901,-0.00191087744215365,231,0.000605678035698986,2.59495747598844,"46_5_F",{"$f":"VLOOKUP(P529,#REF!,11,FALSE)","v":{"$error":"#REF!"}},{"$error":"#REF!"}]
["47_5_F",5,47,"F",0,0.158488397356907,1000,841.492405799074,0.148040537201278,0.188855590440901,-0.0382541288755759,-0.003681490245914,224,0.000595089377469406,2.52868940627306,"47_5_F",{"$f":"VLOOKUP(P530,#REF!,11,FALSE)","v":{"$error":"#REF!"}},{"$error":"#REF!"}]
["48_5_F",5,48,"F",0,0.158497735737832,1000,842.027698274255,0.142629413865808,0.179704765096108,-0.0403427094043286,-0.00552037197382279,217,0.000582318916520203,2.45237424951818,"48_5_F",{"$f":"VLOOKUP(P531,#REF!,11,FALSE)","v":{"$error":"#REF!"}},{"$error":"#REF!"}]
["49_5_F",5,49,"F",0,0.158507796023568,1000,841.454012951093,0.140210752205947,0.173031220692831,-0.0424274115248015,-0.00744597028264879,209,0.00057595322667539,2.49586578842387,"49_5_F",{"$f":"VLOOKUP(P532,#REF!,11,FALSE)","v":{"$error":"#REF!"}},{"$error":"#REF!"}]
["50_5_F",5,50,"F",0,0.158518618134478,1000,841.165285596074,0.136645543075213,0.165328412690998,-0.0445521612936901,-0.00943012069858335,201,0.000567246264981606,2.43416606658192,"50_5_F",{"$f":"VLOOKUP(P533,#REF!,11,FALSE)","v":{"$error":"#REF!"}},{"$error":"#REF!"}]
["51_5_F",5,51,"F",0,0.158530229409315,1000,841.176725907034,0.132098535576077,0.15680185804545,-0.0467161404672186,-0.0114714814558878,193,0.000556395356220181,2.36272627447941,"51_5_F",{"$f":"VLOOKUP(P534,#REF!,11,FALSE)","v":{"$error":"#REF!"}},{"$error":"#REF!"}]
["52_5_F",5,52,"F",0,0.158542658748245,1000,841.485135313199,0.126494376249017,0.147451047161353,-0.0489181312584415,-0.0135991356573231,185,0.000543266774400069,2.28088851254733,"52_5_F",{"$f":"VLOOKUP(P535,#REF!,11,FALSE)","v":{"$error":"#REF!"}},{"$error":"#REF!"}]
["53_5_F",5,53,"F",0,0.158555945241126,1000,842.064144480742,0.120031354940101,0.137405194451943,-0.0511548678021221,-0.0157844314231698,177,0.00052811686926105,2.18986476942908,"53_5_F",{"$f":"VLOOKUP(P536,#REF!,11,FALSE)","v":{"$error":"#REF!"}},{"$error":"#REF!"}]
["54_5_F",5,54,"F",0,0.158570163677371,1000,841.632012924936,0.116061388710386,0.129120805182729,-0.0533578486115487,-0.0180188588518305,168,0.000518745429996432,2.11998679612343,"54_5_F",{"$f":"VLOOKUP(P537,#REF!,11,FALSE)","v":{"$error":"#REF!"}},{"$error":"#REF!"}]
["55_5_F",5,55,"F",0,0.158585447964145,1000,841.254622838363,0.112217379737586,0.12095613800105,-0.0558197760213681,-0.0204305199634487,161,0.000510460005108488,2.0554754877603,"55_5_F",{"$f":"VLOOKUP(P538,#REF!,11,FALSE)","v":{"$error":"#REF!"}},{"$error":"#REF!"}]
["0_3_F",3,0,"F",0.189808541175439,0.157922807848802,1000,842.423029582106,0.144953919620647,0.205304635475018,0.00852863892330978,0.0134762770269449,238,0.000761125935909696,2.31693483653477,"0_3_F",{"$f":"VLOOKUP(P539,#REF!,11,FALSE)","v":{"$error":"#REF!"}},{"$error":"#REF!"}]
["1_3_F",3,1,"F",0.18865912458088,0.157916797248876,1000,842.036982603541,0.145602515142687,0.205345555813241,0.00831516387011934,0.0134216270813691,236,0.00076174311882634,2.31751710325969,"1_3_F",{"$f":"VLOOKUP(P540,#REF!,11,FALSE)","v":{"$error":"#REF!"}},{"$error":"#REF!"}]
["2_3_F",3,2,"F",0.187485238562481,0.157912995969704,1000,841.768932368296,0.145991221833647,0.205221385677726,0.0080933845889641,0.0133645162989704,234,0.000761693025614861,2.31618846337817,"2_3_F",{"$f":"VLOOKUP(P541,#REF!,11,FALSE)","v":{"$error":"#REF!"}},{"$error":"#REF!"}]
["3_3_F",3,3,"F",0.186286421600622,0.157910829933089,1000,841.620299052389,0.1459479831493,0.204897872469462,0.0078630743025199,0.0133066823075876,232,0.000760442305202715,2.31123198242711,"3_3_F",{"$f":"VLOOKUP(P542,#REF!,11,FALSE)","v":{"$error":"#REF!"}},{"$error":"#REF!"}]
["4_3_F",3,4,"F",0.185061622799012,0.157909775802556,1000,841.592716804097,0.145781117976856,0.20451725434593,0.00762399750508883,0.0132431086443041,230,0.000758821172883099,2.30533056162847,"4_3_F",{"$f":"VLOOKUP(P543,#REF!,11,FALSE)","v":{"$error":"#REF!"}},{"$error":"#REF!"}]
["5_3_F",3,5,"F",0.183811487494587,0.157909310438078,1000,841.704458962213,0.145193375612899,0.203878145603825,0.00737598026212032,0.0131781604069534,228,0.000756086519944033,2.29616320221538,"5_3_F",{"$f":"VLOOKUP(P544,#REF!,11,FALSE)","v":{"$error":"#REF!"}},{"$error":"#REF!"}]
["6_3_F",3,6,"F",0.182528928956274,0.157909068938521,1000,841.923002557965,0.144459453112431,0.203171994156739,0.00711872716979247,0.0131122686945398,226,0.000752858078062043,2.28560161000384,"6_3_F",{"$f":"VLOOKUP(P545,#REF!,11,FALSE)","v":{"$error":"#REF!"}},{"$error":"#REF!"}]
["7_3_F",3,7,"F",0.18121617853281,0.157908980841665,1000,842.284231646876,0.143308018608111,0.202272971305565,0.00685203163777542,0.0130356363327292,224,0.000748507892546088,2.27179180919661,"7_3_F",{"$f":"VLOOKUP(P546,#REF!,11,FALSE)","v":{"$error":"#REF!"}},{"$error":"#REF!"}]
["8_3_F",3,8,"F",0.179867921622305,0.15790902602971,1000,842.770491897469,0.141922940103327,0.201224858186839,0.00657552007839573,0.012963738601714,222,0.000743453790401666,2.25596311715257,"8_3_F",{"$f":"VLOOKUP(P547,#REF!,11,FALSE)","v":{"$error":"#REF!"}},{"$error":"#REF!"}]
["9_3_F",3,9,"F",0.177914715901043,0.157909184386273,1000,841.008082395398,0.144864542200007,0.201979459172157,0.00626773934886762,0.0128490929262816,219,0.000749562712237222,2.26912467310154,"9_3_F",{"$f":"VLOOKUP(P548,#REF!,11,FALSE)","v":{"$error":"#REF!"}},{"$error":"#REF!"}]
["10_3_F",3,10,"F",0.176492931151181,0.157909428264374,1000,841.767222460667,0.142830632041456,0.200571328789001,0.00597142834248128,0.0127620711238008,217,0.00074267279144739,2.2479456978318,"10_3_F",{"$f":"VLOOKUP(P549,#REF!,11,FALSE)","v":{"$error":"#REF!"}},{"$error":"#REF!"}]
["11_3_F",3,11,"F",0.175028151465797,0.157909724963131,1000,842.664938125753,0.140518300579338,0.199014477226111,0.00566438242732116,0.0126781366338174,215,0.00073496121517978,2.22440876833524,"11_3_F",{"$f":"VLOOKUP(P550,#REF!,11,FALSE)","v":{"$error":"#REF!"}},{"$error":"#REF!"}]
["12_3_F",3,12,"F",0.172962033691274,0.1579100694296,1000,841.332682723424,0.14246205353238,0.19923917860476,0.00532720362179228,0.0125542612233163,212,0.000738288176768054,2.22944728197002,"12_3_F",{"$f":"VLOOKUP(P551,#REF!,11,FALSE)","v":{"$error":"#REF!"}},{"$error":"#REF!"}]
["13_3_F",3,13,"F",0.171409120131018,0.157910444124468,1000,842.533079364665,0.139406465814558,0.197244008574472,0.00499717055423613,0.0124651416094848,210,0.000728453222103001,2.19972157901908,"13_3_F",{"$f":"VLOOKUP(P552,#REF!,11,FALSE)","v":{"$error":"#REF!"}},{"$error":"#REF!"}]
["14_3_F",3,14,"F",0.169246980106793,0.157910791173748,1000,841.467407854684,0.140689040704648,0.19710688650254,0.00464419816985831,0.0123371968464699,207,0.000729947542248398,2.19926440293974,"14_3_F",{"$f":"VLOOKUP(P553,#REF!,11,FALSE)","v":{"$error":"#REF!"}},{"$error":"#REF!"}]
["15_3_F",3,15,"F",0.167583508344101,0.157911113054062,1000,842.965856356201,0.136893458915227,0.19462170744275,0.00429791004172846,0.0122525684778099,205,0.000717981062377852,2.16326728922782,"15_3_F",{"$f":"VLOOKUP(P554,#REF!,11,FALSE)","v":{"$error":"#REF!"}},{"$error":"#REF!"}]
["16_3_F",3,16,"F",0.16532350833717,0.157911412341905,1000,842.255503352224,0.137491698475575,0.194094310835358,0.00392412001552152,0.0121217820610005,202,0.000717504490675315,2.15714808374831,"16_3_F",{"$f":"VLOOKUP(P555,#REF!,11,FALSE)","v":{"$error":"#REF!"}},{"$error":"#REF!"}]
["17_3_F",3,17,"F",0.163010340645997,0.157911673873447,1000,841.721271269355,0.137621250435286,0.193284541188438,0.00353944657884358,0.0119891685978124,199,0.000715717655661356,2.14717136297054,"17_3_F",{"$f":"VLOOKUP(P556,#REF!,11,FALSE)","v":{"$error":"#REF!"}},{"$error":"#REF!"}]
["18_3_F",3,18,"F",0.156429696793792,0.157911920343201,1000,843.33309784472,0.134255682488563,0.194314094836101,0.00210953860195357,0.0116458727941929,232,0.000711485694070902,2.14942821532027,"18_3_F",{"$f":"VLOOKUP(P557,#REF!,11,FALSE)","v":{"$error":"#REF!"}},{"$error":"#REF!"}]
["19_3_F",3,19,"F",0.152899321844639,0.157912149173511,1000,841.098352646604,0.138034896213687,0.195429922609459,0.00159990155189389,0.0114539700819122,229,0.000720119040425398,2.16958924185637,"19_3_F",{"$f":"VLOOKUP(P558,#REF!,11,FALSE)","v":{"$error":"#REF!"}},{"$error":"#REF!"}]
["20_3_F",3,20,"F",0.149752004021005,0.15791239812329,1000,841.294516010514,0.137042501764856,0.194442849763101,0.00108408599772341,0.0112870100631286,227,0.0007160987811658,2.15614558842042,"20_3_F",{"$f":"VLOOKUP(P559,#REF!,11,FALSE)","v":{"$error":"#REF!"}},{"$error":"#REF!"}]
["21_3_F",3,21,"F",0.146465429478657,0.157912652129262,1000,841.6601702601,0.135608504693758,0.193194142129012,0.000547300705884108,0.0111113376452432,225,0.000710830645163178,2.13911811152573,"21_3_F",{"$f":"VLOOKUP(P560,#REF!,11,FALSE)","v":{"$error":"#REF!"}},{"$error":"#REF!"}]
["22_3_F",3,22,"F",0.143023727655311,0.157912908613893,1000,842.1421095702,0.134019888235397,0.191845454088772,-1.12072110901668e-5,0.0109257239450647,223,0.000705112630190288,2.12084698479495,"22_3_F",{"$f":"VLOOKUP(P561,#REF!,11,FALSE)","v":{"$error":"#REF!"}},{"$error":"#REF!"}]
["23_3_F",3,23,"F",0.139419007783844,0.157913205337284,1000,842.762038973439,0.131975733971319,0.190200510813666,-0.000592329102382142,0.0107308402921339,221,0.000698114580433987,2.09879315877022,"23_3_F",{"$f":"VLOOKUP(P562,#REF!,11,FALSE)","v":{"$error":"#REF!"}},{"$error":"#REF!"}]
["24_3_F",3,24,"F",0.135161468068558,0.157913542300288,1000,841.190925175962,0.134250652388171,0.190532475572016,-0.00120386866699146,0.0104978058346265,218,0.00070250310329288,2.10665284724051,"24_3_F",{"$f":"VLOOKUP(P563,#REF!,11,FALSE)","v":{"$error":"#REF!"}},{"$error":"#REF!"}]
["25_3_F",3,25,"F",0.131206588059185,0.15791393456785,1000,842.098605792195,0.131612558583523,0.188497776242703,-0.00183187879624261,0.0102789116443844,216,0.000693822775893562,2.07976325583001,"25_3_F",{"$f":"VLOOKUP(P564,#REF!,11,FALSE)","v":{"$error":"#REF!"}},{"$error":"#REF!"}]
["26_3_F",3,26,"F",0.127055182920645,0.157914392251579,1000,843.156054764532,0.128599468189759,0.186166651107877,-0.00248542281394864,0.0100454934189874,214,0.000683981595976369,2.04947483247412,"26_3_F",{"$f":"VLOOKUP(P565,#REF!,11,FALSE)","v":{"$error":"#REF!"}},{"$error":"#REF!"}]
["27_3_F",3,27,"F",0.12224257967922,0.157914897711238,1000,842.027867748614,0.129796721549699,0.185851929347114,-0.00316789979279438,0.00977383432630155,211,0.000685386102418429,2.04859861545571,"27_3_F",{"$f":"VLOOKUP(P566,#REF!,11,FALSE)","v":{"$error":"#REF!"}},{"$error":"#REF!"}]
["28_3_F",3,28,"F",0.117227824775577,0.157915478600384,1000,841.061241579237,0.130782474898421,0.185351718046457,-0.0038749580920644,0.00948127904928631,208,0.00068617171646696,2.04601125367105,"28_3_F",{"$f":"VLOOKUP(P567,#REF!,11,FALSE)","v":{"$error":"#REF!"}},{"$error":"#REF!"}]
["29_3_F",3,29,"F",0.112428123322164,0.157916152565183,1000,842.587295238662,0.126650666769386,0.181882924905466,-0.00460798609395852,0.00921073250247217,206,0.000673121873982625,2.00634078730303,"29_3_F",{"$f":"VLOOKUP(P568,#REF!,11,FALSE)","v":{"$error":"#REF!"}},{"$error":"#REF!"}]
["30_3_F",3,30,"F",0.106959161119258,0.157916922086988,1000,841.956020579413,0.126783721719885,0.180636776366936,-0.0053681923380961,0.00888818183494746,203,0.000671517601899315,1.9967332923857,"30_3_F",{"$f":"VLOOKUP(P569,#REF!,11,FALSE)","v":{"$error":"#REF!"}},{"$error":"#REF!"}]
["31_3_F",3,31,"F",0.10124514541642,0.157917797282454,1000,841.477814710637,0.126437315889125,0.178957825623821,-0.00615546783634719,0.00855865825614555,200,0.000668628427549075,1.98323337648542,"31_3_F",{"$f":"VLOOKUP(P570,#REF!,11,FALSE)","v":{"$error":"#REF!"}},{"$error":"#REF!"}]
["32_3_F",3,32,"F",0.0952755445219338,0.157918768046433,1000,841.218679635295,0.125745766907659,0.176917703327896,-0.00697110500907972,0.00819956546656603,197,0.000664693601343427,1.9668187294251,"32_3_F",{"$f":"VLOOKUP(P571,#REF!,11,FALSE)","v":{"$error":"#REF!"}},{"$error":"#REF!"}]
["33_3_F",3,33,"F",0.0890279053542173,0.157919859563357,1000,841.103093383464,0.12459600976913,0.174486544490122,-0.00781542263689905,0.00783279116424077,194,0.000659467701307568,1.94647549855822,"33_3_F",{"$f":"VLOOKUP(P572,#REF!,11,FALSE)","v":{"$error":"#REF!"}},{"$error":"#REF!"}]
["34_3_F",3,34,"F",0.0824894424322632,0.157921079375624,1000,841.201308743748,0.122988508636052,0.171504855936999,-0.00868979631283244,0.0074485572781735,191,0.000652951791966272,1.92241805765284,"34_3_F",{"$f":"VLOOKUP(P573,#REF!,11,FALSE)","v":{"$error":"#REF!"}},{"$error":"#REF!"}]
["35_3_F",3,35,"F",0.075635370527778,0.157922432551091,1000,841.432399493634,0.121027454398717,0.168044680221441,-0.00959466486980826,0.00703825773809472,188,0.00064539529682665,1.89514302871562,"35_3_F",{"$f":"VLOOKUP(P574,#REF!,11,FALSE)","v":{"$error":"#REF!"}},{"$error":"#REF!"}]
["36_3_F",3,36,"F",0.0684516470869528,0.157923921579113,1000,841.913294565985,0.118417078990449,0.163800653301118,-0.0105311886112967,0.00660302400411908,185,0.00063593010890027,1.86229895456435,"36_3_F",{"$f":"VLOOKUP(P575,#REF!,11,FALSE)","v":{"$error":"#REF!"}},{"$error":"#REF!"}]
["37_3_F",3,37,"F",0.0609176894389308,0.157925579189366,1000,842.559717641725,0.115571650294092,0.159224773587658,-0.0115020628138852,0.00612564576729654,182,0.000625684608499908,1.82720836349653,"37_3_F",{"$f":"VLOOKUP(P576,#REF!,11,FALSE)","v":{"$error":"#REF!"}},{"$error":"#REF!"}]
["38_3_F",3,38,"F",0.0527157566759489,0.157927417993331,1000,841.130546414127,0.116609064356848,0.157650126025673,-0.0124884705901016,0.00559225648919764,178,0.000626419142559195,1.82046232828384,"38_3_F",{"$f":"VLOOKUP(P577,#REF!,11,FALSE)","v":{"$error":"#REF!"}},{"$error":"#REF!"}]
["39_3_F",3,39,"F",0.0444237554004009,0.15792945308304,1000,842.182941455013,0.112728814299809,0.152121249245307,-0.0135256762309556,0.00505512365324869,175,0.000613172188063729,1.77641500783268,"39_3_F",{"$f":"VLOOKUP(P578,#REF!,11,FALSE)","v":{"$error":"#REF!"}},{"$error":"#REF!"}]
["40_3_F",3,40,"F",0.0354560008246467,0.157931694604197,1000,841.21129153815,0.112690779729335,0.14953634407243,-0.0145744157972084,0.00446035555676156,171,0.00061078361838851,1.76045119283835,"40_3_F",{"$f":"VLOOKUP(P579,#REF!,11,FALSE)","v":{"$error":"#REF!"}},{"$error":"#REF!"}]
["41_3_F",3,41,"F",0.0263055194059837,0.157934147541387,1000,842.666607335555,0.107790801152727,0.142883605893434,-0.0156788942790848,0.00386388639821013,168,0.000594441231231758,1.76618791612616,"41_3_F",{"$f":"VLOOKUP(P580,#REF!,11,FALSE)","v":{"$error":"#REF!"}},{"$error":"#REF!"}]
["42_3_F",3,42,"F",0.0164656512019792,0.157936862310256,1000,842.131820621734,0.106748193903293,0.139370112806855,-0.0167913003679619,0.00319169143038633,164,0.00058907026388446,1.74172504769875,"42_3_F",{"$f":"VLOOKUP(P581,#REF!,11,FALSE)","v":{"$error":"#REF!"}},{"$error":"#REF!"}]
[{"$f":"P582","v":"43_3_F"},3,43,"F",0.00615775860694983,0.157939838961853,1000,841.783368441044,0.10519284948946,0.135390145355484,-0.0179338750863772,0.00246932649107631,160,0.000582215779694841,1.71277594642064,"43_3_F",{"$f":"VLOOKUP(P582,#REF!,11,FALSE)","v":{"$error":"#REF!"}},{"$f":"Q582/$Q$1","v":{"$error":"#REF!"}}]
["44_3_F",3,44,"F",0,0.157943085088065,1000,841.742632888067,0.102942370422252,0.130870299210484,-0.0191085820887612,0.00161851138994455,156,0.000573339002917003,1.67802172135527,"44_3_F",{"$f":"VLOOKUP(P583,#REF!,11,FALSE)","v":{"$error":"#REF!"}},{"$error":"#REF!"}]
["45_3_F",3,45,"F",0,0.157946620886,1000,841.89886625286,0.100105978673866,0.125719284020018,-0.0203140850172308,0.000602644141658967,152,0.000562685074602485,1.63783176043919,"45_3_F",{"$f":"VLOOKUP(P584,#REF!,11,FALSE)","v":{"$error":"#REF!"}},{"$error":"#REF!"}]
["46_3_F",3,46,"F",0,0.157950474102158,1000,842.30281985388,0.0968234422161268,0.120122373290467,-0.0215505765257927,-0.000452888624595429,148,0.000550544083066372,1.59337879971717,"46_3_F",{"$f":"VLOOKUP(P585,#REF!,11,FALSE)","v":{"$error":"#REF!"}},{"$error":"#REF!"}]
["47_3_F",3,47,"F",0,0.157954662488329,1000,843.006885607634,0.0926881687376456,0.11367714832379,-0.0228187405629833,-0.00155059696658003,144,0.000535735753033538,1.54116227052455,{"$f":"C586&\"_\"&B586&\"_\"&D586","v":"47_3_F"},{"$f":"VLOOKUP(P586,#REF!,11,FALSE)","v":{"$error":"#REF!"}},{"$error":"#REF!"}]
["48_3_F",3,48,"F",0,0.15795918108127,1000,841.644155574361,0.0924677077286586,0.110358783272138,-0.0240700688248716,-0.00270792916776832,139,0.000532972397104842,1.51955288230405,"48_3_F",{"$f":"VLOOKUP(P587,#REF!,11,FALSE)","v":{"$error":"#REF!"}},{"$error":"#REF!"}]
["49_3_F",3,49,"F",0,0.157964057669363,1000,842.900781658258,0.0870990044969969,0.102791732334461,-0.0253972132852083,-0.00388989121078874,135,0.000514140675334064,1.45568236512259,"49_3_F",{"$f":"VLOOKUP(P588,#REF!,11,FALSE)","v":{"$error":"#REF!"}},{"$error":"#REF!"}]
["50_3_F",3,50,"F",0,0.157969317589406,1000,842.094832531149,0.0855203131153839,0.0980878414716519,-0.0266999169187766,-0.00513186686150316,130,0.000507096967426295,1.42146875743957,"50_3_F",{"$f":"VLOOKUP(P589,#REF!,11,FALSE)","v":{"$error":"#REF!"}},{"$error":"#REF!"}]
["51_3_F",3,51,"F",0,0.157974968526455,1000,841.627319758179,0.0832289568406929,0.0926348138532386,-0.028026954382132,-0.00641530058590705,125,0.000497820352350874,1.38079142992569,"51_3_F",{"$f":"VLOOKUP(P590,#REF!,11,FALSE)","v":{"$error":"#REF!"}},{"$error":"#REF!"}]
["52_3_F",3,52,"F",0,0.157981030789908,1000,841.486786930635,0.0799919461920691,0.0863121454813113,-0.0293764401553559,-0.00771739138086641,120,0.000485576514604381,1.33145898603935,"52_3_F",{"$f":"VLOOKUP(P591,#REF!,11,FALSE)","v":{"$error":"#REF!"}},{"$error":"#REF!"}]
["53_3_F",3,53,"F",0,0.15798752471265,1000,841.579131182888,0.076305916546841,0.0795840940141168,-0.0307457246180871,-0.00906864733458372,115,0.000471723494422628,1.27734446640464,"53_3_F",{"$f":"VLOOKUP(P592,#REF!,11,FALSE)","v":{"$error":"#REF!"}},{"$error":"#REF!"}]
["54_3_F",3,54,"F",0,0.157994455567921,1000,841.987036571118,0.0717825063086613,0.0721278087151596,-0.0321350849227324,-0.0104563544674316,110,0.000455010489530659,1.21493190828239,"54_3_F",{"$f":"VLOOKUP(P593,#REF!,11,FALSE)","v":{"$error":"#REF!"}},{"$error":"#REF!"}]
["55_3_F",3,55,"F",0,0.158001848674544,1000,841.745068899948,0.0689214644312113,0.0663493626158813,-0.0336746779206291,-0.011949461178847,106,0.000444404259486089,1.16942065183961,"55_3_F",{"$f":"VLOOKUP(P594,#REF!,11,FALSE)","v":{"$error":"#REF!"}},{"$error":"#REF!"}]
["0_1_F",1,0,"F",0.0732697504091028,0.08,1000,917.602150672597,0.0308203508161581,0.0789276977537906,0.00467842900569038,0.00725624715294512,93,0.000560510721668582,0.678865482503235,"0_1_F",{"$f":"VLOOKUP(P595,#REF!,11,FALSE)","v":{"$error":"#REF!"}},{"$error":"#REF!"}]
["1_1_F",1,1,"F",0.0732482583461001,0.0800000000000012,1000,921.869776226516,0.0270633055528331,0.0770131181236252,0.00459714618269599,0.0072679178983271,93,0.000539691606928149,0.659230277964109,"1_1_F",{"$f":"VLOOKUP(P596,#REF!,11,FALSE)","v":{"$error":"#REF!"}},{"$error":"#REF!"}]
["2_1_F",1,2,"F",0.0726138466421001,0.08,1000,919.307180339192,0.0292661821379392,0.0778450692486925,0.00447396715667475,0.00722208474466537,92,0.00054960364397736,0.668049355746258,"2_1_F",{"$f":"VLOOKUP(P597,#REF!,11,FALSE)","v":{"$error":"#REF!"}},{"$error":"#REF!"}]
["3_1_F",1,3,"F",0.0719650471397472,0.08,1000,916.758198083924,0.0314373571046711,0.0785995299517363,0.00434671114576624,0.00717447841754937,91,0.00055909749247311,0.676344741871515,"3_1_F",{"$f":"VLOOKUP(P598,#REF!,11,FALSE)","v":{"$error":"#REF!"}},{"$error":"#REF!"}]
["4_1_F",1,4,"F",0.0719069549568341,0.0800000000000012,1000,921.372707781509,0.0273456810510714,0.0763520401608464,0.00425093887721176,0.00718146287756174,91,0.000536213897944397,0.654609401642046,"4_1_F",{"$f":"VLOOKUP(P599,#REF!,11,FALSE)","v":{"$error":"#REF!"}},{"$error":"#REF!"}]
["5_1_F",1,5,"F",0.07124058449552,0.08,1000,919.15084808104,0.0292339878996451,0.077031473395235,0.0041148803070664,0.00713167303346083,90,0.000544344798600651,0.661626931727533,"5_1_F",{"$f":"VLOOKUP(P600,#REF!,11,FALSE)","v":{"$error":"#REF!"}},{"$error":"#REF!"}]
["6_1_F",1,6,"F",0.070562193284303,0.0800000000000006,1000,917.031088127038,0.0310216988377137,0.0776123153367023,0.00397455994284592,0.00708063119133197,89,0.000551794798642369,0.667925525164539,"6_1_F",{"$f":"VLOOKUP(P601,#REF!,11,FALSE)","v":{"$error":"#REF!"}},{"$error":"#REF!"}]
["7_1_F",1,7,"F",0.0704598131086417,0.0799999999999994,1000,922.007729564189,0.0265895236234379,0.0749020047952827,0.00386302504475463,0.00708306746870878,89,0.000526756060011333,0.644011012752579,"7_1_F",{"$f":"VLOOKUP(P602,#REF!,11,FALSE)","v":{"$error":"#REF!"}},{"$error":"#REF!"}]
["8_1_F",1,8,"F",0.0697532964177726,0.0800000000000012,1000,920.131481796927,0.0281307908835334,0.0753601438109543,0.00371310009993431,0.00703149847093055,88,0.000532631233919139,0.648692966596468,"8_1_F",{"$f":"VLOOKUP(P603,#REF!,11,FALSE)","v":{"$error":"#REF!"}},{"$error":"#REF!"}]
["9_1_F",1,9,"F",0.0690320748691034,0.0800000000000006,1000,918.367254536948,0.0295574357057593,0.0757184601930093,0.00355856924351222,0.00697685912041332,87,0.000537812875431318,0.652641907001341,"9_1_F",{"$f":"VLOOKUP(P604,#REF!,11,FALSE)","v":{"$error":"#REF!"}},{"$error":"#REF!"}]
["10_1_F",1,10,"F",0.0688748962748536,0.0800000000000006,1000,923.730258076775,0.0247594015403168,0.0722174661085675,0.00342971178739917,0.00697490820873252,87,0.00051042227013434,0.626341341089399,"10_1_F",{"$f":"VLOOKUP(P605,#REF!,11,FALSE)","v":{"$error":"#REF!"}},{"$error":"#REF!"}]
["11_1_F",1,11,"F",0.0681189029938669,0.0799999999999994,1000,922.224962069533,0.0259406178219826,0.072430753388782,0.00326461439712916,0.00691970325152758,86,0.000514177862646064,0.628844320648604,"11_1_F",{"$f":"VLOOKUP(P606,#REF!,11,FALSE)","v":{"$error":"#REF!"}},{"$error":"#REF!"}]
["12_1_F",1,12,"F",0.0673484081212504,0.0799999999999994,1000,920.914683651588,0.0269537823890761,0.0724776272213302,0.00309455699213956,0.00686105025463305,85,0.000516836049278267,0.630245747362086,"12_1_F",{"$f":"VLOOKUP(P607,#REF!,11,FALSE)","v":{"$error":"#REF!"}},{"$error":"#REF!"}]
["13_1_F",1,13,"F",0.0665584208342257,0.0800000000000006,1000,919.708085811663,0.027864520062036,0.0724421498604835,0.00291869518043562,0.00680039178876701,84,0.000518996714218299,0.631124257947239,"13_1_F",{"$f":"VLOOKUP(P608,#REF!,11,FALSE)","v":{"$error":"#REF!"}},{"$error":"#REF!"}]
["14_1_F",1,14,"F",0.0657458344346715,0.0799999999999994,1000,918.607955088264,0.0286681456354355,0.0722862905797386,0.00274026390134173,0.00674180369782509,83,0.000520435580897743,0.631213689303153,"14_1_F",{"$f":"VLOOKUP(P609,#REF!,11,FALSE)","v":{"$error":"#REF!"}},{"$error":"#REF!"}]
["15_1_F",1,15,"F",0.0649155506715376,0.0800000000000006,1000,917.731051863367,0.0292597768196517,0.0719425343072834,0.00255650217960001,0.00667844424587964,82,0.000520648535620284,0.630083380946149,"15_1_F",{"$f":"VLOOKUP(P610,#REF!,11,FALSE)","v":{"$error":"#REF!"}},{"$error":"#REF!"}]
["16_1_F",1,16,"F",0.0640634695828151,0.0800000000000015,1000,917.007676479295,0.0297035565992901,0.0714509026382328,0.00236744044857851,0.00661754840497406,81,0.0005199811375454,0.628044779513909,"16_1_F",{"$f":"VLOOKUP(P611,#REF!,11,FALSE)","v":{"$error":"#REF!"}},{"$error":"#REF!"}]
["17_1_F",1,17,"F",0.0631867231859407,0.0800000000000009,1000,916.416899377444,0.0299858419334525,0.070777053968981,0.0021730029869323,0.00655080125143239,80,0.000518323264295416,0.624933194036559,"17_1_F",{"$f":"VLOOKUP(P612,#REF!,11,FALSE)","v":{"$error":"#REF!"}},{"$error":"#REF!"}]
["18_1_F",1,18,"F",0.0608047713863854,0.08,1000,917.161510189219,0.0288113632987853,0.0720093798529559,0.00149744214640606,0.00636576970128352,91,0.000520787296906891,0.629304337809019,"18_1_F",{"$f":"VLOOKUP(P613,#REF!,11,FALSE)","v":{"$error":"#REF!"}},{"$error":"#REF!"}]
["19_1_F",1,19,"F",0.0600305874779835,0.0799999999999997,1000,921.783978056851,0.0246029925643368,0.0681325219494839,0.00126320458477057,0.00632042580636399,91,0.000496395547282968,0.60569517775105,"19_1_F",{"$f":"VLOOKUP(P614,#REF!,11,FALSE)","v":{"$error":"#REF!"}},{"$error":"#REF!"}]
["20_1_F",1,20,"F",0.0586717962744931,0.0800000000000003,1000,919.63231680115,0.0263276920316204,0.0687998855170626,0.000998728282871138,0.00622122603356852,90,0.000503249820726685,0.611155340705759,"20_1_F",{"$f":"VLOOKUP(P615,#REF!,11,FALSE)","v":{"$error":"#REF!"}},{"$error":"#REF!"}]
["21_1_F",1,21,"F",0.0572626778163926,0.0800000000000003,1000,917.631333953423,0.0279190393909494,0.0693633067865013,0.000724721776270166,0.00611823374019961,89,0.000509464766399242,0.616009299157787,"21_1_F",{"$f":"VLOOKUP(P616,#REF!,11,FALSE)","v":{"$error":"#REF!"}},{"$error":"#REF!"}]
["22_1_F",1,22,"F",0.0563062422978879,0.0799999999999997,1000,922.617416573682,0.0233783605974565,0.0649325449505617,0.000455784328473857,0.00605894740277568,89,0.000482874599370687,0.590165276844866,"22_1_F",{"$f":"VLOOKUP(P617,#REF!,11,FALSE)","v":{"$error":"#REF!"}},{"$error":"#REF!"}]
["23_1_F",1,23,"F",0.0547748864887117,0.08,1000,920.833474494627,0.0247694860515509,0.0652608041852851,0.00015993308698583,0.00594870864949329,88,0.000487691161381154,0.59355215148132,"23_1_F",{"$f":"VLOOKUP(P618,#REF!,11,FALSE)","v":{"$error":"#REF!"}},{"$error":"#REF!"}]
["24_1_F",1,24,"F",0.0531808136187102,0.08,1000,919.170954522715,0.0260401910957302,0.0654819947939144,-0.000146719978562154,0.00583046911620652,87,0.000491876663748933,0.596303859714731,"24_1_F",{"$f":"VLOOKUP(P619,#REF!,11,FALSE)","v":{"$error":"#REF!"}},{"$error":"#REF!"}]
["25_1_F",1,25,"F",0.0515204875669812,0.08,1000,917.637203701228,0.0271752557776079,0.0655496626480016,-0.000464537995993034,0.00570997271428532,86,0.000495315922576493,0.59827649987716,"25_1_F",{"$f":"VLOOKUP(P620,#REF!,11,FALSE)","v":{"$error":"#REF!"}},{"$error":"#REF!"}]
["26_1_F",1,26,"F",0.0497922349866285,0.08,1000,916.307817950303,0.0281278859749369,0.0654161404397428,-0.000794059797345261,0.00557866016899226,85,0.000497632093468686,0.599133773765715,"26_1_F",{"$f":"VLOOKUP(P621,#REF!,11,FALSE)","v":{"$error":"#REF!"}},{"$error":"#REF!"}]
["27_1_F",1,27,"F",0.0484512578093832,0.0799999999999997,1000,921.963172020314,0.0229384473541673,0.0601358363050067,-0.00112995197601501,0.00548752814442389,85,0.0004666900482372,0.56881186932142,"27_1_F",{"$f":"VLOOKUP(P622,#REF!,11,FALSE)","v":{"$error":"#REF!"}},{"$error":"#REF!"}]
["28_1_F",1,28,"F",0.0465580971463991,0.08,1000,920.908681130855,0.0236193319107439,0.0597156198319485,-0.0014860332727394,0.00534582626887931,84,0.000467342965720093,0.567942049358063,"28_1_F",{"$f":"VLOOKUP(P623,#REF!,11,FALSE)","v":{"$error":"#REF!"}},{"$error":"#REF!"}]
["29_1_F",1,29,"F",0.0445774729082162,0.08,1000,919.921070348761,0.0242322866257282,0.059188567523092,-0.00185492461477015,0.00519243278382696,83,0.000467536402161744,0.566556459655711,"29_1_F",{"$f":"VLOOKUP(P624,#REF!,11,FALSE)","v":{"$error":"#REF!"}},{"$error":"#REF!"}]
["30_1_F",1,30,"F",0.0425094874641796,0.08,1000,919.178015711932,0.0246024490552246,0.0584146788949397,-0.00223747544766235,0.00503585279115695,82,0.000466286965476767,0.563713072730075,"30_1_F",{"$f":"VLOOKUP(P625,#REF!,11,FALSE)","v":{"$error":"#REF!"}},{"$error":"#REF!"}]
["31_1_F",1,31,"F",0.0403477859045761,0.08,1000,918.658593600105,0.0247851045798106,0.0574460982696743,-0.00263396297286234,0.00487194464852776,81,0.000463950630395083,0.559797134436026,"31_1_F",{"$f":"VLOOKUP(P626,#REF!,11,FALSE)","v":{"$error":"#REF!"}},{"$error":"#REF!"}]
["32_1_F",1,32,"F",0.0380804885596569,0.0800000000000003,1000,918.184516263125,0.0248568288694347,0.0563365017529983,-0.00304467847937555,0.00469848698316877,80,0.000460871179083467,0.554998066483533,"32_1_F",{"$f":"VLOOKUP(P627,#REF!,11,FALSE)","v":{"$error":"#REF!"}},{"$error":"#REF!"}]
["33_1_F",1,33,"F",0.0357071238566226,0.08,1000,917.946564999357,0.0247809404582547,0.0551189986627831,-0.00347027208472931,0.0045097645707249,79,0.000457017764444983,0.549498998388061,"33_1_F",{"$f":"VLOOKUP(P628,#REF!,11,FALSE)","v":{"$error":"#REF!"}},{"$error":"#REF!"}]
["34_1_F",1,34,"F",0.0332203762253622,0.08,1000,917.964369515985,0.0244289153158756,0.0536051405313586,-0.00391149626047728,0.00431804791142232,78,0.000451472394740594,0.542261710507646,"34_1_F",{"$f":"VLOOKUP(P629,#REF!,11,FALSE)","v":{"$error":"#REF!"}},{"$error":"#REF!"}]
["35_1_F",1,35,"F",0.0306086864080065,0.08,1000,918.042927067566,0.0240160229479439,0.0519807011508,-0.00436801662890712,0.00411534562460752,77,0.000445373971652985,0.534357491855458,"35_1_F",{"$f":"VLOOKUP(P630,#REF!,11,FALSE)","v":{"$error":"#REF!"}},{"$error":"#REF!"}]
["36_1_F",1,36,"F",0.0278670074834891,0.08,1000,918.346643426162,0.0233780316977092,0.0501385519348676,-0.00484070731646019,0.0038980151065604,76,0.00043793913280566,0.525100416713857,"36_1_F",{"$f":"VLOOKUP(P631,#REF!,11,FALSE)","v":{"$error":"#REF!"}},{"$error":"#REF!"}]
["37_1_F",1,37,"F",0.0249870648611076,0.08,1000,918.800455183575,0.0225691735671337,0.0480859464154034,-0.00533092270869203,0.00366381454501764,75,0.000429417181872783,0.514660912093532,"37_1_F",{"$f":"VLOOKUP(P632,#REF!,11,FALSE)","v":{"$error":"#REF!"}},{"$error":"#REF!"}]
["38_1_F",1,38,"F",0.0219605288016632,0.0799999999999997,1000,919.475610292126,0.0215764413718187,0.0458464615012691,-0.00583821403421075,0.00341663759556725,74,0.000419640331315055,0.502935725645873,"38_1_F",{"$f":"VLOOKUP(P633,#REF!,11,FALSE)","v":{"$error":"#REF!"}},{"$error":"#REF!"}]
["39_1_F",1,39,"F",0.0187760565280605,0.0800000000000006,1000,920.366165852878,0.0203541707482194,0.0433576381132257,-0.00636359649942036,0.00314705175196445,73,0.000408371921970471,0.489657597611701,"39_1_F",{"$f":"VLOOKUP(P634,#REF!,11,FALSE)","v":{"$error":"#REF!"}},{"$error":"#REF!"}]
["40_1_F",1,40,"F",0.0154241413450773,0.08,1000,921.526865844483,0.0189035679531171,0.0406794095265467,-0.00690735530922804,0.00285973319074884,72,0.000395731222381315,0.475013753150613,"40_1_F",{"$f":"VLOOKUP(P635,#REF!,11,FALSE)","v":{"$error":"#REF!"}},{"$error":"#REF!"}]
["41_1_F",1,41,"F",0.0118934007259879,0.08,1000,922.80717444505,0.0172919526575128,0.0378123026893224,-0.00746867454511425,0.00256183129724087,71,0.000381850157774189,0.458988001902204,"41_1_F",{"$f":"VLOOKUP(P636,#REF!,11,FALSE)","v":{"$error":"#REF!"}},{"$error":"#REF!"}]
["42_1_F",1,42,"F",0.00796390412721556,0.08,1000,917.57800883654,0.0213628119605109,0.0397579950991687,-0.00801070565814962,0.00220474190085617,69,0.000400942301520263,0.473757838486617,"42_1_F",{"$f":"VLOOKUP(P637,#REF!,11,FALSE)","v":{"$error":"#REF!"}},{"$error":"#REF!"}]
["43_1_F",1,43,"F",0.00406459255041138,0.0799999999999997,1000,919.40688143731,0.0192499128369576,0.0363719227013609,-0.0086058069537572,0.00186588543503743,68,0.000383897409729738,0.454499607947964,"43_1_F",{"$f":"VLOOKUP(P638,#REF!,11,FALSE)","v":{"$error":"#REF!"}},{"$error":"#REF!"}]
["44_1_F",1,44,"F",0,0.08,1000,921.362488498199,0.0169797881015924,0.0328130115107266,-0.00921902315026378,0.00149433322476135,67,0.000365524918185512,0.433770498367684,"44_1_F",{"$f":"VLOOKUP(P639,#REF!,11,FALSE)","v":{"$error":"#REF!"}},{"$error":"#REF!"}]
["45_1_F",1,45,"F",0,0.08,1000,916.817039845697,0.0203832420047398,0.0341023285579552,-0.00980147523675189,0.000955147633842476,65,0.000380990462690016,0.444639322091461,"45_1_F",{"$f":"VLOOKUP(P640,#REF!,11,FALSE)","v":{"$error":"#REF!"}},{"$error":"#REF!"}]
["46_1_F",1,46,"F",0,0.0800000000000003,1000,919.325149295954,0.0175941291452663,0.0299627369025302,-0.0104486378930395,0.00042651984513619,64,0.000359221907588251,0.420421043053798,"46_1_F",{"$f":"VLOOKUP(P641,#REF!,11,FALSE)","v":{"$error":"#REF!"}},{"$error":"#REF!"}]
["47_1_F",1,47,"F",0,0.08,1000,921.919374796718,0.0146908060157359,0.0256522722316415,-0.0111136598700129,-0.000125800793319599,63,0.000336374101265874,0.39496842433235,"47_1_F",{"$f":"VLOOKUP(P642,#REF!,11,FALSE)","v":{"$error":"#REF!"}},{"$error":"#REF!"}]
["48_1_F",1,48,"F",0,0.08,1000,918.155822024921,0.0172783290231161,0.0261016995036288,-0.0117352180547995,-0.000723091069083516,61,0.000346867274367097,0.400517639662546,"48_1_F",{"$f":"VLOOKUP(P643,#REF!,11,FALSE)","v":{"$error":"#REF!"}},{"$error":"#REF!"}]
["49_1_F",1,49,"F",0,0.08,1000,921.398124233588,0.0137262758458613,0.0211743083771591,-0.0124337396500925,-0.00131748490237367,60,0.000319300844172437,0.370234522989747,"49_1_F",{"$f":"VLOOKUP(P644,#REF!,11,FALSE)","v":{"$error":"#REF!"}},{"$error":"#REF!"}]
["50_1_F",1,50,"F",0,0.0800000000000003,1000,918.248055642352,0.0157202191532663,0.0210657430693976,-0.0130791466827701,-0.00195317610549519,58,0.000326298081660975,0.372106484711685,"50_1_F",{"$f":"VLOOKUP(P645,#REF!,11,FALSE)","v":{"$error":"#REF!"}},{"$error":"#REF!"}]
[{"$f":"P646","v":"51_1_F"},1,51,"F",0,0.08,1000,921.938255234231,0.011737303102558,0.0157052450966022,-0.01380873895474,-0.00260163597748697,57,0.000295237118876976,0.338188295724519,"51_1_F",{"$f":"VLOOKUP(P646,#REF!,11,FALSE)","v":{"$error":"#REF!"}},{"$f":"Q646/$Q$1","v":{"$error":"#REF!"}}]
["52_1_F",1,52,"F",0,0.08,1000,919.329776702743,0.0131737013211711,0.0153219702246693,-0.0144751619933582,-0.00328740772328323,55,0.000298677899771322,0.359500050502716,"52_1_F",{"$f":"VLOOKUP(P647,#REF!,11,FALSE)","v":{"$error":"#REF!"}},{"$error":"#REF!"}]
["53_1_F",1,53,"F",0,0.08,1000,916.966773314158,0.0143513487748238,0.0144093876778411,-0.0151482681908401,-0.00398703999014793,53,0.000300505384690151,0.356009061019973,"53_1_F",{"$f":"VLOOKUP(P648,#REF!,11,FALSE)","v":{"$error":"#REF!"}},{"$error":"#REF!"}]
["54_1_F",1,54,"F",0,0.08,1000,921.570517355915,0.0094747201877874,0.00818242629892922,-0.0159183086702123,-0.00471260868313018,52,0.000262165905491655,0.315148249185,"54_1_F",{"$f":"VLOOKUP(P649,#REF!,11,FALSE)","v":{"$error":"#REF!"}},{"$error":"#REF!"}]
["55_1_F",1,55,"F",0,0.08,1000,921.981013442278,0.00833170921855516,0.00537805752284357,-0.016743885693422,-0.00549644323839497,51,0.000249030637120873,0.298243058830953,{"$f":"C650&\"_\"&B650&\"_\"&D650","v":"55_1_F"},{"$f":"VLOOKUP(P650,#REF!,11,FALSE)","v":{"$error":"#REF!"}},{"$error":"#REF!"}]
["56_1_F",1,56,"F",0,0.08,1000,916.371036826806,0.0123242837741865,0.00710970353193303,-0.0174822492502037,-0.00631109404944058,49,0.000271017592652164,0.313422358540587,"56_1_F",{"$f":"VLOOKUP(P651,#REF!,11,FALSE)","v":{"$error":"#REF!"}},{"$error":"#REF!"}]
["57_1_F",1,57,"F",0,0.08,1000,917.5880463186,0.010434647281878,0.00363935777004172,-0.0183306360936764,-0.0071712118540438,48,0.000252593109672934,0.291146818814072,"57_1_F",{"$f":"VLOOKUP(P652,#REF!,11,FALSE)","v":{"$error":"#REF!"}},{"$error":"#REF!"}]
["58_1_F",1,58,"F",0,0.0799999999999997,1000,919.199634331676,0.00813870541380118,-0.000215676740945136,-0.0191908982434862,-0.00805399460918643,47,0.000230605089201808,0.265318182617563,"58_1_F",{"$f":"VLOOKUP(P653,#REF!,11,FALSE)","v":{"$error":"#REF!"}},{"$error":"#REF!"}]
["59_1_F",1,59,"F",0,0.0799999999999997,1000,921.031957287143,0.00564499884235064,-0.00424950433126606,-0.0200605297944905,-0.00891961698004612,46,0.000206429527912851,0.237282547979226,"59_1_F",{"$f":"VLOOKUP(P654,#REF!,11,FALSE)","v":{"$error":"#REF!"}},{"$error":"#REF!"}]